{"text_format":"1","workbook":"xlsx","n_sheets":11,"sheets":["TDPrimas_","TDPrimas Vida","TD Siniestros","TD Operación","TD Siniestros Daños","Cat","Inicio","Primas Directas","Siniestros","Primas Directas (Vida)","Siniestros (Daños)"],"not_rendered":{"charts":0,"images":2,"macros":1,"external_links":0,"defined_names":5,"comments":0,"pivot_tables":5},"unopened":[],"bounds":{"document_bytes":16777216,"sheet_cells":100000,"rows_first":2000,"rows_last":500,"rows_between":2000,"halvings":0,"cell_chars":16384,"cell_head_chars":4096},"cells_cut":0,"cells_raw":0,"read":"whole","date_system":"1900"}

{"sheet":"TDPrimas_","index":0,"n_rows":83,"n_cols":11,"rows_kept":83,"cut":false,"hidden":true,"merged":[]}
[]
[]
["periodo","2025-Q3"]
["Ramo_","10 Total General"]
[]
["jerarquia","nombre_compania","Suma de Prima_DirectaAct","Suma de Prima_DirectaAnt","Suma de Part_Mercado_Act","Suma de Part_Mercado_Ant","Suma de PD_IncreAbs","Suma de PD_IncreRel","Suma de Part_Operacion_Act","Suma de Part_Cartera_Act","Suma de Part_Sector_Act"]
[1,"G.N.P.",95200080.783360004,84865140.385240003,12.360245514289742,12.361837837475454,10334940.398120001,12.178074944794993,100,100,12.360245514289742]
[2,"BBVA",72393915.932039991,61339841.861339994,9.3992207495822733,8.9350371026800843,11054074.070699997,18.021034510796376,100,100,9.3992207495822733]
[3,"Metlife México",66136633.356480002,62258031.00485,8.5868102111688724,9.0687846608020202,3878602.3516300023,6.2298827782199639,100,100,8.5868102111688724]
[4,"Quálitas",50730778.690750003,45799351.88222,6.5866002905574152,6.671339474128164,4931426.8085300028,10.767459812994563,100,100,6.5866002905574152]
[5,"AXA Seguros",50222142.308260001,47053426.409630001,6.5205617902395101,6.8540136071535462,3168715.8986300007,6.7342936326130864,100,100,6.5205617902395101]
[5.0999999999999996,"TOTAL GRANDES",334683551.07089001,301315791.54328001,43.453438555837813,43.891012682239271,33367759.527610004,11.074016186376067,100,100,43.453438555837813]
[6,"Banorte",45159030.643440001,35723485.483519994,5.8631957173487601,5.2036434810810528,9435545.159920007,26.412722701072443,100,100,5.8631957173487601]
[7,"Banamex Seguros",38955130.270920001,44827465.708169997,5.0577160253195066,6.529770165156866,-5872335.4372499958,-13.099860419233423,100,100,5.0577160253195066]
[8,"Monterrey New York Life",33270313.765279997,30915868.760259997,4.3196312764914486,4.5033444177920279,2354445.00502,7.6156520888277957,100,100,4.3196312764914486]
[9,"Mapfre México",30687810.645959999,25680299.423299998,3.984333529540443,3.7407078530428239,5007511.2226600014,19.499426934705589,100,100,3.984333529540443]
[10,"Inbursa",24654610.774860002,23848282.467700001,3.2010166349542408,3.4738480279388111,806328.30716000125,3.3810749610672763,100,100,3.2010166349542408]
[11,"Chubb Seguros México",24127131.326069999,20570212.76644,3.132531656400249,2.9963496595514347,3556918.5596299991,17.291598293203169,100,100,3.132531656400249]
[12,"Allianz México",23235788.467980001,18450547.527869999,3.0168046898604604,2.6875896925026637,4785240.9401100017,25.935495588311298,100,100,3.0168046898604604]
[13,"Zurich Santander",19835739.905830003,16146107.356520001,2.5753614196145445,2.3519145781379507,3689632.5493100025,22.851529894108392,100,100,2.5753614196145445]
[14,"Atlas",17981615.092089999,17823957.294020001,2.3346322340572891,2.5963177423681572,157657.79806999862,0.88452746755005585,100,100,2.3346322340572891]
[15,"Agroasemex",13598277.13417,6432910.42368,1.7655241735789771,0.93704664977339125,7165366.7104899995,111.38607937262388,100,100,1.7655241735789771]
[15.1,"TOTAL MEDIANAS",271505448.0266,240419137.21147999,35.25074735716592,35.020532267345182,31086310.815120012,12.930048404497651,100,100,35.25074735716592]
[16,"HSBC Seguros",12979804.617629999,12695334.40454,1.6852251645301191,1.8492594779085707,284470.21308999881,2.2407461199940526,100,100,1.6852251645301191]
[17,"ProFuturo G.N.P.",12182725.52259,8995707.5342000015,1.5817368772520652,1.3103551972734075,3187017.9883899987,35.428208134530294,100,100,1.5817368772520652]
[18,"Pensiones Banorte",11966941.465,13199642.61585,1.553720683274757,1.9227192789531677,-1232701.1508499999,-9.3388979287195575,100,100,1.553720683274757]
[19,"HDI Seguros",11052143.52795,9306186.5952599999,1.4349484405953146,1.3555809729845247,1745956.9326900002,18.761250000932538,100,100,1.4349484405953146]
[20,"Zurich Aseguradora Mexicana",10982728.3653,10496838.85248,1.4259359644954168,1.5290167330358646,485889.51281999983,4.6289127579128619,100,100,1.4259359644954168]
[21,"Pensiones BBVA",9676186.3633600008,6921813.9092700006,1.2563018655973335,1.0082625292217124,2754372.4540900001,39.792639475632562,100,100,1.2563018655973335]
[22,"GMX Seguros",8451044.7932900004,8783487.9357299991,1.0972363430555241,1.2794423365827701,-332443.14243999869,-3.7848647925804779,100,100,1.0972363430555241]
[23,"AIG Seguros",6300133.6551299999,5387062.6739699999,0.81797408268436589,0.78470376521661023,913070.98115999997,16.94932909490565,100,100,0.81797408268436589]
[24,"Afirme",5593472.9616599996,5391455.1856499994,0.72622521446161792,0.78534359821330213,202017.77601000015,3.7469990763846939,100,100,0.72622521446161792]
[25,"Seguros SURA",4871025.2412999999,4592296.0130699994,0.63242664705064011,0.66893448072501938,278729.22823000047,6.0694961177745865,100,100,0.63242664705064011]
[26,"Patrimonial Vida",4625465.0598599995,2704976.95878,0.60054448785332915,0.39401910332975315,1920488.1010799995,70.998316449474629,100,100,0.60054448785332915]
[27,"Hir Seguros",4515434.1806600001,3240513.8837199998,0.58625869450237578,0.47202781918218045,1274920.2969400003,39.343151817527009,100,100,0.58625869450237578]
[28,"BUPA México",4375142.85659,3560915.6343899998,0.56804405440163885,0.51869897846673685,814227.22220000019,22.865670119687653,100,100,0.56804405440163885]
[29,"Ve Por Más",3740005.2715500002,3728743.9611599999,0.48558134615759646,0.5431456069722429,11261.310390000232,0.30201350662051318,100,100,0.48558134615759646]
[30,"Cardif Vida",3667211.9566700002,2528072.3686799998,0.47613026968463334,0.36825038550763994,1139139.5879900004,45.05961150885831,100,100,0.47613026968463334]
[31,"FM Global",3623624.7246500002,3245561.4989299998,0.47047114750088753,0.47276307750389818,378063.22572000045,11.648623076304077,100,100,0.47047114750088753]
[32,"ANA",3347262.7841599998,2784750.4692699998,0.43458986035119207,0.40563927146860218,562512.31489000004,20.199738579717639,100,100,0.43458986035119207]
[33,"Plan Seguro",3324020.0512399999,2340553.6933599999,0.43157215403255972,0.34093557231954774,983466.35788000003,42.018534360909165,100,100,0.43157215403255972]
[34,"Seguros Azteca",2729565.3195799999,2821244.0201900001,0.35439147970971696,0.41095508614278803,-91678.700610000174,-3.2495842243318585,100,100,0.35439147970971696]
[35,"General de Seguros",2630736.9253099998,2219668.6898400001,0.34156015428531944,0.32332691930002372,411068.23546999972,18.519350989251947,100,100,0.34156015428531944]
[36,"Seguros Argos",2607218.6123699998,2553070.5004000003,0.33850666819971614,0.37189172574651436,54148.111969999503,2.1209015560485156,100,100,0.33850666819971614]
[37,"Cardif Seguros Generales",2456286.8917,0,0.31891053857435686,0,0,0,100,100,0.31891053857435686]
[38,"El Potosí",2435676.4140999997,1891357.54091,0.3162345895498756,0.275503641510292,544318.87318999972,28.779268933366687,100,100,0.3162345895498756]
[39,"HDI Global Seguros",2295531.7768099997,2103649.43671,0.29803899443943255,0.3064270333550107,191882.34009999968,9.1214028702469427,100,100,0.29803899443943255]
[40,"Seguros Azteca Daños",1992442.88803,1756185.3149300001,0.25868762995373284,0.25581384744278624,236257.57309999992,13.452883991881958,100,100,0.25868762995373284]
[41,"Thona",1952625.4802899999,2019824.97291,0.25351796064926096,0.2942167851470297,-67199.49262000015,-3.3269958299002811,100,100,0.25351796064926096]
[42,"Prudential",1828165.4904,1558409.86843,0.23735877234723479,0.22700498685799278,269755.62196999998,17.309671058600372,100,100,0.23735877234723479]
[43,"Insignia Life",1793771.2526099999,1484029.3225799999,0.23289321706762653,0.21617038219126286,309741.93002999993,20.871685304136079,100,100,0.23289321706762653]
[44,"BBVA Salud",1738518.10781,1674526.54718,0.22571945807976684,0.24391906425676629,63991.560629999964,3.821471850521907,100,100,0.22571945807976684]
[45,"El Águila",1354763.1550999999,1282462.5710499999,0.17589486345978692,0.18680926307298309,72300.584049999947,5.6376369714092212,100,100,0.17589486345978692]
[46,"Swiss Re Corporate Solutions",1319552.84827,1289086.5757000002,0.17132335434476165,0.18777414536677622,30466.272569999797,2.3634000341254069,100,100,0.17132335434476165]
[47,"Assurant Vida",1204700.1433699999,1097528.57672,0.1564115221397579,0.15987094613664921,107171.56664999994,9.7648087642770776,100,100,0.1564115221397579]
[48,"Tokio Marine",1046151.0540700001,835205.63911999995,0.13582639601707519,0.12165980784192731,210945.41495000012,25.256703866638052,100,100,0.13582639601707519]
[49,"La Latinoamericana",1045705.9405499999,1151107.1503699999,0.13576860496959223,0.16767544202292159,-105401.20981999999,-9.1565072622579855,100,100,0.13576860496959223]
[50,"Pan-American México",992599.65855999989,996928.28110999998,0.12887358262983981,0.14521705485587538,-4328.6225500000874,-0.43419598300296069,100,100,0.12887358262983981]
[51,"Berkley Seguros",791062.99773000006,673928.03742999991,0.10270719088425267,9.8167387398639089E-2,117134.96030000015,17.380929979807647,100,100,0.10270719088425267]
[52,"Sompo Japan",758794.05964999995,667096.89925000002,9.8517572620568067E-2,9.7172333103751798E-2,91697.160399999935,13.745703285848387,100,100,9.8517572620568067E-2]
[53,"AXA Salud",736798.96127999993,632166.95652999997,9.5661852187065299E-2,9.208428062876825E-2,104632.00474999996,16.551324562158531,100,100,9.5661852187065299E-2]
[54,"Atradius",678248.51098000002,605124.67148000002,8.8059989512945469E-2,8.8145179826891448E-2,73123.839500000002,12.084094889265607,100,100,8.8059989512945469E-2]
[55,"Skandia Life",672062.19351000001,372806.80567999999,8.7256792686542087E-2,5.430471517048148E-2,299255.38783000002,80.27090258831457,100,100,8.7256792686542087E-2]
[56,"PREVEM Seguros",512811.06137999997,478354.15682999999,6.6580517253176597E-2,6.9679216799401256E-2,34456.904549999977,7.203220471280547,100,100,6.6580517253176597E-2]
[57,"Solunion Crédito",491847.01507999998,525328.15815000003,6.3858662848130451E-2,7.6521660990964663E-2,-33481.143070000049,-6.3733768218150573,100,100,6.3858662848130451E-2]
[58,"General de Salud",463598.83335000003,1101163.0575699999,6.0191077078853433E-2,0.16040036095511478,-637564.22421999997,-57.899165780856251,100,100,6.0191077078853433E-2]
[59,"Primero Seguros",431846.40201999998,1478140.9423199999,5.6068519159942244E-2,0.21531265425292351,-1046294.5403,-70.78449086578982,100,100,5.6068519159942244E-2]
[60,"SHF Cred Vivienda",356133.19910999999,351623.43938,4.6238340772064124E-2,5.1219050810960932E-2,4509.7597299999907,1.2825537847965585,100,100,4.6238340772064124E-2]
[61,"Coface",291154.41632999998,305414.17260000005,3.7801859397555815E-2,4.4488001290157321E-2,-14259.756270000071,-4.6689897029356331,100,100,3.7801859397555815E-2]
[62,"Crabi",278462.23986000003,169473.86775,3.6153978261436959E-2,2.4686325401750364E-2,108988.37211000003,64.309839361649907,100,100,3.6153978261436959E-2]
[63,"MediAccess",144964.70387999999,206857.00487999999,1.882140557149925E-2,3.0131721202186008E-2,-61892.301000000007,-29.920331214262919,100,100,1.882140557149925E-2]
[64,"Genworth Seg. de Crédito",127853.12620999999,117391.58254,1.6599734125449316E-2,1.7099785615820269E-2,10461.543669999985,8.9116642297886415,100,100,1.6599734125449316E-2]
[65,"Virginia Surety",112129.76393,95399.785930000013,1.4558300793757315E-2,1.3896361663258885E-2,16729.977999999988,17.536703921197127,100,100,1.4558300793757315E-2]
[66,"Tláloc Seguros",111365.2858,93944.269700000004,1.4459045233264588E-2,1.3684344626305949E-2,17421.016099999993,18.543990129075418,100,100,1.4459045233264588E-2]
[67,"Odontoprev",97783.699609999996,103938.11167,1.2695688118432923E-2,1.5140092572349327E-2,-6154.4120600000024,-5.9212275084812527,100,100,1.2695688118432923E-2]
[68,"SPP Seguros",87030.096369999999,71137.016310000006,1.129950047745674E-2,1.0362137573497866E-2,15893.080059999993,22.341505005975115,100,100,1.129950047745674E-2]
[69,"Momento Seguros",77172.757209999996,21436.396140000001,1.0019678746921834E-2,3.1225218234441662E-3,55736.361069999999,260.00807554585521,100,100,1.0019678746921834E-2]
[70,"Quálitas Salud",49328.372200000005,15298.178199999998,6.4045196831265302E-3,2.2284014055563069E-3,34030.194000000003,222.44605570093313,100,100,6.4045196831265302E-3]
[71,"SPT",44129.07303,43281.459020000002,5.7294717870046211E-3,6.304571881290787E-3,847.61400999999751,1.9583767026160714,100,100,5.7294717870046211E-3]
[72,"Banamex Pensiones",9930.3873499999991,6656.5933399999994,1.2893058985665392E-3,9.6962930887239571E-4,3273.7940099999996,49.181222928663985,100,100,1.2893058985665392E-3]
[150.1,"TOTAL RESTO",164022892.51338997,144774160.75916007,21.295814086996231,21.088455050415547,19248731.754229903,13.295695622267335,100,100,21.295814086996231]
[200,"Patria",0,0,0,0,0,0,0,0,0]
[201.1,"TOTAL",770211891.61088002,686509089.51391983,99.999999999999972,99.999999999999972,83702802.096960187,12.192526417417969,100,100,99.999999999999972]

{"sheet":"TDPrimas Vida","index":1,"n_rows":45,"n_cols":14,"rows_kept":45,"cut":false,"hidden":true,"merged":[]}
[]
["periodo","2025-Q3"]
["Ramo_","12 Vida Total"]
["subramo","(Varios elementos)"]
[]
["Jerarquia 2","nombre_compania","Suma de Prima_DirectaAct","Suma de Prima_DirectaAnt","Suma de Part_Cartera_Act","Suma de Prima_Directa_Act1anio","Suma de Prima_Directa_Ant1anio","Suma de PD_IncreRel1anio","Suma de PrimaDirectaAct_Renov","Suma de PrimaDirectaAnt_Renov","Suma de PD_PartMerc_Renovacion","Suma de PrimaDirectaAct_Unica","Suma de PrimaDirectaAnt_Unica","Suma de PD_PartMerc_Unicas"]
[1,"BBVA",56228654.272830002,47267011.291559994,77.67041407956826,49674455.034429997,41148639.236340001,20.719557089412845,4519824.9094000002,4086716.37164,1.4493073507957766,2034374.3289999999,2031655.68358,0.65233360326812428]
[2,"Metlife México",39129855.744099997,39663455.944190003,59.165176330019662,6936564.0307200002,7755131.0616500005,-10.555166952340844,25978981.07133,25949915.172880001,8.3303068122302761,6214310.6420499999,5958409.7096600002,1.9926537585384207]
[3,"Banamex Seguros",38266807.853989996,44150506.897230007,98.233037825459817,26663118.362430003,30980312.03607,-13.935281441366831,11603689.491559999,13170194.861159999,3.7207884848579424,0,0,0]
[4,"G.N.P.",30445615.764770001,27770715.722789999,31.980661690879135,8097578.1045200005,8012105.8361599995,1.0667890578061279,15492083.702019999,14075475.55658,4.967624020520212,6855953.95823,5683134.33005,2.1984003069931264]
[5,"Banorte",29563865.442110002,22830842.832959998,65.466120554127926,5852113.5924800001,3558903.3608400002,64.435866870482769,8832334.8783200011,10482700.723599998,2.8321379965885409,14879416.971309999,8789238.7485199999,4.7711689776358419]
[5.0999999999999996,"TOTAL GRANDES",193634799.07780001,181682532.68873,60.921180579040147,97223829.124579996,91455091.53106001,6.3077271007495606,66426914.05263,67765002.685859993,21.300164664992749,29984055.900589999,22462438.471810002,9.6145566464355134]
[6,"Monterrey New York Life",21337894.788349997,19843719.738729998,64.134937045942891,2121513.1645900002,2132155.53192,-0.4991365390880409,14189062.940790001,12812119.174970001,4.5498030638803595,5027318.6829699995,4899445.0318400003,1.6120380917562107]
[7,"Zurich Santander",15562563.94307,12172910.205260001,78.457188977840659,8433793.9906699993,6561559.3952699993,28.533378768919306,2672325.2790599996,1042592.65899,0.85689617370004934,4456444.6733400002,4568758.1509999996,1.4289841206135874]
[8,"Allianz México",15054124.876110001,11330570.538530001,64.788526099965509,7359559.367229999,4823953.1660999991,52.562827909458143,7694565.5088800006,6506617.3724300005,2.4673058308092322,0,0,0]
[9,"HSBC Seguros",12635644.146120001,12348930.73642,97.348492664962478,9007583.8576499987,9691792.4909799993,-7.0596706849303974,3628060.28847,2657138.2454400002,1.1633579951900908,0,0,0]
[10,"Mapfre México",8712961.6138500012,6620840.57259,28.392255525719783,8016465.4759899992,5958559.3917300003,34.536973603321066,678432.12049,649554.4216,0.21754308606008566,18064.017370000001,12726.759259999999,5.7923290578791448E-3]
[11,"AXA Seguros",5107757.6365299998,4864113.0592,10.170330061149006,1035477.4601799999,975787.55005999992,6.1171010140813609,4044028.2690400002,3865383.1765000005,1.2967404743834727,28251.907309999999,22942.332640000001,9.0591334308610227E-3]
[12,"Inbursa",4831500.9921400007,4347948.7431899998,19.596744139504413,2800672.1890500002,2453837.0075399997,14.134401773396799,2030828.8030899998,1894111.7356499999,0.65119671038691707,0,0,0]
[13,"Patrimonial Vida",4625465.0598599995,2704976.95878,100,4625465.0598599995,2704976.95878,70.998316449474629,0,0,0,0,0,0]
[14,"Hir Seguros",4432707.5753000006,3169415.9470100002,98.167914710963458,918803.44039,846949.65120999992,8.4838324305755108,3513904.1349099996,2322466.2958,1.1267531806653079,0,0,0]
[15,"Cardif Vida",3609583.8855500002,2488578.9333600001,98.428559030650391,2717912.8104399997,1640134.7409000001,65.712776070372399,172396.24891999998,466899.95367000002,5.5279829599094436E-2,719274.82619000005,381544.23878999997,0.23063953001177326]
[15.1,"TOTAL MEDIANAS",95910204.516880006,79892005.433069989,46.178539567042463,47037246.816049993,37789705.884489991,24.471058228996334,38623603.593649998,32216883.035050005,12.384876344674609,10249354.107179999,9885416.5135299992,3.2865132048703107]
[16,"Atlas",2615143.8208900001,2689124.6364899999,14.54343120735793,1885007.59617,2019159.8019900001,-6.6439617947913421,654749.24219000002,588315.55824000004,0.20994903755240835,75386.982530000008,81649.276259999999,2.4173261160584596E-2]
[17,"Seguros Argos",2607218.6123699998,2553070.5004000003,100,1488028.64084,739442.16379000002,101.23665023551416,884377.68794999993,1631523.4272300003,0.28358069388043106,234812.28357999999,182104.90938,7.5293883163897332E-2]
[18,"Seguros Azteca",2355271.02434,2404909.52312,86.287402885907383,2243811.4878600002,2300793.2769599999,-2.4766148993311088,6553.5455300000003,7030.4811399999999,2.1014313387782676E-3,104905.99095000001,97085.765020000006,3.3638697709317558E-2]
[19,"Afirme",2234954.2395600001,2131429.1206800002,39.956468099145383,2234954.2395599997,2131429.1206800002,4.857075371428321,0,0,0,0,0,0]
[20,"Thona",1848324.33846,1916423.7508,94.658415406188936,1848128.0504599998,1912984.8618000001,-3.3903462925981565,0,0,0,196.28800000000001,3438.8890000000001,6.2940854341803686E-5]
[21,"Prudential",1828165.4904,1558409.86843,100,363594.41709,332712.23219000001,9.2819505603161332,1453163.77443,1210725.9496600002,0.46596516068829624,11407.29888,14971.686580000001,3.6578147275406559E-3]
[22,"Insignia Life",1793771.2526099999,1484029.3225799999,100,518992.95268999995,489787.23183,5.9629404284138099,1275785.6017999998,995041.12945999997,0.40908784915157387,-1007.30188,-799.03870999999992,-3.2299702940223043E-4]
[23,"Assurant Vida",1204700.1433699999,1097528.57672,100,1198208.89053,1090377.4860499999,9.8893645420568888,6491.2528400000001,7151.0906699999996,2.0814568363744066E-3,0,0,0]
[24,"Chubb Seguros México",917106.39815999998,870755.25255999994,3.801141485763964,917106.39815999987,870755.25255999994,5.3230968706451831,0,0,0,0,0,0]
[25,"Seguros SURA",847765.29477000004,905501.84166999999,17.404247622903814,724403.63311000005,744922.00021999993,-2.7544316188728657,123312.17485999998,160522.79031000001,3.9540744398202057E-2,49.486800000000002,57.051139999999997,1.5868221545086663E-5]
[26,"Zurich Aseguradora Mexicana",760246.34629999998,644093.17502999993,6.9221993025157857,351483.66902000003,229505.18905000002,53.148462775465077,187483.91050999999,176307.06821,6.0117773388295076E-2,221278.76677000002,238280.91777,7.0954284664393741E-2]
[27,"Skandia Life",672062.19351000001,372806.80567999999,100,469419.87054000003,183756.19931,155.45797763703217,202642.32297000001,189050.60636999999,6.4978403843024071E-2,0,0,0]
[28,"Ve Por Más",636010.13974999997,779967.10063,17.005594740416321,33084.345309999997,48955.914670000006,-32.420126285018725,285815.11943999998,442580.80004999996,9.1648230158533683E-2,317110.67499999999,288430.38591000001,0.10168332656813479]
[29,"General de Seguros",518961.64506000001,306912.45566000004,19.726854481994501,354658.36411000002,118193.47401999999,200.06594446152488,164303.28094999999,188718.98164000001,5.2684773771979929E-2,0,0,0]
[30,"Pan-American México",470659.51276999997,500563.65038000001,47.416852173090881,105598.55209,99484.133969999995,6.1461238852859035,365060.96068000002,327327.42826999997,0.11705885612996619,0,73752.088140000007,0]
[31,"Agroasemex",423253.46970000002,380561.09717000002,3.1125521676304198,423253.46970000002,380561.09717000002,11.218270298114286,0,0,0,0,0,0]
[32,"El Potosí",383626.22360000003,332799.49020999996,15.750295128663581,104075.22427000001,97085.66264000001,7.1993757264836811,277042.63575000002,234714.62757000001,8.8835283783064295E-2,2508.3635800000002,999.2,8.0432093008775483E-4]
[33,"La Latinoamericana",138626.89427000002,178789.63081,13.25677601076721,3687.0348899999999,33123.765950000001,-88.868913952702286,134939.85938000001,145665.86486000003,4.3269227024270718E-2,0,0,0]
[34,"Tokio Marine",58373.128479999999,62526.049979999996,5.5797992319466836,22455.171709999999,29238.924740000002,-23.201102948630535,35917.956770000004,33287.125240000001,1.1517295429755112E-2,0,0,0]
[35,"HDI Seguros",1791.57347,-6822.1004599999997,1.6210190045661748E-2,0,0,0,1791.57347,-6822.1004599999997,5.7447813833708529E-4,0,0,0]
[150.1,"TOTAL RESTO",22316031.741840001,21163379.748539999,19.768753274229766,15289952.008109998,13852267.789590005,10.378692069470485,6059430.8995200004,6331140.8284600005,1.9429906955132907,966648.83420999988,979971.13049000001,0.30996140097044106]
[201.1,"TOTAL",311861035.33651996,282737917.87033999,48.848538893041599,159551027.94873998,143097065.20514002,11.498462753245153,111109948.5458,106313026.54936999,35.628031705180653,41200058.84198001,33327826.115829993,13.211031252276269]

{"sheet":"TD Siniestros","index":2,"n_rows":86,"n_cols":16,"rows_kept":86,"cut":false,"hidden":true,"merged":[]}
[]
[null,null,null,null,null,null,null,null,null,null,null,null,null,null,null,"anio_reporte"]
["periodo","2025-Q3",null,null,null,null,null,null,null,null,null,null,null,null,null,"mes_reporte"]
["Ramo_","10 Total General",null,null,null,null,null,null,null,null,null,null,null,null,null,"numero_compania"]
[null,null,null,null,null,null,null,null,null,null,null,null,null,null,null,"nombre_compania"]
["Jerarquia 2","nombre_compania","Suma de CostoSin_Act","Suma de SIN_IncreRel2","Suma de IncResvDivAct","Suma de SINvsPRIM_ACT","Suma de SINvsPRIM_ANT","Suma de Costo_Sin_RetAct","Suma de SIN_IncreRel","Suma de Prima_DevengadaAct","Suma de IncrDevengada","Suma de SINvsPDEV_ACT","Suma de SINvsPDEV_ANT",null,null,"ramo"]
[1,"G.N.P.",56894917.276000008,12.51272790998199,307796.94386,59.76351785401495,59.585759845375655,54143174.550919995,12.51272790998199,74619806.518169999,14.1967838589953,72.558717420067381,74.833233144633098,null,null,"gestor_cia_id"]
[2,"BBVA",32555258.482289992,11.434666974768536,0,44.969605612785671,47.627542846834118,31882790.594310001,11.434666974768536,33255778.468669999,25.466942062022536,95.87143065782243,108.26968436321023,null,null,"ofuscacion"]
[3,"Metlife México",48946410.445289992,7.80955798004761,89924.315929999997,74.008016376440295,72.923616900208771,46932346.493819997,7.80955798004761,60733640.900449999,10.271412907628008,77.275700580421244,79.226864883512533,null,null,"fecha_ofuscada"]
[4,"Quálitas",29050534.715600006,6.5079565999290434,173534.27540000001,57.264121437380844,59.554248081835304,29034384.411910001,6.5079565999290434,48584938.11366,15.546017301360227,59.760052269669927,64.898169405982387,null,null,"jerarquia"]
[5,"AXA Seguros",32562888.39780999,10.224547636932746,258017.20126,64.837712811893326,62.784630339574662,28703684.650359999,10.224547636932746,40611676.782870002,7.2947453087902847,70.678403169177216,74.916564479810901,null,null,"Prima_DirectaAct"]
[5.0999999999999996,"TOTAL GRANDES",200010009.31698999,9.8951350939870295,829272.73645000008,59.760931983963992,60.402007066306716,190696380.70131999,9.8951350939870295,257805840.78382,13.658980642219554,73.968991595200578,77.979473123823411,null,null,"Prima_DirectaAnt"]
[6,"Banorte",17162737.245370008,3.6848476088725546,-39156.17179,38.005105514511619,46.335882006155728,14526189.831770001,3.6848476088725546,21567861.621750001,7.774469645641835,67.351089721018695,70.346011983586607,null,null,"Prima_directa_Anual_act"]
[7,"Banamex Seguros",24629771.142240003,-8.2543282342403046,0,63.226001224865946,59.886730630764305,24599300.080400001,-8.2543282342403046,14909352.833729999,5.6609847919350864,164.99240681156905,189.98676800407196,null,null,"Prima_directa_Anual_ant"]
[8,"Monterrey New York Life",22822147.268070001,9.9831804399345359,11743.40035,68.596128756340676,67.119509522770699,21701316.89404,9.9831804399345359,26573989.636689998,-6.644035503255985E-3,81.663751626054562,73.500272224838852,null,null,"CostoSin_Act"]
[9,"Mapfre México",6624038.0841699988,-61.754664789836433,169630.69164999999,21.585241647214225,67.444146924453335,8918574.6650799997,-61.754664789836433,15239619.840190001,8.864461805552871,58.522290966602007,59.21422330004917,null,null,"CostoSin_Ant"]
[10,"Inbursa",16402511.077440007,42.693807962232654,370711.14045999997,66.529182825978509,48.20011838671671,10969829.557430001,42.693807962232654,16430126.64139,16.096608604339234,66.766555102474527,68.370477852047301,null,null,"cto_sin_anual_act"]
[11,"Chubb Seguros México",9308810.0273399986,-1.5747130729303005,91032.376240000012,38.582332485095669,45.977853703488037,4515078.3159399992,-1.5747130729303005,9101931.9496599995,13.204553265341957,49.605713829893652,59.028513932938594,null,null,"cto_sin_anual_ant"]
[12,"Allianz México",8777972.6475400049,-7.5361961038293623,17670.99308,37.777812703177517,51.45329701511551,9145364.4181699995,-7.5361961038293623,6555246.10011,252.36030042948826,139.5121446015053,399.04118232743645,null,null,"pib_act"]
[13,"Zurich Santander",5444206.3598499997,11.469127466957495,0,27.446449619204127,30.249077951025505,5275289.0449700002,11.469127466957495,10667753.933049999,5.7420389998880106,49.450794216639302,46.334109032425715,null,null,"pib_ant"]
[14,"Atlas",8984849.2300400082,12.283721245115631,22250.386610000001,49.966864400252831,44.894161398965352,6803326.1994099999,12.283721245115631,9983512.813860001,8.8112217729789712,68.145614937910608,69.684589114578884,null,null,"inpc_act"]
[15,"Agroasemex",3677143.1917300001,-43.803573827579726,8494.59238,27.04124320639125,101.71718687630671,2641517.9670799999,-43.803573827579726,3868242.31433,33.572854576653285,68.287293101945309,70.445154136362774,null,null,"inpc_ant"]
[15.1,"TOTAL MEDIANAS",123834186.27379002,-5.7179062736878894,652377.40897999995,45.610203100476163,54.631396485823636,109095786.97428998,-5.7179062736878894,134897637.68476,11.569254642533199,80.873015159267709,85.73534434947824,null,null,"IncResvDivAct"]
[16,"HSBC Seguros",3675388.3264800003,38.069253789828906,0,28.316206867150012,20.968246281626435,3635179.25404,38.069253789828906,3462454.1515900004,28.04043404675831,104.988516667309,95.789046745796696,null,null,"IncResvDivAnt"]
[17,"ProFuturo G.N.P.",5539033.893769999,15.420377302215083,0,45.466294742495535,53.347762079914951,5539033.8937700009,15.420377302215083,-405797.49966000003,-65.943898153674255,-1364.9748700795137,-402.7514402537916,null,null,"Costo_Sin_RetAct"]
[18,"Pensiones Banorte",11714029.66419,7.6026550406015136,0,97.886579444299144,82.474778778084087,11714029.66419,7.6026550406015136,-3823.8734100000001,-99.812853038409216,-306339.36870284623,-532.79802479544639,null,null,"Costo_Sin_RetAnt"]
[19,"HDI Seguros",6061159.9400400016,15.582789870781122,0,54.84148775947223,56.349597076755067,5584548.0793599999,15.582789870781122,9543148.0748100001,15.647348009751605,58.518929346815,61.65218851338016,null,null,"Prima_DevengadaAct"]
[20,"Zurich Aseguradora Mexicana",4426779.6259700032,1.9784780123849544,20171.251629999999,40.306738714912058,41.354316427887369,3457419.7300999998,1.9784780123849544,6489781.6193199996,3.6903899210967817,53.274823914063674,58.551909282877688,null,null,"Prima_DevengadaAnt"]
[21,"Pensiones BBVA",8163299.6079200013,12.753562787625871,0,84.364844799096474,104.59611245838232,8163299.6079200003,12.753562787625871,-623647.50685999996,-67.986509350662431,-1308.9605134511578,-371.64586308149501,null,null,"Prima_Directa_Act1anio"]
[22,"GMX Seguros",3448249.2285699989,-14.492875106215564,0,40.802638169754538,45.912330150253013,1008643.97549,-14.492875106215564,2735568.45958,4.827028163243563,36.871457994688974,45.295563460456115,null,null,"Prima_Directa_Ant1anio"]
[23,"AIG Seguros",2362947.0091899997,87.142342331658071,10046.130860000001,37.506299684069823,23.438504243528534,554873.87988999998,87.142342331658071,1054993.88051,17.735899385504727,52.594985633638515,65.823237936297645,null,null,"PrimaDirectaAct_Renov"]
[24,"Afirme",2017664.18346,-34.797715104821492,17031.64716,36.071760734161288,57.395794236151588,2055624.9193199999,-34.797715104821492,3181869.6436399999,-6.6665972191551015,64.604309715479204,75.127701753450026,null,null,"PrimaDirectaAnt_Renov"]
[25,"Seguros SURA",2586905.1357499999,35.343030475249115,-6216.8432199999997,53.108021568362794,41.621212912018457,2129993.5202100002,35.343030475249115,3486937.7510199999,-3.0303517041191053,61.084931028290768,48.352646001369507,null,null,"PrimaDirectaAct_Unica"]
[26,"Patrimonial Vida",1946418.3649200001,109.38888787485604,4903.4508599999999,42.080490063823184,34.36520929698623,893082.21637000004,109.38888787485604,1571421.4203699999,44.927896789062771,56.832763305448566,66.052902891134366,null,null,"PrimaDirectaAnt_Unica"]
[27,"Hir Seguros",2155179.8253800003,-5.6665642565242091,74877.082880000002,47.729182602435536,70.502411844547026,1231604.72698,-5.6665642565242091,2456131.8357100002,23.465646564538865,50.144080585315031,57.20311053804609,null,null,"ramo_raiz"]
[28,"BUPA México",2937393.3841200001,18.402736725115631,0,67.138227948273524,69.668857288863592,2717975.4529400002,18.402736725115631,4320560.3988100002,15.668955148342501,62.907937907513215,57.44778543431579,null,null,"operacion"]
[29,"Ve Por Más",2605447.8221500004,27.897614131866977,-6420.8934600000002,69.664282079212256,54.633292493117523,1791479.1336700001,27.897614131866977,2434507.6568299998,8.7553039788790699,73.586917200445598,74.443557314775745,null,null,"ramo_complemento"]
[30,"Cardif Vida",851556.76752000011,38.027382623875262,0,23.22082218267126,24.403878279091,740188.65734000003,38.027382623875262,3094939.2064200002,34.577530546192548,23.916096826864532,20.840487251268694,null,null,"subramo"]
[31,"FM Global",4591850.6461399999,21.477002908509736,0,126.71981772570334,116.46725575054424,15336.07065,21.477002908509736,46588.208659999997,-1320.3849471592423,32.91835228506509,107.04624736596999,null,null,"periodo"]
[32,"ANA",1835327.8969100001,-1.324412888463522,10970.27701,54.830708410322138,66.790956202893611,1530251.73642,-1.324412888463522,2435498.9769000001,10.37649698661478,62.831138544256959,68.267307888218355,null,null,"PD_Cartera_act"]
[33,"Plan Seguro",1952883.0484199999,33.049855833638418,0,58.750639837190278,62.710926743701954,1474667.0647400001,33.049855833638418,2415451.4965300001,49.947841023301123,61.051404545215824,67.853085567916395,null,null,"PD_Cartera_ant"]
[34,"Seguros Azteca",513247.21419999993,-44.270838492663323,0,18.803258178814115,32.644005356118619,317997.65406999999,-44.270838492663323,2559407.3343799999,1.0963138649282111,12.424659795195629,27.681321015610649,null,null,"PD_Sector_Total_act"]
[35,"General de Seguros",1732145.8861699998,18.297606597516648,41903.402040000001,65.842611228254526,65.966030714049765,1569690.88328,18.297606597516648,2419400.14904,22.107188136299349,64.879341431091575,65.9596041515709,null,null,"PD_Sector_Total_ant"]
[36,"Seguros Argos",2198505.1737599997,-1.4758410957872226,-14954.291509999999,84.323775663810807,87.402116284700796,1866102.6860999998,-1.4758410957872226,2380319.0524599999,2.4247975266876054,78.397166303039484,73.843149435912594,null,null,"PD_Sector_SinPension_act"]
[37,"Cardif Seguros Generales",293532.63031000004,0,0,11.950258388051962,0,262763.78469999996,0,2034903.37249,0,12.912838430184049,0,null,null,"PD_Sector_SinPension_ant"]
[38,"El Potosí",1126492.2921500003,11.96059535430949,1291.6491699999999,46.249669522141659,53.197275439835892,1022078.4236699999,11.96059535430949,1835661.0010599999,28.890152775132492,55.679040034069594,58.71095531165814,null,null,"PD_Mercado_Act"]
[39,"HDI Global Seguros",1776902.6795999999,97.659502784811011,0,77.407017299899195,42.73390452146559,19389.581989999999,97.659502784811011,-7011.7653099999998,-34.631924401449346,-276.52924952218632,1.2231911801731934,null,null,"PD_Mercado_Ant"]
[40,"Seguros Azteca Daños",504172.82344000001,68.560045078046869,7972.2413799999995,25.304254715099706,17.031560909727919,114291.04525,68.560045078046869,360816.04122000001,7.7233901495360913,31.675710665068085,27.878078666626539,null,null,"CS_Mercado_Act"]
[41,"Thona",1733506.0232900002,-7.0958148837027775,5154.1361400000005,88.778213783861077,92.379655669954033,872073.58101999993,-7.0958148837027775,1627642.3182300001,-10.080752774015256,53.578944910227399,55.899966651612118,null,null,"CS_Mercado_Ant"]
[42,"Prudential",231226.25729000001,-4.3148155590909347,0,12.647993767752833,15.506392103603037,249869.15863999998,-4.3148155590909347,1275138.24768,-28.266198367982089,19.595456343232946,27.459904164785197,null,null,"PD_Operacion_act"]
[43,"Insignia Life",851617.96878000011,15.742972952974799,33200.294020000001,47.476397424747788,49.580134521252759,756941.21779999998,15.742972952974799,1203964.7070599999,-5.3617525493895091,62.870714844158435,55.37808977810684,null,null,"PD_Operacion_ant"]
[44,"BBVA Salud",1307899.7671500002,13.371049856110751,0,75.230724447130044,68.893818575334365,1157388.8087800001,13.371049856110751,1381727.75447,20.445993646878712,83.763882214550193,89.431589099973664,null,null,"Part_Mercado_Act"]
[45,"El Águila",942654.73620000028,82.053280740874442,0,69.58077747031875,40.374712725227191,561586.73679999996,82.053280740874442,1057382.2735599999,-1.1347771266611018,53.111041374776121,49.877015788741588,null,null,"Part_Mercado_Ant"]
[46,"Swiss Re Corporate Solutions",555122.79879000015,225.60230008007414,0,42.069008415827682,13.225725790171994,4072.4895899999997,225.60230008007414,8052.7642599999999,-214.02130523483694,50.572566866622758,-39.484413922962545,null,null,"PD_IncreAbs"]
[47,"Assurant Vida",178849.33577999999,10.204050631317907,-938.99444999999992,14.845962853435966,14.786791086115198,28943.118160000002,10.204050631317907,111063.34056,9.1364832248305596,26.060010453551953,19.159991887042192,null,null,"PD_IncreRel"]
[48,"Tokio Marine",404088.41822000017,-17.039790697721603,1963.65391,38.626201890053423,58.319413274461475,84959.984459999992,-17.039790697721603,173865.07931,-4.1340225810022506,48.865467865756436,44.730134890912701,null,null,"Part_Operacion_Act"]
[49,"La Latinoamericana",571422.34218999976,-16.759221717697194,8623.2344699999994,54.644649134292401,59.635564313830237,370949.10570000001,-16.759221717697194,760484.63610999996,-11.403907598530827,48.777988152063635,51.657730625329847,null,null,"Part_Operacion_Ant"]
[50,"Pan-American México",1026881.0678000001,140.67898705321892,10761.297329999999,103.45369947937857,42.79746600778023,940244.90891,140.67898705321892,1246544.28718,73.33993348207845,75.42811904718387,48.726378721658008,null,null,"Part_Cartera_Act"]
[51,"Berkley Seguros",399937.60344999988,116.91327735511491,5748.2577499999998,50.556985296701193,27.358518682961165,31096.719840000002,116.91327735511491,27398.97163,4.1834032384514552,113.49593794955143,58.769027894009007,null,null,"Part_Cartera_Ant"]
[52,"Sompo Japan",131354.68675000008,-3.4856840991833171,1608.00521,17.31097984749492,20.401632223596337,38841.262109999996,-3.4856840991833171,74370.059209999992,164.6263098339416,52.227015175990744,31.471458163899495,null,null,"Part_Sector_Act"]
[53,"AXA Salud",482046.30315000005,4.7455418842891728,0,65.424400478601072,72.798330098760957,96189.457900000009,4.7455418842891728,59019.544320000001,-6.9705316936331085,162.9789911261721,174.20294921349884,null,null,"Part_SectorSinPen_Act"]
[54,"Atradius",347401.89166999998,149.71957784877898,1452.1160300000001,51.220442956526313,22.989775323447201,39032.096270000002,149.71957784877898,173546.51957,12.5330664848887,22.490855112917664,31.947883223880915,null,null,"Part_Sector_Ant"]
[55,"Skandia Life",74462.124089999998,-12.872714564909405,0,11.079647807757844,22.924369796338421,59648.024420000002,-12.872714564909405,189255.59071000002,-24.972106232139524,31.517179596242318,30.268020286928905,null,null,"Part_SectorSinPen_Ant"]
[56,"PREVEM Seguros",393521.33995000005,15.145292366933759,0,76.738075596695339,71.445116579483752,279968.58147000003,15.145292366933759,339771.47281999997,-25.892074621970117,82.399084050919839,70.5557056796236,null,null,"PD_PartMerc_1anio"]
[57,"Solunion Crédito",552327.55256999994,207.99666192393329,769.00381999999991,112.29661574344669,34.136580769157078,23433.792109999999,207.99666192393329,21505.25964,-3.3135203015725256,108.96772465101006,23.187056866131648,null,null,"PD_PartMerc_Renovacion"]
[58,"General de Salud",678238.56258999987,-8.3622232259167539,0,146.29859132496023,67.213467597004879,284923.41979000001,-8.3622232259167539,205301.03013,-52.518891202692409,138.78323923147477,95.978433513362546,null,null,"PD_PartMerc_Unicas"]
[59,"Primero Seguros",825054.79418999958,-11.017289252065455,0,191.05283506606338,62.727981661526165,686881.99938000005,-11.017289252065455,745872.36523999996,-29.481443637887761,92.091091102293561,76.588816479138501,null,null,"PDanio1_IncreAbs1anio"]
[60,"SHF Cred Vivienda",168492.11899000002,91.887347671540027,0,47.311545065462241,24.972121225714407,164245.12747000001,91.887347671540027,363300.24563000002,22.888130456483346,45.209198024400465,26.32766264543384,null,null,"PD_IncreRel1anio"]
[61,"Coface",125599.20271999999,36.288568612097883,-3785.3339000000001,43.138347102261868,30.174373784119535,20107.241160000001,36.288568612097883,53859.894289999997,-3.5380294293430592,37.332492803895555,37.199202887216245,null,null,"PD_IncreAbsRenov"]
[62,"Crabi",177404.42518999998,79.723234927370967,0,63.708611005640122,58.244843214183398,178868.58948,79.723234927370967,228825.34779,97.909405180791651,78.168171143414213,78.97981050828011,null,null,"PD_IncreRelRenov"]
[63,"MediAccess",211895.22417999999,19.816624770362811,0,146.17021834184152,85.49364921076392,202870.51536000002,19.816624770362811,235033.88712999999,-7.0180658604091395,86.315432143531694,68.171685477751737,null,null,"PD_IncreAbsUni"]
[64,"Genworth Seg. de Crédito",112869.93919,81.28592191934365,0,88.280938085635896,53.036792845675521,117160.00358,81.28592191934365,153477.44413999998,-0.34676877531694128,76.336952466532011,42.785141437037318,null,null,"PD_IncreRelUnica"]
[65,"Virginia Surety",28931.921979999999,2.6951358285088434,0,25.802178624099774,29.531126328387973,23247.22694,2.6951358285088434,81657.371969999993,28.409893256403905,28.469232329128559,27.633813560940911,null,null,"SIN_IncreRel"]
[66,"Tláloc Seguros",28463.917489999996,-49.924852650311557,0,25.559057551487012,60.506515236660583,4381.7613899999997,-49.924852650311557,22959.619739999998,70.665719154941399,19.084642688424594,60.250168585735352,null,null,"SINvsPRIM_ACT"]
[67,"Odontoprev",25030.07847,-4.328773014684506,0,25.597393604281528,25.17132313608445,24933.07847,-4.328773014684506,86446.328260000009,-9.8652595441261042,28.842264294916159,27.196508847750266,null,null,"SINvsPRIM_ANT"]
[68,"SPP Seguros",5438.3697299999994,76.913233549819225,0,6.2488379960873521,4.3212835447076117,6021.2349999999997,76.913233549819225,76038.130010000008,-2.7075382650598834,7.9187047330176705,3.601202622030407,null,null,"PartSIN_Merc_Act"]
[69,"Momento Seguros",38436.471559999998,377.8042861676127,0,49.805751342287699,37.526814243693117,13585.942369999999,377.8042861676127,22022.358989999997,494.3353576857632,61.691585248288618,80.655705569066313,null,null,"IncrSinRet"]
[70,"Quálitas Salud",65378.91154999999,100.89051642550824,0,132.5381492114187,212.73479805588883,45317.250409999993,100.89051642550824,88355.411909999995,99.293736987453187,51.289727963874753,57.656670400395036,null,null,"IncrDevengada"]
[71,"SPT",38978.43303,21.775994204484348,0,88.328238854012469,73.953851983615479,38978.43303,21.775994204484348,43659.373919999998,13.884219650078112,89.278497445755406,83.492744851406329,null,null,"SINvsPDEV_ACT"]
[72,"Banamex Pensiones",611948.50663000008,1.9965025353098742,0,6162.3830477267347,9013.1702201895387,611948.50662999996,1.9965025353098742,91601.066310000009,686.83215155898563,668.05827844734824,5153.6054622612746,null,null,"SINvsPDEV_ANT"]
[150.1,"TOTAL RESTO",90342994.165139973,14.798172199648207,226130.77512999999,55.079503099096272,54.358623474320986,67428255.016900018,14.798172199648207,71509221.787890017,21.331230899693377,94.293090221153676,104.09769204397547,null,null,"size_compania"]
[200,"Patria",0,0,0,0,0,5129395.5010900004,0,10599441.160420001,32.366700537820428,48.393074912703696,49.244008982310753,null,null,"anio_anterior"]
[201.1,"TOTAL",414187189.75592005,5.648581218564197,1707780.92056,53.77574590411183,57.106652293625714,367220422.69250995,5.648581218564197,464212700.2564702,14.149583025420863,79.106069801542802,84.070624540377722,null,null,"num_trimeste"]
[null,null,null,null,null,null,null,null,null,null,null,null,null,null,null,"fecha_carga"]
[null,null,null,null,null,null,null,null,null,null,null,null,null,null,null,"Ramo_"]
[null,null,null,null,null,null,null,null,null,null,null,null,null,null,null,"Jerarquia 2"]

{"sheet":"TD Operación","index":3,"n_rows":1616,"n_cols":4,"rows_kept":1616,"cut":false,"hidden":true,"merged":[]}
[null,null,"Ramo_","Suma de Prima_DirectaAct"]
[]
[]
[null,"periodo","2025-Q3"]
[]
[null,"nombre_compania","Ramo_","Suma de Prima_DirectaAct"]
[{"$f":"B7&\"|\"&C7","v":"Afirme|10 Total General"},"Afirme","10 Total General",5593472.9616599996]
[{"$f":"B8&\"|\"&C8","v":"Afirme|11 Total General Sin Pensiones"},"Afirme","11 Total General Sin Pensiones",5593472.9616599996]
["Afirme|12 Vida Total","Afirme","12 Vida Total",2234954.2395600001]
["Afirme|13 Vida Individual","Afirme","13 Vida Individual",1300322.1110699999]
["Afirme|14 Vida Gpo y Col","Afirme","14 Vida Gpo y Col",934632.12849000003]
["Afirme|38 Daños Total","Afirme","38 Daños Total",3358518.7220999999]
["Afirme|39 Automoviles Total","Afirme","39 Automoviles Total",1851896.33391]
["Afirme|41 Automoviles Residentes","Afirme","41 Automoviles Residentes",1165570.20631]
["Afirme|42 Camiones","Afirme","42 Camiones",603123.88176999998]
["Afirme|44 Otros Automoviles y Obligatorios","Afirme","44 Otros Automoviles y Obligatorios",83202.24583]
["Afirme|46 Daños Sin Autos Total","Afirme","46 Daños Sin Autos Total",1506622.3881899999]
["Afirme|46 Responsabilidad Civil y Riesgos Profesionales","Afirme","46 Responsabilidad Civil y Riesgos Profesionales",368223.18280000001]
["Afirme|47 RC General","Afirme","47 RC General",210521.75453999999]
["Afirme|48 RC Aviones y Barcos","Afirme","48 RC Aviones y Barcos",43420.663350000003]
["Afirme|49 RC Viajero","Afirme","49 RC Viajero",4010.9931800000004]
["Afirme|50 RC Otros","Afirme","50 RC Otros",110269.77173000001]
["Afirme|51 Maritimo y Transportes","Afirme","51 Maritimo y Transportes",118826.66415000001]
["Afirme|52 MyT Carga","Afirme","52 MyT Carga",58804.964770000006]
["Afirme|53 MyT Cascos","Afirme","53 MyT Cascos",60021.699380000005]
["Afirme|54 Incendio","Afirme","54 Incendio",353837.46577999997]
["Afirme|55 Riesgos Catastroficos","Afirme","55 Riesgos Catastroficos",323544.42904000002]
["Afirme|56 Terremoto y Erupcion Volcanica","Afirme","56 Terremoto y Erupcion Volcanica",116849.83003]
["Afirme|57 Huracan y Otros Riesgos Hidrometeorologicos","Afirme","57 Huracan y Otros Riesgos Hidrometeorologicos",206694.59900999998]
["Afirme|63 Diversos","Afirme","63 Diversos",342190.64642]
["Afirme|64 Miscelaneos","Afirme","64 Miscelaneos",156980.20908999999]
["Afirme|65 Tecnicos","Afirme","65 Tecnicos",185210.43733000002]
["Agroasemex|10 Total General","Agroasemex","10 Total General",13598277.13417]
["Agroasemex|11 Total General Sin Pensiones","Agroasemex","11 Total General Sin Pensiones",13598277.13417]
["Agroasemex|12 Vida Total","Agroasemex","12 Vida Total",423253.46970000002]
["Agroasemex|14 Vida Gpo y Col","Agroasemex","14 Vida Gpo y Col",423253.46970000002]
["Agroasemex|28 Accidentes y Enfermedades Total","Agroasemex","28 Accidentes y Enfermedades Total",0]
["Agroasemex|29 Accidentes Personales","Agroasemex","29 Accidentes Personales",0]
["Agroasemex|31 AP Gpo y Col","Agroasemex","31 AP Gpo y Col",0]
["Agroasemex|38 Daños Total","Agroasemex","38 Daños Total",13175023.66447]
["Agroasemex|46 Daños Sin Autos Total","Agroasemex","46 Daños Sin Autos Total",13175023.66447]
["Agroasemex|46 Responsabilidad Civil y Riesgos Profesionales","Agroasemex","46 Responsabilidad Civil y Riesgos Profesionales",1217044.9490699999]
["Agroasemex|47 RC General","Agroasemex","47 RC General",1125328.9198399999]
["Agroasemex|48 RC Aviones y Barcos","Agroasemex","48 RC Aviones y Barcos",72138.820760000002]
["Agroasemex|49 RC Viajero","Agroasemex","49 RC Viajero",18733.52245]
["Agroasemex|50 RC Otros","Agroasemex","50 RC Otros",843.68601999999998]
["Agroasemex|51 Maritimo y Transportes","Agroasemex","51 Maritimo y Transportes",1923264.8317400001]
["Agroasemex|52 MyT Carga","Agroasemex","52 MyT Carga",48471.67426]
["Agroasemex|53 MyT Cascos","Agroasemex","53 MyT Cascos",1874793.1574800001]
["Agroasemex|54 Incendio","Agroasemex","54 Incendio",2878785.68041]
["Agroasemex|55 Riesgos Catastroficos","Agroasemex","55 Riesgos Catastroficos",5922390.8790100003]
["Agroasemex|56 Terremoto y Erupcion Volcanica","Agroasemex","56 Terremoto y Erupcion Volcanica",1945339.3800299999]
["Agroasemex|57 Huracan y Otros Riesgos Hidrometeorologicos","Agroasemex","57 Huracan y Otros Riesgos Hidrometeorologicos",3977051.6550100003]
["Agroasemex|58 Otros Riesgos Catastroficos","Agroasemex","58 Otros Riesgos Catastroficos",-0.15603]
["Agroasemex|59 Agricola y de Animales","Agroasemex","59 Agricola y de Animales",97759.636440000002]
["Agroasemex|60 AyA Agricola","Agroasemex","60 AyA Agricola",583.97958999999992]
["Agroasemex|61 AyA Otros","Agroasemex","61 AyA Otros",0]
["Agroasemex|62 AyA Pecuario","Agroasemex","62 AyA Pecuario",97175.656849999999]
["Agroasemex|63 Diversos","Agroasemex","63 Diversos",1135777.6878]
["Agroasemex|64 Miscelaneos","Agroasemex","64 Miscelaneos",460619.97404]
["Agroasemex|65 Tecnicos","Agroasemex","65 Tecnicos",675157.71375999996]
["AIG Seguros|10 Total General","AIG Seguros","10 Total General",6300133.6551299999]
["AIG Seguros|11 Total General Sin Pensiones","AIG Seguros","11 Total General Sin Pensiones",6300133.6551299999]
["AIG Seguros|28 Accidentes y Enfermedades Total","AIG Seguros","28 Accidentes y Enfermedades Total",204303.85800000001]
["AIG Seguros|29 Accidentes Personales","AIG Seguros","29 Accidentes Personales",204303.85800000001]
["AIG Seguros|30 AP Individual","AIG Seguros","30 AP Individual",75091.724969999996]
["AIG Seguros|31 AP Gpo y Col","AIG Seguros","31 AP Gpo y Col",129212.13303]
["AIG Seguros|38 Daños Total","AIG Seguros","38 Daños Total",6095829.7971299998]
["AIG Seguros|39 Automoviles Total","AIG Seguros","39 Automoviles Total",496073.16876999999]
["AIG Seguros|41 Automoviles Residentes","AIG Seguros","41 Automoviles Residentes",361433.68012999999]
["AIG Seguros|42 Camiones","AIG Seguros","42 Camiones",56075.627209999999]
[{"$f":"B72&\"|\"&C72","v":"AIG Seguros|43 Automoviles Turistas"},"AIG Seguros","43 Automoviles Turistas",65797.895600000003]
["AIG Seguros|44 Otros Automoviles y Obligatorios","AIG Seguros","44 Otros Automoviles y Obligatorios",12765.965830000001]
["AIG Seguros|46 Daños Sin Autos Total","AIG Seguros","46 Daños Sin Autos Total",5599756.6283600004]
["AIG Seguros|46 Responsabilidad Civil y Riesgos Profesionales","AIG Seguros","46 Responsabilidad Civil y Riesgos Profesionales",1455154.2224900001]
["AIG Seguros|47 RC General","AIG Seguros","47 RC General",1454052.5146199998]
["AIG Seguros|48 RC Aviones y Barcos","AIG Seguros","48 RC Aviones y Barcos",1101.7078700000002]
["AIG Seguros|51 Maritimo y Transportes","AIG Seguros","51 Maritimo y Transportes",1029345.32802]
["AIG Seguros|52 MyT Carga","AIG Seguros","52 MyT Carga",1028421.89922]
["AIG Seguros|53 MyT Cascos","AIG Seguros","53 MyT Cascos",923.42880000000002]
["AIG Seguros|54 Incendio","AIG Seguros","54 Incendio",1559212.57626]
["AIG Seguros|55 Riesgos Catastroficos","AIG Seguros","55 Riesgos Catastroficos",998522.08042999997]
["AIG Seguros|56 Terremoto y Erupcion Volcanica","AIG Seguros","56 Terremoto y Erupcion Volcanica",465372.52643000003]
["AIG Seguros|57 Huracan y Otros Riesgos Hidrometeorologicos","AIG Seguros","57 Huracan y Otros Riesgos Hidrometeorologicos",533149.554]
["AIG Seguros|63 Diversos","AIG Seguros","63 Diversos",208727.95522999999]
["AIG Seguros|64 Miscelaneos","AIG Seguros","64 Miscelaneos",149427.94819999998]
["AIG Seguros|65 Tecnicos","AIG Seguros","65 Tecnicos",59300.007030000001]
["AIG Seguros|66 Credito","AIG Seguros","66 Credito",348794.46593000001]
["Allianz México|10 Total General","Allianz México","10 Total General",23235788.467980001]
["Allianz México|11 Total General Sin Pensiones","Allianz México","11 Total General Sin Pensiones",23235788.467980001]
["Allianz México|12 Vida Total","Allianz México","12 Vida Total",15054124.876110001]
["Allianz México|13 Vida Individual","Allianz México","13 Vida Individual",14894293.15855]
["Allianz México|14 Vida Gpo y Col","Allianz México","14 Vida Gpo y Col",159831.71755999999]
["Allianz México|28 Accidentes y Enfermedades Total","Allianz México","28 Accidentes y Enfermedades Total",2122471.5022899997]
["Allianz México|29 Accidentes Personales","Allianz México","29 Accidentes Personales",1156.5748799999999]
["Allianz México|30 AP Individual","Allianz México","30 AP Individual",0]
["Allianz México|31 AP Gpo y Col","Allianz México","31 AP Gpo y Col",1156.5748799999999]
["Allianz México|32 Gastos Medicos","Allianz México","32 Gastos Medicos",2121314.92741]
["Allianz México|33 GMM. Individual","Allianz México","33 GMM. Individual",1365696.3770899998]
["Allianz México|34 GMM. Gpo y Col","Allianz México","34 GMM. Gpo y Col",755618.55032000004]
["Allianz México|38 Daños Total","Allianz México","38 Daños Total",6059192.0895800004]
["Allianz México|39 Automoviles Total","Allianz México","39 Automoviles Total",325971.08502999996]
["Allianz México|41 Automoviles Residentes","Allianz México","41 Automoviles Residentes",325971.08502999996]
["Allianz México|42 Camiones","Allianz México","42 Camiones",0]
["Allianz México|46 Daños Sin Autos Total","Allianz México","46 Daños Sin Autos Total",5733221.0045499997]
["Allianz México|46 Responsabilidad Civil y Riesgos Profesionales","Allianz México","46 Responsabilidad Civil y Riesgos Profesionales",247783.92315000002]
["Allianz México|47 RC General","Allianz México","47 RC General",222742.80697000001]
["Allianz México|48 RC Aviones y Barcos","Allianz México","48 RC Aviones y Barcos",25041.116180000001]
["Allianz México|50 RC Otros","Allianz México","50 RC Otros",0]
["Allianz México|51 Maritimo y Transportes","Allianz México","51 Maritimo y Transportes",273796.45929000003]
["Allianz México|52 MyT Carga","Allianz México","52 MyT Carga",204331.33169999998]
["Allianz México|53 MyT Cascos","Allianz México","53 MyT Cascos",69465.127590000004]
["Allianz México|54 Incendio","Allianz México","54 Incendio",764490.44922000007]
["Allianz México|55 Riesgos Catastroficos","Allianz México","55 Riesgos Catastroficos",367712.60794000002]
["Allianz México|56 Terremoto y Erupcion Volcanica","Allianz México","56 Terremoto y Erupcion Volcanica",149194.22428999998]
["Allianz México|57 Huracan y Otros Riesgos Hidrometeorologicos","Allianz México","57 Huracan y Otros Riesgos Hidrometeorologicos",218518.38365]
["Allianz México|63 Diversos","Allianz México","63 Diversos",4079437.56495]
["Allianz México|64 Miscelaneos","Allianz México","64 Miscelaneos",56545.191330000001]
["Allianz México|65 Tecnicos","Allianz México","65 Tecnicos",4022892.3736199997]
["ANA|10 Total General","ANA","10 Total General",3347262.7841599998]
["ANA|11 Total General Sin Pensiones","ANA","11 Total General Sin Pensiones",3347262.7841599998]
["ANA|38 Daños Total","ANA","38 Daños Total",3347262.7841599998]
["ANA|39 Automoviles Total","ANA","39 Automoviles Total",3347262.7841599998]
["ANA|41 Automoviles Residentes","ANA","41 Automoviles Residentes",1589274.65613]
["ANA|42 Camiones","ANA","42 Camiones",1565318.3451099999]
["ANA|43 Automoviles Turistas","ANA","43 Automoviles Turistas",93559.787629999992]
["ANA|44 Otros Automoviles y Obligatorios","ANA","44 Otros Automoviles y Obligatorios",99109.995290000006]
["Assurant Vida|10 Total General","Assurant Vida","10 Total General",1204700.1433699999]
["Assurant Vida|11 Total General Sin Pensiones","Assurant Vida","11 Total General Sin Pensiones",1204700.1433699999]
["Assurant Vida|12 Vida Total","Assurant Vida","12 Vida Total",1204700.1433699999]
["Assurant Vida|14 Vida Gpo y Col","Assurant Vida","14 Vida Gpo y Col",1204700.1433699999]
["Atlas|10 Total General","Atlas","10 Total General",17981615.092089999]
["Atlas|11 Total General Sin Pensiones","Atlas","11 Total General Sin Pensiones",17981615.092089999]
["Atlas|12 Vida Total","Atlas","12 Vida Total",2615143.8208900001]
["Atlas|13 Vida Individual","Atlas","13 Vida Individual",846767.78018]
[{"$f":"B136&\"|\"&C136","v":"Atlas|14 Vida Gpo y Col"},"Atlas","14 Vida Gpo y Col",1768376.0407100001]
["Atlas|28 Accidentes y Enfermedades Total","Atlas","28 Accidentes y Enfermedades Total",5411126.1129999999]
["Atlas|29 Accidentes Personales","Atlas","29 Accidentes Personales",37005.397749999996]
["Atlas|30 AP Individual","Atlas","30 AP Individual",6274.06765]
["Atlas|31 AP Gpo y Col","Atlas","31 AP Gpo y Col",30731.330100000003]
["Atlas|32 Gastos Medicos","Atlas","32 Gastos Medicos",5374120.7152500004]
["Atlas|33 GMM. Individual","Atlas","33 GMM. Individual",1362071.3072899999]
["Atlas|34 GMM. Gpo y Col","Atlas","34 GMM. Gpo y Col",4012049.40796]
["Atlas|38 Daños Total","Atlas","38 Daños Total",9955345.1582000013]
["Atlas|39 Automoviles Total","Atlas","39 Automoviles Total",3826356.4551999997]
["Atlas|41 Automoviles Residentes","Atlas","41 Automoviles Residentes",2381116.1254499997]
["Atlas|42 Camiones","Atlas","42 Camiones",1365752.7055200001]
["Atlas|43 Automoviles Turistas","Atlas","43 Automoviles Turistas",735.74403000000007]
["Atlas|44 Otros Automoviles y Obligatorios","Atlas","44 Otros Automoviles y Obligatorios",78751.8802]
["Atlas|46 Daños Sin Autos Total","Atlas","46 Daños Sin Autos Total",6128988.7029999997]
["Atlas|46 Responsabilidad Civil y Riesgos Profesionales","Atlas","46 Responsabilidad Civil y Riesgos Profesionales",739629.88744000008]
["Atlas|47 RC General","Atlas","47 RC General",496825.30779000005]
["Atlas|48 RC Aviones y Barcos","Atlas","48 RC Aviones y Barcos",237910.09871000002]
["Atlas|49 RC Viajero","Atlas","49 RC Viajero",4894.4809400000004]
["Atlas|51 Maritimo y Transportes","Atlas","51 Maritimo y Transportes",999674.02654999995]
["Atlas|52 MyT Carga","Atlas","52 MyT Carga",478060.98268999998]
["Atlas|53 MyT Cascos","Atlas","53 MyT Cascos",521613.04386000003]
["Atlas|54 Incendio","Atlas","54 Incendio",1119138.7653699999]
["Atlas|55 Riesgos Catastroficos","Atlas","55 Riesgos Catastroficos",1917605.4173099999]
["Atlas|56 Terremoto y Erupcion Volcanica","Atlas","56 Terremoto y Erupcion Volcanica",505177.34088999999]
["Atlas|57 Huracan y Otros Riesgos Hidrometeorologicos","Atlas","57 Huracan y Otros Riesgos Hidrometeorologicos",1412428.0764200001]
["Atlas|63 Diversos","Atlas","63 Diversos",1352940.6063299999]
["Atlas|64 Miscelaneos","Atlas","64 Miscelaneos",444497.1764]
["Atlas|65 Tecnicos","Atlas","65 Tecnicos",908443.42992999998]
["Atradius|10 Total General","Atradius","10 Total General",678248.51098000002]
["Atradius|11 Total General Sin Pensiones","Atradius","11 Total General Sin Pensiones",678248.51098000002]
["Atradius|38 Daños Total","Atradius","38 Daños Total",678248.51098000002]
["Atradius|46 Daños Sin Autos Total","Atradius","46 Daños Sin Autos Total",678248.51098000002]
["Atradius|66 Credito","Atradius","66 Credito",678248.51098000002]
["AXA Salud|10 Total General","AXA Salud","10 Total General",736798.96127999993]
["AXA Salud|11 Total General Sin Pensiones","AXA Salud","11 Total General Sin Pensiones",736798.96127999993]
["AXA Salud|28 Accidentes y Enfermedades Total","AXA Salud","28 Accidentes y Enfermedades Total",736798.96127999993]
["AXA Salud|35 Salud","AXA Salud","35 Salud",736798.96127999993]
["AXA Salud|36 Salud Individual","AXA Salud","36 Salud Individual",60906.585020000006]
["AXA Salud|37 Salud Gpo y Col","AXA Salud","37 Salud Gpo y Col",675892.37626000005]
["AXA Seguros|10 Total General","AXA Seguros","10 Total General",50222142.308260001]
["AXA Seguros|11 Total General Sin Pensiones","AXA Seguros","11 Total General Sin Pensiones",50222142.308260001]
["AXA Seguros|12 Vida Total","AXA Seguros","12 Vida Total",5107757.6365299998]
["AXA Seguros|13 Vida Individual","AXA Seguros","13 Vida Individual",3317474.0754]
["AXA Seguros|14 Vida Gpo y Col","AXA Seguros","14 Vida Gpo y Col",1790283.5611299998]
["AXA Seguros|28 Accidentes y Enfermedades Total","AXA Seguros","28 Accidentes y Enfermedades Total",23239642.588380001]
["AXA Seguros|29 Accidentes Personales","AXA Seguros","29 Accidentes Personales",218239.47836000001]
["AXA Seguros|30 AP Individual","AXA Seguros","30 AP Individual",144468.38783000002]
["AXA Seguros|31 AP Gpo y Col","AXA Seguros","31 AP Gpo y Col",73771.090530000001]
["AXA Seguros|32 Gastos Medicos","AXA Seguros","32 Gastos Medicos",23021403.11002]
["AXA Seguros|33 GMM. Individual","AXA Seguros","33 GMM. Individual",13967230.087709999]
["AXA Seguros|34 GMM. Gpo y Col","AXA Seguros","34 GMM. Gpo y Col",9054173.0223099999]
["AXA Seguros|38 Daños Total","AXA Seguros","38 Daños Total",21874742.083349999]
["AXA Seguros|39 Automoviles Total","AXA Seguros","39 Automoviles Total",11713378.541309999]
["AXA Seguros|41 Automoviles Residentes","AXA Seguros","41 Automoviles Residentes",7231715.7854700005]
["AXA Seguros|42 Camiones","AXA Seguros","42 Camiones",4422351.7145699998]
["AXA Seguros|43 Automoviles Turistas","AXA Seguros","43 Automoviles Turistas",38829.511030000001]
["AXA Seguros|44 Otros Automoviles y Obligatorios","AXA Seguros","44 Otros Automoviles y Obligatorios",20481.53024]
["AXA Seguros|46 Daños Sin Autos Total","AXA Seguros","46 Daños Sin Autos Total",10161363.54204]
["AXA Seguros|46 Responsabilidad Civil y Riesgos Profesionales","AXA Seguros","46 Responsabilidad Civil y Riesgos Profesionales",977902.77234999998]
["AXA Seguros|47 RC General","AXA Seguros","47 RC General",596428.68369000009]
["AXA Seguros|48 RC Aviones y Barcos","AXA Seguros","48 RC Aviones y Barcos",63345.191859999999]
["AXA Seguros|49 RC Viajero","AXA Seguros","49 RC Viajero",151897.58955999999]
["AXA Seguros|50 RC Otros","AXA Seguros","50 RC Otros",166231.30724000002]
[{"$f":"B200&\"|\"&C200","v":"AXA Seguros|51 Maritimo y Transportes"},"AXA Seguros","51 Maritimo y Transportes",904408.19463000004]
["AXA Seguros|52 MyT Carga","AXA Seguros","52 MyT Carga",762968.06897000002]
["AXA Seguros|53 MyT Cascos","AXA Seguros","53 MyT Cascos",141440.12565999999]
["AXA Seguros|54 Incendio","AXA Seguros","54 Incendio",2155464.60231]
["AXA Seguros|55 Riesgos Catastroficos","AXA Seguros","55 Riesgos Catastroficos",4141256.7771399999]
["AXA Seguros|56 Terremoto y Erupcion Volcanica","AXA Seguros","56 Terremoto y Erupcion Volcanica",1122187.0581199999]
["AXA Seguros|57 Huracan y Otros Riesgos Hidrometeorologicos","AXA Seguros","57 Huracan y Otros Riesgos Hidrometeorologicos",3019069.7190200002]
["AXA Seguros|58 Otros Riesgos Catastroficos","AXA Seguros","58 Otros Riesgos Catastroficos",0]
["AXA Seguros|63 Diversos","AXA Seguros","63 Diversos",1982331.1956099998]
["AXA Seguros|64 Miscelaneos","AXA Seguros","64 Miscelaneos",1048221.27341]
["AXA Seguros|65 Tecnicos","AXA Seguros","65 Tecnicos",934109.92220000003]
["Banorte|10 Total General","Banorte","10 Total General",45159030.643440001]
["Banorte|11 Total General Sin Pensiones","Banorte","11 Total General Sin Pensiones",45159030.643440001]
["Banorte|12 Vida Total","Banorte","12 Vida Total",29563865.442110002]
["Banorte|13 Vida Individual","Banorte","13 Vida Individual",19734298.331220001]
["Banorte|14 Vida Gpo y Col","Banorte","14 Vida Gpo y Col",9829567.1108899992]
["Banorte|28 Accidentes y Enfermedades Total","Banorte","28 Accidentes y Enfermedades Total",2467716.4153400003]
["Banorte|29 Accidentes Personales","Banorte","29 Accidentes Personales",139536.79015000002]
["Banorte|30 AP Individual","Banorte","30 AP Individual",95237.843840000001]
["Banorte|31 AP Gpo y Col","Banorte","31 AP Gpo y Col",44298.946309999999]
["Banorte|32 Gastos Medicos","Banorte","32 Gastos Medicos",2328179.62519]
["Banorte|33 GMM. Individual","Banorte","33 GMM. Individual",579263.89187000005]
["Banorte|34 GMM. Gpo y Col","Banorte","34 GMM. Gpo y Col",1748915.7333199999]
["Banorte|38 Daños Total","Banorte","38 Daños Total",13127448.78599]
["Banorte|39 Automoviles Total","Banorte","39 Automoviles Total",6944588.9035200002]
["Banorte|41 Automoviles Residentes","Banorte","41 Automoviles Residentes",5003498.9887100002]
["Banorte|42 Camiones","Banorte","42 Camiones",1941089.91481]
["Banorte|43 Automoviles Turistas","Banorte","43 Automoviles Turistas",0]
["Banorte|46 Daños Sin Autos Total","Banorte","46 Daños Sin Autos Total",6182859.8824699996]
["Banorte|46 Responsabilidad Civil y Riesgos Profesionales","Banorte","46 Responsabilidad Civil y Riesgos Profesionales",363741.69618000003]
["Banorte|47 RC General","Banorte","47 RC General",291775.13341000001]
["Banorte|48 RC Aviones y Barcos","Banorte","48 RC Aviones y Barcos",7274.9152400000003]
["Banorte|49 RC Viajero","Banorte","49 RC Viajero",64691.647530000002]
["Banorte|51 Maritimo y Transportes","Banorte","51 Maritimo y Transportes",713377.60101999994]
["Banorte|52 MyT Carga","Banorte","52 MyT Carga",693979.42583000008]
["Banorte|53 MyT Cascos","Banorte","53 MyT Cascos",19398.175190000002]
["Banorte|54 Incendio","Banorte","54 Incendio",1938031.7991099998]
["Banorte|55 Riesgos Catastroficos","Banorte","55 Riesgos Catastroficos",1659327.9166600001]
["Banorte|56 Terremoto y Erupcion Volcanica","Banorte","56 Terremoto y Erupcion Volcanica",518509.35586000001]
["Banorte|57 Huracan y Otros Riesgos Hidrometeorologicos","Banorte","57 Huracan y Otros Riesgos Hidrometeorologicos",1140818.5607999999]
["Banorte|59 Agricola y de Animales","Banorte","59 Agricola y de Animales",19240.7343]
["Banorte|60 AyA Agricola","Banorte","60 AyA Agricola",19240.7343]
["Banorte|63 Diversos","Banorte","63 Diversos",1489140.1352000001]
["Banorte|64 Miscelaneos","Banorte","64 Miscelaneos",768797.06737000006]
["Banorte|65 Tecnicos","Banorte","65 Tecnicos",720343.06783000007]
["Berkley Seguros|10 Total General","Berkley Seguros","10 Total General",791062.99773000006]
["Berkley Seguros|11 Total General Sin Pensiones","Berkley Seguros","11 Total General Sin Pensiones",791062.99773000006]
["Berkley Seguros|38 Daños Total","Berkley Seguros","38 Daños Total",791062.99773000006]
["Berkley Seguros|46 Daños Sin Autos Total","Berkley Seguros","46 Daños Sin Autos Total",791062.99772999994]
["Berkley Seguros|46 Responsabilidad Civil y Riesgos Profesionales","Berkley Seguros","46 Responsabilidad Civil y Riesgos Profesionales",240768.45349000001]
["Berkley Seguros|47 RC General","Berkley Seguros","47 RC General",180050.26144999999]
["Berkley Seguros|50 RC Otros","Berkley Seguros","50 RC Otros",60718.192040000002]
["Berkley Seguros|51 Maritimo y Transportes","Berkley Seguros","51 Maritimo y Transportes",281422.99210000003]
["Berkley Seguros|52 MyT Carga","Berkley Seguros","52 MyT Carga",281422.99210000003]
["Berkley Seguros|54 Incendio","Berkley Seguros","54 Incendio",25947.773140000001]
["Berkley Seguros|55 Riesgos Catastroficos","Berkley Seguros","55 Riesgos Catastroficos",28033.97091]
["Berkley Seguros|56 Terremoto y Erupcion Volcanica","Berkley Seguros","56 Terremoto y Erupcion Volcanica",21965.73198]
["Berkley Seguros|57 Huracan y Otros Riesgos Hidrometeorologicos","Berkley Seguros","57 Huracan y Otros Riesgos Hidrometeorologicos",6068.2389299999995]
["Berkley Seguros|63 Diversos","Berkley Seguros","63 Diversos",214889.80809000001]
["Berkley Seguros|64 Miscelaneos","Berkley Seguros","64 Miscelaneos",33617.713280000004]
["Berkley Seguros|65 Tecnicos","Berkley Seguros","65 Tecnicos",181272.09481000001]
["BUPA México|10 Total General","BUPA México","10 Total General",4375142.85659]
["BUPA México|11 Total General Sin Pensiones","BUPA México","11 Total General Sin Pensiones",4375142.85659]
["BUPA México|28 Accidentes y Enfermedades Total","BUPA México","28 Accidentes y Enfermedades Total",4375142.85659]
[{"$f":"B264&\"|\"&C264","v":"BUPA México|32 Gastos Medicos"},"BUPA México","32 Gastos Medicos",4375134.6574900001]
["BUPA México|33 GMM. Individual","BUPA México","33 GMM. Individual",3603427.7228399999]
["BUPA México|34 GMM. Gpo y Col","BUPA México","34 GMM. Gpo y Col",771706.93464999995]
["BUPA México|35 Salud","BUPA México","35 Salud",8.1990999999999996]
["BUPA México|36 Salud Individual","BUPA México","36 Salud Individual",8.1990999999999996]
["Cardif Seguros Generales|10 Total General","Cardif Seguros Generales","10 Total General",2456286.8917]
["Cardif Seguros Generales|11 Total General Sin Pensiones","Cardif Seguros Generales","11 Total General Sin Pensiones",2456286.8917]
["Cardif Seguros Generales|38 Daños Total","Cardif Seguros Generales","38 Daños Total",2456286.8917]
["Cardif Seguros Generales|39 Automoviles Total","Cardif Seguros Generales","39 Automoviles Total",848487.86696000001]
["Cardif Seguros Generales|44 Otros Automoviles y Obligatorios","Cardif Seguros Generales","44 Otros Automoviles y Obligatorios",848487.86696000001]
["Cardif Seguros Generales|46 Daños Sin Autos Total","Cardif Seguros Generales","46 Daños Sin Autos Total",1607799.0247399998]
["Cardif Seguros Generales|46 Responsabilidad Civil y Riesgos Profesionales","Cardif Seguros Generales","46 Responsabilidad Civil y Riesgos Profesionales",2632.5455499999998]
["Cardif Seguros Generales|47 RC General","Cardif Seguros Generales","47 RC General",2632.5455499999998]
["Cardif Seguros Generales|54 Incendio","Cardif Seguros Generales","54 Incendio",44365.527329999997]
["Cardif Seguros Generales|55 Riesgos Catastroficos","Cardif Seguros Generales","55 Riesgos Catastroficos",335648.40164999996]
["Cardif Seguros Generales|56 Terremoto y Erupcion Volcanica","Cardif Seguros Generales","56 Terremoto y Erupcion Volcanica",288237.88043000002]
["Cardif Seguros Generales|57 Huracan y Otros Riesgos Hidrometeorologicos","Cardif Seguros Generales","57 Huracan y Otros Riesgos Hidrometeorologicos",47410.521220000002]
["Cardif Seguros Generales|63 Diversos","Cardif Seguros Generales","63 Diversos",1225152.55021]
["Cardif Seguros Generales|64 Miscelaneos","Cardif Seguros Generales","64 Miscelaneos",1205741.52079]
["Cardif Seguros Generales|65 Tecnicos","Cardif Seguros Generales","65 Tecnicos",19411.029420000003]
["Cardif Vida|10 Total General","Cardif Vida","10 Total General",3667211.9566700002]
["Cardif Vida|11 Total General Sin Pensiones","Cardif Vida","11 Total General Sin Pensiones",3667211.9566700002]
["Cardif Vida|12 Vida Total","Cardif Vida","12 Vida Total",3609583.8855500002]
["Cardif Vida|13 Vida Individual","Cardif Vida","13 Vida Individual",204738.42225]
["Cardif Vida|14 Vida Gpo y Col","Cardif Vida","14 Vida Gpo y Col",3404845.4633000004]
["Cardif Vida|28 Accidentes y Enfermedades Total","Cardif Vida","28 Accidentes y Enfermedades Total",57628.071120000001]
["Cardif Vida|29 Accidentes Personales","Cardif Vida","29 Accidentes Personales",40858.307070000003]
["Cardif Vida|30 AP Individual","Cardif Vida","30 AP Individual",32089.588480000002]
["Cardif Vida|31 AP Gpo y Col","Cardif Vida","31 AP Gpo y Col",8768.7185900000004]
["Cardif Vida|32 Gastos Medicos","Cardif Vida","32 Gastos Medicos",16769.764050000002]
["Cardif Vida|33 GMM. Individual","Cardif Vida","33 GMM. Individual",16006.85139]
["Cardif Vida|34 GMM. Gpo y Col","Cardif Vida","34 GMM. Gpo y Col",762.91266000000007]
["Chubb Seguros México|10 Total General","Chubb Seguros México","10 Total General",24127131.326069999]
["Chubb Seguros México|11 Total General Sin Pensiones","Chubb Seguros México","11 Total General Sin Pensiones",24127131.326069999]
["Chubb Seguros México|12 Vida Total","Chubb Seguros México","12 Vida Total",917106.39815999998]
["Chubb Seguros México|13 Vida Individual","Chubb Seguros México","13 Vida Individual",149186.73197999998]
["Chubb Seguros México|14 Vida Gpo y Col","Chubb Seguros México","14 Vida Gpo y Col",767919.66617999994]
["Chubb Seguros México|28 Accidentes y Enfermedades Total","Chubb Seguros México","28 Accidentes y Enfermedades Total",1414828.5269200001]
["Chubb Seguros México|29 Accidentes Personales","Chubb Seguros México","29 Accidentes Personales",1068024.1460599999]
["Chubb Seguros México|30 AP Individual","Chubb Seguros México","30 AP Individual",641994.32507000002]
["Chubb Seguros México|31 AP Gpo y Col","Chubb Seguros México","31 AP Gpo y Col",426029.82099000004]
["Chubb Seguros México|32 Gastos Medicos","Chubb Seguros México","32 Gastos Medicos",346804.38086000003]
["Chubb Seguros México|33 GMM. Individual","Chubb Seguros México","33 GMM. Individual",339749.06949999998]
["Chubb Seguros México|34 GMM. Gpo y Col","Chubb Seguros México","34 GMM. Gpo y Col",7055.3113600000006]
["Chubb Seguros México|38 Daños Total","Chubb Seguros México","38 Daños Total",21795196.400990002]
["Chubb Seguros México|39 Automoviles Total","Chubb Seguros México","39 Automoviles Total",15062422.19067]
["Chubb Seguros México|41 Automoviles Residentes","Chubb Seguros México","41 Automoviles Residentes",10470084.631170001]
["Chubb Seguros México|42 Camiones","Chubb Seguros México","42 Camiones",4010123.6929000001]
["Chubb Seguros México|43 Automoviles Turistas","Chubb Seguros México","43 Automoviles Turistas",582213.86660000007]
["Chubb Seguros México|44 Otros Automoviles y Obligatorios","Chubb Seguros México","44 Otros Automoviles y Obligatorios",0]
["Chubb Seguros México|46 Daños Sin Autos Total","Chubb Seguros México","46 Daños Sin Autos Total",6732774.2103199996]
["Chubb Seguros México|46 Responsabilidad Civil y Riesgos Profesionales","Chubb Seguros México","46 Responsabilidad Civil y Riesgos Profesionales",1578080.7199000001]
["Chubb Seguros México|47 RC General","Chubb Seguros México","47 RC General",1569187.5168399999]
["Chubb Seguros México|48 RC Aviones y Barcos","Chubb Seguros México","48 RC Aviones y Barcos",5.6904300000000001]
["Chubb Seguros México|49 RC Viajero","Chubb Seguros México","49 RC Viajero",8887.5126300000011]
["Chubb Seguros México|50 RC Otros","Chubb Seguros México","50 RC Otros",0]
["Chubb Seguros México|51 Maritimo y Transportes","Chubb Seguros México","51 Maritimo y Transportes",1372328.5925100001]
["Chubb Seguros México|52 MyT Carga","Chubb Seguros México","52 MyT Carga",1342994.15897]
["Chubb Seguros México|53 MyT Cascos","Chubb Seguros México","53 MyT Cascos",29334.433539999998]
["Chubb Seguros México|54 Incendio","Chubb Seguros México","54 Incendio",1170849.9036300001]
["Chubb Seguros México|55 Riesgos Catastroficos","Chubb Seguros México","55 Riesgos Catastroficos",1381512.1562300001]
["Chubb Seguros México|56 Terremoto y Erupcion Volcanica","Chubb Seguros México","56 Terremoto y Erupcion Volcanica",645156.6618]
["Chubb Seguros México|57 Huracan y Otros Riesgos Hidrometeorologicos","Chubb Seguros México","57 Huracan y Otros Riesgos Hidrometeorologicos",736355.49442999996]
["Chubb Seguros México|63 Diversos","Chubb Seguros México","63 Diversos",1230002.8380499999]
[{"$f":"B328&\"|\"&C328","v":"Chubb Seguros México|64 Miscelaneos"},"Chubb Seguros México","64 Miscelaneos",714778.63332000002]
["Chubb Seguros México|65 Tecnicos","Chubb Seguros México","65 Tecnicos",515224.20473]
["Coface|10 Total General","Coface","10 Total General",291154.41632999998]
["Coface|11 Total General Sin Pensiones","Coface","11 Total General Sin Pensiones",291154.41632999998]
["Coface|38 Daños Total","Coface","38 Daños Total",291154.41632999998]
["Coface|46 Daños Sin Autos Total","Coface","46 Daños Sin Autos Total",291154.41632999998]
["Coface|66 Credito","Coface","66 Credito",291154.41632999998]
["Crabi|10 Total General","Crabi","10 Total General",278462.23986000003]
["Crabi|11 Total General Sin Pensiones","Crabi","11 Total General Sin Pensiones",278462.23986000003]
["Crabi|38 Daños Total","Crabi","38 Daños Total",278462.23986000003]
["Crabi|39 Automoviles Total","Crabi","39 Automoviles Total",278462.23986000003]
["Crabi|41 Automoviles Residentes","Crabi","41 Automoviles Residentes",278462.23986000003]
["El Águila|10 Total General","El Águila","10 Total General",1354763.1550999999]
["El Águila|11 Total General Sin Pensiones","El Águila","11 Total General Sin Pensiones",1354763.1550999999]
["El Águila|38 Daños Total","El Águila","38 Daños Total",1354763.1550999999]
["El Águila|39 Automoviles Total","El Águila","39 Automoviles Total",724975.14052000002]
["El Águila|41 Automoviles Residentes","El Águila","41 Automoviles Residentes",697155.93738999998]
["El Águila|43 Automoviles Turistas","El Águila","43 Automoviles Turistas",27819.203129999998]
["El Águila|46 Daños Sin Autos Total","El Águila","46 Daños Sin Autos Total",629788.01457999996]
["El Águila|46 Responsabilidad Civil y Riesgos Profesionales","El Águila","46 Responsabilidad Civil y Riesgos Profesionales",74625.491170000008]
["El Águila|47 RC General","El Águila","47 RC General",49578.834699999999]
["El Águila|48 RC Aviones y Barcos","El Águila","48 RC Aviones y Barcos",25046.656469999998]
["El Águila|51 Maritimo y Transportes","El Águila","51 Maritimo y Transportes",53024.44124]
["El Águila|52 MyT Carga","El Águila","52 MyT Carga",39909.474719999998]
["El Águila|53 MyT Cascos","El Águila","53 MyT Cascos",13114.96652]
["El Águila|54 Incendio","El Águila","54 Incendio",162794.03609000001]
["El Águila|55 Riesgos Catastroficos","El Águila","55 Riesgos Catastroficos",219600.46544]
["El Águila|56 Terremoto y Erupcion Volcanica","El Águila","56 Terremoto y Erupcion Volcanica",71269.011530000003]
["El Águila|57 Huracan y Otros Riesgos Hidrometeorologicos","El Águila","57 Huracan y Otros Riesgos Hidrometeorologicos",148331.45390999998]
["El Águila|63 Diversos","El Águila","63 Diversos",119743.58064]
["El Águila|64 Miscelaneos","El Águila","64 Miscelaneos",33510.231]
["El Águila|65 Tecnicos","El Águila","65 Tecnicos",86233.34964]
["El Potosí|10 Total General","El Potosí","10 Total General",2435676.4140999997]
["El Potosí|11 Total General Sin Pensiones","El Potosí","11 Total General Sin Pensiones",2435676.4140999997]
["El Potosí|12 Vida Total","El Potosí","12 Vida Total",383626.22360000003]
["El Potosí|13 Vida Individual","El Potosí","13 Vida Individual",72257.320619999999]
["El Potosí|14 Vida Gpo y Col","El Potosí","14 Vida Gpo y Col",311368.90298000001]
["El Potosí|28 Accidentes y Enfermedades Total","El Potosí","28 Accidentes y Enfermedades Total",59342.224259999995]
["El Potosí|29 Accidentes Personales","El Potosí","29 Accidentes Personales",59342.224259999995]
["El Potosí|30 AP Individual","El Potosí","30 AP Individual",22879.357190000002]
["El Potosí|31 AP Gpo y Col","El Potosí","31 AP Gpo y Col",36462.86707]
["El Potosí|38 Daños Total","El Potosí","38 Daños Total",1992707.96624]
["El Potosí|39 Automoviles Total","El Potosí","39 Automoviles Total",1437589.4380099999]
["El Potosí|41 Automoviles Residentes","El Potosí","41 Automoviles Residentes",674069.23634000006]
["El Potosí|42 Camiones","El Potosí","42 Camiones",750514.80228999991]
["El Potosí|43 Automoviles Turistas","El Potosí","43 Automoviles Turistas",13005.399380000001]
["El Potosí|46 Daños Sin Autos Total","El Potosí","46 Daños Sin Autos Total",555118.52822999994]
["El Potosí|46 Responsabilidad Civil y Riesgos Profesionales","El Potosí","46 Responsabilidad Civil y Riesgos Profesionales",98259.504889999997]
["El Potosí|47 RC General","El Potosí","47 RC General",79197.87715]
["El Potosí|48 RC Aviones y Barcos","El Potosí","48 RC Aviones y Barcos",7845.8870499999994]
["El Potosí|49 RC Viajero","El Potosí","49 RC Viajero",11215.740689999999]
["El Potosí|51 Maritimo y Transportes","El Potosí","51 Maritimo y Transportes",114531.72027999999]
["El Potosí|52 MyT Carga","El Potosí","52 MyT Carga",84680.052810000008]
["El Potosí|53 MyT Cascos","El Potosí","53 MyT Cascos",29851.66747]
["El Potosí|54 Incendio","El Potosí","54 Incendio",96460.627519999995]
["El Potosí|55 Riesgos Catastroficos","El Potosí","55 Riesgos Catastroficos",112034.57638]
["El Potosí|56 Terremoto y Erupcion Volcanica","El Potosí","56 Terremoto y Erupcion Volcanica",38442.667930000003]
["El Potosí|57 Huracan y Otros Riesgos Hidrometeorologicos","El Potosí","57 Huracan y Otros Riesgos Hidrometeorologicos",73591.908450000003]
["El Potosí|63 Diversos","El Potosí","63 Diversos",133832.09915999998]
["El Potosí|64 Miscelaneos","El Potosí","64 Miscelaneos",38059.003979999994]
["El Potosí|65 Tecnicos","El Potosí","65 Tecnicos",95773.095180000004]
["FM Global|10 Total General","FM Global","10 Total General",3623624.7246500002]
["FM Global|11 Total General Sin Pensiones","FM Global","11 Total General Sin Pensiones",3623624.7246500002]
["FM Global|38 Daños Total","FM Global","38 Daños Total",3623624.7246500002]
[{"$f":"B392&\"|\"&C392","v":"FM Global|46 Daños Sin Autos Total"},"FM Global","46 Daños Sin Autos Total",3623624.7246500002]
["FM Global|51 Maritimo y Transportes","FM Global","51 Maritimo y Transportes",3613.9360799999999]
["FM Global|52 MyT Carga","FM Global","52 MyT Carga",3613.9360799999999]
["FM Global|54 Incendio","FM Global","54 Incendio",1838060.04186]
["FM Global|55 Riesgos Catastroficos","FM Global","55 Riesgos Catastroficos",867769.63049999997]
["FM Global|56 Terremoto y Erupcion Volcanica","FM Global","56 Terremoto y Erupcion Volcanica",694218.70475000003]
["FM Global|57 Huracan y Otros Riesgos Hidrometeorologicos","FM Global","57 Huracan y Otros Riesgos Hidrometeorologicos",173550.92574999999]
["FM Global|63 Diversos","FM Global","63 Diversos",914181.11621000001]
["FM Global|64 Miscelaneos","FM Global","64 Miscelaneos",512202.98525999999]
["FM Global|65 Tecnicos","FM Global","65 Tecnicos",401978.13094999996]
["G.N.P.|10 Total General","G.N.P.","10 Total General",95200080.783360004]
["G.N.P.|11 Total General Sin Pensiones","G.N.P.","11 Total General Sin Pensiones",95200080.783360004]
["G.N.P.|12 Vida Total","G.N.P.","12 Vida Total",30445615.764770001]
["G.N.P.|13 Vida Individual","G.N.P.","13 Vida Individual",25281929.663479999]
["G.N.P.|14 Vida Gpo y Col","G.N.P.","14 Vida Gpo y Col",5163686.1012899997]
["G.N.P.|28 Accidentes y Enfermedades Total","G.N.P.","28 Accidentes y Enfermedades Total",36476629.061489999]
["G.N.P.|29 Accidentes Personales","G.N.P.","29 Accidentes Personales",213150.12055000002]
["G.N.P.|30 AP Individual","G.N.P.","30 AP Individual",9321.6690600000002]
["G.N.P.|31 AP Gpo y Col","G.N.P.","31 AP Gpo y Col",203828.45149000001]
["G.N.P.|32 Gastos Medicos","G.N.P.","32 Gastos Medicos",36263478.94094]
["G.N.P.|33 GMM. Individual","G.N.P.","33 GMM. Individual",19878539.760400001]
["G.N.P.|34 GMM. Gpo y Col","G.N.P.","34 GMM. Gpo y Col",16384939.180540001]
["G.N.P.|38 Daños Total","G.N.P.","38 Daños Total",28277835.9571]
["G.N.P.|39 Automoviles Total","G.N.P.","39 Automoviles Total",23457291.307360001]
["G.N.P.|41 Automoviles Residentes","G.N.P.","41 Automoviles Residentes",15444788.756290002]
["G.N.P.|42 Camiones","G.N.P.","42 Camiones",5655250.4173599994]
["G.N.P.|43 Automoviles Turistas","G.N.P.","43 Automoviles Turistas",96362.800239999997]
["G.N.P.|44 Otros Automoviles y Obligatorios","G.N.P.","44 Otros Automoviles y Obligatorios",2260889.33347]
["G.N.P.|46 Daños Sin Autos Total","G.N.P.","46 Daños Sin Autos Total",4820544.6497400003]
["G.N.P.|46 Responsabilidad Civil y Riesgos Profesionales","G.N.P.","46 Responsabilidad Civil y Riesgos Profesionales",800559.60157000006]
["G.N.P.|47 RC General","G.N.P.","47 RC General",775569.73228]
["G.N.P.|48 RC Aviones y Barcos","G.N.P.","48 RC Aviones y Barcos",17678.00073]
["G.N.P.|49 RC Viajero","G.N.P.","49 RC Viajero",7311.8685599999999]
["G.N.P.|51 Maritimo y Transportes","G.N.P.","51 Maritimo y Transportes",539789.69822999998]
["G.N.P.|52 MyT Carga","G.N.P.","52 MyT Carga",472930.33895]
["G.N.P.|53 MyT Cascos","G.N.P.","53 MyT Cascos",66859.359280000004]
["G.N.P.|54 Incendio","G.N.P.","54 Incendio",922066.89832000004]
["G.N.P.|55 Riesgos Catastroficos","G.N.P.","55 Riesgos Catastroficos",1396177.45652]
["G.N.P.|56 Terremoto y Erupcion Volcanica","G.N.P.","56 Terremoto y Erupcion Volcanica",607684.15697999997]
["G.N.P.|57 Huracan y Otros Riesgos Hidrometeorologicos","G.N.P.","57 Huracan y Otros Riesgos Hidrometeorologicos",788493.29953999992]
["G.N.P.|59 Agricola y de Animales","G.N.P.","59 Agricola y de Animales",2845.0132999999996]
["G.N.P.|60 AyA Agricola","G.N.P.","60 AyA Agricola",2845.0132999999996]
["G.N.P.|63 Diversos","G.N.P.","63 Diversos",1159105.9818]
["G.N.P.|64 Miscelaneos","G.N.P.","64 Miscelaneos",457417.07913999999]
["G.N.P.|65 Tecnicos","G.N.P.","65 Tecnicos",701688.90266000002]
["General de Salud|10 Total General","General de Salud","10 Total General",463598.83335000003]
["General de Salud|11 Total General Sin Pensiones","General de Salud","11 Total General Sin Pensiones",463598.83335000003]
["General de Salud|28 Accidentes y Enfermedades Total","General de Salud","28 Accidentes y Enfermedades Total",463598.83335000003]
["General de Salud|32 Gastos Medicos","General de Salud","32 Gastos Medicos",2277.6200299999996]
["General de Salud|33 GMM. Individual","General de Salud","33 GMM. Individual",1805.0414099999998]
["General de Salud|34 GMM. Gpo y Col","General de Salud","34 GMM. Gpo y Col",472.57862]
["General de Salud|35 Salud","General de Salud","35 Salud",461321.21331999998]
["General de Salud|36 Salud Individual","General de Salud","36 Salud Individual",69497.924870000003]
["General de Salud|37 Salud Gpo y Col","General de Salud","37 Salud Gpo y Col",391823.28844999999]
["General de Seguros|10 Total General","General de Seguros","10 Total General",2630736.9253099998]
["General de Seguros|11 Total General Sin Pensiones","General de Seguros","11 Total General Sin Pensiones",2630736.9253099998]
["General de Seguros|12 Vida Total","General de Seguros","12 Vida Total",518961.64506000001]
["General de Seguros|13 Vida Individual","General de Seguros","13 Vida Individual",81521.361540000013]
["General de Seguros|14 Vida Gpo y Col","General de Seguros","14 Vida Gpo y Col",437440.28352]
["General de Seguros|28 Accidentes y Enfermedades Total","General de Seguros","28 Accidentes y Enfermedades Total",49720.984400000001]
["General de Seguros|29 Accidentes Personales","General de Seguros","29 Accidentes Personales",49720.984400000001]
["General de Seguros|30 AP Individual","General de Seguros","30 AP Individual",12540.398529999999]
["General de Seguros|31 AP Gpo y Col","General de Seguros","31 AP Gpo y Col",37180.585869999995]
["General de Seguros|38 Daños Total","General de Seguros","38 Daños Total",2062054.2958499999]
[{"$f":"B456&\"|\"&C456","v":"General de Seguros|39 Automoviles Total"},"General de Seguros","39 Automoviles Total",1313208.97698]
["General de Seguros|41 Automoviles Residentes","General de Seguros","41 Automoviles Residentes",523999.47099]
["General de Seguros|42 Camiones","General de Seguros","42 Camiones",774014.44336000003]
["General de Seguros|43 Automoviles Turistas","General de Seguros","43 Automoviles Turistas",15195.06263]
["General de Seguros|44 Otros Automoviles y Obligatorios","General de Seguros","44 Otros Automoviles y Obligatorios",0]
["General de Seguros|46 Daños Sin Autos Total","General de Seguros","46 Daños Sin Autos Total",748845.31887000008]
["General de Seguros|46 Responsabilidad Civil y Riesgos Profesionales","General de Seguros","46 Responsabilidad Civil y Riesgos Profesionales",90650.026590000009]
["General de Seguros|47 RC General","General de Seguros","47 RC General",82634.183819999991]
["General de Seguros|48 RC Aviones y Barcos","General de Seguros","48 RC Aviones y Barcos",0]
["General de Seguros|49 RC Viajero","General de Seguros","49 RC Viajero",8015.8427699999993]
["General de Seguros|50 RC Otros","General de Seguros","50 RC Otros",0]
["General de Seguros|51 Maritimo y Transportes","General de Seguros","51 Maritimo y Transportes",99359.772079999995]
["General de Seguros|52 MyT Carga","General de Seguros","52 MyT Carga",70168.102900000013]
["General de Seguros|53 MyT Cascos","General de Seguros","53 MyT Cascos",29191.669180000001]
["General de Seguros|54 Incendio","General de Seguros","54 Incendio",131389.17071000001]
["General de Seguros|55 Riesgos Catastroficos","General de Seguros","55 Riesgos Catastroficos",82613.120049999998]
["General de Seguros|56 Terremoto y Erupcion Volcanica","General de Seguros","56 Terremoto y Erupcion Volcanica",24661.508320000001]
["General de Seguros|57 Huracan y Otros Riesgos Hidrometeorologicos","General de Seguros","57 Huracan y Otros Riesgos Hidrometeorologicos",57951.611729999997]
["General de Seguros|58 Otros Riesgos Catastroficos","General de Seguros","58 Otros Riesgos Catastroficos",0]
["General de Seguros|59 Agricola y de Animales","General de Seguros","59 Agricola y de Animales",73701.963470000002]
["General de Seguros|60 AyA Agricola","General de Seguros","60 AyA Agricola",71745.571049999999]
["General de Seguros|61 AyA Otros","General de Seguros","61 AyA Otros",3.5]
["General de Seguros|62 AyA Pecuario","General de Seguros","62 AyA Pecuario",1952.8924199999999]
["General de Seguros|63 Diversos","General de Seguros","63 Diversos",271131.26597000001]
["General de Seguros|64 Miscelaneos","General de Seguros","64 Miscelaneos",240262.81819999998]
["General de Seguros|65 Tecnicos","General de Seguros","65 Tecnicos",30868.447769999999]
["General de Seguros|66 Credito","General de Seguros","66 Credito",0]
["Genworth Seg. de Crédito|10 Total General","Genworth Seg. de Crédito","10 Total General",127853.12620999999]
["Genworth Seg. de Crédito|11 Total General Sin Pensiones","Genworth Seg. de Crédito","11 Total General Sin Pensiones",127853.12620999999]
["Genworth Seg. de Crédito|38 Daños Total","Genworth Seg. de Crédito","38 Daños Total",127853.12620999999]
["Genworth Seg. de Crédito|46 Daños Sin Autos Total","Genworth Seg. de Crédito","46 Daños Sin Autos Total",127853.12620999999]
["Genworth Seg. de Crédito|67 Credito a la Vivienda","Genworth Seg. de Crédito","67 Credito a la Vivienda",127853.12620999999]
["GMX Seguros|10 Total General","GMX Seguros","10 Total General",8451044.7932900004]
["GMX Seguros|11 Total General Sin Pensiones","GMX Seguros","11 Total General Sin Pensiones",8451044.7932900004]
["GMX Seguros|38 Daños Total","GMX Seguros","38 Daños Total",8451044.7932900004]
["GMX Seguros|46 Daños Sin Autos Total","GMX Seguros","46 Daños Sin Autos Total",8451044.7932900004]
["GMX Seguros|46 Responsabilidad Civil y Riesgos Profesionales","GMX Seguros","46 Responsabilidad Civil y Riesgos Profesionales",3211086.8779099998]
["GMX Seguros|47 RC General","GMX Seguros","47 RC General",1558791.7627900001]
["GMX Seguros|48 RC Aviones y Barcos","GMX Seguros","48 RC Aviones y Barcos",686261.50394000008]
["GMX Seguros|49 RC Viajero","GMX Seguros","49 RC Viajero",4117.3627400000005]
["GMX Seguros|50 RC Otros","GMX Seguros","50 RC Otros",961916.24844000011]
["GMX Seguros|51 Maritimo y Transportes","GMX Seguros","51 Maritimo y Transportes",1484813.6890199999]
["GMX Seguros|52 MyT Carga","GMX Seguros","52 MyT Carga",512765.24014999997]
["GMX Seguros|53 MyT Cascos","GMX Seguros","53 MyT Cascos",972048.44886999996]
["GMX Seguros|54 Incendio","GMX Seguros","54 Incendio",920234.04208000004]
["GMX Seguros|55 Riesgos Catastroficos","GMX Seguros","55 Riesgos Catastroficos",1211744.34668]
["GMX Seguros|56 Terremoto y Erupcion Volcanica","GMX Seguros","56 Terremoto y Erupcion Volcanica",333988.53466]
["GMX Seguros|57 Huracan y Otros Riesgos Hidrometeorologicos","GMX Seguros","57 Huracan y Otros Riesgos Hidrometeorologicos",877755.81201999995]
["GMX Seguros|63 Diversos","GMX Seguros","63 Diversos",1623165.8376]
["GMX Seguros|64 Miscelaneos","GMX Seguros","64 Miscelaneos",657694.09314999997]
["GMX Seguros|65 Tecnicos","GMX Seguros","65 Tecnicos",965471.74445]
["HDI Global Seguros|10 Total General","HDI Global Seguros","10 Total General",2295531.7768099997]
["HDI Global Seguros|11 Total General Sin Pensiones","HDI Global Seguros","11 Total General Sin Pensiones",2295531.7768099997]
["HDI Global Seguros|38 Daños Total","HDI Global Seguros","38 Daños Total",2295531.7768099997]
["HDI Global Seguros|46 Daños Sin Autos Total","HDI Global Seguros","46 Daños Sin Autos Total",2295531.7768100002]
["HDI Global Seguros|46 Responsabilidad Civil y Riesgos Profesionales","HDI Global Seguros","46 Responsabilidad Civil y Riesgos Profesionales",325672.29281999997]
["HDI Global Seguros|47 RC General","HDI Global Seguros","47 RC General",309951.4901]
["HDI Global Seguros|50 RC Otros","HDI Global Seguros","50 RC Otros",15720.802720000002]
["HDI Global Seguros|51 Maritimo y Transportes","HDI Global Seguros","51 Maritimo y Transportes",958613.22750000004]
["HDI Global Seguros|52 MyT Carga","HDI Global Seguros","52 MyT Carga",958613.22750000004]
["HDI Global Seguros|54 Incendio","HDI Global Seguros","54 Incendio",312010.25630000001]
["HDI Global Seguros|55 Riesgos Catastroficos","HDI Global Seguros","55 Riesgos Catastroficos",620875.13535]
["HDI Global Seguros|56 Terremoto y Erupcion Volcanica","HDI Global Seguros","56 Terremoto y Erupcion Volcanica",313715.95321000001]
["HDI Global Seguros|57 Huracan y Otros Riesgos Hidrometeorologicos","HDI Global Seguros","57 Huracan y Otros Riesgos Hidrometeorologicos",307159.18213999999]
[{"$f":"B520&\"|\"&C520","v":"HDI Global Seguros|63 Diversos"},"HDI Global Seguros","63 Diversos",78360.864840000009]
["HDI Global Seguros|65 Tecnicos","HDI Global Seguros","65 Tecnicos",78360.864840000009]
["HDI Seguros|10 Total General","HDI Seguros","10 Total General",11052143.52795]
["HDI Seguros|11 Total General Sin Pensiones","HDI Seguros","11 Total General Sin Pensiones",11052143.52795]
["HDI Seguros|12 Vida Total","HDI Seguros","12 Vida Total",1791.57347]
["HDI Seguros|14 Vida Gpo y Col","HDI Seguros","14 Vida Gpo y Col",1791.57347]
["HDI Seguros|28 Accidentes y Enfermedades Total","HDI Seguros","28 Accidentes y Enfermedades Total",137782.13240999999]
["HDI Seguros|29 Accidentes Personales","HDI Seguros","29 Accidentes Personales",25685.313710000002]
["HDI Seguros|31 AP Gpo y Col","HDI Seguros","31 AP Gpo y Col",25685.313710000002]
["HDI Seguros|32 Gastos Medicos","HDI Seguros","32 Gastos Medicos",112096.8187]
["HDI Seguros|33 GMM. Individual","HDI Seguros","33 GMM. Individual",106773.04336]
["HDI Seguros|34 GMM. Gpo y Col","HDI Seguros","34 GMM. Gpo y Col",5323.7753400000001]
["HDI Seguros|38 Daños Total","HDI Seguros","38 Daños Total",10912569.822069999]
["HDI Seguros|39 Automoviles Total","HDI Seguros","39 Automoviles Total",8863048.0900400002]
["HDI Seguros|41 Automoviles Residentes","HDI Seguros","41 Automoviles Residentes",5577630.7949200002]
["HDI Seguros|42 Camiones","HDI Seguros","42 Camiones",2784448.45359]
["HDI Seguros|43 Automoviles Turistas","HDI Seguros","43 Automoviles Turistas",221514.82994999998]
["HDI Seguros|44 Otros Automoviles y Obligatorios","HDI Seguros","44 Otros Automoviles y Obligatorios",279454.01157999999]
["HDI Seguros|46 Daños Sin Autos Total","HDI Seguros","46 Daños Sin Autos Total",2049521.7320300001]
["HDI Seguros|46 Responsabilidad Civil y Riesgos Profesionales","HDI Seguros","46 Responsabilidad Civil y Riesgos Profesionales",326005.15247000003]
["HDI Seguros|47 RC General","HDI Seguros","47 RC General",317200.06761999999]
["HDI Seguros|49 RC Viajero","HDI Seguros","49 RC Viajero",8805.0848499999993]
["HDI Seguros|51 Maritimo y Transportes","HDI Seguros","51 Maritimo y Transportes",474412.47557999997]
["HDI Seguros|52 MyT Carga","HDI Seguros","52 MyT Carga",454772.13808]
["HDI Seguros|53 MyT Cascos","HDI Seguros","53 MyT Cascos",19640.337500000001]
["HDI Seguros|54 Incendio","HDI Seguros","54 Incendio",317822.43014000001]
["HDI Seguros|55 Riesgos Catastroficos","HDI Seguros","55 Riesgos Catastroficos",384372.80197000003]
["HDI Seguros|56 Terremoto y Erupcion Volcanica","HDI Seguros","56 Terremoto y Erupcion Volcanica",94283.144159999996]
["HDI Seguros|57 Huracan y Otros Riesgos Hidrometeorologicos","HDI Seguros","57 Huracan y Otros Riesgos Hidrometeorologicos",290089.65781]
["HDI Seguros|63 Diversos","HDI Seguros","63 Diversos",546908.87187000003]
["HDI Seguros|64 Miscelaneos","HDI Seguros","64 Miscelaneos",175418.49337000001]
["HDI Seguros|65 Tecnicos","HDI Seguros","65 Tecnicos",371490.37849999999]
["Hir Seguros|10 Total General","Hir Seguros","10 Total General",4515434.1806600001]
["Hir Seguros|11 Total General Sin Pensiones","Hir Seguros","11 Total General Sin Pensiones",4515434.1806600001]
["Hir Seguros|12 Vida Total","Hir Seguros","12 Vida Total",4432707.5753000006]
["Hir Seguros|13 Vida Individual","Hir Seguros","13 Vida Individual",28022.69641]
["Hir Seguros|14 Vida Gpo y Col","Hir Seguros","14 Vida Gpo y Col",4404684.8788900003]
["Hir Seguros|28 Accidentes y Enfermedades Total","Hir Seguros","28 Accidentes y Enfermedades Total",82726.605360000001]
["Hir Seguros|29 Accidentes Personales","Hir Seguros","29 Accidentes Personales",82726.605360000001]
["Hir Seguros|30 AP Individual","Hir Seguros","30 AP Individual",44.400120000000001]
["Hir Seguros|31 AP Gpo y Col","Hir Seguros","31 AP Gpo y Col",82682.205239999996]
["HSBC Seguros|10 Total General","HSBC Seguros","10 Total General",12979804.617629999]
["HSBC Seguros|11 Total General Sin Pensiones","HSBC Seguros","11 Total General Sin Pensiones",12979804.617629999]
["HSBC Seguros|12 Vida Total","HSBC Seguros","12 Vida Total",12635644.146120001]
["HSBC Seguros|13 Vida Individual","HSBC Seguros","13 Vida Individual",12412882.87583]
["HSBC Seguros|14 Vida Gpo y Col","HSBC Seguros","14 Vida Gpo y Col",222761.27028999999]
["HSBC Seguros|28 Accidentes y Enfermedades Total","HSBC Seguros","28 Accidentes y Enfermedades Total",344160.47151]
["HSBC Seguros|29 Accidentes Personales","HSBC Seguros","29 Accidentes Personales",258845.53536000001]
["HSBC Seguros|30 AP Individual","HSBC Seguros","30 AP Individual",188972.58025999999]
["HSBC Seguros|31 AP Gpo y Col","HSBC Seguros","31 AP Gpo y Col",69872.955099999992]
["HSBC Seguros|32 Gastos Medicos","HSBC Seguros","32 Gastos Medicos",85314.936150000009]
["HSBC Seguros|33 GMM. Individual","HSBC Seguros","33 GMM. Individual",85314.936150000009]
["Inbursa|10 Total General","Inbursa","10 Total General",24654610.774860002]
["Inbursa|11 Total General Sin Pensiones","Inbursa","11 Total General Sin Pensiones",24654610.774860002]
["Inbursa|12 Vida Total","Inbursa","12 Vida Total",4831500.9921400007]
["Inbursa|13 Vida Individual","Inbursa","13 Vida Individual",2713702.3148000003]
["Inbursa|14 Vida Gpo y Col","Inbursa","14 Vida Gpo y Col",2117798.6773399999]
["Inbursa|28 Accidentes y Enfermedades Total","Inbursa","28 Accidentes y Enfermedades Total",5289472.5515799997]
["Inbursa|29 Accidentes Personales","Inbursa","29 Accidentes Personales",81594.240529999995]
["Inbursa|30 AP Individual","Inbursa","30 AP Individual",24874.46256]
["Inbursa|31 AP Gpo y Col","Inbursa","31 AP Gpo y Col",56719.777969999996]
["Inbursa|32 Gastos Medicos","Inbursa","32 Gastos Medicos",5207878.3110500006]
["Inbursa|33 GMM. Individual","Inbursa","33 GMM. Individual",2478374.4915999998]
["Inbursa|34 GMM. Gpo y Col","Inbursa","34 GMM. Gpo y Col",2729503.8194499998]
[{"$f":"B584&\"|\"&C584","v":"Inbursa|38 Daños Total"},"Inbursa","38 Daños Total",14533637.231139999]
["Inbursa|39 Automoviles Total","Inbursa","39 Automoviles Total",5988445.3723999998]
["Inbursa|41 Automoviles Residentes","Inbursa","41 Automoviles Residentes",3920200.28106]
["Inbursa|42 Camiones","Inbursa","42 Camiones",2059726.3980999999]
["Inbursa|43 Automoviles Turistas","Inbursa","43 Automoviles Turistas",2745.7036000000003]
["Inbursa|44 Otros Automoviles y Obligatorios","Inbursa","44 Otros Automoviles y Obligatorios",5772.9896399999998]
["Inbursa|46 Daños Sin Autos Total","Inbursa","46 Daños Sin Autos Total",8545191.8587399982]
["Inbursa|46 Responsabilidad Civil y Riesgos Profesionales","Inbursa","46 Responsabilidad Civil y Riesgos Profesionales",1376655.3407699999]
["Inbursa|47 RC General","Inbursa","47 RC General",1159557.5412999999]
["Inbursa|48 RC Aviones y Barcos","Inbursa","48 RC Aviones y Barcos",212818.48434999998]
["Inbursa|49 RC Viajero","Inbursa","49 RC Viajero",4279.3151200000002]
["Inbursa|51 Maritimo y Transportes","Inbursa","51 Maritimo y Transportes",649170.89026999997]
["Inbursa|52 MyT Carga","Inbursa","52 MyT Carga",430415.69520999998]
["Inbursa|53 MyT Cascos","Inbursa","53 MyT Cascos",218755.19506]
["Inbursa|54 Incendio","Inbursa","54 Incendio",1565473.5660899999]
["Inbursa|55 Riesgos Catastroficos","Inbursa","55 Riesgos Catastroficos",3051964.3327899999]
["Inbursa|56 Terremoto y Erupcion Volcanica","Inbursa","56 Terremoto y Erupcion Volcanica",1100297.7641400001]
["Inbursa|57 Huracan y Otros Riesgos Hidrometeorologicos","Inbursa","57 Huracan y Otros Riesgos Hidrometeorologicos",1951666.56865]
["Inbursa|63 Diversos","Inbursa","63 Diversos",1901927.7288199998]
["Inbursa|64 Miscelaneos","Inbursa","64 Miscelaneos",951777.48905999993]
["Inbursa|65 Tecnicos","Inbursa","65 Tecnicos",950150.23976000003]
["Insignia Life|10 Total General","Insignia Life","10 Total General",1793771.2526099999]
["Insignia Life|11 Total General Sin Pensiones","Insignia Life","11 Total General Sin Pensiones",1793771.2526099999]
["Insignia Life|12 Vida Total","Insignia Life","12 Vida Total",1793771.2526099999]
["Insignia Life|13 Vida Individual","Insignia Life","13 Vida Individual",1295147.4347999999]
["Insignia Life|14 Vida Gpo y Col","Insignia Life","14 Vida Gpo y Col",498623.81780999998]
["La Latinoamericana|10 Total General","La Latinoamericana","10 Total General",1045705.9405499999]
["La Latinoamericana|11 Total General Sin Pensiones","La Latinoamericana","11 Total General Sin Pensiones",1045705.9405499999]
["La Latinoamericana|12 Vida Total","La Latinoamericana","12 Vida Total",138626.89427000002]
["La Latinoamericana|13 Vida Individual","La Latinoamericana","13 Vida Individual",10358.78916]
["La Latinoamericana|14 Vida Gpo y Col","La Latinoamericana","14 Vida Gpo y Col",128268.10511]
["La Latinoamericana|28 Accidentes y Enfermedades Total","La Latinoamericana","28 Accidentes y Enfermedades Total",589194.5864400001]
["La Latinoamericana|29 Accidentes Personales","La Latinoamericana","29 Accidentes Personales",105755.58762000001]
["La Latinoamericana|30 AP Individual","La Latinoamericana","30 AP Individual",111.97306]
["La Latinoamericana|31 AP Gpo y Col","La Latinoamericana","31 AP Gpo y Col",105643.61456]
["La Latinoamericana|32 Gastos Medicos","La Latinoamericana","32 Gastos Medicos",483438.99881999998]
["La Latinoamericana|33 GMM. Individual","La Latinoamericana","33 GMM. Individual",236863.82305000001]
["La Latinoamericana|34 GMM. Gpo y Col","La Latinoamericana","34 GMM. Gpo y Col",246575.17577]
["La Latinoamericana|38 Daños Total","La Latinoamericana","38 Daños Total",317884.45983999997]
["La Latinoamericana|39 Automoviles Total","La Latinoamericana","39 Automoviles Total",222828.23189]
["La Latinoamericana|41 Automoviles Residentes","La Latinoamericana","41 Automoviles Residentes",148855.91391]
["La Latinoamericana|42 Camiones","La Latinoamericana","42 Camiones",58397.370759999998]
["La Latinoamericana|44 Otros Automoviles y Obligatorios","La Latinoamericana","44 Otros Automoviles y Obligatorios",15574.94722]
["La Latinoamericana|46 Daños Sin Autos Total","La Latinoamericana","46 Daños Sin Autos Total",95056.22795]
["La Latinoamericana|46 Responsabilidad Civil y Riesgos Profesionales","La Latinoamericana","46 Responsabilidad Civil y Riesgos Profesionales",82223.404150000002]
["La Latinoamericana|47 RC General","La Latinoamericana","47 RC General",81462.600900000005]
["La Latinoamericana|49 RC Viajero","La Latinoamericana","49 RC Viajero",760.80325000000005]
["La Latinoamericana|54 Incendio","La Latinoamericana","54 Incendio",782.03638000000001]
["La Latinoamericana|63 Diversos","La Latinoamericana","63 Diversos",12050.787420000001]
["La Latinoamericana|64 Miscelaneos","La Latinoamericana","64 Miscelaneos",10251.712609999999]
["La Latinoamericana|65 Tecnicos","La Latinoamericana","65 Tecnicos",1799.0748100000001]
["Mapfre México|10 Total General","Mapfre México","10 Total General",30687810.645959999]
["Mapfre México|11 Total General Sin Pensiones","Mapfre México","11 Total General Sin Pensiones",30687810.645959999]
["Mapfre México|12 Vida Total","Mapfre México","12 Vida Total",8712961.6138500012]
["Mapfre México|13 Vida Individual","Mapfre México","13 Vida Individual",1929983.8726300001]
["Mapfre México|14 Vida Gpo y Col","Mapfre México","14 Vida Gpo y Col",6782977.7412199993]
["Mapfre México|28 Accidentes y Enfermedades Total","Mapfre México","28 Accidentes y Enfermedades Total",5351454.5433799997]
["Mapfre México|29 Accidentes Personales","Mapfre México","29 Accidentes Personales",192187.21990999999]
["Mapfre México|30 AP Individual","Mapfre México","30 AP Individual",101345.86753]
["Mapfre México|31 AP Gpo y Col","Mapfre México","31 AP Gpo y Col",90841.352379999997]
["Mapfre México|32 Gastos Medicos","Mapfre México","32 Gastos Medicos",5159267.3234700002]
["Mapfre México|33 GMM. Individual","Mapfre México","33 GMM. Individual",3686927.5113899997]
["Mapfre México|34 GMM. Gpo y Col","Mapfre México","34 GMM. Gpo y Col",1472339.8120799998]
["Mapfre México|38 Daños Total","Mapfre México","38 Daños Total",16623394.48873]
[{"$f":"B648&\"|\"&C648","v":"Mapfre México|39 Automoviles Total"},"Mapfre México","39 Automoviles Total",3005208.4615100003]
["Mapfre México|41 Automoviles Residentes","Mapfre México","41 Automoviles Residentes",2185045.7818100001]
["Mapfre México|42 Camiones","Mapfre México","42 Camiones",760245.53558000003]
["Mapfre México|43 Automoviles Turistas","Mapfre México","43 Automoviles Turistas",59917.144119999997]
["Mapfre México|46 Daños Sin Autos Total","Mapfre México","46 Daños Sin Autos Total",13618186.02722]
["Mapfre México|46 Responsabilidad Civil y Riesgos Profesionales","Mapfre México","46 Responsabilidad Civil y Riesgos Profesionales",769912.26749]
["Mapfre México|47 RC General","Mapfre México","47 RC General",549172.21990000003]
["Mapfre México|48 RC Aviones y Barcos","Mapfre México","48 RC Aviones y Barcos",219162.80831999998]
["Mapfre México|50 RC Otros","Mapfre México","50 RC Otros",1577.23927]
["Mapfre México|51 Maritimo y Transportes","Mapfre México","51 Maritimo y Transportes",5831055.9799199998]
["Mapfre México|52 MyT Carga","Mapfre México","52 MyT Carga",728315.26628999994]
["Mapfre México|53 MyT Cascos","Mapfre México","53 MyT Cascos",5102740.7136300001]
["Mapfre México|54 Incendio","Mapfre México","54 Incendio",3671098.0279999999]
["Mapfre México|55 Riesgos Catastroficos","Mapfre México","55 Riesgos Catastroficos",2039579.25685]
["Mapfre México|56 Terremoto y Erupcion Volcanica","Mapfre México","56 Terremoto y Erupcion Volcanica",746783.25435000006]
["Mapfre México|57 Huracan y Otros Riesgos Hidrometeorologicos","Mapfre México","57 Huracan y Otros Riesgos Hidrometeorologicos",1292796.0024999999]
["Mapfre México|59 Agricola y de Animales","Mapfre México","59 Agricola y de Animales",27109.919269999999]
["Mapfre México|60 AyA Agricola","Mapfre México","60 AyA Agricola",27574.71212]
["Mapfre México|62 AyA Pecuario","Mapfre México","62 AyA Pecuario",-464.79284999999999]
["Mapfre México|63 Diversos","Mapfre México","63 Diversos",1279430.5756900001]
["Mapfre México|64 Miscelaneos","Mapfre México","64 Miscelaneos",480767.51314999996]
["Mapfre México|65 Tecnicos","Mapfre México","65 Tecnicos",798663.06253999996]
["MediAccess|10 Total General","MediAccess","10 Total General",144964.70387999999]
["MediAccess|11 Total General Sin Pensiones","MediAccess","11 Total General Sin Pensiones",144964.70387999999]
["MediAccess|28 Accidentes y Enfermedades Total","MediAccess","28 Accidentes y Enfermedades Total",144964.70387999999]
["MediAccess|32 Gastos Medicos","MediAccess","32 Gastos Medicos",14.65691]
["MediAccess|33 GMM. Individual","MediAccess","33 GMM. Individual",14.65691]
["MediAccess|35 Salud","MediAccess","35 Salud",144950.04697]
["MediAccess|36 Salud Individual","MediAccess","36 Salud Individual",85003.583400000003]
["MediAccess|37 Salud Gpo y Col","MediAccess","37 Salud Gpo y Col",59946.46357]
["Metlife México|10 Total General","Metlife México","10 Total General",66136633.356480002]
["Metlife México|11 Total General Sin Pensiones","Metlife México","11 Total General Sin Pensiones",66136633.356480002]
["Metlife México|12 Vida Total","Metlife México","12 Vida Total",39129855.744099997]
["Metlife México|13 Vida Individual","Metlife México","13 Vida Individual",27524627.93897]
["Metlife México|14 Vida Gpo y Col","Metlife México","14 Vida Gpo y Col",11605227.805129999]
["Metlife México|28 Accidentes y Enfermedades Total","Metlife México","28 Accidentes y Enfermedades Total",27006777.612380002]
["Metlife México|29 Accidentes Personales","Metlife México","29 Accidentes Personales",3376.1337000000003]
["Metlife México|30 AP Individual","Metlife México","30 AP Individual",0]
["Metlife México|31 AP Gpo y Col","Metlife México","31 AP Gpo y Col",3376.1337000000003]
["Metlife México|32 Gastos Medicos","Metlife México","32 Gastos Medicos",27003401.47868]
["Metlife México|33 GMM. Individual","Metlife México","33 GMM. Individual",4354270.8003100008]
["Metlife México|34 GMM. Gpo y Col","Metlife México","34 GMM. Gpo y Col",22649130.678369999]
["Monterrey New York Life|10 Total General","Monterrey New York Life","10 Total General",33270313.765279997]
["Monterrey New York Life|11 Total General Sin Pensiones","Monterrey New York Life","11 Total General Sin Pensiones",33270313.765279997]
["Monterrey New York Life|12 Vida Total","Monterrey New York Life","12 Vida Total",21337894.788349997]
["Monterrey New York Life|13 Vida Individual","Monterrey New York Life","13 Vida Individual",20914372.983860001]
["Monterrey New York Life|14 Vida Gpo y Col","Monterrey New York Life","14 Vida Gpo y Col",423521.80449000007]
["Monterrey New York Life|28 Accidentes y Enfermedades Total","Monterrey New York Life","28 Accidentes y Enfermedades Total",11932418.97693]
["Monterrey New York Life|29 Accidentes Personales","Monterrey New York Life","29 Accidentes Personales",60000.761740000002]
["Monterrey New York Life|30 AP Individual","Monterrey New York Life","30 AP Individual",9263.3628100000005]
["Monterrey New York Life|31 AP Gpo y Col","Monterrey New York Life","31 AP Gpo y Col",50737.398930000003]
["Monterrey New York Life|32 Gastos Medicos","Monterrey New York Life","32 Gastos Medicos",11872418.215190001]
["Monterrey New York Life|33 GMM. Individual","Monterrey New York Life","33 GMM. Individual",8794948.7029999997]
["Monterrey New York Life|34 GMM. Gpo y Col","Monterrey New York Life","34 GMM. Gpo y Col",3077469.5121900002]
["Odontoprev|10 Total General","Odontoprev","10 Total General",97783.699609999996]
["Odontoprev|11 Total General Sin Pensiones","Odontoprev","11 Total General Sin Pensiones",97783.699609999996]
["Odontoprev|28 Accidentes y Enfermedades Total","Odontoprev","28 Accidentes y Enfermedades Total",97783.699609999996]
["Odontoprev|29 Accidentes Personales","Odontoprev","29 Accidentes Personales",11.23598]
["Odontoprev|30 AP Individual","Odontoprev","30 AP Individual",10.03598]
["Odontoprev|31 AP Gpo y Col","Odontoprev","31 AP Gpo y Col",1.2]
["Odontoprev|32 Gastos Medicos","Odontoprev","32 Gastos Medicos",23438.97869]
["Odontoprev|33 GMM. Individual","Odontoprev","33 GMM. Individual",656.37947999999994]
["Odontoprev|34 GMM. Gpo y Col","Odontoprev","34 GMM. Gpo y Col",22782.59921]
["Odontoprev|35 Salud","Odontoprev","35 Salud",74333.484939999995]
[{"$f":"B712&\"|\"&C712","v":"Odontoprev|36 Salud Individual"},"Odontoprev","36 Salud Individual",27626.230219999998]
["Odontoprev|37 Salud Gpo y Col","Odontoprev","37 Salud Gpo y Col",46707.254719999997]
["Pan-American México|10 Total General","Pan-American México","10 Total General",992599.65855999989]
["Pan-American México|11 Total General Sin Pensiones","Pan-American México","11 Total General Sin Pensiones",992599.65855999989]
["Pan-American México|12 Vida Total","Pan-American México","12 Vida Total",470659.51276999997]
["Pan-American México|13 Vida Individual","Pan-American México","13 Vida Individual",0]
["Pan-American México|14 Vida Gpo y Col","Pan-American México","14 Vida Gpo y Col",470659.51276999997]
["Pan-American México|28 Accidentes y Enfermedades Total","Pan-American México","28 Accidentes y Enfermedades Total",521940.14579000004]
["Pan-American México|29 Accidentes Personales","Pan-American México","29 Accidentes Personales",46122.85542]
["Pan-American México|30 AP Individual","Pan-American México","30 AP Individual",91.273009999999999]
["Pan-American México|31 AP Gpo y Col","Pan-American México","31 AP Gpo y Col",46031.582409999995]
["Pan-American México|32 Gastos Medicos","Pan-American México","32 Gastos Medicos",475817.29037]
["Pan-American México|33 GMM. Individual","Pan-American México","33 GMM. Individual",475817.11]
["Pan-American México|34 GMM. Gpo y Col","Pan-American México","34 GMM. Gpo y Col",0.18037]
["Patria|10 Total General","Patria","10 Total General",0]
["Patria|11 Total General Sin Pensiones","Patria","11 Total General Sin Pensiones",0]
["Patria|12 Vida Total","Patria","12 Vida Total",0]
["Patria|13 Vida Individual","Patria","13 Vida Individual",0]
["Patria|14 Vida Gpo y Col","Patria","14 Vida Gpo y Col",0]
["Patria|28 Accidentes y Enfermedades Total","Patria","28 Accidentes y Enfermedades Total",0]
["Patria|29 Accidentes Personales","Patria","29 Accidentes Personales",0]
["Patria|30 AP Individual","Patria","30 AP Individual",0]
["Patria|31 AP Gpo y Col","Patria","31 AP Gpo y Col",0]
["Patria|32 Gastos Medicos","Patria","32 Gastos Medicos",0]
["Patria|33 GMM. Individual","Patria","33 GMM. Individual",0]
["Patria|34 GMM. Gpo y Col","Patria","34 GMM. Gpo y Col",0]
["Patria|35 Salud","Patria","35 Salud",0]
["Patria|36 Salud Individual","Patria","36 Salud Individual",0]
["Patria|37 Salud Gpo y Col","Patria","37 Salud Gpo y Col",0]
["Patria|38 Daños Total","Patria","38 Daños Total",0]
["Patria|39 Automoviles Total","Patria","39 Automoviles Total",0]
["Patria|41 Automoviles Residentes","Patria","41 Automoviles Residentes",0]
["Patria|42 Camiones","Patria","42 Camiones",0]
["Patria|43 Automoviles Turistas","Patria","43 Automoviles Turistas",0]
["Patria|44 Otros Automoviles y Obligatorios","Patria","44 Otros Automoviles y Obligatorios",0]
["Patria|46 Daños Sin Autos Total","Patria","46 Daños Sin Autos Total",0]
["Patria|46 Responsabilidad Civil y Riesgos Profesionales","Patria","46 Responsabilidad Civil y Riesgos Profesionales",0]
["Patria|47 RC General","Patria","47 RC General",0]
["Patria|48 RC Aviones y Barcos","Patria","48 RC Aviones y Barcos",0]
["Patria|49 RC Viajero","Patria","49 RC Viajero",0]
["Patria|50 RC Otros","Patria","50 RC Otros",0]
["Patria|51 Maritimo y Transportes","Patria","51 Maritimo y Transportes",0]
["Patria|52 MyT Carga","Patria","52 MyT Carga",0]
["Patria|53 MyT Cascos","Patria","53 MyT Cascos",0]
["Patria|54 Incendio","Patria","54 Incendio",0]
["Patria|55 Riesgos Catastroficos","Patria","55 Riesgos Catastroficos",0]
["Patria|56 Terremoto y Erupcion Volcanica","Patria","56 Terremoto y Erupcion Volcanica",0]
["Patria|57 Huracan y Otros Riesgos Hidrometeorologicos","Patria","57 Huracan y Otros Riesgos Hidrometeorologicos",0]
["Patria|58 Otros Riesgos Catastroficos","Patria","58 Otros Riesgos Catastroficos",0]
["Patria|59 Agricola y de Animales","Patria","59 Agricola y de Animales",0]
["Patria|60 AyA Agricola","Patria","60 AyA Agricola",0]
["Patria|61 AyA Otros","Patria","61 AyA Otros",0]
["Patria|62 AyA Pecuario","Patria","62 AyA Pecuario",0]
["Patria|63 Diversos","Patria","63 Diversos",0]
["Patria|64 Miscelaneos","Patria","64 Miscelaneos",0]
["Patria|65 Tecnicos","Patria","65 Tecnicos",0]
["Patria|66 Credito","Patria","66 Credito",0]
["Patrimonial Vida|10 Total General","Patrimonial Vida","10 Total General",4625465.0598599995]
["Patrimonial Vida|11 Total General Sin Pensiones","Patrimonial Vida","11 Total General Sin Pensiones",4625465.0598599995]
["Patrimonial Vida|12 Vida Total","Patrimonial Vida","12 Vida Total",4625465.0598599995]
["Patrimonial Vida|13 Vida Individual","Patrimonial Vida","13 Vida Individual",0]
["Patrimonial Vida|14 Vida Gpo y Col","Patrimonial Vida","14 Vida Gpo y Col",4625465.0598599995]
["Pensiones Banorte|10 Total General","Pensiones Banorte","10 Total General",11966941.465]
["Pensiones Banorte|15 Pensiones Total","Pensiones Banorte","15 Pensiones Total",11966941.465]
[{"$f":"B776&\"|\"&C776","v":"Pensiones Banorte|16 Pensiones IMSS"},"Pensiones Banorte","16 Pensiones IMSS",8443447.2371699996]
["Pensiones Banorte|17 IMSS Incapacidad Permanente RT","Pensiones Banorte","17 IMSS Incapacidad Permanente RT",192267.21690999999]
["Pensiones Banorte|18 IMSS Invalidez (invalidez y vida)","Pensiones Banorte","18 IMSS Invalidez (invalidez y vida)",4409936.0892599998]
["Pensiones Banorte|19 IMSS Jubilacion (retiro, cesantia y vejez)","Pensiones Banorte","19 IMSS Jubilacion (retiro, cesantia y vejez)",380603.35354000004]
["Pensiones Banorte|20 IMSS Muerte (invalidez y vida)","Pensiones Banorte","20 IMSS Muerte (invalidez y vida)",3268441.3005599999]
["Pensiones Banorte|21 IMSS Muerte (riesgos de trabajo)","Pensiones Banorte","21 IMSS Muerte (riesgos de trabajo)",192199.2769]
["Pensiones Banorte|22 Pensiones ISSSTE","Pensiones Banorte","22 Pensiones ISSSTE",3523494.2278299998]
["Pensiones Banorte|23 ISSSTE Incapacidad Permanente RT","Pensiones Banorte","23 ISSSTE Incapacidad Permanente RT",43869.467049999999]
["Pensiones Banorte|24 ISSSTE Invalidez (invalidez y vida)","Pensiones Banorte","24 ISSSTE Invalidez (invalidez y vida)",94066.338669999997]
["Pensiones Banorte|25 ISSSTE Jubilacion (retiro, cesantia y vejez)","Pensiones Banorte","25 ISSSTE Jubilacion (retiro, cesantia y vejez)",2434315.9380799998]
["Pensiones Banorte|26 ISSSTE Muerte (invalidez y vida)","Pensiones Banorte","26 ISSSTE Muerte (invalidez y vida)",878649.55039999995]
["Pensiones Banorte|27 ISSSTE Muerte (riesgos de trabajo)","Pensiones Banorte","27 ISSSTE Muerte (riesgos de trabajo)",72592.93363]
["Plan Seguro|10 Total General","Plan Seguro","10 Total General",3324020.0512399999]
["Plan Seguro|11 Total General Sin Pensiones","Plan Seguro","11 Total General Sin Pensiones",3324020.0512399999]
["Plan Seguro|28 Accidentes y Enfermedades Total","Plan Seguro","28 Accidentes y Enfermedades Total",3324020.0512399999]
["Plan Seguro|32 Gastos Medicos","Plan Seguro","32 Gastos Medicos",1286000.60292]
["Plan Seguro|33 GMM. Individual","Plan Seguro","33 GMM. Individual",324719.03087000002]
["Plan Seguro|34 GMM. Gpo y Col","Plan Seguro","34 GMM. Gpo y Col",961281.57204999996]
["Plan Seguro|35 Salud","Plan Seguro","35 Salud",2038019.44832]
["Plan Seguro|36 Salud Individual","Plan Seguro","36 Salud Individual",1823432.45013]
["Plan Seguro|37 Salud Gpo y Col","Plan Seguro","37 Salud Gpo y Col",214586.99818999998]
["PREVEM Seguros|10 Total General","PREVEM Seguros","10 Total General",512811.06137999997]
["PREVEM Seguros|11 Total General Sin Pensiones","PREVEM Seguros","11 Total General Sin Pensiones",512811.06137999997]
["PREVEM Seguros|28 Accidentes y Enfermedades Total","PREVEM Seguros","28 Accidentes y Enfermedades Total",512811.06137999997]
["PREVEM Seguros|29 Accidentes Personales","PREVEM Seguros","29 Accidentes Personales",26904.79507]
["PREVEM Seguros|30 AP Individual","PREVEM Seguros","30 AP Individual",1530.82294]
["PREVEM Seguros|31 AP Gpo y Col","PREVEM Seguros","31 AP Gpo y Col",25373.972129999998]
["PREVEM Seguros|32 Gastos Medicos","PREVEM Seguros","32 Gastos Medicos",485906.26630999998]
["PREVEM Seguros|33 GMM. Individual","PREVEM Seguros","33 GMM. Individual",269625.81161000003]
["PREVEM Seguros|34 GMM. Gpo y Col","PREVEM Seguros","34 GMM. Gpo y Col",216280.4547]
["Primero Seguros|10 Total General","Primero Seguros","10 Total General",431846.40201999998]
["Primero Seguros|11 Total General Sin Pensiones","Primero Seguros","11 Total General Sin Pensiones",431846.40201999998]
["Primero Seguros|38 Daños Total","Primero Seguros","38 Daños Total",431846.40201999998]
["Primero Seguros|39 Automoviles Total","Primero Seguros","39 Automoviles Total",239402.40987]
["Primero Seguros|41 Automoviles Residentes","Primero Seguros","41 Automoviles Residentes",86716.493210000001]
["Primero Seguros|42 Camiones","Primero Seguros","42 Camiones",152684.61069999999]
["Primero Seguros|43 Automoviles Turistas","Primero Seguros","43 Automoviles Turistas",1.30596]
["Primero Seguros|46 Daños Sin Autos Total","Primero Seguros","46 Daños Sin Autos Total",192443.99215000001]
["Primero Seguros|46 Responsabilidad Civil y Riesgos Profesionales","Primero Seguros","46 Responsabilidad Civil y Riesgos Profesionales",57515.534639999998]
["Primero Seguros|47 RC General","Primero Seguros","47 RC General",57515.534639999998]
["Primero Seguros|51 Maritimo y Transportes","Primero Seguros","51 Maritimo y Transportes",67955.337450000006]
["Primero Seguros|52 MyT Carga","Primero Seguros","52 MyT Carga",67955.337450000006]
["Primero Seguros|54 Incendio","Primero Seguros","54 Incendio",15529.249029999999]
["Primero Seguros|55 Riesgos Catastroficos","Primero Seguros","55 Riesgos Catastroficos",11767.522130000001]
["Primero Seguros|56 Terremoto y Erupcion Volcanica","Primero Seguros","56 Terremoto y Erupcion Volcanica",2596.03818]
["Primero Seguros|57 Huracan y Otros Riesgos Hidrometeorologicos","Primero Seguros","57 Huracan y Otros Riesgos Hidrometeorologicos",9171.4839499999998]
["Primero Seguros|63 Diversos","Primero Seguros","63 Diversos",39676.348899999997]
["Primero Seguros|64 Miscelaneos","Primero Seguros","64 Miscelaneos",11273.000810000001]
["Primero Seguros|65 Tecnicos","Primero Seguros","65 Tecnicos",28403.34809]
["ProFuturo G.N.P.|10 Total General","ProFuturo G.N.P.","10 Total General",12182725.52259]
["ProFuturo G.N.P.|15 Pensiones Total","ProFuturo G.N.P.","15 Pensiones Total",12182725.52259]
["ProFuturo G.N.P.|16 Pensiones IMSS","ProFuturo G.N.P.","16 Pensiones IMSS",8535938.3513700012]
["ProFuturo G.N.P.|17 IMSS Incapacidad Permanente RT","ProFuturo G.N.P.","17 IMSS Incapacidad Permanente RT",1728589.0597999999]
["ProFuturo G.N.P.|18 IMSS Invalidez (invalidez y vida)","ProFuturo G.N.P.","18 IMSS Invalidez (invalidez y vida)",1710171.3230599998]
["ProFuturo G.N.P.|19 IMSS Jubilacion (retiro, cesantia y vejez)","ProFuturo G.N.P.","19 IMSS Jubilacion (retiro, cesantia y vejez)",239924.16275999998]
["ProFuturo G.N.P.|20 IMSS Muerte (invalidez y vida)","ProFuturo G.N.P.","20 IMSS Muerte (invalidez y vida)",4534776.4704600004]
["ProFuturo G.N.P.|21 IMSS Muerte (riesgos de trabajo)","ProFuturo G.N.P.","21 IMSS Muerte (riesgos de trabajo)",322477.33529000002]
["ProFuturo G.N.P.|22 Pensiones ISSSTE","ProFuturo G.N.P.","22 Pensiones ISSSTE",3646787.1712199999]
["ProFuturo G.N.P.|23 ISSSTE Incapacidad Permanente RT","ProFuturo G.N.P.","23 ISSSTE Incapacidad Permanente RT",221954.94969000001]
["ProFuturo G.N.P.|24 ISSSTE Invalidez (invalidez y vida)","ProFuturo G.N.P.","24 ISSSTE Invalidez (invalidez y vida)",93161.197459999996]
["ProFuturo G.N.P.|25 ISSSTE Jubilacion (retiro, cesantia y vejez)","ProFuturo G.N.P.","25 ISSSTE Jubilacion (retiro, cesantia y vejez)",2715332.93273]
["ProFuturo G.N.P.|26 ISSSTE Muerte (invalidez y vida)","ProFuturo G.N.P.","26 ISSSTE Muerte (invalidez y vida)",581507.04015000002]
["ProFuturo G.N.P.|27 ISSSTE Muerte (riesgos de trabajo)","ProFuturo G.N.P.","27 ISSSTE Muerte (riesgos de trabajo)",34831.051189999998]
["Prudential|10 Total General","Prudential","10 Total General",1828165.4904]
[{"$f":"B840&\"|\"&C840","v":"Prudential|11 Total General Sin Pensiones"},"Prudential","11 Total General Sin Pensiones",1828165.4904]
["Prudential|12 Vida Total","Prudential","12 Vida Total",1828165.4904]
["Prudential|13 Vida Individual","Prudential","13 Vida Individual",1828165.4904]
["Prudential|14 Vida Gpo y Col","Prudential","14 Vida Gpo y Col",0]
["Prudential|28 Accidentes y Enfermedades Total","Prudential","28 Accidentes y Enfermedades Total",0]
["Prudential|32 Gastos Medicos","Prudential","32 Gastos Medicos",0]
["Prudential|33 GMM. Individual","Prudential","33 GMM. Individual",0]
["Quálitas|10 Total General","Quálitas","10 Total General",50730778.690750003]
["Quálitas|11 Total General Sin Pensiones","Quálitas","11 Total General Sin Pensiones",50730778.690750003]
["Quálitas|38 Daños Total","Quálitas","38 Daños Total",50730778.690750003]
["Quálitas|39 Automoviles Total","Quálitas","39 Automoviles Total",50729196.752839997]
["Quálitas|41 Automoviles Residentes","Quálitas","41 Automoviles Residentes",25711020.723959997]
["Quálitas|42 Camiones","Quálitas","42 Camiones",23492232.047589999]
["Quálitas|43 Automoviles Turistas","Quálitas","43 Automoviles Turistas",364906.57725999999]
["Quálitas|44 Otros Automoviles y Obligatorios","Quálitas","44 Otros Automoviles y Obligatorios",1161037.4040299999]
["Quálitas|46 Daños Sin Autos Total","Quálitas","46 Daños Sin Autos Total",1581.9379099999999]
["Quálitas|46 Responsabilidad Civil y Riesgos Profesionales","Quálitas","46 Responsabilidad Civil y Riesgos Profesionales",1581.9379099999999]
["Quálitas|50 RC Otros","Quálitas","50 RC Otros",1581.9379099999999]
["Seguros Argos|10 Total General","Seguros Argos","10 Total General",2607218.6123699998]
["Seguros Argos|11 Total General Sin Pensiones","Seguros Argos","11 Total General Sin Pensiones",2607218.6123699998]
["Seguros Argos|12 Vida Total","Seguros Argos","12 Vida Total",2607218.6123699998]
["Seguros Argos|13 Vida Individual","Seguros Argos","13 Vida Individual",827406.78907000006]
["Seguros Argos|14 Vida Gpo y Col","Seguros Argos","14 Vida Gpo y Col",1779811.8233]
["Seguros Azteca|10 Total General","Seguros Azteca","10 Total General",2729565.3195799999]
["Seguros Azteca|11 Total General Sin Pensiones","Seguros Azteca","11 Total General Sin Pensiones",2729565.3195799999]
["Seguros Azteca|12 Vida Total","Seguros Azteca","12 Vida Total",2355271.02434]
["Seguros Azteca|13 Vida Individual","Seguros Azteca","13 Vida Individual",104905.99095000001]
["Seguros Azteca|14 Vida Gpo y Col","Seguros Azteca","14 Vida Gpo y Col",2250365.03339]
["Seguros Azteca|28 Accidentes y Enfermedades Total","Seguros Azteca","28 Accidentes y Enfermedades Total",374294.29524000001]
["Seguros Azteca|29 Accidentes Personales","Seguros Azteca","29 Accidentes Personales",317048.12231000001]
["Seguros Azteca|30 AP Individual","Seguros Azteca","30 AP Individual",53966.89488]
["Seguros Azteca|31 AP Gpo y Col","Seguros Azteca","31 AP Gpo y Col",263081.22743000003]
["Seguros Azteca|32 Gastos Medicos","Seguros Azteca","32 Gastos Medicos",57246.172930000001]
["Seguros Azteca|33 GMM. Individual","Seguros Azteca","33 GMM. Individual",57246.172930000001]
["Seguros Azteca Daños|10 Total General","Seguros Azteca Daños","10 Total General",1992442.88803]
["Seguros Azteca Daños|11 Total General Sin Pensiones","Seguros Azteca Daños","11 Total General Sin Pensiones",1992442.88803]
["Seguros Azteca Daños|38 Daños Total","Seguros Azteca Daños","38 Daños Total",1992442.88803]
["Seguros Azteca Daños|39 Automoviles Total","Seguros Azteca Daños","39 Automoviles Total",451793.04424000002]
["Seguros Azteca Daños|41 Automoviles Residentes","Seguros Azteca Daños","41 Automoviles Residentes",443592.72155999998]
["Seguros Azteca Daños|42 Camiones","Seguros Azteca Daños","42 Camiones",8200.3226799999993]
["Seguros Azteca Daños|46 Daños Sin Autos Total","Seguros Azteca Daños","46 Daños Sin Autos Total",1540649.8437899998]
["Seguros Azteca Daños|46 Responsabilidad Civil y Riesgos Profesionales","Seguros Azteca Daños","46 Responsabilidad Civil y Riesgos Profesionales",182573.40039]
["Seguros Azteca Daños|47 RC General","Seguros Azteca Daños","47 RC General",156547.99240000002]
["Seguros Azteca Daños|48 RC Aviones y Barcos","Seguros Azteca Daños","48 RC Aviones y Barcos",8874.3504400000002]
["Seguros Azteca Daños|49 RC Viajero","Seguros Azteca Daños","49 RC Viajero",142.43024]
["Seguros Azteca Daños|50 RC Otros","Seguros Azteca Daños","50 RC Otros",17008.62731]
["Seguros Azteca Daños|51 Maritimo y Transportes","Seguros Azteca Daños","51 Maritimo y Transportes",17855.337649999998]
["Seguros Azteca Daños|52 MyT Carga","Seguros Azteca Daños","52 MyT Carga",3484.4067400000004]
["Seguros Azteca Daños|53 MyT Cascos","Seguros Azteca Daños","53 MyT Cascos",14370.930910000001]
["Seguros Azteca Daños|54 Incendio","Seguros Azteca Daños","54 Incendio",378787.57148000004]
["Seguros Azteca Daños|55 Riesgos Catastroficos","Seguros Azteca Daños","55 Riesgos Catastroficos",481176.39593]
["Seguros Azteca Daños|56 Terremoto y Erupcion Volcanica","Seguros Azteca Daños","56 Terremoto y Erupcion Volcanica",341200.37173000001]
["Seguros Azteca Daños|57 Huracan y Otros Riesgos Hidrometeorologicos","Seguros Azteca Daños","57 Huracan y Otros Riesgos Hidrometeorologicos",139976.02419999999]
["Seguros Azteca Daños|63 Diversos","Seguros Azteca Daños","63 Diversos",480257.13833999995]
["Seguros Azteca Daños|64 Miscelaneos","Seguros Azteca Daños","64 Miscelaneos",245131.32481999998]
["Seguros Azteca Daños|65 Tecnicos","Seguros Azteca Daños","65 Tecnicos",235125.81352000003]
["Seguros SURA|10 Total General","Seguros SURA","10 Total General",4871025.2412999999]
["Seguros SURA|11 Total General Sin Pensiones","Seguros SURA","11 Total General Sin Pensiones",4871025.2412999999]
["Seguros SURA|12 Vida Total","Seguros SURA","12 Vida Total",847765.29477000004]
["Seguros SURA|13 Vida Individual","Seguros SURA","13 Vida Individual",45658.435440000001]
["Seguros SURA|14 Vida Gpo y Col","Seguros SURA","14 Vida Gpo y Col",802106.85933000001]
["Seguros SURA|28 Accidentes y Enfermedades Total","Seguros SURA","28 Accidentes y Enfermedades Total",770466.15708999999]
["Seguros SURA|29 Accidentes Personales","Seguros SURA","29 Accidentes Personales",170937.50334]
["Seguros SURA|30 AP Individual","Seguros SURA","30 AP Individual",6019.1028399999996]
[{"$f":"B904&\"|\"&C904","v":"Seguros SURA|31 AP Gpo y Col"},"Seguros SURA","31 AP Gpo y Col",164918.40049999999]
["Seguros SURA|32 Gastos Medicos","Seguros SURA","32 Gastos Medicos",599528.65375000006]
["Seguros SURA|33 GMM. Individual","Seguros SURA","33 GMM. Individual",140836.50366999998]
["Seguros SURA|34 GMM. Gpo y Col","Seguros SURA","34 GMM. Gpo y Col",458692.15007999999]
["Seguros SURA|38 Daños Total","Seguros SURA","38 Daños Total",3252793.78944]
["Seguros SURA|39 Automoviles Total","Seguros SURA","39 Automoviles Total",1402243.7193699998]
["Seguros SURA|41 Automoviles Residentes","Seguros SURA","41 Automoviles Residentes",664629.18711000006]
["Seguros SURA|42 Camiones","Seguros SURA","42 Camiones",674526.73320000002]
["Seguros SURA|43 Automoviles Turistas","Seguros SURA","43 Automoviles Turistas",603.18979000000002]
["Seguros SURA|44 Otros Automoviles y Obligatorios","Seguros SURA","44 Otros Automoviles y Obligatorios",62484.609270000001]
["Seguros SURA|46 Daños Sin Autos Total","Seguros SURA","46 Daños Sin Autos Total",1850550.0700699999]
["Seguros SURA|46 Responsabilidad Civil y Riesgos Profesionales","Seguros SURA","46 Responsabilidad Civil y Riesgos Profesionales",208076.23493999999]
["Seguros SURA|47 RC General","Seguros SURA","47 RC General",204352.76022]
["Seguros SURA|48 RC Aviones y Barcos","Seguros SURA","48 RC Aviones y Barcos",0]
["Seguros SURA|49 RC Viajero","Seguros SURA","49 RC Viajero",3723.4747200000002]
["Seguros SURA|51 Maritimo y Transportes","Seguros SURA","51 Maritimo y Transportes",200995.57847000001]
["Seguros SURA|52 MyT Carga","Seguros SURA","52 MyT Carga",157932.65146000002]
["Seguros SURA|53 MyT Cascos","Seguros SURA","53 MyT Cascos",43062.927009999999]
["Seguros SURA|54 Incendio","Seguros SURA","54 Incendio",565656.95565999998]
["Seguros SURA|55 Riesgos Catastroficos","Seguros SURA","55 Riesgos Catastroficos",469833.78305000003]
["Seguros SURA|56 Terremoto y Erupcion Volcanica","Seguros SURA","56 Terremoto y Erupcion Volcanica",174666.28985]
["Seguros SURA|57 Huracan y Otros Riesgos Hidrometeorologicos","Seguros SURA","57 Huracan y Otros Riesgos Hidrometeorologicos",295167.49319999997]
["Seguros SURA|58 Otros Riesgos Catastroficos","Seguros SURA","58 Otros Riesgos Catastroficos",0]
["Seguros SURA|59 Agricola y de Animales","Seguros SURA","59 Agricola y de Animales",34821.177490000002]
["Seguros SURA|60 AyA Agricola","Seguros SURA","60 AyA Agricola",34821.177490000002]
["Seguros SURA|63 Diversos","Seguros SURA","63 Diversos",371166.34045999998]
["Seguros SURA|64 Miscelaneos","Seguros SURA","64 Miscelaneos",85781.020019999996]
["Seguros SURA|65 Tecnicos","Seguros SURA","65 Tecnicos",285385.32043999998]
["SHF Cred Vivienda|10 Total General","SHF Cred Vivienda","10 Total General",356133.19910999999]
["SHF Cred Vivienda|11 Total General Sin Pensiones","SHF Cred Vivienda","11 Total General Sin Pensiones",356133.19910999999]
["SHF Cred Vivienda|38 Daños Total","SHF Cred Vivienda","38 Daños Total",356133.19910999999]
["SHF Cred Vivienda|46 Daños Sin Autos Total","SHF Cred Vivienda","46 Daños Sin Autos Total",356133.19910999999]
["SHF Cred Vivienda|67 Credito a la Vivienda","SHF Cred Vivienda","67 Credito a la Vivienda",356133.19910999999]
["Skandia Life|10 Total General","Skandia Life","10 Total General",672062.19351000001]
["Skandia Life|11 Total General Sin Pensiones","Skandia Life","11 Total General Sin Pensiones",672062.19351000001]
["Skandia Life|12 Vida Total","Skandia Life","12 Vida Total",672062.19351000001]
["Skandia Life|13 Vida Individual","Skandia Life","13 Vida Individual",665883.89478999993]
["Skandia Life|14 Vida Gpo y Col","Skandia Life","14 Vida Gpo y Col",6178.2987199999998]
["Solunion Crédito|10 Total General","Solunion Crédito","10 Total General",491847.01507999998]
["Solunion Crédito|11 Total General Sin Pensiones","Solunion Crédito","11 Total General Sin Pensiones",491847.01507999998]
["Solunion Crédito|38 Daños Total","Solunion Crédito","38 Daños Total",491847.01507999998]
["Solunion Crédito|46 Daños Sin Autos Total","Solunion Crédito","46 Daños Sin Autos Total",491847.01507999998]
["Solunion Crédito|66 Credito","Solunion Crédito","66 Credito",491847.01507999998]
["Sompo Japan|10 Total General","Sompo Japan","10 Total General",758794.05964999995]
["Sompo Japan|11 Total General Sin Pensiones","Sompo Japan","11 Total General Sin Pensiones",758794.05964999995]
["Sompo Japan|38 Daños Total","Sompo Japan","38 Daños Total",758794.05964999995]
["Sompo Japan|39 Automoviles Total","Sompo Japan","39 Automoviles Total",922.21686]
["Sompo Japan|41 Automoviles Residentes","Sompo Japan","41 Automoviles Residentes",727.86229000000003]
["Sompo Japan|42 Camiones","Sompo Japan","42 Camiones",194.35457]
["Sompo Japan|46 Daños Sin Autos Total","Sompo Japan","46 Daños Sin Autos Total",757871.84278999991]
["Sompo Japan|46 Responsabilidad Civil y Riesgos Profesionales","Sompo Japan","46 Responsabilidad Civil y Riesgos Profesionales",39439.524829999995]
["Sompo Japan|47 RC General","Sompo Japan","47 RC General",37605.257539999999]
["Sompo Japan|48 RC Aviones y Barcos","Sompo Japan","48 RC Aviones y Barcos",644.14558]
["Sompo Japan|50 RC Otros","Sompo Japan","50 RC Otros",1190.1217099999999]
["Sompo Japan|51 Maritimo y Transportes","Sompo Japan","51 Maritimo y Transportes",340553.55755999999]
["Sompo Japan|52 MyT Carga","Sompo Japan","52 MyT Carga",340553.55755999999]
["Sompo Japan|54 Incendio","Sompo Japan","54 Incendio",145725.97269999998]
["Sompo Japan|55 Riesgos Catastroficos","Sompo Japan","55 Riesgos Catastroficos",148374.83781999999]
["Sompo Japan|56 Terremoto y Erupcion Volcanica","Sompo Japan","56 Terremoto y Erupcion Volcanica",61915.938049999997]
["Sompo Japan|57 Huracan y Otros Riesgos Hidrometeorologicos","Sompo Japan","57 Huracan y Otros Riesgos Hidrometeorologicos",86458.899769999989]
["Sompo Japan|63 Diversos","Sompo Japan","63 Diversos",83777.94988]
["Sompo Japan|64 Miscelaneos","Sompo Japan","64 Miscelaneos",24651.793850000002]
["Sompo Japan|65 Tecnicos","Sompo Japan","65 Tecnicos",59126.156029999998]
["SPP Seguros|10 Total General","SPP Seguros","10 Total General",87030.096369999999]
[{"$f":"B968&\"|\"&C968","v":"SPP Seguros|11 Total General Sin Pensiones"},"SPP Seguros","11 Total General Sin Pensiones",87030.096369999999]
["SPP Seguros|28 Accidentes y Enfermedades Total","SPP Seguros","28 Accidentes y Enfermedades Total",45.751690000000004]
["SPP Seguros|29 Accidentes Personales","SPP Seguros","29 Accidentes Personales",45.751690000000004]
["SPP Seguros|31 AP Gpo y Col","SPP Seguros","31 AP Gpo y Col",45.751690000000004]
["SPP Seguros|38 Daños Total","SPP Seguros","38 Daños Total",86984.344680000009]
["SPP Seguros|46 Daños Sin Autos Total","SPP Seguros","46 Daños Sin Autos Total",86984.344680000009]
["SPP Seguros|63 Diversos","SPP Seguros","63 Diversos",86984.344680000009]
["SPP Seguros|64 Miscelaneos","SPP Seguros","64 Miscelaneos",63981.432000000001]
["SPP Seguros|65 Tecnicos","SPP Seguros","65 Tecnicos",23002.912680000001]
["Swiss Re Corporate Solutions|10 Total General","Swiss Re Corporate Solutions","10 Total General",1319552.84827]
["Swiss Re Corporate Solutions|11 Total General Sin Pensiones","Swiss Re Corporate Solutions","11 Total General Sin Pensiones",1319552.84827]
["Swiss Re Corporate Solutions|38 Daños Total","Swiss Re Corporate Solutions","38 Daños Total",1319552.84827]
["Swiss Re Corporate Solutions|46 Daños Sin Autos Total","Swiss Re Corporate Solutions","46 Daños Sin Autos Total",1319552.84827]
["Swiss Re Corporate Solutions|46 Responsabilidad Civil y Riesgos Profesionales","Swiss Re Corporate Solutions","46 Responsabilidad Civil y Riesgos Profesionales",72455.432079999999]
["Swiss Re Corporate Solutions|47 RC General","Swiss Re Corporate Solutions","47 RC General",70831.740209999989]
["Swiss Re Corporate Solutions|49 RC Viajero","Swiss Re Corporate Solutions","49 RC Viajero",218.76261]
["Swiss Re Corporate Solutions|50 RC Otros","Swiss Re Corporate Solutions","50 RC Otros",1404.9292600000001]
["Swiss Re Corporate Solutions|51 Maritimo y Transportes","Swiss Re Corporate Solutions","51 Maritimo y Transportes",0]
["Swiss Re Corporate Solutions|52 MyT Carga","Swiss Re Corporate Solutions","52 MyT Carga",0]
["Swiss Re Corporate Solutions|54 Incendio","Swiss Re Corporate Solutions","54 Incendio",412734.56818]
["Swiss Re Corporate Solutions|55 Riesgos Catastroficos","Swiss Re Corporate Solutions","55 Riesgos Catastroficos",602396.44324000005]
["Swiss Re Corporate Solutions|56 Terremoto y Erupcion Volcanica","Swiss Re Corporate Solutions","56 Terremoto y Erupcion Volcanica",184417.36944000001]
["Swiss Re Corporate Solutions|57 Huracan y Otros Riesgos Hidrometeorologicos","Swiss Re Corporate Solutions","57 Huracan y Otros Riesgos Hidrometeorologicos",417979.07380000001]
["Swiss Re Corporate Solutions|59 Agricola y de Animales","Swiss Re Corporate Solutions","59 Agricola y de Animales",0]
["Swiss Re Corporate Solutions|60 AyA Agricola","Swiss Re Corporate Solutions","60 AyA Agricola",0]
["Swiss Re Corporate Solutions|63 Diversos","Swiss Re Corporate Solutions","63 Diversos",231966.40477000002]
["Swiss Re Corporate Solutions|64 Miscelaneos","Swiss Re Corporate Solutions","64 Miscelaneos",30580.199710000001]
["Swiss Re Corporate Solutions|65 Tecnicos","Swiss Re Corporate Solutions","65 Tecnicos",201386.20506000001]
["Tláloc Seguros|10 Total General","Tláloc Seguros","10 Total General",111365.2858]
["Tláloc Seguros|11 Total General Sin Pensiones","Tláloc Seguros","11 Total General Sin Pensiones",111365.2858]
["Tláloc Seguros|38 Daños Total","Tláloc Seguros","38 Daños Total",111365.2858]
["Tláloc Seguros|46 Daños Sin Autos Total","Tláloc Seguros","46 Daños Sin Autos Total",111365.2858]
["Tláloc Seguros|59 Agricola y de Animales","Tláloc Seguros","59 Agricola y de Animales",111365.2858]
["Tláloc Seguros|60 AyA Agricola","Tláloc Seguros","60 AyA Agricola",87131.100150000013]
["Tláloc Seguros|61 AyA Otros","Tláloc Seguros","61 AyA Otros",87.405000000000001]
["Tláloc Seguros|62 AyA Pecuario","Tláloc Seguros","62 AyA Pecuario",24146.780649999997]
["Tokio Marine|10 Total General","Tokio Marine","10 Total General",1046151.0540700001]
["Tokio Marine|11 Total General Sin Pensiones","Tokio Marine","11 Total General Sin Pensiones",1046151.0540700001]
["Tokio Marine|12 Vida Total","Tokio Marine","12 Vida Total",58373.128479999999]
["Tokio Marine|14 Vida Gpo y Col","Tokio Marine","14 Vida Gpo y Col",58373.128479999999]
["Tokio Marine|28 Accidentes y Enfermedades Total","Tokio Marine","28 Accidentes y Enfermedades Total",0]
["Tokio Marine|29 Accidentes Personales","Tokio Marine","29 Accidentes Personales",0]
["Tokio Marine|31 AP Gpo y Col","Tokio Marine","31 AP Gpo y Col",0]
["Tokio Marine|38 Daños Total","Tokio Marine","38 Daños Total",987777.92559]
["Tokio Marine|39 Automoviles Total","Tokio Marine","39 Automoviles Total",29553.49451]
["Tokio Marine|41 Automoviles Residentes","Tokio Marine","41 Automoviles Residentes",20278.030329999998]
["Tokio Marine|42 Camiones","Tokio Marine","42 Camiones",9213.5132599999997]
["Tokio Marine|43 Automoviles Turistas","Tokio Marine","43 Automoviles Turistas",57.226599999999998]
["Tokio Marine|44 Otros Automoviles y Obligatorios","Tokio Marine","44 Otros Automoviles y Obligatorios",4.7243199999999996]
["Tokio Marine|46 Daños Sin Autos Total","Tokio Marine","46 Daños Sin Autos Total",958224.43107999978]
["Tokio Marine|46 Responsabilidad Civil y Riesgos Profesionales","Tokio Marine","46 Responsabilidad Civil y Riesgos Profesionales",57102.808149999997]
["Tokio Marine|47 RC General","Tokio Marine","47 RC General",51979.080990000002]
["Tokio Marine|50 RC Otros","Tokio Marine","50 RC Otros",5123.7271600000004]
["Tokio Marine|51 Maritimo y Transportes","Tokio Marine","51 Maritimo y Transportes",554477.26279999991]
["Tokio Marine|52 MyT Carga","Tokio Marine","52 MyT Carga",554477.26279999991]
["Tokio Marine|54 Incendio","Tokio Marine","54 Incendio",126926.29869]
["Tokio Marine|55 Riesgos Catastroficos","Tokio Marine","55 Riesgos Catastroficos",175058.76777999999]
["Tokio Marine|56 Terremoto y Erupcion Volcanica","Tokio Marine","56 Terremoto y Erupcion Volcanica",68248.640709999992]
["Tokio Marine|57 Huracan y Otros Riesgos Hidrometeorologicos","Tokio Marine","57 Huracan y Otros Riesgos Hidrometeorologicos",106810.12706999999]
["Tokio Marine|63 Diversos","Tokio Marine","63 Diversos",44659.293659999996]
["Tokio Marine|64 Miscelaneos","Tokio Marine","64 Miscelaneos",17206.929359999998]
["Tokio Marine|65 Tecnicos","Tokio Marine","65 Tecnicos",27452.364300000001]
["TOTAL|10 Total General","TOTAL","10 Total General",770211891.61088002]
["TOTAL|11 Total General Sin Pensiones","TOTAL","11 Total General Sin Pensiones",736376107.87258041]
[{"$f":"B1032&\"|\"&C1032","v":"TOTAL|12 Vida Total"},"TOTAL","12 Vida Total",311861035.33651996]
["TOTAL|13 Vida Individual","TOTAL","13 Vida Individual",237940342.15414003]
["TOTAL|14 Vida Gpo y Col","TOTAL","14 Vida Gpo y Col",73920693.182379991]
["TOTAL|15 Pensiones Total","TOTAL","15 Pensiones Total",33835783.738300003]
["TOTAL|16 Pensiones IMSS","TOTAL","16 Pensiones IMSS",23942240.545390002]
["TOTAL|17 IMSS Incapacidad Permanente RT","TOTAL","17 IMSS Incapacidad Permanente RT",4207526.2390700001]
["TOTAL|18 IMSS Invalidez (invalidez y vida)","TOTAL","18 IMSS Invalidez (invalidez y vida)",6986477.5804599989]
["TOTAL|19 IMSS Jubilacion (retiro, cesantia y vejez)","TOTAL","19 IMSS Jubilacion (retiro, cesantia y vejez)",889534.6317400001]
["TOTAL|20 IMSS Muerte (invalidez y vida)","TOTAL","20 IMSS Muerte (invalidez y vida)",11124555.43706]
["TOTAL|21 IMSS Muerte (riesgos de trabajo)","TOTAL","21 IMSS Muerte (riesgos de trabajo)",734146.65706000011]
["TOTAL|22 Pensiones ISSSTE","TOTAL","22 Pensiones ISSSTE",9893543.1929100007]
["TOTAL|23 ISSSTE Incapacidad Permanente RT","TOTAL","23 ISSSTE Incapacidad Permanente RT",462963.01261999999]
["TOTAL|24 ISSSTE Invalidez (invalidez y vida)","TOTAL","24 ISSSTE Invalidez (invalidez y vida)",204222.09362]
["TOTAL|25 ISSSTE Jubilacion (retiro, cesantia y vejez)","TOTAL","25 ISSSTE Jubilacion (retiro, cesantia y vejez)",7188627.0174599998]
["TOTAL|26 ISSSTE Muerte (invalidez y vida)","TOTAL","26 ISSSTE Muerte (invalidez y vida)",1894542.8421]
["TOTAL|27 ISSSTE Muerte (riesgos de trabajo)","TOTAL","27 ISSSTE Muerte (riesgos de trabajo)",143188.22711000001]
["TOTAL|28 Accidentes y Enfermedades Total","TOTAL","28 Accidentes y Enfermedades Total",141339793.77809998]
["TOTAL|29 Accidentes Personales","TOTAL","29 Accidentes Personales",5244412.8470900012]
["TOTAL|30 AP Individual","TOTAL","30 AP Individual",2929566.2910799994]
["TOTAL|31 AP Gpo y Col","TOTAL","31 AP Gpo y Col",2314846.5560099995]
["TOTAL|32 Gastos Medicos","TOTAL","32 Gastos Medicos",132603313.30395003]
["TOTAL|33 GMM. Individual","TOTAL","33 GMM. Individual",64432853.400370002]
["TOTAL|34 GMM. Gpo y Col","TOTAL","34 GMM. Gpo y Col",68170459.903579995]
["TOTAL|35 Salud","TOTAL","35 Salud",3492067.6270600003]
["TOTAL|36 Salud Individual","TOTAL","36 Salud Individual",2072323.7688200001]
["TOTAL|37 Salud Gpo y Col","TOTAL","37 Salud Gpo y Col",1419743.8582400002]
["TOTAL|38 Daños Total","TOTAL","38 Daños Total",283175278.75795996]
["TOTAL|39 Automoviles Total","TOTAL","39 Automoviles Total",155156263.74667996]
["TOTAL|41 Automoviles Residentes","TOTAL","41 Automoviles Residentes",94745679.091170028]
["TOTAL|42 Camiones","TOTAL","42 Camiones",53875874.311059996]
["TOTAL|43 Automoviles Turistas","TOTAL","43 Automoviles Turistas",1588548.4696399998]
["TOTAL|44 Otros Automoviles y Obligatorios","TOTAL","44 Otros Automoviles y Obligatorios",4946161.87481]
["TOTAL|46 Daños Sin Autos Total","TOTAL","46 Daños Sin Autos Total",128019015.01127994]
["TOTAL|46 Responsabilidad Civil y Riesgos Profesionales","TOTAL","46 Responsabilidad Civil y Riesgos Profesionales",16329723.705330005]
["TOTAL|47 RC General","TOTAL","47 RC General",12779803.459880002]
["TOTAL|48 RC Aviones y Barcos","TOTAL","48 RC Aviones y Barcos",1654428.4389900002]
["TOTAL|49 RC Viajero","TOTAL","49 RC Viajero",304582.73243999999]
["TOTAL|50 RC Otros","TOTAL","50 RC Otros",1590909.0740200002]
["TOTAL|51 Maritimo y Transportes","TOTAL","51 Maritimo y Transportes",19761447.802860003]
["TOTAL|52 MyT Carga","TOTAL","52 MyT Carga",10487824.847170001]
["TOTAL|53 MyT Cascos","TOTAL","53 MyT Cascos",9273622.9556899983]
["TOTAL|54 Incendio","TOTAL","54 Incendio",27474382.985770002]
["TOTAL|55 Riesgos Catastroficos","TOTAL","55 Riesgos Catastroficos",33259292.609759994]
["TOTAL|56 Terremoto y Erupcion Volcanica","TOTAL","56 Terremoto y Erupcion Volcanica",13243395.535650002]
["TOTAL|57 Huracan y Otros Riesgos Hidrometeorologicos","TOTAL","57 Huracan y Otros Riesgos Hidrometeorologicos",20015897.230140001]
["TOTAL|58 Otros Riesgos Catastroficos","TOTAL","58 Otros Riesgos Catastroficos",-0.15603]
["TOTAL|59 Agricola y de Animales","TOTAL","59 Agricola y de Animales",366843.73007000005]
["TOTAL|60 AyA Agricola","TOTAL","60 AyA Agricola",243942.28800000003]
["TOTAL|61 AyA Otros","TOTAL","61 AyA Otros",90.905000000000001]
["TOTAL|62 AyA Pecuario","TOTAL","62 AyA Pecuario",122810.53706999999]
["TOTAL|63 Diversos","TOTAL","63 Diversos",28533293.443849999]
["TOTAL|64 Miscelaneos","TOTAL","64 Miscelaneos",14354404.674479999]
["TOTAL|65 Tecnicos","TOTAL","65 Tecnicos",14178888.769369997]
["TOTAL|66 Credito","TOTAL","66 Credito",1810044.4083199999]
["TOTAL|67 Credito a la Vivienda","TOTAL","67 Credito a la Vivienda",483986.32531999995]
["TOTAL GRANDES|10 Total General","TOTAL GRANDES","10 Total General",334683551.07089001]
["TOTAL GRANDES|11 Total General Sin Pensiones","TOTAL GRANDES","11 Total General Sin Pensiones",334683551.07089001]
["TOTAL GRANDES|12 Vida Total","TOTAL GRANDES","12 Vida Total",193634799.07780001]
["TOTAL GRANDES|13 Vida Individual","TOTAL GRANDES","13 Vida Individual",162965130.42265999]
["TOTAL GRANDES|14 Vida Gpo y Col","TOTAL GRANDES","14 Vida Gpo y Col",38006923.818389997]
["TOTAL GRANDES|15 Pensiones Total","TOTAL GRANDES","15 Pensiones Total",33835783.738300003]
["TOTAL GRANDES|16 Pensiones IMSS","TOTAL GRANDES","16 Pensiones IMSS",23942240.545390002]
["TOTAL GRANDES|17 IMSS Incapacidad Permanente RT","TOTAL GRANDES","17 IMSS Incapacidad Permanente RT",4207526.2390700001]
["TOTAL GRANDES|18 IMSS Invalidez (invalidez y vida)","TOTAL GRANDES","18 IMSS Invalidez (invalidez y vida)",6986477.5804599989]
[{"$f":"B1096&\"|\"&C1096","v":"TOTAL GRANDES|19 IMSS Jubilacion (retiro, cesantia y vejez)"},"TOTAL GRANDES","19 IMSS Jubilacion (retiro, cesantia y vejez)",889534.6317400001]
["TOTAL GRANDES|20 IMSS Muerte (invalidez y vida)","TOTAL GRANDES","20 IMSS Muerte (invalidez y vida)",11124555.43706]
["TOTAL GRANDES|21 IMSS Muerte (riesgos de trabajo)","TOTAL GRANDES","21 IMSS Muerte (riesgos de trabajo)",734146.65706000011]
["TOTAL GRANDES|22 Pensiones ISSSTE","TOTAL GRANDES","22 Pensiones ISSSTE",9893543.1929100007]
["TOTAL GRANDES|23 ISSSTE Incapacidad Permanente RT","TOTAL GRANDES","23 ISSSTE Incapacidad Permanente RT",462963.01261999999]
["TOTAL GRANDES|24 ISSSTE Invalidez (invalidez y vida)","TOTAL GRANDES","24 ISSSTE Invalidez (invalidez y vida)",204222.09362]
["TOTAL GRANDES|25 ISSSTE Jubilacion (retiro, cesantia y vejez)","TOTAL GRANDES","25 ISSSTE Jubilacion (retiro, cesantia y vejez)",7188627.0174599998]
["TOTAL GRANDES|26 ISSSTE Muerte (invalidez y vida)","TOTAL GRANDES","26 ISSSTE Muerte (invalidez y vida)",1894542.8421]
["TOTAL GRANDES|27 ISSSTE Muerte (riesgos de trabajo)","TOTAL GRANDES","27 ISSSTE Muerte (riesgos de trabajo)",143188.22711000001]
["TOTAL GRANDES|28 Accidentes y Enfermedades Total","TOTAL GRANDES","28 Accidentes y Enfermedades Total",104066594.35218]
["TOTAL GRANDES|29 Accidentes Personales","TOTAL GRANDES","29 Accidentes Personales",3067490.8354099998]
["TOTAL GRANDES|30 AP Individual","TOTAL GRANDES","30 AP Individual",2333893.0509299999]
["TOTAL GRANDES|31 AP Gpo y Col","TOTAL GRANDES","31 AP Gpo y Col",1187070.0334399999]
["TOTAL GRANDES|32 Gastos Medicos","TOTAL GRANDES","32 Gastos Medicos",103534822.46008001]
["TOTAL GRANDES|33 GMM. Individual","TOTAL GRANDES","33 GMM. Individual",50681916.862810001]
["TOTAL GRANDES|34 GMM. Gpo y Col","TOTAL GRANDES","34 GMM. Gpo y Col",55177761.801369995]
["TOTAL GRANDES|35 Salud","TOTAL GRANDES","35 Salud",3455423.1548299999]
["TOTAL GRANDES|36 Salud Individual","TOTAL GRANDES","36 Salud Individual",2066466.77364]
["TOTAL GRANDES|37 Salud Gpo y Col","TOTAL GRANDES","37 Salud Gpo y Col",1388956.3811900001]
["TOTAL GRANDES|38 Daños Total","TOTAL GRANDES","38 Daños Total",139301947.62092]
["TOTAL GRANDES|39 Automoviles Total","TOTAL GRANDES","39 Automoviles Total",110829100.75782]
["TOTAL GRANDES|41 Automoviles Residentes","TOTAL GRANDES","41 Automoviles Residentes",66075451.454489999]
["TOTAL GRANDES|42 Camiones","TOTAL GRANDES","42 Camiones",40364406.326010004]
["TOTAL GRANDES|43 Automoviles Turistas","TOTAL GRANDES","43 Automoviles Turistas",1358557.8616800001]
["TOTAL GRANDES|44 Otros Automoviles y Obligatorios","TOTAL GRANDES","44 Otros Automoviles y Obligatorios",4648978.6113299998]
["TOTAL GRANDES|46 Daños Sin Autos Total","TOTAL GRANDES","46 Daños Sin Autos Total",53950809.885759994]
["TOTAL GRANDES|46 Responsabilidad Civil y Riesgos Profesionales","TOTAL GRANDES","46 Responsabilidad Civil y Riesgos Profesionales",8838022.1101399995]
["TOTAL GRANDES|47 RC General","TOTAL GRANDES","47 RC General",6866918.2553899987]
["TOTAL GRANDES|48 RC Aviones y Barcos","TOTAL GRANDES","48 RC Aviones y Barcos",1428291.7160800002]
["TOTAL GRANDES|49 RC Viajero","TOTAL GRANDES","49 RC Viajero",255426.01286000002]
["TOTAL GRANDES|50 RC Otros","TOTAL GRANDES","50 RC Otros",1546458.0026600002]
["TOTAL GRANDES|51 Maritimo y Transportes","TOTAL GRANDES","51 Maritimo y Transportes",11640808.421209998]
["TOTAL GRANDES|52 MyT Carga","TOTAL GRANDES","52 MyT Carga",4821312.6209500004]
["TOTAL GRANDES|53 MyT Cascos","TOTAL GRANDES","53 MyT Cascos",8689950.5589000005]
["TOTAL GRANDES|54 Incendio","TOTAL GRANDES","54 Incendio",12993695.092499999]
["TOTAL GRANDES|55 Riesgos Catastroficos","TOTAL GRANDES","55 Riesgos Catastroficos",17072796.6631]
["TOTAL GRANDES|56 Terremoto y Erupcion Volcanica","TOTAL GRANDES","56 Terremoto y Erupcion Volcanica",6042388.3406299995]
["TOTAL GRANDES|57 Huracan y Otros Riesgos Hidrometeorologicos","TOTAL GRANDES","57 Huracan y Otros Riesgos Hidrometeorologicos",11653012.021600001]
["TOTAL GRANDES|58 Otros Riesgos Catastroficos","TOTAL GRANDES","58 Otros Riesgos Catastroficos",-0.15603]
["TOTAL GRANDES|59 Agricola y de Animales","TOTAL GRANDES","59 Agricola y de Animales",344757.98247000005]
["TOTAL GRANDES|60 AyA Agricola","TOTAL GRANDES","60 AyA Agricola",240513.29511000004]
["TOTAL GRANDES|61 AyA Otros","TOTAL GRANDES","61 AyA Otros",90.905000000000001]
["TOTAL GRANDES|62 AyA Pecuario","TOTAL GRANDES","62 AyA Pecuario",122810.53706999999]
["TOTAL GRANDES|63 Diversos","TOTAL GRANDES","63 Diversos",12796989.899569999]
["TOTAL GRANDES|64 Miscelaneos","TOTAL GRANDES","64 Miscelaneos",7952201.8268799987]
["TOTAL GRANDES|65 Tecnicos","TOTAL GRANDES","65 Tecnicos",7781067.7099599997]
["TOTAL GRANDES|66 Credito","TOTAL GRANDES","66 Credito",1810044.4083199999]
["TOTAL GRANDES|67 Credito a la Vivienda","TOTAL GRANDES","67 Credito a la Vivienda",483986.32531999995]
["TOTAL MEDIANAS|10 Total General","TOTAL MEDIANAS","10 Total General",271505448.0266]
["TOTAL MEDIANAS|11 Total General Sin Pensiones","TOTAL MEDIANAS","11 Total General Sin Pensiones",271505448.0266]
["TOTAL MEDIANAS|12 Vida Total","TOTAL MEDIANAS","12 Vida Total",95910204.516880006]
["TOTAL MEDIANAS|13 Vida Individual","TOTAL MEDIANAS","13 Vida Individual",71601263.660650015]
["TOTAL MEDIANAS|14 Vida Gpo y Col","TOTAL MEDIANAS","14 Vida Gpo y Col",26233687.0042]
["TOTAL MEDIANAS|28 Accidentes y Enfermedades Total","TOTAL MEDIANAS","28 Accidentes y Enfermedades Total",30053031.363770001]
["TOTAL MEDIANAS|29 Accidentes Personales","TOTAL MEDIANAS","29 Accidentes Personales",1685721.0373999998]
["TOTAL MEDIANAS|30 AP Individual","TOTAL MEDIANAS","30 AP Individual",571816.19487000001]
["TOTAL MEDIANAS|31 AP Gpo y Col","TOTAL MEDIANAS","31 AP Gpo y Col",792530.06546999991]
["TOTAL MEDIANAS|32 Gastos Medicos","TOTAL MEDIANAS","32 Gastos Medicos",26735833.589669999]
["TOTAL MEDIANAS|33 GMM. Individual","TOTAL MEDIANAS","33 GMM. Individual",12513346.288429998]
["TOTAL MEDIANAS|34 GMM. Gpo y Col","TOTAL MEDIANAS","34 GMM. Gpo y Col",12486506.04599]
["TOTAL MEDIANAS|35 Salud","TOTAL MEDIANAS","35 Salud",36644.472229999999]
["TOTAL MEDIANAS|36 Salud Individual","TOTAL MEDIANAS","36 Salud Individual",5856.9951799999999]
["TOTAL MEDIANAS|37 Salud Gpo y Col","TOTAL MEDIANAS","37 Salud Gpo y Col",30787.477050000001]
["TOTAL MEDIANAS|38 Daños Total","TOTAL MEDIANAS","38 Daños Total",106299808.44370002]
[{"$f":"B1160&\"|\"&C1160","v":"TOTAL MEDIANAS|39 Automoviles Total"},"TOTAL MEDIANAS","39 Automoviles Total",39046761.772940002]
["TOTAL MEDIANAS|41 Automoviles Residentes","TOTAL MEDIANAS","41 Automoviles Residentes",25555593.3189]
["TOTAL MEDIANAS|42 Camiones","TOTAL MEDIANAS","42 Camiones",13143283.167780001]
["TOTAL MEDIANAS|43 Automoviles Turistas","TOTAL MEDIANAS","43 Automoviles Turistas",229932.07539999997]
["TOTAL MEDIANAS|44 Otros Automoviles y Obligatorios","TOTAL MEDIANAS","44 Otros Automoviles y Obligatorios",295788.65373999998]
["TOTAL MEDIANAS|46 Daños Sin Autos Total","TOTAL MEDIANAS","46 Daños Sin Autos Total",54047654.424099997]
["TOTAL MEDIANAS|46 Responsabilidad Civil y Riesgos Profesionales","TOTAL MEDIANAS","46 Responsabilidad Civil y Riesgos Profesionales",5822487.1612499999]
["TOTAL MEDIANAS|47 RC General","TOTAL MEDIANAS","47 RC General",4437532.6684500007]
["TOTAL MEDIANAS|48 RC Aviones y Barcos","TOTAL MEDIANAS","48 RC Aviones y Barcos",225486.88690000001]
["TOTAL MEDIANAS|49 RC Viajero","TOTAL MEDIANAS","49 RC Viajero",48795.526729999998]
["TOTAL MEDIANAS|50 RC Otros","TOTAL MEDIANAS","50 RC Otros",44451.071360000002]
["TOTAL MEDIANAS|51 Maritimo y Transportes","TOTAL MEDIANAS","51 Maritimo y Transportes",6830887.0186099987]
["TOTAL MEDIANAS|52 MyT Carga","TOTAL MEDIANAS","52 MyT Carga",4914688.8095100001]
["TOTAL MEDIANAS|53 MyT Cascos","TOTAL MEDIANAS","53 MyT Cascos",534755.37701000005]
["TOTAL MEDIANAS|54 Incendio","TOTAL MEDIANAS","54 Incendio",11523646.330260001]
["TOTAL MEDIANAS|55 Riesgos Catastroficos","TOTAL MEDIANAS","55 Riesgos Catastroficos",12043253.69782]
["TOTAL MEDIANAS|56 Terremoto y Erupcion Volcanica","TOTAL MEDIANAS","56 Terremoto y Erupcion Volcanica",5459490.398839999]
["TOTAL MEDIANAS|57 Huracan y Otros Riesgos Hidrometeorologicos","TOTAL MEDIANAS","57 Huracan y Otros Riesgos Hidrometeorologicos",6270135.0816300008]
["TOTAL MEDIANAS|59 Agricola y de Animales","TOTAL MEDIANAS","59 Agricola y de Animales",22085.747599999999]
["TOTAL MEDIANAS|60 AyA Agricola","TOTAL MEDIANAS","60 AyA Agricola",3428.9928899999995]
["TOTAL MEDIANAS|63 Diversos","TOTAL MEDIANAS","63 Diversos",12245885.621959999]
["TOTAL MEDIANAS|64 Miscelaneos","TOTAL MEDIANAS","64 Miscelaneos",5108915.0358499996]
["TOTAL MEDIANAS|65 Tecnicos","TOTAL MEDIANAS","65 Tecnicos",5175035.6987999994]
["TOTAL RESTO|10 Total General","TOTAL RESTO","10 Total General",164022892.51338997]
["TOTAL RESTO|11 Total General Sin Pensiones","TOTAL RESTO","11 Total General Sin Pensiones",130187108.77509001]
["TOTAL RESTO|12 Vida Total","TOTAL RESTO","12 Vida Total",22316031.741840001]
["TOTAL RESTO|13 Vida Individual","TOTAL RESTO","13 Vida Individual",3373948.0708299996]
["TOTAL RESTO|14 Vida Gpo y Col","TOTAL RESTO","14 Vida Gpo y Col",9680082.3597900011]
["TOTAL RESTO|28 Accidentes y Enfermedades Total","TOTAL RESTO","28 Accidentes y Enfermedades Total",7220168.0621500006]
["TOTAL RESTO|29 Accidentes Personales","TOTAL RESTO","29 Accidentes Personales",491200.97427999991]
["TOTAL RESTO|30 AP Individual","TOTAL RESTO","30 AP Individual",23857.045279999998]
["TOTAL RESTO|31 AP Gpo y Col","TOTAL RESTO","31 AP Gpo y Col",335246.4571]
["TOTAL RESTO|32 Gastos Medicos","TOTAL RESTO","32 Gastos Medicos",2332657.2542000003]
["TOTAL RESTO|33 GMM. Individual","TOTAL RESTO","33 GMM. Individual",1237590.2491300001]
["TOTAL RESTO|34 GMM. Gpo y Col","TOTAL RESTO","34 GMM. Gpo y Col",506192.05622000003]
["TOTAL RESTO|38 Daños Total","TOTAL RESTO","38 Daños Total",37573522.693340003]
["TOTAL RESTO|39 Automoviles Total","TOTAL RESTO","39 Automoviles Total",5280401.2159200003]
["TOTAL RESTO|41 Automoviles Residentes","TOTAL RESTO","41 Automoviles Residentes",3114634.3177800006]
["TOTAL RESTO|42 Camiones","TOTAL RESTO","42 Camiones",368184.81726999994]
["TOTAL RESTO|43 Automoviles Turistas","TOTAL RESTO","43 Automoviles Turistas",58.532559999999997]
["TOTAL RESTO|44 Otros Automoviles y Obligatorios","TOTAL RESTO","44 Otros Automoviles y Obligatorios",1394.6097399999999]
["TOTAL RESTO|46 Daños Sin Autos Total","TOTAL RESTO","46 Daños Sin Autos Total",20020550.701420005]
["TOTAL RESTO|46 Responsabilidad Civil y Riesgos Profesionales","TOTAL RESTO","46 Responsabilidad Civil y Riesgos Profesionales",1669214.4339399999]
["TOTAL RESTO|47 RC General","TOTAL RESTO","47 RC General",1475352.5360399999]
["TOTAL RESTO|48 RC Aviones y Barcos","TOTAL RESTO","48 RC Aviones y Barcos",649.83600999999999]
["TOTAL RESTO|49 RC Viajero","TOTAL RESTO","49 RC Viajero",361.19285000000002]
["TOTAL RESTO|51 Maritimo y Transportes","TOTAL RESTO","51 Maritimo y Transportes",1289752.3630400002]
["TOTAL RESTO|52 MyT Carga","TOTAL RESTO","52 MyT Carga",751823.41671000002]
["TOTAL RESTO|53 MyT Cascos","TOTAL RESTO","53 MyT Cascos",48917.01978000001]
["TOTAL RESTO|54 Incendio","TOTAL RESTO","54 Incendio",2957041.5630099997]
["TOTAL RESTO|55 Riesgos Catastroficos","TOTAL RESTO","55 Riesgos Catastroficos",4143242.2488400005]
["TOTAL RESTO|56 Terremoto y Erupcion Volcanica","TOTAL RESTO","56 Terremoto y Erupcion Volcanica",1741516.7961799998]
["TOTAL RESTO|57 Huracan y Otros Riesgos Hidrometeorologicos","TOTAL RESTO","57 Huracan y Otros Riesgos Hidrometeorologicos",2092750.1269099999]
["TOTAL RESTO|63 Diversos","TOTAL RESTO","63 Diversos",3490417.9223199999]
["TOTAL RESTO|64 Miscelaneos","TOTAL RESTO","64 Miscelaneos",1293287.8117500001]
["TOTAL RESTO|65 Tecnicos","TOTAL RESTO","65 Tecnicos",1222785.3606099999]
["Ve Por Más|10 Total General","Ve Por Más","10 Total General",3740005.2715500002]
["Ve Por Más|11 Total General Sin Pensiones","Ve Por Más","11 Total General Sin Pensiones",3740005.2715500002]
["Ve Por Más|12 Vida Total","Ve Por Más","12 Vida Total",636010.13974999997]
["Ve Por Más|13 Vida Individual","Ve Por Más","13 Vida Individual",329589.58173000003]
["Ve Por Más|14 Vida Gpo y Col","Ve Por Más","14 Vida Gpo y Col",306420.55802]
["Ve Por Más|28 Accidentes y Enfermedades Total","Ve Por Más","28 Accidentes y Enfermedades Total",2012612.2935299999]
["Ve Por Más|29 Accidentes Personales","Ve Por Más","29 Accidentes Personales",21062.50188]
["Ve Por Más|30 AP Individual","Ve Por Más","30 AP Individual",162.48276000000001]
[{"$f":"B1224&\"|\"&C1224","v":"Ve Por Más|31 AP Gpo y Col"},"Ve Por Más","31 AP Gpo y Col",20900.019120000001]
["Ve Por Más|32 Gastos Medicos","Ve Por Más","32 Gastos Medicos",1991549.79165]
["Ve Por Más|33 GMM. Individual","Ve Por Más","33 GMM. Individual",1660110.1405799999]
["Ve Por Más|34 GMM. Gpo y Col","Ve Por Más","34 GMM. Gpo y Col",331439.65107000002]
["Ve Por Más|38 Daños Total","Ve Por Más","38 Daños Total",1091382.8382699999]
["Ve Por Más|39 Automoviles Total","Ve Por Más","39 Automoviles Total",225378.88874000002]
["Ve Por Más|41 Automoviles Residentes","Ve Por Más","41 Automoviles Residentes",142034.53233000002]
["Ve Por Más|42 Camiones","Ve Por Más","42 Camiones",79367.537799999991]
["Ve Por Más|44 Otros Automoviles y Obligatorios","Ve Por Más","44 Otros Automoviles y Obligatorios",3976.8186099999998]
["Ve Por Más|46 Daños Sin Autos Total","Ve Por Más","46 Daños Sin Autos Total",866003.94952999998]
["Ve Por Más|46 Responsabilidad Civil y Riesgos Profesionales","Ve Por Más","46 Responsabilidad Civil y Riesgos Profesionales",199428.6244]
["Ve Por Más|47 RC General","Ve Por Más","47 RC General",170693.92608999999]
["Ve Por Más|48 RC Aviones y Barcos","Ve Por Más","48 RC Aviones y Barcos",25858.397710000001]
["Ve Por Más|49 RC Viajero","Ve Por Más","49 RC Viajero",2876.3006]
["Ve Por Más|51 Maritimo y Transportes","Ve Por Más","51 Maritimo y Transportes",58359.514219999997]
["Ve Por Más|52 MyT Carga","Ve Por Más","52 MyT Carga",12471.483819999999]
["Ve Por Más|53 MyT Cascos","Ve Por Más","53 MyT Cascos",45888.030399999996]
["Ve Por Más|54 Incendio","Ve Por Más","54 Incendio",93787.341920000006]
["Ve Por Más|55 Riesgos Catastroficos","Ve Por Más","55 Riesgos Catastroficos",401074.12550999998]
["Ve Por Más|56 Terremoto y Erupcion Volcanica","Ve Por Más","56 Terremoto y Erupcion Volcanica",131052.56806999999]
["Ve Por Más|57 Huracan y Otros Riesgos Hidrometeorologicos","Ve Por Más","57 Huracan y Otros Riesgos Hidrometeorologicos",270021.55744]
["Ve Por Más|63 Diversos","Ve Por Más","63 Diversos",113354.34348000001]
["Ve Por Más|64 Miscelaneos","Ve Por Más","64 Miscelaneos",55000.236429999997]
["Ve Por Más|65 Tecnicos","Ve Por Más","65 Tecnicos",58354.107049999999]
["Virginia Surety|10 Total General","Virginia Surety","10 Total General",112129.76393]
["Virginia Surety|11 Total General Sin Pensiones","Virginia Surety","11 Total General Sin Pensiones",112129.76393]
["Virginia Surety|38 Daños Total","Virginia Surety","38 Daños Total",112129.76393]
["Virginia Surety|39 Automoviles Total","Virginia Surety","39 Automoviles Total",1389.8854199999998]
["Virginia Surety|44 Otros Automoviles y Obligatorios","Virginia Surety","44 Otros Automoviles y Obligatorios",1389.8854199999998]
["Virginia Surety|46 Daños Sin Autos Total","Virginia Surety","46 Daños Sin Autos Total",110739.87851000001]
["Virginia Surety|55 Riesgos Catastroficos","Virginia Surety","55 Riesgos Catastroficos",0]
["Virginia Surety|57 Huracan y Otros Riesgos Hidrometeorologicos","Virginia Surety","57 Huracan y Otros Riesgos Hidrometeorologicos",0]
["Virginia Surety|63 Diversos","Virginia Surety","63 Diversos",110739.87851000001]
["Virginia Surety|64 Miscelaneos","Virginia Surety","64 Miscelaneos",110739.87851000001]
["Virginia Surety|65 Tecnicos","Virginia Surety","65 Tecnicos",0]
["Zurich Aseguradora Mexicana|10 Total General","Zurich Aseguradora Mexicana","10 Total General",10982728.3653]
["Zurich Aseguradora Mexicana|11 Total General Sin Pensiones","Zurich Aseguradora Mexicana","11 Total General Sin Pensiones",10982728.3653]
["Zurich Aseguradora Mexicana|12 Vida Total","Zurich Aseguradora Mexicana","12 Vida Total",760246.34629999998]
["Zurich Aseguradora Mexicana|13 Vida Individual","Zurich Aseguradora Mexicana","13 Vida Individual",6391.2675099999997]
["Zurich Aseguradora Mexicana|14 Vida Gpo y Col","Zurich Aseguradora Mexicana","14 Vida Gpo y Col",753855.07878999994]
["Zurich Aseguradora Mexicana|28 Accidentes y Enfermedades Total","Zurich Aseguradora Mexicana","28 Accidentes y Enfermedades Total",1956794.5150899999]
["Zurich Aseguradora Mexicana|29 Accidentes Personales","Zurich Aseguradora Mexicana","29 Accidentes Personales",12835.367199999999]
["Zurich Aseguradora Mexicana|30 AP Individual","Zurich Aseguradora Mexicana","30 AP Individual",0]
["Zurich Aseguradora Mexicana|31 AP Gpo y Col","Zurich Aseguradora Mexicana","31 AP Gpo y Col",12835.367199999999]
["Zurich Aseguradora Mexicana|32 Gastos Medicos","Zurich Aseguradora Mexicana","32 Gastos Medicos",1943959.1478900001]
["Zurich Aseguradora Mexicana|33 GMM. Individual","Zurich Aseguradora Mexicana","33 GMM. Individual",85854.726980000007]
["Zurich Aseguradora Mexicana|34 GMM. Gpo y Col","Zurich Aseguradora Mexicana","34 GMM. Gpo y Col",1858104.4209100001]
["Zurich Aseguradora Mexicana|38 Daños Total","Zurich Aseguradora Mexicana","38 Daños Total",8265687.5039099995]
["Zurich Aseguradora Mexicana|39 Automoviles Total","Zurich Aseguradora Mexicana","39 Automoviles Total",2380122.2148200003]
["Zurich Aseguradora Mexicana|41 Automoviles Residentes","Zurich Aseguradora Mexicana","41 Automoviles Residentes",2362031.3107800004]
["Zurich Aseguradora Mexicana|42 Camiones","Zurich Aseguradora Mexicana","42 Camiones",4051.48029]
["Zurich Aseguradora Mexicana|43 Automoviles Turistas","Zurich Aseguradora Mexicana","43 Automoviles Turistas",5283.2220900000002]
["Zurich Aseguradora Mexicana|44 Otros Automoviles y Obligatorios","Zurich Aseguradora Mexicana","44 Otros Automoviles y Obligatorios",8756.2016600000006]
["Zurich Aseguradora Mexicana|46 Daños Sin Autos Total","Zurich Aseguradora Mexicana","46 Daños Sin Autos Total",5885565.2890900001]
["Zurich Aseguradora Mexicana|46 Responsabilidad Civil y Riesgos Profesionales","Zurich Aseguradora Mexicana","46 Responsabilidad Civil y Riesgos Profesionales",903056.38497999997]
["Zurich Aseguradora Mexicana|47 RC General","Zurich Aseguradora Mexicana","47 RC General",655733.90177]
["Zurich Aseguradora Mexicana|50 RC Otros","Zurich Aseguradora Mexicana","50 RC Otros",247322.48321000001]
["Zurich Aseguradora Mexicana|51 Maritimo y Transportes","Zurich Aseguradora Mexicana","51 Maritimo y Transportes",696410.08447]
["Zurich Aseguradora Mexicana|52 MyT Carga","Zurich Aseguradora Mexicana","52 MyT Carga",695311.17614]
["Zurich Aseguradora Mexicana|53 MyT Cascos","Zurich Aseguradora Mexicana","53 MyT Cascos",1098.90833]
["Zurich Aseguradora Mexicana|54 Incendio","Zurich Aseguradora Mexicana","54 Incendio",2350314.9826700003]
["Zurich Aseguradora Mexicana|55 Riesgos Catastroficos","Zurich Aseguradora Mexicana","55 Riesgos Catastroficos",1098795.5439000002]
["Zurich Aseguradora Mexicana|56 Terremoto y Erupcion Volcanica","Zurich Aseguradora Mexicana","56 Terremoto y Erupcion Volcanica",706936.08295000007]
["Zurich Aseguradora Mexicana|57 Huracan y Otros Riesgos Hidrometeorologicos","Zurich Aseguradora Mexicana","57 Huracan y Otros Riesgos Hidrometeorologicos",391859.46094999998]
[{"$f":"B1288&\"|\"&C1288","v":"Zurich Aseguradora Mexicana|63 Diversos"},"Zurich Aseguradora Mexicana","63 Diversos",836988.29307000001]
["Zurich Aseguradora Mexicana|64 Miscelaneos","Zurich Aseguradora Mexicana","64 Miscelaneos",367009.18919999996]
["Zurich Aseguradora Mexicana|65 Tecnicos","Zurich Aseguradora Mexicana","65 Tecnicos",469979.10386999999]
["Zurich Santander|10 Total General","Zurich Santander","10 Total General",19835739.905830003]
["Zurich Santander|11 Total General Sin Pensiones","Zurich Santander","11 Total General Sin Pensiones",19835739.905830003]
["Zurich Santander|12 Vida Total","Zurich Santander","12 Vida Total",15562563.94307]
["Zurich Santander|13 Vida Individual","Zurich Santander","13 Vida Individual",12174993.99595]
["Zurich Santander|14 Vida Gpo y Col","Zurich Santander","14 Vida Gpo y Col",3387569.9471199997]
["Zurich Santander|28 Accidentes y Enfermedades Total","Zurich Santander","28 Accidentes y Enfermedades Total",789420.16200000001]
["Zurich Santander|29 Accidentes Personales","Zurich Santander","29 Accidentes Personales",552867.84802999999]
["Zurich Santander|30 AP Individual","Zurich Santander","30 AP Individual",507880.77768]
["Zurich Santander|31 AP Gpo y Col","Zurich Santander","31 AP Gpo y Col",44987.070350000002]
["Zurich Santander|32 Gastos Medicos","Zurich Santander","32 Gastos Medicos",236552.31396999999]
["Zurich Santander|33 GMM. Individual","Zurich Santander","33 GMM. Individual",236552.31396999999]
["Zurich Santander|38 Daños Total","Zurich Santander","38 Daños Total",3483755.80076]
["Zurich Santander|39 Automoviles Total","Zurich Santander","39 Automoviles Total",654.10112000000004]
["Zurich Santander|41 Automoviles Residentes","Zurich Santander","41 Automoviles Residentes",654.10112000000004]
["Zurich Santander|46 Daños Sin Autos Total","Zurich Santander","46 Daños Sin Autos Total",3483101.6996399998]
["Zurich Santander|46 Responsabilidad Civil y Riesgos Profesionales","Zurich Santander","46 Responsabilidad Civil y Riesgos Profesionales",39748.185840000006]
["Zurich Santander|47 RC General","Zurich Santander","47 RC General",39748.185840000006]
["Zurich Santander|54 Incendio","Zurich Santander","54 Incendio",338141.23762000003]
["Zurich Santander|55 Riesgos Catastroficos","Zurich Santander","55 Riesgos Catastroficos",899351.39680999995]
["Zurich Santander|56 Terremoto y Erupcion Volcanica","Zurich Santander","56 Terremoto y Erupcion Volcanica",641246.66278999997]
["Zurich Santander|57 Huracan y Otros Riesgos Hidrometeorologicos","Zurich Santander","57 Huracan y Otros Riesgos Hidrometeorologicos",258104.73402]
["Zurich Santander|63 Diversos","Zurich Santander","63 Diversos",2205860.8793699997]
["Zurich Santander|64 Miscelaneos","Zurich Santander","64 Miscelaneos",2184189.3853699998]
["Zurich Santander|65 Tecnicos","Zurich Santander","65 Tecnicos",21671.493999999999]
["SPT|10 Total General","SPT","10 Total General",44129.07303]
["SPT|11 Total General Sin Pensiones","SPT","11 Total General Sin Pensiones",44129.07303]
["SPT|38 Daños Total","SPT","38 Daños Total",44129.07303]
["SPT|39 Automoviles Total","SPT","39 Automoviles Total",44129.07303]
["SPT|41 Automoviles Residentes","SPT","41 Automoviles Residentes",44129.07303]
["Quálitas Salud|10 Total General","Quálitas Salud","10 Total General",49328.372200000005]
["Quálitas Salud|11 Total General Sin Pensiones","Quálitas Salud","11 Total General Sin Pensiones",49328.372200000005]
["Quálitas Salud|28 Accidentes y Enfermedades Total","Quálitas Salud","28 Accidentes y Enfermedades Total",49328.372200000005]
["Quálitas Salud|29 Accidentes Personales","Quálitas Salud","29 Accidentes Personales",25478.528999999999]
["Quálitas Salud|30 AP Individual","Quálitas Salud","30 AP Individual",0]
["Quálitas Salud|31 AP Gpo y Col","Quálitas Salud","31 AP Gpo y Col",25478.528999999999]
["Quálitas Salud|32 Gastos Medicos","Quálitas Salud","32 Gastos Medicos",2711.1290299999996]
["Quálitas Salud|33 GMM. Individual","Quálitas Salud","33 GMM. Individual",0]
["Quálitas Salud|34 GMM. Gpo y Col","Quálitas Salud","34 GMM. Gpo y Col",2711.1290299999996]
["Quálitas Salud|35 Salud","Quálitas Salud","35 Salud",21138.714170000003]
["Quálitas Salud|36 Salud Individual","Quálitas Salud","36 Salud Individual",4933.1543799999999]
["Quálitas Salud|37 Salud Gpo y Col","Quálitas Salud","37 Salud Gpo y Col",16205.559789999999]
["Momento Seguros|10 Total General","Momento Seguros","10 Total General",77172.757209999996]
["Momento Seguros|11 Total General Sin Pensiones","Momento Seguros","11 Total General Sin Pensiones",77172.757209999996]
["Momento Seguros|38 Daños Total","Momento Seguros","38 Daños Total",77172.757209999996]
["Momento Seguros|39 Automoviles Total","Momento Seguros","39 Automoviles Total",77172.757209999996]
["Momento Seguros|41 Automoviles Residentes","Momento Seguros","41 Automoviles Residentes",73151.291970000006]
["Momento Seguros|44 Otros Automoviles y Obligatorios","Momento Seguros","44 Otros Automoviles y Obligatorios",4021.4652400000004]
["Thona|10 Total General","Thona","10 Total General",1952625.4802899999]
["Thona|11 Total General Sin Pensiones","Thona","11 Total General Sin Pensiones",1952625.4802899999]
["Thona|12 Vida Total","Thona","12 Vida Total",1848324.33846]
["Thona|13 Vida Individual","Thona","13 Vida Individual",1259.0092]
["Thona|14 Vida Gpo y Col","Thona","14 Vida Gpo y Col",1847065.32926]
["Thona|28 Accidentes y Enfermedades Total","Thona","28 Accidentes y Enfermedades Total",104301.14182999999]
["Thona|29 Accidentes Personales","Thona","29 Accidentes Personales",100038.33875]
["Thona|30 AP Individual","Thona","30 AP Individual",349.52411000000001]
["Thona|31 AP Gpo y Col","Thona","31 AP Gpo y Col",99688.814639999997]
["Thona|32 Gastos Medicos","Thona","32 Gastos Medicos",4262.8030799999997]
["Thona|33 GMM. Individual","Thona","33 GMM. Individual",34.86392]
["Thona|34 GMM. Gpo y Col","Thona","34 GMM. Gpo y Col",4227.9391599999999]
["Pensiones BBVA|10 Total General","Pensiones BBVA","10 Total General",9676186.3633600008]
["Pensiones BBVA|15 Pensiones Total","Pensiones BBVA","15 Pensiones Total",9676186.3633600008]
[{"$f":"B1352&\"|\"&C1352","v":"Pensiones BBVA|16 Pensiones IMSS"},"Pensiones BBVA","16 Pensiones IMSS",6952924.5695000002]
["Pensiones BBVA|17 IMSS Incapacidad Permanente RT","Pensiones BBVA","17 IMSS Incapacidad Permanente RT",2285854.2570700003]
["Pensiones BBVA|18 IMSS Invalidez (invalidez y vida)","Pensiones BBVA","18 IMSS Invalidez (invalidez y vida)",863145.46796000004]
["Pensiones BBVA|19 IMSS Jubilacion (retiro, cesantia y vejez)","Pensiones BBVA","19 IMSS Jubilacion (retiro, cesantia y vejez)",269007.11544000002]
["Pensiones BBVA|20 IMSS Muerte (invalidez y vida)","Pensiones BBVA","20 IMSS Muerte (invalidez y vida)",3315447.6841599997]
["Pensiones BBVA|21 IMSS Muerte (riesgos de trabajo)","Pensiones BBVA","21 IMSS Muerte (riesgos de trabajo)",219470.04487000001]
["Pensiones BBVA|22 Pensiones ISSSTE","Pensiones BBVA","22 Pensiones ISSSTE",2723261.7938600001]
["Pensiones BBVA|23 ISSSTE Incapacidad Permanente RT","Pensiones BBVA","23 ISSSTE Incapacidad Permanente RT",197138.59588000001]
["Pensiones BBVA|24 ISSSTE Invalidez (invalidez y vida)","Pensiones BBVA","24 ISSSTE Invalidez (invalidez y vida)",16994.557489999999]
["Pensiones BBVA|25 ISSSTE Jubilacion (retiro, cesantia y vejez)","Pensiones BBVA","25 ISSSTE Jubilacion (retiro, cesantia y vejez)",2038978.14665]
["Pensiones BBVA|26 ISSSTE Muerte (invalidez y vida)","Pensiones BBVA","26 ISSSTE Muerte (invalidez y vida)",434386.25154999999]
["Pensiones BBVA|27 ISSSTE Muerte (riesgos de trabajo)","Pensiones BBVA","27 ISSSTE Muerte (riesgos de trabajo)",35764.242290000002]
["Banamex Pensiones|10 Total General","Banamex Pensiones","10 Total General",9930.3873499999991]
["Banamex Pensiones|15 Pensiones Total","Banamex Pensiones","15 Pensiones Total",9930.3873499999991]
["Banamex Pensiones|16 Pensiones IMSS","Banamex Pensiones","16 Pensiones IMSS",9930.3873500000009]
["Banamex Pensiones|17 IMSS Incapacidad Permanente RT","Banamex Pensiones","17 IMSS Incapacidad Permanente RT",815.70528999999999]
["Banamex Pensiones|18 IMSS Invalidez (invalidez y vida)","Banamex Pensiones","18 IMSS Invalidez (invalidez y vida)",3224.7001800000003]
["Banamex Pensiones|20 IMSS Muerte (invalidez y vida)","Banamex Pensiones","20 IMSS Muerte (invalidez y vida)",5889.9818800000003]
["Banamex Pensiones|21 IMSS Muerte (riesgos de trabajo)","Banamex Pensiones","21 IMSS Muerte (riesgos de trabajo)",0]
["BBVA Salud|10 Total General","BBVA Salud","10 Total General",1738518.10781]
["BBVA Salud|11 Total General Sin Pensiones","BBVA Salud","11 Total General Sin Pensiones",1738518.10781]
["BBVA Salud|28 Accidentes y Enfermedades Total","BBVA Salud","28 Accidentes y Enfermedades Total",1738518.10781]
["BBVA Salud|32 Gastos Medicos","BBVA Salud","32 Gastos Medicos",1723020.5488499999]
["BBVA Salud|33 GMM. Individual","BBVA Salud","33 GMM. Individual",324117.14679000003]
["BBVA Salud|34 GMM. Gpo y Col","BBVA Salud","34 GMM. Gpo y Col",1398903.40206]
["BBVA Salud|35 Salud","BBVA Salud","35 Salud",15497.55896]
["BBVA Salud|36 Salud Individual","BBVA Salud","36 Salud Individual",915.6416999999999]
["BBVA Salud|37 Salud Gpo y Col","BBVA Salud","37 Salud Gpo y Col",14581.91726]
["BBVA|10 Total General","BBVA","10 Total General",72393915.932039991]
["BBVA|11 Total General Sin Pensiones","BBVA","11 Total General Sin Pensiones",72393915.932039991]
["BBVA|12 Vida Total","BBVA","12 Vida Total",56228654.272830002]
["BBVA|13 Vida Individual","BBVA","13 Vida Individual",53410320.847319998]
["BBVA|14 Vida Gpo y Col","BBVA","14 Vida Gpo y Col",2818333.4255100004]
["BBVA|28 Accidentes y Enfermedades Total","BBVA","28 Accidentes y Enfermedades Total",441232.06129000004]
["BBVA|29 Accidentes Personales","BBVA","29 Accidentes Personales",441226.93699000002]
["BBVA|30 AP Individual","BBVA","30 AP Individual",423262.85961000004]
["BBVA|31 AP Gpo y Col","BBVA","31 AP Gpo y Col",17964.077379999999]
["BBVA|32 Gastos Medicos","BBVA","32 Gastos Medicos",5.1242999999999999]
["BBVA|33 GMM. Individual","BBVA","33 GMM. Individual",5.1242999999999999]
["BBVA|38 Daños Total","BBVA","38 Daños Total",15724029.597920001]
["BBVA|39 Automoviles Total","BBVA","39 Automoviles Total",9866811.9656399991]
["BBVA|41 Automoviles Residentes","BBVA","41 Automoviles Residentes",7217841.5575999999]
["BBVA|42 Camiones","BBVA","42 Camiones",2648970.4080400001]
["BBVA|46 Daños Sin Autos Total","BBVA","46 Daños Sin Autos Total",5857217.6322800005]
["BBVA|46 Responsabilidad Civil y Riesgos Profesionales","BBVA","46 Responsabilidad Civil y Riesgos Profesionales",222133.32491999998]
["BBVA|47 RC General","BBVA","47 RC General",222133.32491999998]
["BBVA|51 Maritimo y Transportes","BBVA","51 Maritimo y Transportes",10.61003]
["BBVA|52 MyT Carga","BBVA","52 MyT Carga",0]
["BBVA|53 MyT Cascos","BBVA","53 MyT Cascos",10.61003]
["BBVA|54 Incendio","BBVA","54 Incendio",1098463.1317700001]
["BBVA|55 Riesgos Catastroficos","BBVA","55 Riesgos Catastroficos",1909178.03474]
["BBVA|56 Terremoto y Erupcion Volcanica","BBVA","56 Terremoto y Erupcion Volcanica",1127780.88399]
["BBVA|57 Huracan y Otros Riesgos Hidrometeorologicos","BBVA","57 Huracan y Otros Riesgos Hidrometeorologicos",781397.15075000003]
["BBVA|63 Diversos","BBVA","63 Diversos",2627432.53082]
["BBVA|64 Miscelaneos","BBVA","64 Miscelaneos",2562272.1582499999]
["BBVA|65 Tecnicos","BBVA","65 Tecnicos",65160.37257]
["Banamex Seguros|10 Total General","Banamex Seguros","10 Total General",38955130.270920001]
["Banamex Seguros|11 Total General Sin Pensiones","Banamex Seguros","11 Total General Sin Pensiones",38955130.270920001]
["Banamex Seguros|12 Vida Total","Banamex Seguros","12 Vida Total",38266807.853989996]
["Banamex Seguros|13 Vida Individual","Banamex Seguros","13 Vida Individual",35833878.989029996]
["Banamex Seguros|14 Vida Gpo y Col","Banamex Seguros","14 Vida Gpo y Col",2432928.8649600004]
["Banamex Seguros|28 Accidentes y Enfermedades Total","Banamex Seguros","28 Accidentes y Enfermedades Total",688323.78201999993]
["Banamex Seguros|29 Accidentes Personales","Banamex Seguros","29 Accidentes Personales",688323.78201999993]
["Banamex Seguros|30 AP Individual","Banamex Seguros","30 AP Individual",571782.50830999995]
[{"$f":"B1416&\"|\"&C1416","v":"Banamex Seguros|31 AP Gpo y Col"},"Banamex Seguros","31 AP Gpo y Col",116541.27370999999]
["Banamex Seguros|32 Gastos Medicos","Banamex Seguros","32 Gastos Medicos",0]
["Banamex Seguros|33 GMM. Individual","Banamex Seguros","33 GMM. Individual",0]
["Banamex Seguros|38 Daños Total","Banamex Seguros","38 Daños Total",-1.3650899999999999]
["Banamex Seguros|39 Automoviles Total","Banamex Seguros","39 Automoviles Total",-1.3650899999999999]
["Banamex Seguros|41 Automoviles Residentes","Banamex Seguros","41 Automoviles Residentes",-1.3650899999999999]
["Banamex Seguros|46 Daños Sin Autos Total","Banamex Seguros","46 Daños Sin Autos Total",0]
["Banamex Seguros|46 Responsabilidad Civil y Riesgos Profesionales","Banamex Seguros","46 Responsabilidad Civil y Riesgos Profesionales",0]
["Banamex Seguros|47 RC General","Banamex Seguros","47 RC General",0]
["Banamex Seguros|54 Incendio","Banamex Seguros","54 Incendio",0]
["Banamex Seguros|55 Riesgos Catastroficos","Banamex Seguros","55 Riesgos Catastroficos",0]
["Banamex Seguros|56 Terremoto y Erupcion Volcanica","Banamex Seguros","56 Terremoto y Erupcion Volcanica",0]
["Banamex Seguros|57 Huracan y Otros Riesgos Hidrometeorologicos","Banamex Seguros","57 Huracan y Otros Riesgos Hidrometeorologicos",0]
["Banamex Seguros|63 Diversos","Banamex Seguros","63 Diversos",0]
["Banamex Seguros|64 Miscelaneos","Banamex Seguros","64 Miscelaneos",0]
["Banamex Seguros|65 Tecnicos","Banamex Seguros","65 Tecnicos",0]
["|"]
["|"]
["|"]
["|"]
["|"]
["|"]
["|"]
["|"]
["|"]
["|"]
["|"]
["|"]
["|"]
["|"]
["|"]
["|"]
["|"]
["|"]
["|"]
["|"]
["|"]
["|"]
["|"]
["|"]
["|"]
["|"]
["|"]
["|"]
["|"]
["|"]
["|"]
["|"]
["|"]
["|"]
["|"]
["|"]
["|"]
["|"]
["|"]
["|"]
["|"]
["|"]
["|"]
["|"]
["|"]
["|"]
["|"]
["|"]
[{"$f":"B1480&\"|\"&C1480","v":"|"}]
["|"]
["|"]
["|"]
["|"]
["|"]
["|"]
["|"]
["|"]
["|"]
["|"]
["|"]
["|"]
["|"]
["|"]
["|"]
["|"]
["|"]
["|"]
["|"]
["|"]
["|"]
["|"]
["|"]
["|"]
["|"]
["|"]
["|"]
["|"]
["|"]
["|"]
["|"]
["|"]
["|"]
["|"]
["|"]
["|"]
["|"]
["|"]
["|"]
["|"]
["|"]
["|"]
["|"]
["|"]
["|"]
["|"]
["|"]
["|"]
["|"]
["|"]
["|"]
["|"]
["|"]
["|"]
["|"]
["|"]
["|"]
["|"]
["|"]
["|"]
["|"]
["|"]
["|"]
[{"$f":"B1544&\"|\"&C1544","v":"|"}]
["|"]
["|"]
["|"]
["|"]
["|"]
["|"]
["|"]
["|"]
["|"]
["|"]
["|"]
["|"]
["|"]
["|"]
["|"]
["|"]
["|"]
["|"]
["|"]
["|"]
["|"]
["|"]
["|"]
["|"]
["|"]
["|"]
["|"]
["|"]
["|"]
["|"]
["|"]
["|"]
["|"]
["|"]
["|"]
["|"]
["|"]
["|"]
["|"]
["|"]
["|"]
["|"]
["|"]
["|"]
["|"]
["|"]
["|"]
["|"]
["|"]
["|"]
["|"]
["|"]
["|"]
["|"]
["|"]
["|"]
["|"]
["|"]
["|"]
["|"]
["|"]
["|"]
["|"]
[{"$f":"B1608&\"|\"&C1608","v":"|"}]
["|"]
["|"]
["|"]
["|"]
["|"]
["|"]
["|"]
["|"]

{"sheet":"TD Siniestros Daños","index":4,"n_rows":56,"n_cols":13,"rows_kept":56,"cut":false,"hidden":true,"merged":[]}
[]
["periodo","2025-Q3"]
["Ramo_","38 Daños Total"]
["subramo","(Varios elementos)"]
[]
["Jerarquia 2","nombre_compania","Suma de CostoSin_Act","Suma de SIN_IncreRel","Suma de IncResvDivAct","Suma de SINvsPRIM_ACT","Suma de SINvsPRIM_ANT","Suma de Costo_Sin_RetAct","Suma de IncrSinRet","Suma de Prima_DevengadaAct","Suma de IncrDevengada","Suma de SINvsPDEV_ACT","Suma de SINvsPDEV_ANT"]
[1,"Quálitas",29050534.715600006,6.5079565999290434,173534.27540000001,57.264121437380844,59.554248081835304,29034384.411910001,6.3980093226629453,48584938.11366,15.546017301360227,59.760052269669927,64.898169405982387]
[2,"G.N.P.",13859928.283299994,18.05915048272464,46820.783039999995,49.013397999503006,46.294601589022008,12516208.791129999,12.424503082770343,21670918.28664,19.025750428666743,57.755784160037983,61.14703968211861]
[3,"AXA Seguros",11907099.75114,33.531118480533692,132434.01183999999,54.433097797313515,45.359439903497467,8843447.5074799992,4.5146846205724067,14611957.341879999,8.4401026728121877,60.521991000708638,62.795108093241225]
[4,"Chubb Seguros México",8621512.5578900017,-2.3483416100202326,13851.56171,39.556939057903548,48.113409184065489,4009911.70334,-5.7115158789180276,7582048.1817100001,13.612894116199659,52.886919302531176,63.726085097883114]
[5,"Mapfre México",-369868.2832699992,-103.2783093607339,106303.13381,-2.2249865003249196,76.319741928270048,2240877.42967,-0.55838322091484871,4140191.5828899997,8.6568430825614939,54.124969456263386,59.140714959640164]
[5.0999999999999996,"TOTAL GRANDES",63069207.024659999,-7.3104674607527116,472943.76580000005,45.275179638040058,54.895920269340351,56644829.843529999,6.0979816176635282,96590053.506779999,14.69644417335283,58.644578594786566,63.397291186045713]
[6,"BBVA",7149106.3137700008,13.870821530705557,0,45.466120940879527,46.054245496224802,6562966.84222,13.582995955313626,14368372.48567,24.806460656066331,45.676480400027486,50.189905680920944]
[7,"Inbursa",9409215.8564000018,63.871017628025939,0,64.740957179250827,38.743304958802213,3983996.96111,1.2942622962063721,6692398.7430600002,12.700546429978488,59.530179149014309,66.233600670782408]
[8,"Agroasemex",3258243.7236100002,-47.00340201940805,8494.59238,24.73045822601998,101.58079071990991,2219599.5237500002,34.897488268575415,3447743.2063000002,33.113459829739192,64.378330720633869,63.526922927022866]
[9,"Banorte",5929264.9185299994,6.9156038480626902,1636.0263300000001,45.166924778696419,52.166056956338792,4667102.0251499992,12.075665414296521,8266153.2799700005,13.847348204041587,56.460385708779611,57.352906786328816]
[10,"HDI Seguros",5966563.1769500002,15.014929373476328,0,54.676059573822791,56.306500352922519,5533396.4457999999,9.7487284355010306,9479397.1837399993,15.51237751452379,58.372872647339115,61.438427560546828]
[11,"Atlas",3532376.7709300015,16.166891758763271,15288.96574,35.482212969988886,30.639227950964148,2706731.5507700001,-0.10169110258045899,4258547.67404,7.9043723943549082,63.559968279095905,68.653799671458771]
[12,"GMX Seguros",3448249.2285699989,-14.492875106215564,0,40.802638169754538,45.912330150253013,1008643.97549,-14.668787175957299,2735568.45958,4.827028163243563,36.871457994688974,45.295563460456115]
[13,"Zurich Aseguradora Mexicana",2988216.083959999,-4.3190361308507068,9096.2206700000006,36.152057315818602,38.000950218677701,2196272.8831100003,-13.574798675076361,4247086.5435199998,-2.2030337852375514,51.712458896345495,58.516746481789696]
[14,"AIG Seguros",2304353.9962199996,91.02731431168516,10046.130860000001,37.802138066665201,23.25477994384924,505807.93501999998,-6.5738963503529817,904169.13754999998,20.773600997460683,55.941738554643948,72.31688947062662]
[15,"Allianz México",-196713.37792999999,-108.33786132619889,11086.609120000001,-3.2465281678111544,47.064432415612686,306584.02945999999,-13.014615375136385,766568.51792999997,32.887169309795162,39.994341313139607,61.099170032223697]
[15.1,"TOTAL MEDIANAS",43788876.691010006,2.6373828082959738,55648.545100000003,41.193749388741445,46.639373932129097,29691102.171879999,6.4603613779881108,55166005.231360003,15.573500186379775,53.82137431804037,58.428550629205134]
[16,"FM Global",4591850.6461399999,21.477002908509736,0,126.71981772570334,116.46725575054424,15336.07065,-475.28696803947474,46588.208659999997,-1320.3849471592423,32.91835228506509,107.04624736596999]
[17,"Zurich Santander",77966.445750000014,-35.503659119658629,0,2.2379997396198439,3.7539413077624824,72819.911659999998,-50.036789626443067,2508420.4845700003,7.9162022722392145,2.9030185372801629,6.270268329974872]
[18,"Afirme",1304352.1142100005,-37.277796248443373,1665.3928699999999,38.837124998797712,63.789979874566903,1425199.0474100001,-13.606963365241542,2274484.5848900001,-0.29123858456506779,62.660308048600221,72.318116700181719]
[19,"ANA",1835327.8969100001,-1.324412888463522,10970.27701,54.830708410322138,66.790956202893611,1530251.73642,1.5871460106693158,2435498.9769000001,10.37649698661478,62.831138544256959,68.267307888218355]
[20,"Seguros SURA",1660925.8111400001,49.638860182223276,-5767.45622,51.061515689438906,36.231540016462702,1403922.8049600001,26.803577494814036,2038132.30094,-5.4010500813949207,68.882810223482622,51.388467449591559]
[21,"Cardif Seguros Generales",293532.63031000004,0,0,11.950258388051962,0,262763.78469999996,0,2034903.37249,0,12.912838430184049,0]
[22,"HDI Global Seguros",1776902.6795999999,97.659502784811011,0,77.407017299899195,42.73390452146559,19389.581989999999,-14877.890145853829,-7011.7653099999998,-34.631924401449346,-276.52924952218632,1.2231911801731934]
[23,"General de Seguros",1272521.6870800001,16.427696021278781,-1877.17165,61.711356953161776,58.473783627784861,1135360.7525799999,17.700770907524642,1735224.9847599999,15.530498550606264,65.430175484537088,64.223715237356743]
[24,"El Potosí",934878.04974999989,13.802552537933854,0,46.914955206105901,54.264860681413296,871218.37387999997,26.319349752296439,1515206.39683,33.095352561900881,57.498329976872917,60.582646403729534]
[25,"Seguros Azteca Daños",504172.82344000001,68.560045078046869,7972.2413799999995,25.304254715099706,17.031560909727919,114291.04525,22.39777995611254,360816.04122000001,7.7233901495360913,31.675710665068085,27.878078666626539]
[26,"El Águila",942654.73620000028,82.053280740874442,0,69.58077747031875,40.374712725227191,561586.73679999996,5.2756436911287841,1057382.2735599999,-1.1347771266611018,53.111041374776121,49.877015788741588]
[27,"Swiss Re Corporate Solutions",555122.79879000015,225.60230008007414,0,42.069008415827682,13.225725790171994,4072.4895899999997,46.041171953546908,8052.7642599999999,-214.02130523483694,50.572566866622758,-39.484413922962545]
[28,"Ve Por Más",808118.31851999986,136.55208070407122,0,74.045356971251678,30.470211505986132,172398.75996,-22.256578451269039,372487.15006000001,4.5952529122400998,46.283142903649185,62.268896083331171]
[29,"Tokio Marine",347943.9945899999,-24.157977069944025,1645.75614,35.22492106534704,59.374504250930293,34143.677979999993,-41.045336363795549,118786.20959999999,-2.4147345959712796,28.74380628439549,47.578457614372184]
[30,"Berkley Seguros",399937.60344999988,116.91327735511491,5748.2577499999998,50.556985296701193,27.358518682961165,31096.719840000002,101.20110018919979,27398.97163,4.1834032384514552,113.49593794955143,58.769027894009007]
[31,"Sompo Japan",131354.68675000008,-3.4856840991833171,1608.00521,17.31097984749492,20.401632223596337,38841.262109999996,339.14845723663279,74370.059209999992,164.6263098339416,52.227015175990744,31.471458163899495]
[32,"Atradius",347401.89166999998,149.71957784877898,1452.1160300000001,51.220442956526313,22.989775323447201,39032.096270000002,-20.778322745587207,173546.51957,12.5330664848887,22.490855112917664,31.947883223880915]
[33,"Solunion Crédito",552327.55256999994,207.99666192393329,769.00381999999991,112.29661574344669,34.136580769157078,23433.792109999999,354.37874060863572,21505.25964,-3.3135203015725256,108.96772465101006,23.187056866131648]
[34,"Primero Seguros",825054.79418999958,-11.017289252065455,0,191.05283506606338,62.727981661526165,686881.99938000005,-15.207844997651943,745872.36523999996,-29.481443637887761,92.091091102293561,76.588816479138501]
[35,"SHF Cred Vivienda",168492.11899000002,91.887347671540027,0,47.311545065462241,24.972121225714407,164245.12747000001,111.02039704307232,363300.24563000002,22.888130456483346,45.209198024400465,26.32766264543384]
[36,"La Latinoamericana",144443.25928999993,-36.792182422669647,3227.0411800000002,45.438918078191747,54.15307229574956,87616.541580000005,-40.611005725440741,210390.80012,-17.073004752601882,41.644663896912988,58.149946589315668]
[37,"Coface",125599.20271999999,36.288568612097883,-3785.3339000000001,43.138347102261868,30.174373784119535,20107.241160000001,-3.1923927752710246,53859.894289999997,-3.5380294293430592,37.332492803895555,37.199202887216245]
[38,"Crabi",177404.42518999998,79.723234927370967,0,63.708611005640122,58.244843214183398,178868.58948,95.875580803546725,228825.34779,97.909405180791651,78.168171143414213,78.97981050828011]
[39,"Genworth Seg. de Crédito",112869.93919,81.28592191934365,0,88.280938085635896,53.036792845675521,117160.00358,77.800603658860339,153477.44413999998,-0.34676877531694128,76.336952466532011,42.785141437037318]
[40,"Virginia Surety",28931.921979999999,2.6951358285088434,0,25.802178624099774,29.531126328387973,23247.22694,32.29195009270687,81657.371969999993,28.409893256403905,28.469232329128559,27.633813560940911]
[41,"Tláloc Seguros",28463.917489999996,-49.924852650311557,0,25.559057551487012,60.506515236660583,4381.7613899999997,-45.940495343174568,22959.619739999998,70.665719154941399,19.084642688424594,60.250168585735352]
[42,"SPP Seguros",7765.1696100000008,150.97837848619102,0,8.9270887060961179,4.35597059921911,8348.0348799999992,194.52377974109285,75995.735180000003,-2.6207495825801619,10.984872848755563,3.6319603289174966]
[43,"Momento Seguros",38436.471559999998,377.8042861676127,0,49.805751342287699,37.526814243693117,13585.942369999999,354.59264321166125,22022.358989999997,494.3353576857632,61.691585248288618,80.655705569066313]
[44,"SPT",38978.43303,21.775994204484348,0,88.328238854012469,73.953851983615479,38978.43303,21.775994204484327,43659.373919999998,13.884219650078112,89.278497445755406,83.492744851406329]
[46,"Banamex Seguros",-145.24493999999999,42.568487526810351,0,10639.953409665297,3603.7251503360471,132.49170000000001,-83.125471975091486,0,0,0,0]
[150.1,"TOTAL RESTO",20033586.775170002,26.672550502356131,23628.12962,53.318361812056025,48.037217463623058,9098712.0371199995,9.2972601996318396,18797813.350489996,18.761676718507637,48.403034265061613,52.594415423429417]
[200,"Patria",0,0,0,0,0,4190779.3663400002,32.153596872210599,9319510.3707699999,32.489455686415724,44.967806243170131,45.082088672401639]
[201.1,"TOTAL",126891670.49083996,0.29183591418733279,552220.44051999995,44.81029242644405,50.945499302883334,95434644.052530006,6.5080079641815392,170553872.08862996,15.415170504395693,55.955718204355087,60.635241243300896]

{"sheet":"Cat","index":5,"n_rows":77,"n_cols":20,"rows_kept":77,"cut":false,"hidden":true,"merged":[]}
[null,"ramo"]
[null,"Total General",1,{"$f":"E2&F2&\" \"&B2","v":"10 Total General"},1,0,null,"Automoviles Total",0,null,"Pensiones Total",1,null,"Q4","Cuarto Trimestre",null,null,"Ramo_"]
[null,"Total General Sin Pensiones",2,{"$f":"E3&F3&\" \"&B3","v":"11 Total General Sin Pensiones"},1,1,null,"Automoviles Residentes",0,null,"Pensiones IMSS",1,null,"Q3","Tercer Trimestre",null,null,"10 Total General","10 Total General",0]
[null,"Vida Total",3,"12 Vida Total",1,2,null,"Camiones",0,null,"Pensiones ISSSTE",1,null,"Q2","Segundo Trimestre",null,null,"11 Total General Sin Pensiones","10 Total General",0]
[null,"Vida Individual",4,"13 Vida Individual",1,3,null,"Automoviles Turistas",0,null,null,null,null,"Q1","Primer Trimestre",null,null,"12 Vida Total","12 Vida Total",0]
[null,"Vida Gpo y Col",5,"14 Vida Gpo y Col",1,4,null,"Otros Automoviles y Obligatorios",0,null,null,null,null,null,null,null,null,"13 Vida Individual","12 Vida Total",0]
[null,"Pensiones Total",6,"15 Pensiones Total",1,5,null,"Total General",0,null,null,null,null,null,null,null,null,"14 Vida Gpo y Col","12 Vida Total",0]
[null,"Pensiones IMSS",7,"16 Pensiones IMSS",1,6,null,"Total General Sin Pensiones",0,null,null,null,null,null,null,null,null,"15 Pensiones Total","15 Pensiones Total",0]
[null,"IMSS Incapacidad Permanente RT",null,"17 IMSS Incapacidad Permanente RT",1,7,null,"Vida Total",0,null,null,null,null,null,null,null,null,"16 Pensiones IMSS","15 Pensiones Total",0]
[null,"IMSS Invalidez (invalidez y vida)",null,"18 IMSS Invalidez (invalidez y vida)",1,8,null,"Vida Individual",0,null,null,null,null,null,null,null,null,"17 Pensiones ISSSTE","15 Pensiones Total",0]
[null,"IMSS Jubilacion (retiro, cesantia y vejez)",null,"19 IMSS Jubilacion (retiro, cesantia y vejez)",1,9,null,"Vida Gpo y Col",0,null,null,null,null,null,null,null,null,"18 Accidentes y Enfermedades Total","18 Accidentes y Enfermedades Total",0]
[null,"IMSS Muerte (invalidez y vida)",null,"20 IMSS Muerte (invalidez y vida)",2,0,null,"Pensiones Total",1,null,null,null,null,null,null,null,null,"19 Accidentes Personales","18 Accidentes y Enfermedades Total",0]
[null,"IMSS Muerte (riesgos de trabajo)",null,"21 IMSS Muerte (riesgos de trabajo)",2,1,null,"Pensiones IMSS",1,null,null,null,null,null,null,null,null,"20 AP Individual","18 Accidentes y Enfermedades Total",0]
[null,"Pensiones ISSSTE",8,"22 Pensiones ISSSTE",2,2,null,"Pensiones ISSSTE",1,null,null,null,null,null,null,null,null,"21 AP Gpo y Col","18 Accidentes y Enfermedades Total",0]
[null,"ISSSTE Incapacidad Permanente RT",null,"23 ISSSTE Incapacidad Permanente RT",2,3,null,"Accidentes y Enfermedades Total",0,null,null,null,null,null,null,null,null,"22 Gastos Medicos","18 Accidentes y Enfermedades Total",0]
[null,"ISSSTE Invalidez (invalidez y vida)",null,"24 ISSSTE Invalidez (invalidez y vida)",2,4,null,"Accidentes Personales",0,null,null,null,null,null,null,null,null,"23 GMM. Individual","18 Accidentes y Enfermedades Total",0]
[null,"ISSSTE Jubilacion (retiro, cesantia y vejez)",null,"25 ISSSTE Jubilacion (retiro, cesantia y vejez)",2,5,null,"AP Individual",0,null,null,null,null,null,null,null,null,"24 GMM. Gpo y Col","18 Accidentes y Enfermedades Total",0]
[null,"ISSSTE Muerte (invalidez y vida)",null,"26 ISSSTE Muerte (invalidez y vida)",2,6,null,"AP Gpo y Col",0,null,null,null,null,null,null,null,null,"25 Salud","18 Accidentes y Enfermedades Total",0]
[null,"ISSSTE Muerte (riesgos de trabajo)",null,"27 ISSSTE Muerte (riesgos de trabajo)",2,7,null,"Gastos Medicos",0,null,null,null,null,null,null,null,null,"26 Salud Individual","18 Accidentes y Enfermedades Total",0]
[null,"Accidentes y Enfermedades Total",14,"28 Accidentes y Enfermedades Total",2,8,null,"GMM. Individual",0,null,null,null,null,null,null,null,null,"27 Salud Gpo y Col","18 Accidentes y Enfermedades Total",0]
[null,"Accidentes Personales",15,"29 Accidentes Personales",2,9,null,"GMM. Gpo y Col",0,null,null,null,null,null,null,null,null,"28 Daños Total","28 Daños Total",1]
[null,"AP Individual",16,"30 AP Individual",3,0,null,"Salud",0,null,null,null,null,null,null,null,null,"29 Automoviles Total","29 Automoviles Total",1]
[null,"AP Gpo y Col",17,"31 AP Gpo y Col",3,1,null,"Salud Individual",0,null,null,null,null,null,null,null,null,"30 Automoviles Residentes","29 Automoviles Total",1]
[null,"Gastos Medicos",18,"32 Gastos Medicos",3,2,null,"Salud Gpo y Col",0,null,null,null,null,null,null,null,null,"31 Camiones","29 Automoviles Total",1]
[null,"GMM. Individual",19,"33 GMM. Individual",3,3,null,"Daños Total",0,null,null,null,null,null,null,null,null,"32 Automoviles Turistas","29 Automoviles Total",1]
[null,"GMM. Gpo y Col",20,"34 GMM. Gpo y Col",3,4,null,"Daños Sin Autos Total",0,null,null,null,null,null,null,null,null,"33 Otros Automoviles y Obligatorios","29 Automoviles Total",1]
[null,"Salud",21,"35 Salud",3,5,null,"Responsabilidad Civil y Riesgos Profesionales",0,null,null,null,null,null,null,null,null,"34 Daños Sin Autos Total","28 Daños Total",1]
[null,"Salud Individual",22,"36 Salud Individual",3,6,null,"RC General",0,null,null,null,null,null,null,null,null,"35 Responsabilidad Civil y Riesgos Profesionales","35 Responsabilidad Civil y Riesgos Profesionales",1]
[null,"Salud Gpo y Col",23,"37 Salud Gpo y Col",3,7,null,"RC Aviones y Barcos",0,null,null,null,null,null,null,null,null,"36 RC General","35 Responsabilidad Civil y Riesgos Profesionales",1]
[null,"Daños Total",24,"38 Daños Total",3,8,null,"RC Viajero",0,null,null,null,null,null,null,null,null,"37 RC Aviones y Barcos","35 Responsabilidad Civil y Riesgos Profesionales",1]
[null,"Daños",null,{"$f":"D30","v":"38 Daños Total"},null,null,null,"RC Otros",0,null,null,null,null,null,null,null,null,"38 RC Viajero","35 Responsabilidad Civil y Riesgos Profesionales",1]
[null,"Automoviles Total",25,"39 Automoviles Total",3,9,null,"Maritimo y Transportes",0,null,null,null,null,null,null,null,null,"39 RC Otros","35 Responsabilidad Civil y Riesgos Profesionales",1]
[null,"Automoviles",null,"39 Automoviles Total",3,9,null,"MyT Carga",0,null,null,null,null,null,null,null,null,"40 Maritimo y Transportes","40 Maritimo y Transportes",1]
[null,"Automoviles Residentes",26,"41 Automoviles Residentes",4,1,null,"MyT Cascos",0,null,null,null,null,null,null,null,null,"41 MyT Carga","40 Maritimo y Transportes",1]
[null,"Camiones",27,"42 Camiones",4,2,null,"Incendio",0,null,null,null,null,null,null,null,null,"42 MyT Cascos","40 Maritimo y Transportes",1]
[null,"Automoviles Turistas",28,"43 Automoviles Turistas",4,3,null,"Riesgos Catastroficos",0,null,null,null,null,null,null,null,null,"43 Incendio","43 Incendio",1]
[null,"Otros Automoviles y Obligatorios",29,"44 Otros Automoviles y Obligatorios",4,4,null,"Terremoto y Erupcion Volcanica",0,null,null,null,null,null,null,null,null,"44 Riesgos Catastroficos","44 Riesgos Catastroficos",1]
[null,"Daños Sin Autos Total",30,"45 Daños Sin Autos Total",4,5,null,"Huracan y Otros Riesgos Hidrometeorologicos",0,null,null,null,null,null,null,null,null,"45 Terremoto y Erupcion Volcanica","44 Riesgos Catastroficos",1]
[null,"Daños Sin Autos",null,"46 Daños Sin Autos Total",null,null,null,"Otros Riesgos Catastroficos",0,null,null,null,null,null,null,null,null,"46 Huracan y Otros Riesgos Hidrometeorologicos","44 Riesgos Catastroficos",1]
[null,"Responsabilidad Civil y Riesgos Profesionales",31,"46 Responsabilidad Civil y Riesgos Profesionales",4,6,null,"Agricola y de Animales",0,null,null,null,null,null,null,null,null,"47 Otros Riesgos Catastroficos","44 Riesgos Catastroficos",1]
[null,"RC General",32,"47 RC General",4,7,null,"AyA Agricola",0,null,null,null,null,null,null,null,null,"48 Agricola y de Animales","48 Agricola y de Animales",1]
[null,"RC Aviones y Barcos",33,"48 RC Aviones y Barcos",4,8,null,"AyA Otros",0,null,null,null,null,null,null,null,null,"49 AyA Agricola","48 Agricola y de Animales",1]
[null,"RC Viajero",34,"49 RC Viajero",4,9,null,"AyA Pecuario",0,null,null,null,null,null,null,null,null,"50 AyA Otros","48 Agricola y de Animales",1]
[null,"RC Otros",35,"50 RC Otros",5,0,null,"Diversos",0,null,null,null,null,null,null,null,null,"51 AyA Pecuario","48 Agricola y de Animales",1]
[null,"Maritimo y Transportes",36,"51 Maritimo y Transportes",5,1,null,"Miscelaneos",0,null,null,null,null,null,null,null,null,"52 Diversos","52 Diversos",1]
[null,"MyT Carga",37,"52 MyT Carga",5,2,null,"Tecnicos",0,null,null,null,null,null,null,null,null,"53 Miscelaneos","52 Diversos",1]
[null,"MyT Cascos",38,"53 MyT Cascos",5,3,null,"Credito",0,null,null,null,null,null,null,null,null,"54 Tecnicos","52 Diversos",1]
[null,"Incendio",39,"54 Incendio",5,4,null,"Credito a la Vivienda",0,null,null,null,null,null,null,null,null,"55 Credito","52 Diversos",1]
[null,"Riesgos Catastroficos",40,"55 Riesgos Catastroficos",5,5,null,null,null,null,null,null,null,null,null,null,null,"56 Credito a la Vivienda","52 Diversos",1]
[null,"Terremoto y Erupcion Volcanica",41,"56 Terremoto y Erupcion Volcanica",5,6]
[null,"Huracan y Otros Riesgos Hidrometeorologicos",42,"57 Huracan y Otros Riesgos Hidrometeorologicos",5,7]
[null,"Otros Riesgos Catastroficos",43,"58 Otros Riesgos Catastroficos",5,8]
[null,"Agricola y de Animales",44,"59 Agricola y de Animales",5,9]
[null,"AyA Agricola",45,"60 AyA Agricola",6,0]
[null,"AyA Otros",46,"61 AyA Otros",6,1]
[null,"AyA Pecuario",47,"62 AyA Pecuario",6,2]
[null,"Diversos",48,"63 Diversos",6,3]
[null,"Miscelaneos",49,"64 Miscelaneos",6,4]
[null,"Tecnicos",50,"65 Tecnicos",6,5]
[null,"Credito",51,"66 Credito",6,6]
[null,"Credito a la Vivienda",52,"67 Credito a la Vivienda",6,7]
[]
[]
[null,"Automoviles"]
[null,"Daños",null,{"$f":"E65&F65&\" \"&B65","v":" Daños"}]
[null,"Daños Sin Autos"]
[null,"IMSS Incapacidad Permanente RT",null,{"$f":"E67&F67&\" \"&B67","v":" IMSS Incapacidad Permanente RT"}]
[null,"IMSS Invalidez (invalidez y vida)",null,{"$f":"E68&F68&\" \"&B68","v":" IMSS Invalidez (invalidez y vida)"}]
[null,"IMSS Jubilacion (retiro, cesantia y vejez)"]
[null,"IMSS Muerte (invalidez y vida)",null,{"$f":"E70&F70&\" \"&B70","v":" IMSS Muerte (invalidez y vida)"}]
[null,"IMSS Muerte (riesgos de trabajo)",null,{"$f":"E71&F71&\" \"&B71","v":" IMSS Muerte (riesgos de trabajo)"}]
[null,"ISSSTE Incapacidad Permanente RT"]
[null,"ISSSTE Invalidez (invalidez y vida)",null,{"$f":"E73&F73&\" \"&B73","v":" ISSSTE Invalidez (invalidez y vida)"}]
[null,"ISSSTE Jubilacion (retiro, cesantia y vejez)",null,{"$f":"E74&F74&\" \"&B74","v":" ISSSTE Jubilacion (retiro, cesantia y vejez)"}]
[null,"ISSSTE Muerte (invalidez y vida)",null,{"$f":"E75&F75&\" \"&B75","v":" ISSSTE Muerte (invalidez y vida)"}]
[null,"ISSSTE Muerte (riesgos de trabajo)",null,{"$f":"E76&F76&\" \"&B76","v":" ISSSTE Muerte (riesgos de trabajo)"}]
[null,null,null," "]

{"sheet":"Inicio","index":6,"n_rows":38,"n_cols":10,"rows_kept":38,"cut":false,"hidden":false,"merged":[[24,0,24,1],[24,5,24,6],[5,3,8,9],[13,1,14,4],[13,6,14,9],[21,1,22,9]]}
[]
[]
[]
[null,null,null,null,null,null,null,null,null,"EstadisticAMIS Informe"]
[]
[null,null,null,"Con la finalidad de atender la solicitud de información, presentamos esta publicación comparando los datosprimas del periodo actual vs el mismo periodo del año anterior."]
[]
[]
[]
[null,null,null,null,null,null,null,null,"Periodo:","2025-Q3"]
[null,null,null,null,null,null,null,null,"Fecha de actualización:","2025-11-05"]
[null,null,null,null,null,null,null,null,"Porcentaje de articipación:",0.99929999999999997]
[]
[null,"ANÁLISIS DE PRIMAS DIRECTAS",null,null,null,null,"ANÁLISIS DE SINIESTROS"]
[]
[]
[]
[]
[]
[]
[null,"NOTAS DE ACTUALIZACIÓN:"]
[null,"*Dentegra cambio su nombre por AUNA Seguros.\n*No se incluyen la información de AUNA Seguros."]
[]
[]
[]
[null,"DEFINICIÓN DE TÉRMINOS"]
[]
[null,"Participación de mercado"]
[null,"Porcentaje que representa la participación de las compañías sobre el total del ramo o subramo que se está consultando."]
[]
[null,"Participación por operación"]
[null,"Porcentaje que representa la participación del subramo sobre el ramo de la compañía."]
[]
[null,"Participación por cartera"]
[null,"Porcentaje que representa la participación del ramo o subramos sobre el total general sin pensiones de la compañía."]
[]
[null,"Participación por sector"]
[null,"Porcentaje que representa la participación de la compañía del ramo o subramo(s) sobre la suma del total general sin pensiones."]

{"sheet":"Primas Directas","index":7,"n_rows":129,"n_cols":12,"rows_kept":129,"cut":false,"hidden":false,"merged":[[5,7,6,7],[5,8,6,8],[1,1,1,11],[4,3,4,4],[4,5,4,6],[4,7,4,8],[4,9,4,11]]}
[null,"PRIMAS DIRECTAS",null,null,null,null,null,null,null,null,null,{"$f":"VLOOKUP(RIGHT(TDPrimas_!B3,2),Cat!$N$2:$O$5,2,0)&\" \"&LEFT(TDPrimas_!B3,4)","v":"Tercer Trimestre 2025"}]
[null,{"$f":"UPPER(RIGHT(TDPrimas_!$B$4,LEN(TDPrimas_!$B$4)-3))","v":"TOTAL GENERAL"}]
[null,null,null,null,null,null,null,null,null,null,null,"Cifras en miles"]
[null,null,null,2,3,4,5,6,7,8,9,10]
[null,null,null,"Primas Directas",null,"% Part. en Merc. ",null,"Incremento",null,"% de Cartera"]
[null,"Compañías",null,{"$f":"LEFT(TDPrimas_!B3,4)","v":"2025"},{"$f":"D6-1","v":2024},{"$f":"D6","v":"2025"},{"$f":"E6","v":2024},"Importe","%","Por ","Total","Total"]
[null,null,null,"Importe","Importe",{"$f":"RIGHT(TDPrimas_!B3,2)","v":"Q3"},{"$f":"RIGHT(TDPrimas_!B3,2)","v":"Q3"},null,null,"Operación","Cartera","Sector"]
[null,null,"TOTAL",{"$f":"VLOOKUP($C$8,$C$9:$L$125,D$4,0)","v":770211891.61088002},{"$f":"VLOOKUP($C$8,$C$9:$L$125,E$4,0)","v":686509089.51391983},99.999999999999972,99.999999999999972,83702802.096960187,12.192526417417969,100,100,99.999999999999972]
[null,{"$f":"IF(TDPrimas_!A7=\"\",\"\",TDPrimas_!A7)","v":1},{"$f":"IF(TDPrimas_!B7=\"\",\"\",TDPrimas_!B7)","v":"G.N.P."},{"$f":"IF(TDPrimas_!C7=\"\",\"\",TDPrimas_!C7)","v":95200080.783360004},{"$f":"IF(TDPrimas_!D7=\"\",\"\",TDPrimas_!D7)","v":84865140.385240003},{"$f":"IF(TDPrimas_!E7=\"\",\"\",TDPrimas_!E7)","v":12.360245514289742},{"$f":"IF(TDPrimas_!F7=\"\",\"\",TDPrimas_!F7)","v":12.361837837475454},{"$f":"IF(TDPrimas_!G7=\"\",\"\",TDPrimas_!G7)","v":10334940.398120001},{"$f":"IF(TDPrimas_!H7=\"\",\"\",TDPrimas_!H7)","v":12.178074944794993},{"$f":"IF(TDPrimas_!I7=\"\",\"\",TDPrimas_!I7)","v":100},{"$f":"IF(TDPrimas_!J7=\"\",\"\",TDPrimas_!J7)","v":100},{"$f":"IF(TDPrimas_!K7=\"\",\"\",TDPrimas_!K7)","v":12.360245514289742}]
[null,{"$f":"IF(TDPrimas_!A8=\"\",\"\",TDPrimas_!A8)","v":2},{"$f":"IF(TDPrimas_!B8=\"\",\"\",TDPrimas_!B8)","v":"BBVA"},{"$f":"IF(TDPrimas_!C8=\"\",\"\",TDPrimas_!C8)","v":72393915.932039991},{"$f":"IF(TDPrimas_!D8=\"\",\"\",TDPrimas_!D8)","v":61339841.861339994},{"$f":"IF(TDPrimas_!E8=\"\",\"\",TDPrimas_!E8)","v":9.3992207495822733},{"$f":"IF(TDPrimas_!F8=\"\",\"\",TDPrimas_!F8)","v":8.9350371026800843},{"$f":"IF(TDPrimas_!G8=\"\",\"\",TDPrimas_!G8)","v":11054074.070699997},{"$f":"IF(TDPrimas_!H8=\"\",\"\",TDPrimas_!H8)","v":18.021034510796376},{"$f":"IF(TDPrimas_!I8=\"\",\"\",TDPrimas_!I8)","v":100},{"$f":"IF(TDPrimas_!J8=\"\",\"\",TDPrimas_!J8)","v":100},{"$f":"IF(TDPrimas_!K8=\"\",\"\",TDPrimas_!K8)","v":9.3992207495822733}]
[null,{"$f":"IF(TDPrimas_!A9=\"\",\"\",TDPrimas_!A9)","v":3},{"$f":"IF(TDPrimas_!B9=\"\",\"\",TDPrimas_!B9)","v":"Metlife México"},{"$f":"IF(TDPrimas_!C9=\"\",\"\",TDPrimas_!C9)","v":66136633.356480002},{"$f":"IF(TDPrimas_!D9=\"\",\"\",TDPrimas_!D9)","v":62258031.00485},{"$f":"IF(TDPrimas_!E9=\"\",\"\",TDPrimas_!E9)","v":8.5868102111688724},{"$f":"IF(TDPrimas_!F9=\"\",\"\",TDPrimas_!F9)","v":9.0687846608020202},{"$f":"IF(TDPrimas_!G9=\"\",\"\",TDPrimas_!G9)","v":3878602.3516300023},{"$f":"IF(TDPrimas_!H9=\"\",\"\",TDPrimas_!H9)","v":6.2298827782199639},{"$f":"IF(TDPrimas_!I9=\"\",\"\",TDPrimas_!I9)","v":100},{"$f":"IF(TDPrimas_!J9=\"\",\"\",TDPrimas_!J9)","v":100},{"$f":"IF(TDPrimas_!K9=\"\",\"\",TDPrimas_!K9)","v":8.5868102111688724}]
[null,{"$f":"IF(TDPrimas_!A10=\"\",\"\",TDPrimas_!A10)","v":4},{"$f":"IF(TDPrimas_!B10=\"\",\"\",TDPrimas_!B10)","v":"Quálitas"},{"$f":"IF(TDPrimas_!C10=\"\",\"\",TDPrimas_!C10)","v":50730778.690750003},{"$f":"IF(TDPrimas_!D10=\"\",\"\",TDPrimas_!D10)","v":45799351.88222},{"$f":"IF(TDPrimas_!E10=\"\",\"\",TDPrimas_!E10)","v":6.5866002905574152},{"$f":"IF(TDPrimas_!F10=\"\",\"\",TDPrimas_!F10)","v":6.671339474128164},{"$f":"IF(TDPrimas_!G10=\"\",\"\",TDPrimas_!G10)","v":4931426.8085300028},{"$f":"IF(TDPrimas_!H10=\"\",\"\",TDPrimas_!H10)","v":10.767459812994563},{"$f":"IF(TDPrimas_!I10=\"\",\"\",TDPrimas_!I10)","v":100},{"$f":"IF(TDPrimas_!J10=\"\",\"\",TDPrimas_!J10)","v":100},{"$f":"IF(TDPrimas_!K10=\"\",\"\",TDPrimas_!K10)","v":6.5866002905574152}]
[null,{"$f":"IF(TDPrimas_!A11=\"\",\"\",TDPrimas_!A11)","v":5},{"$f":"IF(TDPrimas_!B11=\"\",\"\",TDPrimas_!B11)","v":"AXA Seguros"},{"$f":"IF(TDPrimas_!C11=\"\",\"\",TDPrimas_!C11)","v":50222142.308260001},{"$f":"IF(TDPrimas_!D11=\"\",\"\",TDPrimas_!D11)","v":47053426.409630001},{"$f":"IF(TDPrimas_!E11=\"\",\"\",TDPrimas_!E11)","v":6.5205617902395101},{"$f":"IF(TDPrimas_!F11=\"\",\"\",TDPrimas_!F11)","v":6.8540136071535462},{"$f":"IF(TDPrimas_!G11=\"\",\"\",TDPrimas_!G11)","v":3168715.8986300007},{"$f":"IF(TDPrimas_!H11=\"\",\"\",TDPrimas_!H11)","v":6.7342936326130864},{"$f":"IF(TDPrimas_!I11=\"\",\"\",TDPrimas_!I11)","v":100},{"$f":"IF(TDPrimas_!J11=\"\",\"\",TDPrimas_!J11)","v":100},{"$f":"IF(TDPrimas_!K11=\"\",\"\",TDPrimas_!K11)","v":6.5205617902395101}]
[null,{"$f":"IF(TDPrimas_!A12=\"\",\"\",TDPrimas_!A12)","v":5.0999999999999996},{"$f":"IF(TDPrimas_!B12=\"\",\"\",TDPrimas_!B12)","v":"TOTAL GRANDES"},{"$f":"IF(TDPrimas_!C12=\"\",\"\",TDPrimas_!C12)","v":334683551.07089001},{"$f":"IF(TDPrimas_!D12=\"\",\"\",TDPrimas_!D12)","v":301315791.54328001},{"$f":"IF(TDPrimas_!E12=\"\",\"\",TDPrimas_!E12)","v":43.453438555837813},{"$f":"IF(TDPrimas_!F12=\"\",\"\",TDPrimas_!F12)","v":43.891012682239271},{"$f":"IF(TDPrimas_!G12=\"\",\"\",TDPrimas_!G12)","v":33367759.527610004},{"$f":"IF(TDPrimas_!H12=\"\",\"\",TDPrimas_!H12)","v":11.074016186376067},{"$f":"IF(TDPrimas_!I12=\"\",\"\",TDPrimas_!I12)","v":100},{"$f":"IF(TDPrimas_!J12=\"\",\"\",TDPrimas_!J12)","v":100},{"$f":"IF(TDPrimas_!K12=\"\",\"\",TDPrimas_!K12)","v":43.453438555837813}]
[null,{"$f":"IF(TDPrimas_!A13=\"\",\"\",TDPrimas_!A13)","v":6},{"$f":"IF(TDPrimas_!B13=\"\",\"\",TDPrimas_!B13)","v":"Banorte"},{"$f":"IF(TDPrimas_!C13=\"\",\"\",TDPrimas_!C13)","v":45159030.643440001},{"$f":"IF(TDPrimas_!D13=\"\",\"\",TDPrimas_!D13)","v":35723485.483519994},{"$f":"IF(TDPrimas_!E13=\"\",\"\",TDPrimas_!E13)","v":5.8631957173487601},{"$f":"IF(TDPrimas_!F13=\"\",\"\",TDPrimas_!F13)","v":5.2036434810810528},{"$f":"IF(TDPrimas_!G13=\"\",\"\",TDPrimas_!G13)","v":9435545.159920007},{"$f":"IF(TDPrimas_!H13=\"\",\"\",TDPrimas_!H13)","v":26.412722701072443},{"$f":"IF(TDPrimas_!I13=\"\",\"\",TDPrimas_!I13)","v":100},{"$f":"IF(TDPrimas_!J13=\"\",\"\",TDPrimas_!J13)","v":100},{"$f":"IF(TDPrimas_!K13=\"\",\"\",TDPrimas_!K13)","v":5.8631957173487601}]
[null,{"$f":"IF(TDPrimas_!A14=\"\",\"\",TDPrimas_!A14)","v":7},{"$f":"IF(TDPrimas_!B14=\"\",\"\",TDPrimas_!B14)","v":"Banamex Seguros"},{"$f":"IF(TDPrimas_!C14=\"\",\"\",TDPrimas_!C14)","v":38955130.270920001},{"$f":"IF(TDPrimas_!D14=\"\",\"\",TDPrimas_!D14)","v":44827465.708169997},{"$f":"IF(TDPrimas_!E14=\"\",\"\",TDPrimas_!E14)","v":5.0577160253195066},{"$f":"IF(TDPrimas_!F14=\"\",\"\",TDPrimas_!F14)","v":6.529770165156866},{"$f":"IF(TDPrimas_!G14=\"\",\"\",TDPrimas_!G14)","v":-5872335.4372499958},{"$f":"IF(TDPrimas_!H14=\"\",\"\",TDPrimas_!H14)","v":-13.099860419233423},{"$f":"IF(TDPrimas_!I14=\"\",\"\",TDPrimas_!I14)","v":100},{"$f":"IF(TDPrimas_!J14=\"\",\"\",TDPrimas_!J14)","v":100},{"$f":"IF(TDPrimas_!K14=\"\",\"\",TDPrimas_!K14)","v":5.0577160253195066}]
[null,{"$f":"IF(TDPrimas_!A15=\"\",\"\",TDPrimas_!A15)","v":8},{"$f":"IF(TDPrimas_!B15=\"\",\"\",TDPrimas_!B15)","v":"Monterrey New York Life"},{"$f":"IF(TDPrimas_!C15=\"\",\"\",TDPrimas_!C15)","v":33270313.765279997},{"$f":"IF(TDPrimas_!D15=\"\",\"\",TDPrimas_!D15)","v":30915868.760259997},{"$f":"IF(TDPrimas_!E15=\"\",\"\",TDPrimas_!E15)","v":4.3196312764914486},{"$f":"IF(TDPrimas_!F15=\"\",\"\",TDPrimas_!F15)","v":4.5033444177920279},{"$f":"IF(TDPrimas_!G15=\"\",\"\",TDPrimas_!G15)","v":2354445.00502},{"$f":"IF(TDPrimas_!H15=\"\",\"\",TDPrimas_!H15)","v":7.6156520888277957},{"$f":"IF(TDPrimas_!I15=\"\",\"\",TDPrimas_!I15)","v":100},{"$f":"IF(TDPrimas_!J15=\"\",\"\",TDPrimas_!J15)","v":100},{"$f":"IF(TDPrimas_!K15=\"\",\"\",TDPrimas_!K15)","v":4.3196312764914486}]
[null,{"$f":"IF(TDPrimas_!A16=\"\",\"\",TDPrimas_!A16)","v":9},{"$f":"IF(TDPrimas_!B16=\"\",\"\",TDPrimas_!B16)","v":"Mapfre México"},{"$f":"IF(TDPrimas_!C16=\"\",\"\",TDPrimas_!C16)","v":30687810.645959999},{"$f":"IF(TDPrimas_!D16=\"\",\"\",TDPrimas_!D16)","v":25680299.423299998},{"$f":"IF(TDPrimas_!E16=\"\",\"\",TDPrimas_!E16)","v":3.984333529540443},{"$f":"IF(TDPrimas_!F16=\"\",\"\",TDPrimas_!F16)","v":3.7407078530428239},{"$f":"IF(TDPrimas_!G16=\"\",\"\",TDPrimas_!G16)","v":5007511.2226600014},{"$f":"IF(TDPrimas_!H16=\"\",\"\",TDPrimas_!H16)","v":19.499426934705589},{"$f":"IF(TDPrimas_!I16=\"\",\"\",TDPrimas_!I16)","v":100},{"$f":"IF(TDPrimas_!J16=\"\",\"\",TDPrimas_!J16)","v":100},{"$f":"IF(TDPrimas_!K16=\"\",\"\",TDPrimas_!K16)","v":3.984333529540443}]
[null,{"$f":"IF(TDPrimas_!A17=\"\",\"\",TDPrimas_!A17)","v":10},{"$f":"IF(TDPrimas_!B17=\"\",\"\",TDPrimas_!B17)","v":"Inbursa"},{"$f":"IF(TDPrimas_!C17=\"\",\"\",TDPrimas_!C17)","v":24654610.774860002},{"$f":"IF(TDPrimas_!D17=\"\",\"\",TDPrimas_!D17)","v":23848282.467700001},{"$f":"IF(TDPrimas_!E17=\"\",\"\",TDPrimas_!E17)","v":3.2010166349542408},{"$f":"IF(TDPrimas_!F17=\"\",\"\",TDPrimas_!F17)","v":3.4738480279388111},{"$f":"IF(TDPrimas_!G17=\"\",\"\",TDPrimas_!G17)","v":806328.30716000125},{"$f":"IF(TDPrimas_!H17=\"\",\"\",TDPrimas_!H17)","v":3.3810749610672763},{"$f":"IF(TDPrimas_!I17=\"\",\"\",TDPrimas_!I17)","v":100},{"$f":"IF(TDPrimas_!J17=\"\",\"\",TDPrimas_!J17)","v":100},{"$f":"IF(TDPrimas_!K17=\"\",\"\",TDPrimas_!K17)","v":3.2010166349542408}]
[null,{"$f":"IF(TDPrimas_!A18=\"\",\"\",TDPrimas_!A18)","v":11},{"$f":"IF(TDPrimas_!B18=\"\",\"\",TDPrimas_!B18)","v":"Chubb Seguros México"},{"$f":"IF(TDPrimas_!C18=\"\",\"\",TDPrimas_!C18)","v":24127131.326069999},{"$f":"IF(TDPrimas_!D18=\"\",\"\",TDPrimas_!D18)","v":20570212.76644},{"$f":"IF(TDPrimas_!E18=\"\",\"\",TDPrimas_!E18)","v":3.132531656400249},{"$f":"IF(TDPrimas_!F18=\"\",\"\",TDPrimas_!F18)","v":2.9963496595514347},{"$f":"IF(TDPrimas_!G18=\"\",\"\",TDPrimas_!G18)","v":3556918.5596299991},{"$f":"IF(TDPrimas_!H18=\"\",\"\",TDPrimas_!H18)","v":17.291598293203169},{"$f":"IF(TDPrimas_!I18=\"\",\"\",TDPrimas_!I18)","v":100},{"$f":"IF(TDPrimas_!J18=\"\",\"\",TDPrimas_!J18)","v":100},{"$f":"IF(TDPrimas_!K18=\"\",\"\",TDPrimas_!K18)","v":3.132531656400249}]
[null,{"$f":"IF(TDPrimas_!A19=\"\",\"\",TDPrimas_!A19)","v":12},{"$f":"IF(TDPrimas_!B19=\"\",\"\",TDPrimas_!B19)","v":"Allianz México"},{"$f":"IF(TDPrimas_!C19=\"\",\"\",TDPrimas_!C19)","v":23235788.467980001},{"$f":"IF(TDPrimas_!D19=\"\",\"\",TDPrimas_!D19)","v":18450547.527869999},{"$f":"IF(TDPrimas_!E19=\"\",\"\",TDPrimas_!E19)","v":3.0168046898604604},{"$f":"IF(TDPrimas_!F19=\"\",\"\",TDPrimas_!F19)","v":2.6875896925026637},{"$f":"IF(TDPrimas_!G19=\"\",\"\",TDPrimas_!G19)","v":4785240.9401100017},{"$f":"IF(TDPrimas_!H19=\"\",\"\",TDPrimas_!H19)","v":25.935495588311298},{"$f":"IF(TDPrimas_!I19=\"\",\"\",TDPrimas_!I19)","v":100},{"$f":"IF(TDPrimas_!J19=\"\",\"\",TDPrimas_!J19)","v":100},{"$f":"IF(TDPrimas_!K19=\"\",\"\",TDPrimas_!K19)","v":3.0168046898604604}]
[null,{"$f":"IF(TDPrimas_!A20=\"\",\"\",TDPrimas_!A20)","v":13},{"$f":"IF(TDPrimas_!B20=\"\",\"\",TDPrimas_!B20)","v":"Zurich Santander"},{"$f":"IF(TDPrimas_!C20=\"\",\"\",TDPrimas_!C20)","v":19835739.905830003},{"$f":"IF(TDPrimas_!D20=\"\",\"\",TDPrimas_!D20)","v":16146107.356520001},{"$f":"IF(TDPrimas_!E20=\"\",\"\",TDPrimas_!E20)","v":2.5753614196145445},{"$f":"IF(TDPrimas_!F20=\"\",\"\",TDPrimas_!F20)","v":2.3519145781379507},{"$f":"IF(TDPrimas_!G20=\"\",\"\",TDPrimas_!G20)","v":3689632.5493100025},{"$f":"IF(TDPrimas_!H20=\"\",\"\",TDPrimas_!H20)","v":22.851529894108392},{"$f":"IF(TDPrimas_!I20=\"\",\"\",TDPrimas_!I20)","v":100},{"$f":"IF(TDPrimas_!J20=\"\",\"\",TDPrimas_!J20)","v":100},{"$f":"IF(TDPrimas_!K20=\"\",\"\",TDPrimas_!K20)","v":2.5753614196145445}]
[null,{"$f":"IF(TDPrimas_!A21=\"\",\"\",TDPrimas_!A21)","v":14},{"$f":"IF(TDPrimas_!B21=\"\",\"\",TDPrimas_!B21)","v":"Atlas"},{"$f":"IF(TDPrimas_!C21=\"\",\"\",TDPrimas_!C21)","v":17981615.092089999},{"$f":"IF(TDPrimas_!D21=\"\",\"\",TDPrimas_!D21)","v":17823957.294020001},{"$f":"IF(TDPrimas_!E21=\"\",\"\",TDPrimas_!E21)","v":2.3346322340572891},{"$f":"IF(TDPrimas_!F21=\"\",\"\",TDPrimas_!F21)","v":2.5963177423681572},{"$f":"IF(TDPrimas_!G21=\"\",\"\",TDPrimas_!G21)","v":157657.79806999862},{"$f":"IF(TDPrimas_!H21=\"\",\"\",TDPrimas_!H21)","v":0.88452746755005585},{"$f":"IF(TDPrimas_!I21=\"\",\"\",TDPrimas_!I21)","v":100},{"$f":"IF(TDPrimas_!J21=\"\",\"\",TDPrimas_!J21)","v":100},{"$f":"IF(TDPrimas_!K21=\"\",\"\",TDPrimas_!K21)","v":2.3346322340572891}]
[null,{"$f":"IF(TDPrimas_!A22=\"\",\"\",TDPrimas_!A22)","v":15},{"$f":"IF(TDPrimas_!B22=\"\",\"\",TDPrimas_!B22)","v":"Agroasemex"},{"$f":"IF(TDPrimas_!C22=\"\",\"\",TDPrimas_!C22)","v":13598277.13417},{"$f":"IF(TDPrimas_!D22=\"\",\"\",TDPrimas_!D22)","v":6432910.42368},{"$f":"IF(TDPrimas_!E22=\"\",\"\",TDPrimas_!E22)","v":1.7655241735789771},{"$f":"IF(TDPrimas_!F22=\"\",\"\",TDPrimas_!F22)","v":0.93704664977339125},{"$f":"IF(TDPrimas_!G22=\"\",\"\",TDPrimas_!G22)","v":7165366.7104899995},{"$f":"IF(TDPrimas_!H22=\"\",\"\",TDPrimas_!H22)","v":111.38607937262388},{"$f":"IF(TDPrimas_!I22=\"\",\"\",TDPrimas_!I22)","v":100},{"$f":"IF(TDPrimas_!J22=\"\",\"\",TDPrimas_!J22)","v":100},{"$f":"IF(TDPrimas_!K22=\"\",\"\",TDPrimas_!K22)","v":1.7655241735789771}]
[null,{"$f":"IF(TDPrimas_!A23=\"\",\"\",TDPrimas_!A23)","v":15.1},{"$f":"IF(TDPrimas_!B23=\"\",\"\",TDPrimas_!B23)","v":"TOTAL MEDIANAS"},{"$f":"IF(TDPrimas_!C23=\"\",\"\",TDPrimas_!C23)","v":271505448.0266},{"$f":"IF(TDPrimas_!D23=\"\",\"\",TDPrimas_!D23)","v":240419137.21147999},{"$f":"IF(TDPrimas_!E23=\"\",\"\",TDPrimas_!E23)","v":35.25074735716592},{"$f":"IF(TDPrimas_!F23=\"\",\"\",TDPrimas_!F23)","v":35.020532267345182},{"$f":"IF(TDPrimas_!G23=\"\",\"\",TDPrimas_!G23)","v":31086310.815120012},{"$f":"IF(TDPrimas_!H23=\"\",\"\",TDPrimas_!H23)","v":12.930048404497651},{"$f":"IF(TDPrimas_!I23=\"\",\"\",TDPrimas_!I23)","v":100},{"$f":"IF(TDPrimas_!J23=\"\",\"\",TDPrimas_!J23)","v":100},{"$f":"IF(TDPrimas_!K23=\"\",\"\",TDPrimas_!K23)","v":35.25074735716592}]
[null,{"$f":"IF(TDPrimas_!A24=\"\",\"\",TDPrimas_!A24)","v":16},{"$f":"IF(TDPrimas_!B24=\"\",\"\",TDPrimas_!B24)","v":"HSBC Seguros"},{"$f":"IF(TDPrimas_!C24=\"\",\"\",TDPrimas_!C24)","v":12979804.617629999},{"$f":"IF(TDPrimas_!D24=\"\",\"\",TDPrimas_!D24)","v":12695334.40454},{"$f":"IF(TDPrimas_!E24=\"\",\"\",TDPrimas_!E24)","v":1.6852251645301191},{"$f":"IF(TDPrimas_!F24=\"\",\"\",TDPrimas_!F24)","v":1.8492594779085707},{"$f":"IF(TDPrimas_!G24=\"\",\"\",TDPrimas_!G24)","v":284470.21308999881},{"$f":"IF(TDPrimas_!H24=\"\",\"\",TDPrimas_!H24)","v":2.2407461199940526},{"$f":"IF(TDPrimas_!I24=\"\",\"\",TDPrimas_!I24)","v":100},{"$f":"IF(TDPrimas_!J24=\"\",\"\",TDPrimas_!J24)","v":100},{"$f":"IF(TDPrimas_!K24=\"\",\"\",TDPrimas_!K24)","v":1.6852251645301191}]
[null,{"$f":"IF(TDPrimas_!A25=\"\",\"\",TDPrimas_!A25)","v":17},{"$f":"IF(TDPrimas_!B25=\"\",\"\",TDPrimas_!B25)","v":"ProFuturo G.N.P."},{"$f":"IF(TDPrimas_!C25=\"\",\"\",TDPrimas_!C25)","v":12182725.52259},{"$f":"IF(TDPrimas_!D25=\"\",\"\",TDPrimas_!D25)","v":8995707.5342000015},{"$f":"IF(TDPrimas_!E25=\"\",\"\",TDPrimas_!E25)","v":1.5817368772520652},{"$f":"IF(TDPrimas_!F25=\"\",\"\",TDPrimas_!F25)","v":1.3103551972734075},{"$f":"IF(TDPrimas_!G25=\"\",\"\",TDPrimas_!G25)","v":3187017.9883899987},{"$f":"IF(TDPrimas_!H25=\"\",\"\",TDPrimas_!H25)","v":35.428208134530294},{"$f":"IF(TDPrimas_!I25=\"\",\"\",TDPrimas_!I25)","v":100},{"$f":"IF(TDPrimas_!J25=\"\",\"\",TDPrimas_!J25)","v":100},{"$f":"IF(TDPrimas_!K25=\"\",\"\",TDPrimas_!K25)","v":1.5817368772520652}]
[null,{"$f":"IF(TDPrimas_!A26=\"\",\"\",TDPrimas_!A26)","v":18},{"$f":"IF(TDPrimas_!B26=\"\",\"\",TDPrimas_!B26)","v":"Pensiones Banorte"},{"$f":"IF(TDPrimas_!C26=\"\",\"\",TDPrimas_!C26)","v":11966941.465},{"$f":"IF(TDPrimas_!D26=\"\",\"\",TDPrimas_!D26)","v":13199642.61585},{"$f":"IF(TDPrimas_!E26=\"\",\"\",TDPrimas_!E26)","v":1.553720683274757},{"$f":"IF(TDPrimas_!F26=\"\",\"\",TDPrimas_!F26)","v":1.9227192789531677},{"$f":"IF(TDPrimas_!G26=\"\",\"\",TDPrimas_!G26)","v":-1232701.1508499999},{"$f":"IF(TDPrimas_!H26=\"\",\"\",TDPrimas_!H26)","v":-9.3388979287195575},{"$f":"IF(TDPrimas_!I26=\"\",\"\",TDPrimas_!I26)","v":100},{"$f":"IF(TDPrimas_!J26=\"\",\"\",TDPrimas_!J26)","v":100},{"$f":"IF(TDPrimas_!K26=\"\",\"\",TDPrimas_!K26)","v":1.553720683274757}]
[null,{"$f":"IF(TDPrimas_!A27=\"\",\"\",TDPrimas_!A27)","v":19},{"$f":"IF(TDPrimas_!B27=\"\",\"\",TDPrimas_!B27)","v":"HDI Seguros"},{"$f":"IF(TDPrimas_!C27=\"\",\"\",TDPrimas_!C27)","v":11052143.52795},{"$f":"IF(TDPrimas_!D27=\"\",\"\",TDPrimas_!D27)","v":9306186.5952599999},{"$f":"IF(TDPrimas_!E27=\"\",\"\",TDPrimas_!E27)","v":1.4349484405953146},{"$f":"IF(TDPrimas_!F27=\"\",\"\",TDPrimas_!F27)","v":1.3555809729845247},{"$f":"IF(TDPrimas_!G27=\"\",\"\",TDPrimas_!G27)","v":1745956.9326900002},{"$f":"IF(TDPrimas_!H27=\"\",\"\",TDPrimas_!H27)","v":18.761250000932538},{"$f":"IF(TDPrimas_!I27=\"\",\"\",TDPrimas_!I27)","v":100},{"$f":"IF(TDPrimas_!J27=\"\",\"\",TDPrimas_!J27)","v":100},{"$f":"IF(TDPrimas_!K27=\"\",\"\",TDPrimas_!K27)","v":1.4349484405953146}]
[null,{"$f":"IF(TDPrimas_!A28=\"\",\"\",TDPrimas_!A28)","v":20},{"$f":"IF(TDPrimas_!B28=\"\",\"\",TDPrimas_!B28)","v":"Zurich Aseguradora Mexicana"},{"$f":"IF(TDPrimas_!C28=\"\",\"\",TDPrimas_!C28)","v":10982728.3653},{"$f":"IF(TDPrimas_!D28=\"\",\"\",TDPrimas_!D28)","v":10496838.85248},{"$f":"IF(TDPrimas_!E28=\"\",\"\",TDPrimas_!E28)","v":1.4259359644954168},{"$f":"IF(TDPrimas_!F28=\"\",\"\",TDPrimas_!F28)","v":1.5290167330358646},{"$f":"IF(TDPrimas_!G28=\"\",\"\",TDPrimas_!G28)","v":485889.51281999983},{"$f":"IF(TDPrimas_!H28=\"\",\"\",TDPrimas_!H28)","v":4.6289127579128619},{"$f":"IF(TDPrimas_!I28=\"\",\"\",TDPrimas_!I28)","v":100},{"$f":"IF(TDPrimas_!J28=\"\",\"\",TDPrimas_!J28)","v":100},{"$f":"IF(TDPrimas_!K28=\"\",\"\",TDPrimas_!K28)","v":1.4259359644954168}]
[null,{"$f":"IF(TDPrimas_!A29=\"\",\"\",TDPrimas_!A29)","v":21},{"$f":"IF(TDPrimas_!B29=\"\",\"\",TDPrimas_!B29)","v":"Pensiones BBVA"},{"$f":"IF(TDPrimas_!C29=\"\",\"\",TDPrimas_!C29)","v":9676186.3633600008},{"$f":"IF(TDPrimas_!D29=\"\",\"\",TDPrimas_!D29)","v":6921813.9092700006},{"$f":"IF(TDPrimas_!E29=\"\",\"\",TDPrimas_!E29)","v":1.2563018655973335},{"$f":"IF(TDPrimas_!F29=\"\",\"\",TDPrimas_!F29)","v":1.0082625292217124},{"$f":"IF(TDPrimas_!G29=\"\",\"\",TDPrimas_!G29)","v":2754372.4540900001},{"$f":"IF(TDPrimas_!H29=\"\",\"\",TDPrimas_!H29)","v":39.792639475632562},{"$f":"IF(TDPrimas_!I29=\"\",\"\",TDPrimas_!I29)","v":100},{"$f":"IF(TDPrimas_!J29=\"\",\"\",TDPrimas_!J29)","v":100},{"$f":"IF(TDPrimas_!K29=\"\",\"\",TDPrimas_!K29)","v":1.2563018655973335}]
[null,{"$f":"IF(TDPrimas_!A30=\"\",\"\",TDPrimas_!A30)","v":22},{"$f":"IF(TDPrimas_!B30=\"\",\"\",TDPrimas_!B30)","v":"GMX Seguros"},{"$f":"IF(TDPrimas_!C30=\"\",\"\",TDPrimas_!C30)","v":8451044.7932900004},{"$f":"IF(TDPrimas_!D30=\"\",\"\",TDPrimas_!D30)","v":8783487.9357299991},{"$f":"IF(TDPrimas_!E30=\"\",\"\",TDPrimas_!E30)","v":1.0972363430555241},{"$f":"IF(TDPrimas_!F30=\"\",\"\",TDPrimas_!F30)","v":1.2794423365827701},{"$f":"IF(TDPrimas_!G30=\"\",\"\",TDPrimas_!G30)","v":-332443.14243999869},{"$f":"IF(TDPrimas_!H30=\"\",\"\",TDPrimas_!H30)","v":-3.7848647925804779},{"$f":"IF(TDPrimas_!I30=\"\",\"\",TDPrimas_!I30)","v":100},{"$f":"IF(TDPrimas_!J30=\"\",\"\",TDPrimas_!J30)","v":100},{"$f":"IF(TDPrimas_!K30=\"\",\"\",TDPrimas_!K30)","v":1.0972363430555241}]
[null,{"$f":"IF(TDPrimas_!A31=\"\",\"\",TDPrimas_!A31)","v":23},{"$f":"IF(TDPrimas_!B31=\"\",\"\",TDPrimas_!B31)","v":"AIG Seguros"},{"$f":"IF(TDPrimas_!C31=\"\",\"\",TDPrimas_!C31)","v":6300133.6551299999},{"$f":"IF(TDPrimas_!D31=\"\",\"\",TDPrimas_!D31)","v":5387062.6739699999},{"$f":"IF(TDPrimas_!E31=\"\",\"\",TDPrimas_!E31)","v":0.81797408268436589},{"$f":"IF(TDPrimas_!F31=\"\",\"\",TDPrimas_!F31)","v":0.78470376521661023},{"$f":"IF(TDPrimas_!G31=\"\",\"\",TDPrimas_!G31)","v":913070.98115999997},{"$f":"IF(TDPrimas_!H31=\"\",\"\",TDPrimas_!H31)","v":16.94932909490565},{"$f":"IF(TDPrimas_!I31=\"\",\"\",TDPrimas_!I31)","v":100},{"$f":"IF(TDPrimas_!J31=\"\",\"\",TDPrimas_!J31)","v":100},{"$f":"IF(TDPrimas_!K31=\"\",\"\",TDPrimas_!K31)","v":0.81797408268436589}]
[null,{"$f":"IF(TDPrimas_!A32=\"\",\"\",TDPrimas_!A32)","v":24},{"$f":"IF(TDPrimas_!B32=\"\",\"\",TDPrimas_!B32)","v":"Afirme"},{"$f":"IF(TDPrimas_!C32=\"\",\"\",TDPrimas_!C32)","v":5593472.9616599996},{"$f":"IF(TDPrimas_!D32=\"\",\"\",TDPrimas_!D32)","v":5391455.1856499994},{"$f":"IF(TDPrimas_!E32=\"\",\"\",TDPrimas_!E32)","v":0.72622521446161792},{"$f":"IF(TDPrimas_!F32=\"\",\"\",TDPrimas_!F32)","v":0.78534359821330213},{"$f":"IF(TDPrimas_!G32=\"\",\"\",TDPrimas_!G32)","v":202017.77601000015},{"$f":"IF(TDPrimas_!H32=\"\",\"\",TDPrimas_!H32)","v":3.7469990763846939},{"$f":"IF(TDPrimas_!I32=\"\",\"\",TDPrimas_!I32)","v":100},{"$f":"IF(TDPrimas_!J32=\"\",\"\",TDPrimas_!J32)","v":100},{"$f":"IF(TDPrimas_!K32=\"\",\"\",TDPrimas_!K32)","v":0.72622521446161792}]
[null,{"$f":"IF(TDPrimas_!A33=\"\",\"\",TDPrimas_!A33)","v":25},{"$f":"IF(TDPrimas_!B33=\"\",\"\",TDPrimas_!B33)","v":"Seguros SURA"},{"$f":"IF(TDPrimas_!C33=\"\",\"\",TDPrimas_!C33)","v":4871025.2412999999},{"$f":"IF(TDPrimas_!D33=\"\",\"\",TDPrimas_!D33)","v":4592296.0130699994},{"$f":"IF(TDPrimas_!E33=\"\",\"\",TDPrimas_!E33)","v":0.63242664705064011},{"$f":"IF(TDPrimas_!F33=\"\",\"\",TDPrimas_!F33)","v":0.66893448072501938},{"$f":"IF(TDPrimas_!G33=\"\",\"\",TDPrimas_!G33)","v":278729.22823000047},{"$f":"IF(TDPrimas_!H33=\"\",\"\",TDPrimas_!H33)","v":6.0694961177745865},{"$f":"IF(TDPrimas_!I33=\"\",\"\",TDPrimas_!I33)","v":100},{"$f":"IF(TDPrimas_!J33=\"\",\"\",TDPrimas_!J33)","v":100},{"$f":"IF(TDPrimas_!K33=\"\",\"\",TDPrimas_!K33)","v":0.63242664705064011}]
[null,{"$f":"IF(TDPrimas_!A34=\"\",\"\",TDPrimas_!A34)","v":26},{"$f":"IF(TDPrimas_!B34=\"\",\"\",TDPrimas_!B34)","v":"Patrimonial Vida"},{"$f":"IF(TDPrimas_!C34=\"\",\"\",TDPrimas_!C34)","v":4625465.0598599995},{"$f":"IF(TDPrimas_!D34=\"\",\"\",TDPrimas_!D34)","v":2704976.95878},{"$f":"IF(TDPrimas_!E34=\"\",\"\",TDPrimas_!E34)","v":0.60054448785332915},{"$f":"IF(TDPrimas_!F34=\"\",\"\",TDPrimas_!F34)","v":0.39401910332975315},{"$f":"IF(TDPrimas_!G34=\"\",\"\",TDPrimas_!G34)","v":1920488.1010799995},{"$f":"IF(TDPrimas_!H34=\"\",\"\",TDPrimas_!H34)","v":70.998316449474629},{"$f":"IF(TDPrimas_!I34=\"\",\"\",TDPrimas_!I34)","v":100},{"$f":"IF(TDPrimas_!J34=\"\",\"\",TDPrimas_!J34)","v":100},{"$f":"IF(TDPrimas_!K34=\"\",\"\",TDPrimas_!K34)","v":0.60054448785332915}]
[null,{"$f":"IF(TDPrimas_!A35=\"\",\"\",TDPrimas_!A35)","v":27},{"$f":"IF(TDPrimas_!B35=\"\",\"\",TDPrimas_!B35)","v":"Hir Seguros"},{"$f":"IF(TDPrimas_!C35=\"\",\"\",TDPrimas_!C35)","v":4515434.1806600001},{"$f":"IF(TDPrimas_!D35=\"\",\"\",TDPrimas_!D35)","v":3240513.8837199998},{"$f":"IF(TDPrimas_!E35=\"\",\"\",TDPrimas_!E35)","v":0.58625869450237578},{"$f":"IF(TDPrimas_!F35=\"\",\"\",TDPrimas_!F35)","v":0.47202781918218045},{"$f":"IF(TDPrimas_!G35=\"\",\"\",TDPrimas_!G35)","v":1274920.2969400003},{"$f":"IF(TDPrimas_!H35=\"\",\"\",TDPrimas_!H35)","v":39.343151817527009},{"$f":"IF(TDPrimas_!I35=\"\",\"\",TDPrimas_!I35)","v":100},{"$f":"IF(TDPrimas_!J35=\"\",\"\",TDPrimas_!J35)","v":100},{"$f":"IF(TDPrimas_!K35=\"\",\"\",TDPrimas_!K35)","v":0.58625869450237578}]
[null,{"$f":"IF(TDPrimas_!A36=\"\",\"\",TDPrimas_!A36)","v":28},{"$f":"IF(TDPrimas_!B36=\"\",\"\",TDPrimas_!B36)","v":"BUPA México"},{"$f":"IF(TDPrimas_!C36=\"\",\"\",TDPrimas_!C36)","v":4375142.85659},{"$f":"IF(TDPrimas_!D36=\"\",\"\",TDPrimas_!D36)","v":3560915.6343899998},{"$f":"IF(TDPrimas_!E36=\"\",\"\",TDPrimas_!E36)","v":0.56804405440163885},{"$f":"IF(TDPrimas_!F36=\"\",\"\",TDPrimas_!F36)","v":0.51869897846673685},{"$f":"IF(TDPrimas_!G36=\"\",\"\",TDPrimas_!G36)","v":814227.22220000019},{"$f":"IF(TDPrimas_!H36=\"\",\"\",TDPrimas_!H36)","v":22.865670119687653},{"$f":"IF(TDPrimas_!I36=\"\",\"\",TDPrimas_!I36)","v":100},{"$f":"IF(TDPrimas_!J36=\"\",\"\",TDPrimas_!J36)","v":100},{"$f":"IF(TDPrimas_!K36=\"\",\"\",TDPrimas_!K36)","v":0.56804405440163885}]
[null,{"$f":"IF(TDPrimas_!A37=\"\",\"\",TDPrimas_!A37)","v":29},{"$f":"IF(TDPrimas_!B37=\"\",\"\",TDPrimas_!B37)","v":"Ve Por Más"},{"$f":"IF(TDPrimas_!C37=\"\",\"\",TDPrimas_!C37)","v":3740005.2715500002},{"$f":"IF(TDPrimas_!D37=\"\",\"\",TDPrimas_!D37)","v":3728743.9611599999},{"$f":"IF(TDPrimas_!E37=\"\",\"\",TDPrimas_!E37)","v":0.48558134615759646},{"$f":"IF(TDPrimas_!F37=\"\",\"\",TDPrimas_!F37)","v":0.5431456069722429},{"$f":"IF(TDPrimas_!G37=\"\",\"\",TDPrimas_!G37)","v":11261.310390000232},{"$f":"IF(TDPrimas_!H37=\"\",\"\",TDPrimas_!H37)","v":0.30201350662051318},{"$f":"IF(TDPrimas_!I37=\"\",\"\",TDPrimas_!I37)","v":100},{"$f":"IF(TDPrimas_!J37=\"\",\"\",TDPrimas_!J37)","v":100},{"$f":"IF(TDPrimas_!K37=\"\",\"\",TDPrimas_!K37)","v":0.48558134615759646}]
[null,{"$f":"IF(TDPrimas_!A38=\"\",\"\",TDPrimas_!A38)","v":30},{"$f":"IF(TDPrimas_!B38=\"\",\"\",TDPrimas_!B38)","v":"Cardif Vida"},{"$f":"IF(TDPrimas_!C38=\"\",\"\",TDPrimas_!C38)","v":3667211.9566700002},{"$f":"IF(TDPrimas_!D38=\"\",\"\",TDPrimas_!D38)","v":2528072.3686799998},{"$f":"IF(TDPrimas_!E38=\"\",\"\",TDPrimas_!E38)","v":0.47613026968463334},{"$f":"IF(TDPrimas_!F38=\"\",\"\",TDPrimas_!F38)","v":0.36825038550763994},{"$f":"IF(TDPrimas_!G38=\"\",\"\",TDPrimas_!G38)","v":1139139.5879900004},{"$f":"IF(TDPrimas_!H38=\"\",\"\",TDPrimas_!H38)","v":45.05961150885831},{"$f":"IF(TDPrimas_!I38=\"\",\"\",TDPrimas_!I38)","v":100},{"$f":"IF(TDPrimas_!J38=\"\",\"\",TDPrimas_!J38)","v":100},{"$f":"IF(TDPrimas_!K38=\"\",\"\",TDPrimas_!K38)","v":0.47613026968463334}]
[null,{"$f":"IF(TDPrimas_!A39=\"\",\"\",TDPrimas_!A39)","v":31},{"$f":"IF(TDPrimas_!B39=\"\",\"\",TDPrimas_!B39)","v":"FM Global"},{"$f":"IF(TDPrimas_!C39=\"\",\"\",TDPrimas_!C39)","v":3623624.7246500002},{"$f":"IF(TDPrimas_!D39=\"\",\"\",TDPrimas_!D39)","v":3245561.4989299998},{"$f":"IF(TDPrimas_!E39=\"\",\"\",TDPrimas_!E39)","v":0.47047114750088753},{"$f":"IF(TDPrimas_!F39=\"\",\"\",TDPrimas_!F39)","v":0.47276307750389818},{"$f":"IF(TDPrimas_!G39=\"\",\"\",TDPrimas_!G39)","v":378063.22572000045},{"$f":"IF(TDPrimas_!H39=\"\",\"\",TDPrimas_!H39)","v":11.648623076304077},{"$f":"IF(TDPrimas_!I39=\"\",\"\",TDPrimas_!I39)","v":100},{"$f":"IF(TDPrimas_!J39=\"\",\"\",TDPrimas_!J39)","v":100},{"$f":"IF(TDPrimas_!K39=\"\",\"\",TDPrimas_!K39)","v":0.47047114750088753}]
[null,{"$f":"IF(TDPrimas_!A40=\"\",\"\",TDPrimas_!A40)","v":32},{"$f":"IF(TDPrimas_!B40=\"\",\"\",TDPrimas_!B40)","v":"ANA"},{"$f":"IF(TDPrimas_!C40=\"\",\"\",TDPrimas_!C40)","v":3347262.7841599998},{"$f":"IF(TDPrimas_!D40=\"\",\"\",TDPrimas_!D40)","v":2784750.4692699998},{"$f":"IF(TDPrimas_!E40=\"\",\"\",TDPrimas_!E40)","v":0.43458986035119207},{"$f":"IF(TDPrimas_!F40=\"\",\"\",TDPrimas_!F40)","v":0.40563927146860218},{"$f":"IF(TDPrimas_!G40=\"\",\"\",TDPrimas_!G40)","v":562512.31489000004},{"$f":"IF(TDPrimas_!H40=\"\",\"\",TDPrimas_!H40)","v":20.199738579717639},{"$f":"IF(TDPrimas_!I40=\"\",\"\",TDPrimas_!I40)","v":100},{"$f":"IF(TDPrimas_!J40=\"\",\"\",TDPrimas_!J40)","v":100},{"$f":"IF(TDPrimas_!K40=\"\",\"\",TDPrimas_!K40)","v":0.43458986035119207}]
[null,{"$f":"IF(TDPrimas_!A41=\"\",\"\",TDPrimas_!A41)","v":33},{"$f":"IF(TDPrimas_!B41=\"\",\"\",TDPrimas_!B41)","v":"Plan Seguro"},{"$f":"IF(TDPrimas_!C41=\"\",\"\",TDPrimas_!C41)","v":3324020.0512399999},{"$f":"IF(TDPrimas_!D41=\"\",\"\",TDPrimas_!D41)","v":2340553.6933599999},{"$f":"IF(TDPrimas_!E41=\"\",\"\",TDPrimas_!E41)","v":0.43157215403255972},{"$f":"IF(TDPrimas_!F41=\"\",\"\",TDPrimas_!F41)","v":0.34093557231954774},{"$f":"IF(TDPrimas_!G41=\"\",\"\",TDPrimas_!G41)","v":983466.35788000003},{"$f":"IF(TDPrimas_!H41=\"\",\"\",TDPrimas_!H41)","v":42.018534360909165},{"$f":"IF(TDPrimas_!I41=\"\",\"\",TDPrimas_!I41)","v":100},{"$f":"IF(TDPrimas_!J41=\"\",\"\",TDPrimas_!J41)","v":100},{"$f":"IF(TDPrimas_!K41=\"\",\"\",TDPrimas_!K41)","v":0.43157215403255972}]
[null,{"$f":"IF(TDPrimas_!A42=\"\",\"\",TDPrimas_!A42)","v":34},{"$f":"IF(TDPrimas_!B42=\"\",\"\",TDPrimas_!B42)","v":"Seguros Azteca"},{"$f":"IF(TDPrimas_!C42=\"\",\"\",TDPrimas_!C42)","v":2729565.3195799999},{"$f":"IF(TDPrimas_!D42=\"\",\"\",TDPrimas_!D42)","v":2821244.0201900001},{"$f":"IF(TDPrimas_!E42=\"\",\"\",TDPrimas_!E42)","v":0.35439147970971696},{"$f":"IF(TDPrimas_!F42=\"\",\"\",TDPrimas_!F42)","v":0.41095508614278803},{"$f":"IF(TDPrimas_!G42=\"\",\"\",TDPrimas_!G42)","v":-91678.700610000174},{"$f":"IF(TDPrimas_!H42=\"\",\"\",TDPrimas_!H42)","v":-3.2495842243318585},{"$f":"IF(TDPrimas_!I42=\"\",\"\",TDPrimas_!I42)","v":100},{"$f":"IF(TDPrimas_!J42=\"\",\"\",TDPrimas_!J42)","v":100},{"$f":"IF(TDPrimas_!K42=\"\",\"\",TDPrimas_!K42)","v":0.35439147970971696}]
[null,{"$f":"IF(TDPrimas_!A43=\"\",\"\",TDPrimas_!A43)","v":35},{"$f":"IF(TDPrimas_!B43=\"\",\"\",TDPrimas_!B43)","v":"General de Seguros"},{"$f":"IF(TDPrimas_!C43=\"\",\"\",TDPrimas_!C43)","v":2630736.9253099998},{"$f":"IF(TDPrimas_!D43=\"\",\"\",TDPrimas_!D43)","v":2219668.6898400001},{"$f":"IF(TDPrimas_!E43=\"\",\"\",TDPrimas_!E43)","v":0.34156015428531944},{"$f":"IF(TDPrimas_!F43=\"\",\"\",TDPrimas_!F43)","v":0.32332691930002372},{"$f":"IF(TDPrimas_!G43=\"\",\"\",TDPrimas_!G43)","v":411068.23546999972},{"$f":"IF(TDPrimas_!H43=\"\",\"\",TDPrimas_!H43)","v":18.519350989251947},{"$f":"IF(TDPrimas_!I43=\"\",\"\",TDPrimas_!I43)","v":100},{"$f":"IF(TDPrimas_!J43=\"\",\"\",TDPrimas_!J43)","v":100},{"$f":"IF(TDPrimas_!K43=\"\",\"\",TDPrimas_!K43)","v":0.34156015428531944}]
[null,{"$f":"IF(TDPrimas_!A44=\"\",\"\",TDPrimas_!A44)","v":36},{"$f":"IF(TDPrimas_!B44=\"\",\"\",TDPrimas_!B44)","v":"Seguros Argos"},{"$f":"IF(TDPrimas_!C44=\"\",\"\",TDPrimas_!C44)","v":2607218.6123699998},{"$f":"IF(TDPrimas_!D44=\"\",\"\",TDPrimas_!D44)","v":2553070.5004000003},{"$f":"IF(TDPrimas_!E44=\"\",\"\",TDPrimas_!E44)","v":0.33850666819971614},{"$f":"IF(TDPrimas_!F44=\"\",\"\",TDPrimas_!F44)","v":0.37189172574651436},{"$f":"IF(TDPrimas_!G44=\"\",\"\",TDPrimas_!G44)","v":54148.111969999503},{"$f":"IF(TDPrimas_!H44=\"\",\"\",TDPrimas_!H44)","v":2.1209015560485156},{"$f":"IF(TDPrimas_!I44=\"\",\"\",TDPrimas_!I44)","v":100},{"$f":"IF(TDPrimas_!J44=\"\",\"\",TDPrimas_!J44)","v":100},{"$f":"IF(TDPrimas_!K44=\"\",\"\",TDPrimas_!K44)","v":0.33850666819971614}]
[null,{"$f":"IF(TDPrimas_!A45=\"\",\"\",TDPrimas_!A45)","v":37},{"$f":"IF(TDPrimas_!B45=\"\",\"\",TDPrimas_!B45)","v":"Cardif Seguros Generales"},{"$f":"IF(TDPrimas_!C45=\"\",\"\",TDPrimas_!C45)","v":2456286.8917},{"$f":"IF(TDPrimas_!D45=\"\",\"\",TDPrimas_!D45)","v":0},{"$f":"IF(TDPrimas_!E45=\"\",\"\",TDPrimas_!E45)","v":0.31891053857435686},{"$f":"IF(TDPrimas_!F45=\"\",\"\",TDPrimas_!F45)","v":0},{"$f":"IF(TDPrimas_!G45=\"\",\"\",TDPrimas_!G45)","v":0},{"$f":"IF(TDPrimas_!H45=\"\",\"\",TDPrimas_!H45)","v":0},{"$f":"IF(TDPrimas_!I45=\"\",\"\",TDPrimas_!I45)","v":100},{"$f":"IF(TDPrimas_!J45=\"\",\"\",TDPrimas_!J45)","v":100},{"$f":"IF(TDPrimas_!K45=\"\",\"\",TDPrimas_!K45)","v":0.31891053857435686}]
[null,{"$f":"IF(TDPrimas_!A46=\"\",\"\",TDPrimas_!A46)","v":38},{"$f":"IF(TDPrimas_!B46=\"\",\"\",TDPrimas_!B46)","v":"El Potosí"},{"$f":"IF(TDPrimas_!C46=\"\",\"\",TDPrimas_!C46)","v":2435676.4140999997},{"$f":"IF(TDPrimas_!D46=\"\",\"\",TDPrimas_!D46)","v":1891357.54091},{"$f":"IF(TDPrimas_!E46=\"\",\"\",TDPrimas_!E46)","v":0.3162345895498756},{"$f":"IF(TDPrimas_!F46=\"\",\"\",TDPrimas_!F46)","v":0.275503641510292},{"$f":"IF(TDPrimas_!G46=\"\",\"\",TDPrimas_!G46)","v":544318.87318999972},{"$f":"IF(TDPrimas_!H46=\"\",\"\",TDPrimas_!H46)","v":28.779268933366687},{"$f":"IF(TDPrimas_!I46=\"\",\"\",TDPrimas_!I46)","v":100},{"$f":"IF(TDPrimas_!J46=\"\",\"\",TDPrimas_!J46)","v":100},{"$f":"IF(TDPrimas_!K46=\"\",\"\",TDPrimas_!K46)","v":0.3162345895498756}]
[null,{"$f":"IF(TDPrimas_!A47=\"\",\"\",TDPrimas_!A47)","v":39},{"$f":"IF(TDPrimas_!B47=\"\",\"\",TDPrimas_!B47)","v":"HDI Global Seguros"},{"$f":"IF(TDPrimas_!C47=\"\",\"\",TDPrimas_!C47)","v":2295531.7768099997},{"$f":"IF(TDPrimas_!D47=\"\",\"\",TDPrimas_!D47)","v":2103649.43671},{"$f":"IF(TDPrimas_!E47=\"\",\"\",TDPrimas_!E47)","v":0.29803899443943255},{"$f":"IF(TDPrimas_!F47=\"\",\"\",TDPrimas_!F47)","v":0.3064270333550107},{"$f":"IF(TDPrimas_!G47=\"\",\"\",TDPrimas_!G47)","v":191882.34009999968},{"$f":"IF(TDPrimas_!H47=\"\",\"\",TDPrimas_!H47)","v":9.1214028702469427},{"$f":"IF(TDPrimas_!I47=\"\",\"\",TDPrimas_!I47)","v":100},{"$f":"IF(TDPrimas_!J47=\"\",\"\",TDPrimas_!J47)","v":100},{"$f":"IF(TDPrimas_!K47=\"\",\"\",TDPrimas_!K47)","v":0.29803899443943255}]
[null,{"$f":"IF(TDPrimas_!A48=\"\",\"\",TDPrimas_!A48)","v":40},{"$f":"IF(TDPrimas_!B48=\"\",\"\",TDPrimas_!B48)","v":"Seguros Azteca Daños"},{"$f":"IF(TDPrimas_!C48=\"\",\"\",TDPrimas_!C48)","v":1992442.88803},{"$f":"IF(TDPrimas_!D48=\"\",\"\",TDPrimas_!D48)","v":1756185.3149300001},{"$f":"IF(TDPrimas_!E48=\"\",\"\",TDPrimas_!E48)","v":0.25868762995373284},{"$f":"IF(TDPrimas_!F48=\"\",\"\",TDPrimas_!F48)","v":0.25581384744278624},{"$f":"IF(TDPrimas_!G48=\"\",\"\",TDPrimas_!G48)","v":236257.57309999992},{"$f":"IF(TDPrimas_!H48=\"\",\"\",TDPrimas_!H48)","v":13.452883991881958},{"$f":"IF(TDPrimas_!I48=\"\",\"\",TDPrimas_!I48)","v":100},{"$f":"IF(TDPrimas_!J48=\"\",\"\",TDPrimas_!J48)","v":100},{"$f":"IF(TDPrimas_!K48=\"\",\"\",TDPrimas_!K48)","v":0.25868762995373284}]
[null,{"$f":"IF(TDPrimas_!A49=\"\",\"\",TDPrimas_!A49)","v":41},{"$f":"IF(TDPrimas_!B49=\"\",\"\",TDPrimas_!B49)","v":"Thona"},{"$f":"IF(TDPrimas_!C49=\"\",\"\",TDPrimas_!C49)","v":1952625.4802899999},{"$f":"IF(TDPrimas_!D49=\"\",\"\",TDPrimas_!D49)","v":2019824.97291},{"$f":"IF(TDPrimas_!E49=\"\",\"\",TDPrimas_!E49)","v":0.25351796064926096},{"$f":"IF(TDPrimas_!F49=\"\",\"\",TDPrimas_!F49)","v":0.2942167851470297},{"$f":"IF(TDPrimas_!G49=\"\",\"\",TDPrimas_!G49)","v":-67199.49262000015},{"$f":"IF(TDPrimas_!H49=\"\",\"\",TDPrimas_!H49)","v":-3.3269958299002811},{"$f":"IF(TDPrimas_!I49=\"\",\"\",TDPrimas_!I49)","v":100},{"$f":"IF(TDPrimas_!J49=\"\",\"\",TDPrimas_!J49)","v":100},{"$f":"IF(TDPrimas_!K49=\"\",\"\",TDPrimas_!K49)","v":0.25351796064926096}]
[null,{"$f":"IF(TDPrimas_!A50=\"\",\"\",TDPrimas_!A50)","v":42},{"$f":"IF(TDPrimas_!B50=\"\",\"\",TDPrimas_!B50)","v":"Prudential"},{"$f":"IF(TDPrimas_!C50=\"\",\"\",TDPrimas_!C50)","v":1828165.4904},{"$f":"IF(TDPrimas_!D50=\"\",\"\",TDPrimas_!D50)","v":1558409.86843},{"$f":"IF(TDPrimas_!E50=\"\",\"\",TDPrimas_!E50)","v":0.23735877234723479},{"$f":"IF(TDPrimas_!F50=\"\",\"\",TDPrimas_!F50)","v":0.22700498685799278},{"$f":"IF(TDPrimas_!G50=\"\",\"\",TDPrimas_!G50)","v":269755.62196999998},{"$f":"IF(TDPrimas_!H50=\"\",\"\",TDPrimas_!H50)","v":17.309671058600372},{"$f":"IF(TDPrimas_!I50=\"\",\"\",TDPrimas_!I50)","v":100},{"$f":"IF(TDPrimas_!J50=\"\",\"\",TDPrimas_!J50)","v":100},{"$f":"IF(TDPrimas_!K50=\"\",\"\",TDPrimas_!K50)","v":0.23735877234723479}]
[null,{"$f":"IF(TDPrimas_!A51=\"\",\"\",TDPrimas_!A51)","v":43},{"$f":"IF(TDPrimas_!B51=\"\",\"\",TDPrimas_!B51)","v":"Insignia Life"},{"$f":"IF(TDPrimas_!C51=\"\",\"\",TDPrimas_!C51)","v":1793771.2526099999},{"$f":"IF(TDPrimas_!D51=\"\",\"\",TDPrimas_!D51)","v":1484029.3225799999},{"$f":"IF(TDPrimas_!E51=\"\",\"\",TDPrimas_!E51)","v":0.23289321706762653},{"$f":"IF(TDPrimas_!F51=\"\",\"\",TDPrimas_!F51)","v":0.21617038219126286},{"$f":"IF(TDPrimas_!G51=\"\",\"\",TDPrimas_!G51)","v":309741.93002999993},{"$f":"IF(TDPrimas_!H51=\"\",\"\",TDPrimas_!H51)","v":20.871685304136079},{"$f":"IF(TDPrimas_!I51=\"\",\"\",TDPrimas_!I51)","v":100},{"$f":"IF(TDPrimas_!J51=\"\",\"\",TDPrimas_!J51)","v":100},{"$f":"IF(TDPrimas_!K51=\"\",\"\",TDPrimas_!K51)","v":0.23289321706762653}]
[null,{"$f":"IF(TDPrimas_!A52=\"\",\"\",TDPrimas_!A52)","v":44},{"$f":"IF(TDPrimas_!B52=\"\",\"\",TDPrimas_!B52)","v":"BBVA Salud"},{"$f":"IF(TDPrimas_!C52=\"\",\"\",TDPrimas_!C52)","v":1738518.10781},{"$f":"IF(TDPrimas_!D52=\"\",\"\",TDPrimas_!D52)","v":1674526.54718},{"$f":"IF(TDPrimas_!E52=\"\",\"\",TDPrimas_!E52)","v":0.22571945807976684},{"$f":"IF(TDPrimas_!F52=\"\",\"\",TDPrimas_!F52)","v":0.24391906425676629},{"$f":"IF(TDPrimas_!G52=\"\",\"\",TDPrimas_!G52)","v":63991.560629999964},{"$f":"IF(TDPrimas_!H52=\"\",\"\",TDPrimas_!H52)","v":3.821471850521907},{"$f":"IF(TDPrimas_!I52=\"\",\"\",TDPrimas_!I52)","v":100},{"$f":"IF(TDPrimas_!J52=\"\",\"\",TDPrimas_!J52)","v":100},{"$f":"IF(TDPrimas_!K52=\"\",\"\",TDPrimas_!K52)","v":0.22571945807976684}]
[null,{"$f":"IF(TDPrimas_!A53=\"\",\"\",TDPrimas_!A53)","v":45},{"$f":"IF(TDPrimas_!B53=\"\",\"\",TDPrimas_!B53)","v":"El Águila"},{"$f":"IF(TDPrimas_!C53=\"\",\"\",TDPrimas_!C53)","v":1354763.1550999999},{"$f":"IF(TDPrimas_!D53=\"\",\"\",TDPrimas_!D53)","v":1282462.5710499999},{"$f":"IF(TDPrimas_!E53=\"\",\"\",TDPrimas_!E53)","v":0.17589486345978692},{"$f":"IF(TDPrimas_!F53=\"\",\"\",TDPrimas_!F53)","v":0.18680926307298309},{"$f":"IF(TDPrimas_!G53=\"\",\"\",TDPrimas_!G53)","v":72300.584049999947},{"$f":"IF(TDPrimas_!H53=\"\",\"\",TDPrimas_!H53)","v":5.6376369714092212},{"$f":"IF(TDPrimas_!I53=\"\",\"\",TDPrimas_!I53)","v":100},{"$f":"IF(TDPrimas_!J53=\"\",\"\",TDPrimas_!J53)","v":100},{"$f":"IF(TDPrimas_!K53=\"\",\"\",TDPrimas_!K53)","v":0.17589486345978692}]
[null,{"$f":"IF(TDPrimas_!A54=\"\",\"\",TDPrimas_!A54)","v":46},{"$f":"IF(TDPrimas_!B54=\"\",\"\",TDPrimas_!B54)","v":"Swiss Re Corporate Solutions"},{"$f":"IF(TDPrimas_!C54=\"\",\"\",TDPrimas_!C54)","v":1319552.84827},{"$f":"IF(TDPrimas_!D54=\"\",\"\",TDPrimas_!D54)","v":1289086.5757000002},{"$f":"IF(TDPrimas_!E54=\"\",\"\",TDPrimas_!E54)","v":0.17132335434476165},{"$f":"IF(TDPrimas_!F54=\"\",\"\",TDPrimas_!F54)","v":0.18777414536677622},{"$f":"IF(TDPrimas_!G54=\"\",\"\",TDPrimas_!G54)","v":30466.272569999797},{"$f":"IF(TDPrimas_!H54=\"\",\"\",TDPrimas_!H54)","v":2.3634000341254069},{"$f":"IF(TDPrimas_!I54=\"\",\"\",TDPrimas_!I54)","v":100},{"$f":"IF(TDPrimas_!J54=\"\",\"\",TDPrimas_!J54)","v":100},{"$f":"IF(TDPrimas_!K54=\"\",\"\",TDPrimas_!K54)","v":0.17132335434476165}]
[null,{"$f":"IF(TDPrimas_!A55=\"\",\"\",TDPrimas_!A55)","v":47},{"$f":"IF(TDPrimas_!B55=\"\",\"\",TDPrimas_!B55)","v":"Assurant Vida"},{"$f":"IF(TDPrimas_!C55=\"\",\"\",TDPrimas_!C55)","v":1204700.1433699999},{"$f":"IF(TDPrimas_!D55=\"\",\"\",TDPrimas_!D55)","v":1097528.57672},{"$f":"IF(TDPrimas_!E55=\"\",\"\",TDPrimas_!E55)","v":0.1564115221397579},{"$f":"IF(TDPrimas_!F55=\"\",\"\",TDPrimas_!F55)","v":0.15987094613664921},{"$f":"IF(TDPrimas_!G55=\"\",\"\",TDPrimas_!G55)","v":107171.56664999994},{"$f":"IF(TDPrimas_!H55=\"\",\"\",TDPrimas_!H55)","v":9.7648087642770776},{"$f":"IF(TDPrimas_!I55=\"\",\"\",TDPrimas_!I55)","v":100},{"$f":"IF(TDPrimas_!J55=\"\",\"\",TDPrimas_!J55)","v":100},{"$f":"IF(TDPrimas_!K55=\"\",\"\",TDPrimas_!K55)","v":0.1564115221397579}]
[null,{"$f":"IF(TDPrimas_!A56=\"\",\"\",TDPrimas_!A56)","v":48},{"$f":"IF(TDPrimas_!B56=\"\",\"\",TDPrimas_!B56)","v":"Tokio Marine"},{"$f":"IF(TDPrimas_!C56=\"\",\"\",TDPrimas_!C56)","v":1046151.0540700001},{"$f":"IF(TDPrimas_!D56=\"\",\"\",TDPrimas_!D56)","v":835205.63911999995},{"$f":"IF(TDPrimas_!E56=\"\",\"\",TDPrimas_!E56)","v":0.13582639601707519},{"$f":"IF(TDPrimas_!F56=\"\",\"\",TDPrimas_!F56)","v":0.12165980784192731},{"$f":"IF(TDPrimas_!G56=\"\",\"\",TDPrimas_!G56)","v":210945.41495000012},{"$f":"IF(TDPrimas_!H56=\"\",\"\",TDPrimas_!H56)","v":25.256703866638052},{"$f":"IF(TDPrimas_!I56=\"\",\"\",TDPrimas_!I56)","v":100},{"$f":"IF(TDPrimas_!J56=\"\",\"\",TDPrimas_!J56)","v":100},{"$f":"IF(TDPrimas_!K56=\"\",\"\",TDPrimas_!K56)","v":0.13582639601707519}]
[null,{"$f":"IF(TDPrimas_!A57=\"\",\"\",TDPrimas_!A57)","v":49},{"$f":"IF(TDPrimas_!B57=\"\",\"\",TDPrimas_!B57)","v":"La Latinoamericana"},{"$f":"IF(TDPrimas_!C57=\"\",\"\",TDPrimas_!C57)","v":1045705.9405499999},{"$f":"IF(TDPrimas_!D57=\"\",\"\",TDPrimas_!D57)","v":1151107.1503699999},{"$f":"IF(TDPrimas_!E57=\"\",\"\",TDPrimas_!E57)","v":0.13576860496959223},{"$f":"IF(TDPrimas_!F57=\"\",\"\",TDPrimas_!F57)","v":0.16767544202292159},{"$f":"IF(TDPrimas_!G57=\"\",\"\",TDPrimas_!G57)","v":-105401.20981999999},{"$f":"IF(TDPrimas_!H57=\"\",\"\",TDPrimas_!H57)","v":-9.1565072622579855},{"$f":"IF(TDPrimas_!I57=\"\",\"\",TDPrimas_!I57)","v":100},{"$f":"IF(TDPrimas_!J57=\"\",\"\",TDPrimas_!J57)","v":100},{"$f":"IF(TDPrimas_!K57=\"\",\"\",TDPrimas_!K57)","v":0.13576860496959223}]
[null,{"$f":"IF(TDPrimas_!A58=\"\",\"\",TDPrimas_!A58)","v":50},{"$f":"IF(TDPrimas_!B58=\"\",\"\",TDPrimas_!B58)","v":"Pan-American México"},{"$f":"IF(TDPrimas_!C58=\"\",\"\",TDPrimas_!C58)","v":992599.65855999989},{"$f":"IF(TDPrimas_!D58=\"\",\"\",TDPrimas_!D58)","v":996928.28110999998},{"$f":"IF(TDPrimas_!E58=\"\",\"\",TDPrimas_!E58)","v":0.12887358262983981},{"$f":"IF(TDPrimas_!F58=\"\",\"\",TDPrimas_!F58)","v":0.14521705485587538},{"$f":"IF(TDPrimas_!G58=\"\",\"\",TDPrimas_!G58)","v":-4328.6225500000874},{"$f":"IF(TDPrimas_!H58=\"\",\"\",TDPrimas_!H58)","v":-0.43419598300296069},{"$f":"IF(TDPrimas_!I58=\"\",\"\",TDPrimas_!I58)","v":100},{"$f":"IF(TDPrimas_!J58=\"\",\"\",TDPrimas_!J58)","v":100},{"$f":"IF(TDPrimas_!K58=\"\",\"\",TDPrimas_!K58)","v":0.12887358262983981}]
[null,{"$f":"IF(TDPrimas_!A59=\"\",\"\",TDPrimas_!A59)","v":51},{"$f":"IF(TDPrimas_!B59=\"\",\"\",TDPrimas_!B59)","v":"Berkley Seguros"},{"$f":"IF(TDPrimas_!C59=\"\",\"\",TDPrimas_!C59)","v":791062.99773000006},{"$f":"IF(TDPrimas_!D59=\"\",\"\",TDPrimas_!D59)","v":673928.03742999991},{"$f":"IF(TDPrimas_!E59=\"\",\"\",TDPrimas_!E59)","v":0.10270719088425267},{"$f":"IF(TDPrimas_!F59=\"\",\"\",TDPrimas_!F59)","v":9.8167387398639089E-2},{"$f":"IF(TDPrimas_!G59=\"\",\"\",TDPrimas_!G59)","v":117134.96030000015},{"$f":"IF(TDPrimas_!H59=\"\",\"\",TDPrimas_!H59)","v":17.380929979807647},{"$f":"IF(TDPrimas_!I59=\"\",\"\",TDPrimas_!I59)","v":100},{"$f":"IF(TDPrimas_!J59=\"\",\"\",TDPrimas_!J59)","v":100},{"$f":"IF(TDPrimas_!K59=\"\",\"\",TDPrimas_!K59)","v":0.10270719088425267}]
[null,{"$f":"IF(TDPrimas_!A60=\"\",\"\",TDPrimas_!A60)","v":52},{"$f":"IF(TDPrimas_!B60=\"\",\"\",TDPrimas_!B60)","v":"Sompo Japan"},{"$f":"IF(TDPrimas_!C60=\"\",\"\",TDPrimas_!C60)","v":758794.05964999995},{"$f":"IF(TDPrimas_!D60=\"\",\"\",TDPrimas_!D60)","v":667096.89925000002},{"$f":"IF(TDPrimas_!E60=\"\",\"\",TDPrimas_!E60)","v":9.8517572620568067E-2},{"$f":"IF(TDPrimas_!F60=\"\",\"\",TDPrimas_!F60)","v":9.7172333103751798E-2},{"$f":"IF(TDPrimas_!G60=\"\",\"\",TDPrimas_!G60)","v":91697.160399999935},{"$f":"IF(TDPrimas_!H60=\"\",\"\",TDPrimas_!H60)","v":13.745703285848387},{"$f":"IF(TDPrimas_!I60=\"\",\"\",TDPrimas_!I60)","v":100},{"$f":"IF(TDPrimas_!J60=\"\",\"\",TDPrimas_!J60)","v":100},{"$f":"IF(TDPrimas_!K60=\"\",\"\",TDPrimas_!K60)","v":9.8517572620568067E-2}]
[null,{"$f":"IF(TDPrimas_!A61=\"\",\"\",TDPrimas_!A61)","v":53},{"$f":"IF(TDPrimas_!B61=\"\",\"\",TDPrimas_!B61)","v":"AXA Salud"},{"$f":"IF(TDPrimas_!C61=\"\",\"\",TDPrimas_!C61)","v":736798.96127999993},{"$f":"IF(TDPrimas_!D61=\"\",\"\",TDPrimas_!D61)","v":632166.95652999997},{"$f":"IF(TDPrimas_!E61=\"\",\"\",TDPrimas_!E61)","v":9.5661852187065299E-2},{"$f":"IF(TDPrimas_!F61=\"\",\"\",TDPrimas_!F61)","v":9.208428062876825E-2},{"$f":"IF(TDPrimas_!G61=\"\",\"\",TDPrimas_!G61)","v":104632.00474999996},{"$f":"IF(TDPrimas_!H61=\"\",\"\",TDPrimas_!H61)","v":16.551324562158531},{"$f":"IF(TDPrimas_!I61=\"\",\"\",TDPrimas_!I61)","v":100},{"$f":"IF(TDPrimas_!J61=\"\",\"\",TDPrimas_!J61)","v":100},{"$f":"IF(TDPrimas_!K61=\"\",\"\",TDPrimas_!K61)","v":9.5661852187065299E-2}]
[null,{"$f":"IF(TDPrimas_!A62=\"\",\"\",TDPrimas_!A62)","v":54},{"$f":"IF(TDPrimas_!B62=\"\",\"\",TDPrimas_!B62)","v":"Atradius"},{"$f":"IF(TDPrimas_!C62=\"\",\"\",TDPrimas_!C62)","v":678248.51098000002},{"$f":"IF(TDPrimas_!D62=\"\",\"\",TDPrimas_!D62)","v":605124.67148000002},{"$f":"IF(TDPrimas_!E62=\"\",\"\",TDPrimas_!E62)","v":8.8059989512945469E-2},{"$f":"IF(TDPrimas_!F62=\"\",\"\",TDPrimas_!F62)","v":8.8145179826891448E-2},{"$f":"IF(TDPrimas_!G62=\"\",\"\",TDPrimas_!G62)","v":73123.839500000002},{"$f":"IF(TDPrimas_!H62=\"\",\"\",TDPrimas_!H62)","v":12.084094889265607},{"$f":"IF(TDPrimas_!I62=\"\",\"\",TDPrimas_!I62)","v":100},{"$f":"IF(TDPrimas_!J62=\"\",\"\",TDPrimas_!J62)","v":100},{"$f":"IF(TDPrimas_!K62=\"\",\"\",TDPrimas_!K62)","v":8.8059989512945469E-2}]
[null,{"$f":"IF(TDPrimas_!A63=\"\",\"\",TDPrimas_!A63)","v":55},{"$f":"IF(TDPrimas_!B63=\"\",\"\",TDPrimas_!B63)","v":"Skandia Life"},{"$f":"IF(TDPrimas_!C63=\"\",\"\",TDPrimas_!C63)","v":672062.19351000001},{"$f":"IF(TDPrimas_!D63=\"\",\"\",TDPrimas_!D63)","v":372806.80567999999},{"$f":"IF(TDPrimas_!E63=\"\",\"\",TDPrimas_!E63)","v":8.7256792686542087E-2},{"$f":"IF(TDPrimas_!F63=\"\",\"\",TDPrimas_!F63)","v":5.430471517048148E-2},{"$f":"IF(TDPrimas_!G63=\"\",\"\",TDPrimas_!G63)","v":299255.38783000002},{"$f":"IF(TDPrimas_!H63=\"\",\"\",TDPrimas_!H63)","v":80.27090258831457},{"$f":"IF(TDPrimas_!I63=\"\",\"\",TDPrimas_!I63)","v":100},{"$f":"IF(TDPrimas_!J63=\"\",\"\",TDPrimas_!J63)","v":100},{"$f":"IF(TDPrimas_!K63=\"\",\"\",TDPrimas_!K63)","v":8.7256792686542087E-2}]
[null,{"$f":"IF(TDPrimas_!A64=\"\",\"\",TDPrimas_!A64)","v":56},{"$f":"IF(TDPrimas_!B64=\"\",\"\",TDPrimas_!B64)","v":"PREVEM Seguros"},{"$f":"IF(TDPrimas_!C64=\"\",\"\",TDPrimas_!C64)","v":512811.06137999997},{"$f":"IF(TDPrimas_!D64=\"\",\"\",TDPrimas_!D64)","v":478354.15682999999},{"$f":"IF(TDPrimas_!E64=\"\",\"\",TDPrimas_!E64)","v":6.6580517253176597E-2},{"$f":"IF(TDPrimas_!F64=\"\",\"\",TDPrimas_!F64)","v":6.9679216799401256E-2},{"$f":"IF(TDPrimas_!G64=\"\",\"\",TDPrimas_!G64)","v":34456.904549999977},{"$f":"IF(TDPrimas_!H64=\"\",\"\",TDPrimas_!H64)","v":7.203220471280547},{"$f":"IF(TDPrimas_!I64=\"\",\"\",TDPrimas_!I64)","v":100},{"$f":"IF(TDPrimas_!J64=\"\",\"\",TDPrimas_!J64)","v":100},{"$f":"IF(TDPrimas_!K64=\"\",\"\",TDPrimas_!K64)","v":6.6580517253176597E-2}]
[null,{"$f":"IF(TDPrimas_!A65=\"\",\"\",TDPrimas_!A65)","v":57},{"$f":"IF(TDPrimas_!B65=\"\",\"\",TDPrimas_!B65)","v":"Solunion Crédito"},{"$f":"IF(TDPrimas_!C65=\"\",\"\",TDPrimas_!C65)","v":491847.01507999998},{"$f":"IF(TDPrimas_!D65=\"\",\"\",TDPrimas_!D65)","v":525328.15815000003},{"$f":"IF(TDPrimas_!E65=\"\",\"\",TDPrimas_!E65)","v":6.3858662848130451E-2},{"$f":"IF(TDPrimas_!F65=\"\",\"\",TDPrimas_!F65)","v":7.6521660990964663E-2},{"$f":"IF(TDPrimas_!G65=\"\",\"\",TDPrimas_!G65)","v":-33481.143070000049},{"$f":"IF(TDPrimas_!H65=\"\",\"\",TDPrimas_!H65)","v":-6.3733768218150573},{"$f":"IF(TDPrimas_!I65=\"\",\"\",TDPrimas_!I65)","v":100},{"$f":"IF(TDPrimas_!J65=\"\",\"\",TDPrimas_!J65)","v":100},{"$f":"IF(TDPrimas_!K65=\"\",\"\",TDPrimas_!K65)","v":6.3858662848130451E-2}]
[null,{"$f":"IF(TDPrimas_!A66=\"\",\"\",TDPrimas_!A66)","v":58},{"$f":"IF(TDPrimas_!B66=\"\",\"\",TDPrimas_!B66)","v":"General de Salud"},{"$f":"IF(TDPrimas_!C66=\"\",\"\",TDPrimas_!C66)","v":463598.83335000003},{"$f":"IF(TDPrimas_!D66=\"\",\"\",TDPrimas_!D66)","v":1101163.0575699999},{"$f":"IF(TDPrimas_!E66=\"\",\"\",TDPrimas_!E66)","v":6.0191077078853433E-2},{"$f":"IF(TDPrimas_!F66=\"\",\"\",TDPrimas_!F66)","v":0.16040036095511478},{"$f":"IF(TDPrimas_!G66=\"\",\"\",TDPrimas_!G66)","v":-637564.22421999997},{"$f":"IF(TDPrimas_!H66=\"\",\"\",TDPrimas_!H66)","v":-57.899165780856251},{"$f":"IF(TDPrimas_!I66=\"\",\"\",TDPrimas_!I66)","v":100},{"$f":"IF(TDPrimas_!J66=\"\",\"\",TDPrimas_!J66)","v":100},{"$f":"IF(TDPrimas_!K66=\"\",\"\",TDPrimas_!K66)","v":6.0191077078853433E-2}]
[null,{"$f":"IF(TDPrimas_!A67=\"\",\"\",TDPrimas_!A67)","v":59},{"$f":"IF(TDPrimas_!B67=\"\",\"\",TDPrimas_!B67)","v":"Primero Seguros"},{"$f":"IF(TDPrimas_!C67=\"\",\"\",TDPrimas_!C67)","v":431846.40201999998},{"$f":"IF(TDPrimas_!D67=\"\",\"\",TDPrimas_!D67)","v":1478140.9423199999},{"$f":"IF(TDPrimas_!E67=\"\",\"\",TDPrimas_!E67)","v":5.6068519159942244E-2},{"$f":"IF(TDPrimas_!F67=\"\",\"\",TDPrimas_!F67)","v":0.21531265425292351},{"$f":"IF(TDPrimas_!G67=\"\",\"\",TDPrimas_!G67)","v":-1046294.5403},{"$f":"IF(TDPrimas_!H67=\"\",\"\",TDPrimas_!H67)","v":-70.78449086578982},{"$f":"IF(TDPrimas_!I67=\"\",\"\",TDPrimas_!I67)","v":100},{"$f":"IF(TDPrimas_!J67=\"\",\"\",TDPrimas_!J67)","v":100},{"$f":"IF(TDPrimas_!K67=\"\",\"\",TDPrimas_!K67)","v":5.6068519159942244E-2}]
[null,{"$f":"IF(TDPrimas_!A68=\"\",\"\",TDPrimas_!A68)","v":60},{"$f":"IF(TDPrimas_!B68=\"\",\"\",TDPrimas_!B68)","v":"SHF Cred Vivienda"},{"$f":"IF(TDPrimas_!C68=\"\",\"\",TDPrimas_!C68)","v":356133.19910999999},{"$f":"IF(TDPrimas_!D68=\"\",\"\",TDPrimas_!D68)","v":351623.43938},{"$f":"IF(TDPrimas_!E68=\"\",\"\",TDPrimas_!E68)","v":4.6238340772064124E-2},{"$f":"IF(TDPrimas_!F68=\"\",\"\",TDPrimas_!F68)","v":5.1219050810960932E-2},{"$f":"IF(TDPrimas_!G68=\"\",\"\",TDPrimas_!G68)","v":4509.7597299999907},{"$f":"IF(TDPrimas_!H68=\"\",\"\",TDPrimas_!H68)","v":1.2825537847965585},{"$f":"IF(TDPrimas_!I68=\"\",\"\",TDPrimas_!I68)","v":100},{"$f":"IF(TDPrimas_!J68=\"\",\"\",TDPrimas_!J68)","v":100},{"$f":"IF(TDPrimas_!K68=\"\",\"\",TDPrimas_!K68)","v":4.6238340772064124E-2}]
[null,{"$f":"IF(TDPrimas_!A69=\"\",\"\",TDPrimas_!A69)","v":61},{"$f":"IF(TDPrimas_!B69=\"\",\"\",TDPrimas_!B69)","v":"Coface"},{"$f":"IF(TDPrimas_!C69=\"\",\"\",TDPrimas_!C69)","v":291154.41632999998},{"$f":"IF(TDPrimas_!D69=\"\",\"\",TDPrimas_!D69)","v":305414.17260000005},{"$f":"IF(TDPrimas_!E69=\"\",\"\",TDPrimas_!E69)","v":3.7801859397555815E-2},{"$f":"IF(TDPrimas_!F69=\"\",\"\",TDPrimas_!F69)","v":4.4488001290157321E-2},{"$f":"IF(TDPrimas_!G69=\"\",\"\",TDPrimas_!G69)","v":-14259.756270000071},{"$f":"IF(TDPrimas_!H69=\"\",\"\",TDPrimas_!H69)","v":-4.6689897029356331},{"$f":"IF(TDPrimas_!I69=\"\",\"\",TDPrimas_!I69)","v":100},{"$f":"IF(TDPrimas_!J69=\"\",\"\",TDPrimas_!J69)","v":100},{"$f":"IF(TDPrimas_!K69=\"\",\"\",TDPrimas_!K69)","v":3.7801859397555815E-2}]
[null,{"$f":"IF(TDPrimas_!A70=\"\",\"\",TDPrimas_!A70)","v":62},{"$f":"IF(TDPrimas_!B70=\"\",\"\",TDPrimas_!B70)","v":"Crabi"},{"$f":"IF(TDPrimas_!C70=\"\",\"\",TDPrimas_!C70)","v":278462.23986000003},{"$f":"IF(TDPrimas_!D70=\"\",\"\",TDPrimas_!D70)","v":169473.86775},{"$f":"IF(TDPrimas_!E70=\"\",\"\",TDPrimas_!E70)","v":3.6153978261436959E-2},{"$f":"IF(TDPrimas_!F70=\"\",\"\",TDPrimas_!F70)","v":2.4686325401750364E-2},{"$f":"IF(TDPrimas_!G70=\"\",\"\",TDPrimas_!G70)","v":108988.37211000003},{"$f":"IF(TDPrimas_!H70=\"\",\"\",TDPrimas_!H70)","v":64.309839361649907},{"$f":"IF(TDPrimas_!I70=\"\",\"\",TDPrimas_!I70)","v":100},{"$f":"IF(TDPrimas_!J70=\"\",\"\",TDPrimas_!J70)","v":100},{"$f":"IF(TDPrimas_!K70=\"\",\"\",TDPrimas_!K70)","v":3.6153978261436959E-2}]
[null,{"$f":"IF(TDPrimas_!A71=\"\",\"\",TDPrimas_!A71)","v":63},{"$f":"IF(TDPrimas_!B71=\"\",\"\",TDPrimas_!B71)","v":"MediAccess"},{"$f":"IF(TDPrimas_!C71=\"\",\"\",TDPrimas_!C71)","v":144964.70387999999},{"$f":"IF(TDPrimas_!D71=\"\",\"\",TDPrimas_!D71)","v":206857.00487999999},{"$f":"IF(TDPrimas_!E71=\"\",\"\",TDPrimas_!E71)","v":1.882140557149925E-2},{"$f":"IF(TDPrimas_!F71=\"\",\"\",TDPrimas_!F71)","v":3.0131721202186008E-2},{"$f":"IF(TDPrimas_!G71=\"\",\"\",TDPrimas_!G71)","v":-61892.301000000007},{"$f":"IF(TDPrimas_!H71=\"\",\"\",TDPrimas_!H71)","v":-29.920331214262919},{"$f":"IF(TDPrimas_!I71=\"\",\"\",TDPrimas_!I71)","v":100},{"$f":"IF(TDPrimas_!J71=\"\",\"\",TDPrimas_!J71)","v":100},{"$f":"IF(TDPrimas_!K71=\"\",\"\",TDPrimas_!K71)","v":1.882140557149925E-2}]
[null,{"$f":"IF(TDPrimas_!A72=\"\",\"\",TDPrimas_!A72)","v":64},{"$f":"IF(TDPrimas_!B72=\"\",\"\",TDPrimas_!B72)","v":"Genworth Seg. de Crédito"},{"$f":"IF(TDPrimas_!C72=\"\",\"\",TDPrimas_!C72)","v":127853.12620999999},{"$f":"IF(TDPrimas_!D72=\"\",\"\",TDPrimas_!D72)","v":117391.58254},{"$f":"IF(TDPrimas_!E72=\"\",\"\",TDPrimas_!E72)","v":1.6599734125449316E-2},{"$f":"IF(TDPrimas_!F72=\"\",\"\",TDPrimas_!F72)","v":1.7099785615820269E-2},{"$f":"IF(TDPrimas_!G72=\"\",\"\",TDPrimas_!G72)","v":10461.543669999985},{"$f":"IF(TDPrimas_!H72=\"\",\"\",TDPrimas_!H72)","v":8.9116642297886415},{"$f":"IF(TDPrimas_!I72=\"\",\"\",TDPrimas_!I72)","v":100},{"$f":"IF(TDPrimas_!J72=\"\",\"\",TDPrimas_!J72)","v":100},{"$f":"IF(TDPrimas_!K72=\"\",\"\",TDPrimas_!K72)","v":1.6599734125449316E-2}]
[null,{"$f":"IF(TDPrimas_!A73=\"\",\"\",TDPrimas_!A73)","v":65},{"$f":"IF(TDPrimas_!B73=\"\",\"\",TDPrimas_!B73)","v":"Virginia Surety"},{"$f":"IF(TDPrimas_!C73=\"\",\"\",TDPrimas_!C73)","v":112129.76393},{"$f":"IF(TDPrimas_!D73=\"\",\"\",TDPrimas_!D73)","v":95399.785930000013},{"$f":"IF(TDPrimas_!E73=\"\",\"\",TDPrimas_!E73)","v":1.4558300793757315E-2},{"$f":"IF(TDPrimas_!F73=\"\",\"\",TDPrimas_!F73)","v":1.3896361663258885E-2},{"$f":"IF(TDPrimas_!G73=\"\",\"\",TDPrimas_!G73)","v":16729.977999999988},{"$f":"IF(TDPrimas_!H73=\"\",\"\",TDPrimas_!H73)","v":17.536703921197127},{"$f":"IF(TDPrimas_!I73=\"\",\"\",TDPrimas_!I73)","v":100},{"$f":"IF(TDPrimas_!J73=\"\",\"\",TDPrimas_!J73)","v":100},{"$f":"IF(TDPrimas_!K73=\"\",\"\",TDPrimas_!K73)","v":1.4558300793757315E-2}]
[null,{"$f":"IF(TDPrimas_!A74=\"\",\"\",TDPrimas_!A74)","v":66},{"$f":"IF(TDPrimas_!B74=\"\",\"\",TDPrimas_!B74)","v":"Tláloc Seguros"},{"$f":"IF(TDPrimas_!C74=\"\",\"\",TDPrimas_!C74)","v":111365.2858},{"$f":"IF(TDPrimas_!D74=\"\",\"\",TDPrimas_!D74)","v":93944.269700000004},{"$f":"IF(TDPrimas_!E74=\"\",\"\",TDPrimas_!E74)","v":1.4459045233264588E-2},{"$f":"IF(TDPrimas_!F74=\"\",\"\",TDPrimas_!F74)","v":1.3684344626305949E-2},{"$f":"IF(TDPrimas_!G74=\"\",\"\",TDPrimas_!G74)","v":17421.016099999993},{"$f":"IF(TDPrimas_!H74=\"\",\"\",TDPrimas_!H74)","v":18.543990129075418},{"$f":"IF(TDPrimas_!I74=\"\",\"\",TDPrimas_!I74)","v":100},{"$f":"IF(TDPrimas_!J74=\"\",\"\",TDPrimas_!J74)","v":100},{"$f":"IF(TDPrimas_!K74=\"\",\"\",TDPrimas_!K74)","v":1.4459045233264588E-2}]
[null,{"$f":"IF(TDPrimas_!A75=\"\",\"\",TDPrimas_!A75)","v":67},{"$f":"IF(TDPrimas_!B75=\"\",\"\",TDPrimas_!B75)","v":"Odontoprev"},{"$f":"IF(TDPrimas_!C75=\"\",\"\",TDPrimas_!C75)","v":97783.699609999996},{"$f":"IF(TDPrimas_!D75=\"\",\"\",TDPrimas_!D75)","v":103938.11167},{"$f":"IF(TDPrimas_!E75=\"\",\"\",TDPrimas_!E75)","v":1.2695688118432923E-2},{"$f":"IF(TDPrimas_!F75=\"\",\"\",TDPrimas_!F75)","v":1.5140092572349327E-2},{"$f":"IF(TDPrimas_!G75=\"\",\"\",TDPrimas_!G75)","v":-6154.4120600000024},{"$f":"IF(TDPrimas_!H75=\"\",\"\",TDPrimas_!H75)","v":-5.9212275084812527},{"$f":"IF(TDPrimas_!I75=\"\",\"\",TDPrimas_!I75)","v":100},{"$f":"IF(TDPrimas_!J75=\"\",\"\",TDPrimas_!J75)","v":100},{"$f":"IF(TDPrimas_!K75=\"\",\"\",TDPrimas_!K75)","v":1.2695688118432923E-2}]
[null,{"$f":"IF(TDPrimas_!A76=\"\",\"\",TDPrimas_!A76)","v":68},{"$f":"IF(TDPrimas_!B76=\"\",\"\",TDPrimas_!B76)","v":"SPP Seguros"},{"$f":"IF(TDPrimas_!C76=\"\",\"\",TDPrimas_!C76)","v":87030.096369999999},{"$f":"IF(TDPrimas_!D76=\"\",\"\",TDPrimas_!D76)","v":71137.016310000006},{"$f":"IF(TDPrimas_!E76=\"\",\"\",TDPrimas_!E76)","v":1.129950047745674E-2},{"$f":"IF(TDPrimas_!F76=\"\",\"\",TDPrimas_!F76)","v":1.0362137573497866E-2},{"$f":"IF(TDPrimas_!G76=\"\",\"\",TDPrimas_!G76)","v":15893.080059999993},{"$f":"IF(TDPrimas_!H76=\"\",\"\",TDPrimas_!H76)","v":22.341505005975115},{"$f":"IF(TDPrimas_!I76=\"\",\"\",TDPrimas_!I76)","v":100},{"$f":"IF(TDPrimas_!J76=\"\",\"\",TDPrimas_!J76)","v":100},{"$f":"IF(TDPrimas_!K76=\"\",\"\",TDPrimas_!K76)","v":1.129950047745674E-2}]
[null,{"$f":"IF(TDPrimas_!A77=\"\",\"\",TDPrimas_!A77)","v":69},{"$f":"IF(TDPrimas_!B77=\"\",\"\",TDPrimas_!B77)","v":"Momento Seguros"},{"$f":"IF(TDPrimas_!C77=\"\",\"\",TDPrimas_!C77)","v":77172.757209999996},{"$f":"IF(TDPrimas_!D77=\"\",\"\",TDPrimas_!D77)","v":21436.396140000001},{"$f":"IF(TDPrimas_!E77=\"\",\"\",TDPrimas_!E77)","v":1.0019678746921834E-2},{"$f":"IF(TDPrimas_!F77=\"\",\"\",TDPrimas_!F77)","v":3.1225218234441662E-3},{"$f":"IF(TDPrimas_!G77=\"\",\"\",TDPrimas_!G77)","v":55736.361069999999},{"$f":"IF(TDPrimas_!H77=\"\",\"\",TDPrimas_!H77)","v":260.00807554585521},{"$f":"IF(TDPrimas_!I77=\"\",\"\",TDPrimas_!I77)","v":100},{"$f":"IF(TDPrimas_!J77=\"\",\"\",TDPrimas_!J77)","v":100},{"$f":"IF(TDPrimas_!K77=\"\",\"\",TDPrimas_!K77)","v":1.0019678746921834E-2}]
[null,{"$f":"IF(TDPrimas_!A78=\"\",\"\",TDPrimas_!A78)","v":70},{"$f":"IF(TDPrimas_!B78=\"\",\"\",TDPrimas_!B78)","v":"Quálitas Salud"},{"$f":"IF(TDPrimas_!C78=\"\",\"\",TDPrimas_!C78)","v":49328.372200000005},{"$f":"IF(TDPrimas_!D78=\"\",\"\",TDPrimas_!D78)","v":15298.178199999998},{"$f":"IF(TDPrimas_!E78=\"\",\"\",TDPrimas_!E78)","v":6.4045196831265302E-3},{"$f":"IF(TDPrimas_!F78=\"\",\"\",TDPrimas_!F78)","v":2.2284014055563069E-3},{"$f":"IF(TDPrimas_!G78=\"\",\"\",TDPrimas_!G78)","v":34030.194000000003},{"$f":"IF(TDPrimas_!H78=\"\",\"\",TDPrimas_!H78)","v":222.44605570093313},{"$f":"IF(TDPrimas_!I78=\"\",\"\",TDPrimas_!I78)","v":100},{"$f":"IF(TDPrimas_!J78=\"\",\"\",TDPrimas_!J78)","v":100},{"$f":"IF(TDPrimas_!K78=\"\",\"\",TDPrimas_!K78)","v":6.4045196831265302E-3}]
[null,{"$f":"IF(TDPrimas_!A79=\"\",\"\",TDPrimas_!A79)","v":71},{"$f":"IF(TDPrimas_!B79=\"\",\"\",TDPrimas_!B79)","v":"SPT"},{"$f":"IF(TDPrimas_!C79=\"\",\"\",TDPrimas_!C79)","v":44129.07303},{"$f":"IF(TDPrimas_!D79=\"\",\"\",TDPrimas_!D79)","v":43281.459020000002},{"$f":"IF(TDPrimas_!E79=\"\",\"\",TDPrimas_!E79)","v":5.7294717870046211E-3},{"$f":"IF(TDPrimas_!F79=\"\",\"\",TDPrimas_!F79)","v":6.304571881290787E-3},{"$f":"IF(TDPrimas_!G79=\"\",\"\",TDPrimas_!G79)","v":847.61400999999751},{"$f":"IF(TDPrimas_!H79=\"\",\"\",TDPrimas_!H79)","v":1.9583767026160714},{"$f":"IF(TDPrimas_!I79=\"\",\"\",TDPrimas_!I79)","v":100},{"$f":"IF(TDPrimas_!J79=\"\",\"\",TDPrimas_!J79)","v":100},{"$f":"IF(TDPrimas_!K79=\"\",\"\",TDPrimas_!K79)","v":5.7294717870046211E-3}]
[null,{"$f":"IF(TDPrimas_!A80=\"\",\"\",TDPrimas_!A80)","v":72},{"$f":"IF(TDPrimas_!B80=\"\",\"\",TDPrimas_!B80)","v":"Banamex Pensiones"},{"$f":"IF(TDPrimas_!C80=\"\",\"\",TDPrimas_!C80)","v":9930.3873499999991},{"$f":"IF(TDPrimas_!D80=\"\",\"\",TDPrimas_!D80)","v":6656.5933399999994},{"$f":"IF(TDPrimas_!E80=\"\",\"\",TDPrimas_!E80)","v":1.2893058985665392E-3},{"$f":"IF(TDPrimas_!F80=\"\",\"\",TDPrimas_!F80)","v":9.6962930887239571E-4},{"$f":"IF(TDPrimas_!G80=\"\",\"\",TDPrimas_!G80)","v":3273.7940099999996},{"$f":"IF(TDPrimas_!H80=\"\",\"\",TDPrimas_!H80)","v":49.181222928663985},{"$f":"IF(TDPrimas_!I80=\"\",\"\",TDPrimas_!I80)","v":100},{"$f":"IF(TDPrimas_!J80=\"\",\"\",TDPrimas_!J80)","v":100},{"$f":"IF(TDPrimas_!K80=\"\",\"\",TDPrimas_!K80)","v":1.2893058985665392E-3}]
[null,{"$f":"IF(TDPrimas_!A81=\"\",\"\",TDPrimas_!A81)","v":150.1},{"$f":"IF(TDPrimas_!B81=\"\",\"\",TDPrimas_!B81)","v":"TOTAL RESTO"},{"$f":"IF(TDPrimas_!C81=\"\",\"\",TDPrimas_!C81)","v":164022892.51338997},{"$f":"IF(TDPrimas_!D81=\"\",\"\",TDPrimas_!D81)","v":144774160.75916007},{"$f":"IF(TDPrimas_!E81=\"\",\"\",TDPrimas_!E81)","v":21.295814086996231},{"$f":"IF(TDPrimas_!F81=\"\",\"\",TDPrimas_!F81)","v":21.088455050415547},{"$f":"IF(TDPrimas_!G81=\"\",\"\",TDPrimas_!G81)","v":19248731.754229903},{"$f":"IF(TDPrimas_!H81=\"\",\"\",TDPrimas_!H81)","v":13.295695622267335},{"$f":"IF(TDPrimas_!I81=\"\",\"\",TDPrimas_!I81)","v":100},{"$f":"IF(TDPrimas_!J81=\"\",\"\",TDPrimas_!J81)","v":100},{"$f":"IF(TDPrimas_!K81=\"\",\"\",TDPrimas_!K81)","v":21.295814086996231}]
[null,{"$f":"IF(TDPrimas_!A82=\"\",\"\",TDPrimas_!A82)","v":200},{"$f":"IF(TDPrimas_!B82=\"\",\"\",TDPrimas_!B82)","v":"Patria"},{"$f":"IF(TDPrimas_!C82=\"\",\"\",TDPrimas_!C82)","v":0},{"$f":"IF(TDPrimas_!D82=\"\",\"\",TDPrimas_!D82)","v":0},{"$f":"IF(TDPrimas_!E82=\"\",\"\",TDPrimas_!E82)","v":0},{"$f":"IF(TDPrimas_!F82=\"\",\"\",TDPrimas_!F82)","v":0},{"$f":"IF(TDPrimas_!G82=\"\",\"\",TDPrimas_!G82)","v":0},{"$f":"IF(TDPrimas_!H82=\"\",\"\",TDPrimas_!H82)","v":0},{"$f":"IF(TDPrimas_!I82=\"\",\"\",TDPrimas_!I82)","v":0},{"$f":"IF(TDPrimas_!J82=\"\",\"\",TDPrimas_!J82)","v":0},{"$f":"IF(TDPrimas_!K82=\"\",\"\",TDPrimas_!K82)","v":0}]
[null,{"$f":"IF(TDPrimas_!A83=\"\",\"\",TDPrimas_!A83)","v":201.1},{"$f":"IF(TDPrimas_!B83=\"\",\"\",TDPrimas_!B83)","v":"TOTAL"},{"$f":"IF(TDPrimas_!C83=\"\",\"\",TDPrimas_!C83)","v":770211891.61088002},{"$f":"IF(TDPrimas_!D83=\"\",\"\",TDPrimas_!D83)","v":686509089.51391983},{"$f":"IF(TDPrimas_!E83=\"\",\"\",TDPrimas_!E83)","v":99.999999999999972},{"$f":"IF(TDPrimas_!F83=\"\",\"\",TDPrimas_!F83)","v":99.999999999999972},{"$f":"IF(TDPrimas_!G83=\"\",\"\",TDPrimas_!G83)","v":83702802.096960187},{"$f":"IF(TDPrimas_!H83=\"\",\"\",TDPrimas_!H83)","v":12.192526417417969},{"$f":"IF(TDPrimas_!I83=\"\",\"\",TDPrimas_!I83)","v":100},{"$f":"IF(TDPrimas_!J83=\"\",\"\",TDPrimas_!J83)","v":100},{"$f":"IF(TDPrimas_!K83=\"\",\"\",TDPrimas_!K83)","v":99.999999999999972}]
[null,{"$f":"IF(TDPrimas_!A84=\"\",\"\",TDPrimas_!A84)","v":""},{"$f":"IF(TDPrimas_!B84=\"\",\"\",TDPrimas_!B84)","v":""},{"$f":"IF(TDPrimas_!C84=\"\",\"\",TDPrimas_!C84)","v":""},{"$f":"IF(TDPrimas_!D84=\"\",\"\",TDPrimas_!D84)","v":""},{"$f":"IF(TDPrimas_!E84=\"\",\"\",TDPrimas_!E84)","v":""},{"$f":"IF(TDPrimas_!F84=\"\",\"\",TDPrimas_!F84)","v":""},{"$f":"IF(TDPrimas_!G84=\"\",\"\",TDPrimas_!G84)","v":""},{"$f":"IF(TDPrimas_!H84=\"\",\"\",TDPrimas_!H84)","v":""},{"$f":"IF(TDPrimas_!I84=\"\",\"\",TDPrimas_!I84)","v":""},{"$f":"IF(TDPrimas_!J84=\"\",\"\",TDPrimas_!J84)","v":""},{"$f":"IF(TDPrimas_!K84=\"\",\"\",TDPrimas_!K84)","v":""}]
[null,{"$f":"IF(TDPrimas_!A85=\"\",\"\",TDPrimas_!A85)","v":""},{"$f":"IF(TDPrimas_!B85=\"\",\"\",TDPrimas_!B85)","v":""},{"$f":"IF(TDPrimas_!C85=\"\",\"\",TDPrimas_!C85)","v":""},{"$f":"IF(TDPrimas_!D85=\"\",\"\",TDPrimas_!D85)","v":""},{"$f":"IF(TDPrimas_!E85=\"\",\"\",TDPrimas_!E85)","v":""},{"$f":"IF(TDPrimas_!F85=\"\",\"\",TDPrimas_!F85)","v":""},{"$f":"IF(TDPrimas_!G85=\"\",\"\",TDPrimas_!G85)","v":""},{"$f":"IF(TDPrimas_!H85=\"\",\"\",TDPrimas_!H85)","v":""},{"$f":"IF(TDPrimas_!I85=\"\",\"\",TDPrimas_!I85)","v":""},{"$f":"IF(TDPrimas_!J85=\"\",\"\",TDPrimas_!J85)","v":""},{"$f":"IF(TDPrimas_!K85=\"\",\"\",TDPrimas_!K85)","v":""}]
[null,{"$f":"IF(TDPrimas_!A86=\"\",\"\",TDPrimas_!A86)","v":""},{"$f":"IF(TDPrimas_!B86=\"\",\"\",TDPrimas_!B86)","v":""},{"$f":"IF(TDPrimas_!C86=\"\",\"\",TDPrimas_!C86)","v":""},{"$f":"IF(TDPrimas_!D86=\"\",\"\",TDPrimas_!D86)","v":""},{"$f":"IF(TDPrimas_!E86=\"\",\"\",TDPrimas_!E86)","v":""},{"$f":"IF(TDPrimas_!F86=\"\",\"\",TDPrimas_!F86)","v":""},{"$f":"IF(TDPrimas_!G86=\"\",\"\",TDPrimas_!G86)","v":""},{"$f":"IF(TDPrimas_!H86=\"\",\"\",TDPrimas_!H86)","v":""},{"$f":"IF(TDPrimas_!I86=\"\",\"\",TDPrimas_!I86)","v":""},{"$f":"IF(TDPrimas_!J86=\"\",\"\",TDPrimas_!J86)","v":""},{"$f":"IF(TDPrimas_!K86=\"\",\"\",TDPrimas_!K86)","v":""}]
[null,{"$f":"IF(TDPrimas_!A87=\"\",\"\",TDPrimas_!A87)","v":""},{"$f":"IF(TDPrimas_!B87=\"\",\"\",TDPrimas_!B87)","v":""},{"$f":"IF(TDPrimas_!C87=\"\",\"\",TDPrimas_!C87)","v":""},{"$f":"IF(TDPrimas_!D87=\"\",\"\",TDPrimas_!D87)","v":""},{"$f":"IF(TDPrimas_!E87=\"\",\"\",TDPrimas_!E87)","v":""},{"$f":"IF(TDPrimas_!F87=\"\",\"\",TDPrimas_!F87)","v":""},{"$f":"IF(TDPrimas_!G87=\"\",\"\",TDPrimas_!G87)","v":""},{"$f":"IF(TDPrimas_!H87=\"\",\"\",TDPrimas_!H87)","v":""},{"$f":"IF(TDPrimas_!I87=\"\",\"\",TDPrimas_!I87)","v":""},{"$f":"IF(TDPrimas_!J87=\"\",\"\",TDPrimas_!J87)","v":""},{"$f":"IF(TDPrimas_!K87=\"\",\"\",TDPrimas_!K87)","v":""}]
[null,{"$f":"IF(TDPrimas_!A88=\"\",\"\",TDPrimas_!A88)","v":""},{"$f":"IF(TDPrimas_!B88=\"\",\"\",TDPrimas_!B88)","v":""},{"$f":"IF(TDPrimas_!C88=\"\",\"\",TDPrimas_!C88)","v":""},{"$f":"IF(TDPrimas_!D88=\"\",\"\",TDPrimas_!D88)","v":""},{"$f":"IF(TDPrimas_!E88=\"\",\"\",TDPrimas_!E88)","v":""},{"$f":"IF(TDPrimas_!F88=\"\",\"\",TDPrimas_!F88)","v":""},{"$f":"IF(TDPrimas_!G88=\"\",\"\",TDPrimas_!G88)","v":""},{"$f":"IF(TDPrimas_!H88=\"\",\"\",TDPrimas_!H88)","v":""},{"$f":"IF(TDPrimas_!I88=\"\",\"\",TDPrimas_!I88)","v":""},{"$f":"IF(TDPrimas_!J88=\"\",\"\",TDPrimas_!J88)","v":""},{"$f":"IF(TDPrimas_!K88=\"\",\"\",TDPrimas_!K88)","v":""}]
[null,{"$f":"IF(TDPrimas_!A89=\"\",\"\",TDPrimas_!A89)","v":""},{"$f":"IF(TDPrimas_!B89=\"\",\"\",TDPrimas_!B89)","v":""},{"$f":"IF(TDPrimas_!C89=\"\",\"\",TDPrimas_!C89)","v":""},{"$f":"IF(TDPrimas_!D89=\"\",\"\",TDPrimas_!D89)","v":""},{"$f":"IF(TDPrimas_!E89=\"\",\"\",TDPrimas_!E89)","v":""},{"$f":"IF(TDPrimas_!F89=\"\",\"\",TDPrimas_!F89)","v":""},{"$f":"IF(TDPrimas_!G89=\"\",\"\",TDPrimas_!G89)","v":""},{"$f":"IF(TDPrimas_!H89=\"\",\"\",TDPrimas_!H89)","v":""},{"$f":"IF(TDPrimas_!I89=\"\",\"\",TDPrimas_!I89)","v":""},{"$f":"IF(TDPrimas_!J89=\"\",\"\",TDPrimas_!J89)","v":""},{"$f":"IF(TDPrimas_!K89=\"\",\"\",TDPrimas_!K89)","v":""}]
[null,{"$f":"IF(TDPrimas_!A90=\"\",\"\",TDPrimas_!A90)","v":""},{"$f":"IF(TDPrimas_!B90=\"\",\"\",TDPrimas_!B90)","v":""},{"$f":"IF(TDPrimas_!C90=\"\",\"\",TDPrimas_!C90)","v":""},{"$f":"IF(TDPrimas_!D90=\"\",\"\",TDPrimas_!D90)","v":""},{"$f":"IF(TDPrimas_!E90=\"\",\"\",TDPrimas_!E90)","v":""},{"$f":"IF(TDPrimas_!F90=\"\",\"\",TDPrimas_!F90)","v":""},{"$f":"IF(TDPrimas_!G90=\"\",\"\",TDPrimas_!G90)","v":""},{"$f":"IF(TDPrimas_!H90=\"\",\"\",TDPrimas_!H90)","v":""},{"$f":"IF(TDPrimas_!I90=\"\",\"\",TDPrimas_!I90)","v":""},{"$f":"IF(TDPrimas_!J90=\"\",\"\",TDPrimas_!J90)","v":""},{"$f":"IF(TDPrimas_!K90=\"\",\"\",TDPrimas_!K90)","v":""}]
[null,{"$f":"IF(TDPrimas_!A91=\"\",\"\",TDPrimas_!A91)","v":""},{"$f":"IF(TDPrimas_!B91=\"\",\"\",TDPrimas_!B91)","v":""},{"$f":"IF(TDPrimas_!C91=\"\",\"\",TDPrimas_!C91)","v":""},{"$f":"IF(TDPrimas_!D91=\"\",\"\",TDPrimas_!D91)","v":""},{"$f":"IF(TDPrimas_!E91=\"\",\"\",TDPrimas_!E91)","v":""},{"$f":"IF(TDPrimas_!F91=\"\",\"\",TDPrimas_!F91)","v":""},{"$f":"IF(TDPrimas_!G91=\"\",\"\",TDPrimas_!G91)","v":""},{"$f":"IF(TDPrimas_!H91=\"\",\"\",TDPrimas_!H91)","v":""},{"$f":"IF(TDPrimas_!I91=\"\",\"\",TDPrimas_!I91)","v":""},{"$f":"IF(TDPrimas_!J91=\"\",\"\",TDPrimas_!J91)","v":""},{"$f":"IF(TDPrimas_!K91=\"\",\"\",TDPrimas_!K91)","v":""}]
[null,{"$f":"IF(TDPrimas_!A92=\"\",\"\",TDPrimas_!A92)","v":""},{"$f":"IF(TDPrimas_!B92=\"\",\"\",TDPrimas_!B92)","v":""},{"$f":"IF(TDPrimas_!C92=\"\",\"\",TDPrimas_!C92)","v":""},{"$f":"IF(TDPrimas_!D92=\"\",\"\",TDPrimas_!D92)","v":""},{"$f":"IF(TDPrimas_!E92=\"\",\"\",TDPrimas_!E92)","v":""},{"$f":"IF(TDPrimas_!F92=\"\",\"\",TDPrimas_!F92)","v":""},{"$f":"IF(TDPrimas_!G92=\"\",\"\",TDPrimas_!G92)","v":""},{"$f":"IF(TDPrimas_!H92=\"\",\"\",TDPrimas_!H92)","v":""},{"$f":"IF(TDPrimas_!I92=\"\",\"\",TDPrimas_!I92)","v":""},{"$f":"IF(TDPrimas_!J92=\"\",\"\",TDPrimas_!J92)","v":""},{"$f":"IF(TDPrimas_!K92=\"\",\"\",TDPrimas_!K92)","v":""}]
[null,{"$f":"IF(TDPrimas_!A93=\"\",\"\",TDPrimas_!A93)","v":""},{"$f":"IF(TDPrimas_!B93=\"\",\"\",TDPrimas_!B93)","v":""},{"$f":"IF(TDPrimas_!C93=\"\",\"\",TDPrimas_!C93)","v":""},{"$f":"IF(TDPrimas_!D93=\"\",\"\",TDPrimas_!D93)","v":""},{"$f":"IF(TDPrimas_!E93=\"\",\"\",TDPrimas_!E93)","v":""},{"$f":"IF(TDPrimas_!F93=\"\",\"\",TDPrimas_!F93)","v":""},{"$f":"IF(TDPrimas_!G93=\"\",\"\",TDPrimas_!G93)","v":""},{"$f":"IF(TDPrimas_!H93=\"\",\"\",TDPrimas_!H93)","v":""},{"$f":"IF(TDPrimas_!I93=\"\",\"\",TDPrimas_!I93)","v":""},{"$f":"IF(TDPrimas_!J93=\"\",\"\",TDPrimas_!J93)","v":""},{"$f":"IF(TDPrimas_!K93=\"\",\"\",TDPrimas_!K93)","v":""}]
[null,{"$f":"IF(TDPrimas_!A94=\"\",\"\",TDPrimas_!A94)","v":""},{"$f":"IF(TDPrimas_!B94=\"\",\"\",TDPrimas_!B94)","v":""},{"$f":"IF(TDPrimas_!C94=\"\",\"\",TDPrimas_!C94)","v":""},{"$f":"IF(TDPrimas_!D94=\"\",\"\",TDPrimas_!D94)","v":""},{"$f":"IF(TDPrimas_!E94=\"\",\"\",TDPrimas_!E94)","v":""},{"$f":"IF(TDPrimas_!F94=\"\",\"\",TDPrimas_!F94)","v":""},{"$f":"IF(TDPrimas_!G94=\"\",\"\",TDPrimas_!G94)","v":""},{"$f":"IF(TDPrimas_!H94=\"\",\"\",TDPrimas_!H94)","v":""},{"$f":"IF(TDPrimas_!I94=\"\",\"\",TDPrimas_!I94)","v":""},{"$f":"IF(TDPrimas_!J94=\"\",\"\",TDPrimas_!J94)","v":""},{"$f":"IF(TDPrimas_!K94=\"\",\"\",TDPrimas_!K94)","v":""}]
[null,{"$f":"IF(TDPrimas_!A95=\"\",\"\",TDPrimas_!A95)","v":""},{"$f":"IF(TDPrimas_!B95=\"\",\"\",TDPrimas_!B95)","v":""},{"$f":"IF(TDPrimas_!C95=\"\",\"\",TDPrimas_!C95)","v":""},{"$f":"IF(TDPrimas_!D95=\"\",\"\",TDPrimas_!D95)","v":""},{"$f":"IF(TDPrimas_!E95=\"\",\"\",TDPrimas_!E95)","v":""},{"$f":"IF(TDPrimas_!F95=\"\",\"\",TDPrimas_!F95)","v":""},{"$f":"IF(TDPrimas_!G95=\"\",\"\",TDPrimas_!G95)","v":""},{"$f":"IF(TDPrimas_!H95=\"\",\"\",TDPrimas_!H95)","v":""},{"$f":"IF(TDPrimas_!I95=\"\",\"\",TDPrimas_!I95)","v":""},{"$f":"IF(TDPrimas_!J95=\"\",\"\",TDPrimas_!J95)","v":""},{"$f":"IF(TDPrimas_!K95=\"\",\"\",TDPrimas_!K95)","v":""}]
[null,{"$f":"IF(TDPrimas_!A96=\"\",\"\",TDPrimas_!A96)","v":""},{"$f":"IF(TDPrimas_!B96=\"\",\"\",TDPrimas_!B96)","v":""},{"$f":"IF(TDPrimas_!C96=\"\",\"\",TDPrimas_!C96)","v":""},{"$f":"IF(TDPrimas_!D96=\"\",\"\",TDPrimas_!D96)","v":""},{"$f":"IF(TDPrimas_!E96=\"\",\"\",TDPrimas_!E96)","v":""},{"$f":"IF(TDPrimas_!F96=\"\",\"\",TDPrimas_!F96)","v":""},{"$f":"IF(TDPrimas_!G96=\"\",\"\",TDPrimas_!G96)","v":""},{"$f":"IF(TDPrimas_!H96=\"\",\"\",TDPrimas_!H96)","v":""},{"$f":"IF(TDPrimas_!I96=\"\",\"\",TDPrimas_!I96)","v":""},{"$f":"IF(TDPrimas_!J96=\"\",\"\",TDPrimas_!J96)","v":""},{"$f":"IF(TDPrimas_!K96=\"\",\"\",TDPrimas_!K96)","v":""}]
[null,{"$f":"IF(TDPrimas_!A97=\"\",\"\",TDPrimas_!A97)","v":""},{"$f":"IF(TDPrimas_!B97=\"\",\"\",TDPrimas_!B97)","v":""},{"$f":"IF(TDPrimas_!C97=\"\",\"\",TDPrimas_!C97)","v":""},{"$f":"IF(TDPrimas_!D97=\"\",\"\",TDPrimas_!D97)","v":""},{"$f":"IF(TDPrimas_!E97=\"\",\"\",TDPrimas_!E97)","v":""},{"$f":"IF(TDPrimas_!F97=\"\",\"\",TDPrimas_!F97)","v":""},{"$f":"IF(TDPrimas_!G97=\"\",\"\",TDPrimas_!G97)","v":""},{"$f":"IF(TDPrimas_!H97=\"\",\"\",TDPrimas_!H97)","v":""},{"$f":"IF(TDPrimas_!I97=\"\",\"\",TDPrimas_!I97)","v":""},{"$f":"IF(TDPrimas_!J97=\"\",\"\",TDPrimas_!J97)","v":""},{"$f":"IF(TDPrimas_!K97=\"\",\"\",TDPrimas_!K97)","v":""}]
[null,{"$f":"IF(TDPrimas_!A98=\"\",\"\",TDPrimas_!A98)","v":""},{"$f":"IF(TDPrimas_!B98=\"\",\"\",TDPrimas_!B98)","v":""},{"$f":"IF(TDPrimas_!C98=\"\",\"\",TDPrimas_!C98)","v":""},{"$f":"IF(TDPrimas_!D98=\"\",\"\",TDPrimas_!D98)","v":""},{"$f":"IF(TDPrimas_!E98=\"\",\"\",TDPrimas_!E98)","v":""},{"$f":"IF(TDPrimas_!F98=\"\",\"\",TDPrimas_!F98)","v":""},{"$f":"IF(TDPrimas_!G98=\"\",\"\",TDPrimas_!G98)","v":""},{"$f":"IF(TDPrimas_!H98=\"\",\"\",TDPrimas_!H98)","v":""},{"$f":"IF(TDPrimas_!I98=\"\",\"\",TDPrimas_!I98)","v":""},{"$f":"IF(TDPrimas_!J98=\"\",\"\",TDPrimas_!J98)","v":""},{"$f":"IF(TDPrimas_!K98=\"\",\"\",TDPrimas_!K98)","v":""}]
[null,{"$f":"IF(TDPrimas_!A99=\"\",\"\",TDPrimas_!A99)","v":""},{"$f":"IF(TDPrimas_!B99=\"\",\"\",TDPrimas_!B99)","v":""},{"$f":"IF(TDPrimas_!C99=\"\",\"\",TDPrimas_!C99)","v":""},{"$f":"IF(TDPrimas_!D99=\"\",\"\",TDPrimas_!D99)","v":""},{"$f":"IF(TDPrimas_!E99=\"\",\"\",TDPrimas_!E99)","v":""},{"$f":"IF(TDPrimas_!F99=\"\",\"\",TDPrimas_!F99)","v":""},{"$f":"IF(TDPrimas_!G99=\"\",\"\",TDPrimas_!G99)","v":""},{"$f":"IF(TDPrimas_!H99=\"\",\"\",TDPrimas_!H99)","v":""},{"$f":"IF(TDPrimas_!I99=\"\",\"\",TDPrimas_!I99)","v":""},{"$f":"IF(TDPrimas_!J99=\"\",\"\",TDPrimas_!J99)","v":""},{"$f":"IF(TDPrimas_!K99=\"\",\"\",TDPrimas_!K99)","v":""}]
[null,{"$f":"IF(TDPrimas_!A100=\"\",\"\",TDPrimas_!A100)","v":""},{"$f":"IF(TDPrimas_!B100=\"\",\"\",TDPrimas_!B100)","v":""},{"$f":"IF(TDPrimas_!C100=\"\",\"\",TDPrimas_!C100)","v":""},{"$f":"IF(TDPrimas_!D100=\"\",\"\",TDPrimas_!D100)","v":""},{"$f":"IF(TDPrimas_!E100=\"\",\"\",TDPrimas_!E100)","v":""},{"$f":"IF(TDPrimas_!F100=\"\",\"\",TDPrimas_!F100)","v":""},{"$f":"IF(TDPrimas_!G100=\"\",\"\",TDPrimas_!G100)","v":""},{"$f":"IF(TDPrimas_!H100=\"\",\"\",TDPrimas_!H100)","v":""},{"$f":"IF(TDPrimas_!I100=\"\",\"\",TDPrimas_!I100)","v":""},{"$f":"IF(TDPrimas_!J100=\"\",\"\",TDPrimas_!J100)","v":""},{"$f":"IF(TDPrimas_!K100=\"\",\"\",TDPrimas_!K100)","v":""}]
[null,{"$f":"IF(TDPrimas_!A101=\"\",\"\",TDPrimas_!A101)","v":""},{"$f":"IF(TDPrimas_!B101=\"\",\"\",TDPrimas_!B101)","v":""},{"$f":"IF(TDPrimas_!C101=\"\",\"\",TDPrimas_!C101)","v":""},{"$f":"IF(TDPrimas_!D101=\"\",\"\",TDPrimas_!D101)","v":""},{"$f":"IF(TDPrimas_!E101=\"\",\"\",TDPrimas_!E101)","v":""},{"$f":"IF(TDPrimas_!F101=\"\",\"\",TDPrimas_!F101)","v":""},{"$f":"IF(TDPrimas_!G101=\"\",\"\",TDPrimas_!G101)","v":""},{"$f":"IF(TDPrimas_!H101=\"\",\"\",TDPrimas_!H101)","v":""},{"$f":"IF(TDPrimas_!I101=\"\",\"\",TDPrimas_!I101)","v":""},{"$f":"IF(TDPrimas_!J101=\"\",\"\",TDPrimas_!J101)","v":""},{"$f":"IF(TDPrimas_!K101=\"\",\"\",TDPrimas_!K101)","v":""}]
[null,{"$f":"IF(TDPrimas_!A102=\"\",\"\",TDPrimas_!A102)","v":""},{"$f":"IF(TDPrimas_!B102=\"\",\"\",TDPrimas_!B102)","v":""},{"$f":"IF(TDPrimas_!C102=\"\",\"\",TDPrimas_!C102)","v":""},{"$f":"IF(TDPrimas_!D102=\"\",\"\",TDPrimas_!D102)","v":""},{"$f":"IF(TDPrimas_!E102=\"\",\"\",TDPrimas_!E102)","v":""},{"$f":"IF(TDPrimas_!F102=\"\",\"\",TDPrimas_!F102)","v":""},{"$f":"IF(TDPrimas_!G102=\"\",\"\",TDPrimas_!G102)","v":""},{"$f":"IF(TDPrimas_!H102=\"\",\"\",TDPrimas_!H102)","v":""},{"$f":"IF(TDPrimas_!I102=\"\",\"\",TDPrimas_!I102)","v":""},{"$f":"IF(TDPrimas_!J102=\"\",\"\",TDPrimas_!J102)","v":""},{"$f":"IF(TDPrimas_!K102=\"\",\"\",TDPrimas_!K102)","v":""}]
[null,{"$f":"IF(TDPrimas_!A103=\"\",\"\",TDPrimas_!A103)","v":""},{"$f":"IF(TDPrimas_!B103=\"\",\"\",TDPrimas_!B103)","v":""},{"$f":"IF(TDPrimas_!C103=\"\",\"\",TDPrimas_!C103)","v":""},{"$f":"IF(TDPrimas_!D103=\"\",\"\",TDPrimas_!D103)","v":""},{"$f":"IF(TDPrimas_!E103=\"\",\"\",TDPrimas_!E103)","v":""},{"$f":"IF(TDPrimas_!F103=\"\",\"\",TDPrimas_!F103)","v":""},{"$f":"IF(TDPrimas_!G103=\"\",\"\",TDPrimas_!G103)","v":""},{"$f":"IF(TDPrimas_!H103=\"\",\"\",TDPrimas_!H103)","v":""},{"$f":"IF(TDPrimas_!I103=\"\",\"\",TDPrimas_!I103)","v":""},{"$f":"IF(TDPrimas_!J103=\"\",\"\",TDPrimas_!J103)","v":""},{"$f":"IF(TDPrimas_!K103=\"\",\"\",TDPrimas_!K103)","v":""}]
[null,{"$f":"IF(TDPrimas_!A104=\"\",\"\",TDPrimas_!A104)","v":""},{"$f":"IF(TDPrimas_!B104=\"\",\"\",TDPrimas_!B104)","v":""},{"$f":"IF(TDPrimas_!C104=\"\",\"\",TDPrimas_!C104)","v":""},{"$f":"IF(TDPrimas_!D104=\"\",\"\",TDPrimas_!D104)","v":""},{"$f":"IF(TDPrimas_!E104=\"\",\"\",TDPrimas_!E104)","v":""},{"$f":"IF(TDPrimas_!F104=\"\",\"\",TDPrimas_!F104)","v":""},{"$f":"IF(TDPrimas_!G104=\"\",\"\",TDPrimas_!G104)","v":""},{"$f":"IF(TDPrimas_!H104=\"\",\"\",TDPrimas_!H104)","v":""},{"$f":"IF(TDPrimas_!I104=\"\",\"\",TDPrimas_!I104)","v":""},{"$f":"IF(TDPrimas_!J104=\"\",\"\",TDPrimas_!J104)","v":""},{"$f":"IF(TDPrimas_!K104=\"\",\"\",TDPrimas_!K104)","v":""}]
[null,{"$f":"IF(TDPrimas_!A105=\"\",\"\",TDPrimas_!A105)","v":""},{"$f":"IF(TDPrimas_!B105=\"\",\"\",TDPrimas_!B105)","v":""},{"$f":"IF(TDPrimas_!C105=\"\",\"\",TDPrimas_!C105)","v":""},{"$f":"IF(TDPrimas_!D105=\"\",\"\",TDPrimas_!D105)","v":""},{"$f":"IF(TDPrimas_!E105=\"\",\"\",TDPrimas_!E105)","v":""},{"$f":"IF(TDPrimas_!F105=\"\",\"\",TDPrimas_!F105)","v":""},{"$f":"IF(TDPrimas_!G105=\"\",\"\",TDPrimas_!G105)","v":""},{"$f":"IF(TDPrimas_!H105=\"\",\"\",TDPrimas_!H105)","v":""},{"$f":"IF(TDPrimas_!I105=\"\",\"\",TDPrimas_!I105)","v":""},{"$f":"IF(TDPrimas_!J105=\"\",\"\",TDPrimas_!J105)","v":""},{"$f":"IF(TDPrimas_!K105=\"\",\"\",TDPrimas_!K105)","v":""}]
[null,{"$f":"IF(TDPrimas_!A106=\"\",\"\",TDPrimas_!A106)","v":""},{"$f":"IF(TDPrimas_!B106=\"\",\"\",TDPrimas_!B106)","v":""},{"$f":"IF(TDPrimas_!C106=\"\",\"\",TDPrimas_!C106)","v":""},{"$f":"IF(TDPrimas_!D106=\"\",\"\",TDPrimas_!D106)","v":""},{"$f":"IF(TDPrimas_!E106=\"\",\"\",TDPrimas_!E106)","v":""},{"$f":"IF(TDPrimas_!F106=\"\",\"\",TDPrimas_!F106)","v":""},{"$f":"IF(TDPrimas_!G106=\"\",\"\",TDPrimas_!G106)","v":""},{"$f":"IF(TDPrimas_!H106=\"\",\"\",TDPrimas_!H106)","v":""},{"$f":"IF(TDPrimas_!I106=\"\",\"\",TDPrimas_!I106)","v":""},{"$f":"IF(TDPrimas_!J106=\"\",\"\",TDPrimas_!J106)","v":""},{"$f":"IF(TDPrimas_!K106=\"\",\"\",TDPrimas_!K106)","v":""}]
[null,{"$f":"IF(TDPrimas_!A107=\"\",\"\",TDPrimas_!A107)","v":""},{"$f":"IF(TDPrimas_!B107=\"\",\"\",TDPrimas_!B107)","v":""},{"$f":"IF(TDPrimas_!C107=\"\",\"\",TDPrimas_!C107)","v":""},{"$f":"IF(TDPrimas_!D107=\"\",\"\",TDPrimas_!D107)","v":""},{"$f":"IF(TDPrimas_!E107=\"\",\"\",TDPrimas_!E107)","v":""},{"$f":"IF(TDPrimas_!F107=\"\",\"\",TDPrimas_!F107)","v":""},{"$f":"IF(TDPrimas_!G107=\"\",\"\",TDPrimas_!G107)","v":""},{"$f":"IF(TDPrimas_!H107=\"\",\"\",TDPrimas_!H107)","v":""},{"$f":"IF(TDPrimas_!I107=\"\",\"\",TDPrimas_!I107)","v":""},{"$f":"IF(TDPrimas_!J107=\"\",\"\",TDPrimas_!J107)","v":""},{"$f":"IF(TDPrimas_!K107=\"\",\"\",TDPrimas_!K107)","v":""}]
[null,{"$f":"IF(TDPrimas_!A108=\"\",\"\",TDPrimas_!A108)","v":""},{"$f":"IF(TDPrimas_!B108=\"\",\"\",TDPrimas_!B108)","v":""},{"$f":"IF(TDPrimas_!C108=\"\",\"\",TDPrimas_!C108)","v":""},{"$f":"IF(TDPrimas_!D108=\"\",\"\",TDPrimas_!D108)","v":""},{"$f":"IF(TDPrimas_!E108=\"\",\"\",TDPrimas_!E108)","v":""},{"$f":"IF(TDPrimas_!F108=\"\",\"\",TDPrimas_!F108)","v":""},{"$f":"IF(TDPrimas_!G108=\"\",\"\",TDPrimas_!G108)","v":""},{"$f":"IF(TDPrimas_!H108=\"\",\"\",TDPrimas_!H108)","v":""},{"$f":"IF(TDPrimas_!I108=\"\",\"\",TDPrimas_!I108)","v":""},{"$f":"IF(TDPrimas_!J108=\"\",\"\",TDPrimas_!J108)","v":""},{"$f":"IF(TDPrimas_!K108=\"\",\"\",TDPrimas_!K108)","v":""}]
[null,{"$f":"IF(TDPrimas_!A109=\"\",\"\",TDPrimas_!A109)","v":""},{"$f":"IF(TDPrimas_!B109=\"\",\"\",TDPrimas_!B109)","v":""},{"$f":"IF(TDPrimas_!C109=\"\",\"\",TDPrimas_!C109)","v":""},{"$f":"IF(TDPrimas_!D109=\"\",\"\",TDPrimas_!D109)","v":""},{"$f":"IF(TDPrimas_!E109=\"\",\"\",TDPrimas_!E109)","v":""},{"$f":"IF(TDPrimas_!F109=\"\",\"\",TDPrimas_!F109)","v":""},{"$f":"IF(TDPrimas_!G109=\"\",\"\",TDPrimas_!G109)","v":""},{"$f":"IF(TDPrimas_!H109=\"\",\"\",TDPrimas_!H109)","v":""},{"$f":"IF(TDPrimas_!I109=\"\",\"\",TDPrimas_!I109)","v":""},{"$f":"IF(TDPrimas_!J109=\"\",\"\",TDPrimas_!J109)","v":""},{"$f":"IF(TDPrimas_!K109=\"\",\"\",TDPrimas_!K109)","v":""}]
[null,{"$f":"IF(TDPrimas_!A110=\"\",\"\",TDPrimas_!A110)","v":""},{"$f":"IF(TDPrimas_!B110=\"\",\"\",TDPrimas_!B110)","v":""},{"$f":"IF(TDPrimas_!C110=\"\",\"\",TDPrimas_!C110)","v":""},{"$f":"IF(TDPrimas_!D110=\"\",\"\",TDPrimas_!D110)","v":""},{"$f":"IF(TDPrimas_!E110=\"\",\"\",TDPrimas_!E110)","v":""},{"$f":"IF(TDPrimas_!F110=\"\",\"\",TDPrimas_!F110)","v":""},{"$f":"IF(TDPrimas_!G110=\"\",\"\",TDPrimas_!G110)","v":""},{"$f":"IF(TDPrimas_!H110=\"\",\"\",TDPrimas_!H110)","v":""},{"$f":"IF(TDPrimas_!I110=\"\",\"\",TDPrimas_!I110)","v":""},{"$f":"IF(TDPrimas_!J110=\"\",\"\",TDPrimas_!J110)","v":""},{"$f":"IF(TDPrimas_!K110=\"\",\"\",TDPrimas_!K110)","v":""}]
[null,{"$f":"IF(TDPrimas_!A111=\"\",\"\",TDPrimas_!A111)","v":""},{"$f":"IF(TDPrimas_!B111=\"\",\"\",TDPrimas_!B111)","v":""},{"$f":"IF(TDPrimas_!C111=\"\",\"\",TDPrimas_!C111)","v":""},{"$f":"IF(TDPrimas_!D111=\"\",\"\",TDPrimas_!D111)","v":""},{"$f":"IF(TDPrimas_!E111=\"\",\"\",TDPrimas_!E111)","v":""},{"$f":"IF(TDPrimas_!F111=\"\",\"\",TDPrimas_!F111)","v":""},{"$f":"IF(TDPrimas_!G111=\"\",\"\",TDPrimas_!G111)","v":""},{"$f":"IF(TDPrimas_!H111=\"\",\"\",TDPrimas_!H111)","v":""},{"$f":"IF(TDPrimas_!I111=\"\",\"\",TDPrimas_!I111)","v":""},{"$f":"IF(TDPrimas_!J111=\"\",\"\",TDPrimas_!J111)","v":""},{"$f":"IF(TDPrimas_!K111=\"\",\"\",TDPrimas_!K111)","v":""}]
[null,{"$f":"IF(TDPrimas_!A112=\"\",\"\",TDPrimas_!A112)","v":""},{"$f":"IF(TDPrimas_!B112=\"\",\"\",TDPrimas_!B112)","v":""},{"$f":"IF(TDPrimas_!C112=\"\",\"\",TDPrimas_!C112)","v":""},{"$f":"IF(TDPrimas_!D112=\"\",\"\",TDPrimas_!D112)","v":""},{"$f":"IF(TDPrimas_!E112=\"\",\"\",TDPrimas_!E112)","v":""},{"$f":"IF(TDPrimas_!F112=\"\",\"\",TDPrimas_!F112)","v":""},{"$f":"IF(TDPrimas_!G112=\"\",\"\",TDPrimas_!G112)","v":""},{"$f":"IF(TDPrimas_!H112=\"\",\"\",TDPrimas_!H112)","v":""},{"$f":"IF(TDPrimas_!I112=\"\",\"\",TDPrimas_!I112)","v":""},{"$f":"IF(TDPrimas_!J112=\"\",\"\",TDPrimas_!J112)","v":""},{"$f":"IF(TDPrimas_!K112=\"\",\"\",TDPrimas_!K112)","v":""}]
[null,{"$f":"IF(TDPrimas_!A113=\"\",\"\",TDPrimas_!A113)","v":""},{"$f":"IF(TDPrimas_!B113=\"\",\"\",TDPrimas_!B113)","v":""},{"$f":"IF(TDPrimas_!C113=\"\",\"\",TDPrimas_!C113)","v":""},{"$f":"IF(TDPrimas_!D113=\"\",\"\",TDPrimas_!D113)","v":""},{"$f":"IF(TDPrimas_!E113=\"\",\"\",TDPrimas_!E113)","v":""},{"$f":"IF(TDPrimas_!F113=\"\",\"\",TDPrimas_!F113)","v":""},{"$f":"IF(TDPrimas_!G113=\"\",\"\",TDPrimas_!G113)","v":""},{"$f":"IF(TDPrimas_!H113=\"\",\"\",TDPrimas_!H113)","v":""},{"$f":"IF(TDPrimas_!I113=\"\",\"\",TDPrimas_!I113)","v":""},{"$f":"IF(TDPrimas_!J113=\"\",\"\",TDPrimas_!J113)","v":""},{"$f":"IF(TDPrimas_!K113=\"\",\"\",TDPrimas_!K113)","v":""}]
[null,{"$f":"IF(TDPrimas_!A114=\"\",\"\",TDPrimas_!A114)","v":""},{"$f":"IF(TDPrimas_!B114=\"\",\"\",TDPrimas_!B114)","v":""},{"$f":"IF(TDPrimas_!C114=\"\",\"\",TDPrimas_!C114)","v":""},{"$f":"IF(TDPrimas_!D114=\"\",\"\",TDPrimas_!D114)","v":""},{"$f":"IF(TDPrimas_!E114=\"\",\"\",TDPrimas_!E114)","v":""},{"$f":"IF(TDPrimas_!F114=\"\",\"\",TDPrimas_!F114)","v":""},{"$f":"IF(TDPrimas_!G114=\"\",\"\",TDPrimas_!G114)","v":""},{"$f":"IF(TDPrimas_!H114=\"\",\"\",TDPrimas_!H114)","v":""},{"$f":"IF(TDPrimas_!I114=\"\",\"\",TDPrimas_!I114)","v":""},{"$f":"IF(TDPrimas_!J114=\"\",\"\",TDPrimas_!J114)","v":""},{"$f":"IF(TDPrimas_!K114=\"\",\"\",TDPrimas_!K114)","v":""}]
[null,{"$f":"IF(TDPrimas_!A115=\"\",\"\",TDPrimas_!A115)","v":""},{"$f":"IF(TDPrimas_!B115=\"\",\"\",TDPrimas_!B115)","v":""},{"$f":"IF(TDPrimas_!C115=\"\",\"\",TDPrimas_!C115)","v":""},{"$f":"IF(TDPrimas_!D115=\"\",\"\",TDPrimas_!D115)","v":""},{"$f":"IF(TDPrimas_!E115=\"\",\"\",TDPrimas_!E115)","v":""},{"$f":"IF(TDPrimas_!F115=\"\",\"\",TDPrimas_!F115)","v":""},{"$f":"IF(TDPrimas_!G115=\"\",\"\",TDPrimas_!G115)","v":""},{"$f":"IF(TDPrimas_!H115=\"\",\"\",TDPrimas_!H115)","v":""},{"$f":"IF(TDPrimas_!I115=\"\",\"\",TDPrimas_!I115)","v":""},{"$f":"IF(TDPrimas_!J115=\"\",\"\",TDPrimas_!J115)","v":""},{"$f":"IF(TDPrimas_!K115=\"\",\"\",TDPrimas_!K115)","v":""}]
[null,{"$f":"IF(TDPrimas_!A116=\"\",\"\",TDPrimas_!A116)","v":""},{"$f":"IF(TDPrimas_!B116=\"\",\"\",TDPrimas_!B116)","v":""},{"$f":"IF(TDPrimas_!C116=\"\",\"\",TDPrimas_!C116)","v":""},{"$f":"IF(TDPrimas_!D116=\"\",\"\",TDPrimas_!D116)","v":""},{"$f":"IF(TDPrimas_!E116=\"\",\"\",TDPrimas_!E116)","v":""},{"$f":"IF(TDPrimas_!F116=\"\",\"\",TDPrimas_!F116)","v":""},{"$f":"IF(TDPrimas_!G116=\"\",\"\",TDPrimas_!G116)","v":""},{"$f":"IF(TDPrimas_!H116=\"\",\"\",TDPrimas_!H116)","v":""},{"$f":"IF(TDPrimas_!I116=\"\",\"\",TDPrimas_!I116)","v":""},{"$f":"IF(TDPrimas_!J116=\"\",\"\",TDPrimas_!J116)","v":""},{"$f":"IF(TDPrimas_!K116=\"\",\"\",TDPrimas_!K116)","v":""}]
[null,{"$f":"IF(TDPrimas_!A117=\"\",\"\",TDPrimas_!A117)","v":""},{"$f":"IF(TDPrimas_!B117=\"\",\"\",TDPrimas_!B117)","v":""},{"$f":"IF(TDPrimas_!C117=\"\",\"\",TDPrimas_!C117)","v":""},{"$f":"IF(TDPrimas_!D117=\"\",\"\",TDPrimas_!D117)","v":""},{"$f":"IF(TDPrimas_!E117=\"\",\"\",TDPrimas_!E117)","v":""},{"$f":"IF(TDPrimas_!F117=\"\",\"\",TDPrimas_!F117)","v":""},{"$f":"IF(TDPrimas_!G117=\"\",\"\",TDPrimas_!G117)","v":""},{"$f":"IF(TDPrimas_!H117=\"\",\"\",TDPrimas_!H117)","v":""},{"$f":"IF(TDPrimas_!I117=\"\",\"\",TDPrimas_!I117)","v":""},{"$f":"IF(TDPrimas_!J117=\"\",\"\",TDPrimas_!J117)","v":""},{"$f":"IF(TDPrimas_!K117=\"\",\"\",TDPrimas_!K117)","v":""}]
[null,{"$f":"IF(TDPrimas_!A118=\"\",\"\",TDPrimas_!A118)","v":""},{"$f":"IF(TDPrimas_!B118=\"\",\"\",TDPrimas_!B118)","v":""},{"$f":"IF(TDPrimas_!C118=\"\",\"\",TDPrimas_!C118)","v":""},{"$f":"IF(TDPrimas_!D118=\"\",\"\",TDPrimas_!D118)","v":""},{"$f":"IF(TDPrimas_!E118=\"\",\"\",TDPrimas_!E118)","v":""},{"$f":"IF(TDPrimas_!F118=\"\",\"\",TDPrimas_!F118)","v":""},{"$f":"IF(TDPrimas_!G118=\"\",\"\",TDPrimas_!G118)","v":""},{"$f":"IF(TDPrimas_!H118=\"\",\"\",TDPrimas_!H118)","v":""},{"$f":"IF(TDPrimas_!I118=\"\",\"\",TDPrimas_!I118)","v":""},{"$f":"IF(TDPrimas_!J118=\"\",\"\",TDPrimas_!J118)","v":""},{"$f":"IF(TDPrimas_!K118=\"\",\"\",TDPrimas_!K118)","v":""}]
[null,{"$f":"IF(TDPrimas_!A119=\"\",\"\",TDPrimas_!A119)","v":""},{"$f":"IF(TDPrimas_!B119=\"\",\"\",TDPrimas_!B119)","v":""},{"$f":"IF(TDPrimas_!C119=\"\",\"\",TDPrimas_!C119)","v":""},{"$f":"IF(TDPrimas_!D119=\"\",\"\",TDPrimas_!D119)","v":""},{"$f":"IF(TDPrimas_!E119=\"\",\"\",TDPrimas_!E119)","v":""},{"$f":"IF(TDPrimas_!F119=\"\",\"\",TDPrimas_!F119)","v":""},{"$f":"IF(TDPrimas_!G119=\"\",\"\",TDPrimas_!G119)","v":""},{"$f":"IF(TDPrimas_!H119=\"\",\"\",TDPrimas_!H119)","v":""},{"$f":"IF(TDPrimas_!I119=\"\",\"\",TDPrimas_!I119)","v":""},{"$f":"IF(TDPrimas_!J119=\"\",\"\",TDPrimas_!J119)","v":""},{"$f":"IF(TDPrimas_!K119=\"\",\"\",TDPrimas_!K119)","v":""}]
[null,{"$f":"IF(TDPrimas_!A120=\"\",\"\",TDPrimas_!A120)","v":""},{"$f":"IF(TDPrimas_!B120=\"\",\"\",TDPrimas_!B120)","v":""},{"$f":"IF(TDPrimas_!C120=\"\",\"\",TDPrimas_!C120)","v":""},{"$f":"IF(TDPrimas_!D120=\"\",\"\",TDPrimas_!D120)","v":""},{"$f":"IF(TDPrimas_!E120=\"\",\"\",TDPrimas_!E120)","v":""},{"$f":"IF(TDPrimas_!F120=\"\",\"\",TDPrimas_!F120)","v":""},{"$f":"IF(TDPrimas_!G120=\"\",\"\",TDPrimas_!G120)","v":""},{"$f":"IF(TDPrimas_!H120=\"\",\"\",TDPrimas_!H120)","v":""},{"$f":"IF(TDPrimas_!I120=\"\",\"\",TDPrimas_!I120)","v":""},{"$f":"IF(TDPrimas_!J120=\"\",\"\",TDPrimas_!J120)","v":""},{"$f":"IF(TDPrimas_!K120=\"\",\"\",TDPrimas_!K120)","v":""}]
[null,{"$f":"IF(TDPrimas_!A121=\"\",\"\",TDPrimas_!A121)","v":""},{"$f":"IF(TDPrimas_!B121=\"\",\"\",TDPrimas_!B121)","v":""},{"$f":"IF(TDPrimas_!C121=\"\",\"\",TDPrimas_!C121)","v":""},{"$f":"IF(TDPrimas_!D121=\"\",\"\",TDPrimas_!D121)","v":""},{"$f":"IF(TDPrimas_!E121=\"\",\"\",TDPrimas_!E121)","v":""},{"$f":"IF(TDPrimas_!F121=\"\",\"\",TDPrimas_!F121)","v":""},{"$f":"IF(TDPrimas_!G121=\"\",\"\",TDPrimas_!G121)","v":""},{"$f":"IF(TDPrimas_!H121=\"\",\"\",TDPrimas_!H121)","v":""},{"$f":"IF(TDPrimas_!I121=\"\",\"\",TDPrimas_!I121)","v":""},{"$f":"IF(TDPrimas_!J121=\"\",\"\",TDPrimas_!J121)","v":""},{"$f":"IF(TDPrimas_!K121=\"\",\"\",TDPrimas_!K121)","v":""}]
[null,{"$f":"IF(TDPrimas_!A122=\"\",\"\",TDPrimas_!A122)","v":""},{"$f":"IF(TDPrimas_!B122=\"\",\"\",TDPrimas_!B122)","v":""},{"$f":"IF(TDPrimas_!C122=\"\",\"\",TDPrimas_!C122)","v":""},{"$f":"IF(TDPrimas_!D122=\"\",\"\",TDPrimas_!D122)","v":""},{"$f":"IF(TDPrimas_!E122=\"\",\"\",TDPrimas_!E122)","v":""},{"$f":"IF(TDPrimas_!F122=\"\",\"\",TDPrimas_!F122)","v":""},{"$f":"IF(TDPrimas_!G122=\"\",\"\",TDPrimas_!G122)","v":""},{"$f":"IF(TDPrimas_!H122=\"\",\"\",TDPrimas_!H122)","v":""},{"$f":"IF(TDPrimas_!I122=\"\",\"\",TDPrimas_!I122)","v":""},{"$f":"IF(TDPrimas_!J122=\"\",\"\",TDPrimas_!J122)","v":""},{"$f":"IF(TDPrimas_!K122=\"\",\"\",TDPrimas_!K122)","v":""}]
[null,{"$f":"IF(TDPrimas_!A123=\"\",\"\",TDPrimas_!A123)","v":""},{"$f":"IF(TDPrimas_!B123=\"\",\"\",TDPrimas_!B123)","v":""},{"$f":"IF(TDPrimas_!C123=\"\",\"\",TDPrimas_!C123)","v":""},{"$f":"IF(TDPrimas_!D123=\"\",\"\",TDPrimas_!D123)","v":""},{"$f":"IF(TDPrimas_!E123=\"\",\"\",TDPrimas_!E123)","v":""},{"$f":"IF(TDPrimas_!F123=\"\",\"\",TDPrimas_!F123)","v":""},{"$f":"IF(TDPrimas_!G123=\"\",\"\",TDPrimas_!G123)","v":""},{"$f":"IF(TDPrimas_!H123=\"\",\"\",TDPrimas_!H123)","v":""},{"$f":"IF(TDPrimas_!I123=\"\",\"\",TDPrimas_!I123)","v":""},{"$f":"IF(TDPrimas_!J123=\"\",\"\",TDPrimas_!J123)","v":""},{"$f":"IF(TDPrimas_!K123=\"\",\"\",TDPrimas_!K123)","v":""}]
[]
[]
[null,"NE  = No Existe"]
[null,"* % Extraordinario mayor de 1000%"]

{"sheet":"Siniestros","index":8,"n_rows":124,"n_cols":9,"rows_kept":124,"cut":false,"hidden":false,"merged":[[4,4,5,4],[4,5,5,5],[4,6,4,7],[4,8,5,8],[1,1,1,8],[3,3,3,8]]}
[null,"SINIESTROS DIRECTOS",null,null,null,null,null,null,{"$f":"VLOOKUP(RIGHT('TD Siniestros'!B3,2),Cat!$N$2:$O$5,2,0)&\" \"&LEFT('TD Siniestros'!B3,4)","v":"Tercer Trimestre 2025"}]
[]
[]
[null,null,null,"Siniestros Directos"]
[null,"Compañías",null,"Importe","Incr. %","Inc. Rva.\nDividendos","% vs. Prima Directa",null,"%  Participac de Mercado"]
[null,null,null,{"$f":"'Primas Directas'!D6","v":"2025"},null,null,{"$f":"'Primas Directas'!D6","v":"2025"},{"$f":"'Primas Directas'!E6","v":2024}]
[null,null,"TOTAL",{"$f":"VLOOKUP(C7,'TD Siniestros'!$B$7:$M$154,2,0)","v":414187189.75592005},{"$f":"VLOOKUP(C7,'TD Siniestros'!$B$7:$M$154,3,0)","v":5.648581218564197},{"$f":"VLOOKUP(C7,'TD Siniestros'!$B$7:$M$154,4,0)","v":1707780.92056},{"$f":"VLOOKUP(C7,'TD Siniestros'!$B$7:$M$154,5,0)","v":53.77574590411183},{"$f":"VLOOKUP(C7,'TD Siniestros'!$B$7:$M$154,6,0)","v":57.106652293625714},{"$f":"IFERROR(D7/VLOOKUP(\"TOTAL\",$C$8:$D$124,2,0)*100,\"\")","v":100}]
[null,{"$f":"IF('TD Siniestros'!A7=\"\",\"\",'TD Siniestros'!A7)","v":1},{"$f":"IF('TD Siniestros'!B7=\"\",\"\",'TD Siniestros'!B7)","v":"G.N.P."},{"$f":"IF('TD Siniestros'!C7=\"\",\"\",'TD Siniestros'!C7)","v":56894917.276000008},{"$f":"IF('TD Siniestros'!D7=\"\",\"\",'TD Siniestros'!D7)","v":12.51272790998199},{"$f":"IF('TD Siniestros'!E7=\"\",\"\",'TD Siniestros'!E7)","v":307796.94386},{"$f":"IF('TD Siniestros'!F7=\"\",\"\",'TD Siniestros'!F7)","v":59.76351785401495},{"$f":"IF('TD Siniestros'!G7=\"\",\"\",'TD Siniestros'!G7)","v":59.585759845375655},{"$f":"IFERROR(D8/VLOOKUP(\"TOTAL\",$C$8:$D$124,2,0)*100,\"\")","v":13.736522684230795}]
[null,{"$f":"IF('TD Siniestros'!A8=\"\",\"\",'TD Siniestros'!A8)","v":2},{"$f":"IF('TD Siniestros'!B8=\"\",\"\",'TD Siniestros'!B8)","v":"BBVA"},{"$f":"IF('TD Siniestros'!C8=\"\",\"\",'TD Siniestros'!C8)","v":32555258.482289992},{"$f":"IF('TD Siniestros'!D8=\"\",\"\",'TD Siniestros'!D8)","v":11.434666974768536},{"$f":"IF('TD Siniestros'!E8=\"\",\"\",'TD Siniestros'!E8)","v":0},{"$f":"IF('TD Siniestros'!F8=\"\",\"\",'TD Siniestros'!F8)","v":44.969605612785671},{"$f":"IF('TD Siniestros'!G8=\"\",\"\",'TD Siniestros'!G8)","v":47.627542846834118},{"$f":"IFERROR(D9/VLOOKUP(\"TOTAL\",$C$8:$D$124,2,0)*100,\"\")","v":7.8600350970474882}]
[null,{"$f":"IF('TD Siniestros'!A9=\"\",\"\",'TD Siniestros'!A9)","v":3},{"$f":"IF('TD Siniestros'!B9=\"\",\"\",'TD Siniestros'!B9)","v":"Metlife México"},{"$f":"IF('TD Siniestros'!C9=\"\",\"\",'TD Siniestros'!C9)","v":48946410.445289992},{"$f":"IF('TD Siniestros'!D9=\"\",\"\",'TD Siniestros'!D9)","v":7.80955798004761},{"$f":"IF('TD Siniestros'!E9=\"\",\"\",'TD Siniestros'!E9)","v":89924.315929999997},{"$f":"IF('TD Siniestros'!F9=\"\",\"\",'TD Siniestros'!F9)","v":74.008016376440295},{"$f":"IF('TD Siniestros'!G9=\"\",\"\",'TD Siniestros'!G9)","v":72.923616900208771},11.817461200124042]
[null,{"$f":"IF('TD Siniestros'!A10=\"\",\"\",'TD Siniestros'!A10)","v":4},{"$f":"IF('TD Siniestros'!B10=\"\",\"\",'TD Siniestros'!B10)","v":"Quálitas"},{"$f":"IF('TD Siniestros'!C10=\"\",\"\",'TD Siniestros'!C10)","v":29050534.715600006},{"$f":"IF('TD Siniestros'!D10=\"\",\"\",'TD Siniestros'!D10)","v":6.5079565999290434},{"$f":"IF('TD Siniestros'!E10=\"\",\"\",'TD Siniestros'!E10)","v":173534.27540000001},{"$f":"IF('TD Siniestros'!F10=\"\",\"\",'TD Siniestros'!F10)","v":57.264121437380844},{"$f":"IF('TD Siniestros'!G10=\"\",\"\",'TD Siniestros'!G10)","v":59.554248081835304},7.0138660572094098]
[null,{"$f":"IF('TD Siniestros'!A11=\"\",\"\",'TD Siniestros'!A11)","v":5},{"$f":"IF('TD Siniestros'!B11=\"\",\"\",'TD Siniestros'!B11)","v":"AXA Seguros"},{"$f":"IF('TD Siniestros'!C11=\"\",\"\",'TD Siniestros'!C11)","v":32562888.39780999},{"$f":"IF('TD Siniestros'!D11=\"\",\"\",'TD Siniestros'!D11)","v":10.224547636932746},{"$f":"IF('TD Siniestros'!E11=\"\",\"\",'TD Siniestros'!E11)","v":258017.20126},{"$f":"IF('TD Siniestros'!F11=\"\",\"\",'TD Siniestros'!F11)","v":64.837712811893326},{"$f":"IF('TD Siniestros'!G11=\"\",\"\",'TD Siniestros'!G11)","v":62.784630339574662},7.8618772388878693]
[null,{"$f":"IF('TD Siniestros'!A12=\"\",\"\",'TD Siniestros'!A12)","v":5.0999999999999996},{"$f":"IF('TD Siniestros'!B12=\"\",\"\",'TD Siniestros'!B12)","v":"TOTAL GRANDES"},{"$f":"IF('TD Siniestros'!C12=\"\",\"\",'TD Siniestros'!C12)","v":200010009.31698999},{"$f":"IF('TD Siniestros'!D12=\"\",\"\",'TD Siniestros'!D12)","v":9.8951350939870295},{"$f":"IF('TD Siniestros'!E12=\"\",\"\",'TD Siniestros'!E12)","v":829272.73645000008},{"$f":"IF('TD Siniestros'!F12=\"\",\"\",'TD Siniestros'!F12)","v":59.760931983963992},{"$f":"IF('TD Siniestros'!G12=\"\",\"\",'TD Siniestros'!G12)","v":60.402007066306716},48.289762277499605]
[null,{"$f":"IF('TD Siniestros'!A13=\"\",\"\",'TD Siniestros'!A13)","v":6},{"$f":"IF('TD Siniestros'!B13=\"\",\"\",'TD Siniestros'!B13)","v":"Banorte"},{"$f":"IF('TD Siniestros'!C13=\"\",\"\",'TD Siniestros'!C13)","v":17162737.245370008},{"$f":"IF('TD Siniestros'!D13=\"\",\"\",'TD Siniestros'!D13)","v":3.6848476088725546},{"$f":"IF('TD Siniestros'!E13=\"\",\"\",'TD Siniestros'!E13)","v":-39156.17179},{"$f":"IF('TD Siniestros'!F13=\"\",\"\",'TD Siniestros'!F13)","v":38.005105514511619},{"$f":"IF('TD Siniestros'!G13=\"\",\"\",'TD Siniestros'!G13)","v":46.335882006155728},4.1437151292593057]
[null,{"$f":"IF('TD Siniestros'!A14=\"\",\"\",'TD Siniestros'!A14)","v":7},{"$f":"IF('TD Siniestros'!B14=\"\",\"\",'TD Siniestros'!B14)","v":"Banamex Seguros"},{"$f":"IF('TD Siniestros'!C14=\"\",\"\",'TD Siniestros'!C14)","v":24629771.142240003},{"$f":"IF('TD Siniestros'!D14=\"\",\"\",'TD Siniestros'!D14)","v":-8.2543282342403046},{"$f":"IF('TD Siniestros'!E14=\"\",\"\",'TD Siniestros'!E14)","v":0},{"$f":"IF('TD Siniestros'!F14=\"\",\"\",'TD Siniestros'!F14)","v":63.226001224865946},{"$f":"IF('TD Siniestros'!G14=\"\",\"\",'TD Siniestros'!G14)","v":59.886730630764305},5.9465313634529098]
[null,{"$f":"IF('TD Siniestros'!A15=\"\",\"\",'TD Siniestros'!A15)","v":8},{"$f":"IF('TD Siniestros'!B15=\"\",\"\",'TD Siniestros'!B15)","v":"Monterrey New York Life"},{"$f":"IF('TD Siniestros'!C15=\"\",\"\",'TD Siniestros'!C15)","v":22822147.268070001},{"$f":"IF('TD Siniestros'!D15=\"\",\"\",'TD Siniestros'!D15)","v":9.9831804399345359},{"$f":"IF('TD Siniestros'!E15=\"\",\"\",'TD Siniestros'!E15)","v":11743.40035},{"$f":"IF('TD Siniestros'!F15=\"\",\"\",'TD Siniestros'!F15)","v":68.596128756340676},{"$f":"IF('TD Siniestros'!G15=\"\",\"\",'TD Siniestros'!G15)","v":67.119509522770699},5.5101045692695276]
[null,{"$f":"IF('TD Siniestros'!A16=\"\",\"\",'TD Siniestros'!A16)","v":9},{"$f":"IF('TD Siniestros'!B16=\"\",\"\",'TD Siniestros'!B16)","v":"Mapfre México"},{"$f":"IF('TD Siniestros'!C16=\"\",\"\",'TD Siniestros'!C16)","v":6624038.0841699988},{"$f":"IF('TD Siniestros'!D16=\"\",\"\",'TD Siniestros'!D16)","v":-61.754664789836433},{"$f":"IF('TD Siniestros'!E16=\"\",\"\",'TD Siniestros'!E16)","v":169630.69164999999},{"$f":"IF('TD Siniestros'!F16=\"\",\"\",'TD Siniestros'!F16)","v":21.585241647214225},{"$f":"IF('TD Siniestros'!G16=\"\",\"\",'TD Siniestros'!G16)","v":67.444146924453335},1.5992860832015436]
[null,{"$f":"IF('TD Siniestros'!A17=\"\",\"\",'TD Siniestros'!A17)","v":10},{"$f":"IF('TD Siniestros'!B17=\"\",\"\",'TD Siniestros'!B17)","v":"Inbursa"},{"$f":"IF('TD Siniestros'!C17=\"\",\"\",'TD Siniestros'!C17)","v":16402511.077440007},{"$f":"IF('TD Siniestros'!D17=\"\",\"\",'TD Siniestros'!D17)","v":42.693807962232654},{"$f":"IF('TD Siniestros'!E17=\"\",\"\",'TD Siniestros'!E17)","v":370711.14045999997},{"$f":"IF('TD Siniestros'!F17=\"\",\"\",'TD Siniestros'!F17)","v":66.529182825978509},{"$f":"IF('TD Siniestros'!G17=\"\",\"\",'TD Siniestros'!G17)","v":48.20011838671671},3.9601686105033775]
[null,{"$f":"IF('TD Siniestros'!A18=\"\",\"\",'TD Siniestros'!A18)","v":11},{"$f":"IF('TD Siniestros'!B18=\"\",\"\",'TD Siniestros'!B18)","v":"Chubb Seguros México"},{"$f":"IF('TD Siniestros'!C18=\"\",\"\",'TD Siniestros'!C18)","v":9308810.0273399986},{"$f":"IF('TD Siniestros'!D18=\"\",\"\",'TD Siniestros'!D18)","v":-1.5747130729303005},{"$f":"IF('TD Siniestros'!E18=\"\",\"\",'TD Siniestros'!E18)","v":91032.376240000012},{"$f":"IF('TD Siniestros'!F18=\"\",\"\",'TD Siniestros'!F18)","v":38.582332485095669},{"$f":"IF('TD Siniestros'!G18=\"\",\"\",'TD Siniestros'!G18)","v":45.977853703488037},2.2474886374022498]
[null,{"$f":"IF('TD Siniestros'!A19=\"\",\"\",'TD Siniestros'!A19)","v":12},{"$f":"IF('TD Siniestros'!B19=\"\",\"\",'TD Siniestros'!B19)","v":"Allianz México"},{"$f":"IF('TD Siniestros'!C19=\"\",\"\",'TD Siniestros'!C19)","v":8777972.6475400049},{"$f":"IF('TD Siniestros'!D19=\"\",\"\",'TD Siniestros'!D19)","v":-7.5361961038293623},{"$f":"IF('TD Siniestros'!E19=\"\",\"\",'TD Siniestros'!E19)","v":17670.99308},{"$f":"IF('TD Siniestros'!F19=\"\",\"\",'TD Siniestros'!F19)","v":37.777812703177517},{"$f":"IF('TD Siniestros'!G19=\"\",\"\",'TD Siniestros'!G19)","v":51.45329701511551},2.1193249971619963]
[null,{"$f":"IF('TD Siniestros'!A20=\"\",\"\",'TD Siniestros'!A20)","v":13},{"$f":"IF('TD Siniestros'!B20=\"\",\"\",'TD Siniestros'!B20)","v":"Zurich Santander"},{"$f":"IF('TD Siniestros'!C20=\"\",\"\",'TD Siniestros'!C20)","v":5444206.3598499997},{"$f":"IF('TD Siniestros'!D20=\"\",\"\",'TD Siniestros'!D20)","v":11.469127466957495},{"$f":"IF('TD Siniestros'!E20=\"\",\"\",'TD Siniestros'!E20)","v":0},{"$f":"IF('TD Siniestros'!F20=\"\",\"\",'TD Siniestros'!F20)","v":27.446449619204127},{"$f":"IF('TD Siniestros'!G20=\"\",\"\",'TD Siniestros'!G20)","v":30.249077951025505},1.3144313717327334]
[null,{"$f":"IF('TD Siniestros'!A21=\"\",\"\",'TD Siniestros'!A21)","v":14},{"$f":"IF('TD Siniestros'!B21=\"\",\"\",'TD Siniestros'!B21)","v":"Atlas"},{"$f":"IF('TD Siniestros'!C21=\"\",\"\",'TD Siniestros'!C21)","v":8984849.2300400082},{"$f":"IF('TD Siniestros'!D21=\"\",\"\",'TD Siniestros'!D21)","v":12.283721245115631},{"$f":"IF('TD Siniestros'!E21=\"\",\"\",'TD Siniestros'!E21)","v":22250.386610000001},{"$f":"IF('TD Siniestros'!F21=\"\",\"\",'TD Siniestros'!F21)","v":49.966864400252831},{"$f":"IF('TD Siniestros'!G21=\"\",\"\",'TD Siniestros'!G21)","v":44.894161398965352},2.1692726024034612]
[null,{"$f":"IF('TD Siniestros'!A22=\"\",\"\",'TD Siniestros'!A22)","v":15},{"$f":"IF('TD Siniestros'!B22=\"\",\"\",'TD Siniestros'!B22)","v":"Agroasemex"},{"$f":"IF('TD Siniestros'!C22=\"\",\"\",'TD Siniestros'!C22)","v":3677143.1917300001},{"$f":"IF('TD Siniestros'!D22=\"\",\"\",'TD Siniestros'!D22)","v":-43.803573827579726},{"$f":"IF('TD Siniestros'!E22=\"\",\"\",'TD Siniestros'!E22)","v":8494.59238},{"$f":"IF('TD Siniestros'!F22=\"\",\"\",'TD Siniestros'!F22)","v":27.04124320639125},{"$f":"IF('TD Siniestros'!G22=\"\",\"\",'TD Siniestros'!G22)","v":101.71718687630671},0.88779742171575504]
[null,{"$f":"IF('TD Siniestros'!A23=\"\",\"\",'TD Siniestros'!A23)","v":15.1},{"$f":"IF('TD Siniestros'!B23=\"\",\"\",'TD Siniestros'!B23)","v":"TOTAL MEDIANAS"},{"$f":"IF('TD Siniestros'!C23=\"\",\"\",'TD Siniestros'!C23)","v":123834186.27379002},{"$f":"IF('TD Siniestros'!D23=\"\",\"\",'TD Siniestros'!D23)","v":-5.7179062736878894},{"$f":"IF('TD Siniestros'!E23=\"\",\"\",'TD Siniestros'!E23)","v":652377.40897999995},{"$f":"IF('TD Siniestros'!F23=\"\",\"\",'TD Siniestros'!F23)","v":45.610203100476163},{"$f":"IF('TD Siniestros'!G23=\"\",\"\",'TD Siniestros'!G23)","v":54.631396485823636},29.898120786102854]
[null,{"$f":"IF('TD Siniestros'!A24=\"\",\"\",'TD Siniestros'!A24)","v":16},{"$f":"IF('TD Siniestros'!B24=\"\",\"\",'TD Siniestros'!B24)","v":"HSBC Seguros"},{"$f":"IF('TD Siniestros'!C24=\"\",\"\",'TD Siniestros'!C24)","v":3675388.3264800003},{"$f":"IF('TD Siniestros'!D24=\"\",\"\",'TD Siniestros'!D24)","v":38.069253789828906},{"$f":"IF('TD Siniestros'!E24=\"\",\"\",'TD Siniestros'!E24)","v":0},{"$f":"IF('TD Siniestros'!F24=\"\",\"\",'TD Siniestros'!F24)","v":28.316206867150012},{"$f":"IF('TD Siniestros'!G24=\"\",\"\",'TD Siniestros'!G24)","v":20.968246281626435},0.88737373279118115]
[null,{"$f":"IF('TD Siniestros'!A25=\"\",\"\",'TD Siniestros'!A25)","v":17},{"$f":"IF('TD Siniestros'!B25=\"\",\"\",'TD Siniestros'!B25)","v":"ProFuturo G.N.P."},{"$f":"IF('TD Siniestros'!C25=\"\",\"\",'TD Siniestros'!C25)","v":5539033.893769999},{"$f":"IF('TD Siniestros'!D25=\"\",\"\",'TD Siniestros'!D25)","v":15.420377302215083},{"$f":"IF('TD Siniestros'!E25=\"\",\"\",'TD Siniestros'!E25)","v":0},{"$f":"IF('TD Siniestros'!F25=\"\",\"\",'TD Siniestros'!F25)","v":45.466294742495535},{"$f":"IF('TD Siniestros'!G25=\"\",\"\",'TD Siniestros'!G25)","v":53.347762079914951},1.3373262212754924]
[null,{"$f":"IF('TD Siniestros'!A26=\"\",\"\",'TD Siniestros'!A26)","v":18},{"$f":"IF('TD Siniestros'!B26=\"\",\"\",'TD Siniestros'!B26)","v":"Pensiones Banorte"},{"$f":"IF('TD Siniestros'!C26=\"\",\"\",'TD Siniestros'!C26)","v":11714029.66419},{"$f":"IF('TD Siniestros'!D26=\"\",\"\",'TD Siniestros'!D26)","v":7.6026550406015136},{"$f":"IF('TD Siniestros'!E26=\"\",\"\",'TD Siniestros'!E26)","v":0},{"$f":"IF('TD Siniestros'!F26=\"\",\"\",'TD Siniestros'!F26)","v":97.886579444299144},{"$f":"IF('TD Siniestros'!G26=\"\",\"\",'TD Siniestros'!G26)","v":82.474778778084087},2.8281969973752838]
[null,{"$f":"IF('TD Siniestros'!A27=\"\",\"\",'TD Siniestros'!A27)","v":19},{"$f":"IF('TD Siniestros'!B27=\"\",\"\",'TD Siniestros'!B27)","v":"HDI Seguros"},{"$f":"IF('TD Siniestros'!C27=\"\",\"\",'TD Siniestros'!C27)","v":6061159.9400400016},{"$f":"IF('TD Siniestros'!D27=\"\",\"\",'TD Siniestros'!D27)","v":15.582789870781122},{"$f":"IF('TD Siniestros'!E27=\"\",\"\",'TD Siniestros'!E27)","v":0},{"$f":"IF('TD Siniestros'!F27=\"\",\"\",'TD Siniestros'!F27)","v":54.84148775947223},{"$f":"IF('TD Siniestros'!G27=\"\",\"\",'TD Siniestros'!G27)","v":56.349597076755067},1.4633866256491019]
[null,{"$f":"IF('TD Siniestros'!A28=\"\",\"\",'TD Siniestros'!A28)","v":20},{"$f":"IF('TD Siniestros'!B28=\"\",\"\",'TD Siniestros'!B28)","v":"Zurich Aseguradora Mexicana"},{"$f":"IF('TD Siniestros'!C28=\"\",\"\",'TD Siniestros'!C28)","v":4426779.6259700032},{"$f":"IF('TD Siniestros'!D28=\"\",\"\",'TD Siniestros'!D28)","v":1.9784780123849544},{"$f":"IF('TD Siniestros'!E28=\"\",\"\",'TD Siniestros'!E28)","v":20171.251629999999},{"$f":"IF('TD Siniestros'!F28=\"\",\"\",'TD Siniestros'!F28)","v":40.306738714912058},{"$f":"IF('TD Siniestros'!G28=\"\",\"\",'TD Siniestros'!G28)","v":41.354316427887369},1.0687871898159618]
[null,{"$f":"IF('TD Siniestros'!A29=\"\",\"\",'TD Siniestros'!A29)","v":21},{"$f":"IF('TD Siniestros'!B29=\"\",\"\",'TD Siniestros'!B29)","v":"Pensiones BBVA"},{"$f":"IF('TD Siniestros'!C29=\"\",\"\",'TD Siniestros'!C29)","v":8163299.6079200013},{"$f":"IF('TD Siniestros'!D29=\"\",\"\",'TD Siniestros'!D29)","v":12.753562787625871},{"$f":"IF('TD Siniestros'!E29=\"\",\"\",'TD Siniestros'!E29)","v":0},{"$f":"IF('TD Siniestros'!F29=\"\",\"\",'TD Siniestros'!F29)","v":84.364844799096474},{"$f":"IF('TD Siniestros'!G29=\"\",\"\",'TD Siniestros'!G29)","v":104.59611245838232},1.9709203494996121]
[null,{"$f":"IF('TD Siniestros'!A30=\"\",\"\",'TD Siniestros'!A30)","v":22},{"$f":"IF('TD Siniestros'!B30=\"\",\"\",'TD Siniestros'!B30)","v":"GMX Seguros"},{"$f":"IF('TD Siniestros'!C30=\"\",\"\",'TD Siniestros'!C30)","v":3448249.2285699989},{"$f":"IF('TD Siniestros'!D30=\"\",\"\",'TD Siniestros'!D30)","v":-14.492875106215564},{"$f":"IF('TD Siniestros'!E30=\"\",\"\",'TD Siniestros'!E30)","v":0},{"$f":"IF('TD Siniestros'!F30=\"\",\"\",'TD Siniestros'!F30)","v":40.802638169754538},{"$f":"IF('TD Siniestros'!G30=\"\",\"\",'TD Siniestros'!G30)","v":45.912330150253013},0.83253401212192191]
[null,{"$f":"IF('TD Siniestros'!A31=\"\",\"\",'TD Siniestros'!A31)","v":23},{"$f":"IF('TD Siniestros'!B31=\"\",\"\",'TD Siniestros'!B31)","v":"AIG Seguros"},{"$f":"IF('TD Siniestros'!C31=\"\",\"\",'TD Siniestros'!C31)","v":2362947.0091899997},{"$f":"IF('TD Siniestros'!D31=\"\",\"\",'TD Siniestros'!D31)","v":87.142342331658071},{"$f":"IF('TD Siniestros'!E31=\"\",\"\",'TD Siniestros'!E31)","v":10046.130860000001},{"$f":"IF('TD Siniestros'!F31=\"\",\"\",'TD Siniestros'!F31)","v":37.506299684069823},{"$f":"IF('TD Siniestros'!G31=\"\",\"\",'TD Siniestros'!G31)","v":23.438504243528534},0.57050219505399991]
[null,{"$f":"IF('TD Siniestros'!A32=\"\",\"\",'TD Siniestros'!A32)","v":24},{"$f":"IF('TD Siniestros'!B32=\"\",\"\",'TD Siniestros'!B32)","v":"Afirme"},{"$f":"IF('TD Siniestros'!C32=\"\",\"\",'TD Siniestros'!C32)","v":2017664.18346},{"$f":"IF('TD Siniestros'!D32=\"\",\"\",'TD Siniestros'!D32)","v":-34.797715104821492},{"$f":"IF('TD Siniestros'!E32=\"\",\"\",'TD Siniestros'!E32)","v":17031.64716},{"$f":"IF('TD Siniestros'!F32=\"\",\"\",'TD Siniestros'!F32)","v":36.071760734161288},{"$f":"IF('TD Siniestros'!G32=\"\",\"\",'TD Siniestros'!G32)","v":57.395794236151588},0.48713823927026972]
[null,{"$f":"IF('TD Siniestros'!A33=\"\",\"\",'TD Siniestros'!A33)","v":25},{"$f":"IF('TD Siniestros'!B33=\"\",\"\",'TD Siniestros'!B33)","v":"Seguros SURA"},{"$f":"IF('TD Siniestros'!C33=\"\",\"\",'TD Siniestros'!C33)","v":2586905.1357499999},{"$f":"IF('TD Siniestros'!D33=\"\",\"\",'TD Siniestros'!D33)","v":35.343030475249115},{"$f":"IF('TD Siniestros'!E33=\"\",\"\",'TD Siniestros'!E33)","v":-6216.8432199999997},{"$f":"IF('TD Siniestros'!F33=\"\",\"\",'TD Siniestros'!F33)","v":53.108021568362794},{"$f":"IF('TD Siniestros'!G33=\"\",\"\",'TD Siniestros'!G33)","v":41.621212912018457},0.62457391240768689]
[null,{"$f":"IF('TD Siniestros'!A34=\"\",\"\",'TD Siniestros'!A34)","v":26},{"$f":"IF('TD Siniestros'!B34=\"\",\"\",'TD Siniestros'!B34)","v":"Patrimonial Vida"},{"$f":"IF('TD Siniestros'!C34=\"\",\"\",'TD Siniestros'!C34)","v":1946418.3649200001},{"$f":"IF('TD Siniestros'!D34=\"\",\"\",'TD Siniestros'!D34)","v":109.38888787485604},{"$f":"IF('TD Siniestros'!E34=\"\",\"\",'TD Siniestros'!E34)","v":4903.4508599999999},{"$f":"IF('TD Siniestros'!F34=\"\",\"\",'TD Siniestros'!F34)","v":42.080490063823184},{"$f":"IF('TD Siniestros'!G34=\"\",\"\",'TD Siniestros'!G34)","v":34.36520929698623},0.4699368819366484]
[null,{"$f":"IF('TD Siniestros'!A35=\"\",\"\",'TD Siniestros'!A35)","v":27},{"$f":"IF('TD Siniestros'!B35=\"\",\"\",'TD Siniestros'!B35)","v":"Hir Seguros"},{"$f":"IF('TD Siniestros'!C35=\"\",\"\",'TD Siniestros'!C35)","v":2155179.8253800003},{"$f":"IF('TD Siniestros'!D35=\"\",\"\",'TD Siniestros'!D35)","v":-5.6665642565242091},{"$f":"IF('TD Siniestros'!E35=\"\",\"\",'TD Siniestros'!E35)","v":74877.082880000002},{"$f":"IF('TD Siniestros'!F35=\"\",\"\",'TD Siniestros'!F35)","v":47.729182602435536},{"$f":"IF('TD Siniestros'!G35=\"\",\"\",'TD Siniestros'!G35)","v":70.502411844547026},0.52033956594602671]
[null,{"$f":"IF('TD Siniestros'!A36=\"\",\"\",'TD Siniestros'!A36)","v":28},{"$f":"IF('TD Siniestros'!B36=\"\",\"\",'TD Siniestros'!B36)","v":"BUPA México"},{"$f":"IF('TD Siniestros'!C36=\"\",\"\",'TD Siniestros'!C36)","v":2937393.3841200001},{"$f":"IF('TD Siniestros'!D36=\"\",\"\",'TD Siniestros'!D36)","v":18.402736725115631},{"$f":"IF('TD Siniestros'!E36=\"\",\"\",'TD Siniestros'!E36)","v":0},{"$f":"IF('TD Siniestros'!F36=\"\",\"\",'TD Siniestros'!F36)","v":67.138227948273524},{"$f":"IF('TD Siniestros'!G36=\"\",\"\",'TD Siniestros'!G36)","v":69.668857288863592},0.70919464840305713]
[null,{"$f":"IF('TD Siniestros'!A37=\"\",\"\",'TD Siniestros'!A37)","v":29},{"$f":"IF('TD Siniestros'!B37=\"\",\"\",'TD Siniestros'!B37)","v":"Ve Por Más"},{"$f":"IF('TD Siniestros'!C37=\"\",\"\",'TD Siniestros'!C37)","v":2605447.8221500004},{"$f":"IF('TD Siniestros'!D37=\"\",\"\",'TD Siniestros'!D37)","v":27.897614131866977},{"$f":"IF('TD Siniestros'!E37=\"\",\"\",'TD Siniestros'!E37)","v":-6420.8934600000002},{"$f":"IF('TD Siniestros'!F37=\"\",\"\",'TD Siniestros'!F37)","v":69.664282079212256},{"$f":"IF('TD Siniestros'!G37=\"\",\"\",'TD Siniestros'!G37)","v":54.633292493117523},0.62905079794606567]
[null,{"$f":"IF('TD Siniestros'!A38=\"\",\"\",'TD Siniestros'!A38)","v":30},{"$f":"IF('TD Siniestros'!B38=\"\",\"\",'TD Siniestros'!B38)","v":"Cardif Vida"},{"$f":"IF('TD Siniestros'!C38=\"\",\"\",'TD Siniestros'!C38)","v":851556.76752000011},{"$f":"IF('TD Siniestros'!D38=\"\",\"\",'TD Siniestros'!D38)","v":38.027382623875262},{"$f":"IF('TD Siniestros'!E38=\"\",\"\",'TD Siniestros'!E38)","v":0},{"$f":"IF('TD Siniestros'!F38=\"\",\"\",'TD Siniestros'!F38)","v":23.22082218267126},{"$f":"IF('TD Siniestros'!G38=\"\",\"\",'TD Siniestros'!G38)","v":24.403878279091},0.20559707991495857]
[null,{"$f":"IF('TD Siniestros'!A39=\"\",\"\",'TD Siniestros'!A39)","v":31},{"$f":"IF('TD Siniestros'!B39=\"\",\"\",'TD Siniestros'!B39)","v":"FM Global"},{"$f":"IF('TD Siniestros'!C39=\"\",\"\",'TD Siniestros'!C39)","v":4591850.6461399999},{"$f":"IF('TD Siniestros'!D39=\"\",\"\",'TD Siniestros'!D39)","v":21.477002908509736},{"$f":"IF('TD Siniestros'!E39=\"\",\"\",'TD Siniestros'!E39)","v":0},{"$f":"IF('TD Siniestros'!F39=\"\",\"\",'TD Siniestros'!F39)","v":126.71981772570334},{"$f":"IF('TD Siniestros'!G39=\"\",\"\",'TD Siniestros'!G39)","v":116.46725575054424},1.1086413968635707]
[null,{"$f":"IF('TD Siniestros'!A40=\"\",\"\",'TD Siniestros'!A40)","v":32},{"$f":"IF('TD Siniestros'!B40=\"\",\"\",'TD Siniestros'!B40)","v":"ANA"},{"$f":"IF('TD Siniestros'!C40=\"\",\"\",'TD Siniestros'!C40)","v":1835327.8969100001},{"$f":"IF('TD Siniestros'!D40=\"\",\"\",'TD Siniestros'!D40)","v":-1.324412888463522},{"$f":"IF('TD Siniestros'!E40=\"\",\"\",'TD Siniestros'!E40)","v":10970.27701},{"$f":"IF('TD Siniestros'!F40=\"\",\"\",'TD Siniestros'!F40)","v":54.830708410322138},{"$f":"IF('TD Siniestros'!G40=\"\",\"\",'TD Siniestros'!G40)","v":66.790956202893611},0.44311556279458003]
[null,{"$f":"IF('TD Siniestros'!A41=\"\",\"\",'TD Siniestros'!A41)","v":33},{"$f":"IF('TD Siniestros'!B41=\"\",\"\",'TD Siniestros'!B41)","v":"Plan Seguro"},{"$f":"IF('TD Siniestros'!C41=\"\",\"\",'TD Siniestros'!C41)","v":1952883.0484199999},{"$f":"IF('TD Siniestros'!D41=\"\",\"\",'TD Siniestros'!D41)","v":33.049855833638418},{"$f":"IF('TD Siniestros'!E41=\"\",\"\",'TD Siniestros'!E41)","v":0},{"$f":"IF('TD Siniestros'!F41=\"\",\"\",'TD Siniestros'!F41)","v":58.750639837190278},{"$f":"IF('TD Siniestros'!G41=\"\",\"\",'TD Siniestros'!G41)","v":62.710926743701954},0.47149769397040775]
[null,{"$f":"IF('TD Siniestros'!A42=\"\",\"\",'TD Siniestros'!A42)","v":34},{"$f":"IF('TD Siniestros'!B42=\"\",\"\",'TD Siniestros'!B42)","v":"Seguros Azteca"},{"$f":"IF('TD Siniestros'!C42=\"\",\"\",'TD Siniestros'!C42)","v":513247.21419999993},{"$f":"IF('TD Siniestros'!D42=\"\",\"\",'TD Siniestros'!D42)","v":-44.270838492663323},{"$f":"IF('TD Siniestros'!E42=\"\",\"\",'TD Siniestros'!E42)","v":0},{"$f":"IF('TD Siniestros'!F42=\"\",\"\",'TD Siniestros'!F42)","v":18.803258178814115},{"$f":"IF('TD Siniestros'!G42=\"\",\"\",'TD Siniestros'!G42)","v":32.644005356118619},0.12391672820746963]
[null,{"$f":"IF('TD Siniestros'!A43=\"\",\"\",'TD Siniestros'!A43)","v":35},{"$f":"IF('TD Siniestros'!B43=\"\",\"\",'TD Siniestros'!B43)","v":"General de Seguros"},{"$f":"IF('TD Siniestros'!C43=\"\",\"\",'TD Siniestros'!C43)","v":1732145.8861699998},{"$f":"IF('TD Siniestros'!D43=\"\",\"\",'TD Siniestros'!D43)","v":18.297606597516648},{"$f":"IF('TD Siniestros'!E43=\"\",\"\",'TD Siniestros'!E43)","v":41903.402040000001},{"$f":"IF('TD Siniestros'!F43=\"\",\"\",'TD Siniestros'!F43)","v":65.842611228254526},{"$f":"IF('TD Siniestros'!G43=\"\",\"\",'TD Siniestros'!G43)","v":65.966030714049765},0.41820363570171043]
[null,{"$f":"IF('TD Siniestros'!A44=\"\",\"\",'TD Siniestros'!A44)","v":36},{"$f":"IF('TD Siniestros'!B44=\"\",\"\",'TD Siniestros'!B44)","v":"Seguros Argos"},{"$f":"IF('TD Siniestros'!C44=\"\",\"\",'TD Siniestros'!C44)","v":2198505.1737599997},{"$f":"IF('TD Siniestros'!D44=\"\",\"\",'TD Siniestros'!D44)","v":-1.4758410957872226},{"$f":"IF('TD Siniestros'!E44=\"\",\"\",'TD Siniestros'!E44)","v":-14954.291509999999},{"$f":"IF('TD Siniestros'!F44=\"\",\"\",'TD Siniestros'!F44)","v":84.323775663810807},{"$f":"IF('TD Siniestros'!G44=\"\",\"\",'TD Siniestros'!G44)","v":87.402116284700796},0.53079989631151459]
[null,{"$f":"IF('TD Siniestros'!A45=\"\",\"\",'TD Siniestros'!A45)","v":37},{"$f":"IF('TD Siniestros'!B45=\"\",\"\",'TD Siniestros'!B45)","v":"Cardif Seguros Generales"},{"$f":"IF('TD Siniestros'!C45=\"\",\"\",'TD Siniestros'!C45)","v":293532.63031000004},{"$f":"IF('TD Siniestros'!D45=\"\",\"\",'TD Siniestros'!D45)","v":0},{"$f":"IF('TD Siniestros'!E45=\"\",\"\",'TD Siniestros'!E45)","v":0},{"$f":"IF('TD Siniestros'!F45=\"\",\"\",'TD Siniestros'!F45)","v":11.950258388051962},{"$f":"IF('TD Siniestros'!G45=\"\",\"\",'TD Siniestros'!G45)","v":0},7.0869557912444953E-2]
[null,{"$f":"IF('TD Siniestros'!A46=\"\",\"\",'TD Siniestros'!A46)","v":38},{"$f":"IF('TD Siniestros'!B46=\"\",\"\",'TD Siniestros'!B46)","v":"El Potosí"},{"$f":"IF('TD Siniestros'!C46=\"\",\"\",'TD Siniestros'!C46)","v":1126492.2921500003},{"$f":"IF('TD Siniestros'!D46=\"\",\"\",'TD Siniestros'!D46)","v":11.96059535430949},{"$f":"IF('TD Siniestros'!E46=\"\",\"\",'TD Siniestros'!E46)","v":1291.6491699999999},{"$f":"IF('TD Siniestros'!F46=\"\",\"\",'TD Siniestros'!F46)","v":46.249669522141659},{"$f":"IF('TD Siniestros'!G46=\"\",\"\",'TD Siniestros'!G46)","v":53.197275439835892},0.27197661347610502]
[null,{"$f":"IF('TD Siniestros'!A47=\"\",\"\",'TD Siniestros'!A47)","v":39},{"$f":"IF('TD Siniestros'!B47=\"\",\"\",'TD Siniestros'!B47)","v":"HDI Global Seguros"},{"$f":"IF('TD Siniestros'!C47=\"\",\"\",'TD Siniestros'!C47)","v":1776902.6795999999},{"$f":"IF('TD Siniestros'!D47=\"\",\"\",'TD Siniestros'!D47)","v":97.659502784811011},{"$f":"IF('TD Siniestros'!E47=\"\",\"\",'TD Siniestros'!E47)","v":0},{"$f":"IF('TD Siniestros'!F47=\"\",\"\",'TD Siniestros'!F47)","v":77.407017299899195},{"$f":"IF('TD Siniestros'!G47=\"\",\"\",'TD Siniestros'!G47)","v":42.73390452146559},0.42900956947681707]
[null,{"$f":"IF('TD Siniestros'!A48=\"\",\"\",'TD Siniestros'!A48)","v":40},{"$f":"IF('TD Siniestros'!B48=\"\",\"\",'TD Siniestros'!B48)","v":"Seguros Azteca Daños"},{"$f":"IF('TD Siniestros'!C48=\"\",\"\",'TD Siniestros'!C48)","v":504172.82344000001},{"$f":"IF('TD Siniestros'!D48=\"\",\"\",'TD Siniestros'!D48)","v":68.560045078046869},{"$f":"IF('TD Siniestros'!E48=\"\",\"\",'TD Siniestros'!E48)","v":7972.2413799999995},{"$f":"IF('TD Siniestros'!F48=\"\",\"\",'TD Siniestros'!F48)","v":25.304254715099706},{"$f":"IF('TD Siniestros'!G48=\"\",\"\",'TD Siniestros'!G48)","v":17.031560909727919},0.12172583699102534]
[null,{"$f":"IF('TD Siniestros'!A49=\"\",\"\",'TD Siniestros'!A49)","v":41},{"$f":"IF('TD Siniestros'!B49=\"\",\"\",'TD Siniestros'!B49)","v":"Thona"},{"$f":"IF('TD Siniestros'!C49=\"\",\"\",'TD Siniestros'!C49)","v":1733506.0232900002},{"$f":"IF('TD Siniestros'!D49=\"\",\"\",'TD Siniestros'!D49)","v":-7.0958148837027775},{"$f":"IF('TD Siniestros'!E49=\"\",\"\",'TD Siniestros'!E49)","v":5154.1361400000005},{"$f":"IF('TD Siniestros'!F49=\"\",\"\",'TD Siniestros'!F49)","v":88.778213783861077},{"$f":"IF('TD Siniestros'!G49=\"\",\"\",'TD Siniestros'!G49)","v":92.379655669954033},0.41853202275800772]
[null,{"$f":"IF('TD Siniestros'!A50=\"\",\"\",'TD Siniestros'!A50)","v":42},{"$f":"IF('TD Siniestros'!B50=\"\",\"\",'TD Siniestros'!B50)","v":"Prudential"},{"$f":"IF('TD Siniestros'!C50=\"\",\"\",'TD Siniestros'!C50)","v":231226.25729000001},{"$f":"IF('TD Siniestros'!D50=\"\",\"\",'TD Siniestros'!D50)","v":-4.3148155590909347},{"$f":"IF('TD Siniestros'!E50=\"\",\"\",'TD Siniestros'!E50)","v":0},{"$f":"IF('TD Siniestros'!F50=\"\",\"\",'TD Siniestros'!F50)","v":12.647993767752833},{"$f":"IF('TD Siniestros'!G50=\"\",\"\",'TD Siniestros'!G50)","v":15.506392103603037},5.582651105802218E-2]
[null,{"$f":"IF('TD Siniestros'!A51=\"\",\"\",'TD Siniestros'!A51)","v":43},{"$f":"IF('TD Siniestros'!B51=\"\",\"\",'TD Siniestros'!B51)","v":"Insignia Life"},{"$f":"IF('TD Siniestros'!C51=\"\",\"\",'TD Siniestros'!C51)","v":851617.96878000011},{"$f":"IF('TD Siniestros'!D51=\"\",\"\",'TD Siniestros'!D51)","v":15.742972952974799},{"$f":"IF('TD Siniestros'!E51=\"\",\"\",'TD Siniestros'!E51)","v":33200.294020000001},{"$f":"IF('TD Siniestros'!F51=\"\",\"\",'TD Siniestros'!F51)","v":47.476397424747788},{"$f":"IF('TD Siniestros'!G51=\"\",\"\",'TD Siniestros'!G51)","v":49.580134521252759},0.20561185614694105]
[null,{"$f":"IF('TD Siniestros'!A52=\"\",\"\",'TD Siniestros'!A52)","v":44},{"$f":"IF('TD Siniestros'!B52=\"\",\"\",'TD Siniestros'!B52)","v":"BBVA Salud"},{"$f":"IF('TD Siniestros'!C52=\"\",\"\",'TD Siniestros'!C52)","v":1307899.7671500002},{"$f":"IF('TD Siniestros'!D52=\"\",\"\",'TD Siniestros'!D52)","v":13.371049856110751},{"$f":"IF('TD Siniestros'!E52=\"\",\"\",'TD Siniestros'!E52)","v":0},{"$f":"IF('TD Siniestros'!F52=\"\",\"\",'TD Siniestros'!F52)","v":75.230724447130044},{"$f":"IF('TD Siniestros'!G52=\"\",\"\",'TD Siniestros'!G52)","v":68.893818575334365},0.31577504072995199]
[null,{"$f":"IF('TD Siniestros'!A53=\"\",\"\",'TD Siniestros'!A53)","v":45},{"$f":"IF('TD Siniestros'!B53=\"\",\"\",'TD Siniestros'!B53)","v":"El Águila"},{"$f":"IF('TD Siniestros'!C53=\"\",\"\",'TD Siniestros'!C53)","v":942654.73620000028},{"$f":"IF('TD Siniestros'!D53=\"\",\"\",'TD Siniestros'!D53)","v":82.053280740874442},{"$f":"IF('TD Siniestros'!E53=\"\",\"\",'TD Siniestros'!E53)","v":0},{"$f":"IF('TD Siniestros'!F53=\"\",\"\",'TD Siniestros'!F53)","v":69.58077747031875},{"$f":"IF('TD Siniestros'!G53=\"\",\"\",'TD Siniestros'!G53)","v":40.374712725227191},0.22759147542817668]
[null,{"$f":"IF('TD Siniestros'!A54=\"\",\"\",'TD Siniestros'!A54)","v":46},{"$f":"IF('TD Siniestros'!B54=\"\",\"\",'TD Siniestros'!B54)","v":"Swiss Re Corporate Solutions"},{"$f":"IF('TD Siniestros'!C54=\"\",\"\",'TD Siniestros'!C54)","v":555122.79879000015},{"$f":"IF('TD Siniestros'!D54=\"\",\"\",'TD Siniestros'!D54)","v":225.60230008007414},{"$f":"IF('TD Siniestros'!E54=\"\",\"\",'TD Siniestros'!E54)","v":0},{"$f":"IF('TD Siniestros'!F54=\"\",\"\",'TD Siniestros'!F54)","v":42.069008415827682},{"$f":"IF('TD Siniestros'!G54=\"\",\"\",'TD Siniestros'!G54)","v":13.225725790171994},0.13402703234668684]
[null,{"$f":"IF('TD Siniestros'!A55=\"\",\"\",'TD Siniestros'!A55)","v":47},{"$f":"IF('TD Siniestros'!B55=\"\",\"\",'TD Siniestros'!B55)","v":"Assurant Vida"},{"$f":"IF('TD Siniestros'!C55=\"\",\"\",'TD Siniestros'!C55)","v":178849.33577999999},{"$f":"IF('TD Siniestros'!D55=\"\",\"\",'TD Siniestros'!D55)","v":10.204050631317907},{"$f":"IF('TD Siniestros'!E55=\"\",\"\",'TD Siniestros'!E55)","v":-938.99444999999992},{"$f":"IF('TD Siniestros'!F55=\"\",\"\",'TD Siniestros'!F55)","v":14.845962853435966},{"$f":"IF('TD Siniestros'!G55=\"\",\"\",'TD Siniestros'!G55)","v":14.786791086115198},4.3180798490024687E-2]
[null,{"$f":"IF('TD Siniestros'!A56=\"\",\"\",'TD Siniestros'!A56)","v":48},{"$f":"IF('TD Siniestros'!B56=\"\",\"\",'TD Siniestros'!B56)","v":"Tokio Marine"},{"$f":"IF('TD Siniestros'!C56=\"\",\"\",'TD Siniestros'!C56)","v":404088.41822000017},{"$f":"IF('TD Siniestros'!D56=\"\",\"\",'TD Siniestros'!D56)","v":-17.039790697721603},{"$f":"IF('TD Siniestros'!E56=\"\",\"\",'TD Siniestros'!E56)","v":1963.65391},{"$f":"IF('TD Siniestros'!F56=\"\",\"\",'TD Siniestros'!F56)","v":38.626201890053423},{"$f":"IF('TD Siniestros'!G56=\"\",\"\",'TD Siniestros'!G56)","v":58.319413274461475},9.7561785640480306E-2]
[null,{"$f":"IF('TD Siniestros'!A57=\"\",\"\",'TD Siniestros'!A57)","v":49},{"$f":"IF('TD Siniestros'!B57=\"\",\"\",'TD Siniestros'!B57)","v":"La Latinoamericana"},{"$f":"IF('TD Siniestros'!C57=\"\",\"\",'TD Siniestros'!C57)","v":571422.34218999976},{"$f":"IF('TD Siniestros'!D57=\"\",\"\",'TD Siniestros'!D57)","v":-16.759221717697194},{"$f":"IF('TD Siniestros'!E57=\"\",\"\",'TD Siniestros'!E57)","v":8623.2344699999994},{"$f":"IF('TD Siniestros'!F57=\"\",\"\",'TD Siniestros'!F57)","v":54.644649134292401},{"$f":"IF('TD Siniestros'!G57=\"\",\"\",'TD Siniestros'!G57)","v":59.635564313830237},0.13796234077802796]
[null,{"$f":"IF('TD Siniestros'!A58=\"\",\"\",'TD Siniestros'!A58)","v":50},{"$f":"IF('TD Siniestros'!B58=\"\",\"\",'TD Siniestros'!B58)","v":"Pan-American México"},{"$f":"IF('TD Siniestros'!C58=\"\",\"\",'TD Siniestros'!C58)","v":1026881.0678000001},{"$f":"IF('TD Siniestros'!D58=\"\",\"\",'TD Siniestros'!D58)","v":140.67898705321892},{"$f":"IF('TD Siniestros'!E58=\"\",\"\",'TD Siniestros'!E58)","v":10761.297329999999},{"$f":"IF('TD Siniestros'!F58=\"\",\"\",'TD Siniestros'!F58)","v":103.45369947937857},{"$f":"IF('TD Siniestros'!G58=\"\",\"\",'TD Siniestros'!G58)","v":42.79746600778023},0.24792680536670861]
[null,{"$f":"IF('TD Siniestros'!A59=\"\",\"\",'TD Siniestros'!A59)","v":51},{"$f":"IF('TD Siniestros'!B59=\"\",\"\",'TD Siniestros'!B59)","v":"Berkley Seguros"},{"$f":"IF('TD Siniestros'!C59=\"\",\"\",'TD Siniestros'!C59)","v":399937.60344999988},{"$f":"IF('TD Siniestros'!D59=\"\",\"\",'TD Siniestros'!D59)","v":116.91327735511491},{"$f":"IF('TD Siniestros'!E59=\"\",\"\",'TD Siniestros'!E59)","v":5748.2577499999998},{"$f":"IF('TD Siniestros'!F59=\"\",\"\",'TD Siniestros'!F59)","v":50.556985296701193},{"$f":"IF('TD Siniestros'!G59=\"\",\"\",'TD Siniestros'!G59)","v":27.358518682961165},9.6559626502616513E-2]
[null,{"$f":"IF('TD Siniestros'!A60=\"\",\"\",'TD Siniestros'!A60)","v":52},{"$f":"IF('TD Siniestros'!B60=\"\",\"\",'TD Siniestros'!B60)","v":"Sompo Japan"},{"$f":"IF('TD Siniestros'!C60=\"\",\"\",'TD Siniestros'!C60)","v":131354.68675000008},{"$f":"IF('TD Siniestros'!D60=\"\",\"\",'TD Siniestros'!D60)","v":-3.4856840991833171},{"$f":"IF('TD Siniestros'!E60=\"\",\"\",'TD Siniestros'!E60)","v":1608.00521},{"$f":"IF('TD Siniestros'!F60=\"\",\"\",'TD Siniestros'!F60)","v":17.31097984749492},{"$f":"IF('TD Siniestros'!G60=\"\",\"\",'TD Siniestros'!G60)","v":20.401632223596337},3.1713845816285925E-2]
[null,{"$f":"IF('TD Siniestros'!A61=\"\",\"\",'TD Siniestros'!A61)","v":53},{"$f":"IF('TD Siniestros'!B61=\"\",\"\",'TD Siniestros'!B61)","v":"AXA Salud"},{"$f":"IF('TD Siniestros'!C61=\"\",\"\",'TD Siniestros'!C61)","v":482046.30315000005},{"$f":"IF('TD Siniestros'!D61=\"\",\"\",'TD Siniestros'!D61)","v":4.7455418842891728},{"$f":"IF('TD Siniestros'!E61=\"\",\"\",'TD Siniestros'!E61)","v":0},{"$f":"IF('TD Siniestros'!F61=\"\",\"\",'TD Siniestros'!F61)","v":65.424400478601072},{"$f":"IF('TD Siniestros'!G61=\"\",\"\",'TD Siniestros'!G61)","v":72.798330098760957},0.11638368232346086]
[null,{"$f":"IF('TD Siniestros'!A62=\"\",\"\",'TD Siniestros'!A62)","v":54},{"$f":"IF('TD Siniestros'!B62=\"\",\"\",'TD Siniestros'!B62)","v":"Atradius"},{"$f":"IF('TD Siniestros'!C62=\"\",\"\",'TD Siniestros'!C62)","v":347401.89166999998},{"$f":"IF('TD Siniestros'!D62=\"\",\"\",'TD Siniestros'!D62)","v":149.71957784877898},{"$f":"IF('TD Siniestros'!E62=\"\",\"\",'TD Siniestros'!E62)","v":1452.1160300000001},{"$f":"IF('TD Siniestros'!F62=\"\",\"\",'TD Siniestros'!F62)","v":51.220442956526313},{"$f":"IF('TD Siniestros'!G62=\"\",\"\",'TD Siniestros'!G62)","v":22.989775323447201},8.3875576131343763E-2]
[null,{"$f":"IF('TD Siniestros'!A63=\"\",\"\",'TD Siniestros'!A63)","v":55},{"$f":"IF('TD Siniestros'!B63=\"\",\"\",'TD Siniestros'!B63)","v":"Skandia Life"},{"$f":"IF('TD Siniestros'!C63=\"\",\"\",'TD Siniestros'!C63)","v":74462.124089999998},{"$f":"IF('TD Siniestros'!D63=\"\",\"\",'TD Siniestros'!D63)","v":-12.872714564909405},{"$f":"IF('TD Siniestros'!E63=\"\",\"\",'TD Siniestros'!E63)","v":0},{"$f":"IF('TD Siniestros'!F63=\"\",\"\",'TD Siniestros'!F63)","v":11.079647807757844},{"$f":"IF('TD Siniestros'!G63=\"\",\"\",'TD Siniestros'!G63)","v":22.924369796338421},1.7977891622838561E-2]
[null,{"$f":"IF('TD Siniestros'!A64=\"\",\"\",'TD Siniestros'!A64)","v":56},{"$f":"IF('TD Siniestros'!B64=\"\",\"\",'TD Siniestros'!B64)","v":"PREVEM Seguros"},{"$f":"IF('TD Siniestros'!C64=\"\",\"\",'TD Siniestros'!C64)","v":393521.33995000005},{"$f":"IF('TD Siniestros'!D64=\"\",\"\",'TD Siniestros'!D64)","v":15.145292366933759},{"$f":"IF('TD Siniestros'!E64=\"\",\"\",'TD Siniestros'!E64)","v":0},{"$f":"IF('TD Siniestros'!F64=\"\",\"\",'TD Siniestros'!F64)","v":76.738075596695339},{"$f":"IF('TD Siniestros'!G64=\"\",\"\",'TD Siniestros'!G64)","v":71.445116579483752},9.5010504835241677E-2]
[null,{"$f":"IF('TD Siniestros'!A65=\"\",\"\",'TD Siniestros'!A65)","v":57},{"$f":"IF('TD Siniestros'!B65=\"\",\"\",'TD Siniestros'!B65)","v":"Solunion Crédito"},{"$f":"IF('TD Siniestros'!C65=\"\",\"\",'TD Siniestros'!C65)","v":552327.55256999994},{"$f":"IF('TD Siniestros'!D65=\"\",\"\",'TD Siniestros'!D65)","v":207.99666192393329},{"$f":"IF('TD Siniestros'!E65=\"\",\"\",'TD Siniestros'!E65)","v":769.00381999999991},{"$f":"IF('TD Siniestros'!F65=\"\",\"\",'TD Siniestros'!F65)","v":112.29661574344669},{"$f":"IF('TD Siniestros'!G65=\"\",\"\",'TD Siniestros'!G65)","v":34.136580769157078},0.13335215724452654]
[null,{"$f":"IF('TD Siniestros'!A66=\"\",\"\",'TD Siniestros'!A66)","v":58},{"$f":"IF('TD Siniestros'!B66=\"\",\"\",'TD Siniestros'!B66)","v":"General de Salud"},{"$f":"IF('TD Siniestros'!C66=\"\",\"\",'TD Siniestros'!C66)","v":678238.56258999987},{"$f":"IF('TD Siniestros'!D66=\"\",\"\",'TD Siniestros'!D66)","v":-8.3622232259167539},{"$f":"IF('TD Siniestros'!E66=\"\",\"\",'TD Siniestros'!E66)","v":0},{"$f":"IF('TD Siniestros'!F66=\"\",\"\",'TD Siniestros'!F66)","v":146.29859132496023},{"$f":"IF('TD Siniestros'!G66=\"\",\"\",'TD Siniestros'!G66)","v":67.213467597004879},0.16375169956117785]
[null,{"$f":"IF('TD Siniestros'!A67=\"\",\"\",'TD Siniestros'!A67)","v":59},{"$f":"IF('TD Siniestros'!B67=\"\",\"\",'TD Siniestros'!B67)","v":"Primero Seguros"},{"$f":"IF('TD Siniestros'!C67=\"\",\"\",'TD Siniestros'!C67)","v":825054.79418999958},{"$f":"IF('TD Siniestros'!D67=\"\",\"\",'TD Siniestros'!D67)","v":-11.017289252065455},{"$f":"IF('TD Siniestros'!E67=\"\",\"\",'TD Siniestros'!E67)","v":0},{"$f":"IF('TD Siniestros'!F67=\"\",\"\",'TD Siniestros'!F67)","v":191.05283506606338},{"$f":"IF('TD Siniestros'!G67=\"\",\"\",'TD Siniestros'!G67)","v":62.727981661526165},0.19919853018056963]
[null,{"$f":"IF('TD Siniestros'!A68=\"\",\"\",'TD Siniestros'!A68)","v":60},{"$f":"IF('TD Siniestros'!B68=\"\",\"\",'TD Siniestros'!B68)","v":"SHF Cred Vivienda"},{"$f":"IF('TD Siniestros'!C68=\"\",\"\",'TD Siniestros'!C68)","v":168492.11899000002},{"$f":"IF('TD Siniestros'!D68=\"\",\"\",'TD Siniestros'!D68)","v":91.887347671540027},{"$f":"IF('TD Siniestros'!E68=\"\",\"\",'TD Siniestros'!E68)","v":0},{"$f":"IF('TD Siniestros'!F68=\"\",\"\",'TD Siniestros'!F68)","v":47.311545065462241},{"$f":"IF('TD Siniestros'!G68=\"\",\"\",'TD Siniestros'!G68)","v":24.972121225714407},4.0680185953914268E-2]
[null,{"$f":"IF('TD Siniestros'!A69=\"\",\"\",'TD Siniestros'!A69)","v":61},{"$f":"IF('TD Siniestros'!B69=\"\",\"\",'TD Siniestros'!B69)","v":"Coface"},{"$f":"IF('TD Siniestros'!C69=\"\",\"\",'TD Siniestros'!C69)","v":125599.20271999999},{"$f":"IF('TD Siniestros'!D69=\"\",\"\",'TD Siniestros'!D69)","v":36.288568612097883},{"$f":"IF('TD Siniestros'!E69=\"\",\"\",'TD Siniestros'!E69)","v":-3785.3339000000001},{"$f":"IF('TD Siniestros'!F69=\"\",\"\",'TD Siniestros'!F69)","v":43.138347102261868},{"$f":"IF('TD Siniestros'!G69=\"\",\"\",'TD Siniestros'!G69)","v":30.174373784119535},3.0324260582278134E-2]
[null,{"$f":"IF('TD Siniestros'!A70=\"\",\"\",'TD Siniestros'!A70)","v":62},{"$f":"IF('TD Siniestros'!B70=\"\",\"\",'TD Siniestros'!B70)","v":"Crabi"},{"$f":"IF('TD Siniestros'!C70=\"\",\"\",'TD Siniestros'!C70)","v":177404.42518999998},{"$f":"IF('TD Siniestros'!D70=\"\",\"\",'TD Siniestros'!D70)","v":79.723234927370967},{"$f":"IF('TD Siniestros'!E70=\"\",\"\",'TD Siniestros'!E70)","v":0},{"$f":"IF('TD Siniestros'!F70=\"\",\"\",'TD Siniestros'!F70)","v":63.708611005640122},{"$f":"IF('TD Siniestros'!G70=\"\",\"\",'TD Siniestros'!G70)","v":58.244843214183398},4.2831944004483619E-2]
[null,{"$f":"IF('TD Siniestros'!A71=\"\",\"\",'TD Siniestros'!A71)","v":63},{"$f":"IF('TD Siniestros'!B71=\"\",\"\",'TD Siniestros'!B71)","v":"MediAccess"},{"$f":"IF('TD Siniestros'!C71=\"\",\"\",'TD Siniestros'!C71)","v":211895.22417999999},{"$f":"IF('TD Siniestros'!D71=\"\",\"\",'TD Siniestros'!D71)","v":19.816624770362811},{"$f":"IF('TD Siniestros'!E71=\"\",\"\",'TD Siniestros'!E71)","v":0},{"$f":"IF('TD Siniestros'!F71=\"\",\"\",'TD Siniestros'!F71)","v":146.17021834184152},{"$f":"IF('TD Siniestros'!G71=\"\",\"\",'TD Siniestros'!G71)","v":85.49364921076392},5.1159289669212023E-2]
[null,{"$f":"IF('TD Siniestros'!A72=\"\",\"\",'TD Siniestros'!A72)","v":64},{"$f":"IF('TD Siniestros'!B72=\"\",\"\",'TD Siniestros'!B72)","v":"Genworth Seg. de Crédito"},{"$f":"IF('TD Siniestros'!C72=\"\",\"\",'TD Siniestros'!C72)","v":112869.93919},{"$f":"IF('TD Siniestros'!D72=\"\",\"\",'TD Siniestros'!D72)","v":81.28592191934365},{"$f":"IF('TD Siniestros'!E72=\"\",\"\",'TD Siniestros'!E72)","v":0},{"$f":"IF('TD Siniestros'!F72=\"\",\"\",'TD Siniestros'!F72)","v":88.280938085635896},{"$f":"IF('TD Siniestros'!G72=\"\",\"\",'TD Siniestros'!G72)","v":53.036792845675521},{"$f":"IFERROR(D73/VLOOKUP(\"TOTAL\",$C$8:$D$124,2,0)*100,\"\")","v":2.7250948841878501E-2}]
[null,{"$f":"IF('TD Siniestros'!A73=\"\",\"\",'TD Siniestros'!A73)","v":65},{"$f":"IF('TD Siniestros'!B73=\"\",\"\",'TD Siniestros'!B73)","v":"Virginia Surety"},{"$f":"IF('TD Siniestros'!C73=\"\",\"\",'TD Siniestros'!C73)","v":28931.921979999999},{"$f":"IF('TD Siniestros'!D73=\"\",\"\",'TD Siniestros'!D73)","v":2.6951358285088434},{"$f":"IF('TD Siniestros'!E73=\"\",\"\",'TD Siniestros'!E73)","v":0},{"$f":"IF('TD Siniestros'!F73=\"\",\"\",'TD Siniestros'!F73)","v":25.802178624099774},{"$f":"IF('TD Siniestros'!G73=\"\",\"\",'TD Siniestros'!G73)","v":29.531126328387973},6.9852285863909848E-3]
[null,{"$f":"IF('TD Siniestros'!A74=\"\",\"\",'TD Siniestros'!A74)","v":66},{"$f":"IF('TD Siniestros'!B74=\"\",\"\",'TD Siniestros'!B74)","v":"Tláloc Seguros"},{"$f":"IF('TD Siniestros'!C74=\"\",\"\",'TD Siniestros'!C74)","v":28463.917489999996},{"$f":"IF('TD Siniestros'!D74=\"\",\"\",'TD Siniestros'!D74)","v":-49.924852650311557},{"$f":"IF('TD Siniestros'!E74=\"\",\"\",'TD Siniestros'!E74)","v":0},{"$f":"IF('TD Siniestros'!F74=\"\",\"\",'TD Siniestros'!F74)","v":25.559057551487012},{"$f":"IF('TD Siniestros'!G74=\"\",\"\",'TD Siniestros'!G74)","v":60.506515236660583},6.8722351134939113E-3]
[null,{"$f":"IF('TD Siniestros'!A75=\"\",\"\",'TD Siniestros'!A75)","v":67},{"$f":"IF('TD Siniestros'!B75=\"\",\"\",'TD Siniestros'!B75)","v":"Odontoprev"},{"$f":"IF('TD Siniestros'!C75=\"\",\"\",'TD Siniestros'!C75)","v":25030.07847},{"$f":"IF('TD Siniestros'!D75=\"\",\"\",'TD Siniestros'!D75)","v":-4.328773014684506},{"$f":"IF('TD Siniestros'!E75=\"\",\"\",'TD Siniestros'!E75)","v":0},{"$f":"IF('TD Siniestros'!F75=\"\",\"\",'TD Siniestros'!F75)","v":25.597393604281528},{"$f":"IF('TD Siniestros'!G75=\"\",\"\",'TD Siniestros'!G75)","v":25.17132313608445},6.0431802549833066E-3]
[null,{"$f":"IF('TD Siniestros'!A76=\"\",\"\",'TD Siniestros'!A76)","v":68},{"$f":"IF('TD Siniestros'!B76=\"\",\"\",'TD Siniestros'!B76)","v":"SPP Seguros"},{"$f":"IF('TD Siniestros'!C76=\"\",\"\",'TD Siniestros'!C76)","v":5438.3697299999994},{"$f":"IF('TD Siniestros'!D76=\"\",\"\",'TD Siniestros'!D76)","v":76.913233549819225},{"$f":"IF('TD Siniestros'!E76=\"\",\"\",'TD Siniestros'!E76)","v":0},{"$f":"IF('TD Siniestros'!F76=\"\",\"\",'TD Siniestros'!F76)","v":6.2488379960873521},{"$f":"IF('TD Siniestros'!G76=\"\",\"\",'TD Siniestros'!G76)","v":4.3212835447076117},1.3130221949174293E-3]
[null,{"$f":"IF('TD Siniestros'!A77=\"\",\"\",'TD Siniestros'!A77)","v":69},{"$f":"IF('TD Siniestros'!B77=\"\",\"\",'TD Siniestros'!B77)","v":"Momento Seguros"},{"$f":"IF('TD Siniestros'!C77=\"\",\"\",'TD Siniestros'!C77)","v":38436.471559999998},{"$f":"IF('TD Siniestros'!D77=\"\",\"\",'TD Siniestros'!D77)","v":377.8042861676127},{"$f":"IF('TD Siniestros'!E77=\"\",\"\",'TD Siniestros'!E77)","v":0},{"$f":"IF('TD Siniestros'!F77=\"\",\"\",'TD Siniestros'!F77)","v":49.805751342287699},{"$f":"IF('TD Siniestros'!G77=\"\",\"\",'TD Siniestros'!G77)","v":37.526814243693117},9.279975940987107E-3]
[null,{"$f":"IF('TD Siniestros'!A78=\"\",\"\",'TD Siniestros'!A78)","v":70},{"$f":"IF('TD Siniestros'!B78=\"\",\"\",'TD Siniestros'!B78)","v":"Quálitas Salud"},{"$f":"IF('TD Siniestros'!C78=\"\",\"\",'TD Siniestros'!C78)","v":65378.91154999999},{"$f":"IF('TD Siniestros'!D78=\"\",\"\",'TD Siniestros'!D78)","v":100.89051642550824},{"$f":"IF('TD Siniestros'!E78=\"\",\"\",'TD Siniestros'!E78)","v":0},{"$f":"IF('TD Siniestros'!F78=\"\",\"\",'TD Siniestros'!F78)","v":132.5381492114187},{"$f":"IF('TD Siniestros'!G78=\"\",\"\",'TD Siniestros'!G78)","v":212.73479805588883},1.5784870504693228E-2]
[null,{"$f":"IF('TD Siniestros'!A79=\"\",\"\",'TD Siniestros'!A79)","v":71},{"$f":"IF('TD Siniestros'!B79=\"\",\"\",'TD Siniestros'!B79)","v":"SPT"},{"$f":"IF('TD Siniestros'!C79=\"\",\"\",'TD Siniestros'!C79)","v":38978.43303},{"$f":"IF('TD Siniestros'!D79=\"\",\"\",'TD Siniestros'!D79)","v":21.775994204484348},{"$f":"IF('TD Siniestros'!E79=\"\",\"\",'TD Siniestros'!E79)","v":0},{"$f":"IF('TD Siniestros'!F79=\"\",\"\",'TD Siniestros'!F79)","v":88.328238854012469},{"$f":"IF('TD Siniestros'!G79=\"\",\"\",'TD Siniestros'!G79)","v":73.953851983615479},9.4108253451706068E-3]
[null,{"$f":"IF('TD Siniestros'!A80=\"\",\"\",'TD Siniestros'!A80)","v":72},{"$f":"IF('TD Siniestros'!B80=\"\",\"\",'TD Siniestros'!B80)","v":"Banamex Pensiones"},{"$f":"IF('TD Siniestros'!C80=\"\",\"\",'TD Siniestros'!C80)","v":611948.50663000008},{"$f":"IF('TD Siniestros'!D80=\"\",\"\",'TD Siniestros'!D80)","v":1.9965025353098742},{"$f":"IF('TD Siniestros'!E80=\"\",\"\",'TD Siniestros'!E80)","v":0},{"$f":"IF('TD Siniestros'!F80=\"\",\"\",'TD Siniestros'!F80)","v":6162.3830477267347},{"$f":"IF('TD Siniestros'!G80=\"\",\"\",'TD Siniestros'!G80)","v":9013.1702201895387},0.14774684533112201]
[null,{"$f":"IF('TD Siniestros'!A81=\"\",\"\",'TD Siniestros'!A81)","v":150.1},{"$f":"IF('TD Siniestros'!B81=\"\",\"\",'TD Siniestros'!B81)","v":"TOTAL RESTO"},{"$f":"IF('TD Siniestros'!C81=\"\",\"\",'TD Siniestros'!C81)","v":90342994.165139973},{"$f":"IF('TD Siniestros'!D81=\"\",\"\",'TD Siniestros'!D81)","v":14.798172199648207},{"$f":"IF('TD Siniestros'!E81=\"\",\"\",'TD Siniestros'!E81)","v":226130.77512999999},{"$f":"IF('TD Siniestros'!F81=\"\",\"\",'TD Siniestros'!F81)","v":55.079503099096272},{"$f":"IF('TD Siniestros'!G81=\"\",\"\",'TD Siniestros'!G81)","v":54.358623474320986},21.812116936397523]
[null,{"$f":"IF('TD Siniestros'!A82=\"\",\"\",'TD Siniestros'!A82)","v":200},{"$f":"IF('TD Siniestros'!B82=\"\",\"\",'TD Siniestros'!B82)","v":"Patria"},{"$f":"IF('TD Siniestros'!C82=\"\",\"\",'TD Siniestros'!C82)","v":0},{"$f":"IF('TD Siniestros'!D82=\"\",\"\",'TD Siniestros'!D82)","v":0},{"$f":"IF('TD Siniestros'!E82=\"\",\"\",'TD Siniestros'!E82)","v":0},{"$f":"IF('TD Siniestros'!F82=\"\",\"\",'TD Siniestros'!F82)","v":0},{"$f":"IF('TD Siniestros'!G82=\"\",\"\",'TD Siniestros'!G82)","v":0},0]
[null,{"$f":"IF('TD Siniestros'!A83=\"\",\"\",'TD Siniestros'!A83)","v":201.1},{"$f":"IF('TD Siniestros'!B83=\"\",\"\",'TD Siniestros'!B83)","v":"TOTAL"},{"$f":"IF('TD Siniestros'!C83=\"\",\"\",'TD Siniestros'!C83)","v":414187189.75592005},{"$f":"IF('TD Siniestros'!D83=\"\",\"\",'TD Siniestros'!D83)","v":5.648581218564197},{"$f":"IF('TD Siniestros'!E83=\"\",\"\",'TD Siniestros'!E83)","v":1707780.92056},{"$f":"IF('TD Siniestros'!F83=\"\",\"\",'TD Siniestros'!F83)","v":53.77574590411183},{"$f":"IF('TD Siniestros'!G83=\"\",\"\",'TD Siniestros'!G83)","v":57.106652293625714},100]
[null,{"$f":"IF('TD Siniestros'!A84=\"\",\"\",'TD Siniestros'!A84)","v":""},{"$f":"IF('TD Siniestros'!B84=\"\",\"\",'TD Siniestros'!B84)","v":""},{"$f":"IF('TD Siniestros'!C84=\"\",\"\",'TD Siniestros'!C84)","v":""},{"$f":"IF('TD Siniestros'!D84=\"\",\"\",'TD Siniestros'!D84)","v":""},{"$f":"IF('TD Siniestros'!E84=\"\",\"\",'TD Siniestros'!E84)","v":""},{"$f":"IF('TD Siniestros'!F84=\"\",\"\",'TD Siniestros'!F84)","v":""},{"$f":"IF('TD Siniestros'!G84=\"\",\"\",'TD Siniestros'!G84)","v":""},""]
[null,{"$f":"IF('TD Siniestros'!A85=\"\",\"\",'TD Siniestros'!A85)","v":""},{"$f":"IF('TD Siniestros'!B85=\"\",\"\",'TD Siniestros'!B85)","v":""},{"$f":"IF('TD Siniestros'!C85=\"\",\"\",'TD Siniestros'!C85)","v":""},{"$f":"IF('TD Siniestros'!D85=\"\",\"\",'TD Siniestros'!D85)","v":""},{"$f":"IF('TD Siniestros'!E85=\"\",\"\",'TD Siniestros'!E85)","v":""},{"$f":"IF('TD Siniestros'!F85=\"\",\"\",'TD Siniestros'!F85)","v":""},{"$f":"IF('TD Siniestros'!G85=\"\",\"\",'TD Siniestros'!G85)","v":""},""]
[null,{"$f":"IF('TD Siniestros'!A86=\"\",\"\",'TD Siniestros'!A86)","v":""},{"$f":"IF('TD Siniestros'!B86=\"\",\"\",'TD Siniestros'!B86)","v":""},{"$f":"IF('TD Siniestros'!C86=\"\",\"\",'TD Siniestros'!C86)","v":""},{"$f":"IF('TD Siniestros'!D86=\"\",\"\",'TD Siniestros'!D86)","v":""},{"$f":"IF('TD Siniestros'!E86=\"\",\"\",'TD Siniestros'!E86)","v":""},{"$f":"IF('TD Siniestros'!F86=\"\",\"\",'TD Siniestros'!F86)","v":""},{"$f":"IF('TD Siniestros'!G86=\"\",\"\",'TD Siniestros'!G86)","v":""},""]
[null,{"$f":"IF('TD Siniestros'!A87=\"\",\"\",'TD Siniestros'!A87)","v":""},{"$f":"IF('TD Siniestros'!B87=\"\",\"\",'TD Siniestros'!B87)","v":""},{"$f":"IF('TD Siniestros'!C87=\"\",\"\",'TD Siniestros'!C87)","v":""},{"$f":"IF('TD Siniestros'!D87=\"\",\"\",'TD Siniestros'!D87)","v":""},{"$f":"IF('TD Siniestros'!E87=\"\",\"\",'TD Siniestros'!E87)","v":""},{"$f":"IF('TD Siniestros'!F87=\"\",\"\",'TD Siniestros'!F87)","v":""},{"$f":"IF('TD Siniestros'!G87=\"\",\"\",'TD Siniestros'!G87)","v":""},""]
[null,{"$f":"IF('TD Siniestros'!A88=\"\",\"\",'TD Siniestros'!A88)","v":""},{"$f":"IF('TD Siniestros'!B88=\"\",\"\",'TD Siniestros'!B88)","v":""},{"$f":"IF('TD Siniestros'!C88=\"\",\"\",'TD Siniestros'!C88)","v":""},{"$f":"IF('TD Siniestros'!D88=\"\",\"\",'TD Siniestros'!D88)","v":""},{"$f":"IF('TD Siniestros'!E88=\"\",\"\",'TD Siniestros'!E88)","v":""},{"$f":"IF('TD Siniestros'!F88=\"\",\"\",'TD Siniestros'!F88)","v":""},{"$f":"IF('TD Siniestros'!G88=\"\",\"\",'TD Siniestros'!G88)","v":""},""]
[null,{"$f":"IF('TD Siniestros'!A89=\"\",\"\",'TD Siniestros'!A89)","v":""},{"$f":"IF('TD Siniestros'!B89=\"\",\"\",'TD Siniestros'!B89)","v":""},{"$f":"IF('TD Siniestros'!C89=\"\",\"\",'TD Siniestros'!C89)","v":""},{"$f":"IF('TD Siniestros'!D89=\"\",\"\",'TD Siniestros'!D89)","v":""},{"$f":"IF('TD Siniestros'!E89=\"\",\"\",'TD Siniestros'!E89)","v":""},{"$f":"IF('TD Siniestros'!F89=\"\",\"\",'TD Siniestros'!F89)","v":""},{"$f":"IF('TD Siniestros'!G89=\"\",\"\",'TD Siniestros'!G89)","v":""},""]
[null,{"$f":"IF('TD Siniestros'!A90=\"\",\"\",'TD Siniestros'!A90)","v":""},{"$f":"IF('TD Siniestros'!B90=\"\",\"\",'TD Siniestros'!B90)","v":""},{"$f":"IF('TD Siniestros'!C90=\"\",\"\",'TD Siniestros'!C90)","v":""},{"$f":"IF('TD Siniestros'!D90=\"\",\"\",'TD Siniestros'!D90)","v":""},{"$f":"IF('TD Siniestros'!E90=\"\",\"\",'TD Siniestros'!E90)","v":""},{"$f":"IF('TD Siniestros'!F90=\"\",\"\",'TD Siniestros'!F90)","v":""},{"$f":"IF('TD Siniestros'!G90=\"\",\"\",'TD Siniestros'!G90)","v":""},""]
[null,{"$f":"IF('TD Siniestros'!A91=\"\",\"\",'TD Siniestros'!A91)","v":""},{"$f":"IF('TD Siniestros'!B91=\"\",\"\",'TD Siniestros'!B91)","v":""},{"$f":"IF('TD Siniestros'!C91=\"\",\"\",'TD Siniestros'!C91)","v":""},{"$f":"IF('TD Siniestros'!D91=\"\",\"\",'TD Siniestros'!D91)","v":""},{"$f":"IF('TD Siniestros'!E91=\"\",\"\",'TD Siniestros'!E91)","v":""},{"$f":"IF('TD Siniestros'!F91=\"\",\"\",'TD Siniestros'!F91)","v":""},{"$f":"IF('TD Siniestros'!G91=\"\",\"\",'TD Siniestros'!G91)","v":""},""]
[null,{"$f":"IF('TD Siniestros'!A92=\"\",\"\",'TD Siniestros'!A92)","v":""},{"$f":"IF('TD Siniestros'!B92=\"\",\"\",'TD Siniestros'!B92)","v":""},{"$f":"IF('TD Siniestros'!C92=\"\",\"\",'TD Siniestros'!C92)","v":""},{"$f":"IF('TD Siniestros'!D92=\"\",\"\",'TD Siniestros'!D92)","v":""},{"$f":"IF('TD Siniestros'!E92=\"\",\"\",'TD Siniestros'!E92)","v":""},{"$f":"IF('TD Siniestros'!F92=\"\",\"\",'TD Siniestros'!F92)","v":""},{"$f":"IF('TD Siniestros'!G92=\"\",\"\",'TD Siniestros'!G92)","v":""},""]
[null,{"$f":"IF('TD Siniestros'!A93=\"\",\"\",'TD Siniestros'!A93)","v":""},{"$f":"IF('TD Siniestros'!B93=\"\",\"\",'TD Siniestros'!B93)","v":""},{"$f":"IF('TD Siniestros'!C93=\"\",\"\",'TD Siniestros'!C93)","v":""},{"$f":"IF('TD Siniestros'!D93=\"\",\"\",'TD Siniestros'!D93)","v":""},{"$f":"IF('TD Siniestros'!E93=\"\",\"\",'TD Siniestros'!E93)","v":""},{"$f":"IF('TD Siniestros'!F93=\"\",\"\",'TD Siniestros'!F93)","v":""},{"$f":"IF('TD Siniestros'!G93=\"\",\"\",'TD Siniestros'!G93)","v":""},""]
[null,{"$f":"IF('TD Siniestros'!A94=\"\",\"\",'TD Siniestros'!A94)","v":""},{"$f":"IF('TD Siniestros'!B94=\"\",\"\",'TD Siniestros'!B94)","v":""},{"$f":"IF('TD Siniestros'!C94=\"\",\"\",'TD Siniestros'!C94)","v":""},{"$f":"IF('TD Siniestros'!D94=\"\",\"\",'TD Siniestros'!D94)","v":""},{"$f":"IF('TD Siniestros'!E94=\"\",\"\",'TD Siniestros'!E94)","v":""},{"$f":"IF('TD Siniestros'!F94=\"\",\"\",'TD Siniestros'!F94)","v":""},{"$f":"IF('TD Siniestros'!G94=\"\",\"\",'TD Siniestros'!G94)","v":""},""]
[null,{"$f":"IF('TD Siniestros'!A95=\"\",\"\",'TD Siniestros'!A95)","v":""},{"$f":"IF('TD Siniestros'!B95=\"\",\"\",'TD Siniestros'!B95)","v":""},{"$f":"IF('TD Siniestros'!C95=\"\",\"\",'TD Siniestros'!C95)","v":""},{"$f":"IF('TD Siniestros'!D95=\"\",\"\",'TD Siniestros'!D95)","v":""},{"$f":"IF('TD Siniestros'!E95=\"\",\"\",'TD Siniestros'!E95)","v":""},{"$f":"IF('TD Siniestros'!F95=\"\",\"\",'TD Siniestros'!F95)","v":""},{"$f":"IF('TD Siniestros'!G95=\"\",\"\",'TD Siniestros'!G95)","v":""},""]
[null,{"$f":"IF('TD Siniestros'!A96=\"\",\"\",'TD Siniestros'!A96)","v":""},{"$f":"IF('TD Siniestros'!B96=\"\",\"\",'TD Siniestros'!B96)","v":""},{"$f":"IF('TD Siniestros'!C96=\"\",\"\",'TD Siniestros'!C96)","v":""},{"$f":"IF('TD Siniestros'!D96=\"\",\"\",'TD Siniestros'!D96)","v":""},{"$f":"IF('TD Siniestros'!E96=\"\",\"\",'TD Siniestros'!E96)","v":""},{"$f":"IF('TD Siniestros'!F96=\"\",\"\",'TD Siniestros'!F96)","v":""},{"$f":"IF('TD Siniestros'!G96=\"\",\"\",'TD Siniestros'!G96)","v":""},""]
[null,{"$f":"IF('TD Siniestros'!A97=\"\",\"\",'TD Siniestros'!A97)","v":""},{"$f":"IF('TD Siniestros'!B97=\"\",\"\",'TD Siniestros'!B97)","v":""},{"$f":"IF('TD Siniestros'!C97=\"\",\"\",'TD Siniestros'!C97)","v":""},{"$f":"IF('TD Siniestros'!D97=\"\",\"\",'TD Siniestros'!D97)","v":""},{"$f":"IF('TD Siniestros'!E97=\"\",\"\",'TD Siniestros'!E97)","v":""},{"$f":"IF('TD Siniestros'!F97=\"\",\"\",'TD Siniestros'!F97)","v":""},{"$f":"IF('TD Siniestros'!G97=\"\",\"\",'TD Siniestros'!G97)","v":""},""]
[null,{"$f":"IF('TD Siniestros'!A98=\"\",\"\",'TD Siniestros'!A98)","v":""},{"$f":"IF('TD Siniestros'!B98=\"\",\"\",'TD Siniestros'!B98)","v":""},{"$f":"IF('TD Siniestros'!C98=\"\",\"\",'TD Siniestros'!C98)","v":""},{"$f":"IF('TD Siniestros'!D98=\"\",\"\",'TD Siniestros'!D98)","v":""},{"$f":"IF('TD Siniestros'!E98=\"\",\"\",'TD Siniestros'!E98)","v":""},{"$f":"IF('TD Siniestros'!F98=\"\",\"\",'TD Siniestros'!F98)","v":""},{"$f":"IF('TD Siniestros'!G98=\"\",\"\",'TD Siniestros'!G98)","v":""},""]
[null,{"$f":"IF('TD Siniestros'!A99=\"\",\"\",'TD Siniestros'!A99)","v":""},{"$f":"IF('TD Siniestros'!B99=\"\",\"\",'TD Siniestros'!B99)","v":""},{"$f":"IF('TD Siniestros'!C99=\"\",\"\",'TD Siniestros'!C99)","v":""},{"$f":"IF('TD Siniestros'!D99=\"\",\"\",'TD Siniestros'!D99)","v":""},{"$f":"IF('TD Siniestros'!E99=\"\",\"\",'TD Siniestros'!E99)","v":""},{"$f":"IF('TD Siniestros'!F99=\"\",\"\",'TD Siniestros'!F99)","v":""},{"$f":"IF('TD Siniestros'!G99=\"\",\"\",'TD Siniestros'!G99)","v":""},""]
[null,{"$f":"IF('TD Siniestros'!A100=\"\",\"\",'TD Siniestros'!A100)","v":""},{"$f":"IF('TD Siniestros'!B100=\"\",\"\",'TD Siniestros'!B100)","v":""},{"$f":"IF('TD Siniestros'!C100=\"\",\"\",'TD Siniestros'!C100)","v":""},{"$f":"IF('TD Siniestros'!D100=\"\",\"\",'TD Siniestros'!D100)","v":""},{"$f":"IF('TD Siniestros'!E100=\"\",\"\",'TD Siniestros'!E100)","v":""},{"$f":"IF('TD Siniestros'!F100=\"\",\"\",'TD Siniestros'!F100)","v":""},{"$f":"IF('TD Siniestros'!G100=\"\",\"\",'TD Siniestros'!G100)","v":""},""]
[null,{"$f":"IF('TD Siniestros'!A101=\"\",\"\",'TD Siniestros'!A101)","v":""},{"$f":"IF('TD Siniestros'!B101=\"\",\"\",'TD Siniestros'!B101)","v":""},{"$f":"IF('TD Siniestros'!C101=\"\",\"\",'TD Siniestros'!C101)","v":""},{"$f":"IF('TD Siniestros'!D101=\"\",\"\",'TD Siniestros'!D101)","v":""},{"$f":"IF('TD Siniestros'!E101=\"\",\"\",'TD Siniestros'!E101)","v":""},{"$f":"IF('TD Siniestros'!F101=\"\",\"\",'TD Siniestros'!F101)","v":""},{"$f":"IF('TD Siniestros'!G101=\"\",\"\",'TD Siniestros'!G101)","v":""},""]
[null,{"$f":"IF('TD Siniestros'!A102=\"\",\"\",'TD Siniestros'!A102)","v":""},{"$f":"IF('TD Siniestros'!B102=\"\",\"\",'TD Siniestros'!B102)","v":""},{"$f":"IF('TD Siniestros'!C102=\"\",\"\",'TD Siniestros'!C102)","v":""},{"$f":"IF('TD Siniestros'!D102=\"\",\"\",'TD Siniestros'!D102)","v":""},{"$f":"IF('TD Siniestros'!E102=\"\",\"\",'TD Siniestros'!E102)","v":""},{"$f":"IF('TD Siniestros'!F102=\"\",\"\",'TD Siniestros'!F102)","v":""},{"$f":"IF('TD Siniestros'!G102=\"\",\"\",'TD Siniestros'!G102)","v":""},""]
[null,{"$f":"IF('TD Siniestros'!A103=\"\",\"\",'TD Siniestros'!A103)","v":""},{"$f":"IF('TD Siniestros'!B103=\"\",\"\",'TD Siniestros'!B103)","v":""},{"$f":"IF('TD Siniestros'!C103=\"\",\"\",'TD Siniestros'!C103)","v":""},{"$f":"IF('TD Siniestros'!D103=\"\",\"\",'TD Siniestros'!D103)","v":""},{"$f":"IF('TD Siniestros'!E103=\"\",\"\",'TD Siniestros'!E103)","v":""},{"$f":"IF('TD Siniestros'!F103=\"\",\"\",'TD Siniestros'!F103)","v":""},{"$f":"IF('TD Siniestros'!G103=\"\",\"\",'TD Siniestros'!G103)","v":""},""]
[null,{"$f":"IF('TD Siniestros'!A104=\"\",\"\",'TD Siniestros'!A104)","v":""},{"$f":"IF('TD Siniestros'!B104=\"\",\"\",'TD Siniestros'!B104)","v":""},{"$f":"IF('TD Siniestros'!C104=\"\",\"\",'TD Siniestros'!C104)","v":""},{"$f":"IF('TD Siniestros'!D104=\"\",\"\",'TD Siniestros'!D104)","v":""},{"$f":"IF('TD Siniestros'!E104=\"\",\"\",'TD Siniestros'!E104)","v":""},{"$f":"IF('TD Siniestros'!F104=\"\",\"\",'TD Siniestros'!F104)","v":""},{"$f":"IF('TD Siniestros'!G104=\"\",\"\",'TD Siniestros'!G104)","v":""},""]
[null,{"$f":"IF('TD Siniestros'!A105=\"\",\"\",'TD Siniestros'!A105)","v":""},{"$f":"IF('TD Siniestros'!B105=\"\",\"\",'TD Siniestros'!B105)","v":""},{"$f":"IF('TD Siniestros'!C105=\"\",\"\",'TD Siniestros'!C105)","v":""},{"$f":"IF('TD Siniestros'!D105=\"\",\"\",'TD Siniestros'!D105)","v":""},{"$f":"IF('TD Siniestros'!E105=\"\",\"\",'TD Siniestros'!E105)","v":""},{"$f":"IF('TD Siniestros'!F105=\"\",\"\",'TD Siniestros'!F105)","v":""},{"$f":"IF('TD Siniestros'!G105=\"\",\"\",'TD Siniestros'!G105)","v":""},""]
[null,{"$f":"IF('TD Siniestros'!A106=\"\",\"\",'TD Siniestros'!A106)","v":""},{"$f":"IF('TD Siniestros'!B106=\"\",\"\",'TD Siniestros'!B106)","v":""},{"$f":"IF('TD Siniestros'!C106=\"\",\"\",'TD Siniestros'!C106)","v":""},{"$f":"IF('TD Siniestros'!D106=\"\",\"\",'TD Siniestros'!D106)","v":""},{"$f":"IF('TD Siniestros'!E106=\"\",\"\",'TD Siniestros'!E106)","v":""},{"$f":"IF('TD Siniestros'!F106=\"\",\"\",'TD Siniestros'!F106)","v":""},{"$f":"IF('TD Siniestros'!G106=\"\",\"\",'TD Siniestros'!G106)","v":""},""]
[null,{"$f":"IF('TD Siniestros'!A107=\"\",\"\",'TD Siniestros'!A107)","v":""},{"$f":"IF('TD Siniestros'!B107=\"\",\"\",'TD Siniestros'!B107)","v":""},{"$f":"IF('TD Siniestros'!C107=\"\",\"\",'TD Siniestros'!C107)","v":""},{"$f":"IF('TD Siniestros'!D107=\"\",\"\",'TD Siniestros'!D107)","v":""},{"$f":"IF('TD Siniestros'!E107=\"\",\"\",'TD Siniestros'!E107)","v":""},{"$f":"IF('TD Siniestros'!F107=\"\",\"\",'TD Siniestros'!F107)","v":""},{"$f":"IF('TD Siniestros'!G107=\"\",\"\",'TD Siniestros'!G107)","v":""},""]
[null,{"$f":"IF('TD Siniestros'!A108=\"\",\"\",'TD Siniestros'!A108)","v":""},{"$f":"IF('TD Siniestros'!B108=\"\",\"\",'TD Siniestros'!B108)","v":""},{"$f":"IF('TD Siniestros'!C108=\"\",\"\",'TD Siniestros'!C108)","v":""},{"$f":"IF('TD Siniestros'!D108=\"\",\"\",'TD Siniestros'!D108)","v":""},{"$f":"IF('TD Siniestros'!E108=\"\",\"\",'TD Siniestros'!E108)","v":""},{"$f":"IF('TD Siniestros'!F108=\"\",\"\",'TD Siniestros'!F108)","v":""},{"$f":"IF('TD Siniestros'!G108=\"\",\"\",'TD Siniestros'!G108)","v":""},""]
[null,{"$f":"IF('TD Siniestros'!A109=\"\",\"\",'TD Siniestros'!A109)","v":""},{"$f":"IF('TD Siniestros'!B109=\"\",\"\",'TD Siniestros'!B109)","v":""},{"$f":"IF('TD Siniestros'!C109=\"\",\"\",'TD Siniestros'!C109)","v":""},{"$f":"IF('TD Siniestros'!D109=\"\",\"\",'TD Siniestros'!D109)","v":""},{"$f":"IF('TD Siniestros'!E109=\"\",\"\",'TD Siniestros'!E109)","v":""},{"$f":"IF('TD Siniestros'!F109=\"\",\"\",'TD Siniestros'!F109)","v":""},{"$f":"IF('TD Siniestros'!G109=\"\",\"\",'TD Siniestros'!G109)","v":""},""]
[null,{"$f":"IF('TD Siniestros'!A110=\"\",\"\",'TD Siniestros'!A110)","v":""},{"$f":"IF('TD Siniestros'!B110=\"\",\"\",'TD Siniestros'!B110)","v":""},{"$f":"IF('TD Siniestros'!C110=\"\",\"\",'TD Siniestros'!C110)","v":""},{"$f":"IF('TD Siniestros'!D110=\"\",\"\",'TD Siniestros'!D110)","v":""},{"$f":"IF('TD Siniestros'!E110=\"\",\"\",'TD Siniestros'!E110)","v":""},{"$f":"IF('TD Siniestros'!F110=\"\",\"\",'TD Siniestros'!F110)","v":""},{"$f":"IF('TD Siniestros'!G110=\"\",\"\",'TD Siniestros'!G110)","v":""},""]
[null,{"$f":"IF('TD Siniestros'!A111=\"\",\"\",'TD Siniestros'!A111)","v":""},{"$f":"IF('TD Siniestros'!B111=\"\",\"\",'TD Siniestros'!B111)","v":""},{"$f":"IF('TD Siniestros'!C111=\"\",\"\",'TD Siniestros'!C111)","v":""},{"$f":"IF('TD Siniestros'!D111=\"\",\"\",'TD Siniestros'!D111)","v":""},{"$f":"IF('TD Siniestros'!E111=\"\",\"\",'TD Siniestros'!E111)","v":""},{"$f":"IF('TD Siniestros'!F111=\"\",\"\",'TD Siniestros'!F111)","v":""},{"$f":"IF('TD Siniestros'!G111=\"\",\"\",'TD Siniestros'!G111)","v":""},""]
[null,{"$f":"IF('TD Siniestros'!A112=\"\",\"\",'TD Siniestros'!A112)","v":""},{"$f":"IF('TD Siniestros'!B112=\"\",\"\",'TD Siniestros'!B112)","v":""},{"$f":"IF('TD Siniestros'!C112=\"\",\"\",'TD Siniestros'!C112)","v":""},{"$f":"IF('TD Siniestros'!D112=\"\",\"\",'TD Siniestros'!D112)","v":""},{"$f":"IF('TD Siniestros'!E112=\"\",\"\",'TD Siniestros'!E112)","v":""},{"$f":"IF('TD Siniestros'!F112=\"\",\"\",'TD Siniestros'!F112)","v":""},{"$f":"IF('TD Siniestros'!G112=\"\",\"\",'TD Siniestros'!G112)","v":""},""]
[null,{"$f":"IF('TD Siniestros'!A113=\"\",\"\",'TD Siniestros'!A113)","v":""},{"$f":"IF('TD Siniestros'!B113=\"\",\"\",'TD Siniestros'!B113)","v":""},{"$f":"IF('TD Siniestros'!C113=\"\",\"\",'TD Siniestros'!C113)","v":""},{"$f":"IF('TD Siniestros'!D113=\"\",\"\",'TD Siniestros'!D113)","v":""},{"$f":"IF('TD Siniestros'!E113=\"\",\"\",'TD Siniestros'!E113)","v":""},{"$f":"IF('TD Siniestros'!F113=\"\",\"\",'TD Siniestros'!F113)","v":""},{"$f":"IF('TD Siniestros'!G113=\"\",\"\",'TD Siniestros'!G113)","v":""},""]
[null,{"$f":"IF('TD Siniestros'!A114=\"\",\"\",'TD Siniestros'!A114)","v":""},{"$f":"IF('TD Siniestros'!B114=\"\",\"\",'TD Siniestros'!B114)","v":""},{"$f":"IF('TD Siniestros'!C114=\"\",\"\",'TD Siniestros'!C114)","v":""},{"$f":"IF('TD Siniestros'!D114=\"\",\"\",'TD Siniestros'!D114)","v":""},{"$f":"IF('TD Siniestros'!E114=\"\",\"\",'TD Siniestros'!E114)","v":""},{"$f":"IF('TD Siniestros'!F114=\"\",\"\",'TD Siniestros'!F114)","v":""},{"$f":"IF('TD Siniestros'!G114=\"\",\"\",'TD Siniestros'!G114)","v":""},""]
[null,{"$f":"IF('TD Siniestros'!A115=\"\",\"\",'TD Siniestros'!A115)","v":""},{"$f":"IF('TD Siniestros'!B115=\"\",\"\",'TD Siniestros'!B115)","v":""},{"$f":"IF('TD Siniestros'!C115=\"\",\"\",'TD Siniestros'!C115)","v":""},{"$f":"IF('TD Siniestros'!D115=\"\",\"\",'TD Siniestros'!D115)","v":""},{"$f":"IF('TD Siniestros'!E115=\"\",\"\",'TD Siniestros'!E115)","v":""},{"$f":"IF('TD Siniestros'!F115=\"\",\"\",'TD Siniestros'!F115)","v":""},{"$f":"IF('TD Siniestros'!G115=\"\",\"\",'TD Siniestros'!G115)","v":""},""]
[null,{"$f":"IF('TD Siniestros'!A116=\"\",\"\",'TD Siniestros'!A116)","v":""},{"$f":"IF('TD Siniestros'!B116=\"\",\"\",'TD Siniestros'!B116)","v":""},{"$f":"IF('TD Siniestros'!C116=\"\",\"\",'TD Siniestros'!C116)","v":""},{"$f":"IF('TD Siniestros'!D116=\"\",\"\",'TD Siniestros'!D116)","v":""},{"$f":"IF('TD Siniestros'!E116=\"\",\"\",'TD Siniestros'!E116)","v":""},{"$f":"IF('TD Siniestros'!F116=\"\",\"\",'TD Siniestros'!F116)","v":""},{"$f":"IF('TD Siniestros'!G116=\"\",\"\",'TD Siniestros'!G116)","v":""},""]
[null,{"$f":"IF('TD Siniestros'!A117=\"\",\"\",'TD Siniestros'!A117)","v":""},{"$f":"IF('TD Siniestros'!B117=\"\",\"\",'TD Siniestros'!B117)","v":""},{"$f":"IF('TD Siniestros'!C117=\"\",\"\",'TD Siniestros'!C117)","v":""},{"$f":"IF('TD Siniestros'!D117=\"\",\"\",'TD Siniestros'!D117)","v":""},{"$f":"IF('TD Siniestros'!E117=\"\",\"\",'TD Siniestros'!E117)","v":""},{"$f":"IF('TD Siniestros'!F117=\"\",\"\",'TD Siniestros'!F117)","v":""},{"$f":"IF('TD Siniestros'!G117=\"\",\"\",'TD Siniestros'!G117)","v":""},""]
[null,{"$f":"IF('TD Siniestros'!A118=\"\",\"\",'TD Siniestros'!A118)","v":""},{"$f":"IF('TD Siniestros'!B118=\"\",\"\",'TD Siniestros'!B118)","v":""},{"$f":"IF('TD Siniestros'!C118=\"\",\"\",'TD Siniestros'!C118)","v":""},{"$f":"IF('TD Siniestros'!D118=\"\",\"\",'TD Siniestros'!D118)","v":""},{"$f":"IF('TD Siniestros'!E118=\"\",\"\",'TD Siniestros'!E118)","v":""},{"$f":"IF('TD Siniestros'!F118=\"\",\"\",'TD Siniestros'!F118)","v":""},{"$f":"IF('TD Siniestros'!G118=\"\",\"\",'TD Siniestros'!G118)","v":""},""]
[null,{"$f":"IF('TD Siniestros'!A119=\"\",\"\",'TD Siniestros'!A119)","v":""},{"$f":"IF('TD Siniestros'!B119=\"\",\"\",'TD Siniestros'!B119)","v":""},{"$f":"IF('TD Siniestros'!C119=\"\",\"\",'TD Siniestros'!C119)","v":""},{"$f":"IF('TD Siniestros'!D119=\"\",\"\",'TD Siniestros'!D119)","v":""},{"$f":"IF('TD Siniestros'!E119=\"\",\"\",'TD Siniestros'!E119)","v":""},{"$f":"IF('TD Siniestros'!F119=\"\",\"\",'TD Siniestros'!F119)","v":""},{"$f":"IF('TD Siniestros'!G119=\"\",\"\",'TD Siniestros'!G119)","v":""},""]
[null,{"$f":"IF('TD Siniestros'!A120=\"\",\"\",'TD Siniestros'!A120)","v":""},{"$f":"IF('TD Siniestros'!B120=\"\",\"\",'TD Siniestros'!B120)","v":""},{"$f":"IF('TD Siniestros'!C120=\"\",\"\",'TD Siniestros'!C120)","v":""},{"$f":"IF('TD Siniestros'!D120=\"\",\"\",'TD Siniestros'!D120)","v":""},{"$f":"IF('TD Siniestros'!E120=\"\",\"\",'TD Siniestros'!E120)","v":""},{"$f":"IF('TD Siniestros'!F120=\"\",\"\",'TD Siniestros'!F120)","v":""},{"$f":"IF('TD Siniestros'!G120=\"\",\"\",'TD Siniestros'!G120)","v":""},""]
[null,{"$f":"IF('TD Siniestros'!A121=\"\",\"\",'TD Siniestros'!A121)","v":""},{"$f":"IF('TD Siniestros'!B121=\"\",\"\",'TD Siniestros'!B121)","v":""},{"$f":"IF('TD Siniestros'!C121=\"\",\"\",'TD Siniestros'!C121)","v":""},{"$f":"IF('TD Siniestros'!D121=\"\",\"\",'TD Siniestros'!D121)","v":""},{"$f":"IF('TD Siniestros'!E121=\"\",\"\",'TD Siniestros'!E121)","v":""},{"$f":"IF('TD Siniestros'!F121=\"\",\"\",'TD Siniestros'!F121)","v":""},{"$f":"IF('TD Siniestros'!G121=\"\",\"\",'TD Siniestros'!G121)","v":""},""]
[null,{"$f":"IF('TD Siniestros'!A122=\"\",\"\",'TD Siniestros'!A122)","v":""},{"$f":"IF('TD Siniestros'!B122=\"\",\"\",'TD Siniestros'!B122)","v":""},{"$f":"IF('TD Siniestros'!C122=\"\",\"\",'TD Siniestros'!C122)","v":""},{"$f":"IF('TD Siniestros'!D122=\"\",\"\",'TD Siniestros'!D122)","v":""},{"$f":"IF('TD Siniestros'!E122=\"\",\"\",'TD Siniestros'!E122)","v":""},{"$f":"IF('TD Siniestros'!F122=\"\",\"\",'TD Siniestros'!F122)","v":""},{"$f":"IF('TD Siniestros'!G122=\"\",\"\",'TD Siniestros'!G122)","v":""},""]
[null,{"$f":"IF('TD Siniestros'!A123=\"\",\"\",'TD Siniestros'!A123)","v":""},{"$f":"IF('TD Siniestros'!B123=\"\",\"\",'TD Siniestros'!B123)","v":""},{"$f":"IF('TD Siniestros'!C123=\"\",\"\",'TD Siniestros'!C123)","v":""},{"$f":"IF('TD Siniestros'!D123=\"\",\"\",'TD Siniestros'!D123)","v":""},{"$f":"IF('TD Siniestros'!E123=\"\",\"\",'TD Siniestros'!E123)","v":""},{"$f":"IF('TD Siniestros'!F123=\"\",\"\",'TD Siniestros'!F123)","v":""},{"$f":"IF('TD Siniestros'!G123=\"\",\"\",'TD Siniestros'!G123)","v":""},""]

{"sheet":"Primas Directas (Vida)","index":9,"n_rows":211,"n_cols":12,"rows_kept":211,"cut":false,"hidden":false,"merged":[[1,2,1,11]]}
[null,null,"Análisis de Primas Directas",null,null,null,null,null,null,null,null,{"$f":"VLOOKUP(RIGHT('TDPrimas Vida'!B2,2),Cat!$N$2:$O$5,2,0)&\" \"&LEFT('TDPrimas Vida'!B2,4)","v":"Tercer Trimestre 2025"}]
[null,null,{"$f":"UPPER(RIGHT('TDPrimas Vida'!B3,LEN('TDPrimas Vida'!B3)-3))","v":"VIDA TOTAL"}]
[null,null,null,null,null,null,null,null,null,null,null,"Cifras en miles"]
[null,null,null,null,2,3,4,5,6,7,8,9]
[null,null,null,null,"Primas Directas",null,"% Part. en Merc. ",null,"Incremento",null,"% de Cartera"]
[null,null,"Compañías",null,{"$f":"'Primas Directas'!$D$6","v":"2025"},{"$f":"'Primas Directas'!$E$6","v":2024},{"$f":"$E$6","v":"2025"},{"$f":"$F$6","v":2024},"Importe","%","Por ","Total"]
[null,null,null,null,"Importe","Importe",null,null,null,null,"Operación","Cartera"]
[null,{"$f":"IF(C8=\"\",B2,D8)","v":"TOTAL"},151.1,"TOTAL",{"$f":"VLOOKUP($D8,$D$12:$L$211,E$4,0)","v":311861035.33651996},{"$f":"VLOOKUP($D8,$D$12:$L$211,F$4,0)","v":282737917.87033999},100,110.3003932707517,29123117.466179967,10.300393270751695,40.490290884015039,48.848538893041599]
[null,{"$f":"IF(C9=\"\",B8,D9)","v":"TOTAL"},null,{"$f":"IF(D8=\"\",\"\",\"1er Año\")","v":"1er Año"},{"$f":"IF(E8=\"\",\"\",(VLOOKUP(B9,'TDPrimas Vida'!$B:$N,5,0)))","v":159551027.94873998},{"$f":"IF(E8=\"\",\"\",(VLOOKUP(B9,'TDPrimas Vida'!$B:$N,6,0)))","v":143097065.20514002},{"$f":"IFERROR((E9/VLOOKUP(\"TOTAL\",$D$12:$L$312,2,0))*100,\"\")","v":51.160937042543075},{"$f":"IFERROR((E9/VLOOKUP(\"TOTAL\",$D$12:$L$312,3,0))*100,\"\")","v":56.43071475892669},{"$f":"IF(E8=\"\",\"\",E9-F9)","v":16453962.743599951},{"$f":"IF(E8=\"\",\"\",IFERROR((E9/F9-1)*100,\"ND\"))","v":11.498462753245153},{"$f":"IF(E8=\"\",\"\",IFERROR((E9/VLOOKUP(B9&\"|\"&VLOOKUP(TDPrimas_!$B$4,Cat!R:T,2,0),'TD Operación'!A:D,4,0))*100,\"ND\"))","v":20.71521222751349},{"$f":"IF(E8=\"\",\"\",(VLOOKUP(B9,'TDPrimas Vida'!$B:$N,7,0)))","v":11.498462753245153}]
[null,"TOTAL",null,{"$f":"IF(D9=\"\",\"\",\"Renovación\")","v":"Renovación"},{"$f":"IF(E8=\"\",\"\",(VLOOKUP(B10,'TDPrimas Vida'!$B:$N,8,0)))","v":111109948.5458},{"$f":"IF(E8=\"\",\"\",(VLOOKUP(B10,'TDPrimas Vida'!$B:$N,9,0)))","v":106313026.54936999},{"$f":"IFERROR((E10/VLOOKUP(\"TOTAL\",$D$12:$L$312,2,0))*100,\"\")","v":35.628031705180661},{"$f":"IFERROR((E10/VLOOKUP(\"TOTAL\",$D$12:$L$312,3,0))*100,\"\")","v":39.297859085442369},{"$f":"IF(E8=\"\",\"\",E10-F10)","v":4796921.9964300096},{"$f":"IF(E8=\"\",\"\",IFERROR((E10/F10-1)*100,\"ND\"))","v":4.5120735926019284},{"$f":"IF(E9=\"\",\"\",IFERROR((E10/VLOOKUP(B10&\"|\"&VLOOKUP(TDPrimas_!$B$4,Cat!R:T,2,0),'TD Operación'!A:D,4,0))*100,\"ND\"))","v":14.425893673676754},{"$f":"IF(E8=\"\",\"\",(VLOOKUP(B10,'TDPrimas Vida'!$B:$N,10,0)))","v":35.628031705180653}]
[null,"TOTAL",null,{"$f":"IF(D10=\"\",\"\",\"Únicas\")","v":"Únicas"},{"$f":"IF(E9=\"\",\"\",(VLOOKUP(B11,'TDPrimas Vida'!$B:$N,11,0)))","v":41200058.84198001},{"$f":"IF(E9=\"\",\"\",(VLOOKUP(B11,'TDPrimas Vida'!$B:$N,12,0)))","v":33327826.115829993},{"$f":"IFERROR((E11/VLOOKUP(\"TOTAL\",$D$12:$L$312,2,0))*100,\"\")","v":13.211031252276277},{"$f":"IFERROR((E11/VLOOKUP(\"TOTAL\",$D$12:$L$312,3,0))*100,\"\")","v":14.571819426382646},{"$f":"IF(E8=\"\",\"\",E11-F11)","v":7872232.7261500172},{"$f":"IF(E8=\"\",\"\",IFERROR((E11/F11-1)*100,\"ND\"))","v":23.62060069201717},{"$f":"IF(E10=\"\",\"\",IFERROR((E11/VLOOKUP(B11&\"|\"&VLOOKUP(TDPrimas_!$B$4,Cat!R:T,2,0),'TD Operación'!A:D,4,0))*100,\"ND\"))","v":5.3491849828247986},{"$f":"IF(E8=\"\",\"\",(VLOOKUP(B11,'TDPrimas Vida'!$B:$N,13,0)))","v":13.211031252276269}]
[null,{"$f":"IF(C12=\"\",B7,D12)","v":"BBVA"},{"$f":"IF('TDPrimas Vida'!A7=\"\",\"\",'TDPrimas Vida'!A7)","v":1},{"$f":"IF('TDPrimas Vida'!B7=\"\",\"\",'TDPrimas Vida'!B7)","v":"BBVA"},{"$f":"IF('TDPrimas Vida'!C7=\"\",\"\",'TDPrimas Vida'!C7)","v":56228654.272830002},{"$f":"IF('TDPrimas Vida'!D7=\"\",\"\",'TDPrimas Vida'!D7)","v":47267011.291559994},{"$f":"IF('TDPrimas Vida'!C7=\"\",\"\",IFERROR((E12/VLOOKUP(\"TOTAL\",$D$12:$L$312,2,0))*100,\"\"))","v":18.030035144389018},{"$f":"IF('TDPrimas Vida'!C7=\"\",\"\",IFERROR((E12/VLOOKUP(\"TOTAL\",$D$12:$L$312,3,0))*100,\"\"))","v":19.88719967111583},{"$f":"IF('TDPrimas Vida'!C7=\"\",\"\",E12-F12)","v":8961642.9812700078},{"$f":"IFERROR(IF('TDPrimas Vida'!C7=\"\",\"\",(E12/F12-1)*100),\"ND\")","v":18.95961419263714},{"$f":"IF(E11=\"\",\"\",IFERROR((E12/VLOOKUP(B12&\"|\"&VLOOKUP(TDPrimas_!$B$4,Cat!R:T,2,0),'TD Operación'!A:D,4,0))*100,\"ND\"))","v":77.67041407956826},{"$f":"IF('TDPrimas Vida'!E7=\"\",\"\",'TDPrimas Vida'!E7)","v":77.67041407956826}]
[null,{"$f":"IF(C13=\"\",B12,D13)","v":"BBVA"},null,{"$f":"IF(D12=\"\",\"\",\"1er Año\")","v":"1er Año"},{"$f":"IF(E12=\"\",\"\",(VLOOKUP(B13,'TDPrimas Vida'!$B:$N,5,0)))","v":49674455.034429997},{"$f":"IF(E12=\"\",\"\",(VLOOKUP(B13,'TDPrimas Vida'!$B:$N,6,0)))","v":41148639.236340001},{"$f":"IFERROR((E13/VLOOKUP(\"TOTAL\",$D$12:$L$312,2,0))*100,\"\")","v":15.928394190325115},{"$f":"IFERROR((E13/VLOOKUP(\"TOTAL\",$D$12:$L$312,3,0))*100,\"\")","v":17.569081433644168},{"$f":"IF(E12=\"\",\"\",E13-F13)","v":8525815.798089996},{"$f":"IF(E12=\"\",\"\",IFERROR((E13/F13-1)*100,\"ND\"))","v":20.719557089412845},{"$f":"IF(E12=\"\",\"\",IFERROR((E13/VLOOKUP(B13&\"|\"&VLOOKUP(TDPrimas_!$B$4,Cat!R:T,2,0),'TD Operación'!A:D,4,0))*100,\"ND\"))","v":68.616891896084255},{"$f":"IF(E12=\"\",\"\",(VLOOKUP(B13,'TDPrimas Vida'!$B:$N,7,0)))","v":20.719557089412845}]
[null,"BBVA",null,{"$f":"IF(D13=\"\",\"\",\"Renovación\")","v":"Renovación"},{"$f":"IF(E12=\"\",\"\",(VLOOKUP(B14,'TDPrimas Vida'!$B:$N,8,0)))","v":4519824.9094000002},{"$f":"IF(E12=\"\",\"\",(VLOOKUP(B14,'TDPrimas Vida'!$B:$N,9,0)))","v":4086716.37164},{"$f":"IFERROR((E14/VLOOKUP(\"TOTAL\",$D$12:$L$312,2,0))*100,\"\")","v":1.4493073507957774},{"$f":"IFERROR((E14/VLOOKUP(\"TOTAL\",$D$12:$L$312,3,0))*100,\"\")","v":1.5985917076296552},{"$f":"IF(E12=\"\",\"\",E14-F14)","v":433108.53776000021},{"$f":"IF(E12=\"\",\"\",IFERROR((E14/F14-1)*100,\"ND\"))","v":10.597959299685723},{"$f":"IF(E13=\"\",\"\",IFERROR((E14/VLOOKUP(B14&\"|\"&VLOOKUP(TDPrimas_!$B$4,Cat!R:T,2,0),'TD Operación'!A:D,4,0))*100,\"ND\"))","v":6.2433767412761592},{"$f":"IF(E12=\"\",\"\",(VLOOKUP(B14,'TDPrimas Vida'!$B:$N,10,0)))","v":1.4493073507957766}]
[null,"BBVA",null,{"$f":"IF(D14=\"\",\"\",\"Únicas\")","v":"Únicas"},{"$f":"IF(E13=\"\",\"\",(VLOOKUP(B15,'TDPrimas Vida'!$B:$N,11,0)))","v":2034374.3289999999},{"$f":"IF(E13=\"\",\"\",(VLOOKUP(B15,'TDPrimas Vida'!$B:$N,12,0)))","v":2031655.68358},{"$f":"IFERROR((E15/VLOOKUP(\"TOTAL\",$D$12:$L$312,2,0))*100,\"\")","v":0.65233360326812462},{"$f":"IFERROR((E15/VLOOKUP(\"TOTAL\",$D$12:$L$312,3,0))*100,\"\")","v":0.7195265298420066},{"$f":"IF(E12=\"\",\"\",E15-F15)","v":2718.6454199999571},{"$f":"IF(E12=\"\",\"\",IFERROR((E15/F15-1)*100,\"ND\"))","v":0.13381427975085458},{"$f":"IF(E14=\"\",\"\",IFERROR((E15/VLOOKUP(B15&\"|\"&VLOOKUP(TDPrimas_!$B$4,Cat!R:T,2,0),'TD Operación'!A:D,4,0))*100,\"ND\"))","v":2.810145442207844},{"$f":"IF(E12=\"\",\"\",(VLOOKUP(B15,'TDPrimas Vida'!$B:$N,13,0)))","v":0.65233360326812428}]
[null,"Metlife México",{"$f":"IF('TDPrimas Vida'!A8=\"\",\"\",'TDPrimas Vida'!A8)","v":2},{"$f":"IF('TDPrimas Vida'!B8=\"\",\"\",'TDPrimas Vida'!B8)","v":"Metlife México"},{"$f":"IF('TDPrimas Vida'!C8=\"\",\"\",'TDPrimas Vida'!C8)","v":39129855.744099997},{"$f":"IF('TDPrimas Vida'!D8=\"\",\"\",'TDPrimas Vida'!D8)","v":39663455.944190003},{"$f":"IF('TDPrimas Vida'!C8=\"\",\"\",IFERROR((E16/VLOOKUP(\"TOTAL\",$D$12:$L$312,2,0))*100,\"\"))","v":12.547208952178373},{"$f":"IF('TDPrimas Vida'!C8=\"\",\"\",IFERROR((E16/VLOOKUP(\"TOTAL\",$D$12:$L$312,3,0))*100,\"\"))","v":13.83962081875571},{"$f":"IF('TDPrimas Vida'!C8=\"\",\"\",E16-F16)","v":-533600.20009000599},{"$f":"IFERROR(IF('TDPrimas Vida'!C8=\"\",\"\",(E16/F16-1)*100),\"ND\")","v":-1.3453194820966408},{"$f":"IF(E15=\"\",\"\",IFERROR((E16/VLOOKUP(B16&\"|\"&VLOOKUP(TDPrimas_!$B$4,Cat!R:T,2,0),'TD Operación'!A:D,4,0))*100,\"ND\"))","v":59.165176330019662},{"$f":"IF('TDPrimas Vida'!E8=\"\",\"\",'TDPrimas Vida'!E8)","v":59.165176330019662}]
[null,"Metlife México",null,{"$f":"IF(D16=\"\",\"\",\"1er Año\")","v":"1er Año"},{"$f":"IF(E16=\"\",\"\",(VLOOKUP(B17,'TDPrimas Vida'!$B:$N,5,0)))","v":6936564.0307200002},{"$f":"IF(E16=\"\",\"\",(VLOOKUP(B17,'TDPrimas Vida'!$B:$N,6,0)))","v":7755131.0616500005},{"$f":"IFERROR((E17/VLOOKUP(\"TOTAL\",$D$12:$L$312,2,0))*100,\"\")","v":2.2242483814096752},{"$f":"IFERROR((E17/VLOOKUP(\"TOTAL\",$D$12:$L$312,3,0))*100,\"\")","v":2.4533547120132009},{"$f":"IF(E16=\"\",\"\",E17-F17)","v":-818567.03093000036},{"$f":"IF(E16=\"\",\"\",IFERROR((E17/F17-1)*100,\"ND\"))","v":-10.555166952340844},{"$f":"IF(E16=\"\",\"\",IFERROR((E17/VLOOKUP(B17&\"|\"&VLOOKUP(TDPrimas_!$B$4,Cat!R:T,2,0),'TD Operación'!A:D,4,0))*100,\"ND\"))","v":10.488232736812513},{"$f":"IF(E16=\"\",\"\",(VLOOKUP(B17,'TDPrimas Vida'!$B:$N,7,0)))","v":-10.555166952340844}]
[null,"Metlife México",null,{"$f":"IF(D17=\"\",\"\",\"Renovación\")","v":"Renovación"},{"$f":"IF(E16=\"\",\"\",(VLOOKUP(B18,'TDPrimas Vida'!$B:$N,8,0)))","v":25978981.07133},{"$f":"IF(E16=\"\",\"\",(VLOOKUP(B18,'TDPrimas Vida'!$B:$N,9,0)))","v":25949915.172880001},{"$f":"IFERROR((E18/VLOOKUP(\"TOTAL\",$D$12:$L$312,2,0))*100,\"\")","v":8.3303068122302779},{"$f":"IFERROR((E18/VLOOKUP(\"TOTAL\",$D$12:$L$312,3,0))*100,\"\")","v":9.1883611745502183},{"$f":"IF(E16=\"\",\"\",E18-F18)","v":29065.898449998349},{"$f":"IF(E16=\"\",\"\",IFERROR((E18/F18-1)*100,\"ND\"))","v":0.112007681937909},{"$f":"IF(E17=\"\",\"\",IFERROR((E18/VLOOKUP(B18&\"|\"&VLOOKUP(TDPrimas_!$B$4,Cat!R:T,2,0),'TD Operación'!A:D,4,0))*100,\"ND\"))","v":39.280773382131351},{"$f":"IF(E16=\"\",\"\",(VLOOKUP(B18,'TDPrimas Vida'!$B:$N,10,0)))","v":8.3303068122302761}]
[null,"Metlife México",null,{"$f":"IF(D18=\"\",\"\",\"Únicas\")","v":"Únicas"},{"$f":"IF(E17=\"\",\"\",(VLOOKUP(B19,'TDPrimas Vida'!$B:$N,11,0)))","v":6214310.6420499999},{"$f":"IF(E17=\"\",\"\",(VLOOKUP(B19,'TDPrimas Vida'!$B:$N,12,0)))","v":5958409.7096600002},{"$f":"IFERROR((E19/VLOOKUP(\"TOTAL\",$D$12:$L$312,2,0))*100,\"\")","v":1.9926537585384214},{"$f":"IFERROR((E19/VLOOKUP(\"TOTAL\",$D$12:$L$312,3,0))*100,\"\")","v":2.1979049321922939},{"$f":"IF(E16=\"\",\"\",E19-F19)","v":255900.93238999974},{"$f":"IF(E16=\"\",\"\",IFERROR((E19/F19-1)*100,\"ND\"))","v":4.2947857710275095},{"$f":"IF(E18=\"\",\"\",IFERROR((E19/VLOOKUP(B19&\"|\"&VLOOKUP(TDPrimas_!$B$4,Cat!R:T,2,0),'TD Operación'!A:D,4,0))*100,\"ND\"))","v":9.3961702110758072},{"$f":"IF(E16=\"\",\"\",(VLOOKUP(B19,'TDPrimas Vida'!$B:$N,13,0)))","v":1.9926537585384207}]
[null,{"$f":"IF(C20=\"\",B16,D20)","v":"Banamex Seguros"},{"$f":"IF('TDPrimas Vida'!A9=\"\",\"\",'TDPrimas Vida'!A9)","v":3},{"$f":"IF('TDPrimas Vida'!B9=\"\",\"\",'TDPrimas Vida'!B9)","v":"Banamex Seguros"},{"$f":"IF('TDPrimas Vida'!C9=\"\",\"\",'TDPrimas Vida'!C9)","v":38266807.853989996},{"$f":"IF('TDPrimas Vida'!D9=\"\",\"\",'TDPrimas Vida'!D9)","v":44150506.897230007},{"$f":"IF('TDPrimas Vida'!C9=\"\",\"\",IFERROR((E20/VLOOKUP(\"TOTAL\",$D$12:$L$312,2,0))*100,\"\"))","v":12.27046777828382},{"$f":"IF('TDPrimas Vida'!C9=\"\",\"\",IFERROR((E20/VLOOKUP(\"TOTAL\",$D$12:$L$312,3,0))*100,\"\"))","v":13.534374215607922},{"$f":"IF('TDPrimas Vida'!C9=\"\",\"\",E20-F20)","v":-5883699.0432400107},{"$f":"IFERROR(IF('TDPrimas Vida'!C9=\"\",\"\",(E20/F20-1)*100),\"ND\")","v":-13.326458645051598},{"$f":"IF(E19=\"\",\"\",IFERROR((E20/VLOOKUP(B20&\"|\"&VLOOKUP(TDPrimas_!$B$4,Cat!R:T,2,0),'TD Operación'!A:D,4,0))*100,\"ND\"))","v":98.233037825459817},{"$f":"IF('TDPrimas Vida'!E9=\"\",\"\",'TDPrimas Vida'!E9)","v":98.233037825459817}]
[null,{"$f":"IF(C21=\"\",B20,D21)","v":"Banamex Seguros"},null,{"$f":"IF(D20=\"\",\"\",\"1er Año\")","v":"1er Año"},{"$f":"IF(E20=\"\",\"\",(VLOOKUP(B21,'TDPrimas Vida'!$B:$N,5,0)))","v":26663118.362430003},{"$f":"IF(E20=\"\",\"\",(VLOOKUP(B21,'TDPrimas Vida'!$B:$N,6,0)))","v":30980312.03607},{"$f":"IFERROR((E21/VLOOKUP(\"TOTAL\",$D$12:$L$312,2,0))*100,\"\")","v":8.5496792934258767},{"$f":"IFERROR((E21/VLOOKUP(\"TOTAL\",$D$12:$L$312,3,0))*100,\"\")","v":9.4303298840367678},{"$f":"IF(E20=\"\",\"\",E21-F21)","v":-4317193.6736399978},{"$f":"IF(E20=\"\",\"\",IFERROR((E21/F21-1)*100,\"ND\"))","v":-13.935281441366831},{"$f":"IF(E20=\"\",\"\",IFERROR((E21/VLOOKUP(B21&\"|\"&VLOOKUP(TDPrimas_!$B$4,Cat!R:T,2,0),'TD Operación'!A:D,4,0))*100,\"ND\"))","v":68.445717359939152},{"$f":"IF(E20=\"\",\"\",(VLOOKUP(B21,'TDPrimas Vida'!$B:$N,7,0)))","v":-13.935281441366831}]
[null,{"$f":"IF(C22=\"\",B21,D22)","v":"Banamex Seguros"},null,{"$f":"IF(D21=\"\",\"\",\"Renovación\")","v":"Renovación"},{"$f":"IF(E20=\"\",\"\",(VLOOKUP(B22,'TDPrimas Vida'!$B:$N,8,0)))","v":11603689.491559999},{"$f":"IF(E20=\"\",\"\",(VLOOKUP(B22,'TDPrimas Vida'!$B:$N,9,0)))","v":13170194.861159999},{"$f":"IFERROR((E22/VLOOKUP(\"TOTAL\",$D$12:$L$312,2,0))*100,\"\")","v":3.7207884848579438},{"$f":"IFERROR((E22/VLOOKUP(\"TOTAL\",$D$12:$L$312,3,0))*100,\"\")","v":4.1040443315711563},{"$f":"IF(E20=\"\",\"\",E22-F22)","v":-1566505.3695999999},{"$f":"IF(E20=\"\",\"\",IFERROR((E22/F22-1)*100,\"ND\"))","v":-11.894321884482927},{"$f":"IF(E21=\"\",\"\",IFERROR((E22/VLOOKUP(B22&\"|\"&VLOOKUP(TDPrimas_!$B$4,Cat!R:T,2,0),'TD Operación'!A:D,4,0))*100,\"ND\"))","v":29.78732046552069},{"$f":"IF(E20=\"\",\"\",(VLOOKUP(B22,'TDPrimas Vida'!$B:$N,10,0)))","v":3.7207884848579424}]
[null,{"$f":"IF(C23=\"\",B22,D23)","v":"Banamex Seguros"},null,{"$f":"IF(D22=\"\",\"\",\"Únicas\")","v":"Únicas"},{"$f":"IF(E21=\"\",\"\",(VLOOKUP(B23,'TDPrimas Vida'!$B:$N,11,0)))","v":0},{"$f":"IF(E21=\"\",\"\",(VLOOKUP(B23,'TDPrimas Vida'!$B:$N,12,0)))","v":0},{"$f":"IFERROR((E23/VLOOKUP(\"TOTAL\",$D$12:$L$312,2,0))*100,\"\")","v":0},{"$f":"IFERROR((E23/VLOOKUP(\"TOTAL\",$D$12:$L$312,3,0))*100,\"\")","v":0},{"$f":"IF(E20=\"\",\"\",E23-F23)","v":0},{"$f":"IF(E20=\"\",\"\",IFERROR((E23/F23-1)*100,\"ND\"))","v":"ND"},{"$f":"IF(E22=\"\",\"\",IFERROR((E23/VLOOKUP(B23&\"|\"&VLOOKUP(TDPrimas_!$B$4,Cat!R:T,2,0),'TD Operación'!A:D,4,0))*100,\"ND\"))","v":0},{"$f":"IF(E20=\"\",\"\",(VLOOKUP(B23,'TDPrimas Vida'!$B:$N,13,0)))","v":0}]
[null,{"$f":"IF(C24=\"\",B20,D24)","v":"G.N.P."},{"$f":"IF('TDPrimas Vida'!A10=\"\",\"\",'TDPrimas Vida'!A10)","v":4},{"$f":"IF('TDPrimas Vida'!B10=\"\",\"\",'TDPrimas Vida'!B10)","v":"G.N.P."},{"$f":"IF('TDPrimas Vida'!C10=\"\",\"\",'TDPrimas Vida'!C10)","v":30445615.764770001},{"$f":"IF('TDPrimas Vida'!D10=\"\",\"\",'TDPrimas Vida'!D10)","v":27770715.722789999},{"$f":"IF('TDPrimas Vida'!C10=\"\",\"\",IFERROR((E24/VLOOKUP(\"TOTAL\",$D$12:$L$312,2,0))*100,\"\"))","v":9.7625584202646678},{"$f":"IF('TDPrimas Vida'!C10=\"\",\"\",IFERROR((E24/VLOOKUP(\"TOTAL\",$D$12:$L$312,3,0))*100,\"\"))","v":10.768140330838813},{"$f":"IF('TDPrimas Vida'!C10=\"\",\"\",E24-F24)","v":2674900.0419800021},{"$f":"IFERROR(IF('TDPrimas Vida'!C10=\"\",\"\",(E24/F24-1)*100),\"ND\")","v":9.6320889554346145},{"$f":"IF(E23=\"\",\"\",IFERROR((E24/VLOOKUP(B24&\"|\"&VLOOKUP(TDPrimas_!$B$4,Cat!R:T,2,0),'TD Operación'!A:D,4,0))*100,\"ND\"))","v":31.980661690879135},{"$f":"IF('TDPrimas Vida'!E10=\"\",\"\",'TDPrimas Vida'!E10)","v":31.980661690879135}]
[null,{"$f":"IF(C25=\"\",B24,D25)","v":"G.N.P."},null,{"$f":"IF(D24=\"\",\"\",\"1er Año\")","v":"1er Año"},{"$f":"IF(E24=\"\",\"\",(VLOOKUP(B25,'TDPrimas Vida'!$B:$N,5,0)))","v":8097578.1045200005},{"$f":"IF(E24=\"\",\"\",(VLOOKUP(B25,'TDPrimas Vida'!$B:$N,6,0)))","v":8012105.8361599995},{"$f":"IFERROR((E25/VLOOKUP(\"TOTAL\",$D$12:$L$312,2,0))*100,\"\")","v":2.5965340927513259},{"$f":"IFERROR((E25/VLOOKUP(\"TOTAL\",$D$12:$L$312,3,0))*100,\"\")","v":2.8639873157138571},{"$f":"IF(E24=\"\",\"\",E25-F25)","v":85472.268360001035},{"$f":"IF(E24=\"\",\"\",IFERROR((E25/F25-1)*100,\"ND\"))","v":1.0667890578061279},{"$f":"IF(E24=\"\",\"\",IFERROR((E25/VLOOKUP(B25&\"|\"&VLOOKUP(TDPrimas_!$B$4,Cat!R:T,2,0),'TD Operación'!A:D,4,0))*100,\"ND\"))","v":8.5058521357214794},{"$f":"IF(E24=\"\",\"\",(VLOOKUP(B25,'TDPrimas Vida'!$B:$N,7,0)))","v":1.0667890578061279}]
[null,{"$f":"IF(C26=\"\",B25,D26)","v":"G.N.P."},null,{"$f":"IF(D25=\"\",\"\",\"Renovación\")","v":"Renovación"},{"$f":"IF(E24=\"\",\"\",(VLOOKUP(B26,'TDPrimas Vida'!$B:$N,8,0)))","v":15492083.702019999},{"$f":"IF(E24=\"\",\"\",(VLOOKUP(B26,'TDPrimas Vida'!$B:$N,9,0)))","v":14075475.55658},{"$f":"IFERROR((E26/VLOOKUP(\"TOTAL\",$D$12:$L$312,2,0))*100,\"\")","v":4.9676240205202147},{"$f":"IFERROR((E26/VLOOKUP(\"TOTAL\",$D$12:$L$312,3,0))*100,\"\")","v":5.4793088308461231},{"$f":"IF(E24=\"\",\"\",E26-F26)","v":1416608.1454399992},{"$f":"IF(E24=\"\",\"\",IFERROR((E26/F26-1)*100,\"ND\"))","v":10.064371464719457},{"$f":"IF(E25=\"\",\"\",IFERROR((E26/VLOOKUP(B26&\"|\"&VLOOKUP(TDPrimas_!$B$4,Cat!R:T,2,0),'TD Operación'!A:D,4,0))*100,\"ND\"))","v":16.273183357138343},{"$f":"IF(E24=\"\",\"\",(VLOOKUP(B26,'TDPrimas Vida'!$B:$N,10,0)))","v":4.967624020520212}]
[null,{"$f":"IF(C27=\"\",B26,D27)","v":"G.N.P."},null,{"$f":"IF(D26=\"\",\"\",\"Únicas\")","v":"Únicas"},{"$f":"IF(E25=\"\",\"\",(VLOOKUP(B27,'TDPrimas Vida'!$B:$N,11,0)))","v":6855953.95823},{"$f":"IF(E25=\"\",\"\",(VLOOKUP(B27,'TDPrimas Vida'!$B:$N,12,0)))","v":5683134.33005},{"$f":"IFERROR((E27/VLOOKUP(\"TOTAL\",$D$12:$L$312,2,0))*100,\"\")","v":2.1984003069931273},{"$f":"IFERROR((E27/VLOOKUP(\"TOTAL\",$D$12:$L$312,3,0))*100,\"\")","v":2.424844184278832},{"$f":"IF(E24=\"\",\"\",E27-F27)","v":1172819.62818},{"$f":"IF(E24=\"\",\"\",IFERROR((E27/F27-1)*100,\"ND\"))","v":20.63684509406416},{"$f":"IF(E26=\"\",\"\",IFERROR((E27/VLOOKUP(B27&\"|\"&VLOOKUP(TDPrimas_!$B$4,Cat!R:T,2,0),'TD Operación'!A:D,4,0))*100,\"ND\"))","v":7.2016261980193095},{"$f":"IF(E24=\"\",\"\",(VLOOKUP(B27,'TDPrimas Vida'!$B:$N,13,0)))","v":2.1984003069931264}]
[null,{"$f":"IF(C28=\"\",B24,D28)","v":"Banorte"},{"$f":"IF('TDPrimas Vida'!A11=\"\",\"\",'TDPrimas Vida'!A11)","v":5},{"$f":"IF('TDPrimas Vida'!B11=\"\",\"\",'TDPrimas Vida'!B11)","v":"Banorte"},{"$f":"IF('TDPrimas Vida'!C11=\"\",\"\",'TDPrimas Vida'!C11)","v":29563865.442110002},{"$f":"IF('TDPrimas Vida'!D11=\"\",\"\",'TDPrimas Vida'!D11)","v":22830842.832959998},{"$f":"IF('TDPrimas Vida'!C11=\"\",\"\",IFERROR((E28/VLOOKUP(\"TOTAL\",$D$12:$L$312,2,0))*100,\"\"))","v":9.4798202058838523},{"$f":"IF('TDPrimas Vida'!C11=\"\",\"\",IFERROR((E28/VLOOKUP(\"TOTAL\",$D$12:$L$312,3,0))*100,\"\"))","v":10.456278968450073},{"$f":"IF('TDPrimas Vida'!C11=\"\",\"\",E28-F28)","v":6733022.6091500036},{"$f":"IFERROR(IF('TDPrimas Vida'!C11=\"\",\"\",(E28/F28-1)*100),\"ND\")","v":29.490906921008641},{"$f":"IF(E27=\"\",\"\",IFERROR((E28/VLOOKUP(B28&\"|\"&VLOOKUP(TDPrimas_!$B$4,Cat!R:T,2,0),'TD Operación'!A:D,4,0))*100,\"ND\"))","v":65.466120554127926},{"$f":"IF('TDPrimas Vida'!E11=\"\",\"\",'TDPrimas Vida'!E11)","v":65.466120554127926}]
[null,{"$f":"IF(C29=\"\",B28,D29)","v":"Banorte"},null,{"$f":"IF(D28=\"\",\"\",\"1er Año\")","v":"1er Año"},{"$f":"IF(E28=\"\",\"\",(VLOOKUP(B29,'TDPrimas Vida'!$B:$N,5,0)))","v":5852113.5924800001},{"$f":"IF(E28=\"\",\"\",(VLOOKUP(B29,'TDPrimas Vida'!$B:$N,6,0)))","v":3558903.3608400002},{"$f":"IFERROR((E29/VLOOKUP(\"TOTAL\",$D$12:$L$312,2,0))*100,\"\")","v":1.8765132316594662},{"$f":"IFERROR((E29/VLOOKUP(\"TOTAL\",$D$12:$L$312,3,0))*100,\"\")","v":2.069801474298083},{"$f":"IF(E28=\"\",\"\",E29-F29)","v":2293210.2316399999},{"$f":"IF(E28=\"\",\"\",IFERROR((E29/F29-1)*100,\"ND\"))","v":64.435866870482769},{"$f":"IF(E28=\"\",\"\",IFERROR((E29/VLOOKUP(B29&\"|\"&VLOOKUP(TDPrimas_!$B$4,Cat!R:T,2,0),'TD Operación'!A:D,4,0))*100,\"ND\"))","v":12.958899934514214},{"$f":"IF(E28=\"\",\"\",(VLOOKUP(B29,'TDPrimas Vida'!$B:$N,7,0)))","v":64.435866870482769}]
[null,{"$f":"IF(C30=\"\",B29,D30)","v":"Banorte"},null,{"$f":"IF(D29=\"\",\"\",\"Renovación\")","v":"Renovación"},{"$f":"IF(E28=\"\",\"\",(VLOOKUP(B30,'TDPrimas Vida'!$B:$N,8,0)))","v":8832334.8783200011},{"$f":"IF(E28=\"\",\"\",(VLOOKUP(B30,'TDPrimas Vida'!$B:$N,9,0)))","v":10482700.723599998},{"$f":"IFERROR((E30/VLOOKUP(\"TOTAL\",$D$12:$L$312,2,0))*100,\"\")","v":2.8321379965885418},{"$f":"IFERROR((E30/VLOOKUP(\"TOTAL\",$D$12:$L$312,3,0))*100,\"\")","v":3.1238593482075498},{"$f":"IF(E28=\"\",\"\",E30-F30)","v":-1650365.8452799972},{"$f":"IF(E28=\"\",\"\",IFERROR((E30/F30-1)*100,\"ND\"))","v":-15.74370850409268},{"$f":"IF(E29=\"\",\"\",IFERROR((E30/VLOOKUP(B30&\"|\"&VLOOKUP(TDPrimas_!$B$4,Cat!R:T,2,0),'TD Operación'!A:D,4,0))*100,\"ND\"))","v":19.55829155868523},{"$f":"IF(E28=\"\",\"\",(VLOOKUP(B30,'TDPrimas Vida'!$B:$N,10,0)))","v":2.8321379965885409}]
[null,{"$f":"IF(C31=\"\",B30,D31)","v":"Banorte"},null,{"$f":"IF(D30=\"\",\"\",\"Únicas\")","v":"Únicas"},{"$f":"IF(E29=\"\",\"\",(VLOOKUP(B31,'TDPrimas Vida'!$B:$N,11,0)))","v":14879416.971309999},{"$f":"IF(E29=\"\",\"\",(VLOOKUP(B31,'TDPrimas Vida'!$B:$N,12,0)))","v":8789238.7485199999},{"$f":"IFERROR((E31/VLOOKUP(\"TOTAL\",$D$12:$L$312,2,0))*100,\"\")","v":4.7711689776358446},{"$f":"IFERROR((E31/VLOOKUP(\"TOTAL\",$D$12:$L$312,3,0))*100,\"\")","v":5.2626181459444403},{"$f":"IF(E28=\"\",\"\",E31-F31)","v":6090178.2227899991},{"$f":"IF(E28=\"\",\"\",IFERROR((E31/F31-1)*100,\"ND\"))","v":69.291304935999264},{"$f":"IF(E30=\"\",\"\",IFERROR((E31/VLOOKUP(B31&\"|\"&VLOOKUP(TDPrimas_!$B$4,Cat!R:T,2,0),'TD Operación'!A:D,4,0))*100,\"ND\"))","v":32.948929060928478},{"$f":"IF(E28=\"\",\"\",(VLOOKUP(B31,'TDPrimas Vida'!$B:$N,13,0)))","v":4.7711689776358419}]
[null,{"$f":"IF(C32=\"\",B28,D32)","v":"TOTAL GRANDES"},{"$f":"IF('TDPrimas Vida'!A12=\"\",\"\",'TDPrimas Vida'!A12)","v":5.0999999999999996},{"$f":"IF('TDPrimas Vida'!B12=\"\",\"\",'TDPrimas Vida'!B12)","v":"TOTAL GRANDES"},{"$f":"IF('TDPrimas Vida'!C12=\"\",\"\",'TDPrimas Vida'!C12)","v":193634799.07780001},{"$f":"IF('TDPrimas Vida'!D12=\"\",\"\",'TDPrimas Vida'!D12)","v":181682532.68873},{"$f":"IF('TDPrimas Vida'!C12=\"\",\"\",IFERROR((E32/VLOOKUP(\"TOTAL\",$D$12:$L$312,2,0))*100,\"\"))","v":62.090090500999736},{"$f":"IF('TDPrimas Vida'!C12=\"\",\"\",IFERROR((E32/VLOOKUP(\"TOTAL\",$D$12:$L$312,3,0))*100,\"\"))","v":68.485614004768351},{"$f":"IF('TDPrimas Vida'!C12=\"\",\"\",E32-F32)","v":11952266.389070004},{"$f":"IFERROR(IF('TDPrimas Vida'!C12=\"\",\"\",(E32/F32-1)*100),\"ND\")","v":6.5786546522594858},{"$f":"IF(E31=\"\",\"\",IFERROR((E32/VLOOKUP(B32&\"|\"&VLOOKUP(TDPrimas_!$B$4,Cat!R:T,2,0),'TD Operación'!A:D,4,0))*100,\"ND\"))","v":57.856084787622507},{"$f":"IF('TDPrimas Vida'!E12=\"\",\"\",'TDPrimas Vida'!E12)","v":60.921180579040147}]
[null,{"$f":"IF(C33=\"\",B32,D33)","v":"TOTAL GRANDES"},null,{"$f":"IF(D32=\"\",\"\",\"1er Año\")","v":"1er Año"},{"$f":"IF(E32=\"\",\"\",(VLOOKUP(B33,'TDPrimas Vida'!$B:$N,5,0)))","v":97223829.124579996},{"$f":"IF(E32=\"\",\"\",(VLOOKUP(B33,'TDPrimas Vida'!$B:$N,6,0)))","v":91455091.53106001},{"$f":"IFERROR((E33/VLOOKUP(\"TOTAL\",$D$12:$L$312,2,0))*100,\"\")","v":31.175369189571455},{"$f":"IFERROR((E33/VLOOKUP(\"TOTAL\",$D$12:$L$312,3,0))*100,\"\")","v":34.38655481970607},{"$f":"IF(E32=\"\",\"\",E33-F33)","v":5768737.5935199857},{"$f":"IF(E32=\"\",\"\",IFERROR((E33/F33-1)*100,\"ND\"))","v":6.3077271007495606},{"$f":"IF(E32=\"\",\"\",IFERROR((E33/VLOOKUP(B33&\"|\"&VLOOKUP(TDPrimas_!$B$4,Cat!R:T,2,0),'TD Operación'!A:D,4,0))*100,\"ND\"))","v":29.049479370435748},{"$f":"IF(E32=\"\",\"\",(VLOOKUP(B33,'TDPrimas Vida'!$B:$N,7,0)))","v":6.3077271007495606}]
[null,{"$f":"IF(C34=\"\",B33,D34)","v":"TOTAL GRANDES"},null,{"$f":"IF(D33=\"\",\"\",\"Renovación\")","v":"Renovación"},{"$f":"IF(E32=\"\",\"\",(VLOOKUP(B34,'TDPrimas Vida'!$B:$N,8,0)))","v":66426914.05263},{"$f":"IF(E32=\"\",\"\",(VLOOKUP(B34,'TDPrimas Vida'!$B:$N,9,0)))","v":67765002.685859993},{"$f":"IFERROR((E34/VLOOKUP(\"TOTAL\",$D$12:$L$312,2,0))*100,\"\")","v":21.300164664992757},{"$f":"IFERROR((E34/VLOOKUP(\"TOTAL\",$D$12:$L$312,3,0))*100,\"\")","v":23.494165392804703},{"$f":"IF(E32=\"\",\"\",E34-F34)","v":-1338088.6332299933},{"$f":"IF(E32=\"\",\"\",IFERROR((E34/F34-1)*100,\"ND\"))","v":-1.9746013136500595},{"$f":"IF(E33=\"\",\"\",IFERROR((E34/VLOOKUP(B34&\"|\"&VLOOKUP(TDPrimas_!$B$4,Cat!R:T,2,0),'TD Operación'!A:D,4,0))*100,\"ND\"))","v":19.847678154508401},{"$f":"IF(E32=\"\",\"\",(VLOOKUP(B34,'TDPrimas Vida'!$B:$N,10,0)))","v":21.300164664992749}]
[null,{"$f":"IF(C35=\"\",B34,D35)","v":"TOTAL GRANDES"},null,{"$f":"IF(D34=\"\",\"\",\"Únicas\")","v":"Únicas"},{"$f":"IF(E33=\"\",\"\",(VLOOKUP(B35,'TDPrimas Vida'!$B:$N,11,0)))","v":29984055.900589999},{"$f":"IF(E33=\"\",\"\",(VLOOKUP(B35,'TDPrimas Vida'!$B:$N,12,0)))","v":22462438.471810002},{"$f":"IFERROR((E35/VLOOKUP(\"TOTAL\",$D$12:$L$312,2,0))*100,\"\")","v":9.6145566464355188},{"$f":"IFERROR((E35/VLOOKUP(\"TOTAL\",$D$12:$L$312,3,0))*100,\"\")","v":10.604893792257572},{"$f":"IF(E32=\"\",\"\",E35-F35)","v":7521617.4287799969},{"$f":"IF(E32=\"\",\"\",IFERROR((E35/F35-1)*100,\"ND\"))","v":33.485311215073587},{"$f":"IF(E34=\"\",\"\",IFERROR((E35/VLOOKUP(B35&\"|\"&VLOOKUP(TDPrimas_!$B$4,Cat!R:T,2,0),'TD Operación'!A:D,4,0))*100,\"ND\"))","v":8.9589272626783547},{"$f":"IF(E32=\"\",\"\",(VLOOKUP(B35,'TDPrimas Vida'!$B:$N,13,0)))","v":9.6145566464355134}]
[null,{"$f":"IF(C36=\"\",B32,D36)","v":"Monterrey New York Life"},{"$f":"IF('TDPrimas Vida'!A13=\"\",\"\",'TDPrimas Vida'!A13)","v":6},{"$f":"IF('TDPrimas Vida'!B13=\"\",\"\",'TDPrimas Vida'!B13)","v":"Monterrey New York Life"},{"$f":"IF('TDPrimas Vida'!C13=\"\",\"\",'TDPrimas Vida'!C13)","v":21337894.788349997},{"$f":"IF('TDPrimas Vida'!D13=\"\",\"\",'TDPrimas Vida'!D13)","v":19843719.738729998},{"$f":"IF('TDPrimas Vida'!C13=\"\",\"\",IFERROR((E36/VLOOKUP(\"TOTAL\",$D$12:$L$312,2,0))*100,\"\"))","v":6.8421163180340594},{"$f":"IF('TDPrimas Vida'!C13=\"\",\"\",IFERROR((E36/VLOOKUP(\"TOTAL\",$D$12:$L$312,3,0))*100,\"\"))","v":7.5468812068338442},{"$f":"IF('TDPrimas Vida'!C13=\"\",\"\",E36-F36)","v":1494175.0496199988},{"$f":"IFERROR(IF('TDPrimas Vida'!C13=\"\",\"\",(E36/F36-1)*100),\"ND\")","v":7.529712520096421},{"$f":"IF(E35=\"\",\"\",IFERROR((E36/VLOOKUP(B36&\"|\"&VLOOKUP(TDPrimas_!$B$4,Cat!R:T,2,0),'TD Operación'!A:D,4,0))*100,\"ND\"))","v":64.134937045942891},{"$f":"IF('TDPrimas Vida'!E13=\"\",\"\",'TDPrimas Vida'!E13)","v":64.134937045942891}]
[null,{"$f":"IF(C37=\"\",B36,D37)","v":"Monterrey New York Life"},null,{"$f":"IF(D36=\"\",\"\",\"1er Año\")","v":"1er Año"},{"$f":"IF(E36=\"\",\"\",(VLOOKUP(B37,'TDPrimas Vida'!$B:$N,5,0)))","v":2121513.1645900002},{"$f":"IF(E36=\"\",\"\",(VLOOKUP(B37,'TDPrimas Vida'!$B:$N,6,0)))","v":2132155.53192},{"$f":"IFERROR((E37/VLOOKUP(\"TOTAL\",$D$12:$L$312,2,0))*100,\"\")","v":0.68027516239748853},{"$f":"IFERROR((E37/VLOOKUP(\"TOTAL\",$D$12:$L$312,3,0))*100,\"\")","v":0.75034617944767457},{"$f":"IF(E36=\"\",\"\",E37-F37)","v":-10642.367329999804},{"$f":"IF(E36=\"\",\"\",IFERROR((E37/F37-1)*100,\"ND\"))","v":-0.4991365390880409},{"$f":"IF(E36=\"\",\"\",IFERROR((E37/VLOOKUP(B37&\"|\"&VLOOKUP(TDPrimas_!$B$4,Cat!R:T,2,0),'TD Operación'!A:D,4,0))*100,\"ND\"))","v":6.3765950016496511},{"$f":"IF(E36=\"\",\"\",(VLOOKUP(B37,'TDPrimas Vida'!$B:$N,7,0)))","v":-0.4991365390880409}]
[null,{"$f":"IF(C38=\"\",B37,D38)","v":"Monterrey New York Life"},null,{"$f":"IF(D37=\"\",\"\",\"Renovación\")","v":"Renovación"},{"$f":"IF(E36=\"\",\"\",(VLOOKUP(B38,'TDPrimas Vida'!$B:$N,8,0)))","v":14189062.940790001},{"$f":"IF(E36=\"\",\"\",(VLOOKUP(B38,'TDPrimas Vida'!$B:$N,9,0)))","v":12812119.174970001},{"$f":"IFERROR((E38/VLOOKUP(\"TOTAL\",$D$12:$L$312,2,0))*100,\"\")","v":4.5498030638803613},{"$f":"IFERROR((E38/VLOOKUP(\"TOTAL\",$D$12:$L$312,3,0))*100,\"\")","v":5.0184506725047484},{"$f":"IF(E36=\"\",\"\",E38-F38)","v":1376943.7658200003},{"$f":"IF(E36=\"\",\"\",IFERROR((E38/F38-1)*100,\"ND\"))","v":10.747197610447024},{"$f":"IF(E37=\"\",\"\",IFERROR((E38/VLOOKUP(B38&\"|\"&VLOOKUP(TDPrimas_!$B$4,Cat!R:T,2,0),'TD Operación'!A:D,4,0))*100,\"ND\"))","v":42.647818234877377},{"$f":"IF(E36=\"\",\"\",(VLOOKUP(B38,'TDPrimas Vida'!$B:$N,10,0)))","v":4.5498030638803595}]
[null,{"$f":"IF(C39=\"\",B38,D39)","v":"Monterrey New York Life"},null,{"$f":"IF(D38=\"\",\"\",\"Únicas\")","v":"Únicas"},{"$f":"IF(E37=\"\",\"\",(VLOOKUP(B39,'TDPrimas Vida'!$B:$N,11,0)))","v":5027318.6829699995},{"$f":"IF(E37=\"\",\"\",(VLOOKUP(B39,'TDPrimas Vida'!$B:$N,12,0)))","v":4899445.0318400003},{"$f":"IFERROR((E39/VLOOKUP(\"TOTAL\",$D$12:$L$312,2,0))*100,\"\")","v":1.6120380917562109},{"$f":"IFERROR((E39/VLOOKUP(\"TOTAL\",$D$12:$L$312,3,0))*100,\"\")","v":1.778084354881422},{"$f":"IF(E36=\"\",\"\",E39-F39)","v":127873.6511299992},{"$f":"IF(E36=\"\",\"\",IFERROR((E39/F39-1)*100,\"ND\"))","v":2.609961950771722},{"$f":"IF(E38=\"\",\"\",IFERROR((E39/VLOOKUP(B39&\"|\"&VLOOKUP(TDPrimas_!$B$4,Cat!R:T,2,0),'TD Operación'!A:D,4,0))*100,\"ND\"))","v":15.110523809415868},{"$f":"IF(E36=\"\",\"\",(VLOOKUP(B39,'TDPrimas Vida'!$B:$N,13,0)))","v":1.6120380917562107}]
[null,{"$f":"IF(C40=\"\",B36,D40)","v":"Zurich Santander"},{"$f":"IF('TDPrimas Vida'!A14=\"\",\"\",'TDPrimas Vida'!A14)","v":7},{"$f":"IF('TDPrimas Vida'!B14=\"\",\"\",'TDPrimas Vida'!B14)","v":"Zurich Santander"},{"$f":"IF('TDPrimas Vida'!C14=\"\",\"\",'TDPrimas Vida'!C14)","v":15562563.94307},{"$f":"IF('TDPrimas Vida'!D14=\"\",\"\",'TDPrimas Vida'!D14)","v":12172910.205260001},{"$f":"IF('TDPrimas Vida'!C14=\"\",\"\",IFERROR((E40/VLOOKUP(\"TOTAL\",$D$12:$L$312,2,0))*100,\"\"))","v":4.9902239073492787},{"$f":"IF('TDPrimas Vida'!C14=\"\",\"\",IFERROR((E40/VLOOKUP(\"TOTAL\",$D$12:$L$312,3,0))*100,\"\"))","v":5.5042365948973258},{"$f":"IF('TDPrimas Vida'!C14=\"\",\"\",E40-F40)","v":3389653.7378099989},{"$f":"IFERROR(IF('TDPrimas Vida'!C14=\"\",\"\",(E40/F40-1)*100),\"ND\")","v":27.845878106825307},{"$f":"IF(E39=\"\",\"\",IFERROR((E40/VLOOKUP(B40&\"|\"&VLOOKUP(TDPrimas_!$B$4,Cat!R:T,2,0),'TD Operación'!A:D,4,0))*100,\"ND\"))","v":78.457188977840659},{"$f":"IF('TDPrimas Vida'!E14=\"\",\"\",'TDPrimas Vida'!E14)","v":78.457188977840659}]
[null,{"$f":"IF(C41=\"\",B40,D41)","v":"Zurich Santander"},null,{"$f":"IF(D40=\"\",\"\",\"1er Año\")","v":"1er Año"},{"$f":"IF(E40=\"\",\"\",(VLOOKUP(B41,'TDPrimas Vida'!$B:$N,5,0)))","v":8433793.9906699993},{"$f":"IF(E40=\"\",\"\",(VLOOKUP(B41,'TDPrimas Vida'!$B:$N,6,0)))","v":6561559.3952699993},{"$f":"IFERROR((E41/VLOOKUP(\"TOTAL\",$D$12:$L$312,2,0))*100,\"\")","v":2.7043436130356402},{"$f":"IFERROR((E41/VLOOKUP(\"TOTAL\",$D$12:$L$312,3,0))*100,\"\")","v":2.9829016405707667},{"$f":"IF(E40=\"\",\"\",E41-F41)","v":1872234.5954},{"$f":"IF(E40=\"\",\"\",IFERROR((E41/F41-1)*100,\"ND\"))","v":28.533378768919306},{"$f":"IF(E40=\"\",\"\",IFERROR((E41/VLOOKUP(B41&\"|\"&VLOOKUP(TDPrimas_!$B$4,Cat!R:T,2,0),'TD Operación'!A:D,4,0))*100,\"ND\"))","v":42.518171899356219},{"$f":"IF(E40=\"\",\"\",(VLOOKUP(B41,'TDPrimas Vida'!$B:$N,7,0)))","v":28.533378768919306}]
[null,{"$f":"IF(C42=\"\",B41,D42)","v":"Zurich Santander"},null,{"$f":"IF(D41=\"\",\"\",\"Renovación\")","v":"Renovación"},{"$f":"IF(E40=\"\",\"\",(VLOOKUP(B42,'TDPrimas Vida'!$B:$N,8,0)))","v":2672325.2790599996},{"$f":"IF(E40=\"\",\"\",(VLOOKUP(B42,'TDPrimas Vida'!$B:$N,9,0)))","v":1042592.65899},{"$f":"IFERROR((E42/VLOOKUP(\"TOTAL\",$D$12:$L$312,2,0))*100,\"\")","v":0.85689617370004967},{"$f":"IFERROR((E42/VLOOKUP(\"TOTAL\",$D$12:$L$312,3,0))*100,\"\")","v":0.94515984951317844},{"$f":"IF(E40=\"\",\"\",E42-F42)","v":1629732.6200699997},{"$f":"IF(E40=\"\",\"\",IFERROR((E42/F42-1)*100,\"ND\"))","v":156.31537456332993},{"$f":"IF(E41=\"\",\"\",IFERROR((E42/VLOOKUP(B42&\"|\"&VLOOKUP(TDPrimas_!$B$4,Cat!R:T,2,0),'TD Operación'!A:D,4,0))*100,\"ND\"))","v":13.472274247125842},{"$f":"IF(E40=\"\",\"\",(VLOOKUP(B42,'TDPrimas Vida'!$B:$N,10,0)))","v":0.85689617370004934}]
[null,{"$f":"IF(C43=\"\",B42,D43)","v":"Zurich Santander"},null,{"$f":"IF(D42=\"\",\"\",\"Únicas\")","v":"Únicas"},{"$f":"IF(E41=\"\",\"\",(VLOOKUP(B43,'TDPrimas Vida'!$B:$N,11,0)))","v":4456444.6733400002},{"$f":"IF(E41=\"\",\"\",(VLOOKUP(B43,'TDPrimas Vida'!$B:$N,12,0)))","v":4568758.1509999996},{"$f":"IFERROR((E43/VLOOKUP(\"TOTAL\",$D$12:$L$312,2,0))*100,\"\")","v":1.4289841206135878},{"$f":"IFERROR((E43/VLOOKUP(\"TOTAL\",$D$12:$L$312,3,0))*100,\"\")","v":1.5761751048133803},{"$f":"IF(E40=\"\",\"\",E43-F43)","v":-112313.47765999939},{"$f":"IF(E40=\"\",\"\",IFERROR((E43/F43-1)*100,\"ND\"))","v":-2.4582933468565549},{"$f":"IF(E42=\"\",\"\",IFERROR((E43/VLOOKUP(B43&\"|\"&VLOOKUP(TDPrimas_!$B$4,Cat!R:T,2,0),'TD Operación'!A:D,4,0))*100,\"ND\"))","v":22.466742831358605},{"$f":"IF(E40=\"\",\"\",(VLOOKUP(B43,'TDPrimas Vida'!$B:$N,13,0)))","v":1.4289841206135874}]
[null,{"$f":"IF(C44=\"\",B40,D44)","v":"Allianz México"},{"$f":"IF('TDPrimas Vida'!A15=\"\",\"\",'TDPrimas Vida'!A15)","v":8},{"$f":"IF('TDPrimas Vida'!B15=\"\",\"\",'TDPrimas Vida'!B15)","v":"Allianz México"},{"$f":"IF('TDPrimas Vida'!C15=\"\",\"\",'TDPrimas Vida'!C15)","v":15054124.876110001},{"$f":"IF('TDPrimas Vida'!D15=\"\",\"\",'TDPrimas Vida'!D15)","v":11330570.538530001},{"$f":"IF('TDPrimas Vida'!C15=\"\",\"\",IFERROR((E44/VLOOKUP(\"TOTAL\",$D$12:$L$312,2,0))*100,\"\"))","v":4.8271900527315132},{"$f":"IF('TDPrimas Vida'!C15=\"\",\"\",IFERROR((E44/VLOOKUP(\"TOTAL\",$D$12:$L$312,3,0))*100,\"\"))","v":5.3244096120894655},{"$f":"IF('TDPrimas Vida'!C15=\"\",\"\",E44-F44)","v":3723554.3375799991},{"$f":"IFERROR(IF('TDPrimas Vida'!C15=\"\",\"\",(E44/F44-1)*100),\"ND\")","v":32.862902401233221},{"$f":"IF(E43=\"\",\"\",IFERROR((E44/VLOOKUP(B44&\"|\"&VLOOKUP(TDPrimas_!$B$4,Cat!R:T,2,0),'TD Operación'!A:D,4,0))*100,\"ND\"))","v":64.788526099965509},{"$f":"IF('TDPrimas Vida'!E15=\"\",\"\",'TDPrimas Vida'!E15)","v":64.788526099965509}]
[null,{"$f":"IF(C45=\"\",B44,D45)","v":"Allianz México"},null,{"$f":"IF(D44=\"\",\"\",\"1er Año\")","v":"1er Año"},{"$f":"IF(E44=\"\",\"\",(VLOOKUP(B45,'TDPrimas Vida'!$B:$N,5,0)))","v":7359559.367229999},{"$f":"IF(E44=\"\",\"\",(VLOOKUP(B45,'TDPrimas Vida'!$B:$N,6,0)))","v":4823953.1660999991},{"$f":"IFERROR((E45/VLOOKUP(\"TOTAL\",$D$12:$L$312,2,0))*100,\"\")","v":2.3598842219222793},{"$f":"IFERROR((E45/VLOOKUP(\"TOTAL\",$D$12:$L$312,3,0))*100,\"\")","v":2.602961577514693},{"$f":"IF(E44=\"\",\"\",E45-F45)","v":2535606.2011299999},{"$f":"IF(E44=\"\",\"\",IFERROR((E45/F45-1)*100,\"ND\"))","v":52.562827909458143},{"$f":"IF(E44=\"\",\"\",IFERROR((E45/VLOOKUP(B45&\"|\"&VLOOKUP(TDPrimas_!$B$4,Cat!R:T,2,0),'TD Operación'!A:D,4,0))*100,\"ND\"))","v":31.673379095234122},{"$f":"IF(E44=\"\",\"\",(VLOOKUP(B45,'TDPrimas Vida'!$B:$N,7,0)))","v":52.562827909458143}]
[null,{"$f":"IF(C46=\"\",B45,D46)","v":"Allianz México"},null,{"$f":"IF(D45=\"\",\"\",\"Renovación\")","v":"Renovación"},{"$f":"IF(E44=\"\",\"\",(VLOOKUP(B46,'TDPrimas Vida'!$B:$N,8,0)))","v":7694565.5088800006},{"$f":"IF(E44=\"\",\"\",(VLOOKUP(B46,'TDPrimas Vida'!$B:$N,9,0)))","v":6506617.3724300005},{"$f":"IFERROR((E46/VLOOKUP(\"TOTAL\",$D$12:$L$312,2,0))*100,\"\")","v":2.4673058308092335},{"$f":"IFERROR((E46/VLOOKUP(\"TOTAL\",$D$12:$L$312,3,0))*100,\"\")","v":2.7214480345747716},{"$f":"IF(E44=\"\",\"\",E46-F46)","v":1187948.1364500001},{"$f":"IF(E44=\"\",\"\",IFERROR((E46/F46-1)*100,\"ND\"))","v":18.257537956413472},{"$f":"IF(E45=\"\",\"\",IFERROR((E46/VLOOKUP(B46&\"|\"&VLOOKUP(TDPrimas_!$B$4,Cat!R:T,2,0),'TD Operación'!A:D,4,0))*100,\"ND\"))","v":33.115147004731391},{"$f":"IF(E44=\"\",\"\",(VLOOKUP(B46,'TDPrimas Vida'!$B:$N,10,0)))","v":2.4673058308092322}]
[null,{"$f":"IF(C47=\"\",B46,D47)","v":"Allianz México"},null,{"$f":"IF(D46=\"\",\"\",\"Únicas\")","v":"Únicas"},{"$f":"IF(E45=\"\",\"\",(VLOOKUP(B47,'TDPrimas Vida'!$B:$N,11,0)))","v":0},{"$f":"IF(E45=\"\",\"\",(VLOOKUP(B47,'TDPrimas Vida'!$B:$N,12,0)))","v":0},{"$f":"IFERROR((E47/VLOOKUP(\"TOTAL\",$D$12:$L$312,2,0))*100,\"\")","v":0},{"$f":"IFERROR((E47/VLOOKUP(\"TOTAL\",$D$12:$L$312,3,0))*100,\"\")","v":0},{"$f":"IF(E44=\"\",\"\",E47-F47)","v":0},{"$f":"IF(E44=\"\",\"\",IFERROR((E47/F47-1)*100,\"ND\"))","v":"ND"},{"$f":"IF(E46=\"\",\"\",IFERROR((E47/VLOOKUP(B47&\"|\"&VLOOKUP(TDPrimas_!$B$4,Cat!R:T,2,0),'TD Operación'!A:D,4,0))*100,\"ND\"))","v":0},{"$f":"IF(E44=\"\",\"\",(VLOOKUP(B47,'TDPrimas Vida'!$B:$N,13,0)))","v":0}]
[null,{"$f":"IF(C48=\"\",B44,D48)","v":"HSBC Seguros"},{"$f":"IF('TDPrimas Vida'!A16=\"\",\"\",'TDPrimas Vida'!A16)","v":9},{"$f":"IF('TDPrimas Vida'!B16=\"\",\"\",'TDPrimas Vida'!B16)","v":"HSBC Seguros"},{"$f":"IF('TDPrimas Vida'!C16=\"\",\"\",'TDPrimas Vida'!C16)","v":12635644.146120001},{"$f":"IF('TDPrimas Vida'!D16=\"\",\"\",'TDPrimas Vida'!D16)","v":12348930.73642},{"$f":"IF('TDPrimas Vida'!C16=\"\",\"\",IFERROR((E48/VLOOKUP(\"TOTAL\",$D$12:$L$312,2,0))*100,\"\"))","v":4.0516905654742192},{"$f":"IF('TDPrimas Vida'!C16=\"\",\"\",IFERROR((E48/VLOOKUP(\"TOTAL\",$D$12:$L$312,3,0))*100,\"\"))","v":4.4690306278320078},{"$f":"IF('TDPrimas Vida'!C16=\"\",\"\",E48-F48)","v":286713.40970000066},{"$f":"IFERROR(IF('TDPrimas Vida'!C16=\"\",\"\",(E48/F48-1)*100),\"ND\")","v":2.3217670891489739},{"$f":"IF(E47=\"\",\"\",IFERROR((E48/VLOOKUP(B48&\"|\"&VLOOKUP(TDPrimas_!$B$4,Cat!R:T,2,0),'TD Operación'!A:D,4,0))*100,\"ND\"))","v":97.348492664962478},{"$f":"IF('TDPrimas Vida'!E16=\"\",\"\",'TDPrimas Vida'!E16)","v":97.348492664962478}]
[null,{"$f":"IF(C49=\"\",B48,D49)","v":"HSBC Seguros"},null,{"$f":"IF(D48=\"\",\"\",\"1er Año\")","v":"1er Año"},{"$f":"IF(E48=\"\",\"\",(VLOOKUP(B49,'TDPrimas Vida'!$B:$N,5,0)))","v":9007583.8576499987},{"$f":"IF(E48=\"\",\"\",(VLOOKUP(B49,'TDPrimas Vida'!$B:$N,6,0)))","v":9691792.4909799993},{"$f":"IFERROR((E49/VLOOKUP(\"TOTAL\",$D$12:$L$312,2,0))*100,\"\")","v":2.8883325702841276},{"$f":"IFERROR((E49/VLOOKUP(\"TOTAL\",$D$12:$L$312,3,0))*100,\"\")","v":3.1858421839906037},{"$f":"IF(E48=\"\",\"\",E49-F49)","v":-684208.63333000056},{"$f":"IF(E48=\"\",\"\",IFERROR((E49/F49-1)*100,\"ND\"))","v":-7.0596706849303974},{"$f":"IF(E48=\"\",\"\",IFERROR((E49/VLOOKUP(B49&\"|\"&VLOOKUP(TDPrimas_!$B$4,Cat!R:T,2,0),'TD Operación'!A:D,4,0))*100,\"ND\"))","v":69.396914075388494},{"$f":"IF(E48=\"\",\"\",(VLOOKUP(B49,'TDPrimas Vida'!$B:$N,7,0)))","v":-7.0596706849303974}]
[null,{"$f":"IF(C50=\"\",B49,D50)","v":"HSBC Seguros"},null,{"$f":"IF(D49=\"\",\"\",\"Renovación\")","v":"Renovación"},{"$f":"IF(E48=\"\",\"\",(VLOOKUP(B50,'TDPrimas Vida'!$B:$N,8,0)))","v":3628060.28847},{"$f":"IF(E48=\"\",\"\",(VLOOKUP(B50,'TDPrimas Vida'!$B:$N,9,0)))","v":2657138.2454400002},{"$f":"IFERROR((E50/VLOOKUP(\"TOTAL\",$D$12:$L$312,2,0))*100,\"\")","v":1.163357995190091},{"$f":"IFERROR((E50/VLOOKUP(\"TOTAL\",$D$12:$L$312,3,0))*100,\"\")","v":1.2831884438414032},{"$f":"IF(E48=\"\",\"\",E50-F50)","v":970922.04302999983},{"$f":"IF(E48=\"\",\"\",IFERROR((E50/F50-1)*100,\"ND\"))","v":36.540140306821826},{"$f":"IF(E49=\"\",\"\",IFERROR((E50/VLOOKUP(B50&\"|\"&VLOOKUP(TDPrimas_!$B$4,Cat!R:T,2,0),'TD Operación'!A:D,4,0))*100,\"ND\"))","v":27.951578589573966},{"$f":"IF(E48=\"\",\"\",(VLOOKUP(B50,'TDPrimas Vida'!$B:$N,10,0)))","v":1.1633579951900908}]
[null,{"$f":"IF(C51=\"\",B50,D51)","v":"HSBC Seguros"},null,{"$f":"IF(D50=\"\",\"\",\"Únicas\")","v":"Únicas"},{"$f":"IF(E49=\"\",\"\",(VLOOKUP(B51,'TDPrimas Vida'!$B:$N,11,0)))","v":0},{"$f":"IF(E49=\"\",\"\",(VLOOKUP(B51,'TDPrimas Vida'!$B:$N,12,0)))","v":0},{"$f":"IFERROR((E51/VLOOKUP(\"TOTAL\",$D$12:$L$312,2,0))*100,\"\")","v":0},{"$f":"IFERROR((E51/VLOOKUP(\"TOTAL\",$D$12:$L$312,3,0))*100,\"\")","v":0},{"$f":"IF(E48=\"\",\"\",E51-F51)","v":0},{"$f":"IF(E48=\"\",\"\",IFERROR((E51/F51-1)*100,\"ND\"))","v":"ND"},{"$f":"IF(E50=\"\",\"\",IFERROR((E51/VLOOKUP(B51&\"|\"&VLOOKUP(TDPrimas_!$B$4,Cat!R:T,2,0),'TD Operación'!A:D,4,0))*100,\"ND\"))","v":0},{"$f":"IF(E48=\"\",\"\",(VLOOKUP(B51,'TDPrimas Vida'!$B:$N,13,0)))","v":0}]
[null,{"$f":"IF(C52=\"\",B48,D52)","v":"Mapfre México"},{"$f":"IF('TDPrimas Vida'!A17=\"\",\"\",'TDPrimas Vida'!A17)","v":10},{"$f":"IF('TDPrimas Vida'!B17=\"\",\"\",'TDPrimas Vida'!B17)","v":"Mapfre México"},{"$f":"IF('TDPrimas Vida'!C17=\"\",\"\",'TDPrimas Vida'!C17)","v":8712961.6138500012},{"$f":"IF('TDPrimas Vida'!D17=\"\",\"\",'TDPrimas Vida'!D17)","v":6620840.57259},{"$f":"IF('TDPrimas Vida'!C17=\"\",\"\",IFERROR((E52/VLOOKUP(\"TOTAL\",$D$12:$L$312,2,0))*100,\"\"))","v":2.7938602860239028},{"$f":"IF('TDPrimas Vida'!C17=\"\",\"\",IFERROR((E52/VLOOKUP(\"TOTAL\",$D$12:$L$312,3,0))*100,\"\"))","v":3.0816388829197132},{"$f":"IF('TDPrimas Vida'!C17=\"\",\"\",E52-F52)","v":2092121.0412600012},{"$f":"IFERROR(IF('TDPrimas Vida'!C17=\"\",\"\",(E52/F52-1)*100),\"ND\")","v":31.599024600007652},{"$f":"IF(E51=\"\",\"\",IFERROR((E52/VLOOKUP(B52&\"|\"&VLOOKUP(TDPrimas_!$B$4,Cat!R:T,2,0),'TD Operación'!A:D,4,0))*100,\"ND\"))","v":28.392255525719783},{"$f":"IF('TDPrimas Vida'!E17=\"\",\"\",'TDPrimas Vida'!E17)","v":28.392255525719783}]
[null,{"$f":"IF(C53=\"\",B52,D53)","v":"Mapfre México"},null,{"$f":"IF(D52=\"\",\"\",\"1er Año\")","v":"1er Año"},{"$f":"IF(E52=\"\",\"\",(VLOOKUP(B53,'TDPrimas Vida'!$B:$N,5,0)))","v":8016465.4759899992},{"$f":"IF(E52=\"\",\"\",(VLOOKUP(B53,'TDPrimas Vida'!$B:$N,6,0)))","v":5958559.3917300003},{"$f":"IFERROR((E53/VLOOKUP(\"TOTAL\",$D$12:$L$312,2,0))*100,\"\")","v":2.5705248709059374},{"$f":"IFERROR((E53/VLOOKUP(\"TOTAL\",$D$12:$L$312,3,0))*100,\"\")","v":2.8352990417317314},{"$f":"IF(E52=\"\",\"\",E53-F53)","v":2057906.084259999},{"$f":"IF(E52=\"\",\"\",IFERROR((E53/F53-1)*100,\"ND\"))","v":34.536973603321066},{"$f":"IF(E52=\"\",\"\",IFERROR((E53/VLOOKUP(B53&\"|\"&VLOOKUP(TDPrimas_!$B$4,Cat!R:T,2,0),'TD Operación'!A:D,4,0))*100,\"ND\"))","v":26.122637318362607},{"$f":"IF(E52=\"\",\"\",(VLOOKUP(B53,'TDPrimas Vida'!$B:$N,7,0)))","v":34.536973603321066}]
[null,{"$f":"IF(C54=\"\",B53,D54)","v":"Mapfre México"},null,{"$f":"IF(D53=\"\",\"\",\"Renovación\")","v":"Renovación"},{"$f":"IF(E52=\"\",\"\",(VLOOKUP(B54,'TDPrimas Vida'!$B:$N,8,0)))","v":678432.12049},{"$f":"IF(E52=\"\",\"\",(VLOOKUP(B54,'TDPrimas Vida'!$B:$N,9,0)))","v":649554.4216},{"$f":"IFERROR((E54/VLOOKUP(\"TOTAL\",$D$12:$L$312,2,0))*100,\"\")","v":0.21754308606008574},{"$f":"IFERROR((E54/VLOOKUP(\"TOTAL\",$D$12:$L$312,3,0))*100,\"\")","v":0.23995087945760438},{"$f":"IF(E52=\"\",\"\",E54-F54)","v":28877.69889},{"$f":"IF(E52=\"\",\"\",IFERROR((E54/F54-1)*100,\"ND\"))","v":4.4457705050898744},{"$f":"IF(E53=\"\",\"\",IFERROR((E54/VLOOKUP(B54&\"|\"&VLOOKUP(TDPrimas_!$B$4,Cat!R:T,2,0),'TD Operación'!A:D,4,0))*100,\"ND\"))","v":2.2107543881737111},{"$f":"IF(E52=\"\",\"\",(VLOOKUP(B54,'TDPrimas Vida'!$B:$N,10,0)))","v":0.21754308606008566}]
[null,{"$f":"IF(C55=\"\",B54,D55)","v":"Mapfre México"},null,{"$f":"IF(D54=\"\",\"\",\"Únicas\")","v":"Únicas"},{"$f":"IF(E53=\"\",\"\",(VLOOKUP(B55,'TDPrimas Vida'!$B:$N,11,0)))","v":18064.017370000001},{"$f":"IF(E53=\"\",\"\",(VLOOKUP(B55,'TDPrimas Vida'!$B:$N,12,0)))","v":12726.759259999999},{"$f":"IFERROR((E55/VLOOKUP(\"TOTAL\",$D$12:$L$312,2,0))*100,\"\")","v":5.7923290578791474E-3},{"$f":"IFERROR((E55/VLOOKUP(\"TOTAL\",$D$12:$L$312,3,0))*100,\"\")","v":6.3889617303767264E-3},{"$f":"IF(E52=\"\",\"\",E55-F55)","v":5337.2581100000025},{"$f":"IF(E52=\"\",\"\",IFERROR((E55/F55-1)*100,\"ND\"))","v":41.937291347805392},{"$f":"IF(E54=\"\",\"\",IFERROR((E55/VLOOKUP(B55&\"|\"&VLOOKUP(TDPrimas_!$B$4,Cat!R:T,2,0),'TD Operación'!A:D,4,0))*100,\"ND\"))","v":5.8863819183458427E-2},{"$f":"IF(E52=\"\",\"\",(VLOOKUP(B55,'TDPrimas Vida'!$B:$N,13,0)))","v":5.7923290578791448E-3}]
[null,{"$f":"IF(C56=\"\",B52,D56)","v":"AXA Seguros"},{"$f":"IF('TDPrimas Vida'!A18=\"\",\"\",'TDPrimas Vida'!A18)","v":11},{"$f":"IF('TDPrimas Vida'!B18=\"\",\"\",'TDPrimas Vida'!B18)","v":"AXA Seguros"},{"$f":"IF('TDPrimas Vida'!C18=\"\",\"\",'TDPrimas Vida'!C18)","v":5107757.6365299998},{"$f":"IF('TDPrimas Vida'!D18=\"\",\"\",'TDPrimas Vida'!D18)","v":4864113.0592},{"$f":"IF('TDPrimas Vida'!C18=\"\",\"\",IFERROR((E56/VLOOKUP(\"TOTAL\",$D$12:$L$312,2,0))*100,\"\"))","v":1.6378312959226764},{"$f":"IF('TDPrimas Vida'!C18=\"\",\"\",IFERROR((E56/VLOOKUP(\"TOTAL\",$D$12:$L$312,3,0))*100,\"\"))","v":1.8065343605141608},{"$f":"IF('TDPrimas Vida'!C18=\"\",\"\",E56-F56)","v":243644.57732999977},{"$f":"IFERROR(IF('TDPrimas Vida'!C18=\"\",\"\",(E56/F56-1)*100),\"ND\")","v":5.0090237287796935},{"$f":"IF(E55=\"\",\"\",IFERROR((E56/VLOOKUP(B56&\"|\"&VLOOKUP(TDPrimas_!$B$4,Cat!R:T,2,0),'TD Operación'!A:D,4,0))*100,\"ND\"))","v":10.170330061149006},{"$f":"IF('TDPrimas Vida'!E18=\"\",\"\",'TDPrimas Vida'!E18)","v":10.170330061149006}]
[null,{"$f":"IF(C57=\"\",B56,D57)","v":"AXA Seguros"},null,{"$f":"IF(D56=\"\",\"\",\"1er Año\")","v":"1er Año"},{"$f":"IF(E56=\"\",\"\",(VLOOKUP(B57,'TDPrimas Vida'!$B:$N,5,0)))","v":1035477.4601799999},{"$f":"IF(E56=\"\",\"\",(VLOOKUP(B57,'TDPrimas Vida'!$B:$N,6,0)))","v":975787.55005999992},{"$f":"IFERROR((E57/VLOOKUP(\"TOTAL\",$D$12:$L$312,2,0))*100,\"\")","v":0.33203168810834194},{"$f":"IFERROR((E57/VLOOKUP(\"TOTAL\",$D$12:$L$312,3,0))*100,\"\")","v":0.36623225776701684},{"$f":"IF(E56=\"\",\"\",E57-F57)","v":59689.910120000015},{"$f":"IF(E56=\"\",\"\",IFERROR((E57/F57-1)*100,\"ND\"))","v":6.1171010140813609},{"$f":"IF(E56=\"\",\"\",IFERROR((E57/VLOOKUP(B57&\"|\"&VLOOKUP(TDPrimas_!$B$4,Cat!R:T,2,0),'TD Operación'!A:D,4,0))*100,\"ND\"))","v":2.0617946837558456},{"$f":"IF(E56=\"\",\"\",(VLOOKUP(B57,'TDPrimas Vida'!$B:$N,7,0)))","v":6.1171010140813609}]
[null,{"$f":"IF(C58=\"\",B57,D58)","v":"AXA Seguros"},null,{"$f":"IF(D57=\"\",\"\",\"Renovación\")","v":"Renovación"},{"$f":"IF(E56=\"\",\"\",(VLOOKUP(B58,'TDPrimas Vida'!$B:$N,8,0)))","v":4044028.2690400002},{"$f":"IF(E56=\"\",\"\",(VLOOKUP(B58,'TDPrimas Vida'!$B:$N,9,0)))","v":3865383.1765000005},{"$f":"IFERROR((E58/VLOOKUP(\"TOTAL\",$D$12:$L$312,2,0))*100,\"\")","v":1.2967404743834734},{"$f":"IFERROR((E58/VLOOKUP(\"TOTAL\",$D$12:$L$312,3,0))*100,\"\")","v":1.4303098429459822},{"$f":"IF(E56=\"\",\"\",E58-F58)","v":178645.09253999963},{"$f":"IF(E56=\"\",\"\",IFERROR((E58/F58-1)*100,\"ND\"))","v":4.6216658060212801},{"$f":"IF(E57=\"\",\"\",IFERROR((E58/VLOOKUP(B58&\"|\"&VLOOKUP(TDPrimas_!$B$4,Cat!R:T,2,0),'TD Operación'!A:D,4,0))*100,\"ND\"))","v":8.0522814901404178},{"$f":"IF(E56=\"\",\"\",(VLOOKUP(B58,'TDPrimas Vida'!$B:$N,10,0)))","v":1.2967404743834727}]
[null,{"$f":"IF(C59=\"\",B58,D59)","v":"AXA Seguros"},null,{"$f":"IF(D58=\"\",\"\",\"Únicas\")","v":"Únicas"},{"$f":"IF(E57=\"\",\"\",(VLOOKUP(B59,'TDPrimas Vida'!$B:$N,11,0)))","v":28251.907309999999},{"$f":"IF(E57=\"\",\"\",(VLOOKUP(B59,'TDPrimas Vida'!$B:$N,12,0)))","v":22942.332640000001},{"$f":"IFERROR((E59/VLOOKUP(\"TOTAL\",$D$12:$L$312,2,0))*100,\"\")","v":9.0591334308610261E-3},{"$f":"IFERROR((E59/VLOOKUP(\"TOTAL\",$D$12:$L$312,3,0))*100,\"\")","v":9.9922598011618537E-3},{"$f":"IF(E56=\"\",\"\",E59-F59)","v":5309.5746699999982},{"$f":"IF(E56=\"\",\"\",IFERROR((E59/F59-1)*100,\"ND\"))","v":23.14313349612387},{"$f":"IF(E58=\"\",\"\",IFERROR((E59/VLOOKUP(B59&\"|\"&VLOOKUP(TDPrimas_!$B$4,Cat!R:T,2,0),'TD Operación'!A:D,4,0))*100,\"ND\"))","v":5.6253887252741559E-2},{"$f":"IF(E56=\"\",\"\",(VLOOKUP(B59,'TDPrimas Vida'!$B:$N,13,0)))","v":9.0591334308610227E-3}]
[null,{"$f":"IF(C60=\"\",B56,D60)","v":"Inbursa"},{"$f":"IF('TDPrimas Vida'!A19=\"\",\"\",'TDPrimas Vida'!A19)","v":12},{"$f":"IF('TDPrimas Vida'!B19=\"\",\"\",'TDPrimas Vida'!B19)","v":"Inbursa"},{"$f":"IF('TDPrimas Vida'!C19=\"\",\"\",'TDPrimas Vida'!C19)","v":4831500.9921400007},{"$f":"IF('TDPrimas Vida'!D19=\"\",\"\",'TDPrimas Vida'!D19)","v":4347948.7431899998},{"$f":"IF('TDPrimas Vida'!C19=\"\",\"\",IFERROR((E60/VLOOKUP(\"TOTAL\",$D$12:$L$312,2,0))*100,\"\"))","v":1.5492480447024977},{"$f":"IF('TDPrimas Vida'!C19=\"\",\"\",IFERROR((E60/VLOOKUP(\"TOTAL\",$D$12:$L$312,3,0))*100,\"\"))","v":1.7088266860462857},{"$f":"IF('TDPrimas Vida'!C19=\"\",\"\",E60-F60)","v":483552.24895000085},{"$f":"IFERROR(IF('TDPrimas Vida'!C19=\"\",\"\",(E60/F60-1)*100),\"ND\")","v":11.121387981111042},{"$f":"IF(E59=\"\",\"\",IFERROR((E60/VLOOKUP(B60&\"|\"&VLOOKUP(TDPrimas_!$B$4,Cat!R:T,2,0),'TD Operación'!A:D,4,0))*100,\"ND\"))","v":19.596744139504413},{"$f":"IF('TDPrimas Vida'!E19=\"\",\"\",'TDPrimas Vida'!E19)","v":19.596744139504413}]
[null,{"$f":"IF(C61=\"\",B60,D61)","v":"Inbursa"},null,{"$f":"IF(D60=\"\",\"\",\"1er Año\")","v":"1er Año"},{"$f":"IF(E60=\"\",\"\",(VLOOKUP(B61,'TDPrimas Vida'!$B:$N,5,0)))","v":2800672.1890500002},{"$f":"IF(E60=\"\",\"\",(VLOOKUP(B61,'TDPrimas Vida'!$B:$N,6,0)))","v":2453837.0075399997},{"$f":"IFERROR((E61/VLOOKUP(\"TOTAL\",$D$12:$L$312,2,0))*100,\"\")","v":0.89805133431558015},{"$f":"IFERROR((E61/VLOOKUP(\"TOTAL\",$D$12:$L$312,3,0))*100,\"\")","v":0.99055415352331788},{"$f":"IF(E60=\"\",\"\",E61-F61)","v":346835.18151000049},{"$f":"IF(E60=\"\",\"\",IFERROR((E61/F61-1)*100,\"ND\"))","v":14.134401773396799},{"$f":"IF(E60=\"\",\"\",IFERROR((E61/VLOOKUP(B61&\"|\"&VLOOKUP(TDPrimas_!$B$4,Cat!R:T,2,0),'TD Operación'!A:D,4,0))*100,\"ND\"))","v":11.359628487446294},{"$f":"IF(E60=\"\",\"\",(VLOOKUP(B61,'TDPrimas Vida'!$B:$N,7,0)))","v":14.134401773396799}]
[null,{"$f":"IF(C62=\"\",B61,D62)","v":"Inbursa"},null,{"$f":"IF(D61=\"\",\"\",\"Renovación\")","v":"Renovación"},{"$f":"IF(E60=\"\",\"\",(VLOOKUP(B62,'TDPrimas Vida'!$B:$N,8,0)))","v":2030828.8030899998},{"$f":"IF(E60=\"\",\"\",(VLOOKUP(B62,'TDPrimas Vida'!$B:$N,9,0)))","v":1894111.7356499999},{"$f":"IFERROR((E62/VLOOKUP(\"TOTAL\",$D$12:$L$312,2,0))*100,\"\")","v":0.65119671038691729},{"$f":"IFERROR((E62/VLOOKUP(\"TOTAL\",$D$12:$L$312,3,0))*100,\"\")","v":0.71827253252296785},{"$f":"IF(E60=\"\",\"\",E62-F62)","v":136717.0674399999},{"$f":"IF(E60=\"\",\"\",IFERROR((E62/F62-1)*100,\"ND\"))","v":7.2180043482536593},{"$f":"IF(E61=\"\",\"\",IFERROR((E62/VLOOKUP(B62&\"|\"&VLOOKUP(TDPrimas_!$B$4,Cat!R:T,2,0),'TD Operación'!A:D,4,0))*100,\"ND\"))","v":8.2371156520581152},{"$f":"IF(E60=\"\",\"\",(VLOOKUP(B62,'TDPrimas Vida'!$B:$N,10,0)))","v":0.65119671038691707}]
[null,{"$f":"IF(C63=\"\",B62,D63)","v":"Inbursa"},null,{"$f":"IF(D62=\"\",\"\",\"Únicas\")","v":"Únicas"},{"$f":"IF(E61=\"\",\"\",(VLOOKUP(B63,'TDPrimas Vida'!$B:$N,11,0)))","v":0},{"$f":"IF(E61=\"\",\"\",(VLOOKUP(B63,'TDPrimas Vida'!$B:$N,12,0)))","v":0},{"$f":"IFERROR((E63/VLOOKUP(\"TOTAL\",$D$12:$L$312,2,0))*100,\"\")","v":0},{"$f":"IFERROR((E63/VLOOKUP(\"TOTAL\",$D$12:$L$312,3,0))*100,\"\")","v":0},{"$f":"IF(E60=\"\",\"\",E63-F63)","v":0},{"$f":"IF(E60=\"\",\"\",IFERROR((E63/F63-1)*100,\"ND\"))","v":"ND"},{"$f":"IF(E62=\"\",\"\",IFERROR((E63/VLOOKUP(B63&\"|\"&VLOOKUP(TDPrimas_!$B$4,Cat!R:T,2,0),'TD Operación'!A:D,4,0))*100,\"ND\"))","v":0},{"$f":"IF(E60=\"\",\"\",(VLOOKUP(B63,'TDPrimas Vida'!$B:$N,13,0)))","v":0}]
[null,{"$f":"IF(C64=\"\",B60,D64)","v":"Patrimonial Vida"},{"$f":"IF('TDPrimas Vida'!A20=\"\",\"\",'TDPrimas Vida'!A20)","v":13},{"$f":"IF('TDPrimas Vida'!B20=\"\",\"\",'TDPrimas Vida'!B20)","v":"Patrimonial Vida"},{"$f":"IF('TDPrimas Vida'!C20=\"\",\"\",'TDPrimas Vida'!C20)","v":4625465.0598599995},{"$f":"IF('TDPrimas Vida'!D20=\"\",\"\",'TDPrimas Vida'!D20)","v":2704976.95878},{"$f":"IF('TDPrimas Vida'!C20=\"\",\"\",IFERROR((E64/VLOOKUP(\"TOTAL\",$D$12:$L$312,2,0))*100,\"\"))","v":1.4831814608929255},{"$f":"IF('TDPrimas Vida'!C20=\"\",\"\",IFERROR((E64/VLOOKUP(\"TOTAL\",$D$12:$L$312,3,0))*100,\"\"))","v":1.6359549842837773},{"$f":"IF('TDPrimas Vida'!C20=\"\",\"\",E64-F64)","v":1920488.1010799995},{"$f":"IFERROR(IF('TDPrimas Vida'!C20=\"\",\"\",(E64/F64-1)*100),\"ND\")","v":70.998316449474629},{"$f":"IF(E63=\"\",\"\",IFERROR((E64/VLOOKUP(B64&\"|\"&VLOOKUP(TDPrimas_!$B$4,Cat!R:T,2,0),'TD Operación'!A:D,4,0))*100,\"ND\"))","v":100},{"$f":"IF('TDPrimas Vida'!E20=\"\",\"\",'TDPrimas Vida'!E20)","v":100}]
[null,{"$f":"IF(C65=\"\",B64,D65)","v":"Patrimonial Vida"},null,{"$f":"IF(D64=\"\",\"\",\"1er Año\")","v":"1er Año"},{"$f":"IF(E64=\"\",\"\",(VLOOKUP(B65,'TDPrimas Vida'!$B:$N,5,0)))","v":4625465.0598599995},{"$f":"IF(E64=\"\",\"\",(VLOOKUP(B65,'TDPrimas Vida'!$B:$N,6,0)))","v":2704976.95878},{"$f":"IFERROR((E65/VLOOKUP(\"TOTAL\",$D$12:$L$312,2,0))*100,\"\")","v":1.4831814608929255},{"$f":"IFERROR((E65/VLOOKUP(\"TOTAL\",$D$12:$L$312,3,0))*100,\"\")","v":1.6359549842837773},{"$f":"IF(E64=\"\",\"\",E65-F65)","v":1920488.1010799995},{"$f":"IF(E64=\"\",\"\",IFERROR((E65/F65-1)*100,\"ND\"))","v":70.998316449474629},{"$f":"IF(E64=\"\",\"\",IFERROR((E65/VLOOKUP(B65&\"|\"&VLOOKUP(TDPrimas_!$B$4,Cat!R:T,2,0),'TD Operación'!A:D,4,0))*100,\"ND\"))","v":100},{"$f":"IF(E64=\"\",\"\",(VLOOKUP(B65,'TDPrimas Vida'!$B:$N,7,0)))","v":70.998316449474629}]
[null,{"$f":"IF(C66=\"\",B65,D66)","v":"Patrimonial Vida"},null,{"$f":"IF(D65=\"\",\"\",\"Renovación\")","v":"Renovación"},{"$f":"IF(E64=\"\",\"\",(VLOOKUP(B66,'TDPrimas Vida'!$B:$N,8,0)))","v":0},{"$f":"IF(E64=\"\",\"\",(VLOOKUP(B66,'TDPrimas Vida'!$B:$N,9,0)))","v":0},{"$f":"IFERROR((E66/VLOOKUP(\"TOTAL\",$D$12:$L$312,2,0))*100,\"\")","v":0},{"$f":"IFERROR((E66/VLOOKUP(\"TOTAL\",$D$12:$L$312,3,0))*100,\"\")","v":0},{"$f":"IF(E64=\"\",\"\",E66-F66)","v":0},{"$f":"IF(E64=\"\",\"\",IFERROR((E66/F66-1)*100,\"ND\"))","v":"ND"},{"$f":"IF(E65=\"\",\"\",IFERROR((E66/VLOOKUP(B66&\"|\"&VLOOKUP(TDPrimas_!$B$4,Cat!R:T,2,0),'TD Operación'!A:D,4,0))*100,\"ND\"))","v":0},{"$f":"IF(E64=\"\",\"\",(VLOOKUP(B66,'TDPrimas Vida'!$B:$N,10,0)))","v":0}]
[null,{"$f":"IF(C67=\"\",B66,D67)","v":"Patrimonial Vida"},null,{"$f":"IF(D66=\"\",\"\",\"Únicas\")","v":"Únicas"},{"$f":"IF(E65=\"\",\"\",(VLOOKUP(B67,'TDPrimas Vida'!$B:$N,11,0)))","v":0},{"$f":"IF(E65=\"\",\"\",(VLOOKUP(B67,'TDPrimas Vida'!$B:$N,12,0)))","v":0},{"$f":"IFERROR((E67/VLOOKUP(\"TOTAL\",$D$12:$L$312,2,0))*100,\"\")","v":0},{"$f":"IFERROR((E67/VLOOKUP(\"TOTAL\",$D$12:$L$312,3,0))*100,\"\")","v":0},{"$f":"IF(E64=\"\",\"\",E67-F67)","v":0},{"$f":"IF(E64=\"\",\"\",IFERROR((E67/F67-1)*100,\"ND\"))","v":"ND"},{"$f":"IF(E66=\"\",\"\",IFERROR((E67/VLOOKUP(B67&\"|\"&VLOOKUP(TDPrimas_!$B$4,Cat!R:T,2,0),'TD Operación'!A:D,4,0))*100,\"ND\"))","v":0},{"$f":"IF(E64=\"\",\"\",(VLOOKUP(B67,'TDPrimas Vida'!$B:$N,13,0)))","v":0}]
[null,{"$f":"IF(C68=\"\",B64,D68)","v":"Hir Seguros"},{"$f":"IF('TDPrimas Vida'!A21=\"\",\"\",'TDPrimas Vida'!A21)","v":14},{"$f":"IF('TDPrimas Vida'!B21=\"\",\"\",'TDPrimas Vida'!B21)","v":"Hir Seguros"},{"$f":"IF('TDPrimas Vida'!C21=\"\",\"\",'TDPrimas Vida'!C21)","v":4432707.5753000006},{"$f":"IF('TDPrimas Vida'!D21=\"\",\"\",'TDPrimas Vida'!D21)","v":3169415.9470100002},{"$f":"IF('TDPrimas Vida'!C21=\"\",\"\",IFERROR((E68/VLOOKUP(\"TOTAL\",$D$12:$L$312,2,0))*100,\"\"))","v":1.421372686240459},{"$f":"IF('TDPrimas Vida'!C21=\"\",\"\",IFERROR((E68/VLOOKUP(\"TOTAL\",$D$12:$L$312,3,0))*100,\"\"))","v":1.5677796627662739},{"$f":"IF('TDPrimas Vida'!C21=\"\",\"\",E68-F68)","v":1263291.6282900004},{"$f":"IFERROR(IF('TDPrimas Vida'!C21=\"\",\"\",(E68/F68-1)*100),\"ND\")","v":39.85881466526282},{"$f":"IF(E67=\"\",\"\",IFERROR((E68/VLOOKUP(B68&\"|\"&VLOOKUP(TDPrimas_!$B$4,Cat!R:T,2,0),'TD Operación'!A:D,4,0))*100,\"ND\"))","v":98.167914710963458},{"$f":"IF('TDPrimas Vida'!E21=\"\",\"\",'TDPrimas Vida'!E21)","v":98.167914710963458}]
[null,{"$f":"IF(C69=\"\",B68,D69)","v":"Hir Seguros"},null,{"$f":"IF(D68=\"\",\"\",\"1er Año\")","v":"1er Año"},{"$f":"IF(E68=\"\",\"\",(VLOOKUP(B69,'TDPrimas Vida'!$B:$N,5,0)))","v":918803.44039},{"$f":"IF(E68=\"\",\"\",(VLOOKUP(B69,'TDPrimas Vida'!$B:$N,6,0)))","v":846949.65120999992},{"$f":"IFERROR((E69/VLOOKUP(\"TOTAL\",$D$12:$L$312,2,0))*100,\"\")","v":0.29461950557515038},{"$f":"IFERROR((E69/VLOOKUP(\"TOTAL\",$D$12:$L$312,3,0))*100,\"\")","v":0.32496647330173506},{"$f":"IF(E68=\"\",\"\",E69-F69)","v":71853.78918000008},{"$f":"IF(E68=\"\",\"\",IFERROR((E69/F69-1)*100,\"ND\"))","v":8.4838324305755108},{"$f":"IF(E68=\"\",\"\",IFERROR((E69/VLOOKUP(B69&\"|\"&VLOOKUP(TDPrimas_!$B$4,Cat!R:T,2,0),'TD Operación'!A:D,4,0))*100,\"ND\"))","v":20.348064075993303},{"$f":"IF(E68=\"\",\"\",(VLOOKUP(B69,'TDPrimas Vida'!$B:$N,7,0)))","v":8.4838324305755108}]
[null,{"$f":"IF(C70=\"\",B69,D70)","v":"Hir Seguros"},null,{"$f":"IF(D69=\"\",\"\",\"Renovación\")","v":"Renovación"},{"$f":"IF(E68=\"\",\"\",(VLOOKUP(B70,'TDPrimas Vida'!$B:$N,8,0)))","v":3513904.1349099996},{"$f":"IF(E68=\"\",\"\",(VLOOKUP(B70,'TDPrimas Vida'!$B:$N,9,0)))","v":2322466.2958},{"$f":"IFERROR((E70/VLOOKUP(\"TOTAL\",$D$12:$L$312,2,0))*100,\"\")","v":1.1267531806653082},{"$f":"IFERROR((E70/VLOOKUP(\"TOTAL\",$D$12:$L$312,3,0))*100,\"\")","v":1.2428131894645384},{"$f":"IF(E68=\"\",\"\",E70-F70)","v":1191437.8391099996},{"$f":"IF(E68=\"\",\"\",IFERROR((E70/F70-1)*100,\"ND\"))","v":51.300543791082021},{"$f":"IF(E69=\"\",\"\",IFERROR((E70/VLOOKUP(B70&\"|\"&VLOOKUP(TDPrimas_!$B$4,Cat!R:T,2,0),'TD Operación'!A:D,4,0))*100,\"ND\"))","v":77.819850634970138},{"$f":"IF(E68=\"\",\"\",(VLOOKUP(B70,'TDPrimas Vida'!$B:$N,10,0)))","v":1.1267531806653079}]
[null,{"$f":"IF(C71=\"\",B70,D71)","v":"Hir Seguros"},null,{"$f":"IF(D70=\"\",\"\",\"Únicas\")","v":"Únicas"},{"$f":"IF(E69=\"\",\"\",(VLOOKUP(B71,'TDPrimas Vida'!$B:$N,11,0)))","v":0},{"$f":"IF(E69=\"\",\"\",(VLOOKUP(B71,'TDPrimas Vida'!$B:$N,12,0)))","v":0},{"$f":"IFERROR((E71/VLOOKUP(\"TOTAL\",$D$12:$L$312,2,0))*100,\"\")","v":0},{"$f":"IFERROR((E71/VLOOKUP(\"TOTAL\",$D$12:$L$312,3,0))*100,\"\")","v":0},{"$f":"IF(E68=\"\",\"\",E71-F71)","v":0},{"$f":"IF(E68=\"\",\"\",IFERROR((E71/F71-1)*100,\"ND\"))","v":"ND"},{"$f":"IF(E70=\"\",\"\",IFERROR((E71/VLOOKUP(B71&\"|\"&VLOOKUP(TDPrimas_!$B$4,Cat!R:T,2,0),'TD Operación'!A:D,4,0))*100,\"ND\"))","v":0},{"$f":"IF(E68=\"\",\"\",(VLOOKUP(B71,'TDPrimas Vida'!$B:$N,13,0)))","v":0}]
[null,{"$f":"IF(C72=\"\",B68,D72)","v":"Cardif Vida"},{"$f":"IF('TDPrimas Vida'!A22=\"\",\"\",'TDPrimas Vida'!A22)","v":15},{"$f":"IF('TDPrimas Vida'!B22=\"\",\"\",'TDPrimas Vida'!B22)","v":"Cardif Vida"},{"$f":"IF('TDPrimas Vida'!C22=\"\",\"\",'TDPrimas Vida'!C22)","v":3609583.8855500002},{"$f":"IF('TDPrimas Vida'!D22=\"\",\"\",'TDPrimas Vida'!D22)","v":2488578.9333600001},{"$f":"IF('TDPrimas Vida'!C22=\"\",\"\",IFERROR((E72/VLOOKUP(\"TOTAL\",$D$12:$L$312,2,0))*100,\"\"))","v":1.1574334323795872},{"$f":"IF('TDPrimas Vida'!C22=\"\",\"\",IFERROR((E72/VLOOKUP(\"TOTAL\",$D$12:$L$312,3,0))*100,\"\"))","v":1.2766536277618445},{"$f":"IF('TDPrimas Vida'!C22=\"\",\"\",E72-F72)","v":1121004.9521900001},{"$f":"IFERROR(IF('TDPrimas Vida'!C22=\"\",\"\",(E72/F72-1)*100),\"ND\")","v":45.0459873770793},{"$f":"IF(E71=\"\",\"\",IFERROR((E72/VLOOKUP(B72&\"|\"&VLOOKUP(TDPrimas_!$B$4,Cat!R:T,2,0),'TD Operación'!A:D,4,0))*100,\"ND\"))","v":98.428559030650391},{"$f":"IF('TDPrimas Vida'!E22=\"\",\"\",'TDPrimas Vida'!E22)","v":98.428559030650391}]
[null,{"$f":"IF(C73=\"\",B72,D73)","v":"Cardif Vida"},null,{"$f":"IF(D72=\"\",\"\",\"1er Año\")","v":"1er Año"},{"$f":"IF(E72=\"\",\"\",(VLOOKUP(B73,'TDPrimas Vida'!$B:$N,5,0)))","v":2717912.8104399997},{"$f":"IF(E72=\"\",\"\",(VLOOKUP(B73,'TDPrimas Vida'!$B:$N,6,0)))","v":1640134.7409000001},{"$f":"IFERROR((E73/VLOOKUP(\"TOTAL\",$D$12:$L$312,2,0))*100,\"\")","v":0.87151407276871917},{"$f":"IFERROR((E73/VLOOKUP(\"TOTAL\",$D$12:$L$312,3,0))*100,\"\")","v":0.96128344967384238},{"$f":"IF(E72=\"\",\"\",E73-F73)","v":1077778.0695399996},{"$f":"IF(E72=\"\",\"\",IFERROR((E73/F73-1)*100,\"ND\"))","v":65.712776070372399},{"$f":"IF(E72=\"\",\"\",IFERROR((E73/VLOOKUP(B73&\"|\"&VLOOKUP(TDPrimas_!$B$4,Cat!R:T,2,0),'TD Operación'!A:D,4,0))*100,\"ND\"))","v":74.113872951810279},{"$f":"IF(E72=\"\",\"\",(VLOOKUP(B73,'TDPrimas Vida'!$B:$N,7,0)))","v":65.712776070372399}]
[null,{"$f":"IF(C74=\"\",B73,D74)","v":"Cardif Vida"},null,{"$f":"IF(D73=\"\",\"\",\"Renovación\")","v":"Renovación"},{"$f":"IF(E72=\"\",\"\",(VLOOKUP(B74,'TDPrimas Vida'!$B:$N,8,0)))","v":172396.24891999998},{"$f":"IF(E72=\"\",\"\",(VLOOKUP(B74,'TDPrimas Vida'!$B:$N,9,0)))","v":466899.95367000002},{"$f":"IFERROR((E74/VLOOKUP(\"TOTAL\",$D$12:$L$312,2,0))*100,\"\")","v":5.5279829599094457E-2},{"$f":"IFERROR((E74/VLOOKUP(\"TOTAL\",$D$12:$L$312,3,0))*100,\"\")","v":6.0973869447202587E-2},{"$f":"IF(E72=\"\",\"\",E74-F74)","v":-294503.70475000003},{"$f":"IF(E72=\"\",\"\",IFERROR((E74/F74-1)*100,\"ND\"))","v":-63.076404791882283},{"$f":"IF(E73=\"\",\"\",IFERROR((E74/VLOOKUP(B74&\"|\"&VLOOKUP(TDPrimas_!$B$4,Cat!R:T,2,0),'TD Operación'!A:D,4,0))*100,\"ND\"))","v":4.7010167657869397},{"$f":"IF(E72=\"\",\"\",(VLOOKUP(B74,'TDPrimas Vida'!$B:$N,10,0)))","v":5.5279829599094436E-2}]
[null,{"$f":"IF(C75=\"\",B74,D75)","v":"Cardif Vida"},null,{"$f":"IF(D74=\"\",\"\",\"Únicas\")","v":"Únicas"},{"$f":"IF(E73=\"\",\"\",(VLOOKUP(B75,'TDPrimas Vida'!$B:$N,11,0)))","v":719274.82619000005},{"$f":"IF(E73=\"\",\"\",(VLOOKUP(B75,'TDPrimas Vida'!$B:$N,12,0)))","v":381544.23878999997},{"$f":"IFERROR((E75/VLOOKUP(\"TOTAL\",$D$12:$L$312,2,0))*100,\"\")","v":0.23063953001177334},{"$f":"IFERROR((E75/VLOOKUP(\"TOTAL\",$D$12:$L$312,3,0))*100,\"\")","v":0.25439630864079937},{"$f":"IF(E72=\"\",\"\",E75-F75)","v":337730.58740000008},{"$f":"IF(E72=\"\",\"\",IFERROR((E75/F75-1)*100,\"ND\"))","v":88.516757184187298},{"$f":"IF(E74=\"\",\"\",IFERROR((E75/VLOOKUP(B75&\"|\"&VLOOKUP(TDPrimas_!$B$4,Cat!R:T,2,0),'TD Operación'!A:D,4,0))*100,\"ND\"))","v":19.613669313053155},{"$f":"IF(E72=\"\",\"\",(VLOOKUP(B75,'TDPrimas Vida'!$B:$N,13,0)))","v":0.23063953001177326}]
[null,{"$f":"IF(C76=\"\",B72,D76)","v":"TOTAL MEDIANAS"},{"$f":"IF('TDPrimas Vida'!A23=\"\",\"\",'TDPrimas Vida'!A23)","v":15.1},{"$f":"IF('TDPrimas Vida'!B23=\"\",\"\",'TDPrimas Vida'!B23)","v":"TOTAL MEDIANAS"},{"$f":"IF('TDPrimas Vida'!C23=\"\",\"\",'TDPrimas Vida'!C23)","v":95910204.516880006},{"$f":"IF('TDPrimas Vida'!D23=\"\",\"\",'TDPrimas Vida'!D23)","v":79892005.433069989},{"$f":"IF('TDPrimas Vida'!C23=\"\",\"\",IFERROR((E76/VLOOKUP(\"TOTAL\",$D$12:$L$312,2,0))*100,\"\"))","v":30.754148049751123},{"$f":"IF('TDPrimas Vida'!C23=\"\",\"\",IFERROR((E76/VLOOKUP(\"TOTAL\",$D$12:$L$312,3,0))*100,\"\"))","v":33.921946245944703},{"$f":"IF('TDPrimas Vida'!C23=\"\",\"\",E76-F76)","v":16018199.083810017},{"$f":"IFERROR(IF('TDPrimas Vida'!C23=\"\",\"\",(E76/F76-1)*100),\"ND\")","v":20.049814743015016},{"$f":"IF(E75=\"\",\"\",IFERROR((E76/VLOOKUP(B76&\"|\"&VLOOKUP(TDPrimas_!$B$4,Cat!R:T,2,0),'TD Operación'!A:D,4,0))*100,\"ND\"))","v":35.325333327191089},{"$f":"IF('TDPrimas Vida'!E23=\"\",\"\",'TDPrimas Vida'!E23)","v":46.178539567042463}]
[null,{"$f":"IF(C77=\"\",B76,D77)","v":"TOTAL MEDIANAS"},null,{"$f":"IF(D76=\"\",\"\",\"1er Año\")","v":"1er Año"},{"$f":"IF(E76=\"\",\"\",(VLOOKUP(B77,'TDPrimas Vida'!$B:$N,5,0)))","v":47037246.816049993},{"$f":"IF(E76=\"\",\"\",(VLOOKUP(B77,'TDPrimas Vida'!$B:$N,6,0)))","v":37789705.884489991},{"$f":"IFERROR((E77/VLOOKUP(\"TOTAL\",$D$12:$L$312,2,0))*100,\"\")","v":15.082758500206189},{"$f":"IFERROR((E77/VLOOKUP(\"TOTAL\",$D$12:$L$312,3,0))*100,\"\")","v":16.636341941805156},{"$f":"IF(E76=\"\",\"\",E77-F77)","v":9247540.9315600023},{"$f":"IF(E76=\"\",\"\",IFERROR((E77/F77-1)*100,\"ND\"))","v":24.471058228996334},{"$f":"IF(E76=\"\",\"\",IFERROR((E77/VLOOKUP(B77&\"|\"&VLOOKUP(TDPrimas_!$B$4,Cat!R:T,2,0),'TD Operación'!A:D,4,0))*100,\"ND\"))","v":17.324605144365886},{"$f":"IF(E76=\"\",\"\",(VLOOKUP(B77,'TDPrimas Vida'!$B:$N,7,0)))","v":24.471058228996334}]
[null,{"$f":"IF(C78=\"\",B77,D78)","v":"TOTAL MEDIANAS"},null,{"$f":"IF(D77=\"\",\"\",\"Renovación\")","v":"Renovación"},{"$f":"IF(E76=\"\",\"\",(VLOOKUP(B78,'TDPrimas Vida'!$B:$N,8,0)))","v":38623603.593649998},{"$f":"IF(E76=\"\",\"\",(VLOOKUP(B78,'TDPrimas Vida'!$B:$N,9,0)))","v":32216883.035050005},{"$f":"IFERROR((E78/VLOOKUP(\"TOTAL\",$D$12:$L$312,2,0))*100,\"\")","v":12.384876344674614},{"$f":"IFERROR((E78/VLOOKUP(\"TOTAL\",$D$12:$L$312,3,0))*100,\"\")","v":13.660567314272395},{"$f":"IF(E76=\"\",\"\",E78-F78)","v":6406720.5585999936},{"$f":"IF(E76=\"\",\"\",IFERROR((E78/F78-1)*100,\"ND\"))","v":19.886220996704964},{"$f":"IF(E77=\"\",\"\",IFERROR((E78/VLOOKUP(B78&\"|\"&VLOOKUP(TDPrimas_!$B$4,Cat!R:T,2,0),'TD Operación'!A:D,4,0))*100,\"ND\"))","v":14.225719547942903},{"$f":"IF(E76=\"\",\"\",(VLOOKUP(B78,'TDPrimas Vida'!$B:$N,10,0)))","v":12.384876344674609}]
[null,{"$f":"IF(C79=\"\",B78,D79)","v":"TOTAL MEDIANAS"},null,{"$f":"IF(D78=\"\",\"\",\"Únicas\")","v":"Únicas"},{"$f":"IF(E77=\"\",\"\",(VLOOKUP(B79,'TDPrimas Vida'!$B:$N,11,0)))","v":10249354.107179999},{"$f":"IF(E77=\"\",\"\",(VLOOKUP(B79,'TDPrimas Vida'!$B:$N,12,0)))","v":9885416.5135299992},{"$f":"IFERROR((E79/VLOOKUP(\"TOTAL\",$D$12:$L$312,2,0))*100,\"\")","v":3.2865132048703125},{"$f":"IFERROR((E79/VLOOKUP(\"TOTAL\",$D$12:$L$312,3,0))*100,\"\")","v":3.62503698986714},{"$f":"IF(E76=\"\",\"\",E79-F79)","v":363937.59365000017},{"$f":"IF(E76=\"\",\"\",IFERROR((E79/F79-1)*100,\"ND\"))","v":3.6815605407408469},{"$f":"IF(E78=\"\",\"\",IFERROR((E79/VLOOKUP(B79&\"|\"&VLOOKUP(TDPrimas_!$B$4,Cat!R:T,2,0),'TD Operación'!A:D,4,0))*100,\"ND\"))","v":3.7750086348822904},{"$f":"IF(E76=\"\",\"\",(VLOOKUP(B79,'TDPrimas Vida'!$B:$N,13,0)))","v":3.2865132048703107}]
[null,{"$f":"IF(C80=\"\",B76,D80)","v":"Atlas"},{"$f":"IF('TDPrimas Vida'!A24=\"\",\"\",'TDPrimas Vida'!A24)","v":16},{"$f":"IF('TDPrimas Vida'!B24=\"\",\"\",'TDPrimas Vida'!B24)","v":"Atlas"},{"$f":"IF('TDPrimas Vida'!C24=\"\",\"\",'TDPrimas Vida'!C24)","v":2615143.8208900001},{"$f":"IF('TDPrimas Vida'!D24=\"\",\"\",'TDPrimas Vida'!D24)","v":2689124.6364899999},{"$f":"IF('TDPrimas Vida'!C24=\"\",\"\",IFERROR((E80/VLOOKUP(\"TOTAL\",$D$12:$L$312,2,0))*100,\"\"))","v":0.83856061661184322},{"$f":"IF('TDPrimas Vida'!C24=\"\",\"\",IFERROR((E80/VLOOKUP(\"TOTAL\",$D$12:$L$312,3,0))*100,\"\"))","v":0.92493565793650356},{"$f":"IF('TDPrimas Vida'!C24=\"\",\"\",E80-F80)","v":-73980.815599999856},{"$f":"IFERROR(IF('TDPrimas Vida'!C24=\"\",\"\",(E80/F80-1)*100),\"ND\")","v":-2.7511114433343531},{"$f":"IF(E79=\"\",\"\",IFERROR((E80/VLOOKUP(B80&\"|\"&VLOOKUP(TDPrimas_!$B$4,Cat!R:T,2,0),'TD Operación'!A:D,4,0))*100,\"ND\"))","v":14.54343120735793},{"$f":"IF('TDPrimas Vida'!E24=\"\",\"\",'TDPrimas Vida'!E24)","v":14.54343120735793}]
[null,{"$f":"IF(C81=\"\",B80,D81)","v":"Atlas"},null,{"$f":"IF(D80=\"\",\"\",\"1er Año\")","v":"1er Año"},{"$f":"IF(E80=\"\",\"\",(VLOOKUP(B81,'TDPrimas Vida'!$B:$N,5,0)))","v":1885007.59617},{"$f":"IF(E80=\"\",\"\",(VLOOKUP(B81,'TDPrimas Vida'!$B:$N,6,0)))","v":2019159.8019900001},{"$f":"IFERROR((E81/VLOOKUP(\"TOTAL\",$D$12:$L$312,2,0))*100,\"\")","v":0.60443831789885027},{"$f":"IFERROR((E81/VLOOKUP(\"TOTAL\",$D$12:$L$312,3,0))*100,\"\")","v":0.66669784172154811},{"$f":"IF(E80=\"\",\"\",E81-F81)","v":-134152.20582000003},{"$f":"IF(E80=\"\",\"\",IFERROR((E81/F81-1)*100,\"ND\"))","v":-6.6439617947913421},{"$f":"IF(E80=\"\",\"\",IFERROR((E81/VLOOKUP(B81&\"|\"&VLOOKUP(TDPrimas_!$B$4,Cat!R:T,2,0),'TD Operación'!A:D,4,0))*100,\"ND\"))","v":10.482971560208755},{"$f":"IF(E80=\"\",\"\",(VLOOKUP(B81,'TDPrimas Vida'!$B:$N,7,0)))","v":-6.6439617947913421}]
[null,{"$f":"IF(C82=\"\",B81,D82)","v":"Atlas"},null,{"$f":"IF(D81=\"\",\"\",\"Renovación\")","v":"Renovación"},{"$f":"IF(E80=\"\",\"\",(VLOOKUP(B82,'TDPrimas Vida'!$B:$N,8,0)))","v":654749.24219000002},{"$f":"IF(E80=\"\",\"\",(VLOOKUP(B82,'TDPrimas Vida'!$B:$N,9,0)))","v":588315.55824000004},{"$f":"IFERROR((E82/VLOOKUP(\"TOTAL\",$D$12:$L$312,2,0))*100,\"\")","v":0.20994903755240843},{"$f":"IFERROR((E82/VLOOKUP(\"TOTAL\",$D$12:$L$312,3,0))*100,\"\")","v":0.23157461408846469},{"$f":"IF(E80=\"\",\"\",E82-F82)","v":66433.683949999977},{"$f":"IF(E80=\"\",\"\",IFERROR((E82/F82-1)*100,\"ND\"))","v":11.292185463995285},{"$f":"IF(E81=\"\",\"\",IFERROR((E82/VLOOKUP(B82&\"|\"&VLOOKUP(TDPrimas_!$B$4,Cat!R:T,2,0),'TD Operación'!A:D,4,0))*100,\"ND\"))","v":3.641214867723535},{"$f":"IF(E80=\"\",\"\",(VLOOKUP(B82,'TDPrimas Vida'!$B:$N,10,0)))","v":0.20994903755240835}]
[null,{"$f":"IF(C83=\"\",B82,D83)","v":"Atlas"},null,{"$f":"IF(D82=\"\",\"\",\"Únicas\")","v":"Únicas"},{"$f":"IF(E81=\"\",\"\",(VLOOKUP(B83,'TDPrimas Vida'!$B:$N,11,0)))","v":75386.982530000008},{"$f":"IF(E81=\"\",\"\",(VLOOKUP(B83,'TDPrimas Vida'!$B:$N,12,0)))","v":81649.276259999999},{"$f":"IFERROR((E83/VLOOKUP(\"TOTAL\",$D$12:$L$312,2,0))*100,\"\")","v":2.4173261160584606E-2},{"$f":"IFERROR((E83/VLOOKUP(\"TOTAL\",$D$12:$L$312,3,0))*100,\"\")","v":2.6663202126490697E-2},{"$f":"IF(E80=\"\",\"\",E83-F83)","v":-6262.2937299999903},{"$f":"IF(E80=\"\",\"\",IFERROR((E83/F83-1)*100,\"ND\"))","v":-7.669747996367593},{"$f":"IF(E82=\"\",\"\",IFERROR((E83/VLOOKUP(B83&\"|\"&VLOOKUP(TDPrimas_!$B$4,Cat!R:T,2,0),'TD Operación'!A:D,4,0))*100,\"ND\"))","v":0.41924477942563831},{"$f":"IF(E80=\"\",\"\",(VLOOKUP(B83,'TDPrimas Vida'!$B:$N,13,0)))","v":2.4173261160584596E-2}]
[null,{"$f":"IF(C84=\"\",B80,D84)","v":"Seguros Argos"},{"$f":"IF('TDPrimas Vida'!A25=\"\",\"\",'TDPrimas Vida'!A25)","v":17},{"$f":"IF('TDPrimas Vida'!B25=\"\",\"\",'TDPrimas Vida'!B25)","v":"Seguros Argos"},{"$f":"IF('TDPrimas Vida'!C25=\"\",\"\",'TDPrimas Vida'!C25)","v":2607218.6123699998},{"$f":"IF('TDPrimas Vida'!D25=\"\",\"\",'TDPrimas Vida'!D25)","v":2553070.5004000003},{"$f":"IF('TDPrimas Vida'!C25=\"\",\"\",IFERROR((E84/VLOOKUP(\"TOTAL\",$D$12:$L$312,2,0))*100,\"\"))","v":0.83601935379860071},{"$f":"IF('TDPrimas Vida'!C25=\"\",\"\",IFERROR((E84/VLOOKUP(\"TOTAL\",$D$12:$L$312,3,0))*100,\"\"))","v":0.92213263505945364},{"$f":"IF('TDPrimas Vida'!C25=\"\",\"\",E84-F84)","v":54148.111969999503},{"$f":"IFERROR(IF('TDPrimas Vida'!C25=\"\",\"\",(E84/F84-1)*100),\"ND\")","v":2.1209015560485156},{"$f":"IF(E83=\"\",\"\",IFERROR((E84/VLOOKUP(B84&\"|\"&VLOOKUP(TDPrimas_!$B$4,Cat!R:T,2,0),'TD Operación'!A:D,4,0))*100,\"ND\"))","v":100},{"$f":"IF('TDPrimas Vida'!E25=\"\",\"\",'TDPrimas Vida'!E25)","v":100}]
[null,{"$f":"IF(C85=\"\",B84,D85)","v":"Seguros Argos"},null,{"$f":"IF(D84=\"\",\"\",\"1er Año\")","v":"1er Año"},{"$f":"IF(E84=\"\",\"\",(VLOOKUP(B85,'TDPrimas Vida'!$B:$N,5,0)))","v":1488028.64084},{"$f":"IF(E84=\"\",\"\",(VLOOKUP(B85,'TDPrimas Vida'!$B:$N,6,0)))","v":739442.16379000002},{"$f":"IFERROR((E85/VLOOKUP(\"TOTAL\",$D$12:$L$312,2,0))*100,\"\")","v":0.47714477675427219},{"$f":"IFERROR((E85/VLOOKUP(\"TOTAL\",$D$12:$L$312,3,0))*100,\"\")","v":0.52629256523081236},{"$f":"IF(E84=\"\",\"\",E85-F85)","v":748586.47704999999},{"$f":"IF(E84=\"\",\"\",IFERROR((E85/F85-1)*100,\"ND\"))","v":101.23665023551416},{"$f":"IF(E84=\"\",\"\",IFERROR((E85/VLOOKUP(B85&\"|\"&VLOOKUP(TDPrimas_!$B$4,Cat!R:T,2,0),'TD Operación'!A:D,4,0))*100,\"ND\"))","v":57.073412784797526},{"$f":"IF(E84=\"\",\"\",(VLOOKUP(B85,'TDPrimas Vida'!$B:$N,7,0)))","v":101.23665023551416}]
[null,{"$f":"IF(C86=\"\",B85,D86)","v":"Seguros Argos"},null,{"$f":"IF(D85=\"\",\"\",\"Renovación\")","v":"Renovación"},{"$f":"IF(E84=\"\",\"\",(VLOOKUP(B86,'TDPrimas Vida'!$B:$N,8,0)))","v":884377.68794999993},{"$f":"IF(E84=\"\",\"\",(VLOOKUP(B86,'TDPrimas Vida'!$B:$N,9,0)))","v":1631523.4272300003},{"$f":"IFERROR((E86/VLOOKUP(\"TOTAL\",$D$12:$L$312,2,0))*100,\"\")","v":0.28358069388043117},{"$f":"IFERROR((E86/VLOOKUP(\"TOTAL\",$D$12:$L$312,3,0))*100,\"\")","v":0.31279062059004203},{"$f":"IF(E84=\"\",\"\",E86-F86)","v":-747145.73928000033},{"$f":"IF(E84=\"\",\"\",IFERROR((E86/F86-1)*100,\"ND\"))","v":-45.794361687377304},{"$f":"IF(E85=\"\",\"\",IFERROR((E86/VLOOKUP(B86&\"|\"&VLOOKUP(TDPrimas_!$B$4,Cat!R:T,2,0),'TD Operación'!A:D,4,0))*100,\"ND\"))","v":33.920350359346649},{"$f":"IF(E84=\"\",\"\",(VLOOKUP(B86,'TDPrimas Vida'!$B:$N,10,0)))","v":0.28358069388043106}]
[null,{"$f":"IF(C87=\"\",B86,D87)","v":"Seguros Argos"},null,{"$f":"IF(D86=\"\",\"\",\"Únicas\")","v":"Únicas"},{"$f":"IF(E85=\"\",\"\",(VLOOKUP(B87,'TDPrimas Vida'!$B:$N,11,0)))","v":234812.28357999999},{"$f":"IF(E85=\"\",\"\",(VLOOKUP(B87,'TDPrimas Vida'!$B:$N,12,0)))","v":182104.90938},{"$f":"IFERROR((E87/VLOOKUP(\"TOTAL\",$D$12:$L$312,2,0))*100,\"\")","v":7.529388316389736E-2},{"$f":"IFERROR((E87/VLOOKUP(\"TOTAL\",$D$12:$L$312,3,0))*100,\"\")","v":8.3049449238599096E-2},{"$f":"IF(E84=\"\",\"\",E87-F87)","v":52707.374199999991},{"$f":"IF(E84=\"\",\"\",IFERROR((E87/F87-1)*100,\"ND\"))","v":28.943412003250835},{"$f":"IF(E86=\"\",\"\",IFERROR((E87/VLOOKUP(B87&\"|\"&VLOOKUP(TDPrimas_!$B$4,Cat!R:T,2,0),'TD Operación'!A:D,4,0))*100,\"ND\"))","v":9.0062368558558337},{"$f":"IF(E84=\"\",\"\",(VLOOKUP(B87,'TDPrimas Vida'!$B:$N,13,0)))","v":7.5293883163897332E-2}]
[null,{"$f":"IF(C88=\"\",B84,D88)","v":"Seguros Azteca"},{"$f":"IF('TDPrimas Vida'!A26=\"\",\"\",'TDPrimas Vida'!A26)","v":18},{"$f":"IF('TDPrimas Vida'!B26=\"\",\"\",'TDPrimas Vida'!B26)","v":"Seguros Azteca"},{"$f":"IF('TDPrimas Vida'!C26=\"\",\"\",'TDPrimas Vida'!C26)","v":2355271.02434},{"$f":"IF('TDPrimas Vida'!D26=\"\",\"\",'TDPrimas Vida'!D26)","v":2404909.52312},{"$f":"IF('TDPrimas Vida'!C26=\"\",\"\",IFERROR((E88/VLOOKUP(\"TOTAL\",$D$12:$L$312,2,0))*100,\"\"))","v":0.75523093861292967},{"$f":"IF('TDPrimas Vida'!C26=\"\",\"\",IFERROR((E88/VLOOKUP(\"TOTAL\",$D$12:$L$312,3,0))*100,\"\"))","v":0.83302269539245088},{"$f":"IF('TDPrimas Vida'!C26=\"\",\"\",E88-F88)","v":-49638.498780000024},{"$f":"IFERROR(IF('TDPrimas Vida'!C26=\"\",\"\",(E88/F88-1)*100),\"ND\")","v":-2.0640484934169923},{"$f":"IF(E87=\"\",\"\",IFERROR((E88/VLOOKUP(B88&\"|\"&VLOOKUP(TDPrimas_!$B$4,Cat!R:T,2,0),'TD Operación'!A:D,4,0))*100,\"ND\"))","v":86.287402885907383},{"$f":"IF('TDPrimas Vida'!E26=\"\",\"\",'TDPrimas Vida'!E26)","v":86.287402885907383}]
[null,{"$f":"IF(C89=\"\",B88,D89)","v":"Seguros Azteca"},null,{"$f":"IF(D88=\"\",\"\",\"1er Año\")","v":"1er Año"},{"$f":"IF(E88=\"\",\"\",(VLOOKUP(B89,'TDPrimas Vida'!$B:$N,5,0)))","v":2243811.4878600002},{"$f":"IF(E88=\"\",\"\",(VLOOKUP(B89,'TDPrimas Vida'!$B:$N,6,0)))","v":2300793.2769599999},{"$f":"IFERROR((E89/VLOOKUP(\"TOTAL\",$D$12:$L$312,2,0))*100,\"\")","v":0.71949080956483391},{"$f":"IFERROR((E89/VLOOKUP(\"TOTAL\",$D$12:$L$312,3,0))*100,\"\")","v":0.79360119249692695},{"$f":"IF(E88=\"\",\"\",E89-F89)","v":-56981.789099999703},{"$f":"IF(E88=\"\",\"\",IFERROR((E89/F89-1)*100,\"ND\"))","v":-2.4766148993311088},{"$f":"IF(E88=\"\",\"\",IFERROR((E89/VLOOKUP(B89&\"|\"&VLOOKUP(TDPrimas_!$B$4,Cat!R:T,2,0),'TD Operación'!A:D,4,0))*100,\"ND\"))","v":82.203985805522223},{"$f":"IF(E88=\"\",\"\",(VLOOKUP(B89,'TDPrimas Vida'!$B:$N,7,0)))","v":-2.4766148993311088}]
[null,{"$f":"IF(C90=\"\",B89,D90)","v":"Seguros Azteca"},null,{"$f":"IF(D89=\"\",\"\",\"Renovación\")","v":"Renovación"},{"$f":"IF(E88=\"\",\"\",(VLOOKUP(B90,'TDPrimas Vida'!$B:$N,8,0)))","v":6553.5455300000003},{"$f":"IF(E88=\"\",\"\",(VLOOKUP(B90,'TDPrimas Vida'!$B:$N,9,0)))","v":7030.4811399999999},{"$f":"IFERROR((E90/VLOOKUP(\"TOTAL\",$D$12:$L$312,2,0))*100,\"\")","v":2.1014313387782689E-3},{"$f":"IFERROR((E90/VLOOKUP(\"TOTAL\",$D$12:$L$312,3,0))*100,\"\")","v":2.3178870309872525E-3},{"$f":"IF(E88=\"\",\"\",E90-F90)","v":-476.93560999999954},{"$f":"IF(E88=\"\",\"\",IFERROR((E90/F90-1)*100,\"ND\"))","v":-6.7838260355535196},{"$f":"IF(E89=\"\",\"\",IFERROR((E90/VLOOKUP(B90&\"|\"&VLOOKUP(TDPrimas_!$B$4,Cat!R:T,2,0),'TD Operación'!A:D,4,0))*100,\"ND\"))","v":0.24009484158482786},{"$f":"IF(E88=\"\",\"\",(VLOOKUP(B90,'TDPrimas Vida'!$B:$N,10,0)))","v":2.1014313387782676E-3}]
[null,{"$f":"IF(C91=\"\",B90,D91)","v":"Seguros Azteca"},null,{"$f":"IF(D90=\"\",\"\",\"Únicas\")","v":"Únicas"},{"$f":"IF(E89=\"\",\"\",(VLOOKUP(B91,'TDPrimas Vida'!$B:$N,11,0)))","v":104905.99095000001},{"$f":"IF(E89=\"\",\"\",(VLOOKUP(B91,'TDPrimas Vida'!$B:$N,12,0)))","v":97085.765020000006},{"$f":"IFERROR((E91/VLOOKUP(\"TOTAL\",$D$12:$L$312,2,0))*100,\"\")","v":3.3638697709317572E-2},{"$f":"IFERROR((E91/VLOOKUP(\"TOTAL\",$D$12:$L$312,3,0))*100,\"\")","v":3.7103615864536622E-2},{"$f":"IF(E88=\"\",\"\",E91-F91)","v":7820.2259300000005},{"$f":"IF(E88=\"\",\"\",IFERROR((E91/F91-1)*100,\"ND\"))","v":8.0549665838127726},{"$f":"IF(E90=\"\",\"\",IFERROR((E91/VLOOKUP(B91&\"|\"&VLOOKUP(TDPrimas_!$B$4,Cat!R:T,2,0),'TD Operación'!A:D,4,0))*100,\"ND\"))","v":3.8433222388003507},{"$f":"IF(E88=\"\",\"\",(VLOOKUP(B91,'TDPrimas Vida'!$B:$N,13,0)))","v":3.3638697709317558E-2}]
[null,{"$f":"IF(C92=\"\",B88,D92)","v":"Afirme"},{"$f":"IF('TDPrimas Vida'!A27=\"\",\"\",'TDPrimas Vida'!A27)","v":19},{"$f":"IF('TDPrimas Vida'!B27=\"\",\"\",'TDPrimas Vida'!B27)","v":"Afirme"},{"$f":"IF('TDPrimas Vida'!C27=\"\",\"\",'TDPrimas Vida'!C27)","v":2234954.2395600001},{"$f":"IF('TDPrimas Vida'!D27=\"\",\"\",'TDPrimas Vida'!D27)","v":2131429.1206800002},{"$f":"IF('TDPrimas Vida'!C27=\"\",\"\",IFERROR((E92/VLOOKUP(\"TOTAL\",$D$12:$L$312,2,0))*100,\"\"))","v":0.71665068293906209},{"$f":"IF('TDPrimas Vida'!C27=\"\",\"\",IFERROR((E92/VLOOKUP(\"TOTAL\",$D$12:$L$312,3,0))*100,\"\"))","v":0.79046852165931336},{"$f":"IF('TDPrimas Vida'!C27=\"\",\"\",E92-F92)","v":103525.11887999997},{"$f":"IFERROR(IF('TDPrimas Vida'!C27=\"\",\"\",(E92/F92-1)*100),\"ND\")","v":4.8570753714283432},{"$f":"IF(E91=\"\",\"\",IFERROR((E92/VLOOKUP(B92&\"|\"&VLOOKUP(TDPrimas_!$B$4,Cat!R:T,2,0),'TD Operación'!A:D,4,0))*100,\"ND\"))","v":39.956468099145383},{"$f":"IF('TDPrimas Vida'!E27=\"\",\"\",'TDPrimas Vida'!E27)","v":39.956468099145383}]
[null,{"$f":"IF(C93=\"\",B92,D93)","v":"Afirme"},null,{"$f":"IF(D92=\"\",\"\",\"1er Año\")","v":"1er Año"},{"$f":"IF(E92=\"\",\"\",(VLOOKUP(B93,'TDPrimas Vida'!$B:$N,5,0)))","v":2234954.2395599997},{"$f":"IF(E92=\"\",\"\",(VLOOKUP(B93,'TDPrimas Vida'!$B:$N,6,0)))","v":2131429.1206800002},{"$f":"IFERROR((E93/VLOOKUP(\"TOTAL\",$D$12:$L$312,2,0))*100,\"\")","v":0.71665068293906198},{"$f":"IFERROR((E93/VLOOKUP(\"TOTAL\",$D$12:$L$312,3,0))*100,\"\")","v":0.79046852165931325},{"$f":"IF(E92=\"\",\"\",E93-F93)","v":103525.1188799995},{"$f":"IF(E92=\"\",\"\",IFERROR((E93/F93-1)*100,\"ND\"))","v":4.857075371428321},{"$f":"IF(E92=\"\",\"\",IFERROR((E93/VLOOKUP(B93&\"|\"&VLOOKUP(TDPrimas_!$B$4,Cat!R:T,2,0),'TD Operación'!A:D,4,0))*100,\"ND\"))","v":39.956468099145376},{"$f":"IF(E92=\"\",\"\",(VLOOKUP(B93,'TDPrimas Vida'!$B:$N,7,0)))","v":4.857075371428321}]
[null,{"$f":"IF(C94=\"\",B93,D94)","v":"Afirme"},null,{"$f":"IF(D93=\"\",\"\",\"Renovación\")","v":"Renovación"},{"$f":"IF(E92=\"\",\"\",(VLOOKUP(B94,'TDPrimas Vida'!$B:$N,8,0)))","v":0},{"$f":"IF(E92=\"\",\"\",(VLOOKUP(B94,'TDPrimas Vida'!$B:$N,9,0)))","v":0},{"$f":"IFERROR((E94/VLOOKUP(\"TOTAL\",$D$12:$L$312,2,0))*100,\"\")","v":0},{"$f":"IFERROR((E94/VLOOKUP(\"TOTAL\",$D$12:$L$312,3,0))*100,\"\")","v":0},{"$f":"IF(E92=\"\",\"\",E94-F94)","v":0},{"$f":"IF(E92=\"\",\"\",IFERROR((E94/F94-1)*100,\"ND\"))","v":"ND"},{"$f":"IF(E93=\"\",\"\",IFERROR((E94/VLOOKUP(B94&\"|\"&VLOOKUP(TDPrimas_!$B$4,Cat!R:T,2,0),'TD Operación'!A:D,4,0))*100,\"ND\"))","v":0},{"$f":"IF(E92=\"\",\"\",(VLOOKUP(B94,'TDPrimas Vida'!$B:$N,10,0)))","v":0}]
[null,{"$f":"IF(C95=\"\",B94,D95)","v":"Afirme"},null,{"$f":"IF(D94=\"\",\"\",\"Únicas\")","v":"Únicas"},{"$f":"IF(E93=\"\",\"\",(VLOOKUP(B95,'TDPrimas Vida'!$B:$N,11,0)))","v":0},{"$f":"IF(E93=\"\",\"\",(VLOOKUP(B95,'TDPrimas Vida'!$B:$N,12,0)))","v":0},{"$f":"IFERROR((E95/VLOOKUP(\"TOTAL\",$D$12:$L$312,2,0))*100,\"\")","v":0},{"$f":"IFERROR((E95/VLOOKUP(\"TOTAL\",$D$12:$L$312,3,0))*100,\"\")","v":0},{"$f":"IF(E92=\"\",\"\",E95-F95)","v":0},{"$f":"IF(E92=\"\",\"\",IFERROR((E95/F95-1)*100,\"ND\"))","v":"ND"},{"$f":"IF(E94=\"\",\"\",IFERROR((E95/VLOOKUP(B95&\"|\"&VLOOKUP(TDPrimas_!$B$4,Cat!R:T,2,0),'TD Operación'!A:D,4,0))*100,\"ND\"))","v":0},{"$f":"IF(E92=\"\",\"\",(VLOOKUP(B95,'TDPrimas Vida'!$B:$N,13,0)))","v":0}]
[null,{"$f":"IF(C96=\"\",B92,D96)","v":"Thona"},{"$f":"IF('TDPrimas Vida'!A28=\"\",\"\",'TDPrimas Vida'!A28)","v":20},{"$f":"IF('TDPrimas Vida'!B28=\"\",\"\",'TDPrimas Vida'!B28)","v":"Thona"},{"$f":"IF('TDPrimas Vida'!C28=\"\",\"\",'TDPrimas Vida'!C28)","v":1848324.33846},{"$f":"IF('TDPrimas Vida'!D28=\"\",\"\",'TDPrimas Vida'!D28)","v":1916423.7508},{"$f":"IF('TDPrimas Vida'!C28=\"\",\"\",IFERROR((E96/VLOOKUP(\"TOTAL\",$D$12:$L$312,2,0))*100,\"\"))","v":0.59267562440608468},{"$f":"IF('TDPrimas Vida'!C28=\"\",\"\",IFERROR((E96/VLOOKUP(\"TOTAL\",$D$12:$L$312,3,0))*100,\"\"))","v":0.65372354453979464},{"$f":"IF('TDPrimas Vida'!C28=\"\",\"\",E96-F96)","v":-68099.412340000039},{"$f":"IFERROR(IF('TDPrimas Vida'!C28=\"\",\"\",(E96/F96-1)*100),\"ND\")","v":-3.5534631790893001},{"$f":"IF(E95=\"\",\"\",IFERROR((E96/VLOOKUP(B96&\"|\"&VLOOKUP(TDPrimas_!$B$4,Cat!R:T,2,0),'TD Operación'!A:D,4,0))*100,\"ND\"))","v":94.658415406188936},{"$f":"IF('TDPrimas Vida'!E28=\"\",\"\",'TDPrimas Vida'!E28)","v":94.658415406188936}]
[null,{"$f":"IF(C97=\"\",B96,D97)","v":"Thona"},null,{"$f":"IF(D96=\"\",\"\",\"1er Año\")","v":"1er Año"},{"$f":"IF(E96=\"\",\"\",(VLOOKUP(B97,'TDPrimas Vida'!$B:$N,5,0)))","v":1848128.0504599998},{"$f":"IF(E96=\"\",\"\",(VLOOKUP(B97,'TDPrimas Vida'!$B:$N,6,0)))","v":1912984.8618000001},{"$f":"IFERROR((E97/VLOOKUP(\"TOTAL\",$D$12:$L$312,2,0))*100,\"\")","v":0.59261268355174279},{"$f":"IFERROR((E97/VLOOKUP(\"TOTAL\",$D$12:$L$312,3,0))*100,\"\")","v":0.65365412052992755},{"$f":"IF(E96=\"\",\"\",E97-F97)","v":-64856.811340000248},{"$f":"IF(E96=\"\",\"\",IFERROR((E97/F97-1)*100,\"ND\"))","v":-3.3903462925981565},{"$f":"IF(E96=\"\",\"\",IFERROR((E97/VLOOKUP(B97&\"|\"&VLOOKUP(TDPrimas_!$B$4,Cat!R:T,2,0),'TD Operación'!A:D,4,0))*100,\"ND\"))","v":94.648362889616692},{"$f":"IF(E96=\"\",\"\",(VLOOKUP(B97,'TDPrimas Vida'!$B:$N,7,0)))","v":-3.3903462925981565}]
[null,{"$f":"IF(C98=\"\",B97,D98)","v":"Thona"},null,{"$f":"IF(D97=\"\",\"\",\"Renovación\")","v":"Renovación"},{"$f":"IF(E96=\"\",\"\",(VLOOKUP(B98,'TDPrimas Vida'!$B:$N,8,0)))","v":0},{"$f":"IF(E96=\"\",\"\",(VLOOKUP(B98,'TDPrimas Vida'!$B:$N,9,0)))","v":0},{"$f":"IFERROR((E98/VLOOKUP(\"TOTAL\",$D$12:$L$312,2,0))*100,\"\")","v":0},{"$f":"IFERROR((E98/VLOOKUP(\"TOTAL\",$D$12:$L$312,3,0))*100,\"\")","v":0},{"$f":"IF(E96=\"\",\"\",E98-F98)","v":0},{"$f":"IF(E96=\"\",\"\",IFERROR((E98/F98-1)*100,\"ND\"))","v":"ND"},{"$f":"IF(E97=\"\",\"\",IFERROR((E98/VLOOKUP(B98&\"|\"&VLOOKUP(TDPrimas_!$B$4,Cat!R:T,2,0),'TD Operación'!A:D,4,0))*100,\"ND\"))","v":0},{"$f":"IF(E96=\"\",\"\",(VLOOKUP(B98,'TDPrimas Vida'!$B:$N,10,0)))","v":0}]
[null,{"$f":"IF(C99=\"\",B98,D99)","v":"Thona"},null,{"$f":"IF(D98=\"\",\"\",\"Únicas\")","v":"Únicas"},{"$f":"IF(E97=\"\",\"\",(VLOOKUP(B99,'TDPrimas Vida'!$B:$N,11,0)))","v":196.28800000000001},{"$f":"IF(E97=\"\",\"\",(VLOOKUP(B99,'TDPrimas Vida'!$B:$N,12,0)))","v":3438.8890000000001},{"$f":"IFERROR((E99/VLOOKUP(\"TOTAL\",$D$12:$L$312,2,0))*100,\"\")","v":6.29408543418037E-5},{"$f":"IFERROR((E99/VLOOKUP(\"TOTAL\",$D$12:$L$312,3,0))*100,\"\")","v":6.9424009866980474E-5},{"$f":"IF(E96=\"\",\"\",E99-F99)","v":-3242.6010000000001},{"$f":"IF(E96=\"\",\"\",IFERROR((E99/F99-1)*100,\"ND\"))","v":-94.29211003902715},{"$f":"IF(E98=\"\",\"\",IFERROR((E99/VLOOKUP(B99&\"|\"&VLOOKUP(TDPrimas_!$B$4,Cat!R:T,2,0),'TD Operación'!A:D,4,0))*100,\"ND\"))","v":1.0052516572243425E-2},{"$f":"IF(E96=\"\",\"\",(VLOOKUP(B99,'TDPrimas Vida'!$B:$N,13,0)))","v":6.2940854341803686E-5}]
[null,{"$f":"IF(C100=\"\",B96,D100)","v":"Prudential"},{"$f":"IF('TDPrimas Vida'!A29=\"\",\"\",'TDPrimas Vida'!A29)","v":21},{"$f":"IF('TDPrimas Vida'!B29=\"\",\"\",'TDPrimas Vida'!B29)","v":"Prudential"},{"$f":"IF('TDPrimas Vida'!C29=\"\",\"\",'TDPrimas Vida'!C29)","v":1828165.4904},{"$f":"IF('TDPrimas Vida'!D29=\"\",\"\",'TDPrimas Vida'!D29)","v":1558409.86843},{"$f":"IF('TDPrimas Vida'!C29=\"\",\"\",IFERROR((E100/VLOOKUP(\"TOTAL\",$D$12:$L$312,2,0))*100,\"\"))","v":0.58621157607178498},{"$f":"IF('TDPrimas Vida'!C29=\"\",\"\",IFERROR((E100/VLOOKUP(\"TOTAL\",$D$12:$L$312,3,0))*100,\"\"))","v":0.64659367380585064},{"$f":"IF('TDPrimas Vida'!C29=\"\",\"\",E100-F100)","v":269755.62196999998},{"$f":"IFERROR(IF('TDPrimas Vida'!C29=\"\",\"\",(E100/F100-1)*100),\"ND\")","v":17.309671058600372},{"$f":"IF(E99=\"\",\"\",IFERROR((E100/VLOOKUP(B100&\"|\"&VLOOKUP(TDPrimas_!$B$4,Cat!R:T,2,0),'TD Operación'!A:D,4,0))*100,\"ND\"))","v":100},{"$f":"IF('TDPrimas Vida'!E29=\"\",\"\",'TDPrimas Vida'!E29)","v":100}]
[null,{"$f":"IF(C101=\"\",B100,D101)","v":"Prudential"},null,{"$f":"IF(D100=\"\",\"\",\"1er Año\")","v":"1er Año"},{"$f":"IF(E100=\"\",\"\",(VLOOKUP(B101,'TDPrimas Vida'!$B:$N,5,0)))","v":363594.41709},{"$f":"IF(E100=\"\",\"\",(VLOOKUP(B101,'TDPrimas Vida'!$B:$N,6,0)))","v":332712.23219000001},{"$f":"IFERROR((E101/VLOOKUP(\"TOTAL\",$D$12:$L$312,2,0))*100,\"\")","v":0.11658860065594796},{"$f":"IFERROR((E101/VLOOKUP(\"TOTAL\",$D$12:$L$312,3,0))*100,\"\")","v":0.12859768503237679},{"$f":"IF(E100=\"\",\"\",E101-F101)","v":30882.184899999993},{"$f":"IF(E100=\"\",\"\",IFERROR((E101/F101-1)*100,\"ND\"))","v":9.2819505603161332},{"$f":"IF(E100=\"\",\"\",IFERROR((E101/VLOOKUP(B101&\"|\"&VLOOKUP(TDPrimas_!$B$4,Cat!R:T,2,0),'TD Operación'!A:D,4,0))*100,\"ND\"))","v":19.88848487728789},{"$f":"IF(E100=\"\",\"\",(VLOOKUP(B101,'TDPrimas Vida'!$B:$N,7,0)))","v":9.2819505603161332}]
[null,{"$f":"IF(C102=\"\",B101,D102)","v":"Prudential"},null,{"$f":"IF(D101=\"\",\"\",\"Renovación\")","v":"Renovación"},{"$f":"IF(E100=\"\",\"\",(VLOOKUP(B102,'TDPrimas Vida'!$B:$N,8,0)))","v":1453163.77443},{"$f":"IF(E100=\"\",\"\",(VLOOKUP(B102,'TDPrimas Vida'!$B:$N,9,0)))","v":1210725.9496600002},{"$f":"IFERROR((E102/VLOOKUP(\"TOTAL\",$D$12:$L$312,2,0))*100,\"\")","v":0.46596516068829641},{"$f":"IFERROR((E102/VLOOKUP(\"TOTAL\",$D$12:$L$312,3,0))*100,\"\")","v":0.51396140474388108},{"$f":"IF(E100=\"\",\"\",E102-F102)","v":242437.82476999983},{"$f":"IF(E100=\"\",\"\",IFERROR((E102/F102-1)*100,\"ND\"))","v":20.024170196243162},{"$f":"IF(E101=\"\",\"\",IFERROR((E102/VLOOKUP(B102&\"|\"&VLOOKUP(TDPrimas_!$B$4,Cat!R:T,2,0),'TD Operación'!A:D,4,0))*100,\"ND\"))","v":79.487539944321441},{"$f":"IF(E100=\"\",\"\",(VLOOKUP(B102,'TDPrimas Vida'!$B:$N,10,0)))","v":0.46596516068829624}]
[null,{"$f":"IF(C103=\"\",B102,D103)","v":"Prudential"},null,{"$f":"IF(D102=\"\",\"\",\"Únicas\")","v":"Únicas"},{"$f":"IF(E101=\"\",\"\",(VLOOKUP(B103,'TDPrimas Vida'!$B:$N,11,0)))","v":11407.29888},{"$f":"IF(E101=\"\",\"\",(VLOOKUP(B103,'TDPrimas Vida'!$B:$N,12,0)))","v":14971.686580000001},{"$f":"IFERROR((E103/VLOOKUP(\"TOTAL\",$D$12:$L$312,2,0))*100,\"\")","v":3.6578147275406572E-3},{"$f":"IFERROR((E103/VLOOKUP(\"TOTAL\",$D$12:$L$312,3,0))*100,\"\")","v":4.0345840295928194E-3},{"$f":"IF(E100=\"\",\"\",E103-F103)","v":-3564.3877000000011},{"$f":"IF(E100=\"\",\"\",IFERROR((E103/F103-1)*100,\"ND\"))","v":-23.80752282619585},{"$f":"IF(E102=\"\",\"\",IFERROR((E103/VLOOKUP(B103&\"|\"&VLOOKUP(TDPrimas_!$B$4,Cat!R:T,2,0),'TD Operación'!A:D,4,0))*100,\"ND\"))","v":0.62397517839066641},{"$f":"IF(E100=\"\",\"\",(VLOOKUP(B103,'TDPrimas Vida'!$B:$N,13,0)))","v":3.6578147275406559E-3}]
[null,{"$f":"IF(C104=\"\",B100,D104)","v":"Insignia Life"},{"$f":"IF('TDPrimas Vida'!A30=\"\",\"\",'TDPrimas Vida'!A30)","v":22},{"$f":"IF('TDPrimas Vida'!B30=\"\",\"\",'TDPrimas Vida'!B30)","v":"Insignia Life"},{"$f":"IF('TDPrimas Vida'!C30=\"\",\"\",'TDPrimas Vida'!C30)","v":1793771.2526099999},{"$f":"IF('TDPrimas Vida'!D30=\"\",\"\",'TDPrimas Vida'!D30)","v":1484029.3225799999},{"$f":"IF('TDPrimas Vida'!C30=\"\",\"\",IFERROR((E104/VLOOKUP(\"TOTAL\",$D$12:$L$312,2,0))*100,\"\"))","v":0.57518286972734334},{"$f":"IF('TDPrimas Vida'!C30=\"\",\"\",IFERROR((E104/VLOOKUP(\"TOTAL\",$D$12:$L$312,3,0))*100,\"\"))","v":0.63442896733525511},{"$f":"IF('TDPrimas Vida'!C30=\"\",\"\",E104-F104)","v":309741.93002999993},{"$f":"IFERROR(IF('TDPrimas Vida'!C30=\"\",\"\",(E104/F104-1)*100),\"ND\")","v":20.871685304136079},{"$f":"IF(E103=\"\",\"\",IFERROR((E104/VLOOKUP(B104&\"|\"&VLOOKUP(TDPrimas_!$B$4,Cat!R:T,2,0),'TD Operación'!A:D,4,0))*100,\"ND\"))","v":100},{"$f":"IF('TDPrimas Vida'!E30=\"\",\"\",'TDPrimas Vida'!E30)","v":100}]
[null,{"$f":"IF(C105=\"\",B104,D105)","v":"Insignia Life"},null,{"$f":"IF(D104=\"\",\"\",\"1er Año\")","v":"1er Año"},{"$f":"IF(E104=\"\",\"\",(VLOOKUP(B105,'TDPrimas Vida'!$B:$N,5,0)))","v":518992.95268999995},{"$f":"IF(E104=\"\",\"\",(VLOOKUP(B105,'TDPrimas Vida'!$B:$N,6,0)))","v":489787.23183},{"$f":"IFERROR((E105/VLOOKUP(\"TOTAL\",$D$12:$L$312,2,0))*100,\"\")","v":0.16641801760517153},{"$f":"IFERROR((E105/VLOOKUP(\"TOTAL\",$D$12:$L$312,3,0))*100,\"\")","v":0.18355972789189298},{"$f":"IF(E104=\"\",\"\",E105-F105)","v":29205.720859999943},{"$f":"IF(E104=\"\",\"\",IFERROR((E105/F105-1)*100,\"ND\"))","v":5.9629404284138099},{"$f":"IF(E104=\"\",\"\",IFERROR((E105/VLOOKUP(B105&\"|\"&VLOOKUP(TDPrimas_!$B$4,Cat!R:T,2,0),'TD Operación'!A:D,4,0))*100,\"ND\"))","v":28.933062224898915},{"$f":"IF(E104=\"\",\"\",(VLOOKUP(B105,'TDPrimas Vida'!$B:$N,7,0)))","v":5.9629404284138099}]
[null,{"$f":"IF(C106=\"\",B105,D106)","v":"Insignia Life"},null,{"$f":"IF(D105=\"\",\"\",\"Renovación\")","v":"Renovación"},{"$f":"IF(E104=\"\",\"\",(VLOOKUP(B106,'TDPrimas Vida'!$B:$N,8,0)))","v":1275785.6017999998},{"$f":"IF(E104=\"\",\"\",(VLOOKUP(B106,'TDPrimas Vida'!$B:$N,9,0)))","v":995041.12945999997},{"$f":"IFERROR((E106/VLOOKUP(\"TOTAL\",$D$12:$L$312,2,0))*100,\"\")","v":0.40908784915157403},{"$f":"IFERROR((E106/VLOOKUP(\"TOTAL\",$D$12:$L$312,3,0))*100,\"\")","v":0.45122550643704568},{"$f":"IF(E104=\"\",\"\",E106-F106)","v":280744.47233999986},{"$f":"IF(E104=\"\",\"\",IFERROR((E106/F106-1)*100,\"ND\"))","v":28.21435858559509},{"$f":"IF(E105=\"\",\"\",IFERROR((E106/VLOOKUP(B106&\"|\"&VLOOKUP(TDPrimas_!$B$4,Cat!R:T,2,0),'TD Operación'!A:D,4,0))*100,\"ND\"))","v":71.123093312131473},{"$f":"IF(E104=\"\",\"\",(VLOOKUP(B106,'TDPrimas Vida'!$B:$N,10,0)))","v":0.40908784915157387}]
[null,{"$f":"IF(C107=\"\",B106,D107)","v":"Insignia Life"},null,{"$f":"IF(D106=\"\",\"\",\"Únicas\")","v":"Únicas"},{"$f":"IF(E105=\"\",\"\",(VLOOKUP(B107,'TDPrimas Vida'!$B:$N,11,0)))","v":-1007.30188},{"$f":"IF(E105=\"\",\"\",(VLOOKUP(B107,'TDPrimas Vida'!$B:$N,12,0)))","v":-799.03870999999992},{"$f":"IFERROR((E107/VLOOKUP(\"TOTAL\",$D$12:$L$312,2,0))*100,\"\")","v":-3.2299702940223054E-4},{"$f":"IFERROR((E107/VLOOKUP(\"TOTAL\",$D$12:$L$312,3,0))*100,\"\")","v":-3.5626699368350581E-4},{"$f":"IF(E104=\"\",\"\",E107-F107)","v":-208.26317000000006},{"$f":"IF(E104=\"\",\"\",IFERROR((E107/F107-1)*100,\"ND\"))","v":26.06421533695158},{"$f":"IF(E106=\"\",\"\",IFERROR((E107/VLOOKUP(B107&\"|\"&VLOOKUP(TDPrimas_!$B$4,Cat!R:T,2,0),'TD Operación'!A:D,4,0))*100,\"ND\"))","v":-5.6155537030395629E-2},{"$f":"IF(E104=\"\",\"\",(VLOOKUP(B107,'TDPrimas Vida'!$B:$N,13,0)))","v":-3.2299702940223043E-4}]
[null,{"$f":"IF(C108=\"\",B104,D108)","v":"Assurant Vida"},{"$f":"IF('TDPrimas Vida'!A31=\"\",\"\",'TDPrimas Vida'!A31)","v":23},{"$f":"IF('TDPrimas Vida'!B31=\"\",\"\",'TDPrimas Vida'!B31)","v":"Assurant Vida"},{"$f":"IF('TDPrimas Vida'!C31=\"\",\"\",'TDPrimas Vida'!C31)","v":1204700.1433699999},{"$f":"IF('TDPrimas Vida'!D31=\"\",\"\",'TDPrimas Vida'!D31)","v":1097528.57672},{"$f":"IF('TDPrimas Vida'!C31=\"\",\"\",IFERROR((E108/VLOOKUP(\"TOTAL\",$D$12:$L$312,2,0))*100,\"\"))","v":0.38629389595594843},{"$f":"IF('TDPrimas Vida'!C31=\"\",\"\",IFERROR((E108/VLOOKUP(\"TOTAL\",$D$12:$L$312,3,0))*100,\"\"))","v":0.42608368642031946},{"$f":"IF('TDPrimas Vida'!C31=\"\",\"\",E108-F108)","v":107171.56664999994},{"$f":"IFERROR(IF('TDPrimas Vida'!C31=\"\",\"\",(E108/F108-1)*100),\"ND\")","v":9.7648087642770776},{"$f":"IF(E107=\"\",\"\",IFERROR((E108/VLOOKUP(B108&\"|\"&VLOOKUP(TDPrimas_!$B$4,Cat!R:T,2,0),'TD Operación'!A:D,4,0))*100,\"ND\"))","v":100},{"$f":"IF('TDPrimas Vida'!E31=\"\",\"\",'TDPrimas Vida'!E31)","v":100}]
[null,{"$f":"IF(C109=\"\",B108,D109)","v":"Assurant Vida"},null,{"$f":"IF(D108=\"\",\"\",\"1er Año\")","v":"1er Año"},{"$f":"IF(E108=\"\",\"\",(VLOOKUP(B109,'TDPrimas Vida'!$B:$N,5,0)))","v":1198208.89053},{"$f":"IF(E108=\"\",\"\",(VLOOKUP(B109,'TDPrimas Vida'!$B:$N,6,0)))","v":1090377.4860499999},{"$f":"IFERROR((E109/VLOOKUP(\"TOTAL\",$D$12:$L$312,2,0))*100,\"\")","v":0.38421243911957403},{"$f":"IFERROR((E109/VLOOKUP(\"TOTAL\",$D$12:$L$312,3,0))*100,\"\")","v":0.42378783134403758},{"$f":"IF(E108=\"\",\"\",E109-F109)","v":107831.40448000003},{"$f":"IF(E108=\"\",\"\",IFERROR((E109/F109-1)*100,\"ND\"))","v":9.8893645420568888},{"$f":"IF(E108=\"\",\"\",IFERROR((E109/VLOOKUP(B109&\"|\"&VLOOKUP(TDPrimas_!$B$4,Cat!R:T,2,0),'TD Operación'!A:D,4,0))*100,\"ND\"))","v":99.461172734499598},{"$f":"IF(E108=\"\",\"\",(VLOOKUP(B109,'TDPrimas Vida'!$B:$N,7,0)))","v":9.8893645420568888}]
[null,{"$f":"IF(C110=\"\",B109,D110)","v":"Assurant Vida"},null,{"$f":"IF(D109=\"\",\"\",\"Renovación\")","v":"Renovación"},{"$f":"IF(E108=\"\",\"\",(VLOOKUP(B110,'TDPrimas Vida'!$B:$N,8,0)))","v":6491.2528400000001},{"$f":"IF(E108=\"\",\"\",(VLOOKUP(B110,'TDPrimas Vida'!$B:$N,9,0)))","v":7151.0906699999996},{"$f":"IFERROR((E110/VLOOKUP(\"TOTAL\",$D$12:$L$312,2,0))*100,\"\")","v":2.081456836374407E-3},{"$f":"IFERROR((E110/VLOOKUP(\"TOTAL\",$D$12:$L$312,3,0))*100,\"\")","v":2.2958550762819177E-3},{"$f":"IF(E108=\"\",\"\",E110-F110)","v":-659.83782999999949},{"$f":"IF(E108=\"\",\"\",IFERROR((E110/F110-1)*100,\"ND\"))","v":-9.2270936064078661},{"$f":"IF(E109=\"\",\"\",IFERROR((E110/VLOOKUP(B110&\"|\"&VLOOKUP(TDPrimas_!$B$4,Cat!R:T,2,0),'TD Operación'!A:D,4,0))*100,\"ND\"))","v":0.5388272655004025},{"$f":"IF(E108=\"\",\"\",(VLOOKUP(B110,'TDPrimas Vida'!$B:$N,10,0)))","v":2.0814568363744066E-3}]
[null,{"$f":"IF(C111=\"\",B110,D111)","v":"Assurant Vida"},null,{"$f":"IF(D110=\"\",\"\",\"Únicas\")","v":"Únicas"},{"$f":"IF(E109=\"\",\"\",(VLOOKUP(B111,'TDPrimas Vida'!$B:$N,11,0)))","v":0},{"$f":"IF(E109=\"\",\"\",(VLOOKUP(B111,'TDPrimas Vida'!$B:$N,12,0)))","v":0},{"$f":"IFERROR((E111/VLOOKUP(\"TOTAL\",$D$12:$L$312,2,0))*100,\"\")","v":0},{"$f":"IFERROR((E111/VLOOKUP(\"TOTAL\",$D$12:$L$312,3,0))*100,\"\")","v":0},{"$f":"IF(E108=\"\",\"\",E111-F111)","v":0},{"$f":"IF(E108=\"\",\"\",IFERROR((E111/F111-1)*100,\"ND\"))","v":"ND"},{"$f":"IF(E110=\"\",\"\",IFERROR((E111/VLOOKUP(B111&\"|\"&VLOOKUP(TDPrimas_!$B$4,Cat!R:T,2,0),'TD Operación'!A:D,4,0))*100,\"ND\"))","v":0},{"$f":"IF(E108=\"\",\"\",(VLOOKUP(B111,'TDPrimas Vida'!$B:$N,13,0)))","v":0}]
[null,{"$f":"IF(C112=\"\",B108,D112)","v":"Chubb Seguros México"},{"$f":"IF('TDPrimas Vida'!A32=\"\",\"\",'TDPrimas Vida'!A32)","v":24},{"$f":"IF('TDPrimas Vida'!B32=\"\",\"\",'TDPrimas Vida'!B32)","v":"Chubb Seguros México"},{"$f":"IF('TDPrimas Vida'!C32=\"\",\"\",'TDPrimas Vida'!C32)","v":917106.39815999998},{"$f":"IF('TDPrimas Vida'!D32=\"\",\"\",'TDPrimas Vida'!D32)","v":870755.25255999994},{"$f":"IF('TDPrimas Vida'!C32=\"\",\"\",IFERROR((E112/VLOOKUP(\"TOTAL\",$D$12:$L$312,2,0))*100,\"\"))","v":0.29407533941211278},{"$f":"IF('TDPrimas Vida'!C32=\"\",\"\",IFERROR((E112/VLOOKUP(\"TOTAL\",$D$12:$L$312,3,0))*100,\"\"))","v":0.32436625588385826},{"$f":"IF('TDPrimas Vida'!C32=\"\",\"\",E112-F112)","v":46351.145600000047},{"$f":"IFERROR(IF('TDPrimas Vida'!C32=\"\",\"\",(E112/F112-1)*100),\"ND\")","v":5.3230968706452053},{"$f":"IF(E111=\"\",\"\",IFERROR((E112/VLOOKUP(B112&\"|\"&VLOOKUP(TDPrimas_!$B$4,Cat!R:T,2,0),'TD Operación'!A:D,4,0))*100,\"ND\"))","v":3.801141485763964},{"$f":"IF('TDPrimas Vida'!E32=\"\",\"\",'TDPrimas Vida'!E32)","v":3.801141485763964}]
[null,{"$f":"IF(C113=\"\",B112,D113)","v":"Chubb Seguros México"},null,{"$f":"IF(D112=\"\",\"\",\"1er Año\")","v":"1er Año"},{"$f":"IF(E112=\"\",\"\",(VLOOKUP(B113,'TDPrimas Vida'!$B:$N,5,0)))","v":917106.39815999987},{"$f":"IF(E112=\"\",\"\",(VLOOKUP(B113,'TDPrimas Vida'!$B:$N,6,0)))","v":870755.25255999994},{"$f":"IFERROR((E113/VLOOKUP(\"TOTAL\",$D$12:$L$312,2,0))*100,\"\")","v":0.29407533941211272},{"$f":"IFERROR((E113/VLOOKUP(\"TOTAL\",$D$12:$L$312,3,0))*100,\"\")","v":0.3243662558838582},{"$f":"IF(E112=\"\",\"\",E113-F113)","v":46351.145599999931},{"$f":"IF(E112=\"\",\"\",IFERROR((E113/F113-1)*100,\"ND\"))","v":5.3230968706451831},{"$f":"IF(E112=\"\",\"\",IFERROR((E113/VLOOKUP(B113&\"|\"&VLOOKUP(TDPrimas_!$B$4,Cat!R:T,2,0),'TD Operación'!A:D,4,0))*100,\"ND\"))","v":3.8011414857639632},{"$f":"IF(E112=\"\",\"\",(VLOOKUP(B113,'TDPrimas Vida'!$B:$N,7,0)))","v":5.3230968706451831}]
[null,{"$f":"IF(C114=\"\",B113,D114)","v":"Chubb Seguros México"},null,{"$f":"IF(D113=\"\",\"\",\"Renovación\")","v":"Renovación"},{"$f":"IF(E112=\"\",\"\",(VLOOKUP(B114,'TDPrimas Vida'!$B:$N,8,0)))","v":0},{"$f":"IF(E112=\"\",\"\",(VLOOKUP(B114,'TDPrimas Vida'!$B:$N,9,0)))","v":0},{"$f":"IFERROR((E114/VLOOKUP(\"TOTAL\",$D$12:$L$312,2,0))*100,\"\")","v":0},{"$f":"IFERROR((E114/VLOOKUP(\"TOTAL\",$D$12:$L$312,3,0))*100,\"\")","v":0},{"$f":"IF(E112=\"\",\"\",E114-F114)","v":0},{"$f":"IF(E112=\"\",\"\",IFERROR((E114/F114-1)*100,\"ND\"))","v":"ND"},{"$f":"IF(E113=\"\",\"\",IFERROR((E114/VLOOKUP(B114&\"|\"&VLOOKUP(TDPrimas_!$B$4,Cat!R:T,2,0),'TD Operación'!A:D,4,0))*100,\"ND\"))","v":0},{"$f":"IF(E112=\"\",\"\",(VLOOKUP(B114,'TDPrimas Vida'!$B:$N,10,0)))","v":0}]
[null,{"$f":"IF(C115=\"\",B114,D115)","v":"Chubb Seguros México"},null,{"$f":"IF(D114=\"\",\"\",\"Únicas\")","v":"Únicas"},{"$f":"IF(E113=\"\",\"\",(VLOOKUP(B115,'TDPrimas Vida'!$B:$N,11,0)))","v":0},{"$f":"IF(E113=\"\",\"\",(VLOOKUP(B115,'TDPrimas Vida'!$B:$N,12,0)))","v":0},{"$f":"IFERROR((E115/VLOOKUP(\"TOTAL\",$D$12:$L$312,2,0))*100,\"\")","v":0},{"$f":"IFERROR((E115/VLOOKUP(\"TOTAL\",$D$12:$L$312,3,0))*100,\"\")","v":0},{"$f":"IF(E112=\"\",\"\",E115-F115)","v":0},{"$f":"IF(E112=\"\",\"\",IFERROR((E115/F115-1)*100,\"ND\"))","v":"ND"},{"$f":"IF(E114=\"\",\"\",IFERROR((E115/VLOOKUP(B115&\"|\"&VLOOKUP(TDPrimas_!$B$4,Cat!R:T,2,0),'TD Operación'!A:D,4,0))*100,\"ND\"))","v":0},{"$f":"IF(E112=\"\",\"\",(VLOOKUP(B115,'TDPrimas Vida'!$B:$N,13,0)))","v":0}]
[null,{"$f":"IF(C116=\"\",B112,D116)","v":"Seguros SURA"},{"$f":"IF('TDPrimas Vida'!A33=\"\",\"\",'TDPrimas Vida'!A33)","v":25},{"$f":"IF('TDPrimas Vida'!B33=\"\",\"\",'TDPrimas Vida'!B33)","v":"Seguros SURA"},{"$f":"IF('TDPrimas Vida'!C33=\"\",\"\",'TDPrimas Vida'!C33)","v":847765.29477000004},{"$f":"IF('TDPrimas Vida'!D33=\"\",\"\",'TDPrimas Vida'!D33)","v":905501.84166999999},{"$f":"IF('TDPrimas Vida'!C33=\"\",\"\",IFERROR((E116/VLOOKUP(\"TOTAL\",$D$12:$L$312,2,0))*100,\"\"))","v":0.27184072349891408},{"$f":"IF('TDPrimas Vida'!C33=\"\",\"\",IFERROR((E116/VLOOKUP(\"TOTAL\",$D$12:$L$312,3,0))*100,\"\"))","v":0.29984138708935898},{"$f":"IF('TDPrimas Vida'!C33=\"\",\"\",E116-F116)","v":-57736.546899999958},{"$f":"IFERROR(IF('TDPrimas Vida'!C33=\"\",\"\",(E116/F116-1)*100),\"ND\")","v":-6.3761932050317549},{"$f":"IF(E115=\"\",\"\",IFERROR((E116/VLOOKUP(B116&\"|\"&VLOOKUP(TDPrimas_!$B$4,Cat!R:T,2,0),'TD Operación'!A:D,4,0))*100,\"ND\"))","v":17.404247622903814},{"$f":"IF('TDPrimas Vida'!E33=\"\",\"\",'TDPrimas Vida'!E33)","v":17.404247622903814}]
[null,{"$f":"IF(C117=\"\",B116,D117)","v":"Seguros SURA"},null,{"$f":"IF(D116=\"\",\"\",\"1er Año\")","v":"1er Año"},{"$f":"IF(E116=\"\",\"\",(VLOOKUP(B117,'TDPrimas Vida'!$B:$N,5,0)))","v":724403.63311000005},{"$f":"IF(E116=\"\",\"\",(VLOOKUP(B117,'TDPrimas Vida'!$B:$N,6,0)))","v":744922.00021999993},{"$f":"IFERROR((E117/VLOOKUP(\"TOTAL\",$D$12:$L$312,2,0))*100,\"\")","v":0.23228411087916698},{"$f":"IFERROR((E117/VLOOKUP(\"TOTAL\",$D$12:$L$312,3,0))*100,\"\")","v":0.25621028780519006},{"$f":"IF(E116=\"\",\"\",E117-F117)","v":-20518.367109999876},{"$f":"IF(E116=\"\",\"\",IFERROR((E117/F117-1)*100,\"ND\"))","v":-2.7544316188728657},{"$f":"IF(E116=\"\",\"\",IFERROR((E117/VLOOKUP(B117&\"|\"&VLOOKUP(TDPrimas_!$B$4,Cat!R:T,2,0),'TD Operación'!A:D,4,0))*100,\"ND\"))","v":14.871687113587367},{"$f":"IF(E116=\"\",\"\",(VLOOKUP(B117,'TDPrimas Vida'!$B:$N,7,0)))","v":-2.7544316188728657}]
[null,{"$f":"IF(C118=\"\",B117,D118)","v":"Seguros SURA"},null,{"$f":"IF(D117=\"\",\"\",\"Renovación\")","v":"Renovación"},{"$f":"IF(E116=\"\",\"\",(VLOOKUP(B118,'TDPrimas Vida'!$B:$N,8,0)))","v":123312.17485999998},{"$f":"IF(E116=\"\",\"\",(VLOOKUP(B118,'TDPrimas Vida'!$B:$N,9,0)))","v":160522.79031000001},{"$f":"IFERROR((E118/VLOOKUP(\"TOTAL\",$D$12:$L$312,2,0))*100,\"\")","v":3.9540744398202064E-2},{"$f":"IFERROR((E118/VLOOKUP(\"TOTAL\",$D$12:$L$312,3,0))*100,\"\")","v":4.3613596573399603E-2},{"$f":"IF(E116=\"\",\"\",E118-F118)","v":-37210.615450000027},{"$f":"IF(E116=\"\",\"\",IFERROR((E118/F118-1)*100,\"ND\"))","v":-23.180892493918936},{"$f":"IF(E117=\"\",\"\",IFERROR((E118/VLOOKUP(B118&\"|\"&VLOOKUP(TDPrimas_!$B$4,Cat!R:T,2,0),'TD Operación'!A:D,4,0))*100,\"ND\"))","v":2.5315445671369567},{"$f":"IF(E116=\"\",\"\",(VLOOKUP(B118,'TDPrimas Vida'!$B:$N,10,0)))","v":3.9540744398202057E-2}]
[null,{"$f":"IF(C119=\"\",B118,D119)","v":"Seguros SURA"},null,{"$f":"IF(D118=\"\",\"\",\"Únicas\")","v":"Únicas"},{"$f":"IF(E117=\"\",\"\",(VLOOKUP(B119,'TDPrimas Vida'!$B:$N,11,0)))","v":49.486800000000002},{"$f":"IF(E117=\"\",\"\",(VLOOKUP(B119,'TDPrimas Vida'!$B:$N,12,0)))","v":57.051139999999997},{"$f":"IFERROR((E119/VLOOKUP(\"TOTAL\",$D$12:$L$312,2,0))*100,\"\")","v":1.5868221545086666E-5},{"$f":"IFERROR((E119/VLOOKUP(\"TOTAL\",$D$12:$L$312,3,0))*100,\"\")","v":1.7502710769304747E-5},{"$f":"IF(E116=\"\",\"\",E119-F119)","v":-7.5643399999999943},{"$f":"IF(E116=\"\",\"\",IFERROR((E119/F119-1)*100,\"ND\"))","v":-13.258876159179279},{"$f":"IF(E118=\"\",\"\",IFERROR((E119/VLOOKUP(B119&\"|\"&VLOOKUP(TDPrimas_!$B$4,Cat!R:T,2,0),'TD Operación'!A:D,4,0))*100,\"ND\"))","v":1.0159421794905903E-3},{"$f":"IF(E116=\"\",\"\",(VLOOKUP(B119,'TDPrimas Vida'!$B:$N,13,0)))","v":1.5868221545086663E-5}]
[null,{"$f":"IF(C120=\"\",B116,D120)","v":"Zurich Aseguradora Mexicana"},{"$f":"IF('TDPrimas Vida'!A34=\"\",\"\",'TDPrimas Vida'!A34)","v":26},{"$f":"IF('TDPrimas Vida'!B34=\"\",\"\",'TDPrimas Vida'!B34)","v":"Zurich Aseguradora Mexicana"},{"$f":"IF('TDPrimas Vida'!C34=\"\",\"\",'TDPrimas Vida'!C34)","v":760246.34629999998},{"$f":"IF('TDPrimas Vida'!D34=\"\",\"\",'TDPrimas Vida'!D34)","v":644093.17502999993},{"$f":"IF('TDPrimas Vida'!C34=\"\",\"\",IFERROR((E120/VLOOKUP(\"TOTAL\",$D$12:$L$312,2,0))*100,\"\"))","v":0.24377727903059157},{"$f":"IF('TDPrimas Vida'!C34=\"\",\"\",IFERROR((E120/VLOOKUP(\"TOTAL\",$D$12:$L$312,3,0))*100,\"\"))","v":0.26888729747548024},{"$f":"IF('TDPrimas Vida'!C34=\"\",\"\",E120-F120)","v":116153.17127000005},{"$f":"IFERROR(IF('TDPrimas Vida'!C34=\"\",\"\",(E120/F120-1)*100),\"ND\")","v":18.033597586962479},{"$f":"IF(E119=\"\",\"\",IFERROR((E120/VLOOKUP(B120&\"|\"&VLOOKUP(TDPrimas_!$B$4,Cat!R:T,2,0),'TD Operación'!A:D,4,0))*100,\"ND\"))","v":6.9221993025157857},{"$f":"IF('TDPrimas Vida'!E34=\"\",\"\",'TDPrimas Vida'!E34)","v":6.9221993025157857}]
[null,{"$f":"IF(C121=\"\",B120,D121)","v":"Zurich Aseguradora Mexicana"},null,{"$f":"IF(D120=\"\",\"\",\"1er Año\")","v":"1er Año"},{"$f":"IF(E120=\"\",\"\",(VLOOKUP(B121,'TDPrimas Vida'!$B:$N,5,0)))","v":351483.66902000003},{"$f":"IF(E120=\"\",\"\",(VLOOKUP(B121,'TDPrimas Vida'!$B:$N,6,0)))","v":229505.18905000002},{"$f":"IFERROR((E121/VLOOKUP(\"TOTAL\",$D$12:$L$312,2,0))*100,\"\")","v":0.1127052209779027},{"$f":"IFERROR((E121/VLOOKUP(\"TOTAL\",$D$12:$L$312,3,0))*100,\"\")","v":0.12431430197529642},{"$f":"IF(E120=\"\",\"\",E121-F121)","v":121978.47997000001},{"$f":"IF(E120=\"\",\"\",IFERROR((E121/F121-1)*100,\"ND\"))","v":53.148462775465077},{"$f":"IF(E120=\"\",\"\",IFERROR((E121/VLOOKUP(B121&\"|\"&VLOOKUP(TDPrimas_!$B$4,Cat!R:T,2,0),'TD Operación'!A:D,4,0))*100,\"ND\"))","v":3.2003310773897944},{"$f":"IF(E120=\"\",\"\",(VLOOKUP(B121,'TDPrimas Vida'!$B:$N,7,0)))","v":53.148462775465077}]
[null,{"$f":"IF(C122=\"\",B121,D122)","v":"Zurich Aseguradora Mexicana"},null,{"$f":"IF(D121=\"\",\"\",\"Renovación\")","v":"Renovación"},{"$f":"IF(E120=\"\",\"\",(VLOOKUP(B122,'TDPrimas Vida'!$B:$N,8,0)))","v":187483.91050999999},{"$f":"IF(E120=\"\",\"\",(VLOOKUP(B122,'TDPrimas Vida'!$B:$N,9,0)))","v":176307.06821},{"$f":"IFERROR((E122/VLOOKUP(\"TOTAL\",$D$12:$L$312,2,0))*100,\"\")","v":6.0117773388295111E-2},{"$f":"IFERROR((E122/VLOOKUP(\"TOTAL\",$D$12:$L$312,3,0))*100,\"\")","v":6.6310140472908813E-2},{"$f":"IF(E120=\"\",\"\",E122-F122)","v":11176.842299999989},{"$f":"IF(E120=\"\",\"\",IFERROR((E122/F122-1)*100,\"ND\"))","v":6.3394181603015465},{"$f":"IF(E121=\"\",\"\",IFERROR((E122/VLOOKUP(B122&\"|\"&VLOOKUP(TDPrimas_!$B$4,Cat!R:T,2,0),'TD Operación'!A:D,4,0))*100,\"ND\"))","v":1.7070795550435045},{"$f":"IF(E120=\"\",\"\",(VLOOKUP(B122,'TDPrimas Vida'!$B:$N,10,0)))","v":6.0117773388295076E-2}]
[null,{"$f":"IF(C123=\"\",B122,D123)","v":"Zurich Aseguradora Mexicana"},null,{"$f":"IF(D122=\"\",\"\",\"Únicas\")","v":"Únicas"},{"$f":"IF(E121=\"\",\"\",(VLOOKUP(B123,'TDPrimas Vida'!$B:$N,11,0)))","v":221278.76677000002},{"$f":"IF(E121=\"\",\"\",(VLOOKUP(B123,'TDPrimas Vida'!$B:$N,12,0)))","v":238280.91777},{"$f":"IFERROR((E123/VLOOKUP(\"TOTAL\",$D$12:$L$312,2,0))*100,\"\")","v":7.0954284664393769E-2},{"$f":"IFERROR((E123/VLOOKUP(\"TOTAL\",$D$12:$L$312,3,0))*100,\"\")","v":7.8262855027274994E-2},{"$f":"IF(E120=\"\",\"\",E123-F123)","v":-17002.150999999983},{"$f":"IF(E120=\"\",\"\",IFERROR((E123/F123-1)*100,\"ND\"))","v":-7.1353388928992008},{"$f":"IF(E122=\"\",\"\",IFERROR((E123/VLOOKUP(B123&\"|\"&VLOOKUP(TDPrimas_!$B$4,Cat!R:T,2,0),'TD Operación'!A:D,4,0))*100,\"ND\"))","v":2.014788670082488},{"$f":"IF(E120=\"\",\"\",(VLOOKUP(B123,'TDPrimas Vida'!$B:$N,13,0)))","v":7.0954284664393741E-2}]
[null,{"$f":"IF(C124=\"\",B120,D124)","v":"Skandia Life"},{"$f":"IF('TDPrimas Vida'!A35=\"\",\"\",'TDPrimas Vida'!A35)","v":27},{"$f":"IF('TDPrimas Vida'!B35=\"\",\"\",'TDPrimas Vida'!B35)","v":"Skandia Life"},{"$f":"IF('TDPrimas Vida'!C35=\"\",\"\",'TDPrimas Vida'!C35)","v":672062.19351000001},{"$f":"IF('TDPrimas Vida'!D35=\"\",\"\",'TDPrimas Vida'!D35)","v":372806.80567999999},{"$f":"IF('TDPrimas Vida'!C35=\"\",\"\",IFERROR((E124/VLOOKUP(\"TOTAL\",$D$12:$L$312,2,0))*100,\"\"))","v":0.21550053304504607},{"$f":"IF('TDPrimas Vida'!C35=\"\",\"\",IFERROR((E124/VLOOKUP(\"TOTAL\",$D$12:$L$312,3,0))*100,\"\"))","v":0.23769793544925205},{"$f":"IF('TDPrimas Vida'!C35=\"\",\"\",E124-F124)","v":299255.38783000002},{"$f":"IFERROR(IF('TDPrimas Vida'!C35=\"\",\"\",(E124/F124-1)*100),\"ND\")","v":80.27090258831457},{"$f":"IF(E123=\"\",\"\",IFERROR((E124/VLOOKUP(B124&\"|\"&VLOOKUP(TDPrimas_!$B$4,Cat!R:T,2,0),'TD Operación'!A:D,4,0))*100,\"ND\"))","v":100},{"$f":"IF('TDPrimas Vida'!E35=\"\",\"\",'TDPrimas Vida'!E35)","v":100}]
[null,{"$f":"IF(C125=\"\",B124,D125)","v":"Skandia Life"},null,{"$f":"IF(D124=\"\",\"\",\"1er Año\")","v":"1er Año"},{"$f":"IF(E124=\"\",\"\",(VLOOKUP(B125,'TDPrimas Vida'!$B:$N,5,0)))","v":469419.87054000003},{"$f":"IF(E124=\"\",\"\",(VLOOKUP(B125,'TDPrimas Vida'!$B:$N,6,0)))","v":183756.19931},{"$f":"IFERROR((E125/VLOOKUP(\"TOTAL\",$D$12:$L$312,2,0))*100,\"\")","v":0.15052212920202201},{"$f":"IFERROR((E125/VLOOKUP(\"TOTAL\",$D$12:$L$312,3,0))*100,\"\")","v":0.16602650046933926},{"$f":"IF(E124=\"\",\"\",E125-F125)","v":285663.67123000004},{"$f":"IF(E124=\"\",\"\",IFERROR((E125/F125-1)*100,\"ND\"))","v":155.45797763703217},{"$f":"IF(E124=\"\",\"\",IFERROR((E125/VLOOKUP(B125&\"|\"&VLOOKUP(TDPrimas_!$B$4,Cat!R:T,2,0),'TD Operación'!A:D,4,0))*100,\"ND\"))","v":69.847683008077922},{"$f":"IF(E124=\"\",\"\",(VLOOKUP(B125,'TDPrimas Vida'!$B:$N,7,0)))","v":155.45797763703217}]
[null,{"$f":"IF(C126=\"\",B125,D126)","v":"Skandia Life"},null,{"$f":"IF(D125=\"\",\"\",\"Renovación\")","v":"Renovación"},{"$f":"IF(E124=\"\",\"\",(VLOOKUP(B126,'TDPrimas Vida'!$B:$N,8,0)))","v":202642.32297000001},{"$f":"IF(E124=\"\",\"\",(VLOOKUP(B126,'TDPrimas Vida'!$B:$N,9,0)))","v":189050.60636999999},{"$f":"IFERROR((E126/VLOOKUP(\"TOTAL\",$D$12:$L$312,2,0))*100,\"\")","v":6.4978403843024085E-2},{"$f":"IFERROR((E126/VLOOKUP(\"TOTAL\",$D$12:$L$312,3,0))*100,\"\")","v":7.167143497991281E-2},{"$f":"IF(E124=\"\",\"\",E126-F126)","v":13591.716600000014},{"$f":"IF(E124=\"\",\"\",IFERROR((E126/F126-1)*100,\"ND\"))","v":7.1894594050648131},{"$f":"IF(E125=\"\",\"\",IFERROR((E126/VLOOKUP(B126&\"|\"&VLOOKUP(TDPrimas_!$B$4,Cat!R:T,2,0),'TD Operación'!A:D,4,0))*100,\"ND\"))","v":30.152316991922085},{"$f":"IF(E124=\"\",\"\",(VLOOKUP(B126,'TDPrimas Vida'!$B:$N,10,0)))","v":6.4978403843024071E-2}]
[null,{"$f":"IF(C127=\"\",B126,D127)","v":"Skandia Life"},null,{"$f":"IF(D126=\"\",\"\",\"Únicas\")","v":"Únicas"},{"$f":"IF(E125=\"\",\"\",(VLOOKUP(B127,'TDPrimas Vida'!$B:$N,11,0)))","v":0},{"$f":"IF(E125=\"\",\"\",(VLOOKUP(B127,'TDPrimas Vida'!$B:$N,12,0)))","v":0},{"$f":"IFERROR((E127/VLOOKUP(\"TOTAL\",$D$12:$L$312,2,0))*100,\"\")","v":0},{"$f":"IFERROR((E127/VLOOKUP(\"TOTAL\",$D$12:$L$312,3,0))*100,\"\")","v":0},{"$f":"IF(E124=\"\",\"\",E127-F127)","v":0},{"$f":"IF(E124=\"\",\"\",IFERROR((E127/F127-1)*100,\"ND\"))","v":"ND"},{"$f":"IF(E126=\"\",\"\",IFERROR((E127/VLOOKUP(B127&\"|\"&VLOOKUP(TDPrimas_!$B$4,Cat!R:T,2,0),'TD Operación'!A:D,4,0))*100,\"ND\"))","v":0},{"$f":"IF(E124=\"\",\"\",(VLOOKUP(B127,'TDPrimas Vida'!$B:$N,13,0)))","v":0}]
[null,{"$f":"IF(C128=\"\",B124,D128)","v":"Ve Por Más"},{"$f":"IF('TDPrimas Vida'!A36=\"\",\"\",'TDPrimas Vida'!A36)","v":28},{"$f":"IF('TDPrimas Vida'!B36=\"\",\"\",'TDPrimas Vida'!B36)","v":"Ve Por Más"},{"$f":"IF('TDPrimas Vida'!C36=\"\",\"\",'TDPrimas Vida'!C36)","v":636010.13974999997},{"$f":"IF('TDPrimas Vida'!D36=\"\",\"\",'TDPrimas Vida'!D36)","v":779967.10063},{"$f":"IF('TDPrimas Vida'!C36=\"\",\"\",IFERROR((E128/VLOOKUP(\"TOTAL\",$D$12:$L$312,2,0))*100,\"\"))","v":0.20394023865908747},{"$f":"IF('TDPrimas Vida'!C36=\"\",\"\",IFERROR((E128/VLOOKUP(\"TOTAL\",$D$12:$L$312,3,0))*100,\"\"))","v":0.2249468852782831},{"$f":"IF('TDPrimas Vida'!C36=\"\",\"\",E128-F128)","v":-143956.96088000003},{"$f":"IFERROR(IF('TDPrimas Vida'!C36=\"\",\"\",(E128/F128-1)*100),\"ND\")","v":-18.456799109055012},{"$f":"IF(E127=\"\",\"\",IFERROR((E128/VLOOKUP(B128&\"|\"&VLOOKUP(TDPrimas_!$B$4,Cat!R:T,2,0),'TD Operación'!A:D,4,0))*100,\"ND\"))","v":17.005594740416321},{"$f":"IF('TDPrimas Vida'!E36=\"\",\"\",'TDPrimas Vida'!E36)","v":17.005594740416321}]
[null,{"$f":"IF(C129=\"\",B128,D129)","v":"Ve Por Más"},null,{"$f":"IF(D128=\"\",\"\",\"1er Año\")","v":"1er Año"},{"$f":"IF(E128=\"\",\"\",(VLOOKUP(B129,'TDPrimas Vida'!$B:$N,5,0)))","v":33084.345309999997},{"$f":"IF(E128=\"\",\"\",(VLOOKUP(B129,'TDPrimas Vida'!$B:$N,6,0)))","v":48955.914670000006},{"$f":"IFERROR((E129/VLOOKUP(\"TOTAL\",$D$12:$L$312,2,0))*100,\"\")","v":1.0608681932418927E-2},{"$f":"IFERROR((E129/VLOOKUP(\"TOTAL\",$D$12:$L$312,3,0))*100,\"\")","v":1.1701417892301258E-2},{"$f":"IF(E128=\"\",\"\",E129-F129)","v":-15871.569360000009},{"$f":"IF(E128=\"\",\"\",IFERROR((E129/F129-1)*100,\"ND\"))","v":-32.420126285018725},{"$f":"IF(E128=\"\",\"\",IFERROR((E129/VLOOKUP(B129&\"|\"&VLOOKUP(TDPrimas_!$B$4,Cat!R:T,2,0),'TD Operación'!A:D,4,0))*100,\"ND\"))","v":0.88460691651080448},{"$f":"IF(E128=\"\",\"\",(VLOOKUP(B129,'TDPrimas Vida'!$B:$N,7,0)))","v":-32.420126285018725}]
[null,{"$f":"IF(C130=\"\",B129,D130)","v":"Ve Por Más"},null,{"$f":"IF(D129=\"\",\"\",\"Renovación\")","v":"Renovación"},{"$f":"IF(E128=\"\",\"\",(VLOOKUP(B130,'TDPrimas Vida'!$B:$N,8,0)))","v":285815.11943999998},{"$f":"IF(E128=\"\",\"\",(VLOOKUP(B130,'TDPrimas Vida'!$B:$N,9,0)))","v":442580.80004999996},{"$f":"IFERROR((E130/VLOOKUP(\"TOTAL\",$D$12:$L$312,2,0))*100,\"\")","v":9.1648230158533711E-2},{"$f":"IFERROR((E130/VLOOKUP(\"TOTAL\",$D$12:$L$312,3,0))*100,\"\")","v":0.10108835829054637},{"$f":"IF(E128=\"\",\"\",E130-F130)","v":-156765.68060999998},{"$f":"IF(E128=\"\",\"\",IFERROR((E130/F130-1)*100,\"ND\"))","v":-35.420804651329107},{"$f":"IF(E129=\"\",\"\",IFERROR((E130/VLOOKUP(B130&\"|\"&VLOOKUP(TDPrimas_!$B$4,Cat!R:T,2,0),'TD Operación'!A:D,4,0))*100,\"ND\"))","v":7.6421047214606563},{"$f":"IF(E128=\"\",\"\",(VLOOKUP(B130,'TDPrimas Vida'!$B:$N,10,0)))","v":9.1648230158533683E-2}]
[null,{"$f":"IF(C131=\"\",B130,D131)","v":"Ve Por Más"},null,{"$f":"IF(D130=\"\",\"\",\"Únicas\")","v":"Únicas"},{"$f":"IF(E129=\"\",\"\",(VLOOKUP(B131,'TDPrimas Vida'!$B:$N,11,0)))","v":317110.67499999999},{"$f":"IF(E129=\"\",\"\",(VLOOKUP(B131,'TDPrimas Vida'!$B:$N,12,0)))","v":288430.38591000001},{"$f":"IFERROR((E131/VLOOKUP(\"TOTAL\",$D$12:$L$312,2,0))*100,\"\")","v":0.10168332656813484},{"$f":"IFERROR((E131/VLOOKUP(\"TOTAL\",$D$12:$L$312,3,0))*100,\"\")","v":0.11215710909543547},{"$f":"IF(E128=\"\",\"\",E131-F131)","v":28680.289089999977},{"$f":"IF(E128=\"\",\"\",IFERROR((E131/F131-1)*100,\"ND\"))","v":9.943574079240447},{"$f":"IF(E130=\"\",\"\",IFERROR((E131/VLOOKUP(B131&\"|\"&VLOOKUP(TDPrimas_!$B$4,Cat!R:T,2,0),'TD Operación'!A:D,4,0))*100,\"ND\"))","v":8.4788831024448612},{"$f":"IF(E128=\"\",\"\",(VLOOKUP(B131,'TDPrimas Vida'!$B:$N,13,0)))","v":0.10168332656813479}]
[null,{"$f":"IF(C132=\"\",B128,D132)","v":"General de Seguros"},{"$f":"IF('TDPrimas Vida'!A37=\"\",\"\",'TDPrimas Vida'!A37)","v":29},{"$f":"IF('TDPrimas Vida'!B37=\"\",\"\",'TDPrimas Vida'!B37)","v":"General de Seguros"},{"$f":"IF('TDPrimas Vida'!C37=\"\",\"\",'TDPrimas Vida'!C37)","v":518961.64506000001},{"$f":"IF('TDPrimas Vida'!D37=\"\",\"\",'TDPrimas Vida'!D37)","v":306912.45566000004},{"$f":"IF('TDPrimas Vida'!C37=\"\",\"\",IFERROR((E132/VLOOKUP(\"TOTAL\",$D$12:$L$312,2,0))*100,\"\"))","v":0.16640797863702464},{"$f":"IF('TDPrimas Vida'!C37=\"\",\"\",IFERROR((E132/VLOOKUP(\"TOTAL\",$D$12:$L$312,3,0))*100,\"\"))","v":0.18354865487054667},{"$f":"IF('TDPrimas Vida'!C37=\"\",\"\",E132-F132)","v":212049.18939999997},{"$f":"IFERROR(IF('TDPrimas Vida'!C37=\"\",\"\",(E132/F132-1)*100),\"ND\")","v":69.091099266075304},{"$f":"IF(E131=\"\",\"\",IFERROR((E132/VLOOKUP(B132&\"|\"&VLOOKUP(TDPrimas_!$B$4,Cat!R:T,2,0),'TD Operación'!A:D,4,0))*100,\"ND\"))","v":19.726854481994501},{"$f":"IF('TDPrimas Vida'!E37=\"\",\"\",'TDPrimas Vida'!E37)","v":19.726854481994501}]
[null,{"$f":"IF(C133=\"\",B132,D133)","v":"General de Seguros"},null,{"$f":"IF(D132=\"\",\"\",\"1er Año\")","v":"1er Año"},{"$f":"IF(E132=\"\",\"\",(VLOOKUP(B133,'TDPrimas Vida'!$B:$N,5,0)))","v":354658.36411000002},{"$f":"IF(E132=\"\",\"\",(VLOOKUP(B133,'TDPrimas Vida'!$B:$N,6,0)))","v":118193.47401999999},{"$f":"IFERROR((E133/VLOOKUP(\"TOTAL\",$D$12:$L$312,2,0))*100,\"\")","v":0.1137232048650447},{"$f":"IFERROR((E133/VLOOKUP(\"TOTAL\",$D$12:$L$312,3,0))*100,\"\")","v":0.12543714220624694},{"$f":"IF(E132=\"\",\"\",E133-F133)","v":236464.89009000003},{"$f":"IF(E132=\"\",\"\",IFERROR((E133/F133-1)*100,\"ND\"))","v":200.06594446152488},{"$f":"IF(E132=\"\",\"\",IFERROR((E133/VLOOKUP(B133&\"|\"&VLOOKUP(TDPrimas_!$B$4,Cat!R:T,2,0),'TD Operación'!A:D,4,0))*100,\"ND\"))","v":13.481331435989476},{"$f":"IF(E132=\"\",\"\",(VLOOKUP(B133,'TDPrimas Vida'!$B:$N,7,0)))","v":200.06594446152488}]
[null,{"$f":"IF(C134=\"\",B133,D134)","v":"General de Seguros"},null,{"$f":"IF(D133=\"\",\"\",\"Renovación\")","v":"Renovación"},{"$f":"IF(E132=\"\",\"\",(VLOOKUP(B134,'TDPrimas Vida'!$B:$N,8,0)))","v":164303.28094999999},{"$f":"IF(E132=\"\",\"\",(VLOOKUP(B134,'TDPrimas Vida'!$B:$N,9,0)))","v":188718.98164000001},{"$f":"IFERROR((E134/VLOOKUP(\"TOTAL\",$D$12:$L$312,2,0))*100,\"\")","v":5.2684773771979949E-2},{"$f":"IFERROR((E134/VLOOKUP(\"TOTAL\",$D$12:$L$312,3,0))*100,\"\")","v":5.811151266429973E-2},{"$f":"IF(E132=\"\",\"\",E134-F134)","v":-24415.700690000027},{"$f":"IF(E132=\"\",\"\",IFERROR((E134/F134-1)*100,\"ND\"))","v":-12.937596673012663},{"$f":"IF(E133=\"\",\"\",IFERROR((E134/VLOOKUP(B134&\"|\"&VLOOKUP(TDPrimas_!$B$4,Cat!R:T,2,0),'TD Operación'!A:D,4,0))*100,\"ND\"))","v":6.2455230460050224},{"$f":"IF(E132=\"\",\"\",(VLOOKUP(B134,'TDPrimas Vida'!$B:$N,10,0)))","v":5.2684773771979929E-2}]
[null,{"$f":"IF(C135=\"\",B134,D135)","v":"General de Seguros"},null,{"$f":"IF(D134=\"\",\"\",\"Únicas\")","v":"Únicas"},{"$f":"IF(E133=\"\",\"\",(VLOOKUP(B135,'TDPrimas Vida'!$B:$N,11,0)))","v":0},{"$f":"IF(E133=\"\",\"\",(VLOOKUP(B135,'TDPrimas Vida'!$B:$N,12,0)))","v":0},{"$f":"IFERROR((E135/VLOOKUP(\"TOTAL\",$D$12:$L$312,2,0))*100,\"\")","v":0},{"$f":"IFERROR((E135/VLOOKUP(\"TOTAL\",$D$12:$L$312,3,0))*100,\"\")","v":0},{"$f":"IF(E132=\"\",\"\",E135-F135)","v":0},{"$f":"IF(E132=\"\",\"\",IFERROR((E135/F135-1)*100,\"ND\"))","v":"ND"},{"$f":"IF(E134=\"\",\"\",IFERROR((E135/VLOOKUP(B135&\"|\"&VLOOKUP(TDPrimas_!$B$4,Cat!R:T,2,0),'TD Operación'!A:D,4,0))*100,\"ND\"))","v":0},{"$f":"IF(E132=\"\",\"\",(VLOOKUP(B135,'TDPrimas Vida'!$B:$N,13,0)))","v":0}]
[null,{"$f":"IF(C136=\"\",B132,D136)","v":"Pan-American México"},{"$f":"IF('TDPrimas Vida'!A38=\"\",\"\",'TDPrimas Vida'!A38)","v":30},{"$f":"IF('TDPrimas Vida'!B38=\"\",\"\",'TDPrimas Vida'!B38)","v":"Pan-American México"},{"$f":"IF('TDPrimas Vida'!C38=\"\",\"\",'TDPrimas Vida'!C38)","v":470659.51276999997},{"$f":"IF('TDPrimas Vida'!D38=\"\",\"\",'TDPrimas Vida'!D38)","v":500563.65038000001},{"$f":"IF('TDPrimas Vida'!C38=\"\",\"\",IFERROR((E136/VLOOKUP(\"TOTAL\",$D$12:$L$312,2,0))*100,\"\"))","v":0.15091962747514298},{"$f":"IF('TDPrimas Vida'!C38=\"\",\"\",IFERROR((E136/VLOOKUP(\"TOTAL\",$D$12:$L$312,3,0))*100,\"\"))","v":0.16646494262783615},{"$f":"IF('TDPrimas Vida'!C38=\"\",\"\",E136-F136)","v":-29904.137610000034},{"$f":"IFERROR(IF('TDPrimas Vida'!C38=\"\",\"\",(E136/F136-1)*100),\"ND\")","v":-5.9740929225081558},{"$f":"IF(E135=\"\",\"\",IFERROR((E136/VLOOKUP(B136&\"|\"&VLOOKUP(TDPrimas_!$B$4,Cat!R:T,2,0),'TD Operación'!A:D,4,0))*100,\"ND\"))","v":47.416852173090881},{"$f":"IF('TDPrimas Vida'!E38=\"\",\"\",'TDPrimas Vida'!E38)","v":47.416852173090881}]
[null,{"$f":"IF(C137=\"\",B136,D137)","v":"Pan-American México"},null,{"$f":"IF(D136=\"\",\"\",\"1er Año\")","v":"1er Año"},{"$f":"IF(E136=\"\",\"\",(VLOOKUP(B137,'TDPrimas Vida'!$B:$N,5,0)))","v":105598.55209},{"$f":"IF(E136=\"\",\"\",(VLOOKUP(B137,'TDPrimas Vida'!$B:$N,6,0)))","v":99484.133969999995},{"$f":"IFERROR((E137/VLOOKUP(\"TOTAL\",$D$12:$L$312,2,0))*100,\"\")","v":3.3860771345176788E-2},{"$f":"IFERROR((E137/VLOOKUP(\"TOTAL\",$D$12:$L$312,3,0))*100,\"\")","v":3.7348563958239996E-2},{"$f":"IF(E136=\"\",\"\",E137-F137)","v":6114.4181200000021},{"$f":"IF(E136=\"\",\"\",IFERROR((E137/F137-1)*100,\"ND\"))","v":6.1461238852859035},{"$f":"IF(E136=\"\",\"\",IFERROR((E137/VLOOKUP(B137&\"|\"&VLOOKUP(TDPrimas_!$B$4,Cat!R:T,2,0),'TD Operación'!A:D,4,0))*100,\"ND\"))","v":10.638584365744757},{"$f":"IF(E136=\"\",\"\",(VLOOKUP(B137,'TDPrimas Vida'!$B:$N,7,0)))","v":6.1461238852859035}]
[null,{"$f":"IF(C138=\"\",B137,D138)","v":"Pan-American México"},null,{"$f":"IF(D137=\"\",\"\",\"Renovación\")","v":"Renovación"},{"$f":"IF(E136=\"\",\"\",(VLOOKUP(B138,'TDPrimas Vida'!$B:$N,8,0)))","v":365060.96068000002},{"$f":"IF(E136=\"\",\"\",(VLOOKUP(B138,'TDPrimas Vida'!$B:$N,9,0)))","v":327327.42826999997},{"$f":"IFERROR((E138/VLOOKUP(\"TOTAL\",$D$12:$L$312,2,0))*100,\"\")","v":0.11705885612996624},{"$f":"IFERROR((E138/VLOOKUP(\"TOTAL\",$D$12:$L$312,3,0))*100,\"\")","v":0.12911637866959619},{"$f":"IF(E136=\"\",\"\",E138-F138)","v":37733.532410000043},{"$f":"IF(E136=\"\",\"\",IFERROR((E138/F138-1)*100,\"ND\"))","v":11.52776368586963},{"$f":"IF(E137=\"\",\"\",IFERROR((E138/VLOOKUP(B138&\"|\"&VLOOKUP(TDPrimas_!$B$4,Cat!R:T,2,0),'TD Operación'!A:D,4,0))*100,\"ND\"))","v":36.778267807346126},{"$f":"IF(E136=\"\",\"\",(VLOOKUP(B138,'TDPrimas Vida'!$B:$N,10,0)))","v":0.11705885612996619}]
[null,{"$f":"IF(C139=\"\",B138,D139)","v":"Pan-American México"},null,{"$f":"IF(D138=\"\",\"\",\"Únicas\")","v":"Únicas"},{"$f":"IF(E137=\"\",\"\",(VLOOKUP(B139,'TDPrimas Vida'!$B:$N,11,0)))","v":0},{"$f":"IF(E137=\"\",\"\",(VLOOKUP(B139,'TDPrimas Vida'!$B:$N,12,0)))","v":73752.088140000007},{"$f":"IFERROR((E139/VLOOKUP(\"TOTAL\",$D$12:$L$312,2,0))*100,\"\")","v":0},{"$f":"IFERROR((E139/VLOOKUP(\"TOTAL\",$D$12:$L$312,3,0))*100,\"\")","v":0},{"$f":"IF(E136=\"\",\"\",E139-F139)","v":-73752.088140000007},{"$f":"IF(E136=\"\",\"\",IFERROR((E139/F139-1)*100,\"ND\"))","v":-100},{"$f":"IF(E138=\"\",\"\",IFERROR((E139/VLOOKUP(B139&\"|\"&VLOOKUP(TDPrimas_!$B$4,Cat!R:T,2,0),'TD Operación'!A:D,4,0))*100,\"ND\"))","v":0},{"$f":"IF(E136=\"\",\"\",(VLOOKUP(B139,'TDPrimas Vida'!$B:$N,13,0)))","v":0}]
[null,{"$f":"IF(C140=\"\",B136,D140)","v":"Agroasemex"},{"$f":"IF('TDPrimas Vida'!A39=\"\",\"\",'TDPrimas Vida'!A39)","v":31},{"$f":"IF('TDPrimas Vida'!B39=\"\",\"\",'TDPrimas Vida'!B39)","v":"Agroasemex"},{"$f":"IF('TDPrimas Vida'!C39=\"\",\"\",'TDPrimas Vida'!C39)","v":423253.46970000002},{"$f":"IF('TDPrimas Vida'!D39=\"\",\"\",'TDPrimas Vida'!D39)","v":380561.09717000002},{"$f":"IF('TDPrimas Vida'!C39=\"\",\"\",IFERROR((E140/VLOOKUP(\"TOTAL\",$D$12:$L$312,2,0))*100,\"\"))","v":0.13571861237595129},{"$f":"IF('TDPrimas Vida'!C39=\"\",\"\",IFERROR((E140/VLOOKUP(\"TOTAL\",$D$12:$L$312,3,0))*100,\"\"))","v":0.14969816319228135},{"$f":"IF('TDPrimas Vida'!C39=\"\",\"\",E140-F140)","v":42692.372529999993},{"$f":"IFERROR(IF('TDPrimas Vida'!C39=\"\",\"\",(E140/F140-1)*100),\"ND\")","v":11.218270298114286},{"$f":"IF(E139=\"\",\"\",IFERROR((E140/VLOOKUP(B140&\"|\"&VLOOKUP(TDPrimas_!$B$4,Cat!R:T,2,0),'TD Operación'!A:D,4,0))*100,\"ND\"))","v":3.1125521676304198},{"$f":"IF('TDPrimas Vida'!E39=\"\",\"\",'TDPrimas Vida'!E39)","v":3.1125521676304198}]
[null,{"$f":"IF(C141=\"\",B140,D141)","v":"Agroasemex"},null,{"$f":"IF(D140=\"\",\"\",\"1er Año\")","v":"1er Año"},{"$f":"IF(E140=\"\",\"\",(VLOOKUP(B141,'TDPrimas Vida'!$B:$N,5,0)))","v":423253.46970000002},{"$f":"IF(E140=\"\",\"\",(VLOOKUP(B141,'TDPrimas Vida'!$B:$N,6,0)))","v":380561.09717000002},{"$f":"IFERROR((E141/VLOOKUP(\"TOTAL\",$D$12:$L$312,2,0))*100,\"\")","v":0.13571861237595129},{"$f":"IFERROR((E141/VLOOKUP(\"TOTAL\",$D$12:$L$312,3,0))*100,\"\")","v":0.14969816319228135},{"$f":"IF(E140=\"\",\"\",E141-F141)","v":42692.372529999993},{"$f":"IF(E140=\"\",\"\",IFERROR((E141/F141-1)*100,\"ND\"))","v":11.218270298114286},{"$f":"IF(E140=\"\",\"\",IFERROR((E141/VLOOKUP(B141&\"|\"&VLOOKUP(TDPrimas_!$B$4,Cat!R:T,2,0),'TD Operación'!A:D,4,0))*100,\"ND\"))","v":3.1125521676304198},{"$f":"IF(E140=\"\",\"\",(VLOOKUP(B141,'TDPrimas Vida'!$B:$N,7,0)))","v":11.218270298114286}]
[null,{"$f":"IF(C142=\"\",B141,D142)","v":"Agroasemex"},null,{"$f":"IF(D141=\"\",\"\",\"Renovación\")","v":"Renovación"},{"$f":"IF(E140=\"\",\"\",(VLOOKUP(B142,'TDPrimas Vida'!$B:$N,8,0)))","v":0},{"$f":"IF(E140=\"\",\"\",(VLOOKUP(B142,'TDPrimas Vida'!$B:$N,9,0)))","v":0},{"$f":"IFERROR((E142/VLOOKUP(\"TOTAL\",$D$12:$L$312,2,0))*100,\"\")","v":0},{"$f":"IFERROR((E142/VLOOKUP(\"TOTAL\",$D$12:$L$312,3,0))*100,\"\")","v":0},{"$f":"IF(E140=\"\",\"\",E142-F142)","v":0},{"$f":"IF(E140=\"\",\"\",IFERROR((E142/F142-1)*100,\"ND\"))","v":"ND"},{"$f":"IF(E141=\"\",\"\",IFERROR((E142/VLOOKUP(B142&\"|\"&VLOOKUP(TDPrimas_!$B$4,Cat!R:T,2,0),'TD Operación'!A:D,4,0))*100,\"ND\"))","v":0},{"$f":"IF(E140=\"\",\"\",(VLOOKUP(B142,'TDPrimas Vida'!$B:$N,10,0)))","v":0}]
[null,{"$f":"IF(C143=\"\",B142,D143)","v":"Agroasemex"},null,{"$f":"IF(D142=\"\",\"\",\"Únicas\")","v":"Únicas"},{"$f":"IF(E141=\"\",\"\",(VLOOKUP(B143,'TDPrimas Vida'!$B:$N,11,0)))","v":0},{"$f":"IF(E141=\"\",\"\",(VLOOKUP(B143,'TDPrimas Vida'!$B:$N,12,0)))","v":0},{"$f":"IFERROR((E143/VLOOKUP(\"TOTAL\",$D$12:$L$312,2,0))*100,\"\")","v":0},{"$f":"IFERROR((E143/VLOOKUP(\"TOTAL\",$D$12:$L$312,3,0))*100,\"\")","v":0},{"$f":"IF(E140=\"\",\"\",E143-F143)","v":0},{"$f":"IF(E140=\"\",\"\",IFERROR((E143/F143-1)*100,\"ND\"))","v":"ND"},{"$f":"IF(E142=\"\",\"\",IFERROR((E143/VLOOKUP(B143&\"|\"&VLOOKUP(TDPrimas_!$B$4,Cat!R:T,2,0),'TD Operación'!A:D,4,0))*100,\"ND\"))","v":0},{"$f":"IF(E140=\"\",\"\",(VLOOKUP(B143,'TDPrimas Vida'!$B:$N,13,0)))","v":0}]
[null,{"$f":"IF(C144=\"\",B140,D144)","v":"El Potosí"},{"$f":"IF('TDPrimas Vida'!A40=\"\",\"\",'TDPrimas Vida'!A40)","v":32},{"$f":"IF('TDPrimas Vida'!B40=\"\",\"\",'TDPrimas Vida'!B40)","v":"El Potosí"},{"$f":"IF('TDPrimas Vida'!C40=\"\",\"\",'TDPrimas Vida'!C40)","v":383626.22360000003},{"$f":"IF('TDPrimas Vida'!D40=\"\",\"\",'TDPrimas Vida'!D40)","v":332799.49020999996},{"$f":"IF('TDPrimas Vida'!C40=\"\",\"\",IFERROR((E144/VLOOKUP(\"TOTAL\",$D$12:$L$312,2,0))*100,\"\"))","v":0.12301191240067565},{"$f":"IF('TDPrimas Vida'!C40=\"\",\"\",IFERROR((E144/VLOOKUP(\"TOTAL\",$D$12:$L$312,3,0))*100,\"\"))","v":0.13568262314781779},{"$f":"IF('TDPrimas Vida'!C40=\"\",\"\",E144-F144)","v":50826.733390000067},{"$f":"IFERROR(IF('TDPrimas Vida'!C40=\"\",\"\",(E144/F144-1)*100),\"ND\")","v":15.272479341217693},{"$f":"IF(E143=\"\",\"\",IFERROR((E144/VLOOKUP(B144&\"|\"&VLOOKUP(TDPrimas_!$B$4,Cat!R:T,2,0),'TD Operación'!A:D,4,0))*100,\"ND\"))","v":15.750295128663581},{"$f":"IF('TDPrimas Vida'!E40=\"\",\"\",'TDPrimas Vida'!E40)","v":15.750295128663581}]
[null,{"$f":"IF(C145=\"\",B144,D145)","v":"El Potosí"},null,{"$f":"IF(D144=\"\",\"\",\"1er Año\")","v":"1er Año"},{"$f":"IF(E144=\"\",\"\",(VLOOKUP(B145,'TDPrimas Vida'!$B:$N,5,0)))","v":104075.22427000001},{"$f":"IF(E144=\"\",\"\",(VLOOKUP(B145,'TDPrimas Vida'!$B:$N,6,0)))","v":97085.66264000001},{"$f":"IFERROR((E145/VLOOKUP(\"TOTAL\",$D$12:$L$312,2,0))*100,\"\")","v":3.3372307687523556E-2},{"$f":"IFERROR((E145/VLOOKUP(\"TOTAL\",$D$12:$L$312,3,0))*100,\"\")","v":3.6809786622863785E-2},{"$f":"IF(E144=\"\",\"\",E145-F145)","v":6989.5616299999965},{"$f":"IF(E144=\"\",\"\",IFERROR((E145/F145-1)*100,\"ND\"))","v":7.1993757264836811},{"$f":"IF(E144=\"\",\"\",IFERROR((E145/VLOOKUP(B145&\"|\"&VLOOKUP(TDPrimas_!$B$4,Cat!R:T,2,0),'TD Operación'!A:D,4,0))*100,\"ND\"))","v":4.2729495456586157},{"$f":"IF(E144=\"\",\"\",(VLOOKUP(B145,'TDPrimas Vida'!$B:$N,7,0)))","v":7.1993757264836811}]
[null,{"$f":"IF(C146=\"\",B145,D146)","v":"El Potosí"},null,{"$f":"IF(D145=\"\",\"\",\"Renovación\")","v":"Renovación"},{"$f":"IF(E144=\"\",\"\",(VLOOKUP(B146,'TDPrimas Vida'!$B:$N,8,0)))","v":277042.63575000002},{"$f":"IF(E144=\"\",\"\",(VLOOKUP(B146,'TDPrimas Vida'!$B:$N,9,0)))","v":234714.62757000001},{"$f":"IFERROR((E146/VLOOKUP(\"TOTAL\",$D$12:$L$312,2,0))*100,\"\")","v":8.8835283783064323E-2},{"$f":"IFERROR((E146/VLOOKUP(\"TOTAL\",$D$12:$L$312,3,0))*100,\"\")","v":9.7985667375908275E-2},{"$f":"IF(E144=\"\",\"\",E146-F146)","v":42328.008180000004},{"$f":"IF(E144=\"\",\"\",IFERROR((E146/F146-1)*100,\"ND\"))","v":18.033817754871851},{"$f":"IF(E145=\"\",\"\",IFERROR((E146/VLOOKUP(B146&\"|\"&VLOOKUP(TDPrimas_!$B$4,Cat!R:T,2,0),'TD Operación'!A:D,4,0))*100,\"ND\"))","v":11.374361312784206},{"$f":"IF(E144=\"\",\"\",(VLOOKUP(B146,'TDPrimas Vida'!$B:$N,10,0)))","v":8.8835283783064295E-2}]
[null,{"$f":"IF(C147=\"\",B146,D147)","v":"El Potosí"},null,{"$f":"IF(D146=\"\",\"\",\"Únicas\")","v":"Únicas"},{"$f":"IF(E145=\"\",\"\",(VLOOKUP(B147,'TDPrimas Vida'!$B:$N,11,0)))","v":2508.3635800000002},{"$f":"IF(E145=\"\",\"\",(VLOOKUP(B147,'TDPrimas Vida'!$B:$N,12,0)))","v":999.2},{"$f":"IFERROR((E147/VLOOKUP(\"TOTAL\",$D$12:$L$312,2,0))*100,\"\")","v":8.0432093008775526E-4},{"$f":"IFERROR((E147/VLOOKUP(\"TOTAL\",$D$12:$L$312,3,0))*100,\"\")","v":8.8716914904576189E-4},{"$f":"IF(E144=\"\",\"\",E147-F147)","v":1509.1635800000001},{"$f":"IF(E144=\"\",\"\",IFERROR((E147/F147-1)*100,\"ND\"))","v":151.03718775020019},{"$f":"IF(E146=\"\",\"\",IFERROR((E147/VLOOKUP(B147&\"|\"&VLOOKUP(TDPrimas_!$B$4,Cat!R:T,2,0),'TD Operación'!A:D,4,0))*100,\"ND\"))","v":0.10298427022075751},{"$f":"IF(E144=\"\",\"\",(VLOOKUP(B147,'TDPrimas Vida'!$B:$N,13,0)))","v":8.0432093008775483E-4}]
[null,{"$f":"IF(C148=\"\",B144,D148)","v":"La Latinoamericana"},{"$f":"IF('TDPrimas Vida'!A41=\"\",\"\",'TDPrimas Vida'!A41)","v":33},{"$f":"IF('TDPrimas Vida'!B41=\"\",\"\",'TDPrimas Vida'!B41)","v":"La Latinoamericana"},{"$f":"IF('TDPrimas Vida'!C41=\"\",\"\",'TDPrimas Vida'!C41)","v":138626.89427000002},{"$f":"IF('TDPrimas Vida'!D41=\"\",\"\",'TDPrimas Vida'!D41)","v":178789.63081},{"$f":"IF('TDPrimas Vida'!C41=\"\",\"\",IFERROR((E148/VLOOKUP(\"TOTAL\",$D$12:$L$312,2,0))*100,\"\"))","v":4.4451495558081457E-2},{"$f":"IF('TDPrimas Vida'!C41=\"\",\"\",IFERROR((E148/VLOOKUP(\"TOTAL\",$D$12:$L$312,3,0))*100,\"\"))","v":4.9030174415294572E-2},{"$f":"IF('TDPrimas Vida'!C41=\"\",\"\",E148-F148)","v":-40162.736539999984},{"$f":"IFERROR(IF('TDPrimas Vida'!C41=\"\",\"\",(E148/F148-1)*100),\"ND\")","v":-22.463683356827879},{"$f":"IF(E147=\"\",\"\",IFERROR((E148/VLOOKUP(B148&\"|\"&VLOOKUP(TDPrimas_!$B$4,Cat!R:T,2,0),'TD Operación'!A:D,4,0))*100,\"ND\"))","v":13.25677601076721},{"$f":"IF('TDPrimas Vida'!E41=\"\",\"\",'TDPrimas Vida'!E41)","v":13.25677601076721}]
[null,{"$f":"IF(C149=\"\",B148,D149)","v":"La Latinoamericana"},null,{"$f":"IF(D148=\"\",\"\",\"1er Año\")","v":"1er Año"},{"$f":"IF(E148=\"\",\"\",(VLOOKUP(B149,'TDPrimas Vida'!$B:$N,5,0)))","v":3687.0348899999999},{"$f":"IF(E148=\"\",\"\",(VLOOKUP(B149,'TDPrimas Vida'!$B:$N,6,0)))","v":33123.765950000001},{"$f":"IFERROR((E149/VLOOKUP(\"TOTAL\",$D$12:$L$312,2,0))*100,\"\")","v":1.1822685338107181E-3},{"$f":"IFERROR((E149/VLOOKUP(\"TOTAL\",$D$12:$L$312,3,0))*100,\"\")","v":1.304046842309572E-3},{"$f":"IF(E148=\"\",\"\",E149-F149)","v":-29436.731060000002},{"$f":"IF(E148=\"\",\"\",IFERROR((E149/F149-1)*100,\"ND\"))","v":-88.868913952702286},{"$f":"IF(E148=\"\",\"\",IFERROR((E149/VLOOKUP(B149&\"|\"&VLOOKUP(TDPrimas_!$B$4,Cat!R:T,2,0),'TD Operación'!A:D,4,0))*100,\"ND\"))","v":0.35258811746452978},{"$f":"IF(E148=\"\",\"\",(VLOOKUP(B149,'TDPrimas Vida'!$B:$N,7,0)))","v":-88.868913952702286}]
[null,{"$f":"IF(C150=\"\",B149,D150)","v":"La Latinoamericana"},null,{"$f":"IF(D149=\"\",\"\",\"Renovación\")","v":"Renovación"},{"$f":"IF(E148=\"\",\"\",(VLOOKUP(B150,'TDPrimas Vida'!$B:$N,8,0)))","v":134939.85938000001},{"$f":"IF(E148=\"\",\"\",(VLOOKUP(B150,'TDPrimas Vida'!$B:$N,9,0)))","v":145665.86486000003},{"$f":"IFERROR((E150/VLOOKUP(\"TOTAL\",$D$12:$L$312,2,0))*100,\"\")","v":4.3269227024270739E-2},{"$f":"IFERROR((E150/VLOOKUP(\"TOTAL\",$D$12:$L$312,3,0))*100,\"\")","v":4.7726127572984993E-2},{"$f":"IF(E148=\"\",\"\",E150-F150)","v":-10726.005480000022},{"$f":"IF(E148=\"\",\"\",IFERROR((E150/F150-1)*100,\"ND\"))","v":-7.3634310209250593},{"$f":"IF(E149=\"\",\"\",IFERROR((E150/VLOOKUP(B150&\"|\"&VLOOKUP(TDPrimas_!$B$4,Cat!R:T,2,0),'TD Operación'!A:D,4,0))*100,\"ND\"))","v":12.90418789330268},{"$f":"IF(E148=\"\",\"\",(VLOOKUP(B150,'TDPrimas Vida'!$B:$N,10,0)))","v":4.3269227024270718E-2}]
[null,{"$f":"IF(C151=\"\",B150,D151)","v":"La Latinoamericana"},null,{"$f":"IF(D150=\"\",\"\",\"Únicas\")","v":"Únicas"},{"$f":"IF(E149=\"\",\"\",(VLOOKUP(B151,'TDPrimas Vida'!$B:$N,11,0)))","v":0},{"$f":"IF(E149=\"\",\"\",(VLOOKUP(B151,'TDPrimas Vida'!$B:$N,12,0)))","v":0},{"$f":"IFERROR((E151/VLOOKUP(\"TOTAL\",$D$12:$L$312,2,0))*100,\"\")","v":0},{"$f":"IFERROR((E151/VLOOKUP(\"TOTAL\",$D$12:$L$312,3,0))*100,\"\")","v":0},{"$f":"IF(E148=\"\",\"\",E151-F151)","v":0},{"$f":"IF(E148=\"\",\"\",IFERROR((E151/F151-1)*100,\"ND\"))","v":"ND"},{"$f":"IF(E150=\"\",\"\",IFERROR((E151/VLOOKUP(B151&\"|\"&VLOOKUP(TDPrimas_!$B$4,Cat!R:T,2,0),'TD Operación'!A:D,4,0))*100,\"ND\"))","v":0},{"$f":"IF(E148=\"\",\"\",(VLOOKUP(B151,'TDPrimas Vida'!$B:$N,13,0)))","v":0}]
[null,{"$f":"IF(C152=\"\",B148,D152)","v":"Tokio Marine"},{"$f":"IF('TDPrimas Vida'!A42=\"\",\"\",'TDPrimas Vida'!A42)","v":34},{"$f":"IF('TDPrimas Vida'!B42=\"\",\"\",'TDPrimas Vida'!B42)","v":"Tokio Marine"},{"$f":"IF('TDPrimas Vida'!C42=\"\",\"\",'TDPrimas Vida'!C42)","v":58373.128479999999},{"$f":"IF('TDPrimas Vida'!D42=\"\",\"\",'TDPrimas Vida'!D42)","v":62526.049979999996},{"$f":"IF('TDPrimas Vida'!C42=\"\",\"\",IFERROR((E152/VLOOKUP(\"TOTAL\",$D$12:$L$312,2,0))*100,\"\"))","v":1.8717672894599125E-2},{"$f":"IF('TDPrimas Vida'!C42=\"\",\"\",IFERROR((E152/VLOOKUP(\"TOTAL\",$D$12:$L$312,3,0))*100,\"\"))","v":2.0645666813875731E-2},{"$f":"IF('TDPrimas Vida'!C42=\"\",\"\",E152-F152)","v":-4152.9214999999967},{"$f":"IFERROR(IF('TDPrimas Vida'!C42=\"\",\"\",(E152/F152-1)*100),\"ND\")","v":-6.6419060556814014},{"$f":"IF(E151=\"\",\"\",IFERROR((E152/VLOOKUP(B152&\"|\"&VLOOKUP(TDPrimas_!$B$4,Cat!R:T,2,0),'TD Operación'!A:D,4,0))*100,\"ND\"))","v":5.5797992319466836},{"$f":"IF('TDPrimas Vida'!E42=\"\",\"\",'TDPrimas Vida'!E42)","v":5.5797992319466836}]
[null,{"$f":"IF(C153=\"\",B152,D153)","v":"Tokio Marine"},null,{"$f":"IF(D152=\"\",\"\",\"1er Año\")","v":"1er Año"},{"$f":"IF(E152=\"\",\"\",(VLOOKUP(B153,'TDPrimas Vida'!$B:$N,5,0)))","v":22455.171709999999},{"$f":"IF(E152=\"\",\"\",(VLOOKUP(B153,'TDPrimas Vida'!$B:$N,6,0)))","v":29238.924740000002},{"$f":"IFERROR((E153/VLOOKUP(\"TOTAL\",$D$12:$L$312,2,0))*100,\"\")","v":7.2003774648440105E-3},{"$f":"IFERROR((E153/VLOOKUP(\"TOTAL\",$D$12:$L$312,3,0))*100,\"\")","v":7.9420446607015235E-3},{"$f":"IF(E152=\"\",\"\",E153-F153)","v":-6783.7530300000035},{"$f":"IF(E152=\"\",\"\",IFERROR((E153/F153-1)*100,\"ND\"))","v":-23.201102948630535},{"$f":"IF(E152=\"\",\"\",IFERROR((E153/VLOOKUP(B153&\"|\"&VLOOKUP(TDPrimas_!$B$4,Cat!R:T,2,0),'TD Operación'!A:D,4,0))*100,\"ND\"))","v":2.1464559656695119},{"$f":"IF(E152=\"\",\"\",(VLOOKUP(B153,'TDPrimas Vida'!$B:$N,7,0)))","v":-23.201102948630535}]
[null,{"$f":"IF(C154=\"\",B153,D154)","v":"Tokio Marine"},null,{"$f":"IF(D153=\"\",\"\",\"Renovación\")","v":"Renovación"},{"$f":"IF(E152=\"\",\"\",(VLOOKUP(B154,'TDPrimas Vida'!$B:$N,8,0)))","v":35917.956770000004},{"$f":"IF(E152=\"\",\"\",(VLOOKUP(B154,'TDPrimas Vida'!$B:$N,9,0)))","v":33287.125240000001},{"$f":"IFERROR((E154/VLOOKUP(\"TOTAL\",$D$12:$L$312,2,0))*100,\"\")","v":1.1517295429755117E-2},{"$f":"IFERROR((E154/VLOOKUP(\"TOTAL\",$D$12:$L$312,3,0))*100,\"\")","v":1.2703622153174205E-2},{"$f":"IF(E152=\"\",\"\",E154-F154)","v":2630.8315300000031},{"$f":"IF(E152=\"\",\"\",IFERROR((E154/F154-1)*100,\"ND\"))","v":7.9034506916164204},{"$f":"IF(E153=\"\",\"\",IFERROR((E154/VLOOKUP(B154&\"|\"&VLOOKUP(TDPrimas_!$B$4,Cat!R:T,2,0),'TD Operación'!A:D,4,0))*100,\"ND\"))","v":3.4333432662771726},{"$f":"IF(E152=\"\",\"\",(VLOOKUP(B154,'TDPrimas Vida'!$B:$N,10,0)))","v":1.1517295429755112E-2}]
[null,{"$f":"IF(C155=\"\",B154,D155)","v":"Tokio Marine"},null,{"$f":"IF(D154=\"\",\"\",\"Únicas\")","v":"Únicas"},{"$f":"IF(E153=\"\",\"\",(VLOOKUP(B155,'TDPrimas Vida'!$B:$N,11,0)))","v":0},{"$f":"IF(E153=\"\",\"\",(VLOOKUP(B155,'TDPrimas Vida'!$B:$N,12,0)))","v":0},{"$f":"IFERROR((E155/VLOOKUP(\"TOTAL\",$D$12:$L$312,2,0))*100,\"\")","v":0},{"$f":"IFERROR((E155/VLOOKUP(\"TOTAL\",$D$12:$L$312,3,0))*100,\"\")","v":0},{"$f":"IF(E152=\"\",\"\",E155-F155)","v":0},{"$f":"IF(E152=\"\",\"\",IFERROR((E155/F155-1)*100,\"ND\"))","v":"ND"},{"$f":"IF(E154=\"\",\"\",IFERROR((E155/VLOOKUP(B155&\"|\"&VLOOKUP(TDPrimas_!$B$4,Cat!R:T,2,0),'TD Operación'!A:D,4,0))*100,\"ND\"))","v":0},{"$f":"IF(E152=\"\",\"\",(VLOOKUP(B155,'TDPrimas Vida'!$B:$N,13,0)))","v":0}]
[null,{"$f":"IF(C156=\"\",B152,D156)","v":"HDI Seguros"},{"$f":"IF('TDPrimas Vida'!A43=\"\",\"\",'TDPrimas Vida'!A43)","v":35},{"$f":"IF('TDPrimas Vida'!B43=\"\",\"\",'TDPrimas Vida'!B43)","v":"HDI Seguros"},{"$f":"IF('TDPrimas Vida'!C43=\"\",\"\",'TDPrimas Vida'!C43)","v":1791.57347},{"$f":"IF('TDPrimas Vida'!D43=\"\",\"\",'TDPrimas Vida'!D43)","v":-6822.1004599999997},{"$f":"IF('TDPrimas Vida'!C43=\"\",\"\",IFERROR((E156/VLOOKUP(\"TOTAL\",$D$12:$L$312,2,0))*100,\"\"))","v":5.744781383370854E-4},{"$f":"IF('TDPrimas Vida'!C43=\"\",\"\",IFERROR((E156/VLOOKUP(\"TOTAL\",$D$12:$L$312,3,0))*100,\"\"))","v":6.3365164584029817E-4},{"$f":"IF('TDPrimas Vida'!C43=\"\",\"\",E156-F156)","v":8613.673929999999},{"$f":"IFERROR(IF('TDPrimas Vida'!C43=\"\",\"\",(E156/F156-1)*100),\"ND\")","v":-126.26131761771214},{"$f":"IF(E155=\"\",\"\",IFERROR((E156/VLOOKUP(B156&\"|\"&VLOOKUP(TDPrimas_!$B$4,Cat!R:T,2,0),'TD Operación'!A:D,4,0))*100,\"ND\"))","v":1.6210190045661748E-2},{"$f":"IF('TDPrimas Vida'!E43=\"\",\"\",'TDPrimas Vida'!E43)","v":1.6210190045661748E-2}]
[null,{"$f":"IF(C157=\"\",B156,D157)","v":"HDI Seguros"},null,{"$f":"IF(D156=\"\",\"\",\"1er Año\")","v":"1er Año"},{"$f":"IF(E156=\"\",\"\",(VLOOKUP(B157,'TDPrimas Vida'!$B:$N,5,0)))","v":0},{"$f":"IF(E156=\"\",\"\",(VLOOKUP(B157,'TDPrimas Vida'!$B:$N,6,0)))","v":0},{"$f":"IFERROR((E157/VLOOKUP(\"TOTAL\",$D$12:$L$312,2,0))*100,\"\")","v":0},{"$f":"IFERROR((E157/VLOOKUP(\"TOTAL\",$D$12:$L$312,3,0))*100,\"\")","v":0},{"$f":"IF(E156=\"\",\"\",E157-F157)","v":0},{"$f":"IF(E156=\"\",\"\",IFERROR((E157/F157-1)*100,\"ND\"))","v":"ND"},{"$f":"IF(E156=\"\",\"\",IFERROR((E157/VLOOKUP(B157&\"|\"&VLOOKUP(TDPrimas_!$B$4,Cat!R:T,2,0),'TD Operación'!A:D,4,0))*100,\"ND\"))","v":0},{"$f":"IF(E156=\"\",\"\",(VLOOKUP(B157,'TDPrimas Vida'!$B:$N,7,0)))","v":0}]
[null,{"$f":"IF(C158=\"\",B157,D158)","v":"HDI Seguros"},null,{"$f":"IF(D157=\"\",\"\",\"Renovación\")","v":"Renovación"},{"$f":"IF(E156=\"\",\"\",(VLOOKUP(B158,'TDPrimas Vida'!$B:$N,8,0)))","v":1791.57347},{"$f":"IF(E156=\"\",\"\",(VLOOKUP(B158,'TDPrimas Vida'!$B:$N,9,0)))","v":-6822.1004599999997},{"$f":"IFERROR((E158/VLOOKUP(\"TOTAL\",$D$12:$L$312,2,0))*100,\"\")","v":5.744781383370854E-4},{"$f":"IFERROR((E158/VLOOKUP(\"TOTAL\",$D$12:$L$312,3,0))*100,\"\")","v":6.3365164584029817E-4},{"$f":"IF(E156=\"\",\"\",E158-F158)","v":8613.673929999999},{"$f":"IF(E156=\"\",\"\",IFERROR((E158/F158-1)*100,\"ND\"))","v":-126.26131761771214},{"$f":"IF(E157=\"\",\"\",IFERROR((E158/VLOOKUP(B158&\"|\"&VLOOKUP(TDPrimas_!$B$4,Cat!R:T,2,0),'TD Operación'!A:D,4,0))*100,\"ND\"))","v":1.6210190045661748E-2},{"$f":"IF(E156=\"\",\"\",(VLOOKUP(B158,'TDPrimas Vida'!$B:$N,10,0)))","v":5.7447813833708529E-4}]
[null,{"$f":"IF(C159=\"\",B158,D159)","v":"HDI Seguros"},null,{"$f":"IF(D158=\"\",\"\",\"Únicas\")","v":"Únicas"},{"$f":"IF(E157=\"\",\"\",(VLOOKUP(B159,'TDPrimas Vida'!$B:$N,11,0)))","v":0},{"$f":"IF(E157=\"\",\"\",(VLOOKUP(B159,'TDPrimas Vida'!$B:$N,12,0)))","v":0},{"$f":"IFERROR((E159/VLOOKUP(\"TOTAL\",$D$12:$L$312,2,0))*100,\"\")","v":0},{"$f":"IFERROR((E159/VLOOKUP(\"TOTAL\",$D$12:$L$312,3,0))*100,\"\")","v":0},{"$f":"IF(E156=\"\",\"\",E159-F159)","v":0},{"$f":"IF(E156=\"\",\"\",IFERROR((E159/F159-1)*100,\"ND\"))","v":"ND"},{"$f":"IF(E158=\"\",\"\",IFERROR((E159/VLOOKUP(B159&\"|\"&VLOOKUP(TDPrimas_!$B$4,Cat!R:T,2,0),'TD Operación'!A:D,4,0))*100,\"ND\"))","v":0},{"$f":"IF(E156=\"\",\"\",(VLOOKUP(B159,'TDPrimas Vida'!$B:$N,13,0)))","v":0}]
[null,{"$f":"IF(C160=\"\",B156,D160)","v":"TOTAL RESTO"},{"$f":"IF('TDPrimas Vida'!A44=\"\",\"\",'TDPrimas Vida'!A44)","v":150.1},{"$f":"IF('TDPrimas Vida'!B44=\"\",\"\",'TDPrimas Vida'!B44)","v":"TOTAL RESTO"},{"$f":"IF('TDPrimas Vida'!C44=\"\",\"\",'TDPrimas Vida'!C44)","v":22316031.741840001},{"$f":"IF('TDPrimas Vida'!D44=\"\",\"\",'TDPrimas Vida'!D44)","v":21163379.748539999},{"$f":"IF('TDPrimas Vida'!C44=\"\",\"\",IFERROR((E160/VLOOKUP(\"TOTAL\",$D$12:$L$312,2,0))*100,\"\"))","v":7.1557614492491624},{"$f":"IF('TDPrimas Vida'!C44=\"\",\"\",IFERROR((E160/VLOOKUP(\"TOTAL\",$D$12:$L$312,3,0))*100,\"\"))","v":7.8928330200386672},{"$f":"IF('TDPrimas Vida'!C44=\"\",\"\",E160-F160)","v":1152651.9933000021},{"$f":"IFERROR(IF('TDPrimas Vida'!C44=\"\",\"\",(E160/F160-1)*100),\"ND\")","v":5.4464457331278693},{"$f":"IF(E159=\"\",\"\",IFERROR((E160/VLOOKUP(B160&\"|\"&VLOOKUP(TDPrimas_!$B$4,Cat!R:T,2,0),'TD Operación'!A:D,4,0))*100,\"ND\"))","v":13.605437265422104},{"$f":"IF('TDPrimas Vida'!E44=\"\",\"\",'TDPrimas Vida'!E44)","v":19.768753274229766}]
[null,{"$f":"IF(C161=\"\",B160,D161)","v":"TOTAL RESTO"},null,{"$f":"IF(D160=\"\",\"\",\"1er Año\")","v":"1er Año"},{"$f":"IF(E160=\"\",\"\",(VLOOKUP(B161,'TDPrimas Vida'!$B:$N,5,0)))","v":15289952.008109998},{"$f":"IF(E160=\"\",\"\",(VLOOKUP(B161,'TDPrimas Vida'!$B:$N,6,0)))","v":13852267.789590005},{"$f":"IFERROR((E161/VLOOKUP(\"TOTAL\",$D$12:$L$312,2,0))*100,\"\")","v":4.902809352765428},{"$f":"IFERROR((E161/VLOOKUP(\"TOTAL\",$D$12:$L$312,3,0))*100,\"\")","v":5.4078179974154637},{"$f":"IF(E160=\"\",\"\",E161-F161)","v":1437684.2185199931},{"$f":"IF(E160=\"\",\"\",IFERROR((E161/F161-1)*100,\"ND\"))","v":10.378692069470485},{"$f":"IF(E160=\"\",\"\",IFERROR((E161/VLOOKUP(B161&\"|\"&VLOOKUP(TDPrimas_!$B$4,Cat!R:T,2,0),'TD Operación'!A:D,4,0))*100,\"ND\"))","v":9.3218402466971515},{"$f":"IF(E160=\"\",\"\",(VLOOKUP(B161,'TDPrimas Vida'!$B:$N,7,0)))","v":10.378692069470485}]
[null,{"$f":"IF(C162=\"\",B161,D162)","v":"TOTAL RESTO"},null,{"$f":"IF(D161=\"\",\"\",\"Renovación\")","v":"Renovación"},{"$f":"IF(E160=\"\",\"\",(VLOOKUP(B162,'TDPrimas Vida'!$B:$N,8,0)))","v":6059430.8995200004},{"$f":"IF(E160=\"\",\"\",(VLOOKUP(B162,'TDPrimas Vida'!$B:$N,9,0)))","v":6331140.8284600005},{"$f":"IFERROR((E162/VLOOKUP(\"TOTAL\",$D$12:$L$312,2,0))*100,\"\")","v":1.9429906955132914},{"$f":"IFERROR((E162/VLOOKUP(\"TOTAL\",$D$12:$L$312,3,0))*100,\"\")","v":2.1431263783652739},{"$f":"IF(E160=\"\",\"\",E162-F162)","v":-271709.92894000001},{"$f":"IF(E160=\"\",\"\",IFERROR((E162/F162-1)*100,\"ND\"))","v":-4.291642474901181},{"$f":"IF(E161=\"\",\"\",IFERROR((E162/VLOOKUP(B162&\"|\"&VLOOKUP(TDPrimas_!$B$4,Cat!R:T,2,0),'TD Operación'!A:D,4,0))*100,\"ND\"))","v":3.6942592626363666},{"$f":"IF(E160=\"\",\"\",(VLOOKUP(B162,'TDPrimas Vida'!$B:$N,10,0)))","v":1.9429906955132907}]
[null,{"$f":"IF(C163=\"\",B162,D163)","v":"TOTAL RESTO"},null,{"$f":"IF(D162=\"\",\"\",\"Únicas\")","v":"Únicas"},{"$f":"IF(E161=\"\",\"\",(VLOOKUP(B163,'TDPrimas Vida'!$B:$N,11,0)))","v":966648.83420999988},{"$f":"IF(E161=\"\",\"\",(VLOOKUP(B163,'TDPrimas Vida'!$B:$N,12,0)))","v":979971.13049000001},{"$f":"IFERROR((E163/VLOOKUP(\"TOTAL\",$D$12:$L$312,2,0))*100,\"\")","v":0.30996140097044117},{"$f":"IFERROR((E163/VLOOKUP(\"TOTAL\",$D$12:$L$312,3,0))*100,\"\")","v":0.3418886442579282},{"$f":"IF(E160=\"\",\"\",E163-F163)","v":-13322.296280000126},{"$f":"IF(E160=\"\",\"\",IFERROR((E163/F163-1)*100,\"ND\"))","v":-1.359458035599348},{"$f":"IF(E162=\"\",\"\",IFERROR((E163/VLOOKUP(B163&\"|\"&VLOOKUP(TDPrimas_!$B$4,Cat!R:T,2,0),'TD Operación'!A:D,4,0))*100,\"ND\"))","v":0.58933775608858241},{"$f":"IF(E160=\"\",\"\",(VLOOKUP(B163,'TDPrimas Vida'!$B:$N,13,0)))","v":0.30996140097044106}]
[null,{"$f":"IF(C164=\"\",B160,D164)","v":"TOTAL"},{"$f":"IF('TDPrimas Vida'!A45=\"\",\"\",'TDPrimas Vida'!A45)","v":201.1},{"$f":"IF('TDPrimas Vida'!B45=\"\",\"\",'TDPrimas Vida'!B45)","v":"TOTAL"},{"$f":"IF('TDPrimas Vida'!C45=\"\",\"\",'TDPrimas Vida'!C45)","v":311861035.33651996},{"$f":"IF('TDPrimas Vida'!D45=\"\",\"\",'TDPrimas Vida'!D45)","v":282737917.87033999},{"$f":"IF('TDPrimas Vida'!C45=\"\",\"\",IFERROR((E164/VLOOKUP(\"TOTAL\",$D$12:$L$312,2,0))*100,\"\"))","v":100},{"$f":"IF('TDPrimas Vida'!C45=\"\",\"\",IFERROR((E164/VLOOKUP(\"TOTAL\",$D$12:$L$312,3,0))*100,\"\"))","v":110.3003932707517},{"$f":"IF('TDPrimas Vida'!C45=\"\",\"\",E164-F164)","v":29123117.466179967},{"$f":"IFERROR(IF('TDPrimas Vida'!C45=\"\",\"\",(E164/F164-1)*100),\"ND\")","v":10.300393270751695},{"$f":"IF(E163=\"\",\"\",IFERROR((E164/VLOOKUP(B164&\"|\"&VLOOKUP(TDPrimas_!$B$4,Cat!R:T,2,0),'TD Operación'!A:D,4,0))*100,\"ND\"))","v":40.490290884015039},{"$f":"IF('TDPrimas Vida'!E45=\"\",\"\",'TDPrimas Vida'!E45)","v":48.848538893041599}]
[null,{"$f":"IF(C165=\"\",B164,D165)","v":"TOTAL"},null,{"$f":"IF(D164=\"\",\"\",\"1er Año\")","v":"1er Año"},{"$f":"IF(E164=\"\",\"\",(VLOOKUP(B165,'TDPrimas Vida'!$B:$N,5,0)))","v":159551027.94873998},{"$f":"IF(E164=\"\",\"\",(VLOOKUP(B165,'TDPrimas Vida'!$B:$N,6,0)))","v":143097065.20514002},{"$f":"IFERROR((E165/VLOOKUP(\"TOTAL\",$D$12:$L$312,2,0))*100,\"\")","v":51.160937042543075},{"$f":"IFERROR((E165/VLOOKUP(\"TOTAL\",$D$12:$L$312,3,0))*100,\"\")","v":56.43071475892669},{"$f":"IF(E164=\"\",\"\",E165-F165)","v":16453962.743599951},{"$f":"IF(E164=\"\",\"\",IFERROR((E165/F165-1)*100,\"ND\"))","v":11.498462753245153},{"$f":"IF(E164=\"\",\"\",IFERROR((E165/VLOOKUP(B165&\"|\"&VLOOKUP(TDPrimas_!$B$4,Cat!R:T,2,0),'TD Operación'!A:D,4,0))*100,\"ND\"))","v":20.71521222751349},{"$f":"IF(E164=\"\",\"\",(VLOOKUP(B165,'TDPrimas Vida'!$B:$N,7,0)))","v":11.498462753245153}]
[null,{"$f":"IF(C166=\"\",B165,D166)","v":"TOTAL"},null,{"$f":"IF(D165=\"\",\"\",\"Renovación\")","v":"Renovación"},{"$f":"IF(E164=\"\",\"\",(VLOOKUP(B166,'TDPrimas Vida'!$B:$N,8,0)))","v":111109948.5458},{"$f":"IF(E164=\"\",\"\",(VLOOKUP(B166,'TDPrimas Vida'!$B:$N,9,0)))","v":106313026.54936999},{"$f":"IFERROR((E166/VLOOKUP(\"TOTAL\",$D$12:$L$312,2,0))*100,\"\")","v":35.628031705180661},{"$f":"IFERROR((E166/VLOOKUP(\"TOTAL\",$D$12:$L$312,3,0))*100,\"\")","v":39.297859085442369},{"$f":"IF(E164=\"\",\"\",E166-F166)","v":4796921.9964300096},{"$f":"IF(E164=\"\",\"\",IFERROR((E166/F166-1)*100,\"ND\"))","v":4.5120735926019284},{"$f":"IF(E165=\"\",\"\",IFERROR((E166/VLOOKUP(B166&\"|\"&VLOOKUP(TDPrimas_!$B$4,Cat!R:T,2,0),'TD Operación'!A:D,4,0))*100,\"ND\"))","v":14.425893673676754},{"$f":"IF(E164=\"\",\"\",(VLOOKUP(B166,'TDPrimas Vida'!$B:$N,10,0)))","v":35.628031705180653}]
[null,{"$f":"IF(C167=\"\",B166,D167)","v":"TOTAL"},null,{"$f":"IF(D166=\"\",\"\",\"Únicas\")","v":"Únicas"},{"$f":"IF(E165=\"\",\"\",(VLOOKUP(B167,'TDPrimas Vida'!$B:$N,11,0)))","v":41200058.84198001},{"$f":"IF(E165=\"\",\"\",(VLOOKUP(B167,'TDPrimas Vida'!$B:$N,12,0)))","v":33327826.115829993},{"$f":"IFERROR((E167/VLOOKUP(\"TOTAL\",$D$12:$L$312,2,0))*100,\"\")","v":13.211031252276277},{"$f":"IFERROR((E167/VLOOKUP(\"TOTAL\",$D$12:$L$312,3,0))*100,\"\")","v":14.571819426382646},{"$f":"IF(E164=\"\",\"\",E167-F167)","v":7872232.7261500172},{"$f":"IF(E164=\"\",\"\",IFERROR((E167/F167-1)*100,\"ND\"))","v":23.62060069201717},{"$f":"IF(E166=\"\",\"\",IFERROR((E167/VLOOKUP(B167&\"|\"&VLOOKUP(TDPrimas_!$B$4,Cat!R:T,2,0),'TD Operación'!A:D,4,0))*100,\"ND\"))","v":5.3491849828247986},{"$f":"IF(E164=\"\",\"\",(VLOOKUP(B167,'TDPrimas Vida'!$B:$N,13,0)))","v":13.211031252276269}]
[null,{"$f":"IF(C168=\"\",B164,D168)","v":"TOTAL"},{"$f":"IF('TDPrimas Vida'!A46=\"\",\"\",'TDPrimas Vida'!A46)","v":""},{"$f":"IF('TDPrimas Vida'!B46=\"\",\"\",'TDPrimas Vida'!B46)","v":""},{"$f":"IF('TDPrimas Vida'!C46=\"\",\"\",'TDPrimas Vida'!C46)","v":""},{"$f":"IF('TDPrimas Vida'!D46=\"\",\"\",'TDPrimas Vida'!D46)","v":""},{"$f":"IF('TDPrimas Vida'!C46=\"\",\"\",IFERROR((E168/VLOOKUP(\"TOTAL\",$D$12:$L$312,2,0))*100,\"\"))","v":""},{"$f":"IF('TDPrimas Vida'!C46=\"\",\"\",IFERROR((E168/VLOOKUP(\"TOTAL\",$D$12:$L$312,3,0))*100,\"\"))","v":""},{"$f":"IF('TDPrimas Vida'!C46=\"\",\"\",E168-F168)","v":""},{"$f":"IFERROR(IF('TDPrimas Vida'!C46=\"\",\"\",(E168/F168-1)*100),\"ND\")","v":""},{"$f":"IF(E167=\"\",\"\",IFERROR((E168/VLOOKUP(B168&\"|\"&VLOOKUP(TDPrimas_!$B$4,Cat!R:T,2,0),'TD Operación'!A:D,4,0))*100,\"ND\"))","v":"ND"},{"$f":"IF('TDPrimas Vida'!E46=\"\",\"\",'TDPrimas Vida'!E46)","v":""}]
[null,{"$f":"IF(C169=\"\",B168,D169)","v":"TOTAL"},null,{"$f":"IF(D168=\"\",\"\",\"1er Año\")","v":""},{"$f":"IF(E168=\"\",\"\",(VLOOKUP(B169,'TDPrimas Vida'!$B:$N,5,0)))","v":""},{"$f":"IF(E168=\"\",\"\",(VLOOKUP(B169,'TDPrimas Vida'!$B:$N,6,0)))","v":""},{"$f":"IFERROR((E169/VLOOKUP(\"TOTAL\",$D$12:$L$312,2,0))*100,\"\")","v":""},{"$f":"IFERROR((E169/VLOOKUP(\"TOTAL\",$D$12:$L$312,3,0))*100,\"\")","v":""},{"$f":"IF(E168=\"\",\"\",E169-F169)","v":""},{"$f":"IF(E168=\"\",\"\",IFERROR((E169/F169-1)*100,\"ND\"))","v":""},{"$f":"IF(E168=\"\",\"\",IFERROR((E169/VLOOKUP(B169&\"|\"&VLOOKUP(TDPrimas_!$B$4,Cat!R:T,2,0),'TD Operación'!A:D,4,0))*100,\"ND\"))","v":""},{"$f":"IF(E168=\"\",\"\",(VLOOKUP(B169,'TDPrimas Vida'!$B:$N,7,0)))","v":""}]
[null,{"$f":"IF(C170=\"\",B169,D170)","v":"TOTAL"},null,{"$f":"IF(D169=\"\",\"\",\"Renovación\")","v":""},{"$f":"IF(E168=\"\",\"\",(VLOOKUP(B170,'TDPrimas Vida'!$B:$N,8,0)))","v":""},{"$f":"IF(E168=\"\",\"\",(VLOOKUP(B170,'TDPrimas Vida'!$B:$N,9,0)))","v":""},{"$f":"IFERROR((E170/VLOOKUP(\"TOTAL\",$D$12:$L$312,2,0))*100,\"\")","v":""},{"$f":"IFERROR((E170/VLOOKUP(\"TOTAL\",$D$12:$L$312,3,0))*100,\"\")","v":""},{"$f":"IF(E168=\"\",\"\",E170-F170)","v":""},{"$f":"IF(E168=\"\",\"\",IFERROR((E170/F170-1)*100,\"ND\"))","v":""},{"$f":"IF(E169=\"\",\"\",IFERROR((E170/VLOOKUP(B170&\"|\"&VLOOKUP(TDPrimas_!$B$4,Cat!R:T,2,0),'TD Operación'!A:D,4,0))*100,\"ND\"))","v":""},{"$f":"IF(E168=\"\",\"\",(VLOOKUP(B170,'TDPrimas Vida'!$B:$N,10,0)))","v":""}]
[null,{"$f":"IF(C171=\"\",B170,D171)","v":"TOTAL"},null,{"$f":"IF(D170=\"\",\"\",\"Únicas\")","v":""},{"$f":"IF(E169=\"\",\"\",(VLOOKUP(B171,'TDPrimas Vida'!$B:$N,11,0)))","v":""},{"$f":"IF(E169=\"\",\"\",(VLOOKUP(B171,'TDPrimas Vida'!$B:$N,12,0)))","v":""},{"$f":"IFERROR((E171/VLOOKUP(\"TOTAL\",$D$12:$L$312,2,0))*100,\"\")","v":""},{"$f":"IFERROR((E171/VLOOKUP(\"TOTAL\",$D$12:$L$312,3,0))*100,\"\")","v":""},{"$f":"IF(E168=\"\",\"\",E171-F171)","v":""},{"$f":"IF(E168=\"\",\"\",IFERROR((E171/F171-1)*100,\"ND\"))","v":""},{"$f":"IF(E170=\"\",\"\",IFERROR((E171/VLOOKUP(B171&\"|\"&VLOOKUP(TDPrimas_!$B$4,Cat!R:T,2,0),'TD Operación'!A:D,4,0))*100,\"ND\"))","v":""},{"$f":"IF(E168=\"\",\"\",(VLOOKUP(B171,'TDPrimas Vida'!$B:$N,13,0)))","v":""}]
[null,{"$f":"IF(C172=\"\",B168,D172)","v":"TOTAL"},{"$f":"IF('TDPrimas Vida'!A47=\"\",\"\",'TDPrimas Vida'!A47)","v":""},{"$f":"IF('TDPrimas Vida'!B47=\"\",\"\",'TDPrimas Vida'!B47)","v":""},{"$f":"IF('TDPrimas Vida'!C47=\"\",\"\",'TDPrimas Vida'!C47)","v":""},{"$f":"IF('TDPrimas Vida'!D47=\"\",\"\",'TDPrimas Vida'!D47)","v":""},{"$f":"IF('TDPrimas Vida'!C47=\"\",\"\",IFERROR((E172/VLOOKUP(\"TOTAL\",$D$12:$L$312,2,0))*100,\"\"))","v":""},{"$f":"IF('TDPrimas Vida'!C47=\"\",\"\",IFERROR((E172/VLOOKUP(\"TOTAL\",$D$12:$L$312,3,0))*100,\"\"))","v":""},{"$f":"IF('TDPrimas Vida'!C47=\"\",\"\",E172-F172)","v":""},{"$f":"IFERROR(IF('TDPrimas Vida'!C47=\"\",\"\",(E172/F172-1)*100),\"ND\")","v":""},{"$f":"IF(E171=\"\",\"\",IFERROR((E172/VLOOKUP(B172&\"|\"&VLOOKUP(TDPrimas_!$B$4,Cat!R:T,2,0),'TD Operación'!A:D,4,0))*100,\"ND\"))","v":""},{"$f":"IF('TDPrimas Vida'!E47=\"\",\"\",'TDPrimas Vida'!E47)","v":""}]
[null,{"$f":"IF(C173=\"\",B172,D173)","v":"TOTAL"},null,{"$f":"IF(D172=\"\",\"\",\"1er Año\")","v":""},{"$f":"IF(E172=\"\",\"\",(VLOOKUP(B173,'TDPrimas Vida'!$B:$N,5,0)))","v":""},{"$f":"IF(E172=\"\",\"\",(VLOOKUP(B173,'TDPrimas Vida'!$B:$N,6,0)))","v":""},{"$f":"IFERROR((E173/VLOOKUP(\"TOTAL\",$D$12:$L$312,2,0))*100,\"\")","v":""},{"$f":"IFERROR((E173/VLOOKUP(\"TOTAL\",$D$12:$L$312,3,0))*100,\"\")","v":""},{"$f":"IF(E172=\"\",\"\",E173-F173)","v":""},{"$f":"IF(E172=\"\",\"\",IFERROR((E173/F173-1)*100,\"ND\"))","v":""},{"$f":"IF(E172=\"\",\"\",IFERROR((E173/VLOOKUP(B173&\"|\"&VLOOKUP(TDPrimas_!$B$4,Cat!R:T,2,0),'TD Operación'!A:D,4,0))*100,\"ND\"))","v":""},{"$f":"IF(E172=\"\",\"\",(VLOOKUP(B173,'TDPrimas Vida'!$B:$N,7,0)))","v":""}]
[null,{"$f":"IF(C174=\"\",B173,D174)","v":"TOTAL"},null,{"$f":"IF(D173=\"\",\"\",\"Renovación\")","v":""},{"$f":"IF(E172=\"\",\"\",(VLOOKUP(B174,'TDPrimas Vida'!$B:$N,8,0)))","v":""},{"$f":"IF(E172=\"\",\"\",(VLOOKUP(B174,'TDPrimas Vida'!$B:$N,9,0)))","v":""},{"$f":"IFERROR((E174/VLOOKUP(\"TOTAL\",$D$12:$L$312,2,0))*100,\"\")","v":""},{"$f":"IFERROR((E174/VLOOKUP(\"TOTAL\",$D$12:$L$312,3,0))*100,\"\")","v":""},{"$f":"IF(E172=\"\",\"\",E174-F174)","v":""},{"$f":"IF(E172=\"\",\"\",IFERROR((E174/F174-1)*100,\"ND\"))","v":""},{"$f":"IF(E173=\"\",\"\",IFERROR((E174/VLOOKUP(B174&\"|\"&VLOOKUP(TDPrimas_!$B$4,Cat!R:T,2,0),'TD Operación'!A:D,4,0))*100,\"ND\"))","v":""},{"$f":"IF(E172=\"\",\"\",(VLOOKUP(B174,'TDPrimas Vida'!$B:$N,10,0)))","v":""}]
[null,{"$f":"IF(C175=\"\",B174,D175)","v":"TOTAL"},null,{"$f":"IF(D174=\"\",\"\",\"Únicas\")","v":""},{"$f":"IF(E173=\"\",\"\",(VLOOKUP(B175,'TDPrimas Vida'!$B:$N,11,0)))","v":""},{"$f":"IF(E173=\"\",\"\",(VLOOKUP(B175,'TDPrimas Vida'!$B:$N,12,0)))","v":""},{"$f":"IFERROR((E175/VLOOKUP(\"TOTAL\",$D$12:$L$312,2,0))*100,\"\")","v":""},{"$f":"IFERROR((E175/VLOOKUP(\"TOTAL\",$D$12:$L$312,3,0))*100,\"\")","v":""},{"$f":"IF(E172=\"\",\"\",E175-F175)","v":""},{"$f":"IF(E172=\"\",\"\",IFERROR((E175/F175-1)*100,\"ND\"))","v":""},{"$f":"IF(E174=\"\",\"\",IFERROR((E175/VLOOKUP(B175&\"|\"&VLOOKUP(TDPrimas_!$B$4,Cat!R:T,2,0),'TD Operación'!A:D,4,0))*100,\"ND\"))","v":""},{"$f":"IF(E172=\"\",\"\",(VLOOKUP(B175,'TDPrimas Vida'!$B:$N,13,0)))","v":""}]
[null,{"$f":"IF(C176=\"\",B172,D176)","v":"TOTAL"},{"$f":"IF('TDPrimas Vida'!A48=\"\",\"\",'TDPrimas Vida'!A48)","v":""},{"$f":"IF('TDPrimas Vida'!B48=\"\",\"\",'TDPrimas Vida'!B48)","v":""},{"$f":"IF('TDPrimas Vida'!C48=\"\",\"\",'TDPrimas Vida'!C48)","v":""},{"$f":"IF('TDPrimas Vida'!D48=\"\",\"\",'TDPrimas Vida'!D48)","v":""},{"$f":"IF('TDPrimas Vida'!C48=\"\",\"\",IFERROR((E176/VLOOKUP(\"TOTAL\",$D$12:$L$312,2,0))*100,\"\"))","v":""},{"$f":"IF('TDPrimas Vida'!C48=\"\",\"\",IFERROR((E176/VLOOKUP(\"TOTAL\",$D$12:$L$312,3,0))*100,\"\"))","v":""},{"$f":"IF('TDPrimas Vida'!C48=\"\",\"\",E176-F176)","v":""},{"$f":"IFERROR(IF('TDPrimas Vida'!C48=\"\",\"\",(E176/F176-1)*100),\"ND\")","v":""},{"$f":"IF(E175=\"\",\"\",IFERROR((E176/VLOOKUP(B176&\"|\"&VLOOKUP(TDPrimas_!$B$4,Cat!R:T,2,0),'TD Operación'!A:D,4,0))*100,\"ND\"))","v":""},{"$f":"IF('TDPrimas Vida'!E48=\"\",\"\",'TDPrimas Vida'!E48)","v":""}]
[null,{"$f":"IF(C177=\"\",B176,D177)","v":"TOTAL"},null,{"$f":"IF(D176=\"\",\"\",\"1er Año\")","v":""},{"$f":"IF(E176=\"\",\"\",(VLOOKUP(B177,'TDPrimas Vida'!$B:$N,5,0)))","v":""},{"$f":"IF(E176=\"\",\"\",(VLOOKUP(B177,'TDPrimas Vida'!$B:$N,6,0)))","v":""},{"$f":"IFERROR((E177/VLOOKUP(\"TOTAL\",$D$12:$L$312,2,0))*100,\"\")","v":""},{"$f":"IFERROR((E177/VLOOKUP(\"TOTAL\",$D$12:$L$312,3,0))*100,\"\")","v":""},{"$f":"IF(E176=\"\",\"\",E177-F177)","v":""},{"$f":"IF(E176=\"\",\"\",IFERROR((E177/F177-1)*100,\"ND\"))","v":""},{"$f":"IF(E176=\"\",\"\",IFERROR((E177/VLOOKUP(B177&\"|\"&VLOOKUP(TDPrimas_!$B$4,Cat!R:T,2,0),'TD Operación'!A:D,4,0))*100,\"ND\"))","v":""},{"$f":"IF(E176=\"\",\"\",(VLOOKUP(B177,'TDPrimas Vida'!$B:$N,7,0)))","v":""}]
[null,{"$f":"IF(C178=\"\",B177,D178)","v":"TOTAL"},null,{"$f":"IF(D177=\"\",\"\",\"Renovación\")","v":""},{"$f":"IF(E176=\"\",\"\",(VLOOKUP(B178,'TDPrimas Vida'!$B:$N,8,0)))","v":""},{"$f":"IF(E176=\"\",\"\",(VLOOKUP(B178,'TDPrimas Vida'!$B:$N,9,0)))","v":""},{"$f":"IFERROR((E178/VLOOKUP(\"TOTAL\",$D$12:$L$312,2,0))*100,\"\")","v":""},{"$f":"IFERROR((E178/VLOOKUP(\"TOTAL\",$D$12:$L$312,3,0))*100,\"\")","v":""},{"$f":"IF(E176=\"\",\"\",E178-F178)","v":""},{"$f":"IF(E176=\"\",\"\",IFERROR((E178/F178-1)*100,\"ND\"))","v":""},{"$f":"IF(E177=\"\",\"\",IFERROR((E178/VLOOKUP(B178&\"|\"&VLOOKUP(TDPrimas_!$B$4,Cat!R:T,2,0),'TD Operación'!A:D,4,0))*100,\"ND\"))","v":""},{"$f":"IF(E176=\"\",\"\",(VLOOKUP(B178,'TDPrimas Vida'!$B:$N,10,0)))","v":""}]
[null,{"$f":"IF(C179=\"\",B178,D179)","v":"TOTAL"},null,{"$f":"IF(D178=\"\",\"\",\"Únicas\")","v":""},{"$f":"IF(E177=\"\",\"\",(VLOOKUP(B179,'TDPrimas Vida'!$B:$N,11,0)))","v":""},{"$f":"IF(E177=\"\",\"\",(VLOOKUP(B179,'TDPrimas Vida'!$B:$N,12,0)))","v":""},{"$f":"IFERROR((E179/VLOOKUP(\"TOTAL\",$D$12:$L$312,2,0))*100,\"\")","v":""},{"$f":"IFERROR((E179/VLOOKUP(\"TOTAL\",$D$12:$L$312,3,0))*100,\"\")","v":""},{"$f":"IF(E176=\"\",\"\",E179-F179)","v":""},{"$f":"IF(E176=\"\",\"\",IFERROR((E179/F179-1)*100,\"ND\"))","v":""},{"$f":"IF(E178=\"\",\"\",IFERROR((E179/VLOOKUP(B179&\"|\"&VLOOKUP(TDPrimas_!$B$4,Cat!R:T,2,0),'TD Operación'!A:D,4,0))*100,\"ND\"))","v":""},{"$f":"IF(E176=\"\",\"\",(VLOOKUP(B179,'TDPrimas Vida'!$B:$N,13,0)))","v":""}]
[null,{"$f":"IF(C180=\"\",B176,D180)","v":"TOTAL"},{"$f":"IF('TDPrimas Vida'!A49=\"\",\"\",'TDPrimas Vida'!A49)","v":""},{"$f":"IF('TDPrimas Vida'!B49=\"\",\"\",'TDPrimas Vida'!B49)","v":""},{"$f":"IF('TDPrimas Vida'!C49=\"\",\"\",'TDPrimas Vida'!C49)","v":""},{"$f":"IF('TDPrimas Vida'!D49=\"\",\"\",'TDPrimas Vida'!D49)","v":""},{"$f":"IF('TDPrimas Vida'!C49=\"\",\"\",IFERROR((E180/VLOOKUP(\"TOTAL\",$D$12:$L$312,2,0))*100,\"\"))","v":""},{"$f":"IF('TDPrimas Vida'!C49=\"\",\"\",IFERROR((E180/VLOOKUP(\"TOTAL\",$D$12:$L$312,3,0))*100,\"\"))","v":""},{"$f":"IF('TDPrimas Vida'!C49=\"\",\"\",E180-F180)","v":""},{"$f":"IFERROR(IF('TDPrimas Vida'!C49=\"\",\"\",(E180/F180-1)*100),\"ND\")","v":""},{"$f":"IF(E179=\"\",\"\",IFERROR((E180/VLOOKUP(B180&\"|\"&VLOOKUP(TDPrimas_!$B$4,Cat!R:T,2,0),'TD Operación'!A:D,4,0))*100,\"ND\"))","v":""},{"$f":"IF('TDPrimas Vida'!E49=\"\",\"\",'TDPrimas Vida'!E49)","v":""}]
[null,{"$f":"IF(C181=\"\",B180,D181)","v":"TOTAL"},null,{"$f":"IF(D180=\"\",\"\",\"1er Año\")","v":""},{"$f":"IF(E180=\"\",\"\",(VLOOKUP(B181,'TDPrimas Vida'!$B:$N,5,0)))","v":""},{"$f":"IF(E180=\"\",\"\",(VLOOKUP(B181,'TDPrimas Vida'!$B:$N,6,0)))","v":""},{"$f":"IFERROR((E181/VLOOKUP(\"TOTAL\",$D$12:$L$312,2,0))*100,\"\")","v":""},{"$f":"IFERROR((E181/VLOOKUP(\"TOTAL\",$D$12:$L$312,3,0))*100,\"\")","v":""},{"$f":"IF(E180=\"\",\"\",E181-F181)","v":""},{"$f":"IF(E180=\"\",\"\",IFERROR((E181/F181-1)*100,\"ND\"))","v":""},{"$f":"IF(E180=\"\",\"\",IFERROR((E181/VLOOKUP(B181&\"|\"&VLOOKUP(TDPrimas_!$B$4,Cat!R:T,2,0),'TD Operación'!A:D,4,0))*100,\"ND\"))","v":""},{"$f":"IF(E180=\"\",\"\",(VLOOKUP(B181,'TDPrimas Vida'!$B:$N,7,0)))","v":""}]
[null,"TOTAL",null,{"$f":"IF(D181=\"\",\"\",\"Renovación\")","v":""},{"$f":"IF(E180=\"\",\"\",(VLOOKUP(B182,'TDPrimas Vida'!$B:$N,8,0)))","v":""},{"$f":"IF(E180=\"\",\"\",(VLOOKUP(B182,'TDPrimas Vida'!$B:$N,9,0)))","v":""},{"$f":"IFERROR((E182/VLOOKUP(\"TOTAL\",$D$12:$L$312,2,0))*100,\"\")","v":""},{"$f":"IFERROR((E182/VLOOKUP(\"TOTAL\",$D$12:$L$312,3,0))*100,\"\")","v":""},{"$f":"IF(E180=\"\",\"\",E182-F182)","v":""},{"$f":"IF(E180=\"\",\"\",IFERROR((E182/F182-1)*100,\"ND\"))","v":""},{"$f":"IF(E181=\"\",\"\",IFERROR((E182/VLOOKUP(B182&\"|\"&VLOOKUP(TDPrimas_!$B$4,Cat!R:T,2,0),'TD Operación'!A:D,4,0))*100,\"ND\"))","v":""},{"$f":"IF(E180=\"\",\"\",(VLOOKUP(B182,'TDPrimas Vida'!$B:$N,10,0)))","v":""}]
[null,"TOTAL",null,{"$f":"IF(D182=\"\",\"\",\"Únicas\")","v":""},{"$f":"IF(E181=\"\",\"\",(VLOOKUP(B183,'TDPrimas Vida'!$B:$N,11,0)))","v":""},{"$f":"IF(E181=\"\",\"\",(VLOOKUP(B183,'TDPrimas Vida'!$B:$N,12,0)))","v":""},{"$f":"IFERROR((E183/VLOOKUP(\"TOTAL\",$D$12:$L$312,2,0))*100,\"\")","v":""},{"$f":"IFERROR((E183/VLOOKUP(\"TOTAL\",$D$12:$L$312,3,0))*100,\"\")","v":""},{"$f":"IF(E180=\"\",\"\",E183-F183)","v":""},{"$f":"IF(E180=\"\",\"\",IFERROR((E183/F183-1)*100,\"ND\"))","v":""},{"$f":"IF(E182=\"\",\"\",IFERROR((E183/VLOOKUP(B183&\"|\"&VLOOKUP(TDPrimas_!$B$4,Cat!R:T,2,0),'TD Operación'!A:D,4,0))*100,\"ND\"))","v":""},{"$f":"IF(E180=\"\",\"\",(VLOOKUP(B183,'TDPrimas Vida'!$B:$N,13,0)))","v":""}]
[null,"TOTAL",{"$f":"IF('TDPrimas Vida'!A51=\"\",\"\",'TDPrimas Vida'!A51)","v":""},{"$f":"IF('TDPrimas Vida'!B51=\"\",\"\",'TDPrimas Vida'!B51)","v":""},{"$f":"IF('TDPrimas Vida'!C51=\"\",\"\",'TDPrimas Vida'!C51)","v":""},{"$f":"IF('TDPrimas Vida'!D51=\"\",\"\",'TDPrimas Vida'!D51)","v":""},{"$f":"IF('TDPrimas Vida'!C51=\"\",\"\",IFERROR((E184/VLOOKUP(\"TOTAL\",$D$12:$L$312,2,0))*100,\"\"))","v":""},{"$f":"IF('TDPrimas Vida'!C51=\"\",\"\",IFERROR((E184/VLOOKUP(\"TOTAL\",$D$12:$L$312,3,0))*100,\"\"))","v":""},{"$f":"IF('TDPrimas Vida'!C51=\"\",\"\",E184-F184)","v":""},{"$f":"IFERROR(IF('TDPrimas Vida'!C51=\"\",\"\",(E184/F184-1)*100),\"ND\")","v":""},{"$f":"IF(E183=\"\",\"\",IFERROR((E184/VLOOKUP(B184&\"|\"&VLOOKUP(TDPrimas_!$B$4,Cat!R:T,2,0),'TD Operación'!A:D,4,0))*100,\"ND\"))","v":""},{"$f":"IF('TDPrimas Vida'!E51=\"\",\"\",'TDPrimas Vida'!E51)","v":""}]
[null,"TOTAL",null,{"$f":"IF(D184=\"\",\"\",\"1er Año\")","v":""},{"$f":"IF(E184=\"\",\"\",(VLOOKUP(B185,'TDPrimas Vida'!$B:$N,5,0)))","v":""},{"$f":"IF(E184=\"\",\"\",(VLOOKUP(B185,'TDPrimas Vida'!$B:$N,6,0)))","v":""},{"$f":"IFERROR((E185/VLOOKUP(\"TOTAL\",$D$12:$L$312,2,0))*100,\"\")","v":""},{"$f":"IFERROR((E185/VLOOKUP(\"TOTAL\",$D$12:$L$312,3,0))*100,\"\")","v":""},{"$f":"IF(E184=\"\",\"\",E185-F185)","v":""},{"$f":"IF(E184=\"\",\"\",IFERROR((E185/F185-1)*100,\"ND\"))","v":""},{"$f":"IF(E184=\"\",\"\",IFERROR((E185/VLOOKUP(B185&\"|\"&VLOOKUP(TDPrimas_!$B$4,Cat!R:T,2,0),'TD Operación'!A:D,4,0))*100,\"ND\"))","v":""},{"$f":"IF(E184=\"\",\"\",(VLOOKUP(B185,'TDPrimas Vida'!$B:$N,7,0)))","v":""}]
[null,"TOTAL",null,{"$f":"IF(D185=\"\",\"\",\"Renovación\")","v":""},{"$f":"IF(E184=\"\",\"\",(VLOOKUP(B186,'TDPrimas Vida'!$B:$N,8,0)))","v":""},{"$f":"IF(E184=\"\",\"\",(VLOOKUP(B186,'TDPrimas Vida'!$B:$N,9,0)))","v":""},{"$f":"IFERROR((E186/VLOOKUP(\"TOTAL\",$D$12:$L$312,2,0))*100,\"\")","v":""},{"$f":"IFERROR((E186/VLOOKUP(\"TOTAL\",$D$12:$L$312,3,0))*100,\"\")","v":""},{"$f":"IF(E184=\"\",\"\",E186-F186)","v":""},{"$f":"IF(E184=\"\",\"\",IFERROR((E186/F186-1)*100,\"ND\"))","v":""},{"$f":"IF(E185=\"\",\"\",IFERROR((E186/VLOOKUP(B186&\"|\"&VLOOKUP(TDPrimas_!$B$4,Cat!R:T,2,0),'TD Operación'!A:D,4,0))*100,\"ND\"))","v":""},{"$f":"IF(E184=\"\",\"\",(VLOOKUP(B186,'TDPrimas Vida'!$B:$N,10,0)))","v":""}]
[null,"TOTAL",null,{"$f":"IF(D186=\"\",\"\",\"Únicas\")","v":""},{"$f":"IF(E185=\"\",\"\",(VLOOKUP(B187,'TDPrimas Vida'!$B:$N,11,0)))","v":""},{"$f":"IF(E185=\"\",\"\",(VLOOKUP(B187,'TDPrimas Vida'!$B:$N,12,0)))","v":""},{"$f":"IFERROR((E187/VLOOKUP(\"TOTAL\",$D$12:$L$312,2,0))*100,\"\")","v":""},{"$f":"IFERROR((E187/VLOOKUP(\"TOTAL\",$D$12:$L$312,3,0))*100,\"\")","v":""},{"$f":"IF(E184=\"\",\"\",E187-F187)","v":""},{"$f":"IF(E184=\"\",\"\",IFERROR((E187/F187-1)*100,\"ND\"))","v":""},{"$f":"IF(E186=\"\",\"\",IFERROR((E187/VLOOKUP(B187&\"|\"&VLOOKUP(TDPrimas_!$B$4,Cat!R:T,2,0),'TD Operación'!A:D,4,0))*100,\"ND\"))","v":""},{"$f":"IF(E184=\"\",\"\",(VLOOKUP(B187,'TDPrimas Vida'!$B:$N,13,0)))","v":""}]
[null,{"$f":"IF(C188=\"\",B184,D188)","v":"TOTAL"},{"$f":"IF('TDPrimas Vida'!A52=\"\",\"\",'TDPrimas Vida'!A52)","v":""},{"$f":"IF('TDPrimas Vida'!B52=\"\",\"\",'TDPrimas Vida'!B52)","v":""},{"$f":"IF('TDPrimas Vida'!C52=\"\",\"\",'TDPrimas Vida'!C52)","v":""},{"$f":"IF('TDPrimas Vida'!D52=\"\",\"\",'TDPrimas Vida'!D52)","v":""},{"$f":"IF('TDPrimas Vida'!C52=\"\",\"\",IFERROR((E188/VLOOKUP(\"TOTAL\",$D$12:$L$312,2,0))*100,\"\"))","v":""},{"$f":"IF('TDPrimas Vida'!C52=\"\",\"\",IFERROR((E188/VLOOKUP(\"TOTAL\",$D$12:$L$312,3,0))*100,\"\"))","v":""},{"$f":"IF('TDPrimas Vida'!C52=\"\",\"\",E188-F188)","v":""},{"$f":"IFERROR(IF('TDPrimas Vida'!C52=\"\",\"\",(E188/F188-1)*100),\"ND\")","v":""},{"$f":"IF(E187=\"\",\"\",IFERROR((E188/VLOOKUP(B188&\"|\"&VLOOKUP(TDPrimas_!$B$4,Cat!R:T,2,0),'TD Operación'!A:D,4,0))*100,\"ND\"))","v":""},{"$f":"IF('TDPrimas Vida'!E52=\"\",\"\",'TDPrimas Vida'!E52)","v":""}]
[null,{"$f":"IF(C189=\"\",B188,D189)","v":"TOTAL"},null,{"$f":"IF(D188=\"\",\"\",\"1er Año\")","v":""},{"$f":"IF(E188=\"\",\"\",(VLOOKUP(B189,'TDPrimas Vida'!$B:$N,5,0)))","v":""},{"$f":"IF(E188=\"\",\"\",(VLOOKUP(B189,'TDPrimas Vida'!$B:$N,6,0)))","v":""},{"$f":"IFERROR((E189/VLOOKUP(\"TOTAL\",$D$12:$L$312,2,0))*100,\"\")","v":""},{"$f":"IFERROR((E189/VLOOKUP(\"TOTAL\",$D$12:$L$312,3,0))*100,\"\")","v":""},{"$f":"IF(E188=\"\",\"\",E189-F189)","v":""},{"$f":"IF(E188=\"\",\"\",IFERROR((E189/F189-1)*100,\"ND\"))","v":""},{"$f":"IF(E188=\"\",\"\",IFERROR((E189/VLOOKUP(B189&\"|\"&VLOOKUP(TDPrimas_!$B$4,Cat!R:T,2,0),'TD Operación'!A:D,4,0))*100,\"ND\"))","v":""},{"$f":"IF(E188=\"\",\"\",(VLOOKUP(B189,'TDPrimas Vida'!$B:$N,7,0)))","v":""}]
[null,{"$f":"IF(C190=\"\",B189,D190)","v":"TOTAL"},null,{"$f":"IF(D189=\"\",\"\",\"Renovación\")","v":""},{"$f":"IF(E188=\"\",\"\",(VLOOKUP(B190,'TDPrimas Vida'!$B:$N,8,0)))","v":""},{"$f":"IF(E188=\"\",\"\",(VLOOKUP(B190,'TDPrimas Vida'!$B:$N,9,0)))","v":""},{"$f":"IFERROR((E190/VLOOKUP(\"TOTAL\",$D$12:$L$312,2,0))*100,\"\")","v":""},{"$f":"IFERROR((E190/VLOOKUP(\"TOTAL\",$D$12:$L$312,3,0))*100,\"\")","v":""},{"$f":"IF(E188=\"\",\"\",E190-F190)","v":""},{"$f":"IF(E188=\"\",\"\",IFERROR((E190/F190-1)*100,\"ND\"))","v":""},{"$f":"IF(E189=\"\",\"\",IFERROR((E190/VLOOKUP(B190&\"|\"&VLOOKUP(TDPrimas_!$B$4,Cat!R:T,2,0),'TD Operación'!A:D,4,0))*100,\"ND\"))","v":""},{"$f":"IF(E188=\"\",\"\",(VLOOKUP(B190,'TDPrimas Vida'!$B:$N,10,0)))","v":""}]
[null,{"$f":"IF(C191=\"\",B190,D191)","v":"TOTAL"},null,{"$f":"IF(D190=\"\",\"\",\"Únicas\")","v":""},{"$f":"IF(E189=\"\",\"\",(VLOOKUP(B191,'TDPrimas Vida'!$B:$N,11,0)))","v":""},{"$f":"IF(E189=\"\",\"\",(VLOOKUP(B191,'TDPrimas Vida'!$B:$N,12,0)))","v":""},{"$f":"IFERROR((E191/VLOOKUP(\"TOTAL\",$D$12:$L$312,2,0))*100,\"\")","v":""},{"$f":"IFERROR((E191/VLOOKUP(\"TOTAL\",$D$12:$L$312,3,0))*100,\"\")","v":""},{"$f":"IF(E188=\"\",\"\",E191-F191)","v":""},{"$f":"IF(E188=\"\",\"\",IFERROR((E191/F191-1)*100,\"ND\"))","v":""},{"$f":"IF(E190=\"\",\"\",IFERROR((E191/VLOOKUP(B191&\"|\"&VLOOKUP(TDPrimas_!$B$4,Cat!R:T,2,0),'TD Operación'!A:D,4,0))*100,\"ND\"))","v":""},{"$f":"IF(E188=\"\",\"\",(VLOOKUP(B191,'TDPrimas Vida'!$B:$N,13,0)))","v":""}]
[null,{"$f":"IF(C192=\"\",B188,D192)","v":"TOTAL"},{"$f":"IF('TDPrimas Vida'!A53=\"\",\"\",'TDPrimas Vida'!A53)","v":""},{"$f":"IF('TDPrimas Vida'!B53=\"\",\"\",'TDPrimas Vida'!B53)","v":""},{"$f":"IF('TDPrimas Vida'!C53=\"\",\"\",'TDPrimas Vida'!C53)","v":""},{"$f":"IF('TDPrimas Vida'!D53=\"\",\"\",'TDPrimas Vida'!D53)","v":""},{"$f":"IF('TDPrimas Vida'!C53=\"\",\"\",IFERROR((E192/VLOOKUP(\"TOTAL\",$D$12:$L$312,2,0))*100,\"\"))","v":""},{"$f":"IF('TDPrimas Vida'!C53=\"\",\"\",IFERROR((E192/VLOOKUP(\"TOTAL\",$D$12:$L$312,3,0))*100,\"\"))","v":""},{"$f":"IF('TDPrimas Vida'!C53=\"\",\"\",E192-F192)","v":""},{"$f":"IFERROR(IF('TDPrimas Vida'!C53=\"\",\"\",(E192/F192-1)*100),\"ND\")","v":""},{"$f":"IF(E191=\"\",\"\",IFERROR((E192/VLOOKUP(B192&\"|\"&VLOOKUP(TDPrimas_!$B$4,Cat!R:T,2,0),'TD Operación'!A:D,4,0))*100,\"ND\"))","v":""},{"$f":"IF('TDPrimas Vida'!E53=\"\",\"\",'TDPrimas Vida'!E53)","v":""}]
[null,{"$f":"IF(C193=\"\",B192,D193)","v":"TOTAL"},null,{"$f":"IF(D192=\"\",\"\",\"1er Año\")","v":""},{"$f":"IF(E192=\"\",\"\",(VLOOKUP(B193,'TDPrimas Vida'!$B:$N,5,0)))","v":""},{"$f":"IF(E192=\"\",\"\",(VLOOKUP(B193,'TDPrimas Vida'!$B:$N,6,0)))","v":""},{"$f":"IFERROR((E193/VLOOKUP(\"TOTAL\",$D$12:$L$312,2,0))*100,\"\")","v":""},{"$f":"IFERROR((E193/VLOOKUP(\"TOTAL\",$D$12:$L$312,3,0))*100,\"\")","v":""},{"$f":"IF(E192=\"\",\"\",E193-F193)","v":""},{"$f":"IF(E192=\"\",\"\",IFERROR((E193/F193-1)*100,\"ND\"))","v":""},{"$f":"IF(E192=\"\",\"\",IFERROR((E193/VLOOKUP(B193&\"|\"&VLOOKUP(TDPrimas_!$B$4,Cat!R:T,2,0),'TD Operación'!A:D,4,0))*100,\"ND\"))","v":""},{"$f":"IF(E192=\"\",\"\",(VLOOKUP(B193,'TDPrimas Vida'!$B:$N,7,0)))","v":""}]
[null,{"$f":"IF(C194=\"\",B193,D194)","v":"TOTAL"},null,{"$f":"IF(D193=\"\",\"\",\"Renovación\")","v":""},{"$f":"IF(E192=\"\",\"\",(VLOOKUP(B194,'TDPrimas Vida'!$B:$N,8,0)))","v":""},{"$f":"IF(E192=\"\",\"\",(VLOOKUP(B194,'TDPrimas Vida'!$B:$N,9,0)))","v":""},{"$f":"IFERROR((E194/VLOOKUP(\"TOTAL\",$D$12:$L$312,2,0))*100,\"\")","v":""},{"$f":"IFERROR((E194/VLOOKUP(\"TOTAL\",$D$12:$L$312,3,0))*100,\"\")","v":""},{"$f":"IF(E192=\"\",\"\",E194-F194)","v":""},{"$f":"IF(E192=\"\",\"\",IFERROR((E194/F194-1)*100,\"ND\"))","v":""},{"$f":"IF(E193=\"\",\"\",IFERROR((E194/VLOOKUP(B194&\"|\"&VLOOKUP(TDPrimas_!$B$4,Cat!R:T,2,0),'TD Operación'!A:D,4,0))*100,\"ND\"))","v":""},{"$f":"IF(E192=\"\",\"\",(VLOOKUP(B194,'TDPrimas Vida'!$B:$N,10,0)))","v":""}]
[null,{"$f":"IF(C195=\"\",B194,D195)","v":"TOTAL"},null,{"$f":"IF(D194=\"\",\"\",\"Únicas\")","v":""},{"$f":"IF(E193=\"\",\"\",(VLOOKUP(B195,'TDPrimas Vida'!$B:$N,11,0)))","v":""},{"$f":"IF(E193=\"\",\"\",(VLOOKUP(B195,'TDPrimas Vida'!$B:$N,12,0)))","v":""},{"$f":"IFERROR((E195/VLOOKUP(\"TOTAL\",$D$12:$L$312,2,0))*100,\"\")","v":""},{"$f":"IFERROR((E195/VLOOKUP(\"TOTAL\",$D$12:$L$312,3,0))*100,\"\")","v":""},{"$f":"IF(E192=\"\",\"\",E195-F195)","v":""},{"$f":"IF(E192=\"\",\"\",IFERROR((E195/F195-1)*100,\"ND\"))","v":""},{"$f":"IF(E194=\"\",\"\",IFERROR((E195/VLOOKUP(B195&\"|\"&VLOOKUP(TDPrimas_!$B$4,Cat!R:T,2,0),'TD Operación'!A:D,4,0))*100,\"ND\"))","v":""},{"$f":"IF(E192=\"\",\"\",(VLOOKUP(B195,'TDPrimas Vida'!$B:$N,13,0)))","v":""}]
[null,{"$f":"IF(C196=\"\",B192,D196)","v":"TOTAL"},{"$f":"IF('TDPrimas Vida'!A54=\"\",\"\",'TDPrimas Vida'!A54)","v":""},{"$f":"IF('TDPrimas Vida'!B54=\"\",\"\",'TDPrimas Vida'!B54)","v":""},{"$f":"IF('TDPrimas Vida'!C54=\"\",\"\",'TDPrimas Vida'!C54)","v":""},{"$f":"IF('TDPrimas Vida'!D54=\"\",\"\",'TDPrimas Vida'!D54)","v":""},{"$f":"IF('TDPrimas Vida'!C54=\"\",\"\",IFERROR((E196/VLOOKUP(\"TOTAL\",$D$12:$L$312,2,0))*100,\"\"))","v":""},{"$f":"IF('TDPrimas Vida'!C54=\"\",\"\",IFERROR((E196/VLOOKUP(\"TOTAL\",$D$12:$L$312,3,0))*100,\"\"))","v":""},{"$f":"IF('TDPrimas Vida'!C54=\"\",\"\",E196-F196)","v":""},{"$f":"IFERROR(IF('TDPrimas Vida'!C54=\"\",\"\",(E196/F196-1)*100),\"ND\")","v":""},{"$f":"IF(E195=\"\",\"\",IFERROR((E196/VLOOKUP(B196&\"|\"&VLOOKUP(TDPrimas_!$B$4,Cat!R:T,2,0),'TD Operación'!A:D,4,0))*100,\"ND\"))","v":""},{"$f":"IF('TDPrimas Vida'!E54=\"\",\"\",'TDPrimas Vida'!E54)","v":""}]
[null,{"$f":"IF(C197=\"\",B196,D197)","v":"TOTAL"},null,{"$f":"IF(D196=\"\",\"\",\"1er Año\")","v":""},{"$f":"IF(E196=\"\",\"\",(VLOOKUP(B197,'TDPrimas Vida'!$B:$N,5,0)))","v":""},{"$f":"IF(E196=\"\",\"\",(VLOOKUP(B197,'TDPrimas Vida'!$B:$N,6,0)))","v":""},{"$f":"IFERROR((E197/VLOOKUP(\"TOTAL\",$D$12:$L$312,2,0))*100,\"\")","v":""},{"$f":"IFERROR((E197/VLOOKUP(\"TOTAL\",$D$12:$L$312,3,0))*100,\"\")","v":""},{"$f":"IF(E196=\"\",\"\",E197-F197)","v":""},{"$f":"IF(E196=\"\",\"\",IFERROR((E197/F197-1)*100,\"ND\"))","v":""},{"$f":"IF(E196=\"\",\"\",IFERROR((E197/VLOOKUP(B197&\"|\"&VLOOKUP(TDPrimas_!$B$4,Cat!R:T,2,0),'TD Operación'!A:D,4,0))*100,\"ND\"))","v":""},{"$f":"IF(E196=\"\",\"\",(VLOOKUP(B197,'TDPrimas Vida'!$B:$N,7,0)))","v":""}]
[null,{"$f":"IF(C198=\"\",B197,D198)","v":"TOTAL"},null,{"$f":"IF(D197=\"\",\"\",\"Renovación\")","v":""},{"$f":"IF(E196=\"\",\"\",(VLOOKUP(B198,'TDPrimas Vida'!$B:$N,8,0)))","v":""},{"$f":"IF(E196=\"\",\"\",(VLOOKUP(B198,'TDPrimas Vida'!$B:$N,9,0)))","v":""},{"$f":"IFERROR((E198/VLOOKUP(\"TOTAL\",$D$12:$L$312,2,0))*100,\"\")","v":""},{"$f":"IFERROR((E198/VLOOKUP(\"TOTAL\",$D$12:$L$312,3,0))*100,\"\")","v":""},{"$f":"IF(E196=\"\",\"\",E198-F198)","v":""},{"$f":"IF(E196=\"\",\"\",IFERROR((E198/F198-1)*100,\"ND\"))","v":""},{"$f":"IF(E197=\"\",\"\",IFERROR((E198/VLOOKUP(B198&\"|\"&VLOOKUP(TDPrimas_!$B$4,Cat!R:T,2,0),'TD Operación'!A:D,4,0))*100,\"ND\"))","v":""},{"$f":"IF(E196=\"\",\"\",(VLOOKUP(B198,'TDPrimas Vida'!$B:$N,10,0)))","v":""}]
[null,{"$f":"IF(C199=\"\",B198,D199)","v":"TOTAL"},null,{"$f":"IF(D198=\"\",\"\",\"Únicas\")","v":""},{"$f":"IF(E197=\"\",\"\",(VLOOKUP(B199,'TDPrimas Vida'!$B:$N,11,0)))","v":""},{"$f":"IF(E197=\"\",\"\",(VLOOKUP(B199,'TDPrimas Vida'!$B:$N,12,0)))","v":""},{"$f":"IFERROR((E199/VLOOKUP(\"TOTAL\",$D$12:$L$312,2,0))*100,\"\")","v":""},{"$f":"IFERROR((E199/VLOOKUP(\"TOTAL\",$D$12:$L$312,3,0))*100,\"\")","v":""},{"$f":"IF(E196=\"\",\"\",E199-F199)","v":""},{"$f":"IF(E196=\"\",\"\",IFERROR((E199/F199-1)*100,\"ND\"))","v":""},{"$f":"IF(E198=\"\",\"\",IFERROR((E199/VLOOKUP(B199&\"|\"&VLOOKUP(TDPrimas_!$B$4,Cat!R:T,2,0),'TD Operación'!A:D,4,0))*100,\"ND\"))","v":""},{"$f":"IF(E196=\"\",\"\",(VLOOKUP(B199,'TDPrimas Vida'!$B:$N,13,0)))","v":""}]
[null,{"$f":"IF(C200=\"\",B196,D200)","v":"TOTAL"},{"$f":"IF('TDPrimas Vida'!A55=\"\",\"\",'TDPrimas Vida'!A55)","v":""},{"$f":"IF('TDPrimas Vida'!B55=\"\",\"\",'TDPrimas Vida'!B55)","v":""},{"$f":"IF('TDPrimas Vida'!C55=\"\",\"\",'TDPrimas Vida'!C55)","v":""},{"$f":"IF('TDPrimas Vida'!D55=\"\",\"\",'TDPrimas Vida'!D55)","v":""},{"$f":"IF('TDPrimas Vida'!C55=\"\",\"\",IFERROR((E200/VLOOKUP(\"TOTAL\",$D$12:$L$312,2,0))*100,\"\"))","v":""},{"$f":"IF('TDPrimas Vida'!C55=\"\",\"\",IFERROR((E200/VLOOKUP(\"TOTAL\",$D$12:$L$312,3,0))*100,\"\"))","v":""},{"$f":"IF('TDPrimas Vida'!C55=\"\",\"\",E200-F200)","v":""},{"$f":"IFERROR(IF('TDPrimas Vida'!C55=\"\",\"\",(E200/F200-1)*100),\"ND\")","v":""},{"$f":"IF(E199=\"\",\"\",IFERROR((E200/VLOOKUP(B200&\"|\"&VLOOKUP(TDPrimas_!$B$4,Cat!R:T,2,0),'TD Operación'!A:D,4,0))*100,\"ND\"))","v":""},{"$f":"IF('TDPrimas Vida'!E55=\"\",\"\",'TDPrimas Vida'!E55)","v":""}]
[null,{"$f":"IF(C201=\"\",B200,D201)","v":"TOTAL"},null,{"$f":"IF(D200=\"\",\"\",\"1er Año\")","v":""},{"$f":"IF(E200=\"\",\"\",(VLOOKUP(B201,'TDPrimas Vida'!$B:$N,5,0)))","v":""},{"$f":"IF(E200=\"\",\"\",(VLOOKUP(B201,'TDPrimas Vida'!$B:$N,6,0)))","v":""},{"$f":"IFERROR((E201/VLOOKUP(\"TOTAL\",$D$12:$L$312,2,0))*100,\"\")","v":""},{"$f":"IFERROR((E201/VLOOKUP(\"TOTAL\",$D$12:$L$312,3,0))*100,\"\")","v":""},{"$f":"IF(E200=\"\",\"\",E201-F201)","v":""},{"$f":"IF(E200=\"\",\"\",IFERROR((E201/F201-1)*100,\"ND\"))","v":""},{"$f":"IF(E200=\"\",\"\",IFERROR((E201/VLOOKUP(B201&\"|\"&VLOOKUP(TDPrimas_!$B$4,Cat!R:T,2,0),'TD Operación'!A:D,4,0))*100,\"ND\"))","v":""},{"$f":"IF(E200=\"\",\"\",(VLOOKUP(B201,'TDPrimas Vida'!$B:$N,7,0)))","v":""}]
[null,{"$f":"IF(C202=\"\",B201,D202)","v":"TOTAL"},null,{"$f":"IF(D201=\"\",\"\",\"Renovación\")","v":""},{"$f":"IF(E200=\"\",\"\",(VLOOKUP(B202,'TDPrimas Vida'!$B:$N,8,0)))","v":""},{"$f":"IF(E200=\"\",\"\",(VLOOKUP(B202,'TDPrimas Vida'!$B:$N,9,0)))","v":""},{"$f":"IFERROR((E202/VLOOKUP(\"TOTAL\",$D$12:$L$312,2,0))*100,\"\")","v":""},{"$f":"IFERROR((E202/VLOOKUP(\"TOTAL\",$D$12:$L$312,3,0))*100,\"\")","v":""},{"$f":"IF(E200=\"\",\"\",E202-F202)","v":""},{"$f":"IF(E200=\"\",\"\",IFERROR((E202/F202-1)*100,\"ND\"))","v":""},{"$f":"IF(E201=\"\",\"\",IFERROR((E202/VLOOKUP(B202&\"|\"&VLOOKUP(TDPrimas_!$B$4,Cat!R:T,2,0),'TD Operación'!A:D,4,0))*100,\"ND\"))","v":""},{"$f":"IF(E200=\"\",\"\",(VLOOKUP(B202,'TDPrimas Vida'!$B:$N,10,0)))","v":""}]
[null,{"$f":"IF(C203=\"\",B202,D203)","v":"TOTAL"},null,{"$f":"IF(D202=\"\",\"\",\"Únicas\")","v":""},{"$f":"IF(E201=\"\",\"\",(VLOOKUP(B203,'TDPrimas Vida'!$B:$N,11,0)))","v":""},{"$f":"IF(E201=\"\",\"\",(VLOOKUP(B203,'TDPrimas Vida'!$B:$N,12,0)))","v":""},{"$f":"IFERROR((E203/VLOOKUP(\"TOTAL\",$D$12:$L$312,2,0))*100,\"\")","v":""},{"$f":"IFERROR((E203/VLOOKUP(\"TOTAL\",$D$12:$L$312,3,0))*100,\"\")","v":""},{"$f":"IF(E200=\"\",\"\",E203-F203)","v":""},{"$f":"IF(E200=\"\",\"\",IFERROR((E203/F203-1)*100,\"ND\"))","v":""},{"$f":"IF(E202=\"\",\"\",IFERROR((E203/VLOOKUP(B203&\"|\"&VLOOKUP(TDPrimas_!$B$4,Cat!R:T,2,0),'TD Operación'!A:D,4,0))*100,\"ND\"))","v":""},{"$f":"IF(E200=\"\",\"\",(VLOOKUP(B203,'TDPrimas Vida'!$B:$N,13,0)))","v":""}]
[null,{"$f":"IF(C204=\"\",B200,D204)","v":"TOTAL"},{"$f":"IF('TDPrimas Vida'!A56=\"\",\"\",'TDPrimas Vida'!A56)","v":""},{"$f":"IF('TDPrimas Vida'!B56=\"\",\"\",'TDPrimas Vida'!B56)","v":""},{"$f":"IF('TDPrimas Vida'!C56=\"\",\"\",'TDPrimas Vida'!C56)","v":""},{"$f":"IF('TDPrimas Vida'!D56=\"\",\"\",'TDPrimas Vida'!D56)","v":""},{"$f":"IF('TDPrimas Vida'!C56=\"\",\"\",IFERROR((E204/VLOOKUP(\"TOTAL\",$D$12:$L$312,2,0))*100,\"\"))","v":""},{"$f":"IF('TDPrimas Vida'!C56=\"\",\"\",IFERROR((E204/VLOOKUP(\"TOTAL\",$D$12:$L$312,3,0))*100,\"\"))","v":""},{"$f":"IF('TDPrimas Vida'!C56=\"\",\"\",E204-F204)","v":""},{"$f":"IFERROR(IF('TDPrimas Vida'!C56=\"\",\"\",(E204/F204-1)*100),\"ND\")","v":""},{"$f":"IF(E203=\"\",\"\",IFERROR((E204/VLOOKUP(B204&\"|\"&VLOOKUP(TDPrimas_!$B$4,Cat!R:T,2,0),'TD Operación'!A:D,4,0))*100,\"ND\"))","v":""},{"$f":"IF('TDPrimas Vida'!E56=\"\",\"\",'TDPrimas Vida'!E56)","v":""}]
[null,{"$f":"IF(C205=\"\",B204,D205)","v":"TOTAL"},null,{"$f":"IF(D204=\"\",\"\",\"1er Año\")","v":""},{"$f":"IF(E204=\"\",\"\",(VLOOKUP(B205,'TDPrimas Vida'!$B:$N,5,0)))","v":""},{"$f":"IF(E204=\"\",\"\",(VLOOKUP(B205,'TDPrimas Vida'!$B:$N,6,0)))","v":""},{"$f":"IFERROR((E205/VLOOKUP(\"TOTAL\",$D$12:$L$312,2,0))*100,\"\")","v":""},{"$f":"IFERROR((E205/VLOOKUP(\"TOTAL\",$D$12:$L$312,3,0))*100,\"\")","v":""},{"$f":"IF(E204=\"\",\"\",E205-F205)","v":""},{"$f":"IF(E204=\"\",\"\",IFERROR((E205/F205-1)*100,\"ND\"))","v":""},{"$f":"IF(E204=\"\",\"\",IFERROR((E205/VLOOKUP(B205&\"|\"&VLOOKUP(TDPrimas_!$B$4,Cat!R:T,2,0),'TD Operación'!A:D,4,0))*100,\"ND\"))","v":""},{"$f":"IF(E204=\"\",\"\",(VLOOKUP(B205,'TDPrimas Vida'!$B:$N,7,0)))","v":""}]
[null,{"$f":"IF(C206=\"\",B205,D206)","v":"TOTAL"},null,{"$f":"IF(D205=\"\",\"\",\"Renovación\")","v":""},{"$f":"IF(E204=\"\",\"\",(VLOOKUP(B206,'TDPrimas Vida'!$B:$N,8,0)))","v":""},{"$f":"IF(E204=\"\",\"\",(VLOOKUP(B206,'TDPrimas Vida'!$B:$N,9,0)))","v":""},{"$f":"IFERROR((E206/VLOOKUP(\"TOTAL\",$D$12:$L$312,2,0))*100,\"\")","v":""},{"$f":"IFERROR((E206/VLOOKUP(\"TOTAL\",$D$12:$L$312,3,0))*100,\"\")","v":""},{"$f":"IF(E204=\"\",\"\",E206-F206)","v":""},{"$f":"IF(E204=\"\",\"\",IFERROR((E206/F206-1)*100,\"ND\"))","v":""},{"$f":"IF(E205=\"\",\"\",IFERROR((E206/VLOOKUP(B206&\"|\"&VLOOKUP(TDPrimas_!$B$4,Cat!R:T,2,0),'TD Operación'!A:D,4,0))*100,\"ND\"))","v":""},{"$f":"IF(E204=\"\",\"\",(VLOOKUP(B206,'TDPrimas Vida'!$B:$N,10,0)))","v":""}]
[null,{"$f":"IF(C207=\"\",B206,D207)","v":"TOTAL"},null,{"$f":"IF(D206=\"\",\"\",\"Únicas\")","v":""},{"$f":"IF(E205=\"\",\"\",(VLOOKUP(B207,'TDPrimas Vida'!$B:$N,11,0)))","v":""},{"$f":"IF(E205=\"\",\"\",(VLOOKUP(B207,'TDPrimas Vida'!$B:$N,12,0)))","v":""},{"$f":"IFERROR((E207/VLOOKUP(\"TOTAL\",$D$12:$L$312,2,0))*100,\"\")","v":""},{"$f":"IFERROR((E207/VLOOKUP(\"TOTAL\",$D$12:$L$312,3,0))*100,\"\")","v":""},{"$f":"IF(E204=\"\",\"\",E207-F207)","v":""},{"$f":"IF(E204=\"\",\"\",IFERROR((E207/F207-1)*100,\"ND\"))","v":""},{"$f":"IF(E206=\"\",\"\",IFERROR((E207/VLOOKUP(B207&\"|\"&VLOOKUP(TDPrimas_!$B$4,Cat!R:T,2,0),'TD Operación'!A:D,4,0))*100,\"ND\"))","v":""},{"$f":"IF(E204=\"\",\"\",(VLOOKUP(B207,'TDPrimas Vida'!$B:$N,13,0)))","v":""}]
[null,{"$f":"IF(C208=\"\",B204,D208)","v":"TOTAL"},{"$f":"IF('TDPrimas Vida'!A57=\"\",\"\",'TDPrimas Vida'!A57)","v":""},{"$f":"IF('TDPrimas Vida'!B57=\"\",\"\",'TDPrimas Vida'!B57)","v":""},{"$f":"IF('TDPrimas Vida'!C57=\"\",\"\",'TDPrimas Vida'!C57)","v":""},{"$f":"IF('TDPrimas Vida'!D57=\"\",\"\",'TDPrimas Vida'!D57)","v":""},{"$f":"IF('TDPrimas Vida'!C57=\"\",\"\",IFERROR((E208/VLOOKUP(\"TOTAL\",$D$12:$L$312,2,0))*100,\"\"))","v":""},{"$f":"IF('TDPrimas Vida'!C57=\"\",\"\",IFERROR((E208/VLOOKUP(\"TOTAL\",$D$12:$L$312,3,0))*100,\"\"))","v":""},{"$f":"IF('TDPrimas Vida'!C57=\"\",\"\",E208-F208)","v":""},{"$f":"IFERROR(IF('TDPrimas Vida'!C57=\"\",\"\",(E208/F208-1)*100),\"ND\")","v":""},{"$f":"IF(E207=\"\",\"\",IFERROR((E208/VLOOKUP(B208&\"|\"&VLOOKUP(TDPrimas_!$B$4,Cat!R:T,2,0),'TD Operación'!A:D,4,0))*100,\"ND\"))","v":""},{"$f":"IF('TDPrimas Vida'!E57=\"\",\"\",'TDPrimas Vida'!E57)","v":""}]
[null,{"$f":"IF(C209=\"\",B208,D209)","v":"TOTAL"},null,{"$f":"IF(D208=\"\",\"\",\"1er Año\")","v":""},{"$f":"IF(E208=\"\",\"\",(VLOOKUP(B209,'TDPrimas Vida'!$B:$N,5,0)))","v":""},{"$f":"IF(E208=\"\",\"\",(VLOOKUP(B209,'TDPrimas Vida'!$B:$N,6,0)))","v":""},{"$f":"IFERROR((E209/VLOOKUP(\"TOTAL\",$D$12:$L$312,2,0))*100,\"\")","v":""},{"$f":"IFERROR((E209/VLOOKUP(\"TOTAL\",$D$12:$L$312,3,0))*100,\"\")","v":""},{"$f":"IF(E208=\"\",\"\",E209-F209)","v":""},{"$f":"IF(E208=\"\",\"\",IFERROR((E209/F209-1)*100,\"ND\"))","v":""},{"$f":"IF(E208=\"\",\"\",IFERROR((E209/VLOOKUP(B209&\"|\"&VLOOKUP(TDPrimas_!$B$4,Cat!R:T,2,0),'TD Operación'!A:D,4,0))*100,\"ND\"))","v":""},{"$f":"IF(E208=\"\",\"\",(VLOOKUP(B209,'TDPrimas Vida'!$B:$N,7,0)))","v":""}]
[null,{"$f":"IF(C210=\"\",B209,D210)","v":"TOTAL"},null,{"$f":"IF(D209=\"\",\"\",\"Renovación\")","v":""},{"$f":"IF(E208=\"\",\"\",(VLOOKUP(B210,'TDPrimas Vida'!$B:$N,8,0)))","v":""},{"$f":"IF(E208=\"\",\"\",(VLOOKUP(B210,'TDPrimas Vida'!$B:$N,9,0)))","v":""},{"$f":"IFERROR((E210/VLOOKUP(\"TOTAL\",$D$12:$L$312,2,0))*100,\"\")","v":""},{"$f":"IFERROR((E210/VLOOKUP(\"TOTAL\",$D$12:$L$312,3,0))*100,\"\")","v":""},{"$f":"IF(E208=\"\",\"\",E210-F210)","v":""},{"$f":"IF(E208=\"\",\"\",IFERROR((E210/F210-1)*100,\"ND\"))","v":""},{"$f":"IF(E208=\"\",\"\",IFERROR((E210/VLOOKUP(B210&\"|\"&VLOOKUP(#REF!,Cat!R:T,2,0),'TD Operación'!A:D,4,0))*100,\"ND\"))","v":""},{"$f":"IF(E208=\"\",\"\",(VLOOKUP(B210,'TDPrimas Vida'!$B:$N,10,0)))","v":""}]
[null,{"$f":"IF(C211=\"\",B210,D211)","v":"TOTAL"},null,{"$f":"IF(D210=\"\",\"\",\"Únicas\")","v":""},{"$f":"IF(E209=\"\",\"\",(VLOOKUP(B211,'TDPrimas Vida'!$B:$N,11,0)))","v":""},{"$f":"IF(E209=\"\",\"\",(VLOOKUP(B211,'TDPrimas Vida'!$B:$N,12,0)))","v":""},{"$f":"IFERROR((E211/VLOOKUP(\"TOTAL\",$D$12:$L$312,2,0))*100,\"\")","v":""},{"$f":"IFERROR((E211/VLOOKUP(\"TOTAL\",$D$12:$L$312,3,0))*100,\"\")","v":""},{"$f":"IF(E208=\"\",\"\",E211-F211)","v":""},{"$f":"IF(E208=\"\",\"\",IFERROR((E211/F211-1)*100,\"ND\"))","v":""},{"$f":"IF(E208=\"\",\"\",IFERROR((E211/VLOOKUP(B211&\"|\"&VLOOKUP(#REF!,Cat!R:T,2,0),'TD Operación'!A:D,4,0))*100,\"ND\"))","v":""},{"$f":"IF(E208=\"\",\"\",(VLOOKUP(B211,'TDPrimas Vida'!$B:$N,13,0)))","v":""}]

{"sheet":"Siniestros (Daños)","index":10,"n_rows":124,"n_cols":16,"rows_kept":124,"cut":false,"hidden":false,"merged":[[1,1,1,15],[3,3,3,8],[3,10,3,15],[4,4,5,4],[4,5,5,5],[4,6,4,7],[4,8,5,8],[4,14,4,15]]}
[null,"SINIESTROS DIRECTOS",null,null,null,null,null,null,null,null,null,null,null,null,null,{"$f":"VLOOKUP(RIGHT('TD Siniestros Daños'!B2,2),Cat!$N$2:$O$5,2,0)&\" \"&LEFT('TD Siniestros Daños'!B2,4)","v":"Tercer Trimestre 2025"}]
[null,{"$f":"UPPER(RIGHT('TD Siniestros Daños'!$B$3,LEN('TD Siniestros Daños'!$B$3)-3))","v":"DAÑOS TOTAL"}]
[null,null,null,null,null,null,null,null,null,null,null,null,null,null,null,"Cifras en miles"]
[null,null,null,"Siniestros Directos",null,null,null,null,null,null,"Siniestros Retenidos"]
[null,"Compañías",null,"Importe","Incr. %","Inc. Rva.\nDividendos","% vs. Prima Directa",null,"%  Participac de Mercado",null,"Importe","% de","Prima Dev.","% de","% vs. Prima Dev. Ret."]
[null,null,null,{"$f":"'Primas Directas'!D6","v":"2025"},null,null,{"$f":"'Primas Directas'!D6","v":"2025"},{"$f":"'Primas Directas'!E6","v":2024},null,null,{"$f":"D6","v":"2025"},"Incr.","Retenida","Incr.",{"$f":"G6","v":"2025"},{"$f":"H6","v":2024}]
[null,null,"TOTAL",{"$f":"VLOOKUP(C7,'TD Siniestros Daños'!$B$7:$M$154,2,0)","v":126891670.49083996},{"$f":"VLOOKUP(C7,'TD Siniestros Daños'!$B$7:$M$154,3,0)","v":0.29183591418733279},{"$f":"VLOOKUP(C7,'TD Siniestros Daños'!$B$7:$M$154,4,0)","v":552220.44051999995},{"$f":"VLOOKUP(C7,'TD Siniestros Daños'!$B$7:$M$154,5,0)","v":44.81029242644405},{"$f":"VLOOKUP(C7,'TD Siniestros Daños'!$B$7:$M$154,6,0)","v":50.945499302883334},{"$f":"IFERROR(D7/VLOOKUP(\"TOTAL\",$C$8:$D$124,2,0)*100,\"\")","v":100},null,{"$f":"VLOOKUP(C7,'TD Siniestros Daños'!$B$7:$M$154,7,0)","v":95434644.052530006},{"$f":"VLOOKUP(C7,'TD Siniestros Daños'!$B$7:$M$154,8,0)","v":6.5080079641815392},{"$f":"VLOOKUP(C7,'TD Siniestros Daños'!$B$7:$M$154,9,0)","v":170553872.08862996},{"$f":"VLOOKUP(C7,'TD Siniestros Daños'!$B$7:$M$154,10,0)","v":15.415170504395693},{"$f":"VLOOKUP(C7,'TD Siniestros Daños'!$B$7:$M$154,11,0)","v":55.955718204355087},{"$f":"VLOOKUP(C7,'TD Siniestros Daños'!$B$7:$M$154,12,0)","v":60.635241243300896}]
[null,{"$f":"IF('TD Siniestros Daños'!A7=\"\",\"\",'TD Siniestros Daños'!A7)","v":1},{"$f":"IF('TD Siniestros Daños'!B7=\"\",\"\",'TD Siniestros Daños'!B7)","v":"Quálitas"},{"$f":"IF('TD Siniestros Daños'!C7=\"\",\"\",'TD Siniestros Daños'!C7)","v":29050534.715600006},{"$f":"IF('TD Siniestros Daños'!D7=\"\",\"\",'TD Siniestros Daños'!D7)","v":6.5079565999290434},{"$f":"IF('TD Siniestros Daños'!E7=\"\",\"\",'TD Siniestros Daños'!E7)","v":173534.27540000001},{"$f":"IF('TD Siniestros Daños'!F7=\"\",\"\",'TD Siniestros Daños'!F7)","v":57.264121437380844},{"$f":"IF('TD Siniestros Daños'!G7=\"\",\"\",'TD Siniestros Daños'!G7)","v":59.554248081835304},{"$f":"IFERROR(D8/VLOOKUP(\"TOTAL\",$C$8:$D$124,2,0)*100,\"\")","v":22.89396506738959},null,{"$f":"IF('TD Siniestros Daños'!H7=\"\",\"\",'TD Siniestros Daños'!H7)","v":29034384.411910001},{"$f":"IF('TD Siniestros Daños'!I7=\"\",\"\",'TD Siniestros Daños'!I7)","v":6.3980093226629453},{"$f":"IF('TD Siniestros Daños'!J7=\"\",\"\",'TD Siniestros Daños'!J7)","v":48584938.11366},{"$f":"IF('TD Siniestros Daños'!K7=\"\",\"\",'TD Siniestros Daños'!K7)","v":15.546017301360227},{"$f":"IF('TD Siniestros Daños'!L7=\"\",\"\",'TD Siniestros Daños'!L7)","v":59.760052269669927},{"$f":"IF('TD Siniestros Daños'!M7=\"\",\"\",'TD Siniestros Daños'!M7)","v":64.898169405982387}]
[null,{"$f":"IF('TD Siniestros Daños'!A8=\"\",\"\",'TD Siniestros Daños'!A8)","v":2},{"$f":"IF('TD Siniestros Daños'!B8=\"\",\"\",'TD Siniestros Daños'!B8)","v":"G.N.P."},{"$f":"IF('TD Siniestros Daños'!C8=\"\",\"\",'TD Siniestros Daños'!C8)","v":13859928.283299994},{"$f":"IF('TD Siniestros Daños'!D8=\"\",\"\",'TD Siniestros Daños'!D8)","v":18.05915048272464},{"$f":"IF('TD Siniestros Daños'!E8=\"\",\"\",'TD Siniestros Daños'!E8)","v":46820.783039999995},{"$f":"IF('TD Siniestros Daños'!F8=\"\",\"\",'TD Siniestros Daños'!F8)","v":49.013397999503006},{"$f":"IF('TD Siniestros Daños'!G8=\"\",\"\",'TD Siniestros Daños'!G8)","v":46.294601589022008},{"$f":"IFERROR(D9/VLOOKUP(\"TOTAL\",$C$8:$D$124,2,0)*100,\"\")","v":10.922646245957107},null,{"$f":"IF('TD Siniestros Daños'!H8=\"\",\"\",'TD Siniestros Daños'!H8)","v":12516208.791129999},{"$f":"IF('TD Siniestros Daños'!I8=\"\",\"\",'TD Siniestros Daños'!I8)","v":12.424503082770343},{"$f":"IF('TD Siniestros Daños'!J8=\"\",\"\",'TD Siniestros Daños'!J8)","v":21670918.28664},{"$f":"IF('TD Siniestros Daños'!K8=\"\",\"\",'TD Siniestros Daños'!K8)","v":19.025750428666743},{"$f":"IF('TD Siniestros Daños'!L8=\"\",\"\",'TD Siniestros Daños'!L8)","v":57.755784160037983},{"$f":"IF('TD Siniestros Daños'!M8=\"\",\"\",'TD Siniestros Daños'!M8)","v":61.14703968211861}]
[null,{"$f":"IF('TD Siniestros Daños'!A9=\"\",\"\",'TD Siniestros Daños'!A9)","v":3},{"$f":"IF('TD Siniestros Daños'!B9=\"\",\"\",'TD Siniestros Daños'!B9)","v":"AXA Seguros"},{"$f":"IF('TD Siniestros Daños'!C9=\"\",\"\",'TD Siniestros Daños'!C9)","v":11907099.75114},{"$f":"IF('TD Siniestros Daños'!D9=\"\",\"\",'TD Siniestros Daños'!D9)","v":33.531118480533692},{"$f":"IF('TD Siniestros Daños'!E9=\"\",\"\",'TD Siniestros Daños'!E9)","v":132434.01183999999},{"$f":"IF('TD Siniestros Daños'!F9=\"\",\"\",'TD Siniestros Daños'!F9)","v":54.433097797313515},{"$f":"IF('TD Siniestros Daños'!G9=\"\",\"\",'TD Siniestros Daños'!G9)","v":45.359439903497467},9.3836732585213696,null,{"$f":"IF('TD Siniestros Daños'!H9=\"\",\"\",'TD Siniestros Daños'!H9)","v":8843447.5074799992},{"$f":"IF('TD Siniestros Daños'!I9=\"\",\"\",'TD Siniestros Daños'!I9)","v":4.5146846205724067},{"$f":"IF('TD Siniestros Daños'!J9=\"\",\"\",'TD Siniestros Daños'!J9)","v":14611957.341879999},{"$f":"IF('TD Siniestros Daños'!K9=\"\",\"\",'TD Siniestros Daños'!K9)","v":8.4401026728121877},{"$f":"IF('TD Siniestros Daños'!L9=\"\",\"\",'TD Siniestros Daños'!L9)","v":60.521991000708638},{"$f":"IF('TD Siniestros Daños'!M9=\"\",\"\",'TD Siniestros Daños'!M9)","v":62.795108093241225}]
[null,{"$f":"IF('TD Siniestros Daños'!A10=\"\",\"\",'TD Siniestros Daños'!A10)","v":4},{"$f":"IF('TD Siniestros Daños'!B10=\"\",\"\",'TD Siniestros Daños'!B10)","v":"Chubb Seguros México"},{"$f":"IF('TD Siniestros Daños'!C10=\"\",\"\",'TD Siniestros Daños'!C10)","v":8621512.5578900017},{"$f":"IF('TD Siniestros Daños'!D10=\"\",\"\",'TD Siniestros Daños'!D10)","v":-2.3483416100202326},{"$f":"IF('TD Siniestros Daños'!E10=\"\",\"\",'TD Siniestros Daños'!E10)","v":13851.56171},{"$f":"IF('TD Siniestros Daños'!F10=\"\",\"\",'TD Siniestros Daños'!F10)","v":39.556939057903548},{"$f":"IF('TD Siniestros Daños'!G10=\"\",\"\",'TD Siniestros Daños'!G10)","v":48.113409184065489},6.7943880985571639,null,{"$f":"IF('TD Siniestros Daños'!H10=\"\",\"\",'TD Siniestros Daños'!H10)","v":4009911.70334},{"$f":"IF('TD Siniestros Daños'!I10=\"\",\"\",'TD Siniestros Daños'!I10)","v":-5.7115158789180276},{"$f":"IF('TD Siniestros Daños'!J10=\"\",\"\",'TD Siniestros Daños'!J10)","v":7582048.1817100001},{"$f":"IF('TD Siniestros Daños'!K10=\"\",\"\",'TD Siniestros Daños'!K10)","v":13.612894116199659},{"$f":"IF('TD Siniestros Daños'!L10=\"\",\"\",'TD Siniestros Daños'!L10)","v":52.886919302531176},{"$f":"IF('TD Siniestros Daños'!M10=\"\",\"\",'TD Siniestros Daños'!M10)","v":63.726085097883114}]
[null,{"$f":"IF('TD Siniestros Daños'!A11=\"\",\"\",'TD Siniestros Daños'!A11)","v":5},{"$f":"IF('TD Siniestros Daños'!B11=\"\",\"\",'TD Siniestros Daños'!B11)","v":"Mapfre México"},{"$f":"IF('TD Siniestros Daños'!C11=\"\",\"\",'TD Siniestros Daños'!C11)","v":-369868.2832699992},{"$f":"IF('TD Siniestros Daños'!D11=\"\",\"\",'TD Siniestros Daños'!D11)","v":-103.2783093607339},{"$f":"IF('TD Siniestros Daños'!E11=\"\",\"\",'TD Siniestros Daños'!E11)","v":106303.13381},{"$f":"IF('TD Siniestros Daños'!F11=\"\",\"\",'TD Siniestros Daños'!F11)","v":-2.2249865003249196},{"$f":"IF('TD Siniestros Daños'!G11=\"\",\"\",'TD Siniestros Daños'!G11)","v":76.319741928270048},-0.29148350072095491,null,{"$f":"IF('TD Siniestros Daños'!H11=\"\",\"\",'TD Siniestros Daños'!H11)","v":2240877.42967},{"$f":"IF('TD Siniestros Daños'!I11=\"\",\"\",'TD Siniestros Daños'!I11)","v":-0.55838322091484871},{"$f":"IF('TD Siniestros Daños'!J11=\"\",\"\",'TD Siniestros Daños'!J11)","v":4140191.5828899997},{"$f":"IF('TD Siniestros Daños'!K11=\"\",\"\",'TD Siniestros Daños'!K11)","v":8.6568430825614939},{"$f":"IF('TD Siniestros Daños'!L11=\"\",\"\",'TD Siniestros Daños'!L11)","v":54.124969456263386},{"$f":"IF('TD Siniestros Daños'!M11=\"\",\"\",'TD Siniestros Daños'!M11)","v":59.140714959640164}]
[null,{"$f":"IF('TD Siniestros Daños'!A12=\"\",\"\",'TD Siniestros Daños'!A12)","v":5.0999999999999996},{"$f":"IF('TD Siniestros Daños'!B12=\"\",\"\",'TD Siniestros Daños'!B12)","v":"TOTAL GRANDES"},{"$f":"IF('TD Siniestros Daños'!C12=\"\",\"\",'TD Siniestros Daños'!C12)","v":63069207.024659999},{"$f":"IF('TD Siniestros Daños'!D12=\"\",\"\",'TD Siniestros Daños'!D12)","v":-7.3104674607527116},{"$f":"IF('TD Siniestros Daños'!E12=\"\",\"\",'TD Siniestros Daños'!E12)","v":472943.76580000005},{"$f":"IF('TD Siniestros Daños'!F12=\"\",\"\",'TD Siniestros Daños'!F12)","v":45.275179638040058},{"$f":"IF('TD Siniestros Daños'!G12=\"\",\"\",'TD Siniestros Daños'!G12)","v":54.895920269340351},49.703189169704274,null,{"$f":"IF('TD Siniestros Daños'!H12=\"\",\"\",'TD Siniestros Daños'!H12)","v":56644829.843529999},{"$f":"IF('TD Siniestros Daños'!I12=\"\",\"\",'TD Siniestros Daños'!I12)","v":6.0979816176635282},{"$f":"IF('TD Siniestros Daños'!J12=\"\",\"\",'TD Siniestros Daños'!J12)","v":96590053.506779999},{"$f":"IF('TD Siniestros Daños'!K12=\"\",\"\",'TD Siniestros Daños'!K12)","v":14.69644417335283},{"$f":"IF('TD Siniestros Daños'!L12=\"\",\"\",'TD Siniestros Daños'!L12)","v":58.644578594786566},{"$f":"IF('TD Siniestros Daños'!M12=\"\",\"\",'TD Siniestros Daños'!M12)","v":63.397291186045713}]
[null,{"$f":"IF('TD Siniestros Daños'!A13=\"\",\"\",'TD Siniestros Daños'!A13)","v":6},{"$f":"IF('TD Siniestros Daños'!B13=\"\",\"\",'TD Siniestros Daños'!B13)","v":"BBVA"},{"$f":"IF('TD Siniestros Daños'!C13=\"\",\"\",'TD Siniestros Daños'!C13)","v":7149106.3137700008},{"$f":"IF('TD Siniestros Daños'!D13=\"\",\"\",'TD Siniestros Daños'!D13)","v":13.870821530705557},{"$f":"IF('TD Siniestros Daños'!E13=\"\",\"\",'TD Siniestros Daños'!E13)","v":0},{"$f":"IF('TD Siniestros Daños'!F13=\"\",\"\",'TD Siniestros Daños'!F13)","v":45.466120940879527},{"$f":"IF('TD Siniestros Daños'!G13=\"\",\"\",'TD Siniestros Daños'!G13)","v":46.054245496224802},5.6340233256572034,null,{"$f":"IF('TD Siniestros Daños'!H13=\"\",\"\",'TD Siniestros Daños'!H13)","v":6562966.84222},{"$f":"IF('TD Siniestros Daños'!I13=\"\",\"\",'TD Siniestros Daños'!I13)","v":13.582995955313626},{"$f":"IF('TD Siniestros Daños'!J13=\"\",\"\",'TD Siniestros Daños'!J13)","v":14368372.48567},{"$f":"IF('TD Siniestros Daños'!K13=\"\",\"\",'TD Siniestros Daños'!K13)","v":24.806460656066331},{"$f":"IF('TD Siniestros Daños'!L13=\"\",\"\",'TD Siniestros Daños'!L13)","v":45.676480400027486},{"$f":"IF('TD Siniestros Daños'!M13=\"\",\"\",'TD Siniestros Daños'!M13)","v":50.189905680920944}]
[null,{"$f":"IF('TD Siniestros Daños'!A14=\"\",\"\",'TD Siniestros Daños'!A14)","v":7},{"$f":"IF('TD Siniestros Daños'!B14=\"\",\"\",'TD Siniestros Daños'!B14)","v":"Inbursa"},{"$f":"IF('TD Siniestros Daños'!C14=\"\",\"\",'TD Siniestros Daños'!C14)","v":9409215.8564000018},{"$f":"IF('TD Siniestros Daños'!D14=\"\",\"\",'TD Siniestros Daños'!D14)","v":63.871017628025939},{"$f":"IF('TD Siniestros Daños'!E14=\"\",\"\",'TD Siniestros Daños'!E14)","v":0},{"$f":"IF('TD Siniestros Daños'!F14=\"\",\"\",'TD Siniestros Daños'!F14)","v":64.740957179250827},{"$f":"IF('TD Siniestros Daños'!G14=\"\",\"\",'TD Siniestros Daños'!G14)","v":38.743304958802213},7.4151564243763612,null,{"$f":"IF('TD Siniestros Daños'!H14=\"\",\"\",'TD Siniestros Daños'!H14)","v":3983996.96111},{"$f":"IF('TD Siniestros Daños'!I14=\"\",\"\",'TD Siniestros Daños'!I14)","v":1.2942622962063721},{"$f":"IF('TD Siniestros Daños'!J14=\"\",\"\",'TD Siniestros Daños'!J14)","v":6692398.7430600002},{"$f":"IF('TD Siniestros Daños'!K14=\"\",\"\",'TD Siniestros Daños'!K14)","v":12.700546429978488},{"$f":"IF('TD Siniestros Daños'!L14=\"\",\"\",'TD Siniestros Daños'!L14)","v":59.530179149014309},{"$f":"IF('TD Siniestros Daños'!M14=\"\",\"\",'TD Siniestros Daños'!M14)","v":66.233600670782408}]
[null,{"$f":"IF('TD Siniestros Daños'!A15=\"\",\"\",'TD Siniestros Daños'!A15)","v":8},{"$f":"IF('TD Siniestros Daños'!B15=\"\",\"\",'TD Siniestros Daños'!B15)","v":"Agroasemex"},{"$f":"IF('TD Siniestros Daños'!C15=\"\",\"\",'TD Siniestros Daños'!C15)","v":3258243.7236100002},{"$f":"IF('TD Siniestros Daños'!D15=\"\",\"\",'TD Siniestros Daños'!D15)","v":-47.00340201940805},{"$f":"IF('TD Siniestros Daños'!E15=\"\",\"\",'TD Siniestros Daños'!E15)","v":8494.59238},{"$f":"IF('TD Siniestros Daños'!F15=\"\",\"\",'TD Siniestros Daños'!F15)","v":24.73045822601998},{"$f":"IF('TD Siniestros Daños'!G15=\"\",\"\",'TD Siniestros Daños'!G15)","v":101.58079071990991},2.5677364881449853,null,{"$f":"IF('TD Siniestros Daños'!H15=\"\",\"\",'TD Siniestros Daños'!H15)","v":2219599.5237500002},{"$f":"IF('TD Siniestros Daños'!I15=\"\",\"\",'TD Siniestros Daños'!I15)","v":34.897488268575415},{"$f":"IF('TD Siniestros Daños'!J15=\"\",\"\",'TD Siniestros Daños'!J15)","v":3447743.2063000002},{"$f":"IF('TD Siniestros Daños'!K15=\"\",\"\",'TD Siniestros Daños'!K15)","v":33.113459829739192},{"$f":"IF('TD Siniestros Daños'!L15=\"\",\"\",'TD Siniestros Daños'!L15)","v":64.378330720633869},{"$f":"IF('TD Siniestros Daños'!M15=\"\",\"\",'TD Siniestros Daños'!M15)","v":63.526922927022866}]
[null,{"$f":"IF('TD Siniestros Daños'!A16=\"\",\"\",'TD Siniestros Daños'!A16)","v":9},{"$f":"IF('TD Siniestros Daños'!B16=\"\",\"\",'TD Siniestros Daños'!B16)","v":"Banorte"},{"$f":"IF('TD Siniestros Daños'!C16=\"\",\"\",'TD Siniestros Daños'!C16)","v":5929264.9185299994},{"$f":"IF('TD Siniestros Daños'!D16=\"\",\"\",'TD Siniestros Daños'!D16)","v":6.9156038480626902},{"$f":"IF('TD Siniestros Daños'!E16=\"\",\"\",'TD Siniestros Daños'!E16)","v":1636.0263300000001},{"$f":"IF('TD Siniestros Daños'!F16=\"\",\"\",'TD Siniestros Daños'!F16)","v":45.166924778696419},{"$f":"IF('TD Siniestros Daños'!G16=\"\",\"\",'TD Siniestros Daños'!G16)","v":52.166056956338792},4.6726982910655437,null,{"$f":"IF('TD Siniestros Daños'!H16=\"\",\"\",'TD Siniestros Daños'!H16)","v":4667102.0251499992},{"$f":"IF('TD Siniestros Daños'!I16=\"\",\"\",'TD Siniestros Daños'!I16)","v":12.075665414296521},{"$f":"IF('TD Siniestros Daños'!J16=\"\",\"\",'TD Siniestros Daños'!J16)","v":8266153.2799700005},{"$f":"IF('TD Siniestros Daños'!K16=\"\",\"\",'TD Siniestros Daños'!K16)","v":13.847348204041587},{"$f":"IF('TD Siniestros Daños'!L16=\"\",\"\",'TD Siniestros Daños'!L16)","v":56.460385708779611},{"$f":"IF('TD Siniestros Daños'!M16=\"\",\"\",'TD Siniestros Daños'!M16)","v":57.352906786328816}]
[null,{"$f":"IF('TD Siniestros Daños'!A17=\"\",\"\",'TD Siniestros Daños'!A17)","v":10},{"$f":"IF('TD Siniestros Daños'!B17=\"\",\"\",'TD Siniestros Daños'!B17)","v":"HDI Seguros"},{"$f":"IF('TD Siniestros Daños'!C17=\"\",\"\",'TD Siniestros Daños'!C17)","v":5966563.1769500002},{"$f":"IF('TD Siniestros Daños'!D17=\"\",\"\",'TD Siniestros Daños'!D17)","v":15.014929373476328},{"$f":"IF('TD Siniestros Daños'!E17=\"\",\"\",'TD Siniestros Daños'!E17)","v":0},{"$f":"IF('TD Siniestros Daños'!F17=\"\",\"\",'TD Siniestros Daños'!F17)","v":54.676059573822791},{"$f":"IF('TD Siniestros Daños'!G17=\"\",\"\",'TD Siniestros Daños'!G17)","v":56.306500352922519},4.7020920710321281,null,{"$f":"IF('TD Siniestros Daños'!H17=\"\",\"\",'TD Siniestros Daños'!H17)","v":5533396.4457999999},{"$f":"IF('TD Siniestros Daños'!I17=\"\",\"\",'TD Siniestros Daños'!I17)","v":9.7487284355010306},{"$f":"IF('TD Siniestros Daños'!J17=\"\",\"\",'TD Siniestros Daños'!J17)","v":9479397.1837399993},{"$f":"IF('TD Siniestros Daños'!K17=\"\",\"\",'TD Siniestros Daños'!K17)","v":15.51237751452379},{"$f":"IF('TD Siniestros Daños'!L17=\"\",\"\",'TD Siniestros Daños'!L17)","v":58.372872647339115},{"$f":"IF('TD Siniestros Daños'!M17=\"\",\"\",'TD Siniestros Daños'!M17)","v":61.438427560546828}]
[null,{"$f":"IF('TD Siniestros Daños'!A18=\"\",\"\",'TD Siniestros Daños'!A18)","v":11},{"$f":"IF('TD Siniestros Daños'!B18=\"\",\"\",'TD Siniestros Daños'!B18)","v":"Atlas"},{"$f":"IF('TD Siniestros Daños'!C18=\"\",\"\",'TD Siniestros Daños'!C18)","v":3532376.7709300015},{"$f":"IF('TD Siniestros Daños'!D18=\"\",\"\",'TD Siniestros Daños'!D18)","v":16.166891758763271},{"$f":"IF('TD Siniestros Daños'!E18=\"\",\"\",'TD Siniestros Daños'!E18)","v":15288.96574},{"$f":"IF('TD Siniestros Daños'!F18=\"\",\"\",'TD Siniestros Daños'!F18)","v":35.482212969988886},{"$f":"IF('TD Siniestros Daños'!G18=\"\",\"\",'TD Siniestros Daños'!G18)","v":30.639227950964148},2.7837735583952266,null,{"$f":"IF('TD Siniestros Daños'!H18=\"\",\"\",'TD Siniestros Daños'!H18)","v":2706731.5507700001},{"$f":"IF('TD Siniestros Daños'!I18=\"\",\"\",'TD Siniestros Daños'!I18)","v":-0.10169110258045899},{"$f":"IF('TD Siniestros Daños'!J18=\"\",\"\",'TD Siniestros Daños'!J18)","v":4258547.67404},{"$f":"IF('TD Siniestros Daños'!K18=\"\",\"\",'TD Siniestros Daños'!K18)","v":7.9043723943549082},{"$f":"IF('TD Siniestros Daños'!L18=\"\",\"\",'TD Siniestros Daños'!L18)","v":63.559968279095905},{"$f":"IF('TD Siniestros Daños'!M18=\"\",\"\",'TD Siniestros Daños'!M18)","v":68.653799671458771}]
[null,{"$f":"IF('TD Siniestros Daños'!A19=\"\",\"\",'TD Siniestros Daños'!A19)","v":12},{"$f":"IF('TD Siniestros Daños'!B19=\"\",\"\",'TD Siniestros Daños'!B19)","v":"GMX Seguros"},{"$f":"IF('TD Siniestros Daños'!C19=\"\",\"\",'TD Siniestros Daños'!C19)","v":3448249.2285699989},{"$f":"IF('TD Siniestros Daños'!D19=\"\",\"\",'TD Siniestros Daños'!D19)","v":-14.492875106215564},{"$f":"IF('TD Siniestros Daños'!E19=\"\",\"\",'TD Siniestros Daños'!E19)","v":0},{"$f":"IF('TD Siniestros Daños'!F19=\"\",\"\",'TD Siniestros Daños'!F19)","v":40.802638169754538},{"$f":"IF('TD Siniestros Daños'!G19=\"\",\"\",'TD Siniestros Daños'!G19)","v":45.912330150253013},2.7174748470341248,null,{"$f":"IF('TD Siniestros Daños'!H19=\"\",\"\",'TD Siniestros Daños'!H19)","v":1008643.97549},{"$f":"IF('TD Siniestros Daños'!I19=\"\",\"\",'TD Siniestros Daños'!I19)","v":-14.668787175957299},{"$f":"IF('TD Siniestros Daños'!J19=\"\",\"\",'TD Siniestros Daños'!J19)","v":2735568.45958},{"$f":"IF('TD Siniestros Daños'!K19=\"\",\"\",'TD Siniestros Daños'!K19)","v":4.827028163243563},{"$f":"IF('TD Siniestros Daños'!L19=\"\",\"\",'TD Siniestros Daños'!L19)","v":36.871457994688974},{"$f":"IF('TD Siniestros Daños'!M19=\"\",\"\",'TD Siniestros Daños'!M19)","v":45.295563460456115}]
[null,{"$f":"IF('TD Siniestros Daños'!A20=\"\",\"\",'TD Siniestros Daños'!A20)","v":13},{"$f":"IF('TD Siniestros Daños'!B20=\"\",\"\",'TD Siniestros Daños'!B20)","v":"Zurich Aseguradora Mexicana"},{"$f":"IF('TD Siniestros Daños'!C20=\"\",\"\",'TD Siniestros Daños'!C20)","v":2988216.083959999},{"$f":"IF('TD Siniestros Daños'!D20=\"\",\"\",'TD Siniestros Daños'!D20)","v":-4.3190361308507068},{"$f":"IF('TD Siniestros Daños'!E20=\"\",\"\",'TD Siniestros Daños'!E20)","v":9096.2206700000006},{"$f":"IF('TD Siniestros Daños'!F20=\"\",\"\",'TD Siniestros Daños'!F20)","v":36.152057315818602},{"$f":"IF('TD Siniestros Daños'!G20=\"\",\"\",'TD Siniestros Daños'!G20)","v":38.000950218677701},2.3549347820869868,null,{"$f":"IF('TD Siniestros Daños'!H20=\"\",\"\",'TD Siniestros Daños'!H20)","v":2196272.8831100003},{"$f":"IF('TD Siniestros Daños'!I20=\"\",\"\",'TD Siniestros Daños'!I20)","v":-13.574798675076361},{"$f":"IF('TD Siniestros Daños'!J20=\"\",\"\",'TD Siniestros Daños'!J20)","v":4247086.5435199998},{"$f":"IF('TD Siniestros Daños'!K20=\"\",\"\",'TD Siniestros Daños'!K20)","v":-2.2030337852375514},{"$f":"IF('TD Siniestros Daños'!L20=\"\",\"\",'TD Siniestros Daños'!L20)","v":51.712458896345495},{"$f":"IF('TD Siniestros Daños'!M20=\"\",\"\",'TD Siniestros Daños'!M20)","v":58.516746481789696}]
[null,{"$f":"IF('TD Siniestros Daños'!A21=\"\",\"\",'TD Siniestros Daños'!A21)","v":14},{"$f":"IF('TD Siniestros Daños'!B21=\"\",\"\",'TD Siniestros Daños'!B21)","v":"AIG Seguros"},{"$f":"IF('TD Siniestros Daños'!C21=\"\",\"\",'TD Siniestros Daños'!C21)","v":2304353.9962199996},{"$f":"IF('TD Siniestros Daños'!D21=\"\",\"\",'TD Siniestros Daños'!D21)","v":91.02731431168516},{"$f":"IF('TD Siniestros Daños'!E21=\"\",\"\",'TD Siniestros Daños'!E21)","v":10046.130860000001},{"$f":"IF('TD Siniestros Daños'!F21=\"\",\"\",'TD Siniestros Daños'!F21)","v":37.802138066665201},{"$f":"IF('TD Siniestros Daños'!G21=\"\",\"\",'TD Siniestros Daños'!G21)","v":23.25477994384924},1.8160009930567871,null,{"$f":"IF('TD Siniestros Daños'!H21=\"\",\"\",'TD Siniestros Daños'!H21)","v":505807.93501999998},{"$f":"IF('TD Siniestros Daños'!I21=\"\",\"\",'TD Siniestros Daños'!I21)","v":-6.5738963503529817},{"$f":"IF('TD Siniestros Daños'!J21=\"\",\"\",'TD Siniestros Daños'!J21)","v":904169.13754999998},{"$f":"IF('TD Siniestros Daños'!K21=\"\",\"\",'TD Siniestros Daños'!K21)","v":20.773600997460683},{"$f":"IF('TD Siniestros Daños'!L21=\"\",\"\",'TD Siniestros Daños'!L21)","v":55.941738554643948},{"$f":"IF('TD Siniestros Daños'!M21=\"\",\"\",'TD Siniestros Daños'!M21)","v":72.31688947062662}]
[null,{"$f":"IF('TD Siniestros Daños'!A22=\"\",\"\",'TD Siniestros Daños'!A22)","v":15},{"$f":"IF('TD Siniestros Daños'!B22=\"\",\"\",'TD Siniestros Daños'!B22)","v":"Allianz México"},{"$f":"IF('TD Siniestros Daños'!C22=\"\",\"\",'TD Siniestros Daños'!C22)","v":-196713.37792999999},{"$f":"IF('TD Siniestros Daños'!D22=\"\",\"\",'TD Siniestros Daños'!D22)","v":-108.33786132619889},{"$f":"IF('TD Siniestros Daños'!E22=\"\",\"\",'TD Siniestros Daños'!E22)","v":11086.609120000001},{"$f":"IF('TD Siniestros Daños'!F22=\"\",\"\",'TD Siniestros Daños'!F22)","v":-3.2465281678111544},{"$f":"IF('TD Siniestros Daños'!G22=\"\",\"\",'TD Siniestros Daños'!G22)","v":47.064432415612686},-0.15502465778019708,null,{"$f":"IF('TD Siniestros Daños'!H22=\"\",\"\",'TD Siniestros Daños'!H22)","v":306584.02945999999},{"$f":"IF('TD Siniestros Daños'!I22=\"\",\"\",'TD Siniestros Daños'!I22)","v":-13.014615375136385},{"$f":"IF('TD Siniestros Daños'!J22=\"\",\"\",'TD Siniestros Daños'!J22)","v":766568.51792999997},{"$f":"IF('TD Siniestros Daños'!K22=\"\",\"\",'TD Siniestros Daños'!K22)","v":32.887169309795162},{"$f":"IF('TD Siniestros Daños'!L22=\"\",\"\",'TD Siniestros Daños'!L22)","v":39.994341313139607},{"$f":"IF('TD Siniestros Daños'!M22=\"\",\"\",'TD Siniestros Daños'!M22)","v":61.099170032223697}]
[null,{"$f":"IF('TD Siniestros Daños'!A23=\"\",\"\",'TD Siniestros Daños'!A23)","v":15.1},{"$f":"IF('TD Siniestros Daños'!B23=\"\",\"\",'TD Siniestros Daños'!B23)","v":"TOTAL MEDIANAS"},{"$f":"IF('TD Siniestros Daños'!C23=\"\",\"\",'TD Siniestros Daños'!C23)","v":43788876.691010006},{"$f":"IF('TD Siniestros Daños'!D23=\"\",\"\",'TD Siniestros Daños'!D23)","v":2.6373828082959738},{"$f":"IF('TD Siniestros Daños'!E23=\"\",\"\",'TD Siniestros Daños'!E23)","v":55648.545100000003},{"$f":"IF('TD Siniestros Daños'!F23=\"\",\"\",'TD Siniestros Daños'!F23)","v":41.193749388741445},{"$f":"IF('TD Siniestros Daños'!G23=\"\",\"\",'TD Siniestros Daños'!G23)","v":46.639373932129097},34.508866123069154,null,{"$f":"IF('TD Siniestros Daños'!H23=\"\",\"\",'TD Siniestros Daños'!H23)","v":29691102.171879999},{"$f":"IF('TD Siniestros Daños'!I23=\"\",\"\",'TD Siniestros Daños'!I23)","v":6.4603613779881108},{"$f":"IF('TD Siniestros Daños'!J23=\"\",\"\",'TD Siniestros Daños'!J23)","v":55166005.231360003},{"$f":"IF('TD Siniestros Daños'!K23=\"\",\"\",'TD Siniestros Daños'!K23)","v":15.573500186379775},{"$f":"IF('TD Siniestros Daños'!L23=\"\",\"\",'TD Siniestros Daños'!L23)","v":53.82137431804037},{"$f":"IF('TD Siniestros Daños'!M23=\"\",\"\",'TD Siniestros Daños'!M23)","v":58.428550629205134}]
[null,{"$f":"IF('TD Siniestros Daños'!A24=\"\",\"\",'TD Siniestros Daños'!A24)","v":16},{"$f":"IF('TD Siniestros Daños'!B24=\"\",\"\",'TD Siniestros Daños'!B24)","v":"FM Global"},{"$f":"IF('TD Siniestros Daños'!C24=\"\",\"\",'TD Siniestros Daños'!C24)","v":4591850.6461399999},{"$f":"IF('TD Siniestros Daños'!D24=\"\",\"\",'TD Siniestros Daños'!D24)","v":21.477002908509736},{"$f":"IF('TD Siniestros Daños'!E24=\"\",\"\",'TD Siniestros Daños'!E24)","v":0},{"$f":"IF('TD Siniestros Daños'!F24=\"\",\"\",'TD Siniestros Daños'!F24)","v":126.71981772570334},{"$f":"IF('TD Siniestros Daños'!G24=\"\",\"\",'TD Siniestros Daños'!G24)","v":116.46725575054424},3.6187171532834976,null,{"$f":"IF('TD Siniestros Daños'!H24=\"\",\"\",'TD Siniestros Daños'!H24)","v":15336.07065},{"$f":"IF('TD Siniestros Daños'!I24=\"\",\"\",'TD Siniestros Daños'!I24)","v":-475.28696803947474},{"$f":"IF('TD Siniestros Daños'!J24=\"\",\"\",'TD Siniestros Daños'!J24)","v":46588.208659999997},{"$f":"IF('TD Siniestros Daños'!K24=\"\",\"\",'TD Siniestros Daños'!K24)","v":-1320.3849471592423},{"$f":"IF('TD Siniestros Daños'!L24=\"\",\"\",'TD Siniestros Daños'!L24)","v":32.91835228506509},{"$f":"IF('TD Siniestros Daños'!M24=\"\",\"\",'TD Siniestros Daños'!M24)","v":107.04624736596999}]
[null,{"$f":"IF('TD Siniestros Daños'!A25=\"\",\"\",'TD Siniestros Daños'!A25)","v":17},{"$f":"IF('TD Siniestros Daños'!B25=\"\",\"\",'TD Siniestros Daños'!B25)","v":"Zurich Santander"},{"$f":"IF('TD Siniestros Daños'!C25=\"\",\"\",'TD Siniestros Daños'!C25)","v":77966.445750000014},{"$f":"IF('TD Siniestros Daños'!D25=\"\",\"\",'TD Siniestros Daños'!D25)","v":-35.503659119658629},{"$f":"IF('TD Siniestros Daños'!E25=\"\",\"\",'TD Siniestros Daños'!E25)","v":0},{"$f":"IF('TD Siniestros Daños'!F25=\"\",\"\",'TD Siniestros Daños'!F25)","v":2.2379997396198439},{"$f":"IF('TD Siniestros Daños'!G25=\"\",\"\",'TD Siniestros Daños'!G25)","v":3.7539413077624824},6.1443312589716637E-2,null,{"$f":"IF('TD Siniestros Daños'!H25=\"\",\"\",'TD Siniestros Daños'!H25)","v":72819.911659999998},{"$f":"IF('TD Siniestros Daños'!I25=\"\",\"\",'TD Siniestros Daños'!I25)","v":-50.036789626443067},{"$f":"IF('TD Siniestros Daños'!J25=\"\",\"\",'TD Siniestros Daños'!J25)","v":2508420.4845700003},{"$f":"IF('TD Siniestros Daños'!K25=\"\",\"\",'TD Siniestros Daños'!K25)","v":7.9162022722392145},{"$f":"IF('TD Siniestros Daños'!L25=\"\",\"\",'TD Siniestros Daños'!L25)","v":2.9030185372801629},{"$f":"IF('TD Siniestros Daños'!M25=\"\",\"\",'TD Siniestros Daños'!M25)","v":6.270268329974872}]
[null,{"$f":"IF('TD Siniestros Daños'!A26=\"\",\"\",'TD Siniestros Daños'!A26)","v":18},{"$f":"IF('TD Siniestros Daños'!B26=\"\",\"\",'TD Siniestros Daños'!B26)","v":"Afirme"},{"$f":"IF('TD Siniestros Daños'!C26=\"\",\"\",'TD Siniestros Daños'!C26)","v":1304352.1142100005},{"$f":"IF('TD Siniestros Daños'!D26=\"\",\"\",'TD Siniestros Daños'!D26)","v":-37.277796248443373},{"$f":"IF('TD Siniestros Daños'!E26=\"\",\"\",'TD Siniestros Daños'!E26)","v":1665.3928699999999},{"$f":"IF('TD Siniestros Daños'!F26=\"\",\"\",'TD Siniestros Daños'!F26)","v":38.837124998797712},{"$f":"IF('TD Siniestros Daños'!G26=\"\",\"\",'TD Siniestros Daños'!G26)","v":63.789979874566903},1.0279257173969971,null,{"$f":"IF('TD Siniestros Daños'!H26=\"\",\"\",'TD Siniestros Daños'!H26)","v":1425199.0474100001},{"$f":"IF('TD Siniestros Daños'!I26=\"\",\"\",'TD Siniestros Daños'!I26)","v":-13.606963365241542},{"$f":"IF('TD Siniestros Daños'!J26=\"\",\"\",'TD Siniestros Daños'!J26)","v":2274484.5848900001},{"$f":"IF('TD Siniestros Daños'!K26=\"\",\"\",'TD Siniestros Daños'!K26)","v":-0.29123858456506779},{"$f":"IF('TD Siniestros Daños'!L26=\"\",\"\",'TD Siniestros Daños'!L26)","v":62.660308048600221},{"$f":"IF('TD Siniestros Daños'!M26=\"\",\"\",'TD Siniestros Daños'!M26)","v":72.318116700181719}]
[null,{"$f":"IF('TD Siniestros Daños'!A27=\"\",\"\",'TD Siniestros Daños'!A27)","v":19},{"$f":"IF('TD Siniestros Daños'!B27=\"\",\"\",'TD Siniestros Daños'!B27)","v":"ANA"},{"$f":"IF('TD Siniestros Daños'!C27=\"\",\"\",'TD Siniestros Daños'!C27)","v":1835327.8969100001},{"$f":"IF('TD Siniestros Daños'!D27=\"\",\"\",'TD Siniestros Daños'!D27)","v":-1.324412888463522},{"$f":"IF('TD Siniestros Daños'!E27=\"\",\"\",'TD Siniestros Daños'!E27)","v":10970.27701},{"$f":"IF('TD Siniestros Daños'!F27=\"\",\"\",'TD Siniestros Daños'!F27)","v":54.830708410322138},{"$f":"IF('TD Siniestros Daños'!G27=\"\",\"\",'TD Siniestros Daños'!G27)","v":66.790956202893611},1.4463738161934661,null,{"$f":"IF('TD Siniestros Daños'!H27=\"\",\"\",'TD Siniestros Daños'!H27)","v":1530251.73642},{"$f":"IF('TD Siniestros Daños'!I27=\"\",\"\",'TD Siniestros Daños'!I27)","v":1.5871460106693158},{"$f":"IF('TD Siniestros Daños'!J27=\"\",\"\",'TD Siniestros Daños'!J27)","v":2435498.9769000001},{"$f":"IF('TD Siniestros Daños'!K27=\"\",\"\",'TD Siniestros Daños'!K27)","v":10.37649698661478},{"$f":"IF('TD Siniestros Daños'!L27=\"\",\"\",'TD Siniestros Daños'!L27)","v":62.831138544256959},{"$f":"IF('TD Siniestros Daños'!M27=\"\",\"\",'TD Siniestros Daños'!M27)","v":68.267307888218355}]
[null,{"$f":"IF('TD Siniestros Daños'!A28=\"\",\"\",'TD Siniestros Daños'!A28)","v":20},{"$f":"IF('TD Siniestros Daños'!B28=\"\",\"\",'TD Siniestros Daños'!B28)","v":"Seguros SURA"},{"$f":"IF('TD Siniestros Daños'!C28=\"\",\"\",'TD Siniestros Daños'!C28)","v":1660925.8111400001},{"$f":"IF('TD Siniestros Daños'!D28=\"\",\"\",'TD Siniestros Daños'!D28)","v":49.638860182223276},{"$f":"IF('TD Siniestros Daños'!E28=\"\",\"\",'TD Siniestros Daños'!E28)","v":-5767.45622},{"$f":"IF('TD Siniestros Daños'!F28=\"\",\"\",'TD Siniestros Daños'!F28)","v":51.061515689438906},{"$f":"IF('TD Siniestros Daños'!G28=\"\",\"\",'TD Siniestros Daños'!G28)","v":36.231540016462702},1.3089321030413095,null,{"$f":"IF('TD Siniestros Daños'!H28=\"\",\"\",'TD Siniestros Daños'!H28)","v":1403922.8049600001},{"$f":"IF('TD Siniestros Daños'!I28=\"\",\"\",'TD Siniestros Daños'!I28)","v":26.803577494814036},{"$f":"IF('TD Siniestros Daños'!J28=\"\",\"\",'TD Siniestros Daños'!J28)","v":2038132.30094},{"$f":"IF('TD Siniestros Daños'!K28=\"\",\"\",'TD Siniestros Daños'!K28)","v":-5.4010500813949207},{"$f":"IF('TD Siniestros Daños'!L28=\"\",\"\",'TD Siniestros Daños'!L28)","v":68.882810223482622},{"$f":"IF('TD Siniestros Daños'!M28=\"\",\"\",'TD Siniestros Daños'!M28)","v":51.388467449591559}]
[null,{"$f":"IF('TD Siniestros Daños'!A29=\"\",\"\",'TD Siniestros Daños'!A29)","v":21},{"$f":"IF('TD Siniestros Daños'!B29=\"\",\"\",'TD Siniestros Daños'!B29)","v":"Cardif Seguros Generales"},{"$f":"IF('TD Siniestros Daños'!C29=\"\",\"\",'TD Siniestros Daños'!C29)","v":293532.63031000004},{"$f":"IF('TD Siniestros Daños'!D29=\"\",\"\",'TD Siniestros Daños'!D29)","v":0},{"$f":"IF('TD Siniestros Daños'!E29=\"\",\"\",'TD Siniestros Daños'!E29)","v":0},{"$f":"IF('TD Siniestros Daños'!F29=\"\",\"\",'TD Siniestros Daños'!F29)","v":11.950258388051962},{"$f":"IF('TD Siniestros Daños'!G29=\"\",\"\",'TD Siniestros Daños'!G29)","v":0},0.23132537319003108,null,{"$f":"IF('TD Siniestros Daños'!H29=\"\",\"\",'TD Siniestros Daños'!H29)","v":262763.78469999996},{"$f":"IF('TD Siniestros Daños'!I29=\"\",\"\",'TD Siniestros Daños'!I29)","v":0},{"$f":"IF('TD Siniestros Daños'!J29=\"\",\"\",'TD Siniestros Daños'!J29)","v":2034903.37249},{"$f":"IF('TD Siniestros Daños'!K29=\"\",\"\",'TD Siniestros Daños'!K29)","v":0},{"$f":"IF('TD Siniestros Daños'!L29=\"\",\"\",'TD Siniestros Daños'!L29)","v":12.912838430184049},{"$f":"IF('TD Siniestros Daños'!M29=\"\",\"\",'TD Siniestros Daños'!M29)","v":0}]
[null,{"$f":"IF('TD Siniestros Daños'!A30=\"\",\"\",'TD Siniestros Daños'!A30)","v":22},{"$f":"IF('TD Siniestros Daños'!B30=\"\",\"\",'TD Siniestros Daños'!B30)","v":"HDI Global Seguros"},{"$f":"IF('TD Siniestros Daños'!C30=\"\",\"\",'TD Siniestros Daños'!C30)","v":1776902.6795999999},{"$f":"IF('TD Siniestros Daños'!D30=\"\",\"\",'TD Siniestros Daños'!D30)","v":97.659502784811011},{"$f":"IF('TD Siniestros Daños'!E30=\"\",\"\",'TD Siniestros Daños'!E30)","v":0},{"$f":"IF('TD Siniestros Daños'!F30=\"\",\"\",'TD Siniestros Daños'!F30)","v":77.407017299899195},{"$f":"IF('TD Siniestros Daños'!G30=\"\",\"\",'TD Siniestros Daños'!G30)","v":42.73390452146559},1.4003304336105109,null,{"$f":"IF('TD Siniestros Daños'!H30=\"\",\"\",'TD Siniestros Daños'!H30)","v":19389.581989999999},{"$f":"IF('TD Siniestros Daños'!I30=\"\",\"\",'TD Siniestros Daños'!I30)","v":-14877.890145853829},{"$f":"IF('TD Siniestros Daños'!J30=\"\",\"\",'TD Siniestros Daños'!J30)","v":-7011.7653099999998},{"$f":"IF('TD Siniestros Daños'!K30=\"\",\"\",'TD Siniestros Daños'!K30)","v":-34.631924401449346},{"$f":"IF('TD Siniestros Daños'!L30=\"\",\"\",'TD Siniestros Daños'!L30)","v":-276.52924952218632},{"$f":"IF('TD Siniestros Daños'!M30=\"\",\"\",'TD Siniestros Daños'!M30)","v":1.2231911801731934}]
[null,{"$f":"IF('TD Siniestros Daños'!A31=\"\",\"\",'TD Siniestros Daños'!A31)","v":23},{"$f":"IF('TD Siniestros Daños'!B31=\"\",\"\",'TD Siniestros Daños'!B31)","v":"General de Seguros"},{"$f":"IF('TD Siniestros Daños'!C31=\"\",\"\",'TD Siniestros Daños'!C31)","v":1272521.6870800001},{"$f":"IF('TD Siniestros Daños'!D31=\"\",\"\",'TD Siniestros Daños'!D31)","v":16.427696021278781},{"$f":"IF('TD Siniestros Daños'!E31=\"\",\"\",'TD Siniestros Daños'!E31)","v":-1877.17165},{"$f":"IF('TD Siniestros Daños'!F31=\"\",\"\",'TD Siniestros Daños'!F31)","v":61.711356953161776},{"$f":"IF('TD Siniestros Daños'!G31=\"\",\"\",'TD Siniestros Daños'!G31)","v":58.473783627784861},1.0028409919718575,null,{"$f":"IF('TD Siniestros Daños'!H31=\"\",\"\",'TD Siniestros Daños'!H31)","v":1135360.7525799999},{"$f":"IF('TD Siniestros Daños'!I31=\"\",\"\",'TD Siniestros Daños'!I31)","v":17.700770907524642},{"$f":"IF('TD Siniestros Daños'!J31=\"\",\"\",'TD Siniestros Daños'!J31)","v":1735224.9847599999},{"$f":"IF('TD Siniestros Daños'!K31=\"\",\"\",'TD Siniestros Daños'!K31)","v":15.530498550606264},{"$f":"IF('TD Siniestros Daños'!L31=\"\",\"\",'TD Siniestros Daños'!L31)","v":65.430175484537088},{"$f":"IF('TD Siniestros Daños'!M31=\"\",\"\",'TD Siniestros Daños'!M31)","v":64.223715237356743}]
[null,{"$f":"IF('TD Siniestros Daños'!A32=\"\",\"\",'TD Siniestros Daños'!A32)","v":24},{"$f":"IF('TD Siniestros Daños'!B32=\"\",\"\",'TD Siniestros Daños'!B32)","v":"El Potosí"},{"$f":"IF('TD Siniestros Daños'!C32=\"\",\"\",'TD Siniestros Daños'!C32)","v":934878.04974999989},{"$f":"IF('TD Siniestros Daños'!D32=\"\",\"\",'TD Siniestros Daños'!D32)","v":13.802552537933854},{"$f":"IF('TD Siniestros Daños'!E32=\"\",\"\",'TD Siniestros Daños'!E32)","v":0},{"$f":"IF('TD Siniestros Daños'!F32=\"\",\"\",'TD Siniestros Daños'!F32)","v":46.914955206105901},{"$f":"IF('TD Siniestros Daños'!G32=\"\",\"\",'TD Siniestros Daños'!G32)","v":54.264860681413296},0.7367528901887116,null,{"$f":"IF('TD Siniestros Daños'!H32=\"\",\"\",'TD Siniestros Daños'!H32)","v":871218.37387999997},{"$f":"IF('TD Siniestros Daños'!I32=\"\",\"\",'TD Siniestros Daños'!I32)","v":26.319349752296439},{"$f":"IF('TD Siniestros Daños'!J32=\"\",\"\",'TD Siniestros Daños'!J32)","v":1515206.39683},{"$f":"IF('TD Siniestros Daños'!K32=\"\",\"\",'TD Siniestros Daños'!K32)","v":33.095352561900881},{"$f":"IF('TD Siniestros Daños'!L32=\"\",\"\",'TD Siniestros Daños'!L32)","v":57.498329976872917},{"$f":"IF('TD Siniestros Daños'!M32=\"\",\"\",'TD Siniestros Daños'!M32)","v":60.582646403729534}]
[null,{"$f":"IF('TD Siniestros Daños'!A33=\"\",\"\",'TD Siniestros Daños'!A33)","v":25},{"$f":"IF('TD Siniestros Daños'!B33=\"\",\"\",'TD Siniestros Daños'!B33)","v":"Seguros Azteca Daños"},{"$f":"IF('TD Siniestros Daños'!C33=\"\",\"\",'TD Siniestros Daños'!C33)","v":504172.82344000001},{"$f":"IF('TD Siniestros Daños'!D33=\"\",\"\",'TD Siniestros Daños'!D33)","v":68.560045078046869},{"$f":"IF('TD Siniestros Daños'!E33=\"\",\"\",'TD Siniestros Daños'!E33)","v":7972.2413799999995},{"$f":"IF('TD Siniestros Daños'!F33=\"\",\"\",'TD Siniestros Daños'!F33)","v":25.304254715099706},{"$f":"IF('TD Siniestros Daños'!G33=\"\",\"\",'TD Siniestros Daños'!G33)","v":17.031560909727919},0.39732538904229742,null,{"$f":"IF('TD Siniestros Daños'!H33=\"\",\"\",'TD Siniestros Daños'!H33)","v":114291.04525},{"$f":"IF('TD Siniestros Daños'!I33=\"\",\"\",'TD Siniestros Daños'!I33)","v":22.39777995611254},{"$f":"IF('TD Siniestros Daños'!J33=\"\",\"\",'TD Siniestros Daños'!J33)","v":360816.04122000001},{"$f":"IF('TD Siniestros Daños'!K33=\"\",\"\",'TD Siniestros Daños'!K33)","v":7.7233901495360913},{"$f":"IF('TD Siniestros Daños'!L33=\"\",\"\",'TD Siniestros Daños'!L33)","v":31.675710665068085},{"$f":"IF('TD Siniestros Daños'!M33=\"\",\"\",'TD Siniestros Daños'!M33)","v":27.878078666626539}]
[null,{"$f":"IF('TD Siniestros Daños'!A34=\"\",\"\",'TD Siniestros Daños'!A34)","v":26},{"$f":"IF('TD Siniestros Daños'!B34=\"\",\"\",'TD Siniestros Daños'!B34)","v":"El Águila"},{"$f":"IF('TD Siniestros Daños'!C34=\"\",\"\",'TD Siniestros Daños'!C34)","v":942654.73620000028},{"$f":"IF('TD Siniestros Daños'!D34=\"\",\"\",'TD Siniestros Daños'!D34)","v":82.053280740874442},{"$f":"IF('TD Siniestros Daños'!E34=\"\",\"\",'TD Siniestros Daños'!E34)","v":0},{"$f":"IF('TD Siniestros Daños'!F34=\"\",\"\",'TD Siniestros Daños'!F34)","v":69.58077747031875},{"$f":"IF('TD Siniestros Daños'!G34=\"\",\"\",'TD Siniestros Daños'!G34)","v":40.374712725227191},0.74288149297242367,null,{"$f":"IF('TD Siniestros Daños'!H34=\"\",\"\",'TD Siniestros Daños'!H34)","v":561586.73679999996},{"$f":"IF('TD Siniestros Daños'!I34=\"\",\"\",'TD Siniestros Daños'!I34)","v":5.2756436911287841},{"$f":"IF('TD Siniestros Daños'!J34=\"\",\"\",'TD Siniestros Daños'!J34)","v":1057382.2735599999},{"$f":"IF('TD Siniestros Daños'!K34=\"\",\"\",'TD Siniestros Daños'!K34)","v":-1.1347771266611018},{"$f":"IF('TD Siniestros Daños'!L34=\"\",\"\",'TD Siniestros Daños'!L34)","v":53.111041374776121},{"$f":"IF('TD Siniestros Daños'!M34=\"\",\"\",'TD Siniestros Daños'!M34)","v":49.877015788741588}]
[null,{"$f":"IF('TD Siniestros Daños'!A35=\"\",\"\",'TD Siniestros Daños'!A35)","v":27},{"$f":"IF('TD Siniestros Daños'!B35=\"\",\"\",'TD Siniestros Daños'!B35)","v":"Swiss Re Corporate Solutions"},{"$f":"IF('TD Siniestros Daños'!C35=\"\",\"\",'TD Siniestros Daños'!C35)","v":555122.79879000015},{"$f":"IF('TD Siniestros Daños'!D35=\"\",\"\",'TD Siniestros Daños'!D35)","v":225.60230008007414},{"$f":"IF('TD Siniestros Daños'!E35=\"\",\"\",'TD Siniestros Daños'!E35)","v":0},{"$f":"IF('TD Siniestros Daños'!F35=\"\",\"\",'TD Siniestros Daños'!F35)","v":42.069008415827682},{"$f":"IF('TD Siniestros Daños'!G35=\"\",\"\",'TD Siniestros Daños'!G35)","v":13.225725790171994},0.43747772934400236,null,{"$f":"IF('TD Siniestros Daños'!H35=\"\",\"\",'TD Siniestros Daños'!H35)","v":4072.4895899999997},{"$f":"IF('TD Siniestros Daños'!I35=\"\",\"\",'TD Siniestros Daños'!I35)","v":46.041171953546908},{"$f":"IF('TD Siniestros Daños'!J35=\"\",\"\",'TD Siniestros Daños'!J35)","v":8052.7642599999999},{"$f":"IF('TD Siniestros Daños'!K35=\"\",\"\",'TD Siniestros Daños'!K35)","v":-214.02130523483694},{"$f":"IF('TD Siniestros Daños'!L35=\"\",\"\",'TD Siniestros Daños'!L35)","v":50.572566866622758},{"$f":"IF('TD Siniestros Daños'!M35=\"\",\"\",'TD Siniestros Daños'!M35)","v":-39.484413922962545}]
[null,{"$f":"IF('TD Siniestros Daños'!A36=\"\",\"\",'TD Siniestros Daños'!A36)","v":28},{"$f":"IF('TD Siniestros Daños'!B36=\"\",\"\",'TD Siniestros Daños'!B36)","v":"Ve Por Más"},{"$f":"IF('TD Siniestros Daños'!C36=\"\",\"\",'TD Siniestros Daños'!C36)","v":808118.31851999986},{"$f":"IF('TD Siniestros Daños'!D36=\"\",\"\",'TD Siniestros Daños'!D36)","v":136.55208070407122},{"$f":"IF('TD Siniestros Daños'!E36=\"\",\"\",'TD Siniestros Daños'!E36)","v":0},{"$f":"IF('TD Siniestros Daños'!F36=\"\",\"\",'TD Siniestros Daños'!F36)","v":74.045356971251678},{"$f":"IF('TD Siniestros Daños'!G36=\"\",\"\",'TD Siniestros Daños'!G36)","v":30.470211505986132},0.63685686806238095,null,{"$f":"IF('TD Siniestros Daños'!H36=\"\",\"\",'TD Siniestros Daños'!H36)","v":172398.75996},{"$f":"IF('TD Siniestros Daños'!I36=\"\",\"\",'TD Siniestros Daños'!I36)","v":-22.256578451269039},{"$f":"IF('TD Siniestros Daños'!J36=\"\",\"\",'TD Siniestros Daños'!J36)","v":372487.15006000001},{"$f":"IF('TD Siniestros Daños'!K36=\"\",\"\",'TD Siniestros Daños'!K36)","v":4.5952529122400998},{"$f":"IF('TD Siniestros Daños'!L36=\"\",\"\",'TD Siniestros Daños'!L36)","v":46.283142903649185},{"$f":"IF('TD Siniestros Daños'!M36=\"\",\"\",'TD Siniestros Daños'!M36)","v":62.268896083331171}]
[null,{"$f":"IF('TD Siniestros Daños'!A37=\"\",\"\",'TD Siniestros Daños'!A37)","v":29},{"$f":"IF('TD Siniestros Daños'!B37=\"\",\"\",'TD Siniestros Daños'!B37)","v":"Tokio Marine"},{"$f":"IF('TD Siniestros Daños'!C37=\"\",\"\",'TD Siniestros Daños'!C37)","v":347943.9945899999},{"$f":"IF('TD Siniestros Daños'!D37=\"\",\"\",'TD Siniestros Daños'!D37)","v":-24.157977069944025},{"$f":"IF('TD Siniestros Daños'!E37=\"\",\"\",'TD Siniestros Daños'!E37)","v":1645.75614},{"$f":"IF('TD Siniestros Daños'!F37=\"\",\"\",'TD Siniestros Daños'!F37)","v":35.22492106534704},{"$f":"IF('TD Siniestros Daños'!G37=\"\",\"\",'TD Siniestros Daños'!G37)","v":59.374504250930293},0.2742055433931081,null,{"$f":"IF('TD Siniestros Daños'!H37=\"\",\"\",'TD Siniestros Daños'!H37)","v":34143.677979999993},{"$f":"IF('TD Siniestros Daños'!I37=\"\",\"\",'TD Siniestros Daños'!I37)","v":-41.045336363795549},{"$f":"IF('TD Siniestros Daños'!J37=\"\",\"\",'TD Siniestros Daños'!J37)","v":118786.20959999999},{"$f":"IF('TD Siniestros Daños'!K37=\"\",\"\",'TD Siniestros Daños'!K37)","v":-2.4147345959712796},{"$f":"IF('TD Siniestros Daños'!L37=\"\",\"\",'TD Siniestros Daños'!L37)","v":28.74380628439549},{"$f":"IF('TD Siniestros Daños'!M37=\"\",\"\",'TD Siniestros Daños'!M37)","v":47.578457614372184}]
[null,{"$f":"IF('TD Siniestros Daños'!A38=\"\",\"\",'TD Siniestros Daños'!A38)","v":30},{"$f":"IF('TD Siniestros Daños'!B38=\"\",\"\",'TD Siniestros Daños'!B38)","v":"Berkley Seguros"},{"$f":"IF('TD Siniestros Daños'!C38=\"\",\"\",'TD Siniestros Daños'!C38)","v":399937.60344999988},{"$f":"IF('TD Siniestros Daños'!D38=\"\",\"\",'TD Siniestros Daños'!D38)","v":116.91327735511491},{"$f":"IF('TD Siniestros Daños'!E38=\"\",\"\",'TD Siniestros Daños'!E38)","v":5748.2577499999998},{"$f":"IF('TD Siniestros Daños'!F38=\"\",\"\",'TD Siniestros Daños'!F38)","v":50.556985296701193},{"$f":"IF('TD Siniestros Daños'!G38=\"\",\"\",'TD Siniestros Daños'!G38)","v":27.358518682961165},0.31518034391301558,null,{"$f":"IF('TD Siniestros Daños'!H38=\"\",\"\",'TD Siniestros Daños'!H38)","v":31096.719840000002},{"$f":"IF('TD Siniestros Daños'!I38=\"\",\"\",'TD Siniestros Daños'!I38)","v":101.20110018919979},{"$f":"IF('TD Siniestros Daños'!J38=\"\",\"\",'TD Siniestros Daños'!J38)","v":27398.97163},{"$f":"IF('TD Siniestros Daños'!K38=\"\",\"\",'TD Siniestros Daños'!K38)","v":4.1834032384514552},{"$f":"IF('TD Siniestros Daños'!L38=\"\",\"\",'TD Siniestros Daños'!L38)","v":113.49593794955143},{"$f":"IF('TD Siniestros Daños'!M38=\"\",\"\",'TD Siniestros Daños'!M38)","v":58.769027894009007}]
[null,{"$f":"IF('TD Siniestros Daños'!A39=\"\",\"\",'TD Siniestros Daños'!A39)","v":31},{"$f":"IF('TD Siniestros Daños'!B39=\"\",\"\",'TD Siniestros Daños'!B39)","v":"Sompo Japan"},{"$f":"IF('TD Siniestros Daños'!C39=\"\",\"\",'TD Siniestros Daños'!C39)","v":131354.68675000008},{"$f":"IF('TD Siniestros Daños'!D39=\"\",\"\",'TD Siniestros Daños'!D39)","v":-3.4856840991833171},{"$f":"IF('TD Siniestros Daños'!E39=\"\",\"\",'TD Siniestros Daños'!E39)","v":1608.00521},{"$f":"IF('TD Siniestros Daños'!F39=\"\",\"\",'TD Siniestros Daños'!F39)","v":17.31097984749492},{"$f":"IF('TD Siniestros Daños'!G39=\"\",\"\",'TD Siniestros Daños'!G39)","v":20.401632223596337},0.10351718614933222,null,{"$f":"IF('TD Siniestros Daños'!H39=\"\",\"\",'TD Siniestros Daños'!H39)","v":38841.262109999996},{"$f":"IF('TD Siniestros Daños'!I39=\"\",\"\",'TD Siniestros Daños'!I39)","v":339.14845723663279},{"$f":"IF('TD Siniestros Daños'!J39=\"\",\"\",'TD Siniestros Daños'!J39)","v":74370.059209999992},{"$f":"IF('TD Siniestros Daños'!K39=\"\",\"\",'TD Siniestros Daños'!K39)","v":164.6263098339416},{"$f":"IF('TD Siniestros Daños'!L39=\"\",\"\",'TD Siniestros Daños'!L39)","v":52.227015175990744},{"$f":"IF('TD Siniestros Daños'!M39=\"\",\"\",'TD Siniestros Daños'!M39)","v":31.471458163899495}]
[null,{"$f":"IF('TD Siniestros Daños'!A40=\"\",\"\",'TD Siniestros Daños'!A40)","v":32},{"$f":"IF('TD Siniestros Daños'!B40=\"\",\"\",'TD Siniestros Daños'!B40)","v":"Atradius"},{"$f":"IF('TD Siniestros Daños'!C40=\"\",\"\",'TD Siniestros Daños'!C40)","v":347401.89166999998},{"$f":"IF('TD Siniestros Daños'!D40=\"\",\"\",'TD Siniestros Daños'!D40)","v":149.71957784877898},{"$f":"IF('TD Siniestros Daños'!E40=\"\",\"\",'TD Siniestros Daños'!E40)","v":1452.1160300000001},{"$f":"IF('TD Siniestros Daños'!F40=\"\",\"\",'TD Siniestros Daños'!F40)","v":51.220442956526313},{"$f":"IF('TD Siniestros Daños'!G40=\"\",\"\",'TD Siniestros Daños'!G40)","v":22.989775323447201},0.27377832628902005,null,{"$f":"IF('TD Siniestros Daños'!H40=\"\",\"\",'TD Siniestros Daños'!H40)","v":39032.096270000002},{"$f":"IF('TD Siniestros Daños'!I40=\"\",\"\",'TD Siniestros Daños'!I40)","v":-20.778322745587207},{"$f":"IF('TD Siniestros Daños'!J40=\"\",\"\",'TD Siniestros Daños'!J40)","v":173546.51957},{"$f":"IF('TD Siniestros Daños'!K40=\"\",\"\",'TD Siniestros Daños'!K40)","v":12.5330664848887},{"$f":"IF('TD Siniestros Daños'!L40=\"\",\"\",'TD Siniestros Daños'!L40)","v":22.490855112917664},{"$f":"IF('TD Siniestros Daños'!M40=\"\",\"\",'TD Siniestros Daños'!M40)","v":31.947883223880915}]
[null,{"$f":"IF('TD Siniestros Daños'!A41=\"\",\"\",'TD Siniestros Daños'!A41)","v":33},{"$f":"IF('TD Siniestros Daños'!B41=\"\",\"\",'TD Siniestros Daños'!B41)","v":"Solunion Crédito"},{"$f":"IF('TD Siniestros Daños'!C41=\"\",\"\",'TD Siniestros Daños'!C41)","v":552327.55256999994},{"$f":"IF('TD Siniestros Daños'!D41=\"\",\"\",'TD Siniestros Daños'!D41)","v":207.99666192393329},{"$f":"IF('TD Siniestros Daños'!E41=\"\",\"\",'TD Siniestros Daños'!E41)","v":769.00381999999991},{"$f":"IF('TD Siniestros Daños'!F41=\"\",\"\",'TD Siniestros Daños'!F41)","v":112.29661574344669},{"$f":"IF('TD Siniestros Daños'!G41=\"\",\"\",'TD Siniestros Daños'!G41)","v":34.136580769157078},0.43527486905444385,null,{"$f":"IF('TD Siniestros Daños'!H41=\"\",\"\",'TD Siniestros Daños'!H41)","v":23433.792109999999},{"$f":"IF('TD Siniestros Daños'!I41=\"\",\"\",'TD Siniestros Daños'!I41)","v":354.37874060863572},{"$f":"IF('TD Siniestros Daños'!J41=\"\",\"\",'TD Siniestros Daños'!J41)","v":21505.25964},{"$f":"IF('TD Siniestros Daños'!K41=\"\",\"\",'TD Siniestros Daños'!K41)","v":-3.3135203015725256},{"$f":"IF('TD Siniestros Daños'!L41=\"\",\"\",'TD Siniestros Daños'!L41)","v":108.96772465101006},{"$f":"IF('TD Siniestros Daños'!M41=\"\",\"\",'TD Siniestros Daños'!M41)","v":23.187056866131648}]
[null,{"$f":"IF('TD Siniestros Daños'!A42=\"\",\"\",'TD Siniestros Daños'!A42)","v":34},{"$f":"IF('TD Siniestros Daños'!B42=\"\",\"\",'TD Siniestros Daños'!B42)","v":"Primero Seguros"},{"$f":"IF('TD Siniestros Daños'!C42=\"\",\"\",'TD Siniestros Daños'!C42)","v":825054.79418999958},{"$f":"IF('TD Siniestros Daños'!D42=\"\",\"\",'TD Siniestros Daños'!D42)","v":-11.017289252065455},{"$f":"IF('TD Siniestros Daños'!E42=\"\",\"\",'TD Siniestros Daños'!E42)","v":0},{"$f":"IF('TD Siniestros Daños'!F42=\"\",\"\",'TD Siniestros Daños'!F42)","v":191.05283506606338},{"$f":"IF('TD Siniestros Daños'!G42=\"\",\"\",'TD Siniestros Daños'!G42)","v":62.727981661526165},0.65020406067517134,null,{"$f":"IF('TD Siniestros Daños'!H42=\"\",\"\",'TD Siniestros Daños'!H42)","v":686881.99938000005},{"$f":"IF('TD Siniestros Daños'!I42=\"\",\"\",'TD Siniestros Daños'!I42)","v":-15.207844997651943},{"$f":"IF('TD Siniestros Daños'!J42=\"\",\"\",'TD Siniestros Daños'!J42)","v":745872.36523999996},{"$f":"IF('TD Siniestros Daños'!K42=\"\",\"\",'TD Siniestros Daños'!K42)","v":-29.481443637887761},{"$f":"IF('TD Siniestros Daños'!L42=\"\",\"\",'TD Siniestros Daños'!L42)","v":92.091091102293561},{"$f":"IF('TD Siniestros Daños'!M42=\"\",\"\",'TD Siniestros Daños'!M42)","v":76.588816479138501}]
[null,{"$f":"IF('TD Siniestros Daños'!A43=\"\",\"\",'TD Siniestros Daños'!A43)","v":35},{"$f":"IF('TD Siniestros Daños'!B43=\"\",\"\",'TD Siniestros Daños'!B43)","v":"SHF Cred Vivienda"},{"$f":"IF('TD Siniestros Daños'!C43=\"\",\"\",'TD Siniestros Daños'!C43)","v":168492.11899000002},{"$f":"IF('TD Siniestros Daños'!D43=\"\",\"\",'TD Siniestros Daños'!D43)","v":91.887347671540027},{"$f":"IF('TD Siniestros Daños'!E43=\"\",\"\",'TD Siniestros Daños'!E43)","v":0},{"$f":"IF('TD Siniestros Daños'!F43=\"\",\"\",'TD Siniestros Daños'!F43)","v":47.311545065462241},{"$f":"IF('TD Siniestros Daños'!G43=\"\",\"\",'TD Siniestros Daños'!G43)","v":24.972121225714407},0.13278422321831054,null,{"$f":"IF('TD Siniestros Daños'!H43=\"\",\"\",'TD Siniestros Daños'!H43)","v":164245.12747000001},{"$f":"IF('TD Siniestros Daños'!I43=\"\",\"\",'TD Siniestros Daños'!I43)","v":111.02039704307232},{"$f":"IF('TD Siniestros Daños'!J43=\"\",\"\",'TD Siniestros Daños'!J43)","v":363300.24563000002},{"$f":"IF('TD Siniestros Daños'!K43=\"\",\"\",'TD Siniestros Daños'!K43)","v":22.888130456483346},{"$f":"IF('TD Siniestros Daños'!L43=\"\",\"\",'TD Siniestros Daños'!L43)","v":45.209198024400465},{"$f":"IF('TD Siniestros Daños'!M43=\"\",\"\",'TD Siniestros Daños'!M43)","v":26.32766264543384}]
[null,{"$f":"IF('TD Siniestros Daños'!A44=\"\",\"\",'TD Siniestros Daños'!A44)","v":36},{"$f":"IF('TD Siniestros Daños'!B44=\"\",\"\",'TD Siniestros Daños'!B44)","v":"La Latinoamericana"},{"$f":"IF('TD Siniestros Daños'!C44=\"\",\"\",'TD Siniestros Daños'!C44)","v":144443.25928999993},{"$f":"IF('TD Siniestros Daños'!D44=\"\",\"\",'TD Siniestros Daños'!D44)","v":-36.792182422669647},{"$f":"IF('TD Siniestros Daños'!E44=\"\",\"\",'TD Siniestros Daños'!E44)","v":3227.0411800000002},{"$f":"IF('TD Siniestros Daños'!F44=\"\",\"\",'TD Siniestros Daños'!F44)","v":45.438918078191747},{"$f":"IF('TD Siniestros Daños'!G44=\"\",\"\",'TD Siniestros Daños'!G44)","v":54.15307229574956},0.11383194714930243,null,{"$f":"IF('TD Siniestros Daños'!H44=\"\",\"\",'TD Siniestros Daños'!H44)","v":87616.541580000005},{"$f":"IF('TD Siniestros Daños'!I44=\"\",\"\",'TD Siniestros Daños'!I44)","v":-40.611005725440741},{"$f":"IF('TD Siniestros Daños'!J44=\"\",\"\",'TD Siniestros Daños'!J44)","v":210390.80012},{"$f":"IF('TD Siniestros Daños'!K44=\"\",\"\",'TD Siniestros Daños'!K44)","v":-17.073004752601882},{"$f":"IF('TD Siniestros Daños'!L44=\"\",\"\",'TD Siniestros Daños'!L44)","v":41.644663896912988},{"$f":"IF('TD Siniestros Daños'!M44=\"\",\"\",'TD Siniestros Daños'!M44)","v":58.149946589315668}]
[null,{"$f":"IF('TD Siniestros Daños'!A45=\"\",\"\",'TD Siniestros Daños'!A45)","v":37},{"$f":"IF('TD Siniestros Daños'!B45=\"\",\"\",'TD Siniestros Daños'!B45)","v":"Coface"},{"$f":"IF('TD Siniestros Daños'!C45=\"\",\"\",'TD Siniestros Daños'!C45)","v":125599.20271999999},{"$f":"IF('TD Siniestros Daños'!D45=\"\",\"\",'TD Siniestros Daños'!D45)","v":36.288568612097883},{"$f":"IF('TD Siniestros Daños'!E45=\"\",\"\",'TD Siniestros Daños'!E45)","v":-3785.3339000000001},{"$f":"IF('TD Siniestros Daños'!F45=\"\",\"\",'TD Siniestros Daños'!F45)","v":43.138347102261868},{"$f":"IF('TD Siniestros Daños'!G45=\"\",\"\",'TD Siniestros Daños'!G45)","v":30.174373784119535},9.8981440022153963E-2,null,{"$f":"IF('TD Siniestros Daños'!H45=\"\",\"\",'TD Siniestros Daños'!H45)","v":20107.241160000001},{"$f":"IF('TD Siniestros Daños'!I45=\"\",\"\",'TD Siniestros Daños'!I45)","v":-3.1923927752710246},{"$f":"IF('TD Siniestros Daños'!J45=\"\",\"\",'TD Siniestros Daños'!J45)","v":53859.894289999997},{"$f":"IF('TD Siniestros Daños'!K45=\"\",\"\",'TD Siniestros Daños'!K45)","v":-3.5380294293430592},{"$f":"IF('TD Siniestros Daños'!L45=\"\",\"\",'TD Siniestros Daños'!L45)","v":37.332492803895555},{"$f":"IF('TD Siniestros Daños'!M45=\"\",\"\",'TD Siniestros Daños'!M45)","v":37.199202887216245}]
[null,{"$f":"IF('TD Siniestros Daños'!A46=\"\",\"\",'TD Siniestros Daños'!A46)","v":38},{"$f":"IF('TD Siniestros Daños'!B46=\"\",\"\",'TD Siniestros Daños'!B46)","v":"Crabi"},{"$f":"IF('TD Siniestros Daños'!C46=\"\",\"\",'TD Siniestros Daños'!C46)","v":177404.42518999998},{"$f":"IF('TD Siniestros Daños'!D46=\"\",\"\",'TD Siniestros Daños'!D46)","v":79.723234927370967},{"$f":"IF('TD Siniestros Daños'!E46=\"\",\"\",'TD Siniestros Daños'!E46)","v":0},{"$f":"IF('TD Siniestros Daños'!F46=\"\",\"\",'TD Siniestros Daños'!F46)","v":63.708611005640122},{"$f":"IF('TD Siniestros Daños'!G46=\"\",\"\",'TD Siniestros Daños'!G46)","v":58.244843214183398},0.13980777816523932,null,{"$f":"IF('TD Siniestros Daños'!H46=\"\",\"\",'TD Siniestros Daños'!H46)","v":178868.58948},{"$f":"IF('TD Siniestros Daños'!I46=\"\",\"\",'TD Siniestros Daños'!I46)","v":95.875580803546725},{"$f":"IF('TD Siniestros Daños'!J46=\"\",\"\",'TD Siniestros Daños'!J46)","v":228825.34779},{"$f":"IF('TD Siniestros Daños'!K46=\"\",\"\",'TD Siniestros Daños'!K46)","v":97.909405180791651},{"$f":"IF('TD Siniestros Daños'!L46=\"\",\"\",'TD Siniestros Daños'!L46)","v":78.168171143414213},{"$f":"IF('TD Siniestros Daños'!M46=\"\",\"\",'TD Siniestros Daños'!M46)","v":78.97981050828011}]
[null,{"$f":"IF('TD Siniestros Daños'!A47=\"\",\"\",'TD Siniestros Daños'!A47)","v":39},{"$f":"IF('TD Siniestros Daños'!B47=\"\",\"\",'TD Siniestros Daños'!B47)","v":"Genworth Seg. de Crédito"},{"$f":"IF('TD Siniestros Daños'!C47=\"\",\"\",'TD Siniestros Daños'!C47)","v":112869.93919},{"$f":"IF('TD Siniestros Daños'!D47=\"\",\"\",'TD Siniestros Daños'!D47)","v":81.28592191934365},{"$f":"IF('TD Siniestros Daños'!E47=\"\",\"\",'TD Siniestros Daños'!E47)","v":0},{"$f":"IF('TD Siniestros Daños'!F47=\"\",\"\",'TD Siniestros Daños'!F47)","v":88.280938085635896},{"$f":"IF('TD Siniestros Daños'!G47=\"\",\"\",'TD Siniestros Daños'!G47)","v":53.036792845675521},8.8949841036372712E-2,null,{"$f":"IF('TD Siniestros Daños'!H47=\"\",\"\",'TD Siniestros Daños'!H47)","v":117160.00358},{"$f":"IF('TD Siniestros Daños'!I47=\"\",\"\",'TD Siniestros Daños'!I47)","v":77.800603658860339},{"$f":"IF('TD Siniestros Daños'!J47=\"\",\"\",'TD Siniestros Daños'!J47)","v":153477.44413999998},{"$f":"IF('TD Siniestros Daños'!K47=\"\",\"\",'TD Siniestros Daños'!K47)","v":-0.34676877531694128},{"$f":"IF('TD Siniestros Daños'!L47=\"\",\"\",'TD Siniestros Daños'!L47)","v":76.336952466532011},{"$f":"IF('TD Siniestros Daños'!M47=\"\",\"\",'TD Siniestros Daños'!M47)","v":42.785141437037318}]
[null,{"$f":"IF('TD Siniestros Daños'!A48=\"\",\"\",'TD Siniestros Daños'!A48)","v":40},{"$f":"IF('TD Siniestros Daños'!B48=\"\",\"\",'TD Siniestros Daños'!B48)","v":"Virginia Surety"},{"$f":"IF('TD Siniestros Daños'!C48=\"\",\"\",'TD Siniestros Daños'!C48)","v":28931.921979999999},{"$f":"IF('TD Siniestros Daños'!D48=\"\",\"\",'TD Siniestros Daños'!D48)","v":2.6951358285088434},{"$f":"IF('TD Siniestros Daños'!E48=\"\",\"\",'TD Siniestros Daños'!E48)","v":0},{"$f":"IF('TD Siniestros Daños'!F48=\"\",\"\",'TD Siniestros Daños'!F48)","v":25.802178624099774},{"$f":"IF('TD Siniestros Daños'!G48=\"\",\"\",'TD Siniestros Daños'!G48)","v":29.531126328387973},2.2800489479006845E-2,null,{"$f":"IF('TD Siniestros Daños'!H48=\"\",\"\",'TD Siniestros Daños'!H48)","v":23247.22694},{"$f":"IF('TD Siniestros Daños'!I48=\"\",\"\",'TD Siniestros Daños'!I48)","v":32.29195009270687},{"$f":"IF('TD Siniestros Daños'!J48=\"\",\"\",'TD Siniestros Daños'!J48)","v":81657.371969999993},{"$f":"IF('TD Siniestros Daños'!K48=\"\",\"\",'TD Siniestros Daños'!K48)","v":28.409893256403905},{"$f":"IF('TD Siniestros Daños'!L48=\"\",\"\",'TD Siniestros Daños'!L48)","v":28.469232329128559},{"$f":"IF('TD Siniestros Daños'!M48=\"\",\"\",'TD Siniestros Daños'!M48)","v":27.633813560940911}]
[null,{"$f":"IF('TD Siniestros Daños'!A49=\"\",\"\",'TD Siniestros Daños'!A49)","v":41},{"$f":"IF('TD Siniestros Daños'!B49=\"\",\"\",'TD Siniestros Daños'!B49)","v":"Tláloc Seguros"},{"$f":"IF('TD Siniestros Daños'!C49=\"\",\"\",'TD Siniestros Daños'!C49)","v":28463.917489999996},{"$f":"IF('TD Siniestros Daños'!D49=\"\",\"\",'TD Siniestros Daños'!D49)","v":-49.924852650311557},{"$f":"IF('TD Siniestros Daños'!E49=\"\",\"\",'TD Siniestros Daños'!E49)","v":0},{"$f":"IF('TD Siniestros Daños'!F49=\"\",\"\",'TD Siniestros Daños'!F49)","v":25.559057551487012},{"$f":"IF('TD Siniestros Daños'!G49=\"\",\"\",'TD Siniestros Daños'!G49)","v":60.506515236660583},2.2431667405666905E-2,null,{"$f":"IF('TD Siniestros Daños'!H49=\"\",\"\",'TD Siniestros Daños'!H49)","v":4381.7613899999997},{"$f":"IF('TD Siniestros Daños'!I49=\"\",\"\",'TD Siniestros Daños'!I49)","v":-45.940495343174568},{"$f":"IF('TD Siniestros Daños'!J49=\"\",\"\",'TD Siniestros Daños'!J49)","v":22959.619739999998},{"$f":"IF('TD Siniestros Daños'!K49=\"\",\"\",'TD Siniestros Daños'!K49)","v":70.665719154941399},{"$f":"IF('TD Siniestros Daños'!L49=\"\",\"\",'TD Siniestros Daños'!L49)","v":19.084642688424594},{"$f":"IF('TD Siniestros Daños'!M49=\"\",\"\",'TD Siniestros Daños'!M49)","v":60.250168585735352}]
[null,{"$f":"IF('TD Siniestros Daños'!A50=\"\",\"\",'TD Siniestros Daños'!A50)","v":42},{"$f":"IF('TD Siniestros Daños'!B50=\"\",\"\",'TD Siniestros Daños'!B50)","v":"SPP Seguros"},{"$f":"IF('TD Siniestros Daños'!C50=\"\",\"\",'TD Siniestros Daños'!C50)","v":7765.1696100000008},{"$f":"IF('TD Siniestros Daños'!D50=\"\",\"\",'TD Siniestros Daños'!D50)","v":150.97837848619102},{"$f":"IF('TD Siniestros Daños'!E50=\"\",\"\",'TD Siniestros Daños'!E50)","v":0},{"$f":"IF('TD Siniestros Daños'!F50=\"\",\"\",'TD Siniestros Daños'!F50)","v":8.9270887060961179},{"$f":"IF('TD Siniestros Daños'!G50=\"\",\"\",'TD Siniestros Daños'!G50)","v":4.35597059921911},6.1195266639354016E-3,null,{"$f":"IF('TD Siniestros Daños'!H50=\"\",\"\",'TD Siniestros Daños'!H50)","v":8348.0348799999992},{"$f":"IF('TD Siniestros Daños'!I50=\"\",\"\",'TD Siniestros Daños'!I50)","v":194.52377974109285},{"$f":"IF('TD Siniestros Daños'!J50=\"\",\"\",'TD Siniestros Daños'!J50)","v":75995.735180000003},{"$f":"IF('TD Siniestros Daños'!K50=\"\",\"\",'TD Siniestros Daños'!K50)","v":-2.6207495825801619},{"$f":"IF('TD Siniestros Daños'!L50=\"\",\"\",'TD Siniestros Daños'!L50)","v":10.984872848755563},{"$f":"IF('TD Siniestros Daños'!M50=\"\",\"\",'TD Siniestros Daños'!M50)","v":3.6319603289174966}]
[null,{"$f":"IF('TD Siniestros Daños'!A51=\"\",\"\",'TD Siniestros Daños'!A51)","v":43},{"$f":"IF('TD Siniestros Daños'!B51=\"\",\"\",'TD Siniestros Daños'!B51)","v":"Momento Seguros"},{"$f":"IF('TD Siniestros Daños'!C51=\"\",\"\",'TD Siniestros Daños'!C51)","v":38436.471559999998},{"$f":"IF('TD Siniestros Daños'!D51=\"\",\"\",'TD Siniestros Daños'!D51)","v":377.8042861676127},{"$f":"IF('TD Siniestros Daños'!E51=\"\",\"\",'TD Siniestros Daños'!E51)","v":0},{"$f":"IF('TD Siniestros Daños'!F51=\"\",\"\",'TD Siniestros Daños'!F51)","v":49.805751342287699},{"$f":"IF('TD Siniestros Daños'!G51=\"\",\"\",'TD Siniestros Daños'!G51)","v":37.526814243693117},3.0290775912493521E-2,null,{"$f":"IF('TD Siniestros Daños'!H51=\"\",\"\",'TD Siniestros Daños'!H51)","v":13585.942369999999},{"$f":"IF('TD Siniestros Daños'!I51=\"\",\"\",'TD Siniestros Daños'!I51)","v":354.59264321166125},{"$f":"IF('TD Siniestros Daños'!J51=\"\",\"\",'TD Siniestros Daños'!J51)","v":22022.358989999997},{"$f":"IF('TD Siniestros Daños'!K51=\"\",\"\",'TD Siniestros Daños'!K51)","v":494.3353576857632},{"$f":"IF('TD Siniestros Daños'!L51=\"\",\"\",'TD Siniestros Daños'!L51)","v":61.691585248288618},{"$f":"IF('TD Siniestros Daños'!M51=\"\",\"\",'TD Siniestros Daños'!M51)","v":80.655705569066313}]
[null,{"$f":"IF('TD Siniestros Daños'!A52=\"\",\"\",'TD Siniestros Daños'!A52)","v":44},{"$f":"IF('TD Siniestros Daños'!B52=\"\",\"\",'TD Siniestros Daños'!B52)","v":"SPT"},{"$f":"IF('TD Siniestros Daños'!C52=\"\",\"\",'TD Siniestros Daños'!C52)","v":38978.43303},{"$f":"IF('TD Siniestros Daños'!D52=\"\",\"\",'TD Siniestros Daños'!D52)","v":21.775994204484348},{"$f":"IF('TD Siniestros Daños'!E52=\"\",\"\",'TD Siniestros Daños'!E52)","v":0},{"$f":"IF('TD Siniestros Daños'!F52=\"\",\"\",'TD Siniestros Daños'!F52)","v":88.328238854012469},{"$f":"IF('TD Siniestros Daños'!G52=\"\",\"\",'TD Siniestros Daños'!G52)","v":73.953851983615479},3.0717881543543685E-2,null,{"$f":"IF('TD Siniestros Daños'!H52=\"\",\"\",'TD Siniestros Daños'!H52)","v":38978.43303},{"$f":"IF('TD Siniestros Daños'!I52=\"\",\"\",'TD Siniestros Daños'!I52)","v":21.775994204484327},{"$f":"IF('TD Siniestros Daños'!J52=\"\",\"\",'TD Siniestros Daños'!J52)","v":43659.373919999998},{"$f":"IF('TD Siniestros Daños'!K52=\"\",\"\",'TD Siniestros Daños'!K52)","v":13.884219650078112},{"$f":"IF('TD Siniestros Daños'!L52=\"\",\"\",'TD Siniestros Daños'!L52)","v":89.278497445755406},{"$f":"IF('TD Siniestros Daños'!M52=\"\",\"\",'TD Siniestros Daños'!M52)","v":83.492744851406329}]
[null,{"$f":"IF('TD Siniestros Daños'!A53=\"\",\"\",'TD Siniestros Daños'!A53)","v":46},{"$f":"IF('TD Siniestros Daños'!B53=\"\",\"\",'TD Siniestros Daños'!B53)","v":"Banamex Seguros"},{"$f":"IF('TD Siniestros Daños'!C53=\"\",\"\",'TD Siniestros Daños'!C53)","v":-145.24493999999999},{"$f":"IF('TD Siniestros Daños'!D53=\"\",\"\",'TD Siniestros Daños'!D53)","v":42.568487526810351},{"$f":"IF('TD Siniestros Daños'!E53=\"\",\"\",'TD Siniestros Daños'!E53)","v":0},{"$f":"IF('TD Siniestros Daños'!F53=\"\",\"\",'TD Siniestros Daños'!F53)","v":10639.953409665297},{"$f":"IF('TD Siniestros Daños'!G53=\"\",\"\",'TD Siniestros Daños'!G53)","v":3603.7251503360471},-1.1446373070680389E-4,null,{"$f":"IF('TD Siniestros Daños'!H53=\"\",\"\",'TD Siniestros Daños'!H53)","v":132.49170000000001},{"$f":"IF('TD Siniestros Daños'!I53=\"\",\"\",'TD Siniestros Daños'!I53)","v":-83.125471975091486},{"$f":"IF('TD Siniestros Daños'!J53=\"\",\"\",'TD Siniestros Daños'!J53)","v":0},{"$f":"IF('TD Siniestros Daños'!K53=\"\",\"\",'TD Siniestros Daños'!K53)","v":0},{"$f":"IF('TD Siniestros Daños'!L53=\"\",\"\",'TD Siniestros Daños'!L53)","v":0},{"$f":"IF('TD Siniestros Daños'!M53=\"\",\"\",'TD Siniestros Daños'!M53)","v":0}]
[null,{"$f":"IF('TD Siniestros Daños'!A54=\"\",\"\",'TD Siniestros Daños'!A54)","v":150.1},{"$f":"IF('TD Siniestros Daños'!B54=\"\",\"\",'TD Siniestros Daños'!B54)","v":"TOTAL RESTO"},{"$f":"IF('TD Siniestros Daños'!C54=\"\",\"\",'TD Siniestros Daños'!C54)","v":20033586.775170002},{"$f":"IF('TD Siniestros Daños'!D54=\"\",\"\",'TD Siniestros Daños'!D54)","v":26.672550502356131},{"$f":"IF('TD Siniestros Daños'!E54=\"\",\"\",'TD Siniestros Daños'!E54)","v":23628.12962},{"$f":"IF('TD Siniestros Daños'!F54=\"\",\"\",'TD Siniestros Daños'!F54)","v":53.318361812056025},{"$f":"IF('TD Siniestros Daños'!G54=\"\",\"\",'TD Siniestros Daños'!G54)","v":48.037217463623058},15.787944707226615,null,{"$f":"IF('TD Siniestros Daños'!H54=\"\",\"\",'TD Siniestros Daños'!H54)","v":9098712.0371199995},{"$f":"IF('TD Siniestros Daños'!I54=\"\",\"\",'TD Siniestros Daños'!I54)","v":9.2972601996318396},{"$f":"IF('TD Siniestros Daños'!J54=\"\",\"\",'TD Siniestros Daños'!J54)","v":18797813.350489996},{"$f":"IF('TD Siniestros Daños'!K54=\"\",\"\",'TD Siniestros Daños'!K54)","v":18.761676718507637},{"$f":"IF('TD Siniestros Daños'!L54=\"\",\"\",'TD Siniestros Daños'!L54)","v":48.403034265061613},{"$f":"IF('TD Siniestros Daños'!M54=\"\",\"\",'TD Siniestros Daños'!M54)","v":52.594415423429417}]
[null,{"$f":"IF('TD Siniestros Daños'!A55=\"\",\"\",'TD Siniestros Daños'!A55)","v":200},{"$f":"IF('TD Siniestros Daños'!B55=\"\",\"\",'TD Siniestros Daños'!B55)","v":"Patria"},{"$f":"IF('TD Siniestros Daños'!C55=\"\",\"\",'TD Siniestros Daños'!C55)","v":0},{"$f":"IF('TD Siniestros Daños'!D55=\"\",\"\",'TD Siniestros Daños'!D55)","v":0},{"$f":"IF('TD Siniestros Daños'!E55=\"\",\"\",'TD Siniestros Daños'!E55)","v":0},{"$f":"IF('TD Siniestros Daños'!F55=\"\",\"\",'TD Siniestros Daños'!F55)","v":0},{"$f":"IF('TD Siniestros Daños'!G55=\"\",\"\",'TD Siniestros Daños'!G55)","v":0},0,null,{"$f":"IF('TD Siniestros Daños'!H55=\"\",\"\",'TD Siniestros Daños'!H55)","v":4190779.3663400002},{"$f":"IF('TD Siniestros Daños'!I55=\"\",\"\",'TD Siniestros Daños'!I55)","v":32.153596872210599},{"$f":"IF('TD Siniestros Daños'!J55=\"\",\"\",'TD Siniestros Daños'!J55)","v":9319510.3707699999},{"$f":"IF('TD Siniestros Daños'!K55=\"\",\"\",'TD Siniestros Daños'!K55)","v":32.489455686415724},{"$f":"IF('TD Siniestros Daños'!L55=\"\",\"\",'TD Siniestros Daños'!L55)","v":44.967806243170131},{"$f":"IF('TD Siniestros Daños'!M55=\"\",\"\",'TD Siniestros Daños'!M55)","v":45.082088672401639}]
[null,{"$f":"IF('TD Siniestros Daños'!A56=\"\",\"\",'TD Siniestros Daños'!A56)","v":201.1},{"$f":"IF('TD Siniestros Daños'!B56=\"\",\"\",'TD Siniestros Daños'!B56)","v":"TOTAL"},{"$f":"IF('TD Siniestros Daños'!C56=\"\",\"\",'TD Siniestros Daños'!C56)","v":126891670.49083996},{"$f":"IF('TD Siniestros Daños'!D56=\"\",\"\",'TD Siniestros Daños'!D56)","v":0.29183591418733279},{"$f":"IF('TD Siniestros Daños'!E56=\"\",\"\",'TD Siniestros Daños'!E56)","v":552220.44051999995},{"$f":"IF('TD Siniestros Daños'!F56=\"\",\"\",'TD Siniestros Daños'!F56)","v":44.81029242644405},{"$f":"IF('TD Siniestros Daños'!G56=\"\",\"\",'TD Siniestros Daños'!G56)","v":50.945499302883334},100,null,{"$f":"IF('TD Siniestros Daños'!H56=\"\",\"\",'TD Siniestros Daños'!H56)","v":95434644.052530006},{"$f":"IF('TD Siniestros Daños'!I56=\"\",\"\",'TD Siniestros Daños'!I56)","v":6.5080079641815392},{"$f":"IF('TD Siniestros Daños'!J56=\"\",\"\",'TD Siniestros Daños'!J56)","v":170553872.08862996},{"$f":"IF('TD Siniestros Daños'!K56=\"\",\"\",'TD Siniestros Daños'!K56)","v":15.415170504395693},{"$f":"IF('TD Siniestros Daños'!L56=\"\",\"\",'TD Siniestros Daños'!L56)","v":55.955718204355087},{"$f":"IF('TD Siniestros Daños'!M56=\"\",\"\",'TD Siniestros Daños'!M56)","v":60.635241243300896}]
[null,{"$f":"IF('TD Siniestros Daños'!A57=\"\",\"\",'TD Siniestros Daños'!A57)","v":""},{"$f":"IF('TD Siniestros Daños'!B57=\"\",\"\",'TD Siniestros Daños'!B57)","v":""},{"$f":"IF('TD Siniestros Daños'!C57=\"\",\"\",'TD Siniestros Daños'!C57)","v":""},{"$f":"IF('TD Siniestros Daños'!D57=\"\",\"\",'TD Siniestros Daños'!D57)","v":""},{"$f":"IF('TD Siniestros Daños'!E57=\"\",\"\",'TD Siniestros Daños'!E57)","v":""},{"$f":"IF('TD Siniestros Daños'!F57=\"\",\"\",'TD Siniestros Daños'!F57)","v":""},{"$f":"IF('TD Siniestros Daños'!G57=\"\",\"\",'TD Siniestros Daños'!G57)","v":""},"",null,{"$f":"IF('TD Siniestros Daños'!H57=\"\",\"\",'TD Siniestros Daños'!H57)","v":""},{"$f":"IF('TD Siniestros Daños'!I57=\"\",\"\",'TD Siniestros Daños'!I57)","v":""},{"$f":"IF('TD Siniestros Daños'!J57=\"\",\"\",'TD Siniestros Daños'!J57)","v":""},{"$f":"IF('TD Siniestros Daños'!K57=\"\",\"\",'TD Siniestros Daños'!K57)","v":""},{"$f":"IF('TD Siniestros Daños'!L57=\"\",\"\",'TD Siniestros Daños'!L57)","v":""},{"$f":"IF('TD Siniestros Daños'!M57=\"\",\"\",'TD Siniestros Daños'!M57)","v":""}]
[null,{"$f":"IF('TD Siniestros Daños'!A58=\"\",\"\",'TD Siniestros Daños'!A58)","v":""},{"$f":"IF('TD Siniestros Daños'!B58=\"\",\"\",'TD Siniestros Daños'!B58)","v":""},{"$f":"IF('TD Siniestros Daños'!C58=\"\",\"\",'TD Siniestros Daños'!C58)","v":""},{"$f":"IF('TD Siniestros Daños'!D58=\"\",\"\",'TD Siniestros Daños'!D58)","v":""},{"$f":"IF('TD Siniestros Daños'!E58=\"\",\"\",'TD Siniestros Daños'!E58)","v":""},{"$f":"IF('TD Siniestros Daños'!F58=\"\",\"\",'TD Siniestros Daños'!F58)","v":""},{"$f":"IF('TD Siniestros Daños'!G58=\"\",\"\",'TD Siniestros Daños'!G58)","v":""},"",null,{"$f":"IF('TD Siniestros Daños'!H58=\"\",\"\",'TD Siniestros Daños'!H58)","v":""},{"$f":"IF('TD Siniestros Daños'!I58=\"\",\"\",'TD Siniestros Daños'!I58)","v":""},{"$f":"IF('TD Siniestros Daños'!J58=\"\",\"\",'TD Siniestros Daños'!J58)","v":""},{"$f":"IF('TD Siniestros Daños'!K58=\"\",\"\",'TD Siniestros Daños'!K58)","v":""},{"$f":"IF('TD Siniestros Daños'!L58=\"\",\"\",'TD Siniestros Daños'!L58)","v":""},{"$f":"IF('TD Siniestros Daños'!M58=\"\",\"\",'TD Siniestros Daños'!M58)","v":""}]
[null,{"$f":"IF('TD Siniestros Daños'!A59=\"\",\"\",'TD Siniestros Daños'!A59)","v":""},{"$f":"IF('TD Siniestros Daños'!B59=\"\",\"\",'TD Siniestros Daños'!B59)","v":""},{"$f":"IF('TD Siniestros Daños'!C59=\"\",\"\",'TD Siniestros Daños'!C59)","v":""},{"$f":"IF('TD Siniestros Daños'!D59=\"\",\"\",'TD Siniestros Daños'!D59)","v":""},{"$f":"IF('TD Siniestros Daños'!E59=\"\",\"\",'TD Siniestros Daños'!E59)","v":""},{"$f":"IF('TD Siniestros Daños'!F59=\"\",\"\",'TD Siniestros Daños'!F59)","v":""},{"$f":"IF('TD Siniestros Daños'!G59=\"\",\"\",'TD Siniestros Daños'!G59)","v":""},"",null,{"$f":"IF('TD Siniestros Daños'!H59=\"\",\"\",'TD Siniestros Daños'!H59)","v":""},{"$f":"IF('TD Siniestros Daños'!I59=\"\",\"\",'TD Siniestros Daños'!I59)","v":""},{"$f":"IF('TD Siniestros Daños'!J59=\"\",\"\",'TD Siniestros Daños'!J59)","v":""},{"$f":"IF('TD Siniestros Daños'!K59=\"\",\"\",'TD Siniestros Daños'!K59)","v":""},{"$f":"IF('TD Siniestros Daños'!L59=\"\",\"\",'TD Siniestros Daños'!L59)","v":""},{"$f":"IF('TD Siniestros Daños'!M59=\"\",\"\",'TD Siniestros Daños'!M59)","v":""}]
[null,{"$f":"IF('TD Siniestros Daños'!A60=\"\",\"\",'TD Siniestros Daños'!A60)","v":""},{"$f":"IF('TD Siniestros Daños'!B60=\"\",\"\",'TD Siniestros Daños'!B60)","v":""},{"$f":"IF('TD Siniestros Daños'!C60=\"\",\"\",'TD Siniestros Daños'!C60)","v":""},{"$f":"IF('TD Siniestros Daños'!D60=\"\",\"\",'TD Siniestros Daños'!D60)","v":""},{"$f":"IF('TD Siniestros Daños'!E60=\"\",\"\",'TD Siniestros Daños'!E60)","v":""},{"$f":"IF('TD Siniestros Daños'!F60=\"\",\"\",'TD Siniestros Daños'!F60)","v":""},{"$f":"IF('TD Siniestros Daños'!G60=\"\",\"\",'TD Siniestros Daños'!G60)","v":""},"",null,{"$f":"IF('TD Siniestros Daños'!H60=\"\",\"\",'TD Siniestros Daños'!H60)","v":""},{"$f":"IF('TD Siniestros Daños'!I60=\"\",\"\",'TD Siniestros Daños'!I60)","v":""},{"$f":"IF('TD Siniestros Daños'!J60=\"\",\"\",'TD Siniestros Daños'!J60)","v":""},{"$f":"IF('TD Siniestros Daños'!K60=\"\",\"\",'TD Siniestros Daños'!K60)","v":""},{"$f":"IF('TD Siniestros Daños'!L60=\"\",\"\",'TD Siniestros Daños'!L60)","v":""},{"$f":"IF('TD Siniestros Daños'!M60=\"\",\"\",'TD Siniestros Daños'!M60)","v":""}]
[null,{"$f":"IF('TD Siniestros Daños'!A61=\"\",\"\",'TD Siniestros Daños'!A61)","v":""},{"$f":"IF('TD Siniestros Daños'!B61=\"\",\"\",'TD Siniestros Daños'!B61)","v":""},{"$f":"IF('TD Siniestros Daños'!C61=\"\",\"\",'TD Siniestros Daños'!C61)","v":""},{"$f":"IF('TD Siniestros Daños'!D61=\"\",\"\",'TD Siniestros Daños'!D61)","v":""},{"$f":"IF('TD Siniestros Daños'!E61=\"\",\"\",'TD Siniestros Daños'!E61)","v":""},{"$f":"IF('TD Siniestros Daños'!F61=\"\",\"\",'TD Siniestros Daños'!F61)","v":""},{"$f":"IF('TD Siniestros Daños'!G61=\"\",\"\",'TD Siniestros Daños'!G61)","v":""},"",null,{"$f":"IF('TD Siniestros Daños'!H61=\"\",\"\",'TD Siniestros Daños'!H61)","v":""},{"$f":"IF('TD Siniestros Daños'!I61=\"\",\"\",'TD Siniestros Daños'!I61)","v":""},{"$f":"IF('TD Siniestros Daños'!J61=\"\",\"\",'TD Siniestros Daños'!J61)","v":""},{"$f":"IF('TD Siniestros Daños'!K61=\"\",\"\",'TD Siniestros Daños'!K61)","v":""},{"$f":"IF('TD Siniestros Daños'!L61=\"\",\"\",'TD Siniestros Daños'!L61)","v":""},{"$f":"IF('TD Siniestros Daños'!M61=\"\",\"\",'TD Siniestros Daños'!M61)","v":""}]
[null,{"$f":"IF('TD Siniestros Daños'!A62=\"\",\"\",'TD Siniestros Daños'!A62)","v":""},{"$f":"IF('TD Siniestros Daños'!B62=\"\",\"\",'TD Siniestros Daños'!B62)","v":""},{"$f":"IF('TD Siniestros Daños'!C62=\"\",\"\",'TD Siniestros Daños'!C62)","v":""},{"$f":"IF('TD Siniestros Daños'!D62=\"\",\"\",'TD Siniestros Daños'!D62)","v":""},{"$f":"IF('TD Siniestros Daños'!E62=\"\",\"\",'TD Siniestros Daños'!E62)","v":""},{"$f":"IF('TD Siniestros Daños'!F62=\"\",\"\",'TD Siniestros Daños'!F62)","v":""},{"$f":"IF('TD Siniestros Daños'!G62=\"\",\"\",'TD Siniestros Daños'!G62)","v":""},"",null,{"$f":"IF('TD Siniestros Daños'!H62=\"\",\"\",'TD Siniestros Daños'!H62)","v":""},{"$f":"IF('TD Siniestros Daños'!I62=\"\",\"\",'TD Siniestros Daños'!I62)","v":""},{"$f":"IF('TD Siniestros Daños'!J62=\"\",\"\",'TD Siniestros Daños'!J62)","v":""},{"$f":"IF('TD Siniestros Daños'!K62=\"\",\"\",'TD Siniestros Daños'!K62)","v":""},{"$f":"IF('TD Siniestros Daños'!L62=\"\",\"\",'TD Siniestros Daños'!L62)","v":""},{"$f":"IF('TD Siniestros Daños'!M62=\"\",\"\",'TD Siniestros Daños'!M62)","v":""}]
[null,{"$f":"IF('TD Siniestros Daños'!A63=\"\",\"\",'TD Siniestros Daños'!A63)","v":""},{"$f":"IF('TD Siniestros Daños'!B63=\"\",\"\",'TD Siniestros Daños'!B63)","v":""},{"$f":"IF('TD Siniestros Daños'!C63=\"\",\"\",'TD Siniestros Daños'!C63)","v":""},{"$f":"IF('TD Siniestros Daños'!D63=\"\",\"\",'TD Siniestros Daños'!D63)","v":""},{"$f":"IF('TD Siniestros Daños'!E63=\"\",\"\",'TD Siniestros Daños'!E63)","v":""},{"$f":"IF('TD Siniestros Daños'!F63=\"\",\"\",'TD Siniestros Daños'!F63)","v":""},{"$f":"IF('TD Siniestros Daños'!G63=\"\",\"\",'TD Siniestros Daños'!G63)","v":""},"",null,{"$f":"IF('TD Siniestros Daños'!H63=\"\",\"\",'TD Siniestros Daños'!H63)","v":""},{"$f":"IF('TD Siniestros Daños'!I63=\"\",\"\",'TD Siniestros Daños'!I63)","v":""},{"$f":"IF('TD Siniestros Daños'!J63=\"\",\"\",'TD Siniestros Daños'!J63)","v":""},{"$f":"IF('TD Siniestros Daños'!K63=\"\",\"\",'TD Siniestros Daños'!K63)","v":""},{"$f":"IF('TD Siniestros Daños'!L63=\"\",\"\",'TD Siniestros Daños'!L63)","v":""},{"$f":"IF('TD Siniestros Daños'!M63=\"\",\"\",'TD Siniestros Daños'!M63)","v":""}]
[null,{"$f":"IF('TD Siniestros Daños'!A64=\"\",\"\",'TD Siniestros Daños'!A64)","v":""},{"$f":"IF('TD Siniestros Daños'!B64=\"\",\"\",'TD Siniestros Daños'!B64)","v":""},{"$f":"IF('TD Siniestros Daños'!C64=\"\",\"\",'TD Siniestros Daños'!C64)","v":""},{"$f":"IF('TD Siniestros Daños'!D64=\"\",\"\",'TD Siniestros Daños'!D64)","v":""},{"$f":"IF('TD Siniestros Daños'!E64=\"\",\"\",'TD Siniestros Daños'!E64)","v":""},{"$f":"IF('TD Siniestros Daños'!F64=\"\",\"\",'TD Siniestros Daños'!F64)","v":""},{"$f":"IF('TD Siniestros Daños'!G64=\"\",\"\",'TD Siniestros Daños'!G64)","v":""},"",null,{"$f":"IF('TD Siniestros Daños'!H64=\"\",\"\",'TD Siniestros Daños'!H64)","v":""},{"$f":"IF('TD Siniestros Daños'!I64=\"\",\"\",'TD Siniestros Daños'!I64)","v":""},{"$f":"IF('TD Siniestros Daños'!J64=\"\",\"\",'TD Siniestros Daños'!J64)","v":""},{"$f":"IF('TD Siniestros Daños'!K64=\"\",\"\",'TD Siniestros Daños'!K64)","v":""},{"$f":"IF('TD Siniestros Daños'!L64=\"\",\"\",'TD Siniestros Daños'!L64)","v":""},{"$f":"IF('TD Siniestros Daños'!M64=\"\",\"\",'TD Siniestros Daños'!M64)","v":""}]
[null,{"$f":"IF('TD Siniestros Daños'!A65=\"\",\"\",'TD Siniestros Daños'!A65)","v":""},{"$f":"IF('TD Siniestros Daños'!B65=\"\",\"\",'TD Siniestros Daños'!B65)","v":""},{"$f":"IF('TD Siniestros Daños'!C65=\"\",\"\",'TD Siniestros Daños'!C65)","v":""},{"$f":"IF('TD Siniestros Daños'!D65=\"\",\"\",'TD Siniestros Daños'!D65)","v":""},{"$f":"IF('TD Siniestros Daños'!E65=\"\",\"\",'TD Siniestros Daños'!E65)","v":""},{"$f":"IF('TD Siniestros Daños'!F65=\"\",\"\",'TD Siniestros Daños'!F65)","v":""},{"$f":"IF('TD Siniestros Daños'!G65=\"\",\"\",'TD Siniestros Daños'!G65)","v":""},"",null,{"$f":"IF('TD Siniestros Daños'!H65=\"\",\"\",'TD Siniestros Daños'!H65)","v":""},{"$f":"IF('TD Siniestros Daños'!I65=\"\",\"\",'TD Siniestros Daños'!I65)","v":""},{"$f":"IF('TD Siniestros Daños'!J65=\"\",\"\",'TD Siniestros Daños'!J65)","v":""},{"$f":"IF('TD Siniestros Daños'!K65=\"\",\"\",'TD Siniestros Daños'!K65)","v":""},{"$f":"IF('TD Siniestros Daños'!L65=\"\",\"\",'TD Siniestros Daños'!L65)","v":""},{"$f":"IF('TD Siniestros Daños'!M65=\"\",\"\",'TD Siniestros Daños'!M65)","v":""}]
[null,{"$f":"IF('TD Siniestros Daños'!A66=\"\",\"\",'TD Siniestros Daños'!A66)","v":""},{"$f":"IF('TD Siniestros Daños'!B66=\"\",\"\",'TD Siniestros Daños'!B66)","v":""},{"$f":"IF('TD Siniestros Daños'!C66=\"\",\"\",'TD Siniestros Daños'!C66)","v":""},{"$f":"IF('TD Siniestros Daños'!D66=\"\",\"\",'TD Siniestros Daños'!D66)","v":""},{"$f":"IF('TD Siniestros Daños'!E66=\"\",\"\",'TD Siniestros Daños'!E66)","v":""},{"$f":"IF('TD Siniestros Daños'!F66=\"\",\"\",'TD Siniestros Daños'!F66)","v":""},{"$f":"IF('TD Siniestros Daños'!G66=\"\",\"\",'TD Siniestros Daños'!G66)","v":""},"",null,{"$f":"IF('TD Siniestros Daños'!H66=\"\",\"\",'TD Siniestros Daños'!H66)","v":""},{"$f":"IF('TD Siniestros Daños'!I66=\"\",\"\",'TD Siniestros Daños'!I66)","v":""},{"$f":"IF('TD Siniestros Daños'!J66=\"\",\"\",'TD Siniestros Daños'!J66)","v":""},{"$f":"IF('TD Siniestros Daños'!K66=\"\",\"\",'TD Siniestros Daños'!K66)","v":""},{"$f":"IF('TD Siniestros Daños'!L66=\"\",\"\",'TD Siniestros Daños'!L66)","v":""},{"$f":"IF('TD Siniestros Daños'!M66=\"\",\"\",'TD Siniestros Daños'!M66)","v":""}]
[null,{"$f":"IF('TD Siniestros Daños'!A67=\"\",\"\",'TD Siniestros Daños'!A67)","v":""},{"$f":"IF('TD Siniestros Daños'!B67=\"\",\"\",'TD Siniestros Daños'!B67)","v":""},{"$f":"IF('TD Siniestros Daños'!C67=\"\",\"\",'TD Siniestros Daños'!C67)","v":""},{"$f":"IF('TD Siniestros Daños'!D67=\"\",\"\",'TD Siniestros Daños'!D67)","v":""},{"$f":"IF('TD Siniestros Daños'!E67=\"\",\"\",'TD Siniestros Daños'!E67)","v":""},{"$f":"IF('TD Siniestros Daños'!F67=\"\",\"\",'TD Siniestros Daños'!F67)","v":""},{"$f":"IF('TD Siniestros Daños'!G67=\"\",\"\",'TD Siniestros Daños'!G67)","v":""},"",null,{"$f":"IF('TD Siniestros Daños'!H67=\"\",\"\",'TD Siniestros Daños'!H67)","v":""},{"$f":"IF('TD Siniestros Daños'!I67=\"\",\"\",'TD Siniestros Daños'!I67)","v":""},{"$f":"IF('TD Siniestros Daños'!J67=\"\",\"\",'TD Siniestros Daños'!J67)","v":""},{"$f":"IF('TD Siniestros Daños'!K67=\"\",\"\",'TD Siniestros Daños'!K67)","v":""},{"$f":"IF('TD Siniestros Daños'!L67=\"\",\"\",'TD Siniestros Daños'!L67)","v":""},{"$f":"IF('TD Siniestros Daños'!M67=\"\",\"\",'TD Siniestros Daños'!M67)","v":""}]
[null,{"$f":"IF('TD Siniestros Daños'!A68=\"\",\"\",'TD Siniestros Daños'!A68)","v":""},{"$f":"IF('TD Siniestros Daños'!B68=\"\",\"\",'TD Siniestros Daños'!B68)","v":""},{"$f":"IF('TD Siniestros Daños'!C68=\"\",\"\",'TD Siniestros Daños'!C68)","v":""},{"$f":"IF('TD Siniestros Daños'!D68=\"\",\"\",'TD Siniestros Daños'!D68)","v":""},{"$f":"IF('TD Siniestros Daños'!E68=\"\",\"\",'TD Siniestros Daños'!E68)","v":""},{"$f":"IF('TD Siniestros Daños'!F68=\"\",\"\",'TD Siniestros Daños'!F68)","v":""},{"$f":"IF('TD Siniestros Daños'!G68=\"\",\"\",'TD Siniestros Daños'!G68)","v":""},"",null,{"$f":"IF('TD Siniestros Daños'!H68=\"\",\"\",'TD Siniestros Daños'!H68)","v":""},{"$f":"IF('TD Siniestros Daños'!I68=\"\",\"\",'TD Siniestros Daños'!I68)","v":""},{"$f":"IF('TD Siniestros Daños'!J68=\"\",\"\",'TD Siniestros Daños'!J68)","v":""},{"$f":"IF('TD Siniestros Daños'!K68=\"\",\"\",'TD Siniestros Daños'!K68)","v":""},{"$f":"IF('TD Siniestros Daños'!L68=\"\",\"\",'TD Siniestros Daños'!L68)","v":""},{"$f":"IF('TD Siniestros Daños'!M68=\"\",\"\",'TD Siniestros Daños'!M68)","v":""}]
[null,{"$f":"IF('TD Siniestros Daños'!A69=\"\",\"\",'TD Siniestros Daños'!A69)","v":""},{"$f":"IF('TD Siniestros Daños'!B69=\"\",\"\",'TD Siniestros Daños'!B69)","v":""},{"$f":"IF('TD Siniestros Daños'!C69=\"\",\"\",'TD Siniestros Daños'!C69)","v":""},{"$f":"IF('TD Siniestros Daños'!D69=\"\",\"\",'TD Siniestros Daños'!D69)","v":""},{"$f":"IF('TD Siniestros Daños'!E69=\"\",\"\",'TD Siniestros Daños'!E69)","v":""},{"$f":"IF('TD Siniestros Daños'!F69=\"\",\"\",'TD Siniestros Daños'!F69)","v":""},{"$f":"IF('TD Siniestros Daños'!G69=\"\",\"\",'TD Siniestros Daños'!G69)","v":""},"",null,{"$f":"IF('TD Siniestros Daños'!H69=\"\",\"\",'TD Siniestros Daños'!H69)","v":""},{"$f":"IF('TD Siniestros Daños'!I69=\"\",\"\",'TD Siniestros Daños'!I69)","v":""},{"$f":"IF('TD Siniestros Daños'!J69=\"\",\"\",'TD Siniestros Daños'!J69)","v":""},{"$f":"IF('TD Siniestros Daños'!K69=\"\",\"\",'TD Siniestros Daños'!K69)","v":""},{"$f":"IF('TD Siniestros Daños'!L69=\"\",\"\",'TD Siniestros Daños'!L69)","v":""},{"$f":"IF('TD Siniestros Daños'!M69=\"\",\"\",'TD Siniestros Daños'!M69)","v":""}]
[null,{"$f":"IF('TD Siniestros Daños'!A70=\"\",\"\",'TD Siniestros Daños'!A70)","v":""},{"$f":"IF('TD Siniestros Daños'!B70=\"\",\"\",'TD Siniestros Daños'!B70)","v":""},{"$f":"IF('TD Siniestros Daños'!C70=\"\",\"\",'TD Siniestros Daños'!C70)","v":""},{"$f":"IF('TD Siniestros Daños'!D70=\"\",\"\",'TD Siniestros Daños'!D70)","v":""},{"$f":"IF('TD Siniestros Daños'!E70=\"\",\"\",'TD Siniestros Daños'!E70)","v":""},{"$f":"IF('TD Siniestros Daños'!F70=\"\",\"\",'TD Siniestros Daños'!F70)","v":""},{"$f":"IF('TD Siniestros Daños'!G70=\"\",\"\",'TD Siniestros Daños'!G70)","v":""},"",null,{"$f":"IF('TD Siniestros Daños'!H70=\"\",\"\",'TD Siniestros Daños'!H70)","v":""},{"$f":"IF('TD Siniestros Daños'!I70=\"\",\"\",'TD Siniestros Daños'!I70)","v":""},{"$f":"IF('TD Siniestros Daños'!J70=\"\",\"\",'TD Siniestros Daños'!J70)","v":""},{"$f":"IF('TD Siniestros Daños'!K70=\"\",\"\",'TD Siniestros Daños'!K70)","v":""},{"$f":"IF('TD Siniestros Daños'!L70=\"\",\"\",'TD Siniestros Daños'!L70)","v":""},{"$f":"IF('TD Siniestros Daños'!M70=\"\",\"\",'TD Siniestros Daños'!M70)","v":""}]
[null,{"$f":"IF('TD Siniestros Daños'!A71=\"\",\"\",'TD Siniestros Daños'!A71)","v":""},{"$f":"IF('TD Siniestros Daños'!B71=\"\",\"\",'TD Siniestros Daños'!B71)","v":""},{"$f":"IF('TD Siniestros Daños'!C71=\"\",\"\",'TD Siniestros Daños'!C71)","v":""},{"$f":"IF('TD Siniestros Daños'!D71=\"\",\"\",'TD Siniestros Daños'!D71)","v":""},{"$f":"IF('TD Siniestros Daños'!E71=\"\",\"\",'TD Siniestros Daños'!E71)","v":""},{"$f":"IF('TD Siniestros Daños'!F71=\"\",\"\",'TD Siniestros Daños'!F71)","v":""},{"$f":"IF('TD Siniestros Daños'!G71=\"\",\"\",'TD Siniestros Daños'!G71)","v":""},"",null,{"$f":"IF('TD Siniestros Daños'!H71=\"\",\"\",'TD Siniestros Daños'!H71)","v":""},{"$f":"IF('TD Siniestros Daños'!I71=\"\",\"\",'TD Siniestros Daños'!I71)","v":""},{"$f":"IF('TD Siniestros Daños'!J71=\"\",\"\",'TD Siniestros Daños'!J71)","v":""},{"$f":"IF('TD Siniestros Daños'!K71=\"\",\"\",'TD Siniestros Daños'!K71)","v":""},{"$f":"IF('TD Siniestros Daños'!L71=\"\",\"\",'TD Siniestros Daños'!L71)","v":""},{"$f":"IF('TD Siniestros Daños'!M71=\"\",\"\",'TD Siniestros Daños'!M71)","v":""}]
[null,{"$f":"IF('TD Siniestros Daños'!A72=\"\",\"\",'TD Siniestros Daños'!A72)","v":""},{"$f":"IF('TD Siniestros Daños'!B72=\"\",\"\",'TD Siniestros Daños'!B72)","v":""},{"$f":"IF('TD Siniestros Daños'!C72=\"\",\"\",'TD Siniestros Daños'!C72)","v":""},{"$f":"IF('TD Siniestros Daños'!D72=\"\",\"\",'TD Siniestros Daños'!D72)","v":""},{"$f":"IF('TD Siniestros Daños'!E72=\"\",\"\",'TD Siniestros Daños'!E72)","v":""},{"$f":"IF('TD Siniestros Daños'!F72=\"\",\"\",'TD Siniestros Daños'!F72)","v":""},{"$f":"IF('TD Siniestros Daños'!G72=\"\",\"\",'TD Siniestros Daños'!G72)","v":""},{"$f":"IFERROR(D73/VLOOKUP(\"TOTAL\",$C$8:$D$124,2,0)*100,\"\")","v":""},null,{"$f":"IF('TD Siniestros Daños'!H72=\"\",\"\",'TD Siniestros Daños'!H72)","v":""},{"$f":"IF('TD Siniestros Daños'!I72=\"\",\"\",'TD Siniestros Daños'!I72)","v":""},{"$f":"IF('TD Siniestros Daños'!J72=\"\",\"\",'TD Siniestros Daños'!J72)","v":""},{"$f":"IF('TD Siniestros Daños'!K72=\"\",\"\",'TD Siniestros Daños'!K72)","v":""},{"$f":"IF('TD Siniestros Daños'!L72=\"\",\"\",'TD Siniestros Daños'!L72)","v":""},{"$f":"IF('TD Siniestros Daños'!M72=\"\",\"\",'TD Siniestros Daños'!M72)","v":""}]
[null,{"$f":"IF('TD Siniestros Daños'!A73=\"\",\"\",'TD Siniestros Daños'!A73)","v":""},{"$f":"IF('TD Siniestros Daños'!B73=\"\",\"\",'TD Siniestros Daños'!B73)","v":""},{"$f":"IF('TD Siniestros Daños'!C73=\"\",\"\",'TD Siniestros Daños'!C73)","v":""},{"$f":"IF('TD Siniestros Daños'!D73=\"\",\"\",'TD Siniestros Daños'!D73)","v":""},{"$f":"IF('TD Siniestros Daños'!E73=\"\",\"\",'TD Siniestros Daños'!E73)","v":""},{"$f":"IF('TD Siniestros Daños'!F73=\"\",\"\",'TD Siniestros Daños'!F73)","v":""},{"$f":"IF('TD Siniestros Daños'!G73=\"\",\"\",'TD Siniestros Daños'!G73)","v":""},"",null,{"$f":"IF('TD Siniestros Daños'!H73=\"\",\"\",'TD Siniestros Daños'!H73)","v":""},{"$f":"IF('TD Siniestros Daños'!I73=\"\",\"\",'TD Siniestros Daños'!I73)","v":""},{"$f":"IF('TD Siniestros Daños'!J73=\"\",\"\",'TD Siniestros Daños'!J73)","v":""},{"$f":"IF('TD Siniestros Daños'!K73=\"\",\"\",'TD Siniestros Daños'!K73)","v":""},{"$f":"IF('TD Siniestros Daños'!L73=\"\",\"\",'TD Siniestros Daños'!L73)","v":""},{"$f":"IF('TD Siniestros Daños'!M73=\"\",\"\",'TD Siniestros Daños'!M73)","v":""}]
[null,{"$f":"IF('TD Siniestros Daños'!A74=\"\",\"\",'TD Siniestros Daños'!A74)","v":""},{"$f":"IF('TD Siniestros Daños'!B74=\"\",\"\",'TD Siniestros Daños'!B74)","v":""},{"$f":"IF('TD Siniestros Daños'!C74=\"\",\"\",'TD Siniestros Daños'!C74)","v":""},{"$f":"IF('TD Siniestros Daños'!D74=\"\",\"\",'TD Siniestros Daños'!D74)","v":""},{"$f":"IF('TD Siniestros Daños'!E74=\"\",\"\",'TD Siniestros Daños'!E74)","v":""},{"$f":"IF('TD Siniestros Daños'!F74=\"\",\"\",'TD Siniestros Daños'!F74)","v":""},{"$f":"IF('TD Siniestros Daños'!G74=\"\",\"\",'TD Siniestros Daños'!G74)","v":""},"",null,{"$f":"IF('TD Siniestros Daños'!H74=\"\",\"\",'TD Siniestros Daños'!H74)","v":""},{"$f":"IF('TD Siniestros Daños'!I74=\"\",\"\",'TD Siniestros Daños'!I74)","v":""},{"$f":"IF('TD Siniestros Daños'!J74=\"\",\"\",'TD Siniestros Daños'!J74)","v":""},{"$f":"IF('TD Siniestros Daños'!K74=\"\",\"\",'TD Siniestros Daños'!K74)","v":""},{"$f":"IF('TD Siniestros Daños'!L74=\"\",\"\",'TD Siniestros Daños'!L74)","v":""},{"$f":"IF('TD Siniestros Daños'!M74=\"\",\"\",'TD Siniestros Daños'!M74)","v":""}]
[null,{"$f":"IF('TD Siniestros Daños'!A75=\"\",\"\",'TD Siniestros Daños'!A75)","v":""},{"$f":"IF('TD Siniestros Daños'!B75=\"\",\"\",'TD Siniestros Daños'!B75)","v":""},{"$f":"IF('TD Siniestros Daños'!C75=\"\",\"\",'TD Siniestros Daños'!C75)","v":""},{"$f":"IF('TD Siniestros Daños'!D75=\"\",\"\",'TD Siniestros Daños'!D75)","v":""},{"$f":"IF('TD Siniestros Daños'!E75=\"\",\"\",'TD Siniestros Daños'!E75)","v":""},{"$f":"IF('TD Siniestros Daños'!F75=\"\",\"\",'TD Siniestros Daños'!F75)","v":""},{"$f":"IF('TD Siniestros Daños'!G75=\"\",\"\",'TD Siniestros Daños'!G75)","v":""},"",null,{"$f":"IF('TD Siniestros Daños'!H75=\"\",\"\",'TD Siniestros Daños'!H75)","v":""},{"$f":"IF('TD Siniestros Daños'!I75=\"\",\"\",'TD Siniestros Daños'!I75)","v":""},{"$f":"IF('TD Siniestros Daños'!J75=\"\",\"\",'TD Siniestros Daños'!J75)","v":""},{"$f":"IF('TD Siniestros Daños'!K75=\"\",\"\",'TD Siniestros Daños'!K75)","v":""},{"$f":"IF('TD Siniestros Daños'!L75=\"\",\"\",'TD Siniestros Daños'!L75)","v":""},{"$f":"IF('TD Siniestros Daños'!M75=\"\",\"\",'TD Siniestros Daños'!M75)","v":""}]
[null,{"$f":"IF('TD Siniestros Daños'!A76=\"\",\"\",'TD Siniestros Daños'!A76)","v":""},{"$f":"IF('TD Siniestros Daños'!B76=\"\",\"\",'TD Siniestros Daños'!B76)","v":""},{"$f":"IF('TD Siniestros Daños'!C76=\"\",\"\",'TD Siniestros Daños'!C76)","v":""},{"$f":"IF('TD Siniestros Daños'!D76=\"\",\"\",'TD Siniestros Daños'!D76)","v":""},{"$f":"IF('TD Siniestros Daños'!E76=\"\",\"\",'TD Siniestros Daños'!E76)","v":""},{"$f":"IF('TD Siniestros Daños'!F76=\"\",\"\",'TD Siniestros Daños'!F76)","v":""},{"$f":"IF('TD Siniestros Daños'!G76=\"\",\"\",'TD Siniestros Daños'!G76)","v":""},"",null,{"$f":"IF('TD Siniestros Daños'!H76=\"\",\"\",'TD Siniestros Daños'!H76)","v":""},{"$f":"IF('TD Siniestros Daños'!I76=\"\",\"\",'TD Siniestros Daños'!I76)","v":""},{"$f":"IF('TD Siniestros Daños'!J76=\"\",\"\",'TD Siniestros Daños'!J76)","v":""},{"$f":"IF('TD Siniestros Daños'!K76=\"\",\"\",'TD Siniestros Daños'!K76)","v":""},{"$f":"IF('TD Siniestros Daños'!L76=\"\",\"\",'TD Siniestros Daños'!L76)","v":""},{"$f":"IF('TD Siniestros Daños'!M76=\"\",\"\",'TD Siniestros Daños'!M76)","v":""}]
[null,{"$f":"IF('TD Siniestros Daños'!A77=\"\",\"\",'TD Siniestros Daños'!A77)","v":""},{"$f":"IF('TD Siniestros Daños'!B77=\"\",\"\",'TD Siniestros Daños'!B77)","v":""},{"$f":"IF('TD Siniestros Daños'!C77=\"\",\"\",'TD Siniestros Daños'!C77)","v":""},{"$f":"IF('TD Siniestros Daños'!D77=\"\",\"\",'TD Siniestros Daños'!D77)","v":""},{"$f":"IF('TD Siniestros Daños'!E77=\"\",\"\",'TD Siniestros Daños'!E77)","v":""},{"$f":"IF('TD Siniestros Daños'!F77=\"\",\"\",'TD Siniestros Daños'!F77)","v":""},{"$f":"IF('TD Siniestros Daños'!G77=\"\",\"\",'TD Siniestros Daños'!G77)","v":""},"",null,{"$f":"IF('TD Siniestros Daños'!H77=\"\",\"\",'TD Siniestros Daños'!H77)","v":""},{"$f":"IF('TD Siniestros Daños'!I77=\"\",\"\",'TD Siniestros Daños'!I77)","v":""},{"$f":"IF('TD Siniestros Daños'!J77=\"\",\"\",'TD Siniestros Daños'!J77)","v":""},{"$f":"IF('TD Siniestros Daños'!K77=\"\",\"\",'TD Siniestros Daños'!K77)","v":""},{"$f":"IF('TD Siniestros Daños'!L77=\"\",\"\",'TD Siniestros Daños'!L77)","v":""},{"$f":"IF('TD Siniestros Daños'!M77=\"\",\"\",'TD Siniestros Daños'!M77)","v":""}]
[null,{"$f":"IF('TD Siniestros Daños'!A78=\"\",\"\",'TD Siniestros Daños'!A78)","v":""},{"$f":"IF('TD Siniestros Daños'!B78=\"\",\"\",'TD Siniestros Daños'!B78)","v":""},{"$f":"IF('TD Siniestros Daños'!C78=\"\",\"\",'TD Siniestros Daños'!C78)","v":""},{"$f":"IF('TD Siniestros Daños'!D78=\"\",\"\",'TD Siniestros Daños'!D78)","v":""},{"$f":"IF('TD Siniestros Daños'!E78=\"\",\"\",'TD Siniestros Daños'!E78)","v":""},{"$f":"IF('TD Siniestros Daños'!F78=\"\",\"\",'TD Siniestros Daños'!F78)","v":""},{"$f":"IF('TD Siniestros Daños'!G78=\"\",\"\",'TD Siniestros Daños'!G78)","v":""},"",null,{"$f":"IF('TD Siniestros Daños'!H78=\"\",\"\",'TD Siniestros Daños'!H78)","v":""},{"$f":"IF('TD Siniestros Daños'!I78=\"\",\"\",'TD Siniestros Daños'!I78)","v":""},{"$f":"IF('TD Siniestros Daños'!J78=\"\",\"\",'TD Siniestros Daños'!J78)","v":""},{"$f":"IF('TD Siniestros Daños'!K78=\"\",\"\",'TD Siniestros Daños'!K78)","v":""},{"$f":"IF('TD Siniestros Daños'!L78=\"\",\"\",'TD Siniestros Daños'!L78)","v":""},{"$f":"IF('TD Siniestros Daños'!M78=\"\",\"\",'TD Siniestros Daños'!M78)","v":""}]
[null,{"$f":"IF('TD Siniestros Daños'!A79=\"\",\"\",'TD Siniestros Daños'!A79)","v":""},{"$f":"IF('TD Siniestros Daños'!B79=\"\",\"\",'TD Siniestros Daños'!B79)","v":""},{"$f":"IF('TD Siniestros Daños'!C79=\"\",\"\",'TD Siniestros Daños'!C79)","v":""},{"$f":"IF('TD Siniestros Daños'!D79=\"\",\"\",'TD Siniestros Daños'!D79)","v":""},{"$f":"IF('TD Siniestros Daños'!E79=\"\",\"\",'TD Siniestros Daños'!E79)","v":""},{"$f":"IF('TD Siniestros Daños'!F79=\"\",\"\",'TD Siniestros Daños'!F79)","v":""},{"$f":"IF('TD Siniestros Daños'!G79=\"\",\"\",'TD Siniestros Daños'!G79)","v":""},"",null,{"$f":"IF('TD Siniestros Daños'!H79=\"\",\"\",'TD Siniestros Daños'!H79)","v":""},{"$f":"IF('TD Siniestros Daños'!I79=\"\",\"\",'TD Siniestros Daños'!I79)","v":""},{"$f":"IF('TD Siniestros Daños'!J79=\"\",\"\",'TD Siniestros Daños'!J79)","v":""},{"$f":"IF('TD Siniestros Daños'!K79=\"\",\"\",'TD Siniestros Daños'!K79)","v":""},{"$f":"IF('TD Siniestros Daños'!L79=\"\",\"\",'TD Siniestros Daños'!L79)","v":""},{"$f":"IF('TD Siniestros Daños'!M79=\"\",\"\",'TD Siniestros Daños'!M79)","v":""}]
[null,{"$f":"IF('TD Siniestros Daños'!A80=\"\",\"\",'TD Siniestros Daños'!A80)","v":""},{"$f":"IF('TD Siniestros Daños'!B80=\"\",\"\",'TD Siniestros Daños'!B80)","v":""},{"$f":"IF('TD Siniestros Daños'!C80=\"\",\"\",'TD Siniestros Daños'!C80)","v":""},{"$f":"IF('TD Siniestros Daños'!D80=\"\",\"\",'TD Siniestros Daños'!D80)","v":""},{"$f":"IF('TD Siniestros Daños'!E80=\"\",\"\",'TD Siniestros Daños'!E80)","v":""},{"$f":"IF('TD Siniestros Daños'!F80=\"\",\"\",'TD Siniestros Daños'!F80)","v":""},{"$f":"IF('TD Siniestros Daños'!G80=\"\",\"\",'TD Siniestros Daños'!G80)","v":""},"",null,{"$f":"IF('TD Siniestros Daños'!H80=\"\",\"\",'TD Siniestros Daños'!H80)","v":""},{"$f":"IF('TD Siniestros Daños'!I80=\"\",\"\",'TD Siniestros Daños'!I80)","v":""},{"$f":"IF('TD Siniestros Daños'!J80=\"\",\"\",'TD Siniestros Daños'!J80)","v":""},{"$f":"IF('TD Siniestros Daños'!K80=\"\",\"\",'TD Siniestros Daños'!K80)","v":""},{"$f":"IF('TD Siniestros Daños'!L80=\"\",\"\",'TD Siniestros Daños'!L80)","v":""},{"$f":"IF('TD Siniestros Daños'!M80=\"\",\"\",'TD Siniestros Daños'!M80)","v":""}]
[null,{"$f":"IF('TD Siniestros Daños'!A81=\"\",\"\",'TD Siniestros Daños'!A81)","v":""},{"$f":"IF('TD Siniestros Daños'!B81=\"\",\"\",'TD Siniestros Daños'!B81)","v":""},{"$f":"IF('TD Siniestros Daños'!C81=\"\",\"\",'TD Siniestros Daños'!C81)","v":""},{"$f":"IF('TD Siniestros Daños'!D81=\"\",\"\",'TD Siniestros Daños'!D81)","v":""},{"$f":"IF('TD Siniestros Daños'!E81=\"\",\"\",'TD Siniestros Daños'!E81)","v":""},{"$f":"IF('TD Siniestros Daños'!F81=\"\",\"\",'TD Siniestros Daños'!F81)","v":""},{"$f":"IF('TD Siniestros Daños'!G81=\"\",\"\",'TD Siniestros Daños'!G81)","v":""},"",null,{"$f":"IF('TD Siniestros Daños'!H81=\"\",\"\",'TD Siniestros Daños'!H81)","v":""},{"$f":"IF('TD Siniestros Daños'!I81=\"\",\"\",'TD Siniestros Daños'!I81)","v":""},{"$f":"IF('TD Siniestros Daños'!J81=\"\",\"\",'TD Siniestros Daños'!J81)","v":""},{"$f":"IF('TD Siniestros Daños'!K81=\"\",\"\",'TD Siniestros Daños'!K81)","v":""},{"$f":"IF('TD Siniestros Daños'!L81=\"\",\"\",'TD Siniestros Daños'!L81)","v":""},{"$f":"IF('TD Siniestros Daños'!M81=\"\",\"\",'TD Siniestros Daños'!M81)","v":""}]
[null,{"$f":"IF('TD Siniestros Daños'!A82=\"\",\"\",'TD Siniestros Daños'!A82)","v":""},{"$f":"IF('TD Siniestros Daños'!B82=\"\",\"\",'TD Siniestros Daños'!B82)","v":""},{"$f":"IF('TD Siniestros Daños'!C82=\"\",\"\",'TD Siniestros Daños'!C82)","v":""},{"$f":"IF('TD Siniestros Daños'!D82=\"\",\"\",'TD Siniestros Daños'!D82)","v":""},{"$f":"IF('TD Siniestros Daños'!E82=\"\",\"\",'TD Siniestros Daños'!E82)","v":""},{"$f":"IF('TD Siniestros Daños'!F82=\"\",\"\",'TD Siniestros Daños'!F82)","v":""},{"$f":"IF('TD Siniestros Daños'!G82=\"\",\"\",'TD Siniestros Daños'!G82)","v":""},"",null,{"$f":"IF('TD Siniestros Daños'!H82=\"\",\"\",'TD Siniestros Daños'!H82)","v":""},{"$f":"IF('TD Siniestros Daños'!I82=\"\",\"\",'TD Siniestros Daños'!I82)","v":""},{"$f":"IF('TD Siniestros Daños'!J82=\"\",\"\",'TD Siniestros Daños'!J82)","v":""},{"$f":"IF('TD Siniestros Daños'!K82=\"\",\"\",'TD Siniestros Daños'!K82)","v":""},{"$f":"IF('TD Siniestros Daños'!L82=\"\",\"\",'TD Siniestros Daños'!L82)","v":""},{"$f":"IF('TD Siniestros Daños'!M82=\"\",\"\",'TD Siniestros Daños'!M82)","v":""}]
[null,{"$f":"IF('TD Siniestros Daños'!A83=\"\",\"\",'TD Siniestros Daños'!A83)","v":""},{"$f":"IF('TD Siniestros Daños'!B83=\"\",\"\",'TD Siniestros Daños'!B83)","v":""},{"$f":"IF('TD Siniestros Daños'!C83=\"\",\"\",'TD Siniestros Daños'!C83)","v":""},{"$f":"IF('TD Siniestros Daños'!D83=\"\",\"\",'TD Siniestros Daños'!D83)","v":""},{"$f":"IF('TD Siniestros Daños'!E83=\"\",\"\",'TD Siniestros Daños'!E83)","v":""},{"$f":"IF('TD Siniestros Daños'!F83=\"\",\"\",'TD Siniestros Daños'!F83)","v":""},{"$f":"IF('TD Siniestros Daños'!G83=\"\",\"\",'TD Siniestros Daños'!G83)","v":""},"",null,{"$f":"IF('TD Siniestros Daños'!H83=\"\",\"\",'TD Siniestros Daños'!H83)","v":""},{"$f":"IF('TD Siniestros Daños'!I83=\"\",\"\",'TD Siniestros Daños'!I83)","v":""},{"$f":"IF('TD Siniestros Daños'!J83=\"\",\"\",'TD Siniestros Daños'!J83)","v":""},{"$f":"IF('TD Siniestros Daños'!K83=\"\",\"\",'TD Siniestros Daños'!K83)","v":""},{"$f":"IF('TD Siniestros Daños'!L83=\"\",\"\",'TD Siniestros Daños'!L83)","v":""},{"$f":"IF('TD Siniestros Daños'!M83=\"\",\"\",'TD Siniestros Daños'!M83)","v":""}]
[null,{"$f":"IF('TD Siniestros Daños'!A84=\"\",\"\",'TD Siniestros Daños'!A84)","v":""},{"$f":"IF('TD Siniestros Daños'!B84=\"\",\"\",'TD Siniestros Daños'!B84)","v":""},{"$f":"IF('TD Siniestros Daños'!C84=\"\",\"\",'TD Siniestros Daños'!C84)","v":""},{"$f":"IF('TD Siniestros Daños'!D84=\"\",\"\",'TD Siniestros Daños'!D84)","v":""},{"$f":"IF('TD Siniestros Daños'!E84=\"\",\"\",'TD Siniestros Daños'!E84)","v":""},{"$f":"IF('TD Siniestros Daños'!F84=\"\",\"\",'TD Siniestros Daños'!F84)","v":""},{"$f":"IF('TD Siniestros Daños'!G84=\"\",\"\",'TD Siniestros Daños'!G84)","v":""},"",null,{"$f":"IF('TD Siniestros Daños'!H84=\"\",\"\",'TD Siniestros Daños'!H84)","v":""},{"$f":"IF('TD Siniestros Daños'!I84=\"\",\"\",'TD Siniestros Daños'!I84)","v":""},{"$f":"IF('TD Siniestros Daños'!J84=\"\",\"\",'TD Siniestros Daños'!J84)","v":""},{"$f":"IF('TD Siniestros Daños'!K84=\"\",\"\",'TD Siniestros Daños'!K84)","v":""},{"$f":"IF('TD Siniestros Daños'!L84=\"\",\"\",'TD Siniestros Daños'!L84)","v":""},{"$f":"IF('TD Siniestros Daños'!M84=\"\",\"\",'TD Siniestros Daños'!M84)","v":""}]
[null,{"$f":"IF('TD Siniestros Daños'!A85=\"\",\"\",'TD Siniestros Daños'!A85)","v":""},{"$f":"IF('TD Siniestros Daños'!B85=\"\",\"\",'TD Siniestros Daños'!B85)","v":""},{"$f":"IF('TD Siniestros Daños'!C85=\"\",\"\",'TD Siniestros Daños'!C85)","v":""},{"$f":"IF('TD Siniestros Daños'!D85=\"\",\"\",'TD Siniestros Daños'!D85)","v":""},{"$f":"IF('TD Siniestros Daños'!E85=\"\",\"\",'TD Siniestros Daños'!E85)","v":""},{"$f":"IF('TD Siniestros Daños'!F85=\"\",\"\",'TD Siniestros Daños'!F85)","v":""},{"$f":"IF('TD Siniestros Daños'!G85=\"\",\"\",'TD Siniestros Daños'!G85)","v":""},"",null,{"$f":"IF('TD Siniestros Daños'!H85=\"\",\"\",'TD Siniestros Daños'!H85)","v":""},{"$f":"IF('TD Siniestros Daños'!I85=\"\",\"\",'TD Siniestros Daños'!I85)","v":""},{"$f":"IF('TD Siniestros Daños'!J85=\"\",\"\",'TD Siniestros Daños'!J85)","v":""},{"$f":"IF('TD Siniestros Daños'!K85=\"\",\"\",'TD Siniestros Daños'!K85)","v":""},{"$f":"IF('TD Siniestros Daños'!L85=\"\",\"\",'TD Siniestros Daños'!L85)","v":""},{"$f":"IF('TD Siniestros Daños'!M85=\"\",\"\",'TD Siniestros Daños'!M85)","v":""}]
[null,{"$f":"IF('TD Siniestros Daños'!A86=\"\",\"\",'TD Siniestros Daños'!A86)","v":""},{"$f":"IF('TD Siniestros Daños'!B86=\"\",\"\",'TD Siniestros Daños'!B86)","v":""},{"$f":"IF('TD Siniestros Daños'!C86=\"\",\"\",'TD Siniestros Daños'!C86)","v":""},{"$f":"IF('TD Siniestros Daños'!D86=\"\",\"\",'TD Siniestros Daños'!D86)","v":""},{"$f":"IF('TD Siniestros Daños'!E86=\"\",\"\",'TD Siniestros Daños'!E86)","v":""},{"$f":"IF('TD Siniestros Daños'!F86=\"\",\"\",'TD Siniestros Daños'!F86)","v":""},{"$f":"IF('TD Siniestros Daños'!G86=\"\",\"\",'TD Siniestros Daños'!G86)","v":""},"",null,{"$f":"IF('TD Siniestros Daños'!H86=\"\",\"\",'TD Siniestros Daños'!H86)","v":""},{"$f":"IF('TD Siniestros Daños'!I86=\"\",\"\",'TD Siniestros Daños'!I86)","v":""},{"$f":"IF('TD Siniestros Daños'!J86=\"\",\"\",'TD Siniestros Daños'!J86)","v":""},{"$f":"IF('TD Siniestros Daños'!K86=\"\",\"\",'TD Siniestros Daños'!K86)","v":""},{"$f":"IF('TD Siniestros Daños'!L86=\"\",\"\",'TD Siniestros Daños'!L86)","v":""},{"$f":"IF('TD Siniestros Daños'!M86=\"\",\"\",'TD Siniestros Daños'!M86)","v":""}]
[null,{"$f":"IF('TD Siniestros Daños'!A87=\"\",\"\",'TD Siniestros Daños'!A87)","v":""},{"$f":"IF('TD Siniestros Daños'!B87=\"\",\"\",'TD Siniestros Daños'!B87)","v":""},{"$f":"IF('TD Siniestros Daños'!C87=\"\",\"\",'TD Siniestros Daños'!C87)","v":""},{"$f":"IF('TD Siniestros Daños'!D87=\"\",\"\",'TD Siniestros Daños'!D87)","v":""},{"$f":"IF('TD Siniestros Daños'!E87=\"\",\"\",'TD Siniestros Daños'!E87)","v":""},{"$f":"IF('TD Siniestros Daños'!F87=\"\",\"\",'TD Siniestros Daños'!F87)","v":""},{"$f":"IF('TD Siniestros Daños'!G87=\"\",\"\",'TD Siniestros Daños'!G87)","v":""},"",null,{"$f":"IF('TD Siniestros Daños'!H87=\"\",\"\",'TD Siniestros Daños'!H87)","v":""},{"$f":"IF('TD Siniestros Daños'!I87=\"\",\"\",'TD Siniestros Daños'!I87)","v":""},{"$f":"IF('TD Siniestros Daños'!J87=\"\",\"\",'TD Siniestros Daños'!J87)","v":""},{"$f":"IF('TD Siniestros Daños'!K87=\"\",\"\",'TD Siniestros Daños'!K87)","v":""},{"$f":"IF('TD Siniestros Daños'!L87=\"\",\"\",'TD Siniestros Daños'!L87)","v":""},{"$f":"IF('TD Siniestros Daños'!M87=\"\",\"\",'TD Siniestros Daños'!M87)","v":""}]
[null,{"$f":"IF('TD Siniestros Daños'!A88=\"\",\"\",'TD Siniestros Daños'!A88)","v":""},{"$f":"IF('TD Siniestros Daños'!B88=\"\",\"\",'TD Siniestros Daños'!B88)","v":""},{"$f":"IF('TD Siniestros Daños'!C88=\"\",\"\",'TD Siniestros Daños'!C88)","v":""},{"$f":"IF('TD Siniestros Daños'!D88=\"\",\"\",'TD Siniestros Daños'!D88)","v":""},{"$f":"IF('TD Siniestros Daños'!E88=\"\",\"\",'TD Siniestros Daños'!E88)","v":""},{"$f":"IF('TD Siniestros Daños'!F88=\"\",\"\",'TD Siniestros Daños'!F88)","v":""},{"$f":"IF('TD Siniestros Daños'!G88=\"\",\"\",'TD Siniestros Daños'!G88)","v":""},"",null,{"$f":"IF('TD Siniestros Daños'!H88=\"\",\"\",'TD Siniestros Daños'!H88)","v":""},{"$f":"IF('TD Siniestros Daños'!I88=\"\",\"\",'TD Siniestros Daños'!I88)","v":""},{"$f":"IF('TD Siniestros Daños'!J88=\"\",\"\",'TD Siniestros Daños'!J88)","v":""},{"$f":"IF('TD Siniestros Daños'!K88=\"\",\"\",'TD Siniestros Daños'!K88)","v":""},{"$f":"IF('TD Siniestros Daños'!L88=\"\",\"\",'TD Siniestros Daños'!L88)","v":""},{"$f":"IF('TD Siniestros Daños'!M88=\"\",\"\",'TD Siniestros Daños'!M88)","v":""}]
[null,{"$f":"IF('TD Siniestros Daños'!A89=\"\",\"\",'TD Siniestros Daños'!A89)","v":""},{"$f":"IF('TD Siniestros Daños'!B89=\"\",\"\",'TD Siniestros Daños'!B89)","v":""},{"$f":"IF('TD Siniestros Daños'!C89=\"\",\"\",'TD Siniestros Daños'!C89)","v":""},{"$f":"IF('TD Siniestros Daños'!D89=\"\",\"\",'TD Siniestros Daños'!D89)","v":""},{"$f":"IF('TD Siniestros Daños'!E89=\"\",\"\",'TD Siniestros Daños'!E89)","v":""},{"$f":"IF('TD Siniestros Daños'!F89=\"\",\"\",'TD Siniestros Daños'!F89)","v":""},{"$f":"IF('TD Siniestros Daños'!G89=\"\",\"\",'TD Siniestros Daños'!G89)","v":""},"",null,{"$f":"IF('TD Siniestros Daños'!H89=\"\",\"\",'TD Siniestros Daños'!H89)","v":""},{"$f":"IF('TD Siniestros Daños'!I89=\"\",\"\",'TD Siniestros Daños'!I89)","v":""},{"$f":"IF('TD Siniestros Daños'!J89=\"\",\"\",'TD Siniestros Daños'!J89)","v":""},{"$f":"IF('TD Siniestros Daños'!K89=\"\",\"\",'TD Siniestros Daños'!K89)","v":""},{"$f":"IF('TD Siniestros Daños'!L89=\"\",\"\",'TD Siniestros Daños'!L89)","v":""},{"$f":"IF('TD Siniestros Daños'!M89=\"\",\"\",'TD Siniestros Daños'!M89)","v":""}]
[null,{"$f":"IF('TD Siniestros Daños'!A90=\"\",\"\",'TD Siniestros Daños'!A90)","v":""},{"$f":"IF('TD Siniestros Daños'!B90=\"\",\"\",'TD Siniestros Daños'!B90)","v":""},{"$f":"IF('TD Siniestros Daños'!C90=\"\",\"\",'TD Siniestros Daños'!C90)","v":""},{"$f":"IF('TD Siniestros Daños'!D90=\"\",\"\",'TD Siniestros Daños'!D90)","v":""},{"$f":"IF('TD Siniestros Daños'!E90=\"\",\"\",'TD Siniestros Daños'!E90)","v":""},{"$f":"IF('TD Siniestros Daños'!F90=\"\",\"\",'TD Siniestros Daños'!F90)","v":""},{"$f":"IF('TD Siniestros Daños'!G90=\"\",\"\",'TD Siniestros Daños'!G90)","v":""},"",null,{"$f":"IF('TD Siniestros Daños'!H90=\"\",\"\",'TD Siniestros Daños'!H90)","v":""},{"$f":"IF('TD Siniestros Daños'!I90=\"\",\"\",'TD Siniestros Daños'!I90)","v":""},{"$f":"IF('TD Siniestros Daños'!J90=\"\",\"\",'TD Siniestros Daños'!J90)","v":""},{"$f":"IF('TD Siniestros Daños'!K90=\"\",\"\",'TD Siniestros Daños'!K90)","v":""},{"$f":"IF('TD Siniestros Daños'!L90=\"\",\"\",'TD Siniestros Daños'!L90)","v":""},{"$f":"IF('TD Siniestros Daños'!M90=\"\",\"\",'TD Siniestros Daños'!M90)","v":""}]
[null,{"$f":"IF('TD Siniestros Daños'!A91=\"\",\"\",'TD Siniestros Daños'!A91)","v":""},{"$f":"IF('TD Siniestros Daños'!B91=\"\",\"\",'TD Siniestros Daños'!B91)","v":""},{"$f":"IF('TD Siniestros Daños'!C91=\"\",\"\",'TD Siniestros Daños'!C91)","v":""},{"$f":"IF('TD Siniestros Daños'!D91=\"\",\"\",'TD Siniestros Daños'!D91)","v":""},{"$f":"IF('TD Siniestros Daños'!E91=\"\",\"\",'TD Siniestros Daños'!E91)","v":""},{"$f":"IF('TD Siniestros Daños'!F91=\"\",\"\",'TD Siniestros Daños'!F91)","v":""},{"$f":"IF('TD Siniestros Daños'!G91=\"\",\"\",'TD Siniestros Daños'!G91)","v":""},"",null,{"$f":"IF('TD Siniestros Daños'!H91=\"\",\"\",'TD Siniestros Daños'!H91)","v":""},{"$f":"IF('TD Siniestros Daños'!I91=\"\",\"\",'TD Siniestros Daños'!I91)","v":""},{"$f":"IF('TD Siniestros Daños'!J91=\"\",\"\",'TD Siniestros Daños'!J91)","v":""},{"$f":"IF('TD Siniestros Daños'!K91=\"\",\"\",'TD Siniestros Daños'!K91)","v":""},{"$f":"IF('TD Siniestros Daños'!L91=\"\",\"\",'TD Siniestros Daños'!L91)","v":""},{"$f":"IF('TD Siniestros Daños'!M91=\"\",\"\",'TD Siniestros Daños'!M91)","v":""}]
[null,{"$f":"IF('TD Siniestros Daños'!A92=\"\",\"\",'TD Siniestros Daños'!A92)","v":""},{"$f":"IF('TD Siniestros Daños'!B92=\"\",\"\",'TD Siniestros Daños'!B92)","v":""},{"$f":"IF('TD Siniestros Daños'!C92=\"\",\"\",'TD Siniestros Daños'!C92)","v":""},{"$f":"IF('TD Siniestros Daños'!D92=\"\",\"\",'TD Siniestros Daños'!D92)","v":""},{"$f":"IF('TD Siniestros Daños'!E92=\"\",\"\",'TD Siniestros Daños'!E92)","v":""},{"$f":"IF('TD Siniestros Daños'!F92=\"\",\"\",'TD Siniestros Daños'!F92)","v":""},{"$f":"IF('TD Siniestros Daños'!G92=\"\",\"\",'TD Siniestros Daños'!G92)","v":""},"",null,{"$f":"IF('TD Siniestros Daños'!H92=\"\",\"\",'TD Siniestros Daños'!H92)","v":""},{"$f":"IF('TD Siniestros Daños'!I92=\"\",\"\",'TD Siniestros Daños'!I92)","v":""},{"$f":"IF('TD Siniestros Daños'!J92=\"\",\"\",'TD Siniestros Daños'!J92)","v":""},{"$f":"IF('TD Siniestros Daños'!K92=\"\",\"\",'TD Siniestros Daños'!K92)","v":""},{"$f":"IF('TD Siniestros Daños'!L92=\"\",\"\",'TD Siniestros Daños'!L92)","v":""},{"$f":"IF('TD Siniestros Daños'!M92=\"\",\"\",'TD Siniestros Daños'!M92)","v":""}]
[null,{"$f":"IF('TD Siniestros Daños'!A93=\"\",\"\",'TD Siniestros Daños'!A93)","v":""},{"$f":"IF('TD Siniestros Daños'!B93=\"\",\"\",'TD Siniestros Daños'!B93)","v":""},{"$f":"IF('TD Siniestros Daños'!C93=\"\",\"\",'TD Siniestros Daños'!C93)","v":""},{"$f":"IF('TD Siniestros Daños'!D93=\"\",\"\",'TD Siniestros Daños'!D93)","v":""},{"$f":"IF('TD Siniestros Daños'!E93=\"\",\"\",'TD Siniestros Daños'!E93)","v":""},{"$f":"IF('TD Siniestros Daños'!F93=\"\",\"\",'TD Siniestros Daños'!F93)","v":""},{"$f":"IF('TD Siniestros Daños'!G93=\"\",\"\",'TD Siniestros Daños'!G93)","v":""},"",null,{"$f":"IF('TD Siniestros Daños'!H93=\"\",\"\",'TD Siniestros Daños'!H93)","v":""},{"$f":"IF('TD Siniestros Daños'!I93=\"\",\"\",'TD Siniestros Daños'!I93)","v":""},{"$f":"IF('TD Siniestros Daños'!J93=\"\",\"\",'TD Siniestros Daños'!J93)","v":""},{"$f":"IF('TD Siniestros Daños'!K93=\"\",\"\",'TD Siniestros Daños'!K93)","v":""},{"$f":"IF('TD Siniestros Daños'!L93=\"\",\"\",'TD Siniestros Daños'!L93)","v":""},{"$f":"IF('TD Siniestros Daños'!M93=\"\",\"\",'TD Siniestros Daños'!M93)","v":""}]
[null,{"$f":"IF('TD Siniestros Daños'!A94=\"\",\"\",'TD Siniestros Daños'!A94)","v":""},{"$f":"IF('TD Siniestros Daños'!B94=\"\",\"\",'TD Siniestros Daños'!B94)","v":""},{"$f":"IF('TD Siniestros Daños'!C94=\"\",\"\",'TD Siniestros Daños'!C94)","v":""},{"$f":"IF('TD Siniestros Daños'!D94=\"\",\"\",'TD Siniestros Daños'!D94)","v":""},{"$f":"IF('TD Siniestros Daños'!E94=\"\",\"\",'TD Siniestros Daños'!E94)","v":""},{"$f":"IF('TD Siniestros Daños'!F94=\"\",\"\",'TD Siniestros Daños'!F94)","v":""},{"$f":"IF('TD Siniestros Daños'!G94=\"\",\"\",'TD Siniestros Daños'!G94)","v":""},"",null,{"$f":"IF('TD Siniestros Daños'!H94=\"\",\"\",'TD Siniestros Daños'!H94)","v":""},{"$f":"IF('TD Siniestros Daños'!I94=\"\",\"\",'TD Siniestros Daños'!I94)","v":""},{"$f":"IF('TD Siniestros Daños'!J94=\"\",\"\",'TD Siniestros Daños'!J94)","v":""},{"$f":"IF('TD Siniestros Daños'!K94=\"\",\"\",'TD Siniestros Daños'!K94)","v":""},{"$f":"IF('TD Siniestros Daños'!L94=\"\",\"\",'TD Siniestros Daños'!L94)","v":""},{"$f":"IF('TD Siniestros Daños'!M94=\"\",\"\",'TD Siniestros Daños'!M94)","v":""}]
[null,{"$f":"IF('TD Siniestros Daños'!A95=\"\",\"\",'TD Siniestros Daños'!A95)","v":""},{"$f":"IF('TD Siniestros Daños'!B95=\"\",\"\",'TD Siniestros Daños'!B95)","v":""},{"$f":"IF('TD Siniestros Daños'!C95=\"\",\"\",'TD Siniestros Daños'!C95)","v":""},{"$f":"IF('TD Siniestros Daños'!D95=\"\",\"\",'TD Siniestros Daños'!D95)","v":""},{"$f":"IF('TD Siniestros Daños'!E95=\"\",\"\",'TD Siniestros Daños'!E95)","v":""},{"$f":"IF('TD Siniestros Daños'!F95=\"\",\"\",'TD Siniestros Daños'!F95)","v":""},{"$f":"IF('TD Siniestros Daños'!G95=\"\",\"\",'TD Siniestros Daños'!G95)","v":""},"",null,{"$f":"IF('TD Siniestros Daños'!H95=\"\",\"\",'TD Siniestros Daños'!H95)","v":""},{"$f":"IF('TD Siniestros Daños'!I95=\"\",\"\",'TD Siniestros Daños'!I95)","v":""},{"$f":"IF('TD Siniestros Daños'!J95=\"\",\"\",'TD Siniestros Daños'!J95)","v":""},{"$f":"IF('TD Siniestros Daños'!K95=\"\",\"\",'TD Siniestros Daños'!K95)","v":""},{"$f":"IF('TD Siniestros Daños'!L95=\"\",\"\",'TD Siniestros Daños'!L95)","v":""},{"$f":"IF('TD Siniestros Daños'!M95=\"\",\"\",'TD Siniestros Daños'!M95)","v":""}]
[null,{"$f":"IF('TD Siniestros Daños'!A96=\"\",\"\",'TD Siniestros Daños'!A96)","v":""},{"$f":"IF('TD Siniestros Daños'!B96=\"\",\"\",'TD Siniestros Daños'!B96)","v":""},{"$f":"IF('TD Siniestros Daños'!C96=\"\",\"\",'TD Siniestros Daños'!C96)","v":""},{"$f":"IF('TD Siniestros Daños'!D96=\"\",\"\",'TD Siniestros Daños'!D96)","v":""},{"$f":"IF('TD Siniestros Daños'!E96=\"\",\"\",'TD Siniestros Daños'!E96)","v":""},{"$f":"IF('TD Siniestros Daños'!F96=\"\",\"\",'TD Siniestros Daños'!F96)","v":""},{"$f":"IF('TD Siniestros Daños'!G96=\"\",\"\",'TD Siniestros Daños'!G96)","v":""},"",null,{"$f":"IF('TD Siniestros Daños'!H96=\"\",\"\",'TD Siniestros Daños'!H96)","v":""},{"$f":"IF('TD Siniestros Daños'!I96=\"\",\"\",'TD Siniestros Daños'!I96)","v":""},{"$f":"IF('TD Siniestros Daños'!J96=\"\",\"\",'TD Siniestros Daños'!J96)","v":""},{"$f":"IF('TD Siniestros Daños'!K96=\"\",\"\",'TD Siniestros Daños'!K96)","v":""},{"$f":"IF('TD Siniestros Daños'!L96=\"\",\"\",'TD Siniestros Daños'!L96)","v":""},{"$f":"IF('TD Siniestros Daños'!M96=\"\",\"\",'TD Siniestros Daños'!M96)","v":""}]
[null,{"$f":"IF('TD Siniestros Daños'!A97=\"\",\"\",'TD Siniestros Daños'!A97)","v":""},{"$f":"IF('TD Siniestros Daños'!B97=\"\",\"\",'TD Siniestros Daños'!B97)","v":""},{"$f":"IF('TD Siniestros Daños'!C97=\"\",\"\",'TD Siniestros Daños'!C97)","v":""},{"$f":"IF('TD Siniestros Daños'!D97=\"\",\"\",'TD Siniestros Daños'!D97)","v":""},{"$f":"IF('TD Siniestros Daños'!E97=\"\",\"\",'TD Siniestros Daños'!E97)","v":""},{"$f":"IF('TD Siniestros Daños'!F97=\"\",\"\",'TD Siniestros Daños'!F97)","v":""},{"$f":"IF('TD Siniestros Daños'!G97=\"\",\"\",'TD Siniestros Daños'!G97)","v":""},"",null,{"$f":"IF('TD Siniestros Daños'!H97=\"\",\"\",'TD Siniestros Daños'!H97)","v":""},{"$f":"IF('TD Siniestros Daños'!I97=\"\",\"\",'TD Siniestros Daños'!I97)","v":""},{"$f":"IF('TD Siniestros Daños'!J97=\"\",\"\",'TD Siniestros Daños'!J97)","v":""},{"$f":"IF('TD Siniestros Daños'!K97=\"\",\"\",'TD Siniestros Daños'!K97)","v":""},{"$f":"IF('TD Siniestros Daños'!L97=\"\",\"\",'TD Siniestros Daños'!L97)","v":""},{"$f":"IF('TD Siniestros Daños'!M97=\"\",\"\",'TD Siniestros Daños'!M97)","v":""}]
[null,{"$f":"IF('TD Siniestros Daños'!A98=\"\",\"\",'TD Siniestros Daños'!A98)","v":""},{"$f":"IF('TD Siniestros Daños'!B98=\"\",\"\",'TD Siniestros Daños'!B98)","v":""},{"$f":"IF('TD Siniestros Daños'!C98=\"\",\"\",'TD Siniestros Daños'!C98)","v":""},{"$f":"IF('TD Siniestros Daños'!D98=\"\",\"\",'TD Siniestros Daños'!D98)","v":""},{"$f":"IF('TD Siniestros Daños'!E98=\"\",\"\",'TD Siniestros Daños'!E98)","v":""},{"$f":"IF('TD Siniestros Daños'!F98=\"\",\"\",'TD Siniestros Daños'!F98)","v":""},{"$f":"IF('TD Siniestros Daños'!G98=\"\",\"\",'TD Siniestros Daños'!G98)","v":""},"",null,{"$f":"IF('TD Siniestros Daños'!H98=\"\",\"\",'TD Siniestros Daños'!H98)","v":""},{"$f":"IF('TD Siniestros Daños'!I98=\"\",\"\",'TD Siniestros Daños'!I98)","v":""},{"$f":"IF('TD Siniestros Daños'!J98=\"\",\"\",'TD Siniestros Daños'!J98)","v":""},{"$f":"IF('TD Siniestros Daños'!K98=\"\",\"\",'TD Siniestros Daños'!K98)","v":""},{"$f":"IF('TD Siniestros Daños'!L98=\"\",\"\",'TD Siniestros Daños'!L98)","v":""},{"$f":"IF('TD Siniestros Daños'!M98=\"\",\"\",'TD Siniestros Daños'!M98)","v":""}]
[null,{"$f":"IF('TD Siniestros Daños'!A99=\"\",\"\",'TD Siniestros Daños'!A99)","v":""},{"$f":"IF('TD Siniestros Daños'!B99=\"\",\"\",'TD Siniestros Daños'!B99)","v":""},{"$f":"IF('TD Siniestros Daños'!C99=\"\",\"\",'TD Siniestros Daños'!C99)","v":""},{"$f":"IF('TD Siniestros Daños'!D99=\"\",\"\",'TD Siniestros Daños'!D99)","v":""},{"$f":"IF('TD Siniestros Daños'!E99=\"\",\"\",'TD Siniestros Daños'!E99)","v":""},{"$f":"IF('TD Siniestros Daños'!F99=\"\",\"\",'TD Siniestros Daños'!F99)","v":""},{"$f":"IF('TD Siniestros Daños'!G99=\"\",\"\",'TD Siniestros Daños'!G99)","v":""},"",null,{"$f":"IF('TD Siniestros Daños'!H99=\"\",\"\",'TD Siniestros Daños'!H99)","v":""},{"$f":"IF('TD Siniestros Daños'!I99=\"\",\"\",'TD Siniestros Daños'!I99)","v":""},{"$f":"IF('TD Siniestros Daños'!J99=\"\",\"\",'TD Siniestros Daños'!J99)","v":""},{"$f":"IF('TD Siniestros Daños'!K99=\"\",\"\",'TD Siniestros Daños'!K99)","v":""},{"$f":"IF('TD Siniestros Daños'!L99=\"\",\"\",'TD Siniestros Daños'!L99)","v":""},{"$f":"IF('TD Siniestros Daños'!M99=\"\",\"\",'TD Siniestros Daños'!M99)","v":""}]
[null,{"$f":"IF('TD Siniestros Daños'!A100=\"\",\"\",'TD Siniestros Daños'!A100)","v":""},{"$f":"IF('TD Siniestros Daños'!B100=\"\",\"\",'TD Siniestros Daños'!B100)","v":""},{"$f":"IF('TD Siniestros Daños'!C100=\"\",\"\",'TD Siniestros Daños'!C100)","v":""},{"$f":"IF('TD Siniestros Daños'!D100=\"\",\"\",'TD Siniestros Daños'!D100)","v":""},{"$f":"IF('TD Siniestros Daños'!E100=\"\",\"\",'TD Siniestros Daños'!E100)","v":""},{"$f":"IF('TD Siniestros Daños'!F100=\"\",\"\",'TD Siniestros Daños'!F100)","v":""},{"$f":"IF('TD Siniestros Daños'!G100=\"\",\"\",'TD Siniestros Daños'!G100)","v":""},"",null,{"$f":"IF('TD Siniestros Daños'!H100=\"\",\"\",'TD Siniestros Daños'!H100)","v":""},{"$f":"IF('TD Siniestros Daños'!I100=\"\",\"\",'TD Siniestros Daños'!I100)","v":""},{"$f":"IF('TD Siniestros Daños'!J100=\"\",\"\",'TD Siniestros Daños'!J100)","v":""},{"$f":"IF('TD Siniestros Daños'!K100=\"\",\"\",'TD Siniestros Daños'!K100)","v":""},{"$f":"IF('TD Siniestros Daños'!L100=\"\",\"\",'TD Siniestros Daños'!L100)","v":""},{"$f":"IF('TD Siniestros Daños'!M100=\"\",\"\",'TD Siniestros Daños'!M100)","v":""}]
[null,{"$f":"IF('TD Siniestros Daños'!A101=\"\",\"\",'TD Siniestros Daños'!A101)","v":""},{"$f":"IF('TD Siniestros Daños'!B101=\"\",\"\",'TD Siniestros Daños'!B101)","v":""},{"$f":"IF('TD Siniestros Daños'!C101=\"\",\"\",'TD Siniestros Daños'!C101)","v":""},{"$f":"IF('TD Siniestros Daños'!D101=\"\",\"\",'TD Siniestros Daños'!D101)","v":""},{"$f":"IF('TD Siniestros Daños'!E101=\"\",\"\",'TD Siniestros Daños'!E101)","v":""},{"$f":"IF('TD Siniestros Daños'!F101=\"\",\"\",'TD Siniestros Daños'!F101)","v":""},{"$f":"IF('TD Siniestros Daños'!G101=\"\",\"\",'TD Siniestros Daños'!G101)","v":""},"",null,{"$f":"IF('TD Siniestros Daños'!H101=\"\",\"\",'TD Siniestros Daños'!H101)","v":""},{"$f":"IF('TD Siniestros Daños'!I101=\"\",\"\",'TD Siniestros Daños'!I101)","v":""},{"$f":"IF('TD Siniestros Daños'!J101=\"\",\"\",'TD Siniestros Daños'!J101)","v":""},{"$f":"IF('TD Siniestros Daños'!K101=\"\",\"\",'TD Siniestros Daños'!K101)","v":""},{"$f":"IF('TD Siniestros Daños'!L101=\"\",\"\",'TD Siniestros Daños'!L101)","v":""},{"$f":"IF('TD Siniestros Daños'!M101=\"\",\"\",'TD Siniestros Daños'!M101)","v":""}]
[null,{"$f":"IF('TD Siniestros Daños'!A102=\"\",\"\",'TD Siniestros Daños'!A102)","v":""},{"$f":"IF('TD Siniestros Daños'!B102=\"\",\"\",'TD Siniestros Daños'!B102)","v":""},{"$f":"IF('TD Siniestros Daños'!C102=\"\",\"\",'TD Siniestros Daños'!C102)","v":""},{"$f":"IF('TD Siniestros Daños'!D102=\"\",\"\",'TD Siniestros Daños'!D102)","v":""},{"$f":"IF('TD Siniestros Daños'!E102=\"\",\"\",'TD Siniestros Daños'!E102)","v":""},{"$f":"IF('TD Siniestros Daños'!F102=\"\",\"\",'TD Siniestros Daños'!F102)","v":""},{"$f":"IF('TD Siniestros Daños'!G102=\"\",\"\",'TD Siniestros Daños'!G102)","v":""},"",null,{"$f":"IF('TD Siniestros Daños'!H102=\"\",\"\",'TD Siniestros Daños'!H102)","v":""},{"$f":"IF('TD Siniestros Daños'!I102=\"\",\"\",'TD Siniestros Daños'!I102)","v":""},{"$f":"IF('TD Siniestros Daños'!J102=\"\",\"\",'TD Siniestros Daños'!J102)","v":""},{"$f":"IF('TD Siniestros Daños'!K102=\"\",\"\",'TD Siniestros Daños'!K102)","v":""},{"$f":"IF('TD Siniestros Daños'!L102=\"\",\"\",'TD Siniestros Daños'!L102)","v":""},{"$f":"IF('TD Siniestros Daños'!M102=\"\",\"\",'TD Siniestros Daños'!M102)","v":""}]
[null,{"$f":"IF('TD Siniestros Daños'!A103=\"\",\"\",'TD Siniestros Daños'!A103)","v":""},{"$f":"IF('TD Siniestros Daños'!B103=\"\",\"\",'TD Siniestros Daños'!B103)","v":""},{"$f":"IF('TD Siniestros Daños'!C103=\"\",\"\",'TD Siniestros Daños'!C103)","v":""},{"$f":"IF('TD Siniestros Daños'!D103=\"\",\"\",'TD Siniestros Daños'!D103)","v":""},{"$f":"IF('TD Siniestros Daños'!E103=\"\",\"\",'TD Siniestros Daños'!E103)","v":""},{"$f":"IF('TD Siniestros Daños'!F103=\"\",\"\",'TD Siniestros Daños'!F103)","v":""},{"$f":"IF('TD Siniestros Daños'!G103=\"\",\"\",'TD Siniestros Daños'!G103)","v":""},"",null,{"$f":"IF('TD Siniestros Daños'!H103=\"\",\"\",'TD Siniestros Daños'!H103)","v":""},{"$f":"IF('TD Siniestros Daños'!I103=\"\",\"\",'TD Siniestros Daños'!I103)","v":""},{"$f":"IF('TD Siniestros Daños'!J103=\"\",\"\",'TD Siniestros Daños'!J103)","v":""},{"$f":"IF('TD Siniestros Daños'!K103=\"\",\"\",'TD Siniestros Daños'!K103)","v":""},{"$f":"IF('TD Siniestros Daños'!L103=\"\",\"\",'TD Siniestros Daños'!L103)","v":""},{"$f":"IF('TD Siniestros Daños'!M103=\"\",\"\",'TD Siniestros Daños'!M103)","v":""}]
[null,{"$f":"IF('TD Siniestros Daños'!A104=\"\",\"\",'TD Siniestros Daños'!A104)","v":""},{"$f":"IF('TD Siniestros Daños'!B104=\"\",\"\",'TD Siniestros Daños'!B104)","v":""},{"$f":"IF('TD Siniestros Daños'!C104=\"\",\"\",'TD Siniestros Daños'!C104)","v":""},{"$f":"IF('TD Siniestros Daños'!D104=\"\",\"\",'TD Siniestros Daños'!D104)","v":""},{"$f":"IF('TD Siniestros Daños'!E104=\"\",\"\",'TD Siniestros Daños'!E104)","v":""},{"$f":"IF('TD Siniestros Daños'!F104=\"\",\"\",'TD Siniestros Daños'!F104)","v":""},{"$f":"IF('TD Siniestros Daños'!G104=\"\",\"\",'TD Siniestros Daños'!G104)","v":""},"",null,{"$f":"IF('TD Siniestros Daños'!H104=\"\",\"\",'TD Siniestros Daños'!H104)","v":""},{"$f":"IF('TD Siniestros Daños'!I104=\"\",\"\",'TD Siniestros Daños'!I104)","v":""},{"$f":"IF('TD Siniestros Daños'!J104=\"\",\"\",'TD Siniestros Daños'!J104)","v":""},{"$f":"IF('TD Siniestros Daños'!K104=\"\",\"\",'TD Siniestros Daños'!K104)","v":""},{"$f":"IF('TD Siniestros Daños'!L104=\"\",\"\",'TD Siniestros Daños'!L104)","v":""},{"$f":"IF('TD Siniestros Daños'!M104=\"\",\"\",'TD Siniestros Daños'!M104)","v":""}]
[null,{"$f":"IF('TD Siniestros Daños'!A105=\"\",\"\",'TD Siniestros Daños'!A105)","v":""},{"$f":"IF('TD Siniestros Daños'!B105=\"\",\"\",'TD Siniestros Daños'!B105)","v":""},{"$f":"IF('TD Siniestros Daños'!C105=\"\",\"\",'TD Siniestros Daños'!C105)","v":""},{"$f":"IF('TD Siniestros Daños'!D105=\"\",\"\",'TD Siniestros Daños'!D105)","v":""},{"$f":"IF('TD Siniestros Daños'!E105=\"\",\"\",'TD Siniestros Daños'!E105)","v":""},{"$f":"IF('TD Siniestros Daños'!F105=\"\",\"\",'TD Siniestros Daños'!F105)","v":""},{"$f":"IF('TD Siniestros Daños'!G105=\"\",\"\",'TD Siniestros Daños'!G105)","v":""},"",null,{"$f":"IF('TD Siniestros Daños'!H105=\"\",\"\",'TD Siniestros Daños'!H105)","v":""},{"$f":"IF('TD Siniestros Daños'!I105=\"\",\"\",'TD Siniestros Daños'!I105)","v":""},{"$f":"IF('TD Siniestros Daños'!J105=\"\",\"\",'TD Siniestros Daños'!J105)","v":""},{"$f":"IF('TD Siniestros Daños'!K105=\"\",\"\",'TD Siniestros Daños'!K105)","v":""},{"$f":"IF('TD Siniestros Daños'!L105=\"\",\"\",'TD Siniestros Daños'!L105)","v":""},{"$f":"IF('TD Siniestros Daños'!M105=\"\",\"\",'TD Siniestros Daños'!M105)","v":""}]
[null,{"$f":"IF('TD Siniestros Daños'!A106=\"\",\"\",'TD Siniestros Daños'!A106)","v":""},{"$f":"IF('TD Siniestros Daños'!B106=\"\",\"\",'TD Siniestros Daños'!B106)","v":""},{"$f":"IF('TD Siniestros Daños'!C106=\"\",\"\",'TD Siniestros Daños'!C106)","v":""},{"$f":"IF('TD Siniestros Daños'!D106=\"\",\"\",'TD Siniestros Daños'!D106)","v":""},{"$f":"IF('TD Siniestros Daños'!E106=\"\",\"\",'TD Siniestros Daños'!E106)","v":""},{"$f":"IF('TD Siniestros Daños'!F106=\"\",\"\",'TD Siniestros Daños'!F106)","v":""},{"$f":"IF('TD Siniestros Daños'!G106=\"\",\"\",'TD Siniestros Daños'!G106)","v":""},"",null,{"$f":"IF('TD Siniestros Daños'!H106=\"\",\"\",'TD Siniestros Daños'!H106)","v":""},{"$f":"IF('TD Siniestros Daños'!I106=\"\",\"\",'TD Siniestros Daños'!I106)","v":""},{"$f":"IF('TD Siniestros Daños'!J106=\"\",\"\",'TD Siniestros Daños'!J106)","v":""},{"$f":"IF('TD Siniestros Daños'!K106=\"\",\"\",'TD Siniestros Daños'!K106)","v":""},{"$f":"IF('TD Siniestros Daños'!L106=\"\",\"\",'TD Siniestros Daños'!L106)","v":""},{"$f":"IF('TD Siniestros Daños'!M106=\"\",\"\",'TD Siniestros Daños'!M106)","v":""}]
[null,{"$f":"IF('TD Siniestros Daños'!A107=\"\",\"\",'TD Siniestros Daños'!A107)","v":""},{"$f":"IF('TD Siniestros Daños'!B107=\"\",\"\",'TD Siniestros Daños'!B107)","v":""},{"$f":"IF('TD Siniestros Daños'!C107=\"\",\"\",'TD Siniestros Daños'!C107)","v":""},{"$f":"IF('TD Siniestros Daños'!D107=\"\",\"\",'TD Siniestros Daños'!D107)","v":""},{"$f":"IF('TD Siniestros Daños'!E107=\"\",\"\",'TD Siniestros Daños'!E107)","v":""},{"$f":"IF('TD Siniestros Daños'!F107=\"\",\"\",'TD Siniestros Daños'!F107)","v":""},{"$f":"IF('TD Siniestros Daños'!G107=\"\",\"\",'TD Siniestros Daños'!G107)","v":""},"",null,{"$f":"IF('TD Siniestros Daños'!H107=\"\",\"\",'TD Siniestros Daños'!H107)","v":""},{"$f":"IF('TD Siniestros Daños'!I107=\"\",\"\",'TD Siniestros Daños'!I107)","v":""},{"$f":"IF('TD Siniestros Daños'!J107=\"\",\"\",'TD Siniestros Daños'!J107)","v":""},{"$f":"IF('TD Siniestros Daños'!K107=\"\",\"\",'TD Siniestros Daños'!K107)","v":""},{"$f":"IF('TD Siniestros Daños'!L107=\"\",\"\",'TD Siniestros Daños'!L107)","v":""},{"$f":"IF('TD Siniestros Daños'!M107=\"\",\"\",'TD Siniestros Daños'!M107)","v":""}]
[null,{"$f":"IF('TD Siniestros Daños'!A108=\"\",\"\",'TD Siniestros Daños'!A108)","v":""},{"$f":"IF('TD Siniestros Daños'!B108=\"\",\"\",'TD Siniestros Daños'!B108)","v":""},{"$f":"IF('TD Siniestros Daños'!C108=\"\",\"\",'TD Siniestros Daños'!C108)","v":""},{"$f":"IF('TD Siniestros Daños'!D108=\"\",\"\",'TD Siniestros Daños'!D108)","v":""},{"$f":"IF('TD Siniestros Daños'!E108=\"\",\"\",'TD Siniestros Daños'!E108)","v":""},{"$f":"IF('TD Siniestros Daños'!F108=\"\",\"\",'TD Siniestros Daños'!F108)","v":""},{"$f":"IF('TD Siniestros Daños'!G108=\"\",\"\",'TD Siniestros Daños'!G108)","v":""},"",null,{"$f":"IF('TD Siniestros Daños'!H108=\"\",\"\",'TD Siniestros Daños'!H108)","v":""},{"$f":"IF('TD Siniestros Daños'!I108=\"\",\"\",'TD Siniestros Daños'!I108)","v":""},{"$f":"IF('TD Siniestros Daños'!J108=\"\",\"\",'TD Siniestros Daños'!J108)","v":""},{"$f":"IF('TD Siniestros Daños'!K108=\"\",\"\",'TD Siniestros Daños'!K108)","v":""},{"$f":"IF('TD Siniestros Daños'!L108=\"\",\"\",'TD Siniestros Daños'!L108)","v":""},{"$f":"IF('TD Siniestros Daños'!M108=\"\",\"\",'TD Siniestros Daños'!M108)","v":""}]
[null,{"$f":"IF('TD Siniestros Daños'!A109=\"\",\"\",'TD Siniestros Daños'!A109)","v":""},{"$f":"IF('TD Siniestros Daños'!B109=\"\",\"\",'TD Siniestros Daños'!B109)","v":""},{"$f":"IF('TD Siniestros Daños'!C109=\"\",\"\",'TD Siniestros Daños'!C109)","v":""},{"$f":"IF('TD Siniestros Daños'!D109=\"\",\"\",'TD Siniestros Daños'!D109)","v":""},{"$f":"IF('TD Siniestros Daños'!E109=\"\",\"\",'TD Siniestros Daños'!E109)","v":""},{"$f":"IF('TD Siniestros Daños'!F109=\"\",\"\",'TD Siniestros Daños'!F109)","v":""},{"$f":"IF('TD Siniestros Daños'!G109=\"\",\"\",'TD Siniestros Daños'!G109)","v":""},"",null,{"$f":"IF('TD Siniestros Daños'!H109=\"\",\"\",'TD Siniestros Daños'!H109)","v":""},{"$f":"IF('TD Siniestros Daños'!I109=\"\",\"\",'TD Siniestros Daños'!I109)","v":""},{"$f":"IF('TD Siniestros Daños'!J109=\"\",\"\",'TD Siniestros Daños'!J109)","v":""},{"$f":"IF('TD Siniestros Daños'!K109=\"\",\"\",'TD Siniestros Daños'!K109)","v":""},{"$f":"IF('TD Siniestros Daños'!L109=\"\",\"\",'TD Siniestros Daños'!L109)","v":""},{"$f":"IF('TD Siniestros Daños'!M109=\"\",\"\",'TD Siniestros Daños'!M109)","v":""}]
[null,{"$f":"IF('TD Siniestros Daños'!A110=\"\",\"\",'TD Siniestros Daños'!A110)","v":""},{"$f":"IF('TD Siniestros Daños'!B110=\"\",\"\",'TD Siniestros Daños'!B110)","v":""},{"$f":"IF('TD Siniestros Daños'!C110=\"\",\"\",'TD Siniestros Daños'!C110)","v":""},{"$f":"IF('TD Siniestros Daños'!D110=\"\",\"\",'TD Siniestros Daños'!D110)","v":""},{"$f":"IF('TD Siniestros Daños'!E110=\"\",\"\",'TD Siniestros Daños'!E110)","v":""},{"$f":"IF('TD Siniestros Daños'!F110=\"\",\"\",'TD Siniestros Daños'!F110)","v":""},{"$f":"IF('TD Siniestros Daños'!G110=\"\",\"\",'TD Siniestros Daños'!G110)","v":""},"",null,{"$f":"IF('TD Siniestros Daños'!H110=\"\",\"\",'TD Siniestros Daños'!H110)","v":""},{"$f":"IF('TD Siniestros Daños'!I110=\"\",\"\",'TD Siniestros Daños'!I110)","v":""},{"$f":"IF('TD Siniestros Daños'!J110=\"\",\"\",'TD Siniestros Daños'!J110)","v":""},{"$f":"IF('TD Siniestros Daños'!K110=\"\",\"\",'TD Siniestros Daños'!K110)","v":""},{"$f":"IF('TD Siniestros Daños'!L110=\"\",\"\",'TD Siniestros Daños'!L110)","v":""},{"$f":"IF('TD Siniestros Daños'!M110=\"\",\"\",'TD Siniestros Daños'!M110)","v":""}]
[null,{"$f":"IF('TD Siniestros Daños'!A111=\"\",\"\",'TD Siniestros Daños'!A111)","v":""},{"$f":"IF('TD Siniestros Daños'!B111=\"\",\"\",'TD Siniestros Daños'!B111)","v":""},{"$f":"IF('TD Siniestros Daños'!C111=\"\",\"\",'TD Siniestros Daños'!C111)","v":""},{"$f":"IF('TD Siniestros Daños'!D111=\"\",\"\",'TD Siniestros Daños'!D111)","v":""},{"$f":"IF('TD Siniestros Daños'!E111=\"\",\"\",'TD Siniestros Daños'!E111)","v":""},{"$f":"IF('TD Siniestros Daños'!F111=\"\",\"\",'TD Siniestros Daños'!F111)","v":""},{"$f":"IF('TD Siniestros Daños'!G111=\"\",\"\",'TD Siniestros Daños'!G111)","v":""},"",null,{"$f":"IF('TD Siniestros Daños'!H111=\"\",\"\",'TD Siniestros Daños'!H111)","v":""},{"$f":"IF('TD Siniestros Daños'!I111=\"\",\"\",'TD Siniestros Daños'!I111)","v":""},{"$f":"IF('TD Siniestros Daños'!J111=\"\",\"\",'TD Siniestros Daños'!J111)","v":""},{"$f":"IF('TD Siniestros Daños'!K111=\"\",\"\",'TD Siniestros Daños'!K111)","v":""},{"$f":"IF('TD Siniestros Daños'!L111=\"\",\"\",'TD Siniestros Daños'!L111)","v":""},{"$f":"IF('TD Siniestros Daños'!M111=\"\",\"\",'TD Siniestros Daños'!M111)","v":""}]
[null,{"$f":"IF('TD Siniestros Daños'!A112=\"\",\"\",'TD Siniestros Daños'!A112)","v":""},{"$f":"IF('TD Siniestros Daños'!B112=\"\",\"\",'TD Siniestros Daños'!B112)","v":""},{"$f":"IF('TD Siniestros Daños'!C112=\"\",\"\",'TD Siniestros Daños'!C112)","v":""},{"$f":"IF('TD Siniestros Daños'!D112=\"\",\"\",'TD Siniestros Daños'!D112)","v":""},{"$f":"IF('TD Siniestros Daños'!E112=\"\",\"\",'TD Siniestros Daños'!E112)","v":""},{"$f":"IF('TD Siniestros Daños'!F112=\"\",\"\",'TD Siniestros Daños'!F112)","v":""},{"$f":"IF('TD Siniestros Daños'!G112=\"\",\"\",'TD Siniestros Daños'!G112)","v":""},"",null,{"$f":"IF('TD Siniestros Daños'!H112=\"\",\"\",'TD Siniestros Daños'!H112)","v":""},{"$f":"IF('TD Siniestros Daños'!I112=\"\",\"\",'TD Siniestros Daños'!I112)","v":""},{"$f":"IF('TD Siniestros Daños'!J112=\"\",\"\",'TD Siniestros Daños'!J112)","v":""},{"$f":"IF('TD Siniestros Daños'!K112=\"\",\"\",'TD Siniestros Daños'!K112)","v":""},{"$f":"IF('TD Siniestros Daños'!L112=\"\",\"\",'TD Siniestros Daños'!L112)","v":""},{"$f":"IF('TD Siniestros Daños'!M112=\"\",\"\",'TD Siniestros Daños'!M112)","v":""}]
[null,{"$f":"IF('TD Siniestros Daños'!A113=\"\",\"\",'TD Siniestros Daños'!A113)","v":""},{"$f":"IF('TD Siniestros Daños'!B113=\"\",\"\",'TD Siniestros Daños'!B113)","v":""},{"$f":"IF('TD Siniestros Daños'!C113=\"\",\"\",'TD Siniestros Daños'!C113)","v":""},{"$f":"IF('TD Siniestros Daños'!D113=\"\",\"\",'TD Siniestros Daños'!D113)","v":""},{"$f":"IF('TD Siniestros Daños'!E113=\"\",\"\",'TD Siniestros Daños'!E113)","v":""},{"$f":"IF('TD Siniestros Daños'!F113=\"\",\"\",'TD Siniestros Daños'!F113)","v":""},{"$f":"IF('TD Siniestros Daños'!G113=\"\",\"\",'TD Siniestros Daños'!G113)","v":""},"",null,{"$f":"IF('TD Siniestros Daños'!H113=\"\",\"\",'TD Siniestros Daños'!H113)","v":""},{"$f":"IF('TD Siniestros Daños'!I113=\"\",\"\",'TD Siniestros Daños'!I113)","v":""},{"$f":"IF('TD Siniestros Daños'!J113=\"\",\"\",'TD Siniestros Daños'!J113)","v":""},{"$f":"IF('TD Siniestros Daños'!K113=\"\",\"\",'TD Siniestros Daños'!K113)","v":""},{"$f":"IF('TD Siniestros Daños'!L113=\"\",\"\",'TD Siniestros Daños'!L113)","v":""},{"$f":"IF('TD Siniestros Daños'!M113=\"\",\"\",'TD Siniestros Daños'!M113)","v":""}]
[null,{"$f":"IF('TD Siniestros Daños'!A114=\"\",\"\",'TD Siniestros Daños'!A114)","v":""},{"$f":"IF('TD Siniestros Daños'!B114=\"\",\"\",'TD Siniestros Daños'!B114)","v":""},{"$f":"IF('TD Siniestros Daños'!C114=\"\",\"\",'TD Siniestros Daños'!C114)","v":""},{"$f":"IF('TD Siniestros Daños'!D114=\"\",\"\",'TD Siniestros Daños'!D114)","v":""},{"$f":"IF('TD Siniestros Daños'!E114=\"\",\"\",'TD Siniestros Daños'!E114)","v":""},{"$f":"IF('TD Siniestros Daños'!F114=\"\",\"\",'TD Siniestros Daños'!F114)","v":""},{"$f":"IF('TD Siniestros Daños'!G114=\"\",\"\",'TD Siniestros Daños'!G114)","v":""},"",null,{"$f":"IF('TD Siniestros Daños'!H114=\"\",\"\",'TD Siniestros Daños'!H114)","v":""},{"$f":"IF('TD Siniestros Daños'!I114=\"\",\"\",'TD Siniestros Daños'!I114)","v":""},{"$f":"IF('TD Siniestros Daños'!J114=\"\",\"\",'TD Siniestros Daños'!J114)","v":""},{"$f":"IF('TD Siniestros Daños'!K114=\"\",\"\",'TD Siniestros Daños'!K114)","v":""},{"$f":"IF('TD Siniestros Daños'!L114=\"\",\"\",'TD Siniestros Daños'!L114)","v":""},{"$f":"IF('TD Siniestros Daños'!M114=\"\",\"\",'TD Siniestros Daños'!M114)","v":""}]
[null,{"$f":"IF('TD Siniestros Daños'!A115=\"\",\"\",'TD Siniestros Daños'!A115)","v":""},{"$f":"IF('TD Siniestros Daños'!B115=\"\",\"\",'TD Siniestros Daños'!B115)","v":""},{"$f":"IF('TD Siniestros Daños'!C115=\"\",\"\",'TD Siniestros Daños'!C115)","v":""},{"$f":"IF('TD Siniestros Daños'!D115=\"\",\"\",'TD Siniestros Daños'!D115)","v":""},{"$f":"IF('TD Siniestros Daños'!E115=\"\",\"\",'TD Siniestros Daños'!E115)","v":""},{"$f":"IF('TD Siniestros Daños'!F115=\"\",\"\",'TD Siniestros Daños'!F115)","v":""},{"$f":"IF('TD Siniestros Daños'!G115=\"\",\"\",'TD Siniestros Daños'!G115)","v":""},"",null,{"$f":"IF('TD Siniestros Daños'!H115=\"\",\"\",'TD Siniestros Daños'!H115)","v":""},{"$f":"IF('TD Siniestros Daños'!I115=\"\",\"\",'TD Siniestros Daños'!I115)","v":""},{"$f":"IF('TD Siniestros Daños'!J115=\"\",\"\",'TD Siniestros Daños'!J115)","v":""},{"$f":"IF('TD Siniestros Daños'!K115=\"\",\"\",'TD Siniestros Daños'!K115)","v":""},{"$f":"IF('TD Siniestros Daños'!L115=\"\",\"\",'TD Siniestros Daños'!L115)","v":""},{"$f":"IF('TD Siniestros Daños'!M115=\"\",\"\",'TD Siniestros Daños'!M115)","v":""}]
[null,{"$f":"IF('TD Siniestros Daños'!A116=\"\",\"\",'TD Siniestros Daños'!A116)","v":""},{"$f":"IF('TD Siniestros Daños'!B116=\"\",\"\",'TD Siniestros Daños'!B116)","v":""},{"$f":"IF('TD Siniestros Daños'!C116=\"\",\"\",'TD Siniestros Daños'!C116)","v":""},{"$f":"IF('TD Siniestros Daños'!D116=\"\",\"\",'TD Siniestros Daños'!D116)","v":""},{"$f":"IF('TD Siniestros Daños'!E116=\"\",\"\",'TD Siniestros Daños'!E116)","v":""},{"$f":"IF('TD Siniestros Daños'!F116=\"\",\"\",'TD Siniestros Daños'!F116)","v":""},{"$f":"IF('TD Siniestros Daños'!G116=\"\",\"\",'TD Siniestros Daños'!G116)","v":""},"",null,{"$f":"IF('TD Siniestros Daños'!H116=\"\",\"\",'TD Siniestros Daños'!H116)","v":""},{"$f":"IF('TD Siniestros Daños'!I116=\"\",\"\",'TD Siniestros Daños'!I116)","v":""},{"$f":"IF('TD Siniestros Daños'!J116=\"\",\"\",'TD Siniestros Daños'!J116)","v":""},{"$f":"IF('TD Siniestros Daños'!K116=\"\",\"\",'TD Siniestros Daños'!K116)","v":""},{"$f":"IF('TD Siniestros Daños'!L116=\"\",\"\",'TD Siniestros Daños'!L116)","v":""},{"$f":"IF('TD Siniestros Daños'!M116=\"\",\"\",'TD Siniestros Daños'!M116)","v":""}]
[null,{"$f":"IF('TD Siniestros Daños'!A117=\"\",\"\",'TD Siniestros Daños'!A117)","v":""},{"$f":"IF('TD Siniestros Daños'!B117=\"\",\"\",'TD Siniestros Daños'!B117)","v":""},{"$f":"IF('TD Siniestros Daños'!C117=\"\",\"\",'TD Siniestros Daños'!C117)","v":""},{"$f":"IF('TD Siniestros Daños'!D117=\"\",\"\",'TD Siniestros Daños'!D117)","v":""},{"$f":"IF('TD Siniestros Daños'!E117=\"\",\"\",'TD Siniestros Daños'!E117)","v":""},{"$f":"IF('TD Siniestros Daños'!F117=\"\",\"\",'TD Siniestros Daños'!F117)","v":""},{"$f":"IF('TD Siniestros Daños'!G117=\"\",\"\",'TD Siniestros Daños'!G117)","v":""},"",null,{"$f":"IF('TD Siniestros Daños'!H117=\"\",\"\",'TD Siniestros Daños'!H117)","v":""},{"$f":"IF('TD Siniestros Daños'!I117=\"\",\"\",'TD Siniestros Daños'!I117)","v":""},{"$f":"IF('TD Siniestros Daños'!J117=\"\",\"\",'TD Siniestros Daños'!J117)","v":""},{"$f":"IF('TD Siniestros Daños'!K117=\"\",\"\",'TD Siniestros Daños'!K117)","v":""},{"$f":"IF('TD Siniestros Daños'!L117=\"\",\"\",'TD Siniestros Daños'!L117)","v":""},{"$f":"IF('TD Siniestros Daños'!M117=\"\",\"\",'TD Siniestros Daños'!M117)","v":""}]
[null,{"$f":"IF('TD Siniestros Daños'!A118=\"\",\"\",'TD Siniestros Daños'!A118)","v":""},{"$f":"IF('TD Siniestros Daños'!B118=\"\",\"\",'TD Siniestros Daños'!B118)","v":""},{"$f":"IF('TD Siniestros Daños'!C118=\"\",\"\",'TD Siniestros Daños'!C118)","v":""},{"$f":"IF('TD Siniestros Daños'!D118=\"\",\"\",'TD Siniestros Daños'!D118)","v":""},{"$f":"IF('TD Siniestros Daños'!E118=\"\",\"\",'TD Siniestros Daños'!E118)","v":""},{"$f":"IF('TD Siniestros Daños'!F118=\"\",\"\",'TD Siniestros Daños'!F118)","v":""},{"$f":"IF('TD Siniestros Daños'!G118=\"\",\"\",'TD Siniestros Daños'!G118)","v":""},"",null,{"$f":"IF('TD Siniestros Daños'!H118=\"\",\"\",'TD Siniestros Daños'!H118)","v":""},{"$f":"IF('TD Siniestros Daños'!I118=\"\",\"\",'TD Siniestros Daños'!I118)","v":""},{"$f":"IF('TD Siniestros Daños'!J118=\"\",\"\",'TD Siniestros Daños'!J118)","v":""},{"$f":"IF('TD Siniestros Daños'!K118=\"\",\"\",'TD Siniestros Daños'!K118)","v":""},{"$f":"IF('TD Siniestros Daños'!L118=\"\",\"\",'TD Siniestros Daños'!L118)","v":""},{"$f":"IF('TD Siniestros Daños'!M118=\"\",\"\",'TD Siniestros Daños'!M118)","v":""}]
[null,{"$f":"IF('TD Siniestros Daños'!A119=\"\",\"\",'TD Siniestros Daños'!A119)","v":""},{"$f":"IF('TD Siniestros Daños'!B119=\"\",\"\",'TD Siniestros Daños'!B119)","v":""},{"$f":"IF('TD Siniestros Daños'!C119=\"\",\"\",'TD Siniestros Daños'!C119)","v":""},{"$f":"IF('TD Siniestros Daños'!D119=\"\",\"\",'TD Siniestros Daños'!D119)","v":""},{"$f":"IF('TD Siniestros Daños'!E119=\"\",\"\",'TD Siniestros Daños'!E119)","v":""},{"$f":"IF('TD Siniestros Daños'!F119=\"\",\"\",'TD Siniestros Daños'!F119)","v":""},{"$f":"IF('TD Siniestros Daños'!G119=\"\",\"\",'TD Siniestros Daños'!G119)","v":""},"",null,{"$f":"IF('TD Siniestros Daños'!H119=\"\",\"\",'TD Siniestros Daños'!H119)","v":""},{"$f":"IF('TD Siniestros Daños'!I119=\"\",\"\",'TD Siniestros Daños'!I119)","v":""},{"$f":"IF('TD Siniestros Daños'!J119=\"\",\"\",'TD Siniestros Daños'!J119)","v":""},{"$f":"IF('TD Siniestros Daños'!K119=\"\",\"\",'TD Siniestros Daños'!K119)","v":""},{"$f":"IF('TD Siniestros Daños'!L119=\"\",\"\",'TD Siniestros Daños'!L119)","v":""},{"$f":"IF('TD Siniestros Daños'!M119=\"\",\"\",'TD Siniestros Daños'!M119)","v":""}]
[null,{"$f":"IF('TD Siniestros Daños'!A120=\"\",\"\",'TD Siniestros Daños'!A120)","v":""},{"$f":"IF('TD Siniestros Daños'!B120=\"\",\"\",'TD Siniestros Daños'!B120)","v":""},{"$f":"IF('TD Siniestros Daños'!C120=\"\",\"\",'TD Siniestros Daños'!C120)","v":""},{"$f":"IF('TD Siniestros Daños'!D120=\"\",\"\",'TD Siniestros Daños'!D120)","v":""},{"$f":"IF('TD Siniestros Daños'!E120=\"\",\"\",'TD Siniestros Daños'!E120)","v":""},{"$f":"IF('TD Siniestros Daños'!F120=\"\",\"\",'TD Siniestros Daños'!F120)","v":""},{"$f":"IF('TD Siniestros Daños'!G120=\"\",\"\",'TD Siniestros Daños'!G120)","v":""},"",null,{"$f":"IF('TD Siniestros Daños'!H120=\"\",\"\",'TD Siniestros Daños'!H120)","v":""},{"$f":"IF('TD Siniestros Daños'!I120=\"\",\"\",'TD Siniestros Daños'!I120)","v":""},{"$f":"IF('TD Siniestros Daños'!J120=\"\",\"\",'TD Siniestros Daños'!J120)","v":""},{"$f":"IF('TD Siniestros Daños'!K120=\"\",\"\",'TD Siniestros Daños'!K120)","v":""},{"$f":"IF('TD Siniestros Daños'!L120=\"\",\"\",'TD Siniestros Daños'!L120)","v":""},{"$f":"IF('TD Siniestros Daños'!M120=\"\",\"\",'TD Siniestros Daños'!M120)","v":""}]
[null,{"$f":"IF('TD Siniestros Daños'!A121=\"\",\"\",'TD Siniestros Daños'!A121)","v":""},{"$f":"IF('TD Siniestros Daños'!B121=\"\",\"\",'TD Siniestros Daños'!B121)","v":""},{"$f":"IF('TD Siniestros Daños'!C121=\"\",\"\",'TD Siniestros Daños'!C121)","v":""},{"$f":"IF('TD Siniestros Daños'!D121=\"\",\"\",'TD Siniestros Daños'!D121)","v":""},{"$f":"IF('TD Siniestros Daños'!E121=\"\",\"\",'TD Siniestros Daños'!E121)","v":""},{"$f":"IF('TD Siniestros Daños'!F121=\"\",\"\",'TD Siniestros Daños'!F121)","v":""},{"$f":"IF('TD Siniestros Daños'!G121=\"\",\"\",'TD Siniestros Daños'!G121)","v":""},"",null,{"$f":"IF('TD Siniestros Daños'!H121=\"\",\"\",'TD Siniestros Daños'!H121)","v":""},{"$f":"IF('TD Siniestros Daños'!I121=\"\",\"\",'TD Siniestros Daños'!I121)","v":""},{"$f":"IF('TD Siniestros Daños'!J121=\"\",\"\",'TD Siniestros Daños'!J121)","v":""},{"$f":"IF('TD Siniestros Daños'!K121=\"\",\"\",'TD Siniestros Daños'!K121)","v":""},{"$f":"IF('TD Siniestros Daños'!L121=\"\",\"\",'TD Siniestros Daños'!L121)","v":""},{"$f":"IF('TD Siniestros Daños'!M121=\"\",\"\",'TD Siniestros Daños'!M121)","v":""}]
[null,{"$f":"IF('TD Siniestros Daños'!A122=\"\",\"\",'TD Siniestros Daños'!A122)","v":""},{"$f":"IF('TD Siniestros Daños'!B122=\"\",\"\",'TD Siniestros Daños'!B122)","v":""},{"$f":"IF('TD Siniestros Daños'!C122=\"\",\"\",'TD Siniestros Daños'!C122)","v":""},{"$f":"IF('TD Siniestros Daños'!D122=\"\",\"\",'TD Siniestros Daños'!D122)","v":""},{"$f":"IF('TD Siniestros Daños'!E122=\"\",\"\",'TD Siniestros Daños'!E122)","v":""},{"$f":"IF('TD Siniestros Daños'!F122=\"\",\"\",'TD Siniestros Daños'!F122)","v":""},{"$f":"IF('TD Siniestros Daños'!G122=\"\",\"\",'TD Siniestros Daños'!G122)","v":""},"",null,{"$f":"IF('TD Siniestros Daños'!H122=\"\",\"\",'TD Siniestros Daños'!H122)","v":""},{"$f":"IF('TD Siniestros Daños'!I122=\"\",\"\",'TD Siniestros Daños'!I122)","v":""},{"$f":"IF('TD Siniestros Daños'!J122=\"\",\"\",'TD Siniestros Daños'!J122)","v":""},{"$f":"IF('TD Siniestros Daños'!K122=\"\",\"\",'TD Siniestros Daños'!K122)","v":""},{"$f":"IF('TD Siniestros Daños'!L122=\"\",\"\",'TD Siniestros Daños'!L122)","v":""},{"$f":"IF('TD Siniestros Daños'!M122=\"\",\"\",'TD Siniestros Daños'!M122)","v":""}]
[null,{"$f":"IF('TD Siniestros Daños'!A123=\"\",\"\",'TD Siniestros Daños'!A123)","v":""},{"$f":"IF('TD Siniestros Daños'!B123=\"\",\"\",'TD Siniestros Daños'!B123)","v":""},{"$f":"IF('TD Siniestros Daños'!C123=\"\",\"\",'TD Siniestros Daños'!C123)","v":""},{"$f":"IF('TD Siniestros Daños'!D123=\"\",\"\",'TD Siniestros Daños'!D123)","v":""},{"$f":"IF('TD Siniestros Daños'!E123=\"\",\"\",'TD Siniestros Daños'!E123)","v":""},{"$f":"IF('TD Siniestros Daños'!F123=\"\",\"\",'TD Siniestros Daños'!F123)","v":""},{"$f":"IF('TD Siniestros Daños'!G123=\"\",\"\",'TD Siniestros Daños'!G123)","v":""},"",null,{"$f":"IF('TD Siniestros Daños'!H123=\"\",\"\",'TD Siniestros Daños'!H123)","v":""},{"$f":"IF('TD Siniestros Daños'!I123=\"\",\"\",'TD Siniestros Daños'!I123)","v":""},{"$f":"IF('TD Siniestros Daños'!J123=\"\",\"\",'TD Siniestros Daños'!J123)","v":""},{"$f":"IF('TD Siniestros Daños'!K123=\"\",\"\",'TD Siniestros Daños'!K123)","v":""},{"$f":"IF('TD Siniestros Daños'!L123=\"\",\"\",'TD Siniestros Daños'!L123)","v":""},{"$f":"IF('TD Siniestros Daños'!M123=\"\",\"\",'TD Siniestros Daños'!M123)","v":""}]