{"text_format":"1","workbook":"xlsx","n_sheets":13,"sheets":["TDPrimas_","TD Siniestros_","TDPrimas","TDPrimas Vida","TD Siniestros","TD Operación","TD Siniestros Daños","Cat","Inicio","Primas Directas","Siniestros","Primas Directas (Vida)","Siniestros (Daños)"],"not_rendered":{"charts":0,"images":2,"macros":1,"external_links":0,"defined_names":7,"comments":0,"pivot_tables":7},"unopened":[],"bounds":{"document_bytes":16777216,"sheet_cells":100000,"rows_first":2000,"rows_last":500,"rows_between":2000,"halvings":0,"cell_chars":16384,"cell_head_chars":4096},"cells_cut":0,"cells_raw":0,"read":"whole","date_system":"1900"}

{"sheet":"TDPrimas_","index":0,"n_rows":91,"n_cols":11,"rows_kept":91,"cut":false,"hidden":true,"merged":[]}
[]
[]
["periodo","2023-Q1"]
["Ramo_","10 Total General"]
[]
["jerarquia","nombre_compania","Suma de Prima_DirectaAct","Suma de Prima_DirectaAnt","Suma de Part_Mercado_Act","Suma de Part_Mercado_Ant","Suma de PD_IncreAbs","Suma de PD_IncreRel","Suma de Part_Operacion_Act","Suma de Part_Cartera_Act","Suma de Part_Sector_Act"]
[1,"G.N.P.",26676629.107240003,21970506.010949999,12.240654318288199,11.468594521236389,4706123.0962900035,21.420185288151728,100,100,12.240654318288199]
[2,"Metlife México",26097031.675279997,24057802.08182,11.97470423217089,12.558162156622082,2039229.5934599973,8.4763753003064259,100,100,11.97470423217089]
[3,"BBVA Bancomer",17603852.661830001,14691628.10217,8.0775826000091175,7.6690234388144551,2912224.5596600007,19.822340583409236,100,100,8.0775826000091175]
[4,"AXA Seguros",15398992.57395,13965513.662629999,7.0658756842877128,7.2899920191945018,1433478.9113200009,10.26441952619197,100,100,7.0658756842877128]
[5,"Banorte",11640133.15574,13532473.689889999,5.341111337773512,7.0639453429656021,-1892340.5341499988,-13.983700079636963,100,100,5.341111337773512]
[5.0999999999999996,"TOTAL GRANDES",97416639.17404002,88217923.54745999,44.699928172529432,46.049717478833024,9198715.6265800297,10.427263821995592,100,100,44.699928172529432]
[6,"Quálitas",11419161.885020001,8869182.5797000006,5.239717982253107,4.6297094245666139,2549979.3053200003,28.751007011135997,100,100,5.239717982253107]
[7,"Monterrey New York Life",10223427.716290001,9516075.7999300007,4.6910516362484955,4.9673874023818341,707351.91636000015,7.433231210339919,100,100,4.6910516362484955]
[8,"Citibanamex Seguros",8056026.6593599999,5326674.1903799996,3.6965329134998144,2.7805215958957263,2729352.4689800004,51.239335679836117,100,100,3.6965329134998144]
[9,"Agroasemex",7438742.8628900005,0,3.4132903216980202,null,null,null,100,100,3.4132903216980202]
[10,"Inbursa",6926531.7595299995,5739037.9061599998,3.1782606622528866,2.9957752750414941,1187493.8533699997,20.6915143755263,100,100,3.1782606622528866]
[11,"Chubb Seguros México",6735524.3046000004,6329296.8497900004,3.090616296894162,3.3038901852603093,406227.45481000002,6.4182082852296318,100,100,3.090616296894162]
[12,"Mapfre México",6434437.0004799999,7309671.1488300003,2.9524614500226734,3.8156451402498481,-875234.14835000038,-11.97364601675811,100,100,2.9524614500226734]
[13,"Atlas",5493499.0403699996,4932623.2233199999,2.5207091376011661,2.5748271635663182,560875.81704999972,11.370741117998694,100,100,2.5207091376011661]
[14,"Allianz México",5252582.0563999992,4453754.7797299996,2.410163629458947,2.3248580456128165,798827.27666999958,17.93604085042211,100,100,2.410163629458947]
[15,"GMX Seguros",4704042.3643699996,5404782.8401899999,2.1584644840006781,2.8212942769084295,-700740.47582000028,-12.965192063024055,100,100,2.1584644840006781]
[15.1,"TOTAL MEDIANAS",72683975.649310008,57881099.318030007,33.351268513929952,30.213908509483396,14802876.331280001,25.574628861046691,100,100,33.351268513929952]
[16,"Pensiones Banorte",4253756.2515000002,4945870.01198,1.9518492992331442,2.5817419814487255,-692113.76047999971,-13.993771749025875,100,100,1.9518492992331442]
[17,"Zurich Santander",3574791.8769999999,3159180.2807300002,1.6403043821719518,1.6490907237694288,415611.59626999963,13.15567835128304,100,100,1.6403043821719518]
[18,"AIG Seguros",3306000.0739899999,1805143.7563,1.5169684265304697,0.94228425067807919,1500856.3176899999,83.143312683655864,100,100,1.5169684265304697]
[19,"Zurich Aseguradora Mexicana",3031903.05106,78671.970780000003,1.391198154211938,4.1066734312477669E-2,2953231.0802799999,3753.8542011849167,100,100,1.391198154211938]
[20,"HDI Seguros",2965779.2021399997,2289870.9365900001,1.3608570202714145,1.1953116266246144,675908.26554999966,29.517308366581553,100,100,1.3608570202714145]
[21,"Pensiones BBVA Bancomer",2683241.2516399999,3936798.3321600002,1.2312136020582227,2.0550070062528558,-1253557.0805200003,-31.842044594451245,100,100,1.2312136020582227]
[22,"ProFuturo G.N.P.",2615977.4752099998,2246257.45585,1.200349408830796,1.1725454087679332,369720.0193599998,16.459378616512808,100,100,1.200349408830796]
[23,"Afirme",2232143.8743000003,1889300.43243,1.0242261660629173,0.98621399878260407,342843.44187000021,18.146581453381572,100,100,1.0242261660629173]
[24,"Seguros Azteca",1962137.4953599998,1626725.29678,0.90033289847461129,0.8491498929023098,335412.19857999985,20.618859204066432,100,100,0.90033289847461129]
[25,"Hir Seguros",1797983.4388299999,1430544.88466,0.82501029857449359,0.74674380364373827,367438.5541699999,25.685216738748441,100,100,0.82501029857449359]
[26,"HSBC Seguros",1622418.9140099999,1476975.6419599999,0.74445196977526373,0.77098063863161892,145443.27205000003,9.8473710681505686,100,100,0.74445196977526373]
[27,"Seguros SURA",1504539.56809,1761775.44267,0.69036266490574294,0.91964600994550849,-257235.87458000006,-14.600945634147045,100,100,0.69036266490574294]
[28,"Seguros Azteca Daños",1251067.9799200001,1718523.35295,0.57405643754006652,0.89706843804308656,-467455.3730299999,-27.200990444940466,100,100,0.57405643754006652]
[29,"HDI Global Seguros",1017302.51738,469926.69216999999,0.4667924272708569,0.2453015276260615,547375.82520999992,116.48110957101841,100,100,0.4667924272708569]
[30,"Cardif Vida",972637.9765499999,837222.90852000006,0.4462979636567595,0.43702999179539104,135415.06802999985,16.174314707821335,100,100,0.4462979636567595]
[31,"BUPA México",874777.11228999996,826190.40769999998,0.40139420142053006,0.43127103119627108,48586.704589999979,5.8808119940848336,100,100,0.40139420142053006]
[32,"ANA",822201.80111999996,723121.39025000005,0.37726985620729819,0.37746904920062857,99080.410869999905,13.701767394233144,100,100,0.37726985620729819]
[33,"Ve Por Más",764564.70062000002,678146.09750999999,0.35082289320111165,0.35399196607601169,86418.603110000025,12.743360675127335,100,100,0.35082289320111165]
[34,"Seguros Argos",758060.44874999998,1176942.8885300001,0.34783839698085489,0.61436367266534542,-418882.43978000013,-35.590719300167883,100,100,0.34783839698085489]
[35,"Plan Seguro",702706.06438999996,842005.78388999996,0.32243886538229449,0.43952665064506879,-139299.71950000001,-16.543796036227487,100,100,0.32243886538229449]
[36,"FM Global",685542.54012999998,573005.82117000001,0.31456332884034083,0.29910878784637823,112536.71895999997,19.639716526826078,100,100,0.31456332884034083]
[37,"El Potosí",663569.20615999994,548570.98860000004,0.30448079613855838,0.28635381593995224,114998.2175599999,20.963233555876727,100,100,0.30448079613855838]
[38,"General de Seguros",660743.68034000008,638551.54223999998,0.30318429481933323,0.33332362555558881,22192.138100000098,3.4753871272711123,100,100,0.30318429481933323]
[39,"AXA Salud",487258.32735000004,488407.71211000002,0.22358000048739077,0.25494861194560825,-1149.3847599999863,-0.23533304890589468,100,100,0.22358000048739077]
[40,"Assurant Vida",448721.73488999996,72452.07634,0.20589736506102835,3.781995213724236E-2,376269.65854999993,519.33592183646726,100,100,0.20589736506102835]
[41,"Prudential",433447.13457999995,347533.37267999997,0.1988885671543249,0.18141226842377628,85913.761899999983,24.72101060035672,100,100,0.1988885671543249]
[42,"Cardif Seguros Generales",431726.53073,287943.79755999998,0.19809906272099123,0.15030653629346358,143782.73317000002,49.934304676258719,100,100,0.19809906272099123]
[43,"Insignia Life",421128.09495999996,404699.64291,0.19323593747178414,0.21125303646218835,16428.452049999963,4.0594184694285662,100,100,0.19323593747178414]
[44,"El Águila",401246.10022000002,326812.71269000001,0.18411302228666004,0.17059609297841885,74433.387530000007,22.775548392024824,100,100,0.18411302228666004]
[45,"La Latinoamericana",378273.63062999997,386901.91305999999,0.17357203309502856,0.20196262927054584,-8628.2824300000211,-2.2300955717068138,100,100,0.17357203309502856]
[46,"Patrimonial Inbursa",365783.35788999998,399496.20867000002,0.16784083256227517,0.20853684606644893,-33712.850780000037,-8.438841232620609,100,100,0.16784083256227517]
[47,"Tokio Marine",328979.06079000002,675587.68896000006,0.15095306625500929,0.35265647793272592,-346608.62817000004,-51.304757892135285,100,100,0.15095306625500929]
[48,"Patrimonial Vida",318429.82180999999,1407005.9488599999,0.14611251510605824,0.73445648945911868,-1088576.1270499998,-77.368267556508783,100,100,0.14611251510605824]
[49,"Pan-American México",309110.80956000002,143964.61814999999,0.14183645732223638,7.5149467661058511E-2,165146.19141000003,114.71304097645051,100,100,0.14183645732223638]
[50,"BBVA Bancomer Salud",295419.76160000003,122393.01183,0.13555427734140882,6.3889098603899838E-2,173026.74977000002,141.36979487875391,100,100,0.13555427734140882]
[51,"Primero Seguros",285123.98235000001,283509.69257000001,0.13083002697866522,0.14799193542948913,1614.2897799999919,0.5693949174599755,100,100,0.13083002697866522]
[52,"General de Salud",240008.10616999998,128786.91902,0.1101284667340767,6.7226715358469843E-2,111221.18714999998,86.360624197188727,100,100,0.1101284667340767]
[53,"PREVEM Seguros",216996.14955,126840.03514000001,9.9569358795794663E-2,6.6210442825259952E-2,90156.114409999995,71.078594633382082,100,100,9.9569358795794663E-2]
[54,"Berkley Seguros",192876.43583999999,138917.25021,8.8501953067982572E-2,7.2514743805608947E-2,53959.185629999993,38.842681919221953,100,100,8.8501953067982572E-2]
[55,"Atradius",191703.76137999998,188280.99028999999,8.7963867741120583E-2,9.8282594520884559E-2,3422.7710899999947,1.8179058250798796,100,100,8.7963867741120583E-2]
[56,"Sompo Japan",189031.92499999999,186805.35068,8.6737887299921185E-2,9.7512311290351289E-2,2226.5743199999852,1.1919221327948648,100,100,8.6737887299921185E-2]
[57,"Solunion Crédito",173836.21695,138126.09831999999,7.9765289352334276E-2,7.2101762865315736E-2,35710.118630000012,25.853273975255231,100,100,7.9765289352334276E-2]
[58,"Dentegra",145760.77205999999,115299.25764,6.6882784057189185E-2,6.0186162021652501E-2,30461.514419999992,26.419523458780869,100,100,6.6882784057189185E-2]
[59,"Swiss Re Corporate Solutions",131577.22926999998,88118.563099999999,6.0374621290330464E-2,4.5997851368748927E-2,43458.666169999982,49.318400846688327,100,100,6.0374621290330464E-2]
[60,"SHF Cred Vivienda",128656.87879999999,98682.880250000002,5.9034609385234901E-2,5.1512420297052587E-2,29973.998549999989,30.374061310396328,100,100,5.9034609385234901E-2]
[61,"Skandia Life",105288.88576999999,153166.89451000001,4.8312133031775117E-2,7.9953051893146762E-2,-47878.008740000019,-31.258718728461353,100,100,4.8312133031775117E-2]
[62,"Coface",100488.68275000001,113603.52506,4.6109544931561351E-2,5.9300990357113809E-2,-13114.842309999993,-11.544397326644006,100,100,4.6109544931561351E-2]
[63,"Patrimonial Daños",72046.591060000006,52090.999960000001,3.3058802610753661E-2,2.7191479178915328E-2,19955.591100000005,38.309095842513386,100,100,3.3058802610753661E-2]
[64,"Assurant Daños",65408.41517,62049.409500000002,3.0012854936973827E-2,3.2389764600004443E-2,3359.0056699999986,5.4134369642953706,100,100,3.0012854936973827E-2]
[65,"MediAccess",51745.073490000002,36238.523000000001,2.3743388068982317E-2,1.8916493144416575E-2,15506.550490000001,42.790238691571389,100,100,2.3743388068982317E-2]
[66,"Centauro",43790.384579999998,34971.827230000003,2.0093354297271462E-2,1.8255278506908685E-2,8818.5573499999955,25.216175557550336,100,100,2.0093354297271462E-2]
[67,"Odontoprev",38116.885219999996,11515.85694,1.7490051452612523E-2,6.0112722821951672E-3,26601.028279999999,230.99477892610912,100,100,1.7490051452612523E-2]
[68,"Virginia Surety",35687.971720000001,21965.67771,1.6375536931193684E-2,1.1466074150253833E-2,13722.294010000001,62.471525764729073,100,100,1.6375536931193684E-2]
[69,"Genworth Seg. de Crédito",25310.37225,17312.381519999999,1.1613743105771965E-2,9.0370555758192521E-3,7997.9907300000013,46.198096551652256,100,100,1.1613743105771965E-2]
[70,"Metlife Más",24612.720120000002,24682.470740000001,1.1293623253918951E-2,1.2884238922774882E-2,-69.750619999998889,-0.28259172566125201,100,100,1.1293623253918951E-2]
[71,"Crabi",19789.335219999997,9202.3035099999997,9.0803980758949639E-3,4.8035984043763484E-3,10587.031709999997,115.04762583080677,100,100,9.0803980758949639E-3]
[72,"SPT",10270.491199999999,7691.1133600000003,4.7126468622717159E-3,4.0147578075235228E-3,2579.3778399999983,33.537119000414762,100,100,4.7126468622717159E-3]
[73,"Citibanamex Pensiones",1390.5081499999999,11250.8117,6.3803899370078307E-4,5.872918782925337E-3,-9860.3035500000005,-87.640819284176629,100,100,6.3803899370078307E-4]
[74,"Metlife Pensiones",1096.47702,15732.58835,5.0312189429226539E-4,8.212404232553934E-3,-14636.11133,-93.030536389773403,100,100,5.0312189429226539E-4]
[75,"Pensiones Inbursa",91.470590000000001,0,4.1971564997168065E-5,null,null,null,100,100,4.1971564997168065E-5]
[76,"Aserta Seguros de Vida",0,105.39552999999999,null,5.501642052842914E-5]
[76,"Principal México",0,0]
[76,"Zurich Daños",0,2212646.45909,null,1.1550004831707297]
[76,"Zurich Vida",0,451904.69863,null,0.23589405488639906]
[81,"Quálitas Salud",-25.390689999999999,0,-1.165059715541296E-5,null,null,null,100,100,-1.165059715541296E-5]
[150.1,"TOTAL RESTO",47834051.196780011,45472018.993800022,21.948803313540637,23.736374011683601,2362032.2029799893,5.1944739979591592,100,100,21.948803313540637]
[200,"Patria",0,0]
[201.1,"TOTAL",217934666.02012995,191571041.85928997,99.999999999999986,100,26363624.160839975,13.761800272613334,100,100,99.999999999999986]

{"sheet":"TD Siniestros_","index":1,"n_rows":90,"n_cols":9,"rows_kept":90,"cut":false,"hidden":true,"merged":[]}
[]
["periodo","2023-Q1"]
["Ramo_","10 Total General"]
[]
["jerarquia","nombre_compania","Suma de CostoSin_Act","Suma de CostoSin_Ant","Suma de SIN_IncreRel","Suma de IncResvDivAct","Suma de SINvsPRIM_ACT","Suma de SINvsPRIM_ANT","Suma de PartSIN_Merc_Act"]
[1,"G.N.P.",13950620.598899994,12563808.360029997,11.038151801821062,89852.579490000004,52.295290168853505,57.184883924695463,13.569541627757452]
[2,"Metlife México",13278274.68158,11964761.658550002,10.978179595339977,54701.191709999999,50.880402211250853,49.733394671126391,12.915561695563913]
[3,"BBVA Bancomer",7306290.3585599996,6499233.0707999999,12.417731122553178,0,41.503928139560323,44.237663964826623,7.1067097310911223]
[4,"AXA Seguros",8529360.4337100014,7516591.9489500029,13.473772311153231,104410.53275000001,55.389080764535578,53.822524044092134,8.2963700892633607]
[5,"Banorte",3875368.9704199978,4492992.572350001,-13.746374871191103,102972.26204,33.293166998772435,33.201561483224459,3.7695083307749178]
[5.0999999999999996,"TOTAL GRANDES",46939915.043169998,43037387.610679999,9.0677609612195944,351936.56598999997,48.184699699308389,48.785310150183363,45.657691474450772]
[6,"Quálitas",7182439.1312999986,5639363.649050002,27.362581636492635,18944.860940000002,62.89812863343446,63.583803787707716,6.9862416578581694]
[7,"Monterrey New York Life",6017298.0489700027,6115605.1157100005,-1.607478980084287,9660.9418900000001,58.85793117490374,64.266040375119601,5.8529278882804983]
[8,"Citibanamex Seguros",6380754.23814,9295457.42722,-31.356210406007989,0,79.204730916902292,174.50771522702934,6.2064558086941064]
[9,"Agroasemex",319565.04243999999,0,null,4926.18649,4.295954952741126,null,0.31083571626251366]
[10,"Inbursa",3481787.7153999996,2375383.4546499993,46.57792233856506,56498.984919999995,50.267404182612985,41.38992446975093,3.3866782490565459]
[11,"Chubb Seguros México",3100056.8114399998,2367419.7656200011,30.946647335612209,32790.84577,46.025471384949618,37.404151232036931,3.0153748109646856]
[12,"Mapfre México",3435151.2554299999,2628992.5026299995,30.664170856080155,218660.58895999996,53.386974729471163,35.965947702733537,3.3413157233934183]
[13,"Atlas",2220660.4324400006,2141862.5982499998,3.6789397347141817,-1557.3772900000004,40.423424417134953,43.422384019194901,2.1600002641806824]
[14,"Allianz México",2467516.9256099993,3233025.3037199988,-23.677772556533551,1015.9079,46.977218044665435,72.591003852169749,2.4001135578083974]
[15,"GMX Seguros",480133.34066000005,906375.44519999996,-47.027101936322389,0,10.206824332550481,16.76987719950904,0.46701788689413881]
[15.1,"TOTAL MEDIANAS",35085362.941829994,34703485.262050003,1.1004015213353702,340940.93957999995,48.271111518599305,59.956506823359248,34.126961563393152]
[16,"Pensiones Banorte",3161078.4449,2788338.4366100007,13.367818030840194,0,74.312637067187623,56.377107159226249,3.0747295607809426]
[17,"Zurich Santander",743104.73987000016,825211.61863999977,-9.9497967449024607,0,20.787356731201395,26.121067660289267,0.72280588737714879]
[18,"AIG Seguros",302973.23800999997,300076.95595999999,0.96517976221608404,2546.799,9.1643445622898199,16.623438156253396,0.29469713810418802]
[19,"Zurich Aseguradora Mexicana",846854.39786999975,32652.617930000008,2493.5268029211879,-2980.95784,27.931447134298253,41.504766699324833,0.82372149131863948]
[20,"HDI Seguros",1559277.7425299997,1243263.4818500003,25.418124580460134,0,52.575651667018263,54.294041728894427,1.5166840848761136]
[21,"Pensiones BBVA Bancomer",2074045.0432300004,1871217.2894600001,10.839347996219772,0,77.296256606160256,47.531448948600847,2.0173898610770507]
[22,"ProFuturo G.N.P.",1327040.9672200002,1117548.3137400001,18.745735723846213,0,50.728302510076887,49.751568362278924,1.2907911528933118]
[23,"Afirme",1341828.4959399996,1155115.9988400002,16.163960787271691,-623.85296999999991,60.113889225030206,61.139879026772945,1.3051747414308363]
[24,"Seguros Azteca",545140.19307999988,860027.82009000028,-36.613655936972833,0,27.782976186385,52.868657160023943,0.53024899433836448]
[25,"Hir Seguros",417602.72994999989,384945.81190000003,8.4835104163916384,96183.779909999997,23.226172217790069,26.909034174869024,0.40619537946351253]
[26,"HSBC Seguros",752600.98979999998,642694.61040999985,17.100871488542069,0,46.387587281009793,43.514232202036922,0.73204273514454365]
[27,"Seguros SURA",842567.25580000016,664557.70350000006,26.786169411999005,10390.815930000001,56.001668129581475,37.720908545123763,0.8195514579949924]
[28,"Seguros Azteca Daños",-20785.991390000014,108846.5166,-119.09660689132244,7886.3938499999995,-1.661459786647979,6.3337234500279074,-2.0218195559203532E-2]
[29,"HDI Global Seguros",87458.832719999991,191038.62406999999,-54.219293011682545,0,8.5971312589734694,40.652856552547171,8.5069783304313557E-2]
[30,"Cardif Vida",211269.16222000003,271917.60795999999,-22.303978839399608,-20536.893319999999,21.721253674402401,32.478519781629252,0.20549807595167358]
[31,"BUPA México",758665.86320000014,631068.33571999997,20.219288507705159,0,86.726761884974024,76.382917283778099,0.73794193880254211]
[32,"ANA",591466.43057999993,395382.73425000004,49.593388720412968,7185.2370300000002,71.936893080787073,54.677228412964929,0.57530977165340358]
[33,"Ve Por Más",615816.13242999988,428334.77030999999,43.769820970712559,3583.2302400000003,80.544672273075506,63.162609337832798,0.59899433038214633]
[34,"Seguros Argos",623983.12085000006,638658.28058000014,-2.2978109227164145,-398.33476999999999,82.313108654977839,54.264169213655165,0.60693822711082268]
[35,"Plan Seguro",474349.77591999999,434168.45841000002,9.2547758206920285,0,67.503299026139771,51.563595727831725,0.46139230759177796]
[36,"FM Global",285738.26993000001,283427.52779000002,0.81528500707668261,0,41.680603785115252,49.463289432431864,0.27793296513018634]
[37,"El Potosí",255047.79303,238005.23529000001,7.1605810347971088,-153.74030999999999,38.435748775313542,43.386405813659536,0.24808083769844208]
[38,"General de Seguros",470556.09862999996,490807.81976999983,-4.1262018093945922,793.18721000000005,71.216133068100646,76.862678625483511,0.4577022594291183]
[39,"AXA Salud",114368.80998999998,105286.92085000001,8.6258474145509023,0,23.471904649019638,21.557178201618388,0.11124468026883025]
[40,"Assurant Vida",62581.925040000002,78124.378039999996,-19.894498221851052,1473.03836,13.946711329983023,107.82903953418983,6.0872420044341007E-2]
[41,"Prudential",48369.278169999998,46927.122369999997,3.0731818342263351,0,11.159210503691225,13.502911104082461,4.704800972683236E-2]
[42,"Cardif Seguros Generales",53604.732579999996,41894.214070000002,27.952591473450681,0,12.416362851122573,14.549441392732323,5.2140451031007964E-2]
[43,"Insignia Life",164032.83993000002,251379.06096999999,-34.74681650212068,6173.0976600000004,38.950818502285003,62.114969798948763,0.15955207397188612]
[44,"El Águila",134472.34600000002,107034.55171000006,25.634520677341712,0,33.513682980661969,32.751036772406181,0.13079906258601023]
[45,"La Latinoamericana",232495.58491000009,233785.08529000008,-0.55157512653145613,1622.9062899999999,61.462276533203699,60.424897732088787,0.22614467186892204]
[46,"Patrimonial Inbursa",310.33876999999666,14711.314010000002,-97.89047552251931,0,8.4842233334552944E-2,3.6824664892257193,3.018614712060946E-4]
[47,"Tokio Marine",103187.24733,158447.89670000001,-34.876227782706827,52.95338000000001,31.36590124678737,23.453342813856594,0.10036855623530792]
[48,"Patrimonial Vida",326666.07067000004,293917.01241999998,11.142280598307952,935.52278000000001,102.58651931944817,20.889535872832717,0.31774277086153735]
[49,"Pan-American México",136472.80111,192741.73546,-29.193954394831923,9464.6250299999992,44.150122509225909,133.88132302006179,0.132744872716618]
[50,"BBVA Bancomer Salud",249870.94431999998,145470.04121999998,71.767975195738387,0,84.581662027852616,118.85485865978463,0.24304540120492243]
[51,"Primero Seguros",142370.60707000003,132646.53939000002,7.3308114367083732,0,49.93287688274323,46.787303173858476,0.13848157259454075]
[52,"General de Salud",165561.19089000006,120274.82233000001,37.652409442557385,0,68.981499638487847,93.390558020354447,0.16103867607868982]
[53,"PREVEM Seguros",114667.90078,83497.639599999995,37.330709382112893,0,52.843288241655337,65.829088984277931,0.11153560101293709]
[54,"Berkley Seguros",57749.803430000007,48864.602550000003,18.183307376558222,1126.9045000000001,29.941347256077545,35.175330980228743,5.617229399099171E-2]
[55,"Atradius",23430.442950000004,29613.871360000001,-20.880175829871629,4052.0895499999997,12.222213472147578,15.728550882586291,2.2790410556494584E-2]
[56,"Sompo Japan",23399.659439999996,-30910.243970000003,-175.70195648636934,2.9510900000000002,12.3786812412771,-16.5467658487736,2.2760467937280458E-2]
[57,"Solunion Crédito",46882.794429999994,37122.492530000003,26.292151293753641,186.24894,26.969520651432926,26.875798984777987,4.56021311835864E-2]
[58,"Dentegra",35621.003429999997,32635.8609,9.1468171749683904,26.736069999999998,24.437990363646815,28.305352148839734,3.4647970349361297E-2]
[59,"Swiss Re Corporate Solutions",33258.891510000001,15476.16761,114.9039242022011,0,25.2770876043847,17.562891478878417,3.2350382525175941E-2]
[60,"SHF Cred Vivienda",-217169.86593,17081.529549999999,-1371.3724803994501,0,-168.79771058926079,17.309516611925197,-0.21123759442386406]
[61,"Skandia Life",33840.657930000001,10563.666619999998,220.34954478713007,0,32.140769353304563,6.8968341062175904,3.2916257254393649E-2]
[62,"Coface",-2657.5302300000003,5741.4896200000003,-146.28642400994187,-4724.9663799999998,-2.6446064942571854,5.0539713595749935,-2.584936406761165E-3]
[63,"Patrimonial Daños",10926.718380000002,5825.1408499999998,87.578612455353806,0,15.166183741990361,11.182624358282716,1.0628241149636284E-2]
[64,"Assurant Daños",19552.652689999999,11214.255429999999,74.355335599841951,148.32820999999998,29.893176037336477,18.073105804496009,1.9018547076748632E-2]
[65,"MediAccess",51471.83599,33297.137430000002,54.583366507731633,0,99.471954561910508,91.883263095463363,5.0065817228122589E-2]
[66,"Centauro",24760.92627,18552.80312,33.461914675888615,89.036799999999999,56.54420829477904,53.050711356839784,2.4084550029917037E-2]
[67,"Odontoprev",5803.7488400000011,5423.2691100000002,7.0156896566027305,0,15.226188620875988,47.093925690952531,5.6452120479599886E-3]
[68,"Virginia Surety",9368.6654699999999,5062.6538899999996,85.054433377431636,0,26.251605284560565,23.048020447350904,9.1127484394294914E-3]
[69,"Genworth Seg. de Crédito",-272.83399000000003,8675.688619999999,-103.14481076892315,0,-1.0779532884981573,50.11262378880383,-2.6538118204319039E-4]
[70,"Metlife Más",405.19159999999988,-19.585910000000013,-2168.7912892482382,0,1.6462690756018714,-7.9351496883411324E-2,3.9412327533666733E-4]
[71,"Crabi",9879.742949999998,7796.9595100000006,26.712764601749186,0,49.924582307419215,84.728345479228835,9.6098651870827247E-3]
[72,"SPT",5304.1057499999997,3861.5081300000002,37.358399139250274,0,51.644129250604884,50.207401051750978,5.1592173453794479E-3]
[73,"Citibanamex Pensiones",195153.23121999999,186141.61153000002,4.8412709097812812,0,14034.670075108872,1654.4727304430846,0.1898223721344677]
[74,"Metlife Pensiones",91374.918869999994,91417.074909999996,-4.6113967266514511E-2,0,8333.5005844445313,581.06824431086068,8.8878896573045096E-2]
[75,"Pensiones Inbursa",6364.399879999999,6048.0092100000002,5.2313192492641436,0,6957.864686343446,null,6.1905481906779237E-3]
[76,"Aserta Seguros de Vida",-1151.0593900000003,15134.091,-107.60573852767239,0,null,14359.329091091437,-1.119616736610104E-3]
[76,"Principal México",0,0,null,0]
[76,"Zurich Daños",0,0,null,0]
[76,"Zurich Vida",0,0,null,0]
[81,"Quálitas Salud",3052.3492699999997,0,null,0,-12021.529426730822,null,2.9689704617861913E-3]
[150.1,"TOTAL RESTO",20783062.79463999,18568064.957709998,11.929071995249885,124505.13624000001,43.448259711774149,40.834045570401656,20.21534696215604]
[200,"Patria",0,0,null,0]
[201.1,"TOTAL",102808340.77964,96308937.830440015,6.7484940604814136,817382.64180999994,47.17392724026012,50.273223393115686,99.999999999999986]

{"sheet":"TDPrimas","index":2,"n_rows":90,"n_cols":6,"rows_kept":90,"cut":false,"hidden":true,"merged":[]}
[]
[]
["periodo","2023-Q1"]
["Ramo_","10 Total General"]
[]
["Jerarquia 2","nombre_compania","Suma de Prima_DirectaAct","Suma de Prima_DirectaAnt","Suma de %CARTERA","Suma de %SECTOR"]
[1,"G.N.P.",26676629.107240003,21970506.010949999,100,12.148659149766573]
[2,"Metlife México",26097031.675279997,24057802.08182,100,11.884707823058239]
[3,"BBVA Bancomer",17603852.661830001,14691628.10217,100,8.0168751775778695]
[4,"AXA Seguros",15398992.57395,13965513.662629999,100,7.0127717890688324]
[5,"Banorte",11640133.15574,13532473.689889999,100,5.300969983820143]
[5.0999999999999996,"TOTAL GRANDES",97416639.17403999,88217923.54745999,100,44.363983923291649]
[6,"Quálitas",11419161.885020001,8869182.5797000006,100,5.2003386544615369]
[7,"Monterrey New York Life",10223427.716290001,9516075.7999300007,100,4.6557958341811529]
[8,"Citibanamex Seguros",8056026.6593599999,5326674.1903799996,100,3.6687514600349385]
[9,"Agroasemex",7438742.8628900005,0,100,3.387637590218731]
[10,"Inbursa",6926531.7595299995,5739037.9061599998,100,3.1543743063746086]
[11,"Chubb Seguros México",6735524.3046000004,6329296.8497900004,100,3.0673886360456994]
[12,"Mapfre México",6434437.0004799999,7309671.1488300003,100,2.9302720979189516]
[13,"Atlas",5493499.0403699996,4932623.2233199999,100,2.5017646387306143]
[14,"Allianz México",5252582.0563999992,4453754.7797299996,100,2.3920499401502386]
[15,"GMX Seguros",4704042.3643699996,5404782.8401899999,100,2.1422424505382254]
[15.1,"TOTAL MEDIANAS",72683975.649309993,57881099.31803,100,33.100615608654692]
[16,"Pensiones Banorte",4253756.2515000002,4945870.01198,0,1.9371800911546597]
[17,"Zurich Santander",3574791.8769999999,3159180.2807300002,100,1.6279766034322796]
[18,"AIG Seguros",3306000.0739899999,1805143.7563,100,1.5055675845156637]
[19,"Zurich Aseguradora Mexicana",3031903.05106,78671.970780000003,100,1.3807425441345837]
[20,"Seguros SURA",3009079.1361799999,1761775.44267,100,1.3703484287002183]
[21,"HDI Seguros",2965779.2021399997,2289870.9365900001,100,1.3506294403023713]
[22,"Pensiones BBVA Bancomer",2683241.2516399999,3936798.3321600002,0,1.2219603628226174]
[23,"ProFuturo G.N.P.",2615977.4752099998,2246257.45585,0,1.1913281307782624]
[24,"Afirme",2232143.8743000003,1889300.43243,100,1.0165285498815302]
[25,"Seguros Azteca",1962137.4953599998,1626725.29678,100,0.893566407520203]
[26,"Hir Seguros",1797983.4388299999,1430544.88466,100,0.81880989788708569]
[27,"HSBC Seguros",1622418.9140099999,1476975.6419599999,100,0.73885700870252025]
[28,"Seguros Azteca Daños",1251067.9799200001,1718523.35295,100,0.56974209148149668]
[29,"HDI Global Seguros",1017302.51738,469926.69216999999,100,0.46328422853451612]
[30,"Cardif Vida",972637.9765499999,837222.90852000006,100,0.44294379195074862]
[31,"BUPA México",874777.11228999996,826190.40769999998,100,0.39837750588750492]
[32,"ANA",822201.80111999996,723121.39025000005,100,0.37443446823722326]
[33,"Ve Por Más",764564.70062000002,678146.09750999999,100,0.34818626852876372]
[34,"Seguros Argos",758060.44874999998,1176942.8885300001,100,0.34522420241931606]
[35,"Plan Seguro",702706.06438999996,842005.78388999996,100,0.32001556210230164]
[36,"FM Global",685542.54012999998,573005.82117000001,100,0.31219921449686533]
[37,"El Potosí",663569.20615999994,548570.98860000004,100,0.30219245750697754]
[38,"General de Seguros",660743.68034000008,638551.54223999998,100,0.3009057000996585]
[39,"AXA Salud",487258.32735000004,488407.71211000002,100,0.22189967529495616]
[40,"Assurant Vida",448721.73488999996,72452.07634,100,0.20434993448220315]
[41,"Prudential",433447.13457999995,347533.37267999997,100,0.19739381150020516]
[42,"Cardif Seguros Generales",431726.53073,287943.79755999998,100,0.19661024062168839]
[43,"Insignia Life",421128.09495999996,404699.64291,100,0.19178366440125133]
[44,"El Águila",401246.10022000002,326812.71269000001,100,0.18272931288094782]
[45,"La Latinoamericana",378273.63062999997,386901.91305999999,100,0.17226754495084809]
[46,"Patrimonial Inbursa",365783.35788999998,399496.20867000002,100,0.16657941750431479]
[47,"Tokio Marine",328979.06079000002,675587.68896000006,100,0.14981857193731271]
[48,"Patrimonial Vida",318429.82180999999,1407005.9488599999,100,0.14501440016050196]
[49,"Pan-American México",309110.80956000002,143964.61814999999,100,0.1407704792744473]
[50,"BBVA Bancomer Salud",295419.76160000003,122393.01183,100,0.13453551328978303]
[51,"Dentegra",291521.54411999998,115299.25764,100,0.13276024718454149]
[52,"Primero Seguros",285123.98235000001,283509.69257000001,100,0.12984676823557589]
[53,"General de Salud",240008.10616999998,128786.91902,100,0.1093007914650273]
[54,"PREVEM Seguros",216996.14955,126840.03514000001,100,9.8821040960503453E-2]
[55,"Berkley Seguros",192876.43583999999,138917.25021,100,8.7836812800536415E-2]
[56,"Atradius",191703.76137999998,188280.99028999999,100,8.7302771477290278E-2]
[57,"Sompo Japan",189031.92499999999,186805.35068,100,8.6086004945279071E-2]
[58,"Solunion Crédito",173836.21695,138126.09831999999,100,7.9165809860034506E-2]
[59,"Swiss Re Corporate Solutions",131577.22926999998,88118.563099999999,100,5.9920873205006699E-2]
[60,"SHF Cred Vivienda",128656.87879999999,98682.880250000002,100,5.8590932217512826E-2]
[61,"Skandia Life",105288.88576999999,153166.89451000001,100,4.7949041100222314E-2]
[62,"Coface",100488.68275000001,113603.52506,100,4.5763006646422716E-2]
[63,"Patrimonial Daños",72046.591060000006,52090.999960000001,100,3.2810347745660731E-2]
[64,"Assurant Daños",65408.41517,62049.409500000002,100,2.9787292023754644E-2]
[65,"MediAccess",51745.073490000002,36238.523000000001,100,2.3564943605975386E-2]
[66,"Centauro",43790.384579999998,34971.827230000003,100,1.9942341821412187E-2]
[67,"Odontoprev",38116.885219999996,11515.85694,100,1.735860421221206E-2]
[68,"Virginia Surety",35687.971720000001,21965.67771,100,1.6252465873025944E-2]
[69,"Genworth Seg. de Crédito",25310.37225,17312.381519999999,100,1.1526459515663052E-2]
[70,"Metlife Más",24612.720120000002,24682.470740000001,100,1.1208745538443254E-2]
[71,"Crabi",19789.335219999997,9202.3035099999997,100,9.0121539502531385E-3]
[72,"SPT",10270.491199999999,7691.1133600000003,100,4.6772287603464077E-3]
[73,"Citibanamex Pensiones",1390.5081499999999,11250.8117,0,6.33243783965861E-4]
[74,"Metlife Pensiones",1096.47702,15732.58835,0,4.9934065987057401E-4]
[75,"Pensiones Inbursa",91.470590000000001,0,0,4.1656125879729548E-5]
[76,"Quálitas Salud",-25.390689999999999,0,100,-1.1563036587095262E-5]
[77,"Zurich Daños",0,2212646.45909,0,0]
[78,"Aserta Seguros de Vida",0,105.39552999999999,0,0]
[79,"Zurich Vida",0,451904.69863,0,0]
[80,"Principal México",0,0,0,0]
[150.1,"TOTAL RESTO",49484351.536929987,45472018.993800007,123.93148275964545,22.535400468053684]
[151.1,"TOTAL",219584966.36028001,191571041.85928985,104.54962631232465,100.0000000000002]

{"sheet":"TDPrimas Vida","index":3,"n_rows":48,"n_cols":14,"rows_kept":48,"cut":false,"hidden":true,"merged":[]}
[]
["periodo","2023-Q1"]
["Ramo2","12 Vida Total"]
["subramo","(Varios elementos)"]
[]
["Jerarquia 2","nombre_compania","Suma de Prima_DirectaAct","Suma de Prima_DirectaAnt","Suma de %CARTERA","Suma de Prima_Directa_Act1anio","Suma de Prima_Directa_Ant1anio","Suma de %CARTERA_1anio","Suma de PrimaDirectaAct_Renov","Suma de PrimaDirectaAnt_Renov","Suma de %CARTERA_Renov","Suma de PrimaDirectaAct_Unica","Suma de PrimaDirectaAnt_Unica","Suma de %CARTERA_uni"]
[1,"Metlife México",17646520.229729999,16817655.51083,67.618878841479074,2509547.3853099998,2309419.2963399999,9.6162177236698128,13356148.097899999,13013045.217829999,51.178801727674653,1780824.74652,1495190.9966600002,6.8238593901346194]
[2,"BBVA Bancomer",13962952.188959999,11906835.161259999,79.317592899624316,12113834.814679999,10376484.49563,68.813543531559588,1233041.75333,1081815.68313,7.0043857842753594,616075.62095000001,448534.98249999998,3.4996635837893688]
[3,"G.N.P.",8699615.61809,7352217.2469899999,32.611375234545413,2289790.2685999996,1512666.53666,8.5835067818915451,4211545.6443799995,4189906.7013899996,15.787398128337705,2198279.70511,1649644.0089400001,8.2404703243161634]
[4,"Citibanamex Seguros",7831081.57259,5094137.7829299998,97.207741529645446,3759204.7664999999,3174926.0152099999,46.663261250908583,4071876.8060899996,1919211.7677199999,50.54448027873687,0,0,0]
[5,"Banorte",6687033.3928900007,9064775.8129200004,57.448083311594075,1266536.4686800002,1524982.1186200001,10.880773026685214,4224507.6665599998,7044133.4336700002,36.292606021236139,1195989.25765,495660.26062999998,10.274704263672723]
[5.0999999999999996,"TOTAL GRANDES",54827203.002259992,50235621.51493001,60.869287349184297,21938913.70377,18898478.46246,24.356632642899683,27097119.968259998,27248112.803739995,30.083285146159099,5791169.3302300004,4089030.2487300001,6.4293695601255223]
[6,"Monterrey New York Life",6428564.6628400004,6193660.3552700002,62.88071712579071,583833.49925999995,509897.11298999999,5.7107412060019769,4336934.5127400002,4145932.0830999999,42.421530557990181,1507796.65084,1537831.1591800002,14.748445361798549]
[7,"Allianz México",2952744.1178600001,2423258.5270400001,56.215097377912151,1505117.9470900001,1134075.6068200001,28.6548202565649,1447626.1707700002,1289182.92022,27.560277121347255,0,0,0]
[8,"Zurich Santander",2742800.4294000003,2307308.2400699998,76.726157039994874,1213835.1063099999,971228.7792799999,33.955406302664599,317802.12179,303081.19848000002,8.8900873875964663,1211163.2013000001,1032998.26231,33.880663349733801]
[9,"Hir Seguros",1793397.8050299999,1426260.8833099999,99.744956838813607,1456232.47426,280736.99338,80.992541021824579,337165.33077,1145523.8899299998,18.752415816989021,0,0,0]
[10,"AXA Seguros",1725044.36372,1633678.0242300001,11.202319602635592,313595.58857999998,334734.76714000001,2.0364682109821906,1407785.2230799999,1297940.3508899999,9.1420605362295362,3663.55206,1002.9062,2.3790855423864013E-2]
[11,"Seguros Azteca",1702679.9857100002,1549216.2280999999,86.776792642536179,1670848.9999000002,1535250.3603999999,85.154531925064916,2.3928099999999999,1116.65255,1.2194915013134607E-4,31828.593000000001,12849.21515,1.6221387683211419]
[12,"Inbursa",1539068.4426800001,1475814.7738900001,22.219900176772363,986423.96505,955578.15778999997,14.241239328655499,552644.47762999998,520236.61610000004,7.9786608481168617,0,0,0]
[13,"Mapfre México",1489236.7007200001,1426998.2668300001,23.144786414241139,1290519.33556,1248702.3532400001,20.056445271959756,198581.22021,178462.37570999999,3.0862252625239179,136.14495000000002,-166.46212,2.1158797574650869E-3]
[14,"HSBC Seguros",1473862.7125500001,1376947.9871700001,90.84353614364457,911497.92030000011,845191.22629999998,56.181416059008171,562364.79224999994,531756.76087,34.662120084636399,0,0,0]
[15,"Cardif Vida",928745.86585000006,773785.16914000001,95.487312673551202,22877.607899999999,157378.21124,2.352119540010984,743111.74934999994,470321.09976999997,76.401679480566656,162756.5086,146085.85813000001,16.73351365297356]
[15.1,"TOTAL MEDIANAS",22776145.08636,20586928.455049999,42.048831325436701,9954782.4442100003,7972773.5685800007,18.378306174765495,9904017.9913999978,9883553.9476200026,18.28458592906798,2917344.65075,2730600.9388500005,5.3859392216032207]
[16,"Atlas",907585.70137000002,1081747.9572099999,16.521086009125288,723774.93727000011,919494.53989999997,13.175117205831935,156694.23322000002,147285.80684999999,2.852357524202759,27116.530879999998,14967.61046,0.49361127909059654]
[17,"Seguros Argos",758060.44874999998,1176942.8885300001,100,311404.18886999995,418703.16706000001,41.079070855561497,393215.78263999999,666888.90836999996,51.871296449826822,53440.47724,91350.813099999999,7.0496326946116783]
[18,"Afirme",736934.18177999998,610121.02737999998,33.014636299423231,736934.18177999998,610121.02737999998,33.014636299423231,0,0,0,0,0,0]
[19,"Seguros SURA",693146.72094000003,447336.25871000002,23.035177526767999,0,0,0,0,0,0,0,0,0]
[20,"Chubb Seguros México",452992.43806000001,426439.88348000002,6.7254220692312048,452992.43805999996,426439.88348000002,6.725422069231203,0,0,0,0,0,0]
[21,"Assurant Vida",448721.73488999996,72452.07634,100,446135.59227999998,69604.547009999995,99.423664509891879,2586.1426099999999,2847.5293299999998,0.57633549010813323,0,0,0]
[22,"Prudential",433447.13457999995,347533.37267999997,100,128365.54312999999,131094.84680999999,29.615040195013208,299048.80322,209163.29981999999,68.993143422154873,6032.7882300000001,7275.2260500000002,1.3918163828319294]
[23,"Insignia Life",421128.09495999996,404699.64291,100,124821.28216,143008.44738,29.639742314474628,297170.53365999996,262194.39214000001,70.565354631166585,-863.72086000000002,-503.19661000000002,-0.20509694564121608]
[24,"Patrimonial Vida",318429.82180999999,1407005.9488599999,100,318429.82180999999,1407005.9488599999,100,0,0,0,0,0,0]
[25,"Zurich Aseguradora Mexicana",254910.19438,77101.289879999997,8.4075971456567338,95366.971600000004,77101.289879999997,3.1454492440534416,62390.424330000002,0,2.0577974717294256,97152.798450000002,0,3.2043504298738674]
[26,"Patrimonial Inbursa",234048.00074000002,259024.80114,63.985415326189873,234048.00073999999,259024.80114,63.985415326189866,0,0,0,0,0,0]
[27,"Pan-American México",174262.19602999999,40770.263899999998,56.375316113354742,140540.42763999998,10871.133470000001,45.466034604241287,33721.768389999997,29899.130430000001,10.909281509113459,0,0,0]
[28,"General de Seguros",116555.63473999999,146493.26892,17.64006803364714,33880.931149999997,40805.656179999998,5.127696587664043,82674.70358999999,105687.61274,12.512371445983096,0,0,0]
[29,"Skandia Life",105288.88576999999,153166.89451000001,100,45982.692479999998,90898.852579999992,43.672883556245083,59306.19329000001,62268.041929999999,56.327116443754932,0,0,0]
[30,"El Potosí",96882.227709999992,58079.983310000003,14.600169328327711,49078.633029999997,17188.59892,7.3961589197323523,47354.394679999998,40782.54825,7.136315886934316,449.2,108.83614,6.7694521661044171E-2]
[31,"Ve Por Más",93763.930959999998,95001.263229999997,12.263701277859813,54583.757890000001,28829.497780000002,7.1391940859598924,25781.962069999998,34591.765449999999,3.3721099141894619,13398.210999999999,31580,1.7523972777104588]
[32,"La Latinoamericana",76756.726450000002,131064.1697,20.291323590852649,-2719.5000899999995,57826.837979999997,-0.7189240459269598,79476.226540000003,73237.331720000002,21.01024763677961,0,0,0]
[33,"Tokio Marine",20027.149960000002,16581.102569999999,6.0876670727636677,9385.0207800000007,5581.5862100000004,2.8527714674189615,10642.12918,10999.51636,3.2348956053447067,0,0,0]
[34,"Agroasemex",3674.2459700000004,0,4.9393372478700404E-2,3674.2459700000004,0,4.9393372478700404E-2,0,0,0,0,0,0]
[35,"HDI Seguros",1331.1598600000002,1309.0345199999999,4.4883983913552403E-2,0,0,0,1331.1598600000002,1309.0345199999999,4.4883983913552403E-2,0,0,0]
[36,"Principal México",0,0,0,0,0,0,0,0,0,0,0,0]
[37,"Aserta Seguros de Vida",0,105.39552999999999,0,0,117.94996,0,0,1.5932200000000001,0,0,-14.147650000000001,0]
[38,"Zurich Vida",0,198836.1783,0,0,0,0,0,0,0,0,0,0]
[150.1,"TOTAL RESTO",6347946.6297100009,7151812.7016099999,17.220480931592114,3906679.1665499997,4713718.6119799986,10.597898504464244,1551394.45728,1647156.51113,4.2085669945508695,196726.28494000001,144765.14149000001,0.53367197869888072]
[151.1,"TOTAL",83951294.718330011,77974362.671590015,46.355708791781495,35800375.31453,31584970.643019997,19.768030716916236,38552532.416940004,38778823.262489989,21.287699872902415,8905240.2659200002,6964396.3290700009,4.9172407152608368]

{"sheet":"TD Siniestros","index":4,"n_rows":91,"n_cols":13,"rows_kept":91,"cut":false,"hidden":true,"merged":[]}
[]
[]
["periodo","2023-Q1"]
["Ramo_","10 Total General"]
[]
["Jerarquia 2","nombre_compania","Suma de CostoSin_Act","Suma de IncSin","Suma de IncResvDivAct","Suma de %SinvsPrm_Act","Suma de %SinvsPrm_Ant","Suma de Costo_Sin_RetAct","Suma de IncSin_Ret","Suma de Prima_DevengadaAct","Suma de IncSin_PDev","Suma de %SinvsPDev_Act","Suma de %SinvsPDev_Ant"]
[1,"G.N.P.",13950620.598899998,11.038151801821062,89852.579490000004,52.295290168853526,57.184883924695484,13335341.394450001,13.53785591763832,19275685.969419997,19.021288446430983,69.182188460664477,72.523416455083023]
[2,"Metlife México",13278274.68158,10.978179595339977,54701.191709999999,50.880402211250853,49.733394671126391,12746375.66801,10.288467321525129,17345383.055669997,4.7391851573689303,73.485697185818935,69.788185754047873]
[3,"BBVA Bancomer",7306290.3585599996,12.417731122553155,0,41.503928139560323,44.237663964826638,7260737.7874099994,12.413239356071394,8285272.3743700003,-7.816623300136416,87.634267883222066,71.863623665422864]
[4,"AXA Seguros",8529360.4337100014,13.473772311153276,104410.53275000001,55.389080764535578,53.822524044092113,8044841.8063400006,19.113327209876772,11027709.92795,15.965832766965882,72.951155397642012,71.023467190146718]
[5,"Banorte",3875368.9704199997,-13.746374871191037,102972.26204,33.293166998772449,33.201561483224445,3426629.62163,-14.717936823763711,6614014.8380100001,2.4647873614360938,51.808617088935826,62.247074423348316]
[5.0999999999999996,"TOTAL GRANDES",46939915.043169998,9.0677609612195944,351936.56598999997,48.184699699308403,48.785310150183363,44813926.277840003,10.56023686377381,62548066.165419996,8.3873832724754784,71.647181160359523,70.239090518490613]
[6,"Quálitas",7182439.1313000005,27.362581636492699,18944.860940000002,62.898128633434467,63.583803787707694,7186344.0670100003,27.49275298704783,10378964.710719999,20.909119907529792,69.23950767062081,65.66402983027524]
[7,"Monterrey New York Life",6017298.0489700008,-1.6074789800843092,9660.9418900000001,58.857931174903733,64.266040375119601,5661186.47382,-0.22914027428094785,7052172.0940899998,-2.3177168028090223,80.275784514168322,78.595312682950365]
[8,"Citibanamex Seguros",6380754.23814,-31.356210406007989,0,79.204730916902292,174.50771522702934,6373502.2131400006,-31.408005004574392,4884962.7083000001,-58.696934326291526,130.47187038523006,78.564389787060733]
[9,"Agroasemex",319565.04244000005,0,4926.18649,4.2959549527411269,0,117609.28035,0,574020.17272000003,0,20.488701606549352,0]
[10,"Inbursa",3481787.7154000001,46.577922338565038,56498.984919999995,50.267404182612992,41.389924469750937,2886287.9242099999,28.55138306416498,3935565.92563,8.6506852648661869,73.338573886243992,61.985224267179994]
[11,"Chubb Seguros México",3100056.8114400003,30.946647335612298,32790.84577,46.025471384949626,37.404151232036909,1565487.9938399999,36.628405035529134,2211644.8630999997,-4.7410755514840419,70.783877645061864,49.351348652650493]
[12,"Mapfre México",3435151.2554299994,30.664170856080109,218660.58895999996,53.386974729471163,35.965947702733544,2542577.9446900003,10.602290579923146,3853863.9567399998,2.6592545278857349,65.974771637781899,61.236714343523992]
[13,"Atlas",2220660.4324400001,3.6789397347141595,-1557.3772900000004,40.423424417134939,43.422384019194901,1907408.9829599999,18.646675755258137,2967182.43481,16.340254149697419,64.283508846065899,63.033875236527123]
[14,"Allianz México",2467516.9256100003,-23.677772556533572,1015.9079,46.977218044665456,72.591003852169806,2262002.8514,12.52181227159166,1699255.6986500002,-46.452567475504495,133.11727323892944,63.348501616748585]
[15,"GMX Seguros",480133.34065999999,-47.02710193632241,0,10.206824332550479,16.769877199509043,235573.10959000001,-13.97317193726435,600583.56672999996,-10.320683858309099,39.224035195073014,40.889391505246955]
[15.1,"TOTAL MEDIANAS",35085362.941829994,1.1004015213353924,340940.93957999995,48.271111518599312,59.956506823359234,30737980.841010001,1.8339866192506049,38158216.131489992,-12.725758566605339,80.554029923960584,69.036793013931103]
[16,"Pensiones Banorte",3161078.4449000005,13.36781803084024,0,74.312637067187637,56.377107159226235,3161078.4449,13.367818030840217,-1898943.8091500001,-5.894007573535287,-166.46508599509079,-138.18173793962637]
[17,"Zurich Santander",743104.73987000005,-9.9497967449024944,0,20.787356731201392,26.121067660289278,683593.71788999997,-13.698765663083767,2484413.11466,0.51623199194421598,27.515299845112594,32.047447337334006]
[18,"AIG Seguros",302973.23800999997,0.96517976221608404,2546.799,9.1643445622898199,16.623438156253396,151368.27202999999,32.466396818395651,156698.26168999998,-25.355857022303642,96.598564909070632,54.432801553424781]
[19,"Zurich Aseguradora Mexicana",846854.39786999999,2493.5268029211888,-2980.95784,27.931447134298264,41.504766699324833,768165.31995999999,2400.181731775102,1569547.0406600002,2753.9765181860907,48.941847556030162,55.867492313201929]
[20,"Seguros SURA",1685134.5116000001,153.57233882399797,20781.631860000001,56.001668129581461,37.720908545123763,1322978.9131400001,112.03437814862762,2644354.6607600003,69.093423788747742,50.030312982289956,39.898232490714619]
[21,"HDI Seguros",1559277.7425299997,25.418124580460177,0,52.575651667018263,54.294041728894406,1554516.5689300001,27.244168241835666,2499992.5030399999,8.627052570307514,62.18084922413577,53.083158708689581]
[22,"Pensiones BBVA Bancomer",2074045.0432300004,10.839347996219772,0,77.296256606160256,47.531448948600847,2074045.04323,10.839347996219729,-1308599.1070099999,1.1747714243314222,-158.49353955077632,-144.6737817045796]
[23,"ProFuturo G.N.P.",1327040.9672200002,18.745735723846234,0,50.728302510076887,49.751568362278917,1327040.96722,18.745735723846213,-965450.25846000004,2.0483221425850573,-137.45306457701685,-118.12512279229684]
[24,"Afirme",1341828.4959400003,16.16396078727178,-623.85296999999991,60.113889225030235,61.139879026772938,1014923.2739400001,21.97193422807382,1119067.81498,-6.560004880185244,90.693634501331701,69.478383029955864]
[25,"Seguros Azteca",545140.19307999988,-36.613655936972833,0,27.782976186385,52.868657160023943,313604.11606000003,-12.458452337910487,745401.94288999995,7.6342340004331044,42.071813610268393,51.728208512256813]
[26,"Hir Seguros",417602.72994999995,8.4835104163916597,96183.779909999997,23.226172217790069,26.909034174869017,269066.59493999998,-16.917052421980983,614952.86577999999,39.050089533430032,43.754019196043366,73.228026496581236]
[27,"HSBC Seguros",752600.98979999998,17.100871488542047,0,46.387587281009793,43.514232202036929,746568.68478000001,16.84018953252253,1197219.9429300001,17.495404339698251,62.358523944472154,62.708217217014017]
[28,"Seguros Azteca Daños",-20785.99139000001,-119.09660689132242,7886.3938499999995,-1.6614597866479786,6.3337234500279074,22596.73602,116.57601641590433,94293.007489999989,-11.93921016594156,23.964381475897291,9.7440261187536645]
[29,"HDI Global Seguros",87458.832719999991,-54.219293011682545,0,8.5971312589734694,40.652856552547171,470.59458000000001,-43.432774156379836,-24803.69485,172.25498264304835,-1.8972761229563346,-9.1314868321902054]
[30,"Cardif Vida",211269.16222000003,-22.303978839399608,-20536.893319999999,21.721253674402401,32.478519781629252,182371.62034999998,-10.433300997362394,538017.69024999999,-0.67661118444294344,33.896956114074541,37.58942318152144]
[31,"BUPA México",758665.86320000002,20.219288507705112,0,86.72676188497401,76.382917283778113,748648.85083000001,40.211580592128193,1017798.1670700001,8.1183908916685468,73.555727948025563,56.71947290673608]
[32,"ANA",591466.43058000004,49.59338872041301,7185.2370300000002,71.936893080787087,54.677228412964915,450632.70748000004,50.724539241931652,626107.50834000006,7.2914613925781468,71.973694849110387,51.233614254341795]
[33,"Ve Por Más",615816.13243,43.769820970712601,3583.2302400000003,80.54467227307552,63.162609337832798,425272.12670999998,31.146065466547057,694924.42986000003,13.339603499162255,61.196888242319467,52.887831778196094]
[34,"Seguros Argos",623983.12085000018,-2.2978109227163812,-398.33476999999999,82.313108654977853,54.264169213655158,446708.59593999997,-13.136774248963345,640711.32867999992,-12.342760145600895,69.720726939589724,70.358041982958994]
[35,"Plan Seguro",474349.77591999999,9.2547758206920285,0,67.503299026139771,51.563595727831725,358223.54981,12.495178479840297,490077.99319000001,-7.3403103321316054,73.095212351459153,60.206844277391824]
[36,"FM Global",285738.26993000001,0.81528500707668261,0,41.680603785115252,49.463289432431864,2167.3376699999999,7.3403836542014433,12371.73554,-9.5297905671015819,17.518461035580785,14.765168381890998]
[37,"El Potosí",255047.79302999997,7.1605810347971088,-153.74030999999999,38.435748775313542,43.386405813659529,251631.77739999999,17.679209905328385,383716.2536,6.867496793147887,65.577565463857113,59.552662467305325]
[38,"General de Seguros",470556.09862999996,-4.1262018093946251,793.18721000000005,71.216133068100646,76.862678625483554,399339.74556999997,-9.3950147823052212,551981.62258000008,12.967486098996517,72.346565398945444,90.202648357359877]
[39,"AXA Salud",114368.80999000001,8.6258474145509254,0,23.471904649019642,21.557178201618388,13537.33058,-42.398542005986315,-28789.386170000002,59.329692355846596,-47.021949339463802,-130.0660258114923]
[40,"Assurant Vida",62581.925040000002,-19.894498221851052,1473.03836,13.946711329983023,107.82903953418983,8471.4018800000013,-12.046115608622344,20940.05056,-42.318410642878291,40.455498690066207,26.531374695109395]
[41,"Prudential",48369.278169999998,3.0731818342263351,0,11.159210503691225,13.502911104082461,93881.988200000007,-31.36882330551699,757367.24661999999,-10.276135753594041,12.395834203152988,16.205494337008215]
[42,"Cardif Seguros Generales",53604.732579999996,27.952591473450681,0,12.416362851122573,14.549441392732323,39498.58814,-42.384706162006559,409071.47012000001,25.728435141675487,9.6556692473354833,21.070658567266438]
[43,"Insignia Life",164032.83993000002,-34.746816502120694,6173.0976600000004,38.950818502285003,62.114969798948771,160248.13934999998,-30.342406476046136,299673.52357999998,-0.14029636212318231,53.474240044840194,76.659578561268177]
[44,"El Águila",134472.34600000002,25.634520677341776,0,33.513682980661969,32.75103677240616,126931.24896,20.145924356518961,291613.53474999999,18.035857562716039,43.527214561154729,42.762766407260742]
[45,"La Latinoamericana",232495.58491000001,-0.55157512653146723,1622.9062899999999,61.462276533203678,60.42489773208878,140506.87891,-0.36746994408062283,221114.07722000001,13.155545047201489,63.544972204642157,72.169862200526865]
[46,"Patrimonial Inbursa",310.33876999999666,-97.89047552251931,0,8.4842233334552944E-2,3.682466489225718,271.27640000000002,-98.147134696890731,247900.69594999999,-11.387114723377289,0.10942946285827078,5.2334405646595998]
[47,"Tokio Marine",103187.24733,-34.876227782706827,52.95338000000001,31.36590124678737,23.453342813856594,38259.84923,11.387450791946897,72337.827420000001,6.0764715202134667,52.890514678938082,50.368682774769383]
[48,"Patrimonial Vida",326666.07067000004,11.142280598307952,935.52278000000001,102.58651931944817,20.889535872832717,62022.876530000001,-39.443968851646829,106717.26347000001,-67.580897485722929,58.118878345709888,31.114355405631738]
[49,"Pan-American México",136472.80111,-29.193954394831923,9464.6250299999992,44.150122509225909,133.88132302006179,120450.37912,-24.331475104675672,231540.63569,3.0092293622178579,52.021269942985704,70.817700420138422]
[50,"BBVA Bancomer Salud",249870.94431999998,71.767975195738387,0,84.581662027852616,118.85485865978463,234506.6489,80.188116040116569,305396.83589999995,19.220350436071065,76.787517529090437,50.805985156623478]
[51,"Dentegra",71242.006860000009,118.29363434993682,53.472139999999996,24.437990363646819,28.305352148839734,71242.006859999994,118.29363434993678,314461.95754000003,141.03199951757048,22.655206822891415,25.015066592605862]
[52,"Primero Seguros",142370.60707,7.3308114367083732,0,49.932876882743216,46.787303173858461,114535.77582,12.165088814125324,185936.62181000001,-5.3358463081374712,61.599363646091611,51.988115813627367]
[53,"General de Salud",165561.19089,37.652409442557364,0,68.981499638487819,93.390558020354447,119637.61258,2.274122714539617,138717.16018000001,8.4222223475397762,86.245719292953879,91.430288576552968]
[54,"PREVEM Seguros",114667.90078,37.330709382112893,0,52.843288241655337,65.829088984277931,102996.30339,49.506616120472557,155426.43409,15.177912550574302,66.266915272829181,51.051151917852081]
[55,"Berkley Seguros",57749.803430000007,18.183307376558222,1126.9045000000001,29.941347256077545,35.175330980228743,5452.5139100000006,34.603677177930095,5515.1693700000005,42.400712480535944,98.863943139428926,104.59072320201204]
[56,"Atradius",23430.442950000004,-20.880175829871629,4052.0895499999997,12.222213472147578,15.728550882586291,10105.43605,-14.666607931453369,28701.205579999998,-34.038914371640004,35.209099568423078,27.215962886658073]
[57,"Sompo Japan",23399.659439999996,-175.70195648636934,2.9510900000000002,12.3786812412771,-16.5467658487736,8110.1187800000007,-269.60612210995583,-18513.69371,-298.95875714682018,-43.806054626578359,-51.387285291266828]
[58,"Solunion Crédito",46882.794429999994,26.292151293753641,186.24894,26.969520651432926,26.875798984777987,3101.8980799999999,1.4232148933381872,4675.4577900000004,16.618523604592973,66.344264440466688,76.284016206906017]
[59,"Swiss Re Corporate Solutions",33258.891510000001,114.9039242022011,0,25.2770876043847,17.562891478878417,115.39917,-90.470987072380709,2133.3900800000001,240.29598902191802,5.4091922092372338,193.17073306898354]
[60,"SHF Cred Vivienda",-217169.86593,-1371.3724803994501,0,-168.79771058926079,17.309516611925197,-201928.47188,-1829.0022715389839,174526.01066,63.88151396298349,-115.70107579745444,10.966594885936921]
[61,"Skandia Life",33840.657930000001,220.34954478712999,0,32.140769353304563,6.8968341062175904,30110.942629999998,270.63301571123372,88634.459760000012,11.835191246638166,33.972049597338227,10.250761542297871]
[62,"Coface",-2657.5302299999998,-146.28642400994187,-4724.9663799999998,-2.6446064942571854,5.0539713595749935,-1796.71018,-126.09850690600899,14165.4684,68.054159090258025,-12.683732929014898,81.673410635619135]
[63,"Patrimonial Daños",10926.71838,87.578612455353763,0,15.166183741990357,11.182624358282716,10747.49266,110.23179221597572,70207.554049999992,41.680757237554886,15.308171329179073,10.316580965129134]
[64,"Assurant Daños",19552.652689999999,74.355335599841951,148.32820999999998,29.893176037336477,18.073105804496009,4762.7736299999997,37.301043048024376,11364.31833,-28.316922739717533,41.909892803926759,21.880606418869199]
[65,"MediAccess",51471.835990000007,54.583366507731654,0,99.471954561910508,91.883263095463363,47888.912200000006,69.128305011536156,71864.317319999987,44.490896654281428,66.637956062058663,56.930612660954083]
[66,"Centauro",24760.92627,33.461914675888615,89.036799999999999,56.54420829477904,53.050711356839784,24760.92627,33.461914675888615,46170.785530000001,16.533548366723782,53.628990682671628,46.826666579411437]
[67,"Odontoprev",5803.7488400000011,7.0156896566027305,0,15.226188620875988,47.093925690952531,5794.7488400000002,7.3943069443162202,22957.976589999998,60.526656949724675,25.240677536556372,37.728271631663482]
[68,"Virginia Surety",9368.6654699999999,85.054433377431593,0,26.251605284560565,23.048020447350908,5605.11139,38.503948187238905,14317.684130000001,76.797567087337228,39.148170466029129,49.971870007327304]
[69,"Genworth Seg. de Crédito",-272.83399000000003,-103.14481076892315,0,-1.0779532884981573,50.11262378880383,-7497.06286,-491.95711476162893,37646.082750000001,-8.9343384169398696,-19.914589546504676,4.6268716752608361]
[70,"Metlife Más",405.19159999999988,-2168.7912892482382,0,1.6462690756018714,-7.9351496883411324E-2,539.89296000000002,-1290.3614521584873,8217.7827300000008,-18.698953269330808,6.5698130230318217,-0.44871469470783365]
[71,"Crabi",9879.7429499999998,26.712764601749228,0,49.924582307419222,84.728345479228821,3272.07431,90.13171796166786,4248.4987199999996,82.973432572594447,77.017189497941061,74.117562711831866]
[72,"SPT",5304.1057499999997,37.358399139250274,0,51.644129250604884,50.207401051750978,5304.1057499999997,37.358399139250274,7499.2788,-8.2090469058285986,70.728211224791366,47.264746529171781]
[73,"Citibanamex Pensiones",195153.23121999999,4.8412709097812812,0,14034.670075108872,1654.4727304430846,195153.23121999999,4.8412709097813034,-63094.448079999995,-20.119452168913732,-309.3033335873821,-235.66406166711405]
[74,"Metlife Pensiones",91374.918869999994,-4.6113967266525613E-2,0,8333.5005844445313,581.06824431086079,91374.918870000009,-4.6113967266492306E-2,-21153.477480000001,-36.592450097035325,-431.96169025349303,-274.02268704137833]
[75,"Pensiones Inbursa",6364.399879999999,5.2313192492641436,0,6957.864686343446,0,6364.3998799999999,5.2313192492641658,-1987.5904599999999,-44.718512747522688,-320.20680356857821,-168.21520870324585]
[76,"Quálitas Salud",3052.3492699999997,0,0,-12021.529426730822,0,3052.3492700000002,0,3308.5948699999999,0,92.255153318302774,0]
[77,"Zurich Daños",0,0,0,0,0,0,-100,0,-100,0,52.653637726434589]
[78,"Aserta Seguros de Vida",-1151.0593900000003,-107.60573852767239,0,0,14359.329091091437,-2337.5423900000001,-165.84497190532619,584.82031000000006,-87.858012383799306,-399.70266935496818,73.706233308876349]
[79,"Zurich Vida",0,0,0,0,0,0,-100,0,-100,0,39.481271482111495]
[80,"Principal México",0,0,0,0,0,0,0,0,0,0,0]
[150.1,"TOTAL RESTO",21661251.053870007,16.658634613811074,134922.68824000002,43.77394142005538,40.834045570401692,18370069.322790004,13.306545296432116,18125266.609290004,11.644358369997088,101.35061579383627,99.863820233015659]
[151.1,"TOTAL",103686529.03886999,7.6603390865122689,827800.19380999974,47.219320501544821,50.273223393115707,93921976.441640005,8.0424640712035256,118831548.90620001,0.99149479322593326,79.037913168814754,73.879812579943533]
[200,"Patria",0,0,0,0,0,957092.44352999993,21.282142205301025,2064338.3064600001,11.690609976011812,46.363158622544567,42.696553448082632]

{"sheet":"TD Operación","index":5,"n_rows":1616,"n_cols":4,"rows_kept":1616,"cut":false,"hidden":true,"merged":[]}
[]
[]
[]
[null,"periodo","2023-Q1"]
[]
[null,"nombre_compania","Ramo_","Suma de Prima_DirectaAct"]
[{"$f":"B7&\"|\"&C7","v":"Afirme|10 Total General"},"Afirme","10 Total General",2232143.8743000003]
[{"$f":"B8&\"|\"&C8","v":"Afirme|11 Total General Sin Pensiones"},"Afirme","11 Total General Sin Pensiones",2232143.8743000003]
["Afirme|12 Vida Total","Afirme","12 Vida Total",736934.18177999998]
["Afirme|13 Vida Individual","Afirme","13 Vida Individual",399952.65482]
["Afirme|14 Vida Gpo y Col","Afirme","14 Vida Gpo y Col",336981.52695999999]
["Afirme|38 Daños Total","Afirme","38 Daños Total",1495209.69252]
["Afirme|39 Automoviles Total","Afirme","39 Automoviles Total",605741.27475999994]
["Afirme|41 Automoviles Residentes","Afirme","41 Automoviles Residentes",370779.66937000002]
["Afirme|42 Camiones","Afirme","42 Camiones",225045.27088]
["Afirme|44 Otros Automoviles y Obligatorios","Afirme","44 Otros Automoviles y Obligatorios",9916.3345100000006]
["Afirme|45 Daños Sin Autos Total","Afirme","45 Daños Sin Autos Total",889468.41775999998]
["Afirme|46 Responsabilidad Civil y Riesgos Profesionales","Afirme","46 Responsabilidad Civil y Riesgos Profesionales",183408.08093999999]
["Afirme|47 RC General","Afirme","47 RC General",100803.64837000001]
["Afirme|48 RC Aviones y Barcos","Afirme","48 RC Aviones y Barcos",12675.000900000001]
["Afirme|49 RC Viajero","Afirme","49 RC Viajero",230.12805]
["Afirme|50 RC Otros","Afirme","50 RC Otros",69699.303620000006]
["Afirme|51 Maritimo y Transportes","Afirme","51 Maritimo y Transportes",59928.612479999996]
["Afirme|52 MyT Carga","Afirme","52 MyT Carga",34445.48459]
["Afirme|53 MyT Cascos","Afirme","53 MyT Cascos",25483.12789]
["Afirme|54 Incendio","Afirme","54 Incendio",218956.92138999997]
["Afirme|55 Riesgos Catastroficos","Afirme","55 Riesgos Catastroficos",250118.63435000001]
["Afirme|56 Terremoto y Erupcion Volcanica","Afirme","56 Terremoto y Erupcion Volcanica",131582.22528000001]
["Afirme|57 Huracan y Otros Riesgos Hidrometeorologicos","Afirme","57 Huracan y Otros Riesgos Hidrometeorologicos",118536.40906999999]
["Afirme|63 Diversos","Afirme","63 Diversos",177056.1686]
["Afirme|64 Miscelaneos","Afirme","64 Miscelaneos",65109.466650000002]
["Afirme|65 Tecnicos","Afirme","65 Tecnicos",111946.70195]
["Agroasemex|10 Total General","Agroasemex","10 Total General",7438742.8628900005]
["Agroasemex|11 Total General Sin Pensiones","Agroasemex","11 Total General Sin Pensiones",7438742.8628900005]
["Agroasemex|12 Vida Total","Agroasemex","12 Vida Total",3674.2459700000004]
["Agroasemex|14 Vida Gpo y Col","Agroasemex","14 Vida Gpo y Col",3674.2459700000004]
["Agroasemex|28 Accidentes y Enfermedades Total","Agroasemex","28 Accidentes y Enfermedades Total",0]
["Agroasemex|29 Accidentes Personales","Agroasemex","29 Accidentes Personales",0]
["Agroasemex|31 AP Gpo y Col","Agroasemex","31 AP Gpo y Col",0]
["Agroasemex|38 Daños Total","Agroasemex","38 Daños Total",7435068.6169199999]
["Agroasemex|45 Daños Sin Autos Total","Agroasemex","45 Daños Sin Autos Total",7435068.6169199999]
["Agroasemex|46 Responsabilidad Civil y Riesgos Profesionales","Agroasemex","46 Responsabilidad Civil y Riesgos Profesionales",694581.25372000004]
["Agroasemex|47 RC General","Agroasemex","47 RC General",668189.85776000004]
["Agroasemex|48 RC Aviones y Barcos","Agroasemex","48 RC Aviones y Barcos",782.88864999999998]
["Agroasemex|49 RC Viajero","Agroasemex","49 RC Viajero",11183.28709]
["Agroasemex|50 RC Otros","Agroasemex","50 RC Otros",14425.220220000001]
["Agroasemex|51 Maritimo y Transportes","Agroasemex","51 Maritimo y Transportes",435122.08551999996]
["Agroasemex|52 MyT Carga","Agroasemex","52 MyT Carga",338669.83355000004]
["Agroasemex|53 MyT Cascos","Agroasemex","53 MyT Cascos",96452.251969999998]
["Agroasemex|54 Incendio","Agroasemex","54 Incendio",1243764.2566800001]
["Agroasemex|55 Riesgos Catastroficos","Agroasemex","55 Riesgos Catastroficos",3158937.7068499997]
["Agroasemex|56 Terremoto y Erupcion Volcanica","Agroasemex","56 Terremoto y Erupcion Volcanica",565460.09057]
["Agroasemex|57 Huracan y Otros Riesgos Hidrometeorologicos","Agroasemex","57 Huracan y Otros Riesgos Hidrometeorologicos",2527689.3694099998]
["Agroasemex|58 Otros Riesgos Catastroficos","Agroasemex","58 Otros Riesgos Catastroficos",65788.246870000003]
["Agroasemex|59 Agricola y de Animales","Agroasemex","59 Agricola y de Animales",116916.33162000001]
["Agroasemex|60 AyA Agricola","Agroasemex","60 AyA Agricola",52834.310950000006]
["Agroasemex|61 AyA Otros","Agroasemex","61 AyA Otros",0]
["Agroasemex|62 AyA Pecuario","Agroasemex","62 AyA Pecuario",64082.020670000005]
["Agroasemex|63 Diversos","Agroasemex","63 Diversos",1785746.9825299999]
["Agroasemex|64 Miscelaneos","Agroasemex","64 Miscelaneos",889338.21396000008]
["Agroasemex|65 Tecnicos","Agroasemex","65 Tecnicos",896408.76857000007]
["AIG Seguros|10 Total General","AIG Seguros","10 Total General",3306000.0739899999]
["AIG Seguros|11 Total General Sin Pensiones","AIG Seguros","11 Total General Sin Pensiones",3306000.0739899999]
["AIG Seguros|28 Accidentes y Enfermedades Total","AIG Seguros","28 Accidentes y Enfermedades Total",68838.660999999993]
["AIG Seguros|29 Accidentes Personales","AIG Seguros","29 Accidentes Personales",68838.660999999993]
["AIG Seguros|30 AP Individual","AIG Seguros","30 AP Individual",23238.054489999999]
["AIG Seguros|31 AP Gpo y Col","AIG Seguros","31 AP Gpo y Col",45600.606509999998]
["AIG Seguros|38 Daños Total","AIG Seguros","38 Daños Total",3237161.4129899996]
["AIG Seguros|39 Automoviles Total","AIG Seguros","39 Automoviles Total",111478.44326]
["AIG Seguros|41 Automoviles Residentes","AIG Seguros","41 Automoviles Residentes",90300.668989999991]
["AIG Seguros|42 Camiones","AIG Seguros","42 Camiones",7329.8548099999998]
[{"$f":"B72&\"|\"&C72","v":"AIG Seguros|43 Automoviles Turistas"},"AIG Seguros","43 Automoviles Turistas",10395.041939999999]
["AIG Seguros|44 Otros Automoviles y Obligatorios","AIG Seguros","44 Otros Automoviles y Obligatorios",3452.87752]
["AIG Seguros|45 Daños Sin Autos Total","AIG Seguros","45 Daños Sin Autos Total",3125682.96973]
["AIG Seguros|46 Responsabilidad Civil y Riesgos Profesionales","AIG Seguros","46 Responsabilidad Civil y Riesgos Profesionales",788268.74676000001]
["AIG Seguros|47 RC General","AIG Seguros","47 RC General",787850.09841999994]
["AIG Seguros|48 RC Aviones y Barcos","AIG Seguros","48 RC Aviones y Barcos",418.64834000000002]
["AIG Seguros|51 Maritimo y Transportes","AIG Seguros","51 Maritimo y Transportes",216816.56787]
["AIG Seguros|52 MyT Carga","AIG Seguros","52 MyT Carga",216559.41227]
["AIG Seguros|53 MyT Cascos","AIG Seguros","53 MyT Cascos",257.15559999999999]
["AIG Seguros|54 Incendio","AIG Seguros","54 Incendio",690240.87161000003]
["AIG Seguros|55 Riesgos Catastroficos","AIG Seguros","55 Riesgos Catastroficos",163086.43502999999]
["AIG Seguros|56 Terremoto y Erupcion Volcanica","AIG Seguros","56 Terremoto y Erupcion Volcanica",84528.852150000006]
["AIG Seguros|57 Huracan y Otros Riesgos Hidrometeorologicos","AIG Seguros","57 Huracan y Otros Riesgos Hidrometeorologicos",78557.582880000002]
["AIG Seguros|63 Diversos","AIG Seguros","63 Diversos",1261179.2992400001]
["AIG Seguros|64 Miscelaneos","AIG Seguros","64 Miscelaneos",109245.23824999999]
["AIG Seguros|65 Tecnicos","AIG Seguros","65 Tecnicos",1151934.0609899999]
["AIG Seguros|66 Credito","AIG Seguros","66 Credito",6091.0492199999999]
["Allianz México|10 Total General","Allianz México","10 Total General",5252582.0563999992]
["Allianz México|11 Total General Sin Pensiones","Allianz México","11 Total General Sin Pensiones",5252582.0563999992]
["Allianz México|12 Vida Total","Allianz México","12 Vida Total",2952744.1178600001]
["Allianz México|13 Vida Individual","Allianz México","13 Vida Individual",2452954.8583200001]
["Allianz México|14 Vida Gpo y Col","Allianz México","14 Vida Gpo y Col",499789.25954]
["Allianz México|28 Accidentes y Enfermedades Total","Allianz México","28 Accidentes y Enfermedades Total",797857.53898000007]
["Allianz México|29 Accidentes Personales","Allianz México","29 Accidentes Personales",13.301549999999999]
["Allianz México|30 AP Individual","Allianz México","30 AP Individual",0]
["Allianz México|31 AP Gpo y Col","Allianz México","31 AP Gpo y Col",13.301549999999999]
["Allianz México|32 Gastos Medicos","Allianz México","32 Gastos Medicos",797844.23742999998]
["Allianz México|33 GMM. Individual","Allianz México","33 GMM. Individual",365074.13361999998]
["Allianz México|34 GMM. Gpo y Col","Allianz México","34 GMM. Gpo y Col",432770.10381]
["Allianz México|38 Daños Total","Allianz México","38 Daños Total",1501980.39956]
["Allianz México|39 Automoviles Total","Allianz México","39 Automoviles Total",29844.048649999997]
["Allianz México|41 Automoviles Residentes","Allianz México","41 Automoviles Residentes",29844.048649999997]
["Allianz México|42 Camiones","Allianz México","42 Camiones",0]
["Allianz México|45 Daños Sin Autos Total","Allianz México","45 Daños Sin Autos Total",1472136.3509099998]
["Allianz México|46 Responsabilidad Civil y Riesgos Profesionales","Allianz México","46 Responsabilidad Civil y Riesgos Profesionales",57943.460169999998]
["Allianz México|47 RC General","Allianz México","47 RC General",53024.320780000002]
["Allianz México|48 RC Aviones y Barcos","Allianz México","48 RC Aviones y Barcos",4919.1393899999994]
["Allianz México|50 RC Otros","Allianz México","50 RC Otros",0]
["Allianz México|51 Maritimo y Transportes","Allianz México","51 Maritimo y Transportes",78948.474130000002]
["Allianz México|52 MyT Carga","Allianz México","52 MyT Carga",69836.375819999987]
["Allianz México|53 MyT Cascos","Allianz México","53 MyT Cascos",9112.0983100000012]
["Allianz México|54 Incendio","Allianz México","54 Incendio",271193.54366000002]
["Allianz México|55 Riesgos Catastroficos","Allianz México","55 Riesgos Catastroficos",150313.47588999997]
["Allianz México|56 Terremoto y Erupcion Volcanica","Allianz México","56 Terremoto y Erupcion Volcanica",67965.905339999998]
["Allianz México|57 Huracan y Otros Riesgos Hidrometeorologicos","Allianz México","57 Huracan y Otros Riesgos Hidrometeorologicos",82347.570550000004]
["Allianz México|63 Diversos","Allianz México","63 Diversos",913737.39705999999]
["Allianz México|64 Miscelaneos","Allianz México","64 Miscelaneos",31430.273390000002]
["Allianz México|65 Tecnicos","Allianz México","65 Tecnicos",882307.12367]
["ANA|10 Total General","ANA","10 Total General",822201.80111999996]
["ANA|11 Total General Sin Pensiones","ANA","11 Total General Sin Pensiones",822201.80111999996]
["ANA|38 Daños Total","ANA","38 Daños Total",822201.80111999996]
["ANA|39 Automoviles Total","ANA","39 Automoviles Total",822201.80111999996]
["ANA|41 Automoviles Residentes","ANA","41 Automoviles Residentes",435820.77703]
["ANA|42 Camiones","ANA","42 Camiones",336301.35054000001]
["ANA|43 Automoviles Turistas","ANA","43 Automoviles Turistas",35055.947380000005]
["ANA|44 Otros Automoviles y Obligatorios","ANA","44 Otros Automoviles y Obligatorios",15023.72617]
["Aserta Seguros de Vida|10 Total General","Aserta Seguros de Vida","10 Total General",0]
["Aserta Seguros de Vida|11 Total General Sin Pensiones","Aserta Seguros de Vida","11 Total General Sin Pensiones",0]
["Aserta Seguros de Vida|12 Vida Total","Aserta Seguros de Vida","12 Vida Total",0]
["Aserta Seguros de Vida|13 Vida Individual","Aserta Seguros de Vida","13 Vida Individual",0]
["Aserta Seguros de Vida|14 Vida Gpo y Col","Aserta Seguros de Vida","14 Vida Gpo y Col",0]
["Aserta Seguros de Vida|28 Accidentes y Enfermedades Total","Aserta Seguros de Vida","28 Accidentes y Enfermedades Total",0]
["Aserta Seguros de Vida|29 Accidentes Personales","Aserta Seguros de Vida","29 Accidentes Personales",0]
["Aserta Seguros de Vida|30 AP Individual","Aserta Seguros de Vida","30 AP Individual",0]
[{"$f":"B136&\"|\"&C136","v":"Aserta Seguros de Vida|31 AP Gpo y Col"},"Aserta Seguros de Vida","31 AP Gpo y Col",0]
["Aserta Seguros de Vida|32 Gastos Medicos","Aserta Seguros de Vida","32 Gastos Medicos",0]
["Aserta Seguros de Vida|33 GMM. Individual","Aserta Seguros de Vida","33 GMM. Individual",0]
["Assurant Daños|10 Total General","Assurant Daños","10 Total General",65408.41517]
["Assurant Daños|11 Total General Sin Pensiones","Assurant Daños","11 Total General Sin Pensiones",65408.41517]
["Assurant Daños|38 Daños Total","Assurant Daños","38 Daños Total",65408.41517]
["Assurant Daños|39 Automoviles Total","Assurant Daños","39 Automoviles Total",8672.0940099999989]
["Assurant Daños|41 Automoviles Residentes","Assurant Daños","41 Automoviles Residentes",8672.0940099999989]
["Assurant Daños|45 Daños Sin Autos Total","Assurant Daños","45 Daños Sin Autos Total",56736.32116]
["Assurant Daños|46 Responsabilidad Civil y Riesgos Profesionales","Assurant Daños","46 Responsabilidad Civil y Riesgos Profesionales",0]
["Assurant Daños|47 RC General","Assurant Daños","47 RC General",0]
["Assurant Daños|54 Incendio","Assurant Daños","54 Incendio",0]
["Assurant Daños|55 Riesgos Catastroficos","Assurant Daños","55 Riesgos Catastroficos",0]
["Assurant Daños|56 Terremoto y Erupcion Volcanica","Assurant Daños","56 Terremoto y Erupcion Volcanica",0]
["Assurant Daños|57 Huracan y Otros Riesgos Hidrometeorologicos","Assurant Daños","57 Huracan y Otros Riesgos Hidrometeorologicos",0]
["Assurant Daños|63 Diversos","Assurant Daños","63 Diversos",56736.32116]
["Assurant Daños|64 Miscelaneos","Assurant Daños","64 Miscelaneos",46370.022450000004]
["Assurant Daños|65 Tecnicos","Assurant Daños","65 Tecnicos",10366.298710000001]
["Assurant Vida|10 Total General","Assurant Vida","10 Total General",448721.73488999996]
["Assurant Vida|11 Total General Sin Pensiones","Assurant Vida","11 Total General Sin Pensiones",448721.73488999996]
["Assurant Vida|12 Vida Total","Assurant Vida","12 Vida Total",448721.73488999996]
["Assurant Vida|14 Vida Gpo y Col","Assurant Vida","14 Vida Gpo y Col",448721.73488999996]
["Assurant Vida|28 Accidentes y Enfermedades Total","Assurant Vida","28 Accidentes y Enfermedades Total",0]
["Assurant Vida|29 Accidentes Personales","Assurant Vida","29 Accidentes Personales",0]
["Assurant Vida|30 AP Individual","Assurant Vida","30 AP Individual",0]
["Assurant Vida|31 AP Gpo y Col","Assurant Vida","31 AP Gpo y Col",0]
["Assurant Vida|32 Gastos Medicos","Assurant Vida","32 Gastos Medicos",0]
["Assurant Vida|33 GMM. Individual","Assurant Vida","33 GMM. Individual",0]
["Atlas|10 Total General","Atlas","10 Total General",5493499.0403699996]
["Atlas|11 Total General Sin Pensiones","Atlas","11 Total General Sin Pensiones",5493499.0403699996]
["Atlas|12 Vida Total","Atlas","12 Vida Total",907585.70137000002]
["Atlas|13 Vida Individual","Atlas","13 Vida Individual",208363.40216999999]
["Atlas|14 Vida Gpo y Col","Atlas","14 Vida Gpo y Col",699222.29920000001]
["Atlas|28 Accidentes y Enfermedades Total","Atlas","28 Accidentes y Enfermedades Total",1911914.9017]
["Atlas|29 Accidentes Personales","Atlas","29 Accidentes Personales",14126.41388]
["Atlas|30 AP Individual","Atlas","30 AP Individual",1465.3166200000001]
["Atlas|31 AP Gpo y Col","Atlas","31 AP Gpo y Col",12661.09726]
["Atlas|32 Gastos Medicos","Atlas","32 Gastos Medicos",1897788.4878199999]
["Atlas|33 GMM. Individual","Atlas","33 GMM. Individual",382620.21160000004]
["Atlas|34 GMM. Gpo y Col","Atlas","34 GMM. Gpo y Col",1515168.2762200001]
["Atlas|38 Daños Total","Atlas","38 Daños Total",2673998.4373000003]
["Atlas|39 Automoviles Total","Atlas","39 Automoviles Total",1027555.6229]
["Atlas|41 Automoviles Residentes","Atlas","41 Automoviles Residentes",609850.02270000009]
["Atlas|42 Camiones","Atlas","42 Camiones",385041.70970000001]
["Atlas|43 Automoviles Turistas","Atlas","43 Automoviles Turistas",622.42810999999995]
["Atlas|44 Otros Automoviles y Obligatorios","Atlas","44 Otros Automoviles y Obligatorios",32041.462390000001]
["Atlas|45 Daños Sin Autos Total","Atlas","45 Daños Sin Autos Total",1646442.8143999998]
["Atlas|46 Responsabilidad Civil y Riesgos Profesionales","Atlas","46 Responsabilidad Civil y Riesgos Profesionales",189433.10813000001]
["Atlas|47 RC General","Atlas","47 RC General",110010.29913]
["Atlas|48 RC Aviones y Barcos","Atlas","48 RC Aviones y Barcos",77455.473290000009]
["Atlas|49 RC Viajero","Atlas","49 RC Viajero",1967.3357100000001]
["Atlas|51 Maritimo y Transportes","Atlas","51 Maritimo y Transportes",443173.75564999995]
["Atlas|52 MyT Carga","Atlas","52 MyT Carga",292361.72742000001]
["Atlas|53 MyT Cascos","Atlas","53 MyT Cascos",150812.02823]
["Atlas|54 Incendio","Atlas","54 Incendio",102011.88292]
["Atlas|55 Riesgos Catastroficos","Atlas","55 Riesgos Catastroficos",392743.94292]
["Atlas|56 Terremoto y Erupcion Volcanica","Atlas","56 Terremoto y Erupcion Volcanica",151172.36168]
["Atlas|57 Huracan y Otros Riesgos Hidrometeorologicos","Atlas","57 Huracan y Otros Riesgos Hidrometeorologicos",241571.58124]
["Atlas|63 Diversos","Atlas","63 Diversos",519080.12477999995]
["Atlas|64 Miscelaneos","Atlas","64 Miscelaneos",68740.817709999988]
["Atlas|65 Tecnicos","Atlas","65 Tecnicos",450339.30706999998]
["Atradius|10 Total General","Atradius","10 Total General",191703.76137999998]
["Atradius|11 Total General Sin Pensiones","Atradius","11 Total General Sin Pensiones",191703.76137999998]
["Atradius|38 Daños Total","Atradius","38 Daños Total",191703.76137999998]
[{"$f":"B200&\"|\"&C200","v":"Atradius|45 Daños Sin Autos Total"},"Atradius","45 Daños Sin Autos Total",191703.76137999998]
["Atradius|66 Credito","Atradius","66 Credito",191703.76137999998]
["AXA Salud|10 Total General","AXA Salud","10 Total General",487258.32735000004]
["AXA Salud|11 Total General Sin Pensiones","AXA Salud","11 Total General Sin Pensiones",487258.32735000004]
["AXA Salud|28 Accidentes y Enfermedades Total","AXA Salud","28 Accidentes y Enfermedades Total",487258.32735000004]
["AXA Salud|35 Salud","AXA Salud","35 Salud",487258.32735000004]
["AXA Salud|36 Salud Individual","AXA Salud","36 Salud Individual",12587.48013]
["AXA Salud|37 Salud Gpo y Col","AXA Salud","37 Salud Gpo y Col",474670.84722000005]
["AXA Seguros|10 Total General","AXA Seguros","10 Total General",15398992.57395]
["AXA Seguros|11 Total General Sin Pensiones","AXA Seguros","11 Total General Sin Pensiones",15398992.57395]
["AXA Seguros|12 Vida Total","AXA Seguros","12 Vida Total",1725044.36372]
["AXA Seguros|13 Vida Individual","AXA Seguros","13 Vida Individual",898520.96833000006]
["AXA Seguros|14 Vida Gpo y Col","AXA Seguros","14 Vida Gpo y Col",826523.39539000008]
["AXA Seguros|28 Accidentes y Enfermedades Total","AXA Seguros","28 Accidentes y Enfermedades Total",8205777.3825200005]
["AXA Seguros|29 Accidentes Personales","AXA Seguros","29 Accidentes Personales",63919.31321]
["AXA Seguros|30 AP Individual","AXA Seguros","30 AP Individual",46881.49437]
["AXA Seguros|31 AP Gpo y Col","AXA Seguros","31 AP Gpo y Col",17037.81884]
["AXA Seguros|32 Gastos Medicos","AXA Seguros","32 Gastos Medicos",8141858.0693100002]
["AXA Seguros|33 GMM. Individual","AXA Seguros","33 GMM. Individual",4102062.7084599999]
["AXA Seguros|34 GMM. Gpo y Col","AXA Seguros","34 GMM. Gpo y Col",4039795.3608499998]
["AXA Seguros|38 Daños Total","AXA Seguros","38 Daños Total",5468170.8277099999]
["AXA Seguros|39 Automoviles Total","AXA Seguros","39 Automoviles Total",3164765.7398200002]
["AXA Seguros|41 Automoviles Residentes","AXA Seguros","41 Automoviles Residentes",2100686.98636]
["AXA Seguros|42 Camiones","AXA Seguros","42 Camiones",1050114.13341]
["AXA Seguros|43 Automoviles Turistas","AXA Seguros","43 Automoviles Turistas",12034.65977]
["AXA Seguros|44 Otros Automoviles y Obligatorios","AXA Seguros","44 Otros Automoviles y Obligatorios",1929.96028]
["AXA Seguros|45 Daños Sin Autos Total","AXA Seguros","45 Daños Sin Autos Total",2303405.0878900001]
["AXA Seguros|46 Responsabilidad Civil y Riesgos Profesionales","AXA Seguros","46 Responsabilidad Civil y Riesgos Profesionales",284900.98639999999]
["AXA Seguros|47 RC General","AXA Seguros","47 RC General",165645.14249999999]
["AXA Seguros|48 RC Aviones y Barcos","AXA Seguros","48 RC Aviones y Barcos",20217.426149999999]
["AXA Seguros|49 RC Viajero","AXA Seguros","49 RC Viajero",23162.289820000002]
["AXA Seguros|50 RC Otros","AXA Seguros","50 RC Otros",75876.127930000002]
["AXA Seguros|51 Maritimo y Transportes","AXA Seguros","51 Maritimo y Transportes",309676.75364000001]
["AXA Seguros|52 MyT Carga","AXA Seguros","52 MyT Carga",271214.37817000004]
["AXA Seguros|53 MyT Cascos","AXA Seguros","53 MyT Cascos",38462.375469999999]
["AXA Seguros|54 Incendio","AXA Seguros","54 Incendio",483163.00530000002]
["AXA Seguros|55 Riesgos Catastroficos","AXA Seguros","55 Riesgos Catastroficos",633139.19602000003]
["AXA Seguros|56 Terremoto y Erupcion Volcanica","AXA Seguros","56 Terremoto y Erupcion Volcanica",225284.91275999998]
["AXA Seguros|57 Huracan y Otros Riesgos Hidrometeorologicos","AXA Seguros","57 Huracan y Otros Riesgos Hidrometeorologicos",407854.28326]
["AXA Seguros|59 Agricola y de Animales","AXA Seguros","59 Agricola y de Animales",0]
["AXA Seguros|60 AyA Agricola","AXA Seguros","60 AyA Agricola",0]
["AXA Seguros|62 AyA Pecuario","AXA Seguros","62 AyA Pecuario",0]
["AXA Seguros|63 Diversos","AXA Seguros","63 Diversos",592525.14653000003]
["AXA Seguros|64 Miscelaneos","AXA Seguros","64 Miscelaneos",361206.94201999996]
["AXA Seguros|65 Tecnicos","AXA Seguros","65 Tecnicos",231318.20450999998]
["Banorte|10 Total General","Banorte","10 Total General",11640133.15574]
["Banorte|11 Total General Sin Pensiones","Banorte","11 Total General Sin Pensiones",11640133.15574]
["Banorte|12 Vida Total","Banorte","12 Vida Total",6687033.3928900007]
["Banorte|13 Vida Individual","Banorte","13 Vida Individual",2486355.1664999998]
["Banorte|14 Vida Gpo y Col","Banorte","14 Vida Gpo y Col",4200678.2263899995]
["Banorte|28 Accidentes y Enfermedades Total","Banorte","28 Accidentes y Enfermedades Total",1265861.09402]
["Banorte|29 Accidentes Personales","Banorte","29 Accidentes Personales",65901.079809999996]
["Banorte|30 AP Individual","Banorte","30 AP Individual",42533.860329999996]
["Banorte|31 AP Gpo y Col","Banorte","31 AP Gpo y Col",23367.21948]
["Banorte|32 Gastos Medicos","Banorte","32 Gastos Medicos",1199960.0142099999]
["Banorte|33 GMM. Individual","Banorte","33 GMM. Individual",172035.88576]
["Banorte|34 GMM. Gpo y Col","Banorte","34 GMM. Gpo y Col",1027924.1284500001]
["Banorte|38 Daños Total","Banorte","38 Daños Total",3687238.6688299999]
["Banorte|39 Automoviles Total","Banorte","39 Automoviles Total",1681507.8777399999]
["Banorte|41 Automoviles Residentes","Banorte","41 Automoviles Residentes",1228191.7048199999]
["Banorte|42 Camiones","Banorte","42 Camiones",453316.17292000004]
["Banorte|43 Automoviles Turistas","Banorte","43 Automoviles Turistas",0]
["Banorte|45 Daños Sin Autos Total","Banorte","45 Daños Sin Autos Total",2005730.7910900002]
["Banorte|46 Responsabilidad Civil y Riesgos Profesionales","Banorte","46 Responsabilidad Civil y Riesgos Profesionales",135584.38233000002]
[{"$f":"B264&\"|\"&C264","v":"Banorte|47 RC General"},"Banorte","47 RC General",71882.592250000002]
["Banorte|48 RC Aviones y Barcos","Banorte","48 RC Aviones y Barcos",45579.761960000003]
["Banorte|49 RC Viajero","Banorte","49 RC Viajero",18122.028120000003]
["Banorte|51 Maritimo y Transportes","Banorte","51 Maritimo y Transportes",168101.90682]
["Banorte|52 MyT Carga","Banorte","52 MyT Carga",35449.287979999994]
["Banorte|53 MyT Cascos","Banorte","53 MyT Cascos",132652.61884000001]
["Banorte|54 Incendio","Banorte","54 Incendio",856406.06578999991]
["Banorte|55 Riesgos Catastroficos","Banorte","55 Riesgos Catastroficos",474980.98063000001]
["Banorte|56 Terremoto y Erupcion Volcanica","Banorte","56 Terremoto y Erupcion Volcanica",161082.92184]
["Banorte|57 Huracan y Otros Riesgos Hidrometeorologicos","Banorte","57 Huracan y Otros Riesgos Hidrometeorologicos",313898.05879000004]
["Banorte|59 Agricola y de Animales","Banorte","59 Agricola y de Animales",0]
["Banorte|60 AyA Agricola","Banorte","60 AyA Agricola",0]
["Banorte|63 Diversos","Banorte","63 Diversos",370657.45551999996]
["Banorte|64 Miscelaneos","Banorte","64 Miscelaneos",226902.69972999999]
["Banorte|65 Tecnicos","Banorte","65 Tecnicos",143754.75579]
["BBVA Bancomer|10 Total General","BBVA Bancomer","10 Total General",17603852.661830001]
["BBVA Bancomer|11 Total General Sin Pensiones","BBVA Bancomer","11 Total General Sin Pensiones",17603852.661830001]
["BBVA Bancomer|12 Vida Total","BBVA Bancomer","12 Vida Total",13962952.188959999]
["BBVA Bancomer|13 Vida Individual","BBVA Bancomer","13 Vida Individual",13060434.092389999]
["BBVA Bancomer|14 Vida Gpo y Col","BBVA Bancomer","14 Vida Gpo y Col",902518.09657000005]
["BBVA Bancomer|28 Accidentes y Enfermedades Total","BBVA Bancomer","28 Accidentes y Enfermedades Total",156844.20155]
["BBVA Bancomer|29 Accidentes Personales","BBVA Bancomer","29 Accidentes Personales",156844.20155]
["BBVA Bancomer|30 AP Individual","BBVA Bancomer","30 AP Individual",141013.90802999999]
["BBVA Bancomer|31 AP Gpo y Col","BBVA Bancomer","31 AP Gpo y Col",15830.293519999999]
["BBVA Bancomer|32 Gastos Medicos","BBVA Bancomer","32 Gastos Medicos",0]
["BBVA Bancomer|33 GMM. Individual","BBVA Bancomer","33 GMM. Individual",0]
["BBVA Bancomer|38 Daños Total","BBVA Bancomer","38 Daños Total",3484056.2713200003]
["BBVA Bancomer|39 Automoviles Total","BBVA Bancomer","39 Automoviles Total",2026550.5375699999]
["BBVA Bancomer|41 Automoviles Residentes","BBVA Bancomer","41 Automoviles Residentes",1604962.06617]
["BBVA Bancomer|42 Camiones","BBVA Bancomer","42 Camiones",421588.47139999998]
["BBVA Bancomer|45 Daños Sin Autos Total","BBVA Bancomer","45 Daños Sin Autos Total",1457505.7337499999]
["BBVA Bancomer|46 Responsabilidad Civil y Riesgos Profesionales","BBVA Bancomer","46 Responsabilidad Civil y Riesgos Profesionales",57552.170909999993]
["BBVA Bancomer|47 RC General","BBVA Bancomer","47 RC General",57552.170909999993]
["BBVA Bancomer|51 Maritimo y Transportes","BBVA Bancomer","51 Maritimo y Transportes",-283.09911]
["BBVA Bancomer|52 MyT Carga","BBVA Bancomer","52 MyT Carga",7.0510999999999999]
["BBVA Bancomer|53 MyT Cascos","BBVA Bancomer","53 MyT Cascos",-290.15021000000002]
["BBVA Bancomer|54 Incendio","BBVA Bancomer","54 Incendio",341229.66766000004]
["BBVA Bancomer|55 Riesgos Catastroficos","BBVA Bancomer","55 Riesgos Catastroficos",425115.96477999998]
["BBVA Bancomer|56 Terremoto y Erupcion Volcanica","BBVA Bancomer","56 Terremoto y Erupcion Volcanica",252760.33105000001]
["BBVA Bancomer|57 Huracan y Otros Riesgos Hidrometeorologicos","BBVA Bancomer","57 Huracan y Otros Riesgos Hidrometeorologicos",172355.63373]
["BBVA Bancomer|63 Diversos","BBVA Bancomer","63 Diversos",633891.02951000002]
["BBVA Bancomer|64 Miscelaneos","BBVA Bancomer","64 Miscelaneos",613625.37962999998]
["BBVA Bancomer|65 Tecnicos","BBVA Bancomer","65 Tecnicos",20265.649879999997]
["BBVA Bancomer Salud|10 Total General","BBVA Bancomer Salud","10 Total General",295419.76160000003]
["BBVA Bancomer Salud|11 Total General Sin Pensiones","BBVA Bancomer Salud","11 Total General Sin Pensiones",295419.76160000003]
["BBVA Bancomer Salud|28 Accidentes y Enfermedades Total","BBVA Bancomer Salud","28 Accidentes y Enfermedades Total",295419.76160000003]
["BBVA Bancomer Salud|32 Gastos Medicos","BBVA Bancomer Salud","32 Gastos Medicos",292052.94319999998]
["BBVA Bancomer Salud|33 GMM. Individual","BBVA Bancomer Salud","33 GMM. Individual",86904.771349999995]
["BBVA Bancomer Salud|34 GMM. Gpo y Col","BBVA Bancomer Salud","34 GMM. Gpo y Col",205148.17190000002]
["BBVA Bancomer Salud|35 Salud","BBVA Bancomer Salud","35 Salud",3366.8184200000001]
["BBVA Bancomer Salud|36 Salud Individual","BBVA Bancomer Salud","36 Salud Individual",230.19613000000001]
["BBVA Bancomer Salud|37 Salud Gpo y Col","BBVA Bancomer Salud","37 Salud Gpo y Col",3136.6222900000002]
["Berkley Seguros|10 Total General","Berkley Seguros","10 Total General",192876.43583999999]
["Berkley Seguros|11 Total General Sin Pensiones","Berkley Seguros","11 Total General Sin Pensiones",192876.43583999999]
["Berkley Seguros|38 Daños Total","Berkley Seguros","38 Daños Total",192876.43583999999]
["Berkley Seguros|45 Daños Sin Autos Total","Berkley Seguros","45 Daños Sin Autos Total",192876.43584000002]
["Berkley Seguros|46 Responsabilidad Civil y Riesgos Profesionales","Berkley Seguros","46 Responsabilidad Civil y Riesgos Profesionales",71989.713250000001]
["Berkley Seguros|47 RC General","Berkley Seguros","47 RC General",55067.801180000002]
["Berkley Seguros|50 RC Otros","Berkley Seguros","50 RC Otros",16921.912069999998]
["Berkley Seguros|51 Maritimo y Transportes","Berkley Seguros","51 Maritimo y Transportes",61237.886119999996]
["Berkley Seguros|52 MyT Carga","Berkley Seguros","52 MyT Carga",61237.886119999996]
["Berkley Seguros|54 Incendio","Berkley Seguros","54 Incendio",4655.4947400000001]
["Berkley Seguros|55 Riesgos Catastroficos","Berkley Seguros","55 Riesgos Catastroficos",6571.28161]
["Berkley Seguros|56 Terremoto y Erupcion Volcanica","Berkley Seguros","56 Terremoto y Erupcion Volcanica",4792.1189299999996]
[{"$f":"B328&\"|\"&C328","v":"Berkley Seguros|57 Huracan y Otros Riesgos Hidrometeorologicos"},"Berkley Seguros","57 Huracan y Otros Riesgos Hidrometeorologicos",1779.1626799999999]
["Berkley Seguros|63 Diversos","Berkley Seguros","63 Diversos",48422.060119999995]
["Berkley Seguros|64 Miscelaneos","Berkley Seguros","64 Miscelaneos",9940.321109999999]
["Berkley Seguros|65 Tecnicos","Berkley Seguros","65 Tecnicos",38481.739009999998]
["BUPA México|10 Total General","BUPA México","10 Total General",874777.11228999996]
["BUPA México|11 Total General Sin Pensiones","BUPA México","11 Total General Sin Pensiones",874777.11228999996]
["BUPA México|28 Accidentes y Enfermedades Total","BUPA México","28 Accidentes y Enfermedades Total",874777.11228999996]
["BUPA México|32 Gastos Medicos","BUPA México","32 Gastos Medicos",874777.11228999996]
["BUPA México|33 GMM. Individual","BUPA México","33 GMM. Individual",713788.13526999997]
["BUPA México|34 GMM. Gpo y Col","BUPA México","34 GMM. Gpo y Col",160988.97702000002]
["Cardif Seguros Generales|10 Total General","Cardif Seguros Generales","10 Total General",431726.53073]
["Cardif Seguros Generales|11 Total General Sin Pensiones","Cardif Seguros Generales","11 Total General Sin Pensiones",431726.53073]
["Cardif Seguros Generales|38 Daños Total","Cardif Seguros Generales","38 Daños Total",431726.53073]
["Cardif Seguros Generales|39 Automoviles Total","Cardif Seguros Generales","39 Automoviles Total",307605.64143999998]
["Cardif Seguros Generales|44 Otros Automoviles y Obligatorios","Cardif Seguros Generales","44 Otros Automoviles y Obligatorios",307605.64143999998]
["Cardif Seguros Generales|45 Daños Sin Autos Total","Cardif Seguros Generales","45 Daños Sin Autos Total",124120.88929000001]
["Cardif Seguros Generales|46 Responsabilidad Civil y Riesgos Profesionales","Cardif Seguros Generales","46 Responsabilidad Civil y Riesgos Profesionales",106.39592999999999]
["Cardif Seguros Generales|47 RC General","Cardif Seguros Generales","47 RC General",106.39592999999999]
["Cardif Seguros Generales|54 Incendio","Cardif Seguros Generales","54 Incendio",1543.5463300000001]
["Cardif Seguros Generales|55 Riesgos Catastroficos","Cardif Seguros Generales","55 Riesgos Catastroficos",13553.836720000001]
["Cardif Seguros Generales|56 Terremoto y Erupcion Volcanica","Cardif Seguros Generales","56 Terremoto y Erupcion Volcanica",11639.283289999999]
["Cardif Seguros Generales|57 Huracan y Otros Riesgos Hidrometeorologicos","Cardif Seguros Generales","57 Huracan y Otros Riesgos Hidrometeorologicos",1914.5534299999999]
["Cardif Seguros Generales|63 Diversos","Cardif Seguros Generales","63 Diversos",108917.11031]
["Cardif Seguros Generales|64 Miscelaneos","Cardif Seguros Generales","64 Miscelaneos",107419.98290999999]
["Cardif Seguros Generales|65 Tecnicos","Cardif Seguros Generales","65 Tecnicos",1497.1273999999999]
["Cardif Vida|10 Total General","Cardif Vida","10 Total General",972637.9765499999]
["Cardif Vida|11 Total General Sin Pensiones","Cardif Vida","11 Total General Sin Pensiones",972637.9765499999]
["Cardif Vida|12 Vida Total","Cardif Vida","12 Vida Total",928745.86585000006]
["Cardif Vida|13 Vida Individual","Cardif Vida","13 Vida Individual",54781.805350000002]
["Cardif Vida|14 Vida Gpo y Col","Cardif Vida","14 Vida Gpo y Col",873964.06050000002]
["Cardif Vida|28 Accidentes y Enfermedades Total","Cardif Vida","28 Accidentes y Enfermedades Total",43892.110700000005]
["Cardif Vida|29 Accidentes Personales","Cardif Vida","29 Accidentes Personales",5300.9697800000004]
["Cardif Vida|30 AP Individual","Cardif Vida","30 AP Individual",4735.3919900000001]
["Cardif Vida|31 AP Gpo y Col","Cardif Vida","31 AP Gpo y Col",565.57779000000005]
["Cardif Vida|32 Gastos Medicos","Cardif Vida","32 Gastos Medicos",38591.140920000005]
["Cardif Vida|33 GMM. Individual","Cardif Vida","33 GMM. Individual",38676.49742]
["Cardif Vida|34 GMM. Gpo y Col","Cardif Vida","34 GMM. Gpo y Col",-85.356499999999997]
["Centauro|10 Total General","Centauro","10 Total General",43790.384579999998]
["Centauro|11 Total General Sin Pensiones","Centauro","11 Total General Sin Pensiones",43790.384579999998]
["Centauro|28 Accidentes y Enfermedades Total","Centauro","28 Accidentes y Enfermedades Total",43790.384579999998]
["Centauro|32 Gastos Medicos","Centauro","32 Gastos Medicos",19630.436030000001]
["Centauro|34 GMM. Gpo y Col","Centauro","34 GMM. Gpo y Col",19630.436030000001]
["Centauro|35 Salud","Centauro","35 Salud",24159.948550000001]
["Centauro|36 Salud Individual","Centauro","36 Salud Individual",238.178]
["Centauro|37 Salud Gpo y Col","Centauro","37 Salud Gpo y Col",23921.770550000001]
["Chubb Seguros México|10 Total General","Chubb Seguros México","10 Total General",6735524.3046000004]
["Chubb Seguros México|11 Total General Sin Pensiones","Chubb Seguros México","11 Total General Sin Pensiones",6735524.3046000004]
["Chubb Seguros México|12 Vida Total","Chubb Seguros México","12 Vida Total",452992.43806000001]
["Chubb Seguros México|13 Vida Individual","Chubb Seguros México","13 Vida Individual",84049.139280000003]
["Chubb Seguros México|14 Vida Gpo y Col","Chubb Seguros México","14 Vida Gpo y Col",368943.29877999995]
["Chubb Seguros México|28 Accidentes y Enfermedades Total","Chubb Seguros México","28 Accidentes y Enfermedades Total",333271.12880000001]
["Chubb Seguros México|29 Accidentes Personales","Chubb Seguros México","29 Accidentes Personales",255020.98105999999]
["Chubb Seguros México|30 AP Individual","Chubb Seguros México","30 AP Individual",165899.60868]
["Chubb Seguros México|31 AP Gpo y Col","Chubb Seguros México","31 AP Gpo y Col",89121.372380000001]
["Chubb Seguros México|32 Gastos Medicos","Chubb Seguros México","32 Gastos Medicos",78250.14774]
["Chubb Seguros México|33 GMM. Individual","Chubb Seguros México","33 GMM. Individual",75224.008439999991]
["Chubb Seguros México|34 GMM. Gpo y Col","Chubb Seguros México","34 GMM. Gpo y Col",3026.1392999999998]
["Chubb Seguros México|38 Daños Total","Chubb Seguros México","38 Daños Total",5949260.7377399998]
["Chubb Seguros México|39 Automoviles Total","Chubb Seguros México","39 Automoviles Total",3727849.1094899997]
["Chubb Seguros México|41 Automoviles Residentes","Chubb Seguros México","41 Automoviles Residentes",2439937.85971]
["Chubb Seguros México|42 Camiones","Chubb Seguros México","42 Camiones",1062593.3366799999]
["Chubb Seguros México|43 Automoviles Turistas","Chubb Seguros México","43 Automoviles Turistas",225255.35060000001]
["Chubb Seguros México|44 Otros Automoviles y Obligatorios","Chubb Seguros México","44 Otros Automoviles y Obligatorios",62.5625]
["Chubb Seguros México|45 Daños Sin Autos Total","Chubb Seguros México","45 Daños Sin Autos Total",2221411.6282500001]
[{"$f":"B392&\"|\"&C392","v":"Chubb Seguros México|46 Responsabilidad Civil y Riesgos Profesionales"},"Chubb Seguros México","46 Responsabilidad Civil y Riesgos Profesionales",578344.53873000003]
["Chubb Seguros México|47 RC General","Chubb Seguros México","47 RC General",576262.72150999994]
["Chubb Seguros México|48 RC Aviones y Barcos","Chubb Seguros México","48 RC Aviones y Barcos",133.84944000000002]
["Chubb Seguros México|49 RC Viajero","Chubb Seguros México","49 RC Viajero",1947.9677799999999]
["Chubb Seguros México|50 RC Otros","Chubb Seguros México","50 RC Otros",0]
["Chubb Seguros México|51 Maritimo y Transportes","Chubb Seguros México","51 Maritimo y Transportes",569312.47737999994]
["Chubb Seguros México|52 MyT Carga","Chubb Seguros México","52 MyT Carga",561784.09366000001]
["Chubb Seguros México|53 MyT Cascos","Chubb Seguros México","53 MyT Cascos",7528.3837199999998]
["Chubb Seguros México|54 Incendio","Chubb Seguros México","54 Incendio",434249.70382999995]
["Chubb Seguros México|55 Riesgos Catastroficos","Chubb Seguros México","55 Riesgos Catastroficos",387385.17892999999]
["Chubb Seguros México|56 Terremoto y Erupcion Volcanica","Chubb Seguros México","56 Terremoto y Erupcion Volcanica",209591.26755000002]
["Chubb Seguros México|57 Huracan y Otros Riesgos Hidrometeorologicos","Chubb Seguros México","57 Huracan y Otros Riesgos Hidrometeorologicos",177793.91138000001]
["Chubb Seguros México|63 Diversos","Chubb Seguros México","63 Diversos",252119.72938]
["Chubb Seguros México|64 Miscelaneos","Chubb Seguros México","64 Miscelaneos",111536.08017]
["Chubb Seguros México|65 Tecnicos","Chubb Seguros México","65 Tecnicos",140583.64921]
["Citibanamex Pensiones|10 Total General","Citibanamex Pensiones","10 Total General",1390.5081499999999]
["Citibanamex Pensiones|15 Pensiones Total","Citibanamex Pensiones","15 Pensiones Total",1390.5081499999999]
["Citibanamex Pensiones|16 Pensiones IMSS","Citibanamex Pensiones","16 Pensiones IMSS",1390.5081499999999]
["Citibanamex Seguros|10 Total General","Citibanamex Seguros","10 Total General",8056026.6593599999]
["Citibanamex Seguros|11 Total General Sin Pensiones","Citibanamex Seguros","11 Total General Sin Pensiones",8056026.6593599999]
["Citibanamex Seguros|12 Vida Total","Citibanamex Seguros","12 Vida Total",7831081.57259]
["Citibanamex Seguros|13 Vida Individual","Citibanamex Seguros","13 Vida Individual",6501514.8929500002]
["Citibanamex Seguros|14 Vida Gpo y Col","Citibanamex Seguros","14 Vida Gpo y Col",1329566.6796399998]
["Citibanamex Seguros|28 Accidentes y Enfermedades Total","Citibanamex Seguros","28 Accidentes y Enfermedades Total",210454.67082]
["Citibanamex Seguros|29 Accidentes Personales","Citibanamex Seguros","29 Accidentes Personales",210546.40638]
["Citibanamex Seguros|30 AP Individual","Citibanamex Seguros","30 AP Individual",159876.58186999999]
["Citibanamex Seguros|31 AP Gpo y Col","Citibanamex Seguros","31 AP Gpo y Col",50669.824509999999]
["Citibanamex Seguros|32 Gastos Medicos","Citibanamex Seguros","32 Gastos Medicos",-91.735559999999992]
["Citibanamex Seguros|33 GMM. Individual","Citibanamex Seguros","33 GMM. Individual",-91.735559999999992]
["Citibanamex Seguros|34 GMM. Gpo y Col","Citibanamex Seguros","34 GMM. Gpo y Col",0]
["Citibanamex Seguros|38 Daños Total","Citibanamex Seguros","38 Daños Total",14490.415949999999]
["Citibanamex Seguros|39 Automoviles Total","Citibanamex Seguros","39 Automoviles Total",-4.1205500000000006]
["Citibanamex Seguros|41 Automoviles Residentes","Citibanamex Seguros","41 Automoviles Residentes",-4.1205500000000006]
["Citibanamex Seguros|45 Daños Sin Autos Total","Citibanamex Seguros","45 Daños Sin Autos Total",14494.5365]
["Citibanamex Seguros|46 Responsabilidad Civil y Riesgos Profesionales","Citibanamex Seguros","46 Responsabilidad Civil y Riesgos Profesionales",1101.7206999999999]
["Citibanamex Seguros|47 RC General","Citibanamex Seguros","47 RC General",1101.7206999999999]
["Citibanamex Seguros|54 Incendio","Citibanamex Seguros","54 Incendio",4567.1860800000004]
["Citibanamex Seguros|55 Riesgos Catastroficos","Citibanamex Seguros","55 Riesgos Catastroficos",11997.96859]
["Citibanamex Seguros|56 Terremoto y Erupcion Volcanica","Citibanamex Seguros","56 Terremoto y Erupcion Volcanica",6677.1617000000006]
["Citibanamex Seguros|57 Huracan y Otros Riesgos Hidrometeorologicos","Citibanamex Seguros","57 Huracan y Otros Riesgos Hidrometeorologicos",5320.8068899999998]
["Citibanamex Seguros|63 Diversos","Citibanamex Seguros","63 Diversos",-3172.33887]
["Citibanamex Seguros|64 Miscelaneos","Citibanamex Seguros","64 Miscelaneos",-3054.8229999999999]
["Citibanamex Seguros|65 Tecnicos","Citibanamex Seguros","65 Tecnicos",-117.51586999999999]
["Coface|10 Total General","Coface","10 Total General",100488.68275000001]
["Coface|11 Total General Sin Pensiones","Coface","11 Total General Sin Pensiones",100488.68275000001]
["Coface|38 Daños Total","Coface","38 Daños Total",100488.68275000001]
["Coface|45 Daños Sin Autos Total","Coface","45 Daños Sin Autos Total",100488.68275000001]
["Coface|66 Credito","Coface","66 Credito",100488.68275000001]
["Crabi|10 Total General","Crabi","10 Total General",19789.335219999997]
["Crabi|11 Total General Sin Pensiones","Crabi","11 Total General Sin Pensiones",19789.335219999997]
["Crabi|38 Daños Total","Crabi","38 Daños Total",19789.335219999997]
["Crabi|39 Automoviles Total","Crabi","39 Automoviles Total",19789.335219999997]
["Crabi|41 Automoviles Residentes","Crabi","41 Automoviles Residentes",19789.335219999997]
["Dentegra|10 Total General","Dentegra","10 Total General",291521.54411999998]
["Dentegra|11 Total General Sin Pensiones","Dentegra","11 Total General Sin Pensiones",291521.54411999998]
["Dentegra|28 Accidentes y Enfermedades Total","Dentegra","28 Accidentes y Enfermedades Total",291521.54411999998]
["Dentegra|32 Gastos Medicos","Dentegra","32 Gastos Medicos",233366.08703999998]
["Dentegra|34 GMM. Gpo y Col","Dentegra","34 GMM. Gpo y Col",233366.08703999998]
["Dentegra|35 Salud","Dentegra","35 Salud",58155.45708]
["Dentegra|36 Salud Individual","Dentegra","36 Salud Individual",923.07460000000003]
["Dentegra|37 Salud Gpo y Col","Dentegra","37 Salud Gpo y Col",57232.38248]
["El Águila|10 Total General","El Águila","10 Total General",401246.10022000002]
["El Águila|11 Total General Sin Pensiones","El Águila","11 Total General Sin Pensiones",401246.10022000002]
["El Águila|38 Daños Total","El Águila","38 Daños Total",401246.10022000002]
[{"$f":"B456&\"|\"&C456","v":"El Águila|39 Automoviles Total"},"El Águila","39 Automoviles Total",212754.00827000002]
["El Águila|41 Automoviles Residentes","El Águila","41 Automoviles Residentes",202862.51522999999]
["El Águila|43 Automoviles Turistas","El Águila","43 Automoviles Turistas",9891.4930399999994]
["El Águila|44 Otros Automoviles y Obligatorios","El Águila","44 Otros Automoviles y Obligatorios",0]
["El Águila|45 Daños Sin Autos Total","El Águila","45 Daños Sin Autos Total",188492.09195]
["El Águila|46 Responsabilidad Civil y Riesgos Profesionales","El Águila","46 Responsabilidad Civil y Riesgos Profesionales",20179.771190000003]
["El Águila|47 RC General","El Águila","47 RC General",16223.200429999999]
["El Águila|48 RC Aviones y Barcos","El Águila","48 RC Aviones y Barcos",3956.5707599999996]
["El Águila|51 Maritimo y Transportes","El Águila","51 Maritimo y Transportes",12246.79075]
["El Águila|52 MyT Carga","El Águila","52 MyT Carga",11729.07559]
["El Águila|53 MyT Cascos","El Águila","53 MyT Cascos",517.71515999999997]
["El Águila|54 Incendio","El Águila","54 Incendio",51412.754209999999]
["El Águila|55 Riesgos Catastroficos","El Águila","55 Riesgos Catastroficos",70765.024940000003]
["El Águila|56 Terremoto y Erupcion Volcanica","El Águila","56 Terremoto y Erupcion Volcanica",23857.998869999999]
["El Águila|57 Huracan y Otros Riesgos Hidrometeorologicos","El Águila","57 Huracan y Otros Riesgos Hidrometeorologicos",46907.02607]
["El Águila|63 Diversos","El Águila","63 Diversos",33887.75086]
["El Águila|64 Miscelaneos","El Águila","64 Miscelaneos",7526.3938200000002]
["El Águila|65 Tecnicos","El Águila","65 Tecnicos",26361.357039999999]
["El Potosí|10 Total General","El Potosí","10 Total General",663569.20615999994]
["El Potosí|11 Total General Sin Pensiones","El Potosí","11 Total General Sin Pensiones",663569.20615999994]
["El Potosí|12 Vida Total","El Potosí","12 Vida Total",96882.227709999992]
["El Potosí|13 Vida Individual","El Potosí","13 Vida Individual",23251.27175]
["El Potosí|14 Vida Gpo y Col","El Potosí","14 Vida Gpo y Col",73630.955959999992]
["El Potosí|28 Accidentes y Enfermedades Total","El Potosí","28 Accidentes y Enfermedades Total",7307.72228]
["El Potosí|29 Accidentes Personales","El Potosí","29 Accidentes Personales",7307.72228]
["El Potosí|30 AP Individual","El Potosí","30 AP Individual",5506.3680700000004]
["El Potosí|31 AP Gpo y Col","El Potosí","31 AP Gpo y Col",1801.35421]
["El Potosí|38 Daños Total","El Potosí","38 Daños Total",559379.25616999995]
["El Potosí|39 Automoviles Total","El Potosí","39 Automoviles Total",293736.31792]
["El Potosí|41 Automoviles Residentes","El Potosí","41 Automoviles Residentes",158607.93968000001]
["El Potosí|42 Camiones","El Potosí","42 Camiones",129183.20656999999]
["El Potosí|43 Automoviles Turistas","El Potosí","43 Automoviles Turistas",5945.1716699999997]
["El Potosí|45 Daños Sin Autos Total","El Potosí","45 Daños Sin Autos Total",265642.93825000001]
["El Potosí|46 Responsabilidad Civil y Riesgos Profesionales","El Potosí","46 Responsabilidad Civil y Riesgos Profesionales",51789.747640000001]
["El Potosí|47 RC General","El Potosí","47 RC General",41302.861290000001]
["El Potosí|48 RC Aviones y Barcos","El Potosí","48 RC Aviones y Barcos",8337.9997400000011]
["El Potosí|49 RC Viajero","El Potosí","49 RC Viajero",2148.88661]
["El Potosí|51 Maritimo y Transportes","El Potosí","51 Maritimo y Transportes",64375.466509999998]
["El Potosí|52 MyT Carga","El Potosí","52 MyT Carga",33969.596899999997]
["El Potosí|53 MyT Cascos","El Potosí","53 MyT Cascos",30405.869609999998]
["El Potosí|54 Incendio","El Potosí","54 Incendio",74908.677430000011]
["El Potosí|55 Riesgos Catastroficos","El Potosí","55 Riesgos Catastroficos",25875.42556]
["El Potosí|56 Terremoto y Erupcion Volcanica","El Potosí","56 Terremoto y Erupcion Volcanica",10375.069119999998]
["El Potosí|57 Huracan y Otros Riesgos Hidrometeorologicos","El Potosí","57 Huracan y Otros Riesgos Hidrometeorologicos",15500.35644]
["El Potosí|63 Diversos","El Potosí","63 Diversos",48693.62111]
["El Potosí|64 Miscelaneos","El Potosí","64 Miscelaneos",16005.016960000001]
["El Potosí|65 Tecnicos","El Potosí","65 Tecnicos",32688.604149999999]
["FM Global|10 Total General","FM Global","10 Total General",685542.54012999998]
["FM Global|11 Total General Sin Pensiones","FM Global","11 Total General Sin Pensiones",685542.54012999998]
["FM Global|38 Daños Total","FM Global","38 Daños Total",685542.54012999998]
["FM Global|45 Daños Sin Autos Total","FM Global","45 Daños Sin Autos Total",685542.54012999998]
["FM Global|51 Maritimo y Transportes","FM Global","51 Maritimo y Transportes",763.46343999999999]
["FM Global|52 MyT Carga","FM Global","52 MyT Carga",763.46343999999999]
["FM Global|54 Incendio","FM Global","54 Incendio",330580.23911999998]
["FM Global|55 Riesgos Catastroficos","FM Global","55 Riesgos Catastroficos",149645.06284]
["FM Global|56 Terremoto y Erupcion Volcanica","FM Global","56 Terremoto y Erupcion Volcanica",100745.59361]
["FM Global|57 Huracan y Otros Riesgos Hidrometeorologicos","FM Global","57 Huracan y Otros Riesgos Hidrometeorologicos",48899.469229999995]
["FM Global|63 Diversos","FM Global","63 Diversos",204553.77472999998]
["FM Global|64 Miscelaneos","FM Global","64 Miscelaneos",111903.65734999999]
["FM Global|65 Tecnicos","FM Global","65 Tecnicos",92650.117379999996]
["G.N.P.|10 Total General","G.N.P.","10 Total General",26676629.107240003]
["G.N.P.|11 Total General Sin Pensiones","G.N.P.","11 Total General Sin Pensiones",26676629.107240003]
["G.N.P.|12 Vida Total","G.N.P.","12 Vida Total",8699615.61809]
["G.N.P.|13 Vida Individual","G.N.P.","13 Vida Individual",7288038.5768999998]
[{"$f":"B520&\"|\"&C520","v":"G.N.P.|14 Vida Gpo y Col"},"G.N.P.","14 Vida Gpo y Col",1411577.04119]
["G.N.P.|28 Accidentes y Enfermedades Total","G.N.P.","28 Accidentes y Enfermedades Total",11222430.517299999]
["G.N.P.|29 Accidentes Personales","G.N.P.","29 Accidentes Personales",45536.360540000001]
["G.N.P.|30 AP Individual","G.N.P.","30 AP Individual",1233.49946]
["G.N.P.|31 AP Gpo y Col","G.N.P.","31 AP Gpo y Col",44302.861079999995]
["G.N.P.|32 Gastos Medicos","G.N.P.","32 Gastos Medicos",11176894.15676]
["G.N.P.|33 GMM. Individual","G.N.P.","33 GMM. Individual",5359493.1357299993]
["G.N.P.|34 GMM. Gpo y Col","G.N.P.","34 GMM. Gpo y Col",5817401.0210299995]
["G.N.P.|38 Daños Total","G.N.P.","38 Daños Total",6754582.9718500003]
["G.N.P.|39 Automoviles Total","G.N.P.","39 Automoviles Total",5685272.6651800005]
["G.N.P.|41 Automoviles Residentes","G.N.P.","41 Automoviles Residentes",3140570.9880999997]
["G.N.P.|42 Camiones","G.N.P.","42 Camiones",1517773.0810999998]
["G.N.P.|43 Automoviles Turistas","G.N.P.","43 Automoviles Turistas",33284.061269999998]
["G.N.P.|44 Otros Automoviles y Obligatorios","G.N.P.","44 Otros Automoviles y Obligatorios",993644.53471000004]
["G.N.P.|45 Daños Sin Autos Total","G.N.P.","45 Daños Sin Autos Total",1069310.3066700001]
["G.N.P.|46 Responsabilidad Civil y Riesgos Profesionales","G.N.P.","46 Responsabilidad Civil y Riesgos Profesionales",182402.49487999998]
["G.N.P.|47 RC General","G.N.P.","47 RC General",179372.94803999999]
["G.N.P.|48 RC Aviones y Barcos","G.N.P.","48 RC Aviones y Barcos",3025.1965699999996]
["G.N.P.|49 RC Viajero","G.N.P.","49 RC Viajero",4.3502700000000001]
["G.N.P.|51 Maritimo y Transportes","G.N.P.","51 Maritimo y Transportes",160975.3412]
["G.N.P.|52 MyT Carga","G.N.P.","52 MyT Carga",154846.91002000001]
["G.N.P.|53 MyT Cascos","G.N.P.","53 MyT Cascos",6128.4311799999996]
["G.N.P.|54 Incendio","G.N.P.","54 Incendio",212191.63693000001]
["G.N.P.|55 Riesgos Catastroficos","G.N.P.","55 Riesgos Catastroficos",202641.26746]
["G.N.P.|56 Terremoto y Erupcion Volcanica","G.N.P.","56 Terremoto y Erupcion Volcanica",75424.084530000007]
["G.N.P.|57 Huracan y Otros Riesgos Hidrometeorologicos","G.N.P.","57 Huracan y Otros Riesgos Hidrometeorologicos",127217.18293000001]
["G.N.P.|59 Agricola y de Animales","G.N.P.","59 Agricola y de Animales",33.481900000000003]
["G.N.P.|60 AyA Agricola","G.N.P.","60 AyA Agricola",33.481900000000003]
["G.N.P.|62 AyA Pecuario","G.N.P.","62 AyA Pecuario",0]
["G.N.P.|63 Diversos","G.N.P.","63 Diversos",311066.08429999999]
["G.N.P.|64 Miscelaneos","G.N.P.","64 Miscelaneos",118230.54226999999]
["G.N.P.|65 Tecnicos","G.N.P.","65 Tecnicos",192835.54203000001]
["General de Salud|10 Total General","General de Salud","10 Total General",240008.10616999998]
["General de Salud|11 Total General Sin Pensiones","General de Salud","11 Total General Sin Pensiones",240008.10616999998]
["General de Salud|28 Accidentes y Enfermedades Total","General de Salud","28 Accidentes y Enfermedades Total",240008.10616999998]
["General de Salud|32 Gastos Medicos","General de Salud","32 Gastos Medicos",18.608799999999999]
["General de Salud|33 GMM. Individual","General de Salud","33 GMM. Individual",-72.635440000000003]
["General de Salud|34 GMM. Gpo y Col","General de Salud","34 GMM. Gpo y Col",91.244240000000005]
["General de Salud|35 Salud","General de Salud","35 Salud",239989.49737]
["General de Salud|36 Salud Individual","General de Salud","36 Salud Individual",23119.410059999998]
["General de Salud|37 Salud Gpo y Col","General de Salud","37 Salud Gpo y Col",216870.08731]
["General de Seguros|10 Total General","General de Seguros","10 Total General",660743.68034000008]
["General de Seguros|11 Total General Sin Pensiones","General de Seguros","11 Total General Sin Pensiones",660743.68034000008]
["General de Seguros|12 Vida Total","General de Seguros","12 Vida Total",116555.63473999999]
["General de Seguros|13 Vida Individual","General de Seguros","13 Vida Individual",30851.107609999999]
["General de Seguros|14 Vida Gpo y Col","General de Seguros","14 Vida Gpo y Col",85704.527130000002]
["General de Seguros|28 Accidentes y Enfermedades Total","General de Seguros","28 Accidentes y Enfermedades Total",7812.45615]
["General de Seguros|29 Accidentes Personales","General de Seguros","29 Accidentes Personales",7812.45615]
["General de Seguros|30 AP Individual","General de Seguros","30 AP Individual",3342.6880799999999]
["General de Seguros|31 AP Gpo y Col","General de Seguros","31 AP Gpo y Col",4469.7680700000001]
["General de Seguros|38 Daños Total","General de Seguros","38 Daños Total",536375.58944999997]
["General de Seguros|39 Automoviles Total","General de Seguros","39 Automoviles Total",383430.43622999999]
["General de Seguros|41 Automoviles Residentes","General de Seguros","41 Automoviles Residentes",158750.83408999999]
["General de Seguros|42 Camiones","General de Seguros","42 Camiones",221448.97987000001]
["General de Seguros|43 Automoviles Turistas","General de Seguros","43 Automoviles Turistas",3230.6222699999998]
["General de Seguros|44 Otros Automoviles y Obligatorios","General de Seguros","44 Otros Automoviles y Obligatorios",0]
["General de Seguros|45 Daños Sin Autos Total","General de Seguros","45 Daños Sin Autos Total",152945.15322000001]
["General de Seguros|46 Responsabilidad Civil y Riesgos Profesionales","General de Seguros","46 Responsabilidad Civil y Riesgos Profesionales",22026.523590000001]
["General de Seguros|47 RC General","General de Seguros","47 RC General",20850.804039999999]
["General de Seguros|48 RC Aviones y Barcos","General de Seguros","48 RC Aviones y Barcos",0]
["General de Seguros|49 RC Viajero","General de Seguros","49 RC Viajero",1175.71955]
["General de Seguros|50 RC Otros","General de Seguros","50 RC Otros",0]
["General de Seguros|51 Maritimo y Transportes","General de Seguros","51 Maritimo y Transportes",34917.417179999997]
["General de Seguros|52 MyT Carga","General de Seguros","52 MyT Carga",33886.466959999998]
[{"$f":"B584&\"|\"&C584","v":"General de Seguros|53 MyT Cascos"},"General de Seguros","53 MyT Cascos",1030.9502199999999]
["General de Seguros|54 Incendio","General de Seguros","54 Incendio",21031.4611]
["General de Seguros|55 Riesgos Catastroficos","General de Seguros","55 Riesgos Catastroficos",17145.296469999997]
["General de Seguros|56 Terremoto y Erupcion Volcanica","General de Seguros","56 Terremoto y Erupcion Volcanica",5274.3837100000001]
["General de Seguros|57 Huracan y Otros Riesgos Hidrometeorologicos","General de Seguros","57 Huracan y Otros Riesgos Hidrometeorologicos",11870.912759999999]
["General de Seguros|59 Agricola y de Animales","General de Seguros","59 Agricola y de Animales",32228.378390000002]
["General de Seguros|60 AyA Agricola","General de Seguros","60 AyA Agricola",30640.579959999999]
["General de Seguros|62 AyA Pecuario","General de Seguros","62 AyA Pecuario",1587.7984299999998]
["General de Seguros|63 Diversos","General de Seguros","63 Diversos",25596.076489999999]
["General de Seguros|64 Miscelaneos","General de Seguros","64 Miscelaneos",18487.109519999998]
["General de Seguros|65 Tecnicos","General de Seguros","65 Tecnicos",7108.9669699999995]
["Genworth Seg. de Crédito|10 Total General","Genworth Seg. de Crédito","10 Total General",25310.37225]
["Genworth Seg. de Crédito|11 Total General Sin Pensiones","Genworth Seg. de Crédito","11 Total General Sin Pensiones",25310.37225]
["Genworth Seg. de Crédito|38 Daños Total","Genworth Seg. de Crédito","38 Daños Total",25310.37225]
["Genworth Seg. de Crédito|45 Daños Sin Autos Total","Genworth Seg. de Crédito","45 Daños Sin Autos Total",25310.37225]
["Genworth Seg. de Crédito|67 Credito a la Vivienda","Genworth Seg. de Crédito","67 Credito a la Vivienda",25310.37225]
["GMX Seguros|10 Total General","GMX Seguros","10 Total General",4704042.3643699996]
["GMX Seguros|11 Total General Sin Pensiones","GMX Seguros","11 Total General Sin Pensiones",4704042.3643699996]
["GMX Seguros|38 Daños Total","GMX Seguros","38 Daños Total",4704042.3643699996]
["GMX Seguros|45 Daños Sin Autos Total","GMX Seguros","45 Daños Sin Autos Total",4704042.3643700005]
["GMX Seguros|46 Responsabilidad Civil y Riesgos Profesionales","GMX Seguros","46 Responsabilidad Civil y Riesgos Profesionales",1558612.50028]
["GMX Seguros|47 RC General","GMX Seguros","47 RC General",692176.62653000001]
["GMX Seguros|48 RC Aviones y Barcos","GMX Seguros","48 RC Aviones y Barcos",519282.42966000002]
["GMX Seguros|49 RC Viajero","GMX Seguros","49 RC Viajero",3592.5028299999999]
["GMX Seguros|50 RC Otros","GMX Seguros","50 RC Otros",343560.94125999999]
["GMX Seguros|51 Maritimo y Transportes","GMX Seguros","51 Maritimo y Transportes",1475437.7389400001]
["GMX Seguros|52 MyT Carga","GMX Seguros","52 MyT Carga",150506.93846999999]
["GMX Seguros|53 MyT Cascos","GMX Seguros","53 MyT Cascos",1324930.8004700001]
["GMX Seguros|54 Incendio","GMX Seguros","54 Incendio",533588.72342000005]
["GMX Seguros|55 Riesgos Catastroficos","GMX Seguros","55 Riesgos Catastroficos",557895.21475000004]
["GMX Seguros|56 Terremoto y Erupcion Volcanica","GMX Seguros","56 Terremoto y Erupcion Volcanica",247078.82272]
["GMX Seguros|57 Huracan y Otros Riesgos Hidrometeorologicos","GMX Seguros","57 Huracan y Otros Riesgos Hidrometeorologicos",310816.39202999999]
["GMX Seguros|63 Diversos","GMX Seguros","63 Diversos",578508.18698]
["GMX Seguros|64 Miscelaneos","GMX Seguros","64 Miscelaneos",125533.63283]
["GMX Seguros|65 Tecnicos","GMX Seguros","65 Tecnicos",452974.55414999998]
["HDI Global Seguros|10 Total General","HDI Global Seguros","10 Total General",1017302.51738]
["HDI Global Seguros|11 Total General Sin Pensiones","HDI Global Seguros","11 Total General Sin Pensiones",1017302.51738]
["HDI Global Seguros|38 Daños Total","HDI Global Seguros","38 Daños Total",1017302.51738]
["HDI Global Seguros|45 Daños Sin Autos Total","HDI Global Seguros","45 Daños Sin Autos Total",1017302.5173799999]
["HDI Global Seguros|46 Responsabilidad Civil y Riesgos Profesionales","HDI Global Seguros","46 Responsabilidad Civil y Riesgos Profesionales",134453.65871000002]
["HDI Global Seguros|47 RC General","HDI Global Seguros","47 RC General",131677.91396000001]
["HDI Global Seguros|50 RC Otros","HDI Global Seguros","50 RC Otros",2775.7447499999998]
["HDI Global Seguros|51 Maritimo y Transportes","HDI Global Seguros","51 Maritimo y Transportes",534000.09103000001]
["HDI Global Seguros|52 MyT Carga","HDI Global Seguros","52 MyT Carga",534000.09103000001]
["HDI Global Seguros|54 Incendio","HDI Global Seguros","54 Incendio",71988.821670000005]
["HDI Global Seguros|55 Riesgos Catastroficos","HDI Global Seguros","55 Riesgos Catastroficos",142411.4454]
["HDI Global Seguros|56 Terremoto y Erupcion Volcanica","HDI Global Seguros","56 Terremoto y Erupcion Volcanica",71143.621239999993]
["HDI Global Seguros|57 Huracan y Otros Riesgos Hidrometeorologicos","HDI Global Seguros","57 Huracan y Otros Riesgos Hidrometeorologicos",71267.824159999989]
["HDI Global Seguros|63 Diversos","HDI Global Seguros","63 Diversos",134448.50057]
["HDI Global Seguros|65 Tecnicos","HDI Global Seguros","65 Tecnicos",134448.50057]
["HDI Seguros|10 Total General","HDI Seguros","10 Total General",2965779.2021399997]
["HDI Seguros|11 Total General Sin Pensiones","HDI Seguros","11 Total General Sin Pensiones",2965779.2021399997]
["HDI Seguros|12 Vida Total","HDI Seguros","12 Vida Total",1331.1598600000002]
["HDI Seguros|14 Vida Gpo y Col","HDI Seguros","14 Vida Gpo y Col",1331.1598600000002]
["HDI Seguros|28 Accidentes y Enfermedades Total","HDI Seguros","28 Accidentes y Enfermedades Total",9506.4387399999996]
["HDI Seguros|29 Accidentes Personales","HDI Seguros","29 Accidentes Personales",1912.8372400000001]
["HDI Seguros|31 AP Gpo y Col","HDI Seguros","31 AP Gpo y Col",1912.8372400000001]
["HDI Seguros|32 Gastos Medicos","HDI Seguros","32 Gastos Medicos",7593.6014999999998]
["HDI Seguros|33 GMM. Individual","HDI Seguros","33 GMM. Individual",7593.6014999999998]
["HDI Seguros|34 GMM. Gpo y Col","HDI Seguros","34 GMM. Gpo y Col",0]
["HDI Seguros|38 Daños Total","HDI Seguros","38 Daños Total",2954941.60354]
["HDI Seguros|39 Automoviles Total","HDI Seguros","39 Automoviles Total",2467255.8814099999]
["HDI Seguros|41 Automoviles Residentes","HDI Seguros","41 Automoviles Residentes",1463003.0157300001]
["HDI Seguros|42 Camiones","HDI Seguros","42 Camiones",876259.99445]
[{"$f":"B648&\"|\"&C648","v":"HDI Seguros|43 Automoviles Turistas"},"HDI Seguros","43 Automoviles Turistas",61504.916130000005]
["HDI Seguros|44 Otros Automoviles y Obligatorios","HDI Seguros","44 Otros Automoviles y Obligatorios",66487.955100000006]
["HDI Seguros|45 Daños Sin Autos Total","HDI Seguros","45 Daños Sin Autos Total",487685.72213000001]
["HDI Seguros|46 Responsabilidad Civil y Riesgos Profesionales","HDI Seguros","46 Responsabilidad Civil y Riesgos Profesionales",81739.833450000006]
["HDI Seguros|47 RC General","HDI Seguros","47 RC General",78962.412389999998]
["HDI Seguros|49 RC Viajero","HDI Seguros","49 RC Viajero",2777.4210600000001]
["HDI Seguros|51 Maritimo y Transportes","HDI Seguros","51 Maritimo y Transportes",126435.46631]
["HDI Seguros|52 MyT Carga","HDI Seguros","52 MyT Carga",117080.40695]
["HDI Seguros|53 MyT Cascos","HDI Seguros","53 MyT Cascos",9355.0593599999993]
["HDI Seguros|54 Incendio","HDI Seguros","54 Incendio",71009.729240000001]
["HDI Seguros|55 Riesgos Catastroficos","HDI Seguros","55 Riesgos Catastroficos",85033.10884999999]
["HDI Seguros|56 Terremoto y Erupcion Volcanica","HDI Seguros","56 Terremoto y Erupcion Volcanica",28323.203579999998]
["HDI Seguros|57 Huracan y Otros Riesgos Hidrometeorologicos","HDI Seguros","57 Huracan y Otros Riesgos Hidrometeorologicos",56709.905270000003]
["HDI Seguros|63 Diversos","HDI Seguros","63 Diversos",123467.58428]
["HDI Seguros|64 Miscelaneos","HDI Seguros","64 Miscelaneos",48734.522369999999]
["HDI Seguros|65 Tecnicos","HDI Seguros","65 Tecnicos",74733.061909999989]
["Hir Seguros|10 Total General","Hir Seguros","10 Total General",1797983.4388299999]
["Hir Seguros|11 Total General Sin Pensiones","Hir Seguros","11 Total General Sin Pensiones",1797983.4388299999]
["Hir Seguros|12 Vida Total","Hir Seguros","12 Vida Total",1793397.8050299999]
["Hir Seguros|13 Vida Individual","Hir Seguros","13 Vida Individual",1533.12104]
["Hir Seguros|14 Vida Gpo y Col","Hir Seguros","14 Vida Gpo y Col",1791864.68399]
["Hir Seguros|28 Accidentes y Enfermedades Total","Hir Seguros","28 Accidentes y Enfermedades Total",4585.6337999999996]
["Hir Seguros|29 Accidentes Personales","Hir Seguros","29 Accidentes Personales",4585.6337999999996]
["Hir Seguros|30 AP Individual","Hir Seguros","30 AP Individual",4.3070000000000004]
["Hir Seguros|31 AP Gpo y Col","Hir Seguros","31 AP Gpo y Col",4581.3267999999998]
["HSBC Seguros|10 Total General","HSBC Seguros","10 Total General",1622418.9140099999]
["HSBC Seguros|11 Total General Sin Pensiones","HSBC Seguros","11 Total General Sin Pensiones",1622418.9140099999]
["HSBC Seguros|12 Vida Total","HSBC Seguros","12 Vida Total",1473862.7125500001]
["HSBC Seguros|13 Vida Individual","HSBC Seguros","13 Vida Individual",1446093.27489]
["HSBC Seguros|14 Vida Gpo y Col","HSBC Seguros","14 Vida Gpo y Col",27769.43766]
["HSBC Seguros|28 Accidentes y Enfermedades Total","HSBC Seguros","28 Accidentes y Enfermedades Total",148556.20146000001]
["HSBC Seguros|29 Accidentes Personales","HSBC Seguros","29 Accidentes Personales",110834.63756999999]
["HSBC Seguros|30 AP Individual","HSBC Seguros","30 AP Individual",37946.95781]
["HSBC Seguros|31 AP Gpo y Col","HSBC Seguros","31 AP Gpo y Col",72887.679759999999]
["HSBC Seguros|32 Gastos Medicos","HSBC Seguros","32 Gastos Medicos",37721.563889999998]
["HSBC Seguros|33 GMM. Individual","HSBC Seguros","33 GMM. Individual",37721.563889999998]
["HSBC Seguros|38 Daños Total","HSBC Seguros","38 Daños Total",0]
["HSBC Seguros|45 Daños Sin Autos Total","HSBC Seguros","45 Daños Sin Autos Total",0]
["HSBC Seguros|63 Diversos","HSBC Seguros","63 Diversos",0]
["HSBC Seguros|64 Miscelaneos","HSBC Seguros","64 Miscelaneos",0]
["Inbursa|10 Total General","Inbursa","10 Total General",6926531.7595299995]
["Inbursa|11 Total General Sin Pensiones","Inbursa","11 Total General Sin Pensiones",6926531.7595299995]
["Inbursa|12 Vida Total","Inbursa","12 Vida Total",1539068.4426800001]
["Inbursa|13 Vida Individual","Inbursa","13 Vida Individual",711533.60385000007]
["Inbursa|14 Vida Gpo y Col","Inbursa","14 Vida Gpo y Col",827534.83883000002]
["Inbursa|28 Accidentes y Enfermedades Total","Inbursa","28 Accidentes y Enfermedades Total",1392328.2824000001]
["Inbursa|29 Accidentes Personales","Inbursa","29 Accidentes Personales",13039.080900000001]
["Inbursa|30 AP Individual","Inbursa","30 AP Individual",747.75141000000008]
["Inbursa|31 AP Gpo y Col","Inbursa","31 AP Gpo y Col",12291.32949]
["Inbursa|32 Gastos Medicos","Inbursa","32 Gastos Medicos",1379289.2015]
["Inbursa|33 GMM. Individual","Inbursa","33 GMM. Individual",639667.27197]
["Inbursa|34 GMM. Gpo y Col","Inbursa","34 GMM. Gpo y Col",739621.92952999996]
["Inbursa|38 Daños Total","Inbursa","38 Daños Total",3995135.0344499997]
["Inbursa|39 Automoviles Total","Inbursa","39 Automoviles Total",1275074.5075099999]
["Inbursa|41 Automoviles Residentes","Inbursa","41 Automoviles Residentes",814326.50332000002]
["Inbursa|42 Camiones","Inbursa","42 Camiones",457165.62249000004]
["Inbursa|43 Automoviles Turistas","Inbursa","43 Automoviles Turistas",752.01293999999996]
["Inbursa|44 Otros Automoviles y Obligatorios","Inbursa","44 Otros Automoviles y Obligatorios",2830.3687599999998]
["Inbursa|45 Daños Sin Autos Total","Inbursa","45 Daños Sin Autos Total",2720060.5269400002]
["Inbursa|46 Responsabilidad Civil y Riesgos Profesionales","Inbursa","46 Responsabilidad Civil y Riesgos Profesionales",485274.75614999997]
["Inbursa|47 RC General","Inbursa","47 RC General",303340.72308999998]
["Inbursa|48 RC Aviones y Barcos","Inbursa","48 RC Aviones y Barcos",178179.91608000002]
["Inbursa|49 RC Viajero","Inbursa","49 RC Viajero",3754.1169799999998]
["Inbursa|51 Maritimo y Transportes","Inbursa","51 Maritimo y Transportes",263502.04947000003]
[{"$f":"B712&\"|\"&C712","v":"Inbursa|52 MyT Carga"},"Inbursa","52 MyT Carga",65753.477769999998]
["Inbursa|53 MyT Cascos","Inbursa","53 MyT Cascos",197748.5717]
["Inbursa|54 Incendio","Inbursa","54 Incendio",519560.64103]
["Inbursa|55 Riesgos Catastroficos","Inbursa","55 Riesgos Catastroficos",601506.40474000003]
["Inbursa|56 Terremoto y Erupcion Volcanica","Inbursa","56 Terremoto y Erupcion Volcanica",258091.81558000002]
["Inbursa|57 Huracan y Otros Riesgos Hidrometeorologicos","Inbursa","57 Huracan y Otros Riesgos Hidrometeorologicos",343414.58916000003]
["Inbursa|63 Diversos","Inbursa","63 Diversos",850216.67554999993]
["Inbursa|64 Miscelaneos","Inbursa","64 Miscelaneos",202025.15209000002]
["Inbursa|65 Tecnicos","Inbursa","65 Tecnicos",648191.52346000005]
["Insignia Life|10 Total General","Insignia Life","10 Total General",421128.09495999996]
["Insignia Life|11 Total General Sin Pensiones","Insignia Life","11 Total General Sin Pensiones",421128.09495999996]
["Insignia Life|12 Vida Total","Insignia Life","12 Vida Total",421128.09495999996]
["Insignia Life|13 Vida Individual","Insignia Life","13 Vida Individual",313503.25231999997]
["Insignia Life|14 Vida Gpo y Col","Insignia Life","14 Vida Gpo y Col",107624.84264]
["La Latinoamericana|10 Total General","La Latinoamericana","10 Total General",378273.63062999997]
["La Latinoamericana|11 Total General Sin Pensiones","La Latinoamericana","11 Total General Sin Pensiones",378273.63062999997]
["La Latinoamericana|12 Vida Total","La Latinoamericana","12 Vida Total",76756.726450000002]
["La Latinoamericana|13 Vida Individual","La Latinoamericana","13 Vida Individual",2009.9076100000002]
["La Latinoamericana|14 Vida Gpo y Col","La Latinoamericana","14 Vida Gpo y Col",74746.818840000007]
["La Latinoamericana|28 Accidentes y Enfermedades Total","La Latinoamericana","28 Accidentes y Enfermedades Total",163790.61850000001]
["La Latinoamericana|29 Accidentes Personales","La Latinoamericana","29 Accidentes Personales",17056.72899]
["La Latinoamericana|30 AP Individual","La Latinoamericana","30 AP Individual",85.301490000000001]
["La Latinoamericana|31 AP Gpo y Col","La Latinoamericana","31 AP Gpo y Col",16971.427500000002]
["La Latinoamericana|32 Gastos Medicos","La Latinoamericana","32 Gastos Medicos",146733.88950999998]
["La Latinoamericana|33 GMM. Individual","La Latinoamericana","33 GMM. Individual",69232.109230000002]
["La Latinoamericana|34 GMM. Gpo y Col","La Latinoamericana","34 GMM. Gpo y Col",77501.780280000006]
["La Latinoamericana|38 Daños Total","La Latinoamericana","38 Daños Total",137726.28568]
["La Latinoamericana|39 Automoviles Total","La Latinoamericana","39 Automoviles Total",97368.88596]
["La Latinoamericana|41 Automoviles Residentes","La Latinoamericana","41 Automoviles Residentes",68242.846769999989]
["La Latinoamericana|42 Camiones","La Latinoamericana","42 Camiones",19776.608410000001]
["La Latinoamericana|44 Otros Automoviles y Obligatorios","La Latinoamericana","44 Otros Automoviles y Obligatorios",9349.4307799999988]
["La Latinoamericana|45 Daños Sin Autos Total","La Latinoamericana","45 Daños Sin Autos Total",40357.399720000001]
["La Latinoamericana|46 Responsabilidad Civil y Riesgos Profesionales","La Latinoamericana","46 Responsabilidad Civil y Riesgos Profesionales",37090.944159999999]
["La Latinoamericana|47 RC General","La Latinoamericana","47 RC General",36667.870189999994]
["La Latinoamericana|49 RC Viajero","La Latinoamericana","49 RC Viajero",423.07396999999997]
["La Latinoamericana|54 Incendio","La Latinoamericana","54 Incendio",139.16209000000001]
["La Latinoamericana|63 Diversos","La Latinoamericana","63 Diversos",3127.2934700000001]
["La Latinoamericana|64 Miscelaneos","La Latinoamericana","64 Miscelaneos",2533.5912799999996]
["La Latinoamericana|65 Tecnicos","La Latinoamericana","65 Tecnicos",593.70218999999997]
["Mapfre México|10 Total General","Mapfre México","10 Total General",6434437.0004799999]
["Mapfre México|11 Total General Sin Pensiones","Mapfre México","11 Total General Sin Pensiones",6434437.0004799999]
["Mapfre México|12 Vida Total","Mapfre México","12 Vida Total",1489236.7007200001]
["Mapfre México|13 Vida Individual","Mapfre México","13 Vida Individual",290371.64085000003]
["Mapfre México|14 Vida Gpo y Col","Mapfre México","14 Vida Gpo y Col",1198865.05987]
["Mapfre México|28 Accidentes y Enfermedades Total","Mapfre México","28 Accidentes y Enfermedades Total",1315031.9175199999]
["Mapfre México|29 Accidentes Personales","Mapfre México","29 Accidentes Personales",30606.690309999998]
["Mapfre México|30 AP Individual","Mapfre México","30 AP Individual",18909.79221]
["Mapfre México|31 AP Gpo y Col","Mapfre México","31 AP Gpo y Col",11696.8981]
["Mapfre México|32 Gastos Medicos","Mapfre México","32 Gastos Medicos",1284425.2272099999]
["Mapfre México|33 GMM. Individual","Mapfre México","33 GMM. Individual",813153.30252999999]
["Mapfre México|34 GMM. Gpo y Col","Mapfre México","34 GMM. Gpo y Col",471271.92468]
["Mapfre México|38 Daños Total","Mapfre México","38 Daños Total",3630168.3822399997]
["Mapfre México|39 Automoviles Total","Mapfre México","39 Automoviles Total",811608.84661000001]
["Mapfre México|41 Automoviles Residentes","Mapfre México","41 Automoviles Residentes",641526.76786000002]
["Mapfre México|42 Camiones","Mapfre México","42 Camiones",145175.30178000001]
["Mapfre México|43 Automoviles Turistas","Mapfre México","43 Automoviles Turistas",24906.776969999999]
["Mapfre México|45 Daños Sin Autos Total","Mapfre México","45 Daños Sin Autos Total",2818559.5356300003]
["Mapfre México|46 Responsabilidad Civil y Riesgos Profesionales","Mapfre México","46 Responsabilidad Civil y Riesgos Profesionales",402300.95105000003]
["Mapfre México|47 RC General","Mapfre México","47 RC General",177087.07178999999]
["Mapfre México|48 RC Aviones y Barcos","Mapfre México","48 RC Aviones y Barcos",224647.03974000001]
["Mapfre México|50 RC Otros","Mapfre México","50 RC Otros",566.83951999999999]
["Mapfre México|51 Maritimo y Transportes","Mapfre México","51 Maritimo y Transportes",519165.09356999997]
["Mapfre México|52 MyT Carga","Mapfre México","52 MyT Carga",188146.3579]
["Mapfre México|53 MyT Cascos","Mapfre México","53 MyT Cascos",331018.73567000002]
[{"$f":"B776&\"|\"&C776","v":"Mapfre México|54 Incendio"},"Mapfre México","54 Incendio",741743.96990000003]
["Mapfre México|55 Riesgos Catastroficos","Mapfre México","55 Riesgos Catastroficos",473485.22907999996]
["Mapfre México|56 Terremoto y Erupcion Volcanica","Mapfre México","56 Terremoto y Erupcion Volcanica",181328.11869999999]
["Mapfre México|57 Huracan y Otros Riesgos Hidrometeorologicos","Mapfre México","57 Huracan y Otros Riesgos Hidrometeorologicos",292157.11037999997]
["Mapfre México|59 Agricola y de Animales","Mapfre México","59 Agricola y de Animales",25231.339309999999]
["Mapfre México|60 AyA Agricola","Mapfre México","60 AyA Agricola",24998.475690000003]
["Mapfre México|62 AyA Pecuario","Mapfre México","62 AyA Pecuario",232.86362]
["Mapfre México|63 Diversos","Mapfre México","63 Diversos",656632.95272000006]
["Mapfre México|64 Miscelaneos","Mapfre México","64 Miscelaneos",106951.26736]
["Mapfre México|65 Tecnicos","Mapfre México","65 Tecnicos",549681.68536]
["MediAccess|10 Total General","MediAccess","10 Total General",51745.073490000002]
["MediAccess|11 Total General Sin Pensiones","MediAccess","11 Total General Sin Pensiones",51745.073490000002]
["MediAccess|28 Accidentes y Enfermedades Total","MediAccess","28 Accidentes y Enfermedades Total",51745.073490000002]
["MediAccess|32 Gastos Medicos","MediAccess","32 Gastos Medicos",9.9317199999999985]
["MediAccess|33 GMM. Individual","MediAccess","33 GMM. Individual",9.9317199999999985]
["MediAccess|35 Salud","MediAccess","35 Salud",51735.141770000002]
["MediAccess|36 Salud Individual","MediAccess","36 Salud Individual",27609.4964]
["MediAccess|37 Salud Gpo y Col","MediAccess","37 Salud Gpo y Col",24125.645370000002]
["Metlife Más|10 Total General","Metlife Más","10 Total General",24612.720120000002]
["Metlife Más|11 Total General Sin Pensiones","Metlife Más","11 Total General Sin Pensiones",24612.720120000002]
["Metlife Más|28 Accidentes y Enfermedades Total","Metlife Más","28 Accidentes y Enfermedades Total",24612.720120000002]
["Metlife Más|29 Accidentes Personales","Metlife Más","29 Accidentes Personales",24612.720120000002]
["Metlife Más|30 AP Individual","Metlife Más","30 AP Individual",1081.3795400000001]
["Metlife Más|31 AP Gpo y Col","Metlife Más","31 AP Gpo y Col",23531.340579999996]
["Metlife México|10 Total General","Metlife México","10 Total General",26097031.675279997]
["Metlife México|11 Total General Sin Pensiones","Metlife México","11 Total General Sin Pensiones",26097031.675279997]
["Metlife México|12 Vida Total","Metlife México","12 Vida Total",17646520.229729999]
["Metlife México|13 Vida Individual","Metlife México","13 Vida Individual",8132162.6837799996]
["Metlife México|14 Vida Gpo y Col","Metlife México","14 Vida Gpo y Col",9514357.5459500011]
["Metlife México|28 Accidentes y Enfermedades Total","Metlife México","28 Accidentes y Enfermedades Total",8450511.4455500003]
["Metlife México|29 Accidentes Personales","Metlife México","29 Accidentes Personales",1115.8713600000001]
["Metlife México|30 AP Individual","Metlife México","30 AP Individual",0]
["Metlife México|31 AP Gpo y Col","Metlife México","31 AP Gpo y Col",1115.8713600000001]
["Metlife México|32 Gastos Medicos","Metlife México","32 Gastos Medicos",8449395.5741900001]
["Metlife México|33 GMM. Individual","Metlife México","33 GMM. Individual",1437503.06596]
["Metlife México|34 GMM. Gpo y Col","Metlife México","34 GMM. Gpo y Col",7011892.5082299998]
["Metlife Pensiones|10 Total General","Metlife Pensiones","10 Total General",1096.47702]
["Metlife Pensiones|15 Pensiones Total","Metlife Pensiones","15 Pensiones Total",1096.47702]
["Metlife Pensiones|16 Pensiones IMSS","Metlife Pensiones","16 Pensiones IMSS",1096.47702]
["Monterrey New York Life|10 Total General","Monterrey New York Life","10 Total General",10223427.716290001]
["Monterrey New York Life|11 Total General Sin Pensiones","Monterrey New York Life","11 Total General Sin Pensiones",10223427.716290001]
["Monterrey New York Life|12 Vida Total","Monterrey New York Life","12 Vida Total",6428564.6628400004]
["Monterrey New York Life|13 Vida Individual","Monterrey New York Life","13 Vida Individual",5854333.0819700006]
["Monterrey New York Life|14 Vida Gpo y Col","Monterrey New York Life","14 Vida Gpo y Col",574231.58086999995]
["Monterrey New York Life|28 Accidentes y Enfermedades Total","Monterrey New York Life","28 Accidentes y Enfermedades Total",3794863.05345]
["Monterrey New York Life|29 Accidentes Personales","Monterrey New York Life","29 Accidentes Personales",33579.508479999997]
["Monterrey New York Life|30 AP Individual","Monterrey New York Life","30 AP Individual",2689.63544]
["Monterrey New York Life|31 AP Gpo y Col","Monterrey New York Life","31 AP Gpo y Col",30889.873039999999]
["Monterrey New York Life|32 Gastos Medicos","Monterrey New York Life","32 Gastos Medicos",3761283.5449699997]
["Monterrey New York Life|33 GMM. Individual","Monterrey New York Life","33 GMM. Individual",2306873.4296200001]
["Monterrey New York Life|34 GMM. Gpo y Col","Monterrey New York Life","34 GMM. Gpo y Col",1454410.1153499999]
["Odontoprev|10 Total General","Odontoprev","10 Total General",38116.885219999996]
["Odontoprev|11 Total General Sin Pensiones","Odontoprev","11 Total General Sin Pensiones",38116.885219999996]
["Odontoprev|28 Accidentes y Enfermedades Total","Odontoprev","28 Accidentes y Enfermedades Total",38116.885219999996]
["Odontoprev|29 Accidentes Personales","Odontoprev","29 Accidentes Personales",28.124479999999998]
["Odontoprev|30 AP Individual","Odontoprev","30 AP Individual",15.66273]
["Odontoprev|31 AP Gpo y Col","Odontoprev","31 AP Gpo y Col",12.46175]
["Odontoprev|32 Gastos Medicos","Odontoprev","32 Gastos Medicos",887.99081999999999]
["Odontoprev|33 GMM. Individual","Odontoprev","33 GMM. Individual",330.81203999999997]
["Odontoprev|34 GMM. Gpo y Col","Odontoprev","34 GMM. Gpo y Col",557.17878000000007]
["Odontoprev|35 Salud","Odontoprev","35 Salud",37200.769919999999]
["Odontoprev|36 Salud Individual","Odontoprev","36 Salud Individual",3257.1164100000001]
["Odontoprev|37 Salud Gpo y Col","Odontoprev","37 Salud Gpo y Col",33943.653509999996]
["Pan-American México|10 Total General","Pan-American México","10 Total General",309110.80956000002]
[{"$f":"B840&\"|\"&C840","v":"Pan-American México|11 Total General Sin Pensiones"},"Pan-American México","11 Total General Sin Pensiones",309110.80956000002]
["Pan-American México|12 Vida Total","Pan-American México","12 Vida Total",174262.19602999999]
["Pan-American México|13 Vida Individual","Pan-American México","13 Vida Individual",0]
["Pan-American México|14 Vida Gpo y Col","Pan-American México","14 Vida Gpo y Col",174262.19602999999]
["Pan-American México|28 Accidentes y Enfermedades Total","Pan-American México","28 Accidentes y Enfermedades Total",134848.61353]
["Pan-American México|29 Accidentes Personales","Pan-American México","29 Accidentes Personales",18293.97062]
["Pan-American México|30 AP Individual","Pan-American México","30 AP Individual",66.930089999999993]
["Pan-American México|31 AP Gpo y Col","Pan-American México","31 AP Gpo y Col",18227.040530000002]
["Pan-American México|32 Gastos Medicos","Pan-American México","32 Gastos Medicos",116554.64291]
["Pan-American México|33 GMM. Individual","Pan-American México","33 GMM. Individual",116554.64291]
["Patria|10 Total General","Patria","10 Total General",0]
["Patria|11 Total General Sin Pensiones","Patria","11 Total General Sin Pensiones",0]
["Patria|12 Vida Total","Patria","12 Vida Total",0]
["Patria|13 Vida Individual","Patria","13 Vida Individual",0]
["Patria|14 Vida Gpo y Col","Patria","14 Vida Gpo y Col",0]
["Patria|28 Accidentes y Enfermedades Total","Patria","28 Accidentes y Enfermedades Total",0]
["Patria|29 Accidentes Personales","Patria","29 Accidentes Personales",0]
["Patria|30 AP Individual","Patria","30 AP Individual",0]
["Patria|31 AP Gpo y Col","Patria","31 AP Gpo y Col",0]
["Patria|32 Gastos Medicos","Patria","32 Gastos Medicos",0]
["Patria|33 GMM. Individual","Patria","33 GMM. Individual",0]
["Patria|34 GMM. Gpo y Col","Patria","34 GMM. Gpo y Col",0]
["Patria|38 Daños Total","Patria","38 Daños Total",0]
["Patria|39 Automoviles Total","Patria","39 Automoviles Total",0]
["Patria|41 Automoviles Residentes","Patria","41 Automoviles Residentes",0]
["Patria|42 Camiones","Patria","42 Camiones",0]
["Patria|43 Automoviles Turistas","Patria","43 Automoviles Turistas",0]
["Patria|44 Otros Automoviles y Obligatorios","Patria","44 Otros Automoviles y Obligatorios",0]
["Patria|45 Daños Sin Autos Total","Patria","45 Daños Sin Autos Total",0]
["Patria|46 Responsabilidad Civil y Riesgos Profesionales","Patria","46 Responsabilidad Civil y Riesgos Profesionales",0]
["Patria|47 RC General","Patria","47 RC General",0]
["Patria|48 RC Aviones y Barcos","Patria","48 RC Aviones y Barcos",0]
["Patria|49 RC Viajero","Patria","49 RC Viajero",0]
["Patria|50 RC Otros","Patria","50 RC Otros",0]
["Patria|51 Maritimo y Transportes","Patria","51 Maritimo y Transportes",0]
["Patria|52 MyT Carga","Patria","52 MyT Carga",0]
["Patria|53 MyT Cascos","Patria","53 MyT Cascos",0]
["Patria|54 Incendio","Patria","54 Incendio",0]
["Patria|55 Riesgos Catastroficos","Patria","55 Riesgos Catastroficos",0]
["Patria|56 Terremoto y Erupcion Volcanica","Patria","56 Terremoto y Erupcion Volcanica",0]
["Patria|57 Huracan y Otros Riesgos Hidrometeorologicos","Patria","57 Huracan y Otros Riesgos Hidrometeorologicos",0]
["Patria|59 Agricola y de Animales","Patria","59 Agricola y de Animales",0]
["Patria|60 AyA Agricola","Patria","60 AyA Agricola",0]
["Patria|61 AyA Otros","Patria","61 AyA Otros",0]
["Patria|62 AyA Pecuario","Patria","62 AyA Pecuario",0]
["Patria|63 Diversos","Patria","63 Diversos",0]
["Patria|64 Miscelaneos","Patria","64 Miscelaneos",0]
["Patria|65 Tecnicos","Patria","65 Tecnicos",0]
["Patria|66 Credito","Patria","66 Credito",0]
["Patrimonial Daños|10 Total General","Patrimonial Daños","10 Total General",72046.591060000006]
["Patrimonial Daños|11 Total General Sin Pensiones","Patrimonial Daños","11 Total General Sin Pensiones",72046.591060000006]
["Patrimonial Daños|38 Daños Total","Patrimonial Daños","38 Daños Total",72046.591060000006]
["Patrimonial Daños|39 Automoviles Total","Patrimonial Daños","39 Automoviles Total",72046.591060000006]
["Patrimonial Daños|41 Automoviles Residentes","Patrimonial Daños","41 Automoviles Residentes",0]
["Patrimonial Daños|42 Camiones","Patrimonial Daños","42 Camiones",3901.8030600000002]
["Patrimonial Daños|44 Otros Automoviles y Obligatorios","Patrimonial Daños","44 Otros Automoviles y Obligatorios",68144.788]
["Patrimonial Inbursa|10 Total General","Patrimonial Inbursa","10 Total General",365783.35788999998]
["Patrimonial Inbursa|11 Total General Sin Pensiones","Patrimonial Inbursa","11 Total General Sin Pensiones",365783.35788999998]
["Patrimonial Inbursa|12 Vida Total","Patrimonial Inbursa","12 Vida Total",234048.00074000002]
["Patrimonial Inbursa|13 Vida Individual","Patrimonial Inbursa","13 Vida Individual",175422.83546]
["Patrimonial Inbursa|14 Vida Gpo y Col","Patrimonial Inbursa","14 Vida Gpo y Col",58625.165280000001]
["Patrimonial Inbursa|28 Accidentes y Enfermedades Total","Patrimonial Inbursa","28 Accidentes y Enfermedades Total",28708.084070000001]
["Patrimonial Inbursa|29 Accidentes Personales","Patrimonial Inbursa","29 Accidentes Personales",10540.810869999999]
["Patrimonial Inbursa|30 AP Individual","Patrimonial Inbursa","30 AP Individual",10540.810869999999]
[{"$f":"B904&\"|\"&C904","v":"Patrimonial Inbursa|32 Gastos Medicos"},"Patrimonial Inbursa","32 Gastos Medicos",18167.2732]
["Patrimonial Inbursa|33 GMM. Individual","Patrimonial Inbursa","33 GMM. Individual",18167.2732]
["Patrimonial Inbursa|38 Daños Total","Patrimonial Inbursa","38 Daños Total",103027.27308]
["Patrimonial Inbursa|39 Automoviles Total","Patrimonial Inbursa","39 Automoviles Total",8720.8891899999999]
["Patrimonial Inbursa|41 Automoviles Residentes","Patrimonial Inbursa","41 Automoviles Residentes",8720.8891899999999]
["Patrimonial Inbursa|45 Daños Sin Autos Total","Patrimonial Inbursa","45 Daños Sin Autos Total",94306.383889999997]
["Patrimonial Inbursa|46 Responsabilidad Civil y Riesgos Profesionales","Patrimonial Inbursa","46 Responsabilidad Civil y Riesgos Profesionales",20464.14818]
["Patrimonial Inbursa|47 RC General","Patrimonial Inbursa","47 RC General",20464.14818]
["Patrimonial Inbursa|54 Incendio","Patrimonial Inbursa","54 Incendio",45655.514130000003]
["Patrimonial Inbursa|55 Riesgos Catastroficos","Patrimonial Inbursa","55 Riesgos Catastroficos",6556.8652099999999]
["Patrimonial Inbursa|57 Huracan y Otros Riesgos Hidrometeorologicos","Patrimonial Inbursa","57 Huracan y Otros Riesgos Hidrometeorologicos",6556.8652099999999]
["Patrimonial Inbursa|63 Diversos","Patrimonial Inbursa","63 Diversos",21629.856370000001]
["Patrimonial Inbursa|64 Miscelaneos","Patrimonial Inbursa","64 Miscelaneos",21629.856370000001]
["Patrimonial Inbursa|65 Tecnicos","Patrimonial Inbursa","65 Tecnicos",0]
["Patrimonial Vida|10 Total General","Patrimonial Vida","10 Total General",318429.82180999999]
["Patrimonial Vida|11 Total General Sin Pensiones","Patrimonial Vida","11 Total General Sin Pensiones",318429.82180999999]
["Patrimonial Vida|12 Vida Total","Patrimonial Vida","12 Vida Total",318429.82180999999]
["Patrimonial Vida|13 Vida Individual","Patrimonial Vida","13 Vida Individual",0]
["Patrimonial Vida|14 Vida Gpo y Col","Patrimonial Vida","14 Vida Gpo y Col",318429.82180999999]
["Pensiones Banorte|10 Total General","Pensiones Banorte","10 Total General",4253756.2515000002]
["Pensiones Banorte|15 Pensiones Total","Pensiones Banorte","15 Pensiones Total",4253756.2515000002]
["Pensiones Banorte|16 Pensiones IMSS","Pensiones Banorte","16 Pensiones IMSS",3206180.9434900004]
["Pensiones Banorte|22 Pensiones ISSSTE","Pensiones Banorte","22 Pensiones ISSSTE",1047575.30801]
["Pensiones BBVA Bancomer|10 Total General","Pensiones BBVA Bancomer","10 Total General",2683241.2516399999]
["Pensiones BBVA Bancomer|15 Pensiones Total","Pensiones BBVA Bancomer","15 Pensiones Total",2683241.2516399999]
["Pensiones BBVA Bancomer|16 Pensiones IMSS","Pensiones BBVA Bancomer","16 Pensiones IMSS",1639139.76709]
["Pensiones BBVA Bancomer|22 Pensiones ISSSTE","Pensiones BBVA Bancomer","22 Pensiones ISSSTE",1044101.4845500001]
["Pensiones Inbursa|10 Total General","Pensiones Inbursa","10 Total General",91.470590000000001]
["Pensiones Inbursa|15 Pensiones Total","Pensiones Inbursa","15 Pensiones Total",91.470590000000001]
["Pensiones Inbursa|16 Pensiones IMSS","Pensiones Inbursa","16 Pensiones IMSS",91.470590000000001]
["Plan Seguro|10 Total General","Plan Seguro","10 Total General",702706.06438999996]
["Plan Seguro|11 Total General Sin Pensiones","Plan Seguro","11 Total General Sin Pensiones",702706.06438999996]
["Plan Seguro|28 Accidentes y Enfermedades Total","Plan Seguro","28 Accidentes y Enfermedades Total",702706.06438999996]
["Plan Seguro|32 Gastos Medicos","Plan Seguro","32 Gastos Medicos",156106.53911000001]
["Plan Seguro|33 GMM. Individual","Plan Seguro","33 GMM. Individual",73802.233319999999]
["Plan Seguro|34 GMM. Gpo y Col","Plan Seguro","34 GMM. Gpo y Col",82304.305790000013]
["Plan Seguro|35 Salud","Plan Seguro","35 Salud",546599.52527999994]
["Plan Seguro|36 Salud Individual","Plan Seguro","36 Salud Individual",522915.77794]
["Plan Seguro|37 Salud Gpo y Col","Plan Seguro","37 Salud Gpo y Col",23683.747339999998]
["PREVEM Seguros|10 Total General","PREVEM Seguros","10 Total General",216996.14955]
["PREVEM Seguros|11 Total General Sin Pensiones","PREVEM Seguros","11 Total General Sin Pensiones",216996.14955]
["PREVEM Seguros|28 Accidentes y Enfermedades Total","PREVEM Seguros","28 Accidentes y Enfermedades Total",216996.14955]
["PREVEM Seguros|29 Accidentes Personales","PREVEM Seguros","29 Accidentes Personales",1300.96056]
["PREVEM Seguros|30 AP Individual","PREVEM Seguros","30 AP Individual",319.47548999999998]
["PREVEM Seguros|31 AP Gpo y Col","PREVEM Seguros","31 AP Gpo y Col",981.48506999999995]
["PREVEM Seguros|32 Gastos Medicos","PREVEM Seguros","32 Gastos Medicos",215695.18899]
["PREVEM Seguros|33 GMM. Individual","PREVEM Seguros","33 GMM. Individual",69131.333370000008]
["PREVEM Seguros|34 GMM. Gpo y Col","PREVEM Seguros","34 GMM. Gpo y Col",146563.85562000002]
["Primero Seguros|10 Total General","Primero Seguros","10 Total General",285123.98235000001]
["Primero Seguros|11 Total General Sin Pensiones","Primero Seguros","11 Total General Sin Pensiones",285123.98235000001]
["Primero Seguros|38 Daños Total","Primero Seguros","38 Daños Total",285123.98235000001]
["Primero Seguros|39 Automoviles Total","Primero Seguros","39 Automoviles Total",186153.75736000002]
["Primero Seguros|41 Automoviles Residentes","Primero Seguros","41 Automoviles Residentes",123140.18732]
["Primero Seguros|42 Camiones","Primero Seguros","42 Camiones",62957.184679999998]
["Primero Seguros|43 Automoviles Turistas","Primero Seguros","43 Automoviles Turistas",56.385359999999999]
["Primero Seguros|45 Daños Sin Autos Total","Primero Seguros","45 Daños Sin Autos Total",98970.224990000002]
["Primero Seguros|46 Responsabilidad Civil y Riesgos Profesionales","Primero Seguros","46 Responsabilidad Civil y Riesgos Profesionales",14546.749169999999]
["Primero Seguros|47 RC General","Primero Seguros","47 RC General",14546.749169999999]
["Primero Seguros|51 Maritimo y Transportes","Primero Seguros","51 Maritimo y Transportes",57200.263939999997]
["Primero Seguros|52 MyT Carga","Primero Seguros","52 MyT Carga",57200.263939999997]
["Primero Seguros|54 Incendio","Primero Seguros","54 Incendio",6407.79151]
["Primero Seguros|55 Riesgos Catastroficos","Primero Seguros","55 Riesgos Catastroficos",3655.74404]
["Primero Seguros|56 Terremoto y Erupcion Volcanica","Primero Seguros","56 Terremoto y Erupcion Volcanica",663.52931999999998]
["Primero Seguros|57 Huracan y Otros Riesgos Hidrometeorologicos","Primero Seguros","57 Huracan y Otros Riesgos Hidrometeorologicos",2992.2147200000004]
[{"$f":"B968&\"|\"&C968","v":"Primero Seguros|63 Diversos"},"Primero Seguros","63 Diversos",17159.676329999998]
["Primero Seguros|64 Miscelaneos","Primero Seguros","64 Miscelaneos",7883.7333899999994]
["Primero Seguros|65 Tecnicos","Primero Seguros","65 Tecnicos",9275.942939999999]
["Principal México|10 Total General","Principal México","10 Total General",0]
["Principal México|11 Total General Sin Pensiones","Principal México","11 Total General Sin Pensiones",0]
["Principal México|12 Vida Total","Principal México","12 Vida Total",0]
["Principal México|13 Vida Individual","Principal México","13 Vida Individual",0]
["Principal México|14 Vida Gpo y Col","Principal México","14 Vida Gpo y Col",0]
["Principal México|28 Accidentes y Enfermedades Total","Principal México","28 Accidentes y Enfermedades Total",0]
["Principal México|29 Accidentes Personales","Principal México","29 Accidentes Personales",0]
["Principal México|30 AP Individual","Principal México","30 AP Individual",0]
["ProFuturo G.N.P.|10 Total General","ProFuturo G.N.P.","10 Total General",2615977.4752099998]
["ProFuturo G.N.P.|15 Pensiones Total","ProFuturo G.N.P.","15 Pensiones Total",2615977.4752099998]
["ProFuturo G.N.P.|16 Pensiones IMSS","ProFuturo G.N.P.","16 Pensiones IMSS",1733794.73428]
["ProFuturo G.N.P.|22 Pensiones ISSSTE","ProFuturo G.N.P.","22 Pensiones ISSSTE",882182.74093000009]
["Prudential|10 Total General","Prudential","10 Total General",433447.13457999995]
["Prudential|11 Total General Sin Pensiones","Prudential","11 Total General Sin Pensiones",433447.13457999995]
["Prudential|12 Vida Total","Prudential","12 Vida Total",433447.13457999995]
["Prudential|13 Vida Individual","Prudential","13 Vida Individual",431227.78942000004]
["Prudential|14 Vida Gpo y Col","Prudential","14 Vida Gpo y Col",2219.3451600000003]
["Quálitas|10 Total General","Quálitas","10 Total General",11419161.885020001]
["Quálitas|11 Total General Sin Pensiones","Quálitas","11 Total General Sin Pensiones",11419161.885020001]
["Quálitas|38 Daños Total","Quálitas","38 Daños Total",11419161.885020001]
["Quálitas|39 Automoviles Total","Quálitas","39 Automoviles Total",11418019.376259999]
["Quálitas|41 Automoviles Residentes","Quálitas","41 Automoviles Residentes",5743980.8185799997]
["Quálitas|42 Camiones","Quálitas","42 Camiones",5298469.6194899995]
["Quálitas|43 Automoviles Turistas","Quálitas","43 Automoviles Turistas",105455.99693000001]
["Quálitas|44 Otros Automoviles y Obligatorios","Quálitas","44 Otros Automoviles y Obligatorios",270112.94125999999]
["Quálitas|45 Daños Sin Autos Total","Quálitas","45 Daños Sin Autos Total",1142.5087599999999]
["Quálitas|46 Responsabilidad Civil y Riesgos Profesionales","Quálitas","46 Responsabilidad Civil y Riesgos Profesionales",1142.5087599999999]
["Quálitas|50 RC Otros","Quálitas","50 RC Otros",1142.5087599999999]
["Seguros Argos|10 Total General","Seguros Argos","10 Total General",758060.44874999998]
["Seguros Argos|11 Total General Sin Pensiones","Seguros Argos","11 Total General Sin Pensiones",758060.44874999998]
["Seguros Argos|12 Vida Total","Seguros Argos","12 Vida Total",758060.44874999998]
["Seguros Argos|13 Vida Individual","Seguros Argos","13 Vida Individual",193336.54594000001]
["Seguros Argos|14 Vida Gpo y Col","Seguros Argos","14 Vida Gpo y Col",564723.90281]
["Seguros Azteca|10 Total General","Seguros Azteca","10 Total General",1962137.4953599998]
["Seguros Azteca|11 Total General Sin Pensiones","Seguros Azteca","11 Total General Sin Pensiones",1962137.4953599998]
["Seguros Azteca|12 Vida Total","Seguros Azteca","12 Vida Total",1702679.9857100002]
["Seguros Azteca|13 Vida Individual","Seguros Azteca","13 Vida Individual",31828.593000000001]
["Seguros Azteca|14 Vida Gpo y Col","Seguros Azteca","14 Vida Gpo y Col",1670851.39271]
["Seguros Azteca|28 Accidentes y Enfermedades Total","Seguros Azteca","28 Accidentes y Enfermedades Total",259457.50964999999]
["Seguros Azteca|29 Accidentes Personales","Seguros Azteca","29 Accidentes Personales",249226.03858000002]
["Seguros Azteca|30 AP Individual","Seguros Azteca","30 AP Individual",15422.98559]
["Seguros Azteca|31 AP Gpo y Col","Seguros Azteca","31 AP Gpo y Col",233803.05299]
["Seguros Azteca|32 Gastos Medicos","Seguros Azteca","32 Gastos Medicos",10231.47107]
["Seguros Azteca|33 GMM. Individual","Seguros Azteca","33 GMM. Individual",10231.47107]
["Seguros Azteca Daños|10 Total General","Seguros Azteca Daños","10 Total General",1251067.9799200001]
["Seguros Azteca Daños|11 Total General Sin Pensiones","Seguros Azteca Daños","11 Total General Sin Pensiones",1251067.9799200001]
["Seguros Azteca Daños|38 Daños Total","Seguros Azteca Daños","38 Daños Total",1251067.9799200001]
["Seguros Azteca Daños|39 Automoviles Total","Seguros Azteca Daños","39 Automoviles Total",76012.496889999995]
["Seguros Azteca Daños|41 Automoviles Residentes","Seguros Azteca Daños","41 Automoviles Residentes",76012.496889999995]
["Seguros Azteca Daños|45 Daños Sin Autos Total","Seguros Azteca Daños","45 Daños Sin Autos Total",1175055.48303]
["Seguros Azteca Daños|46 Responsabilidad Civil y Riesgos Profesionales","Seguros Azteca Daños","46 Responsabilidad Civil y Riesgos Profesionales",48111.538110000001]
["Seguros Azteca Daños|47 RC General","Seguros Azteca Daños","47 RC General",26265.353149999999]
["Seguros Azteca Daños|48 RC Aviones y Barcos","Seguros Azteca Daños","48 RC Aviones y Barcos",20742.53859]
["Seguros Azteca Daños|49 RC Viajero","Seguros Azteca Daños","49 RC Viajero",0]
["Seguros Azteca Daños|50 RC Otros","Seguros Azteca Daños","50 RC Otros",1103.6463700000002]
["Seguros Azteca Daños|51 Maritimo y Transportes","Seguros Azteca Daños","51 Maritimo y Transportes",23735.840210000002]
["Seguros Azteca Daños|52 MyT Carga","Seguros Azteca Daños","52 MyT Carga",2470.1402699999999]
["Seguros Azteca Daños|53 MyT Cascos","Seguros Azteca Daños","53 MyT Cascos",21265.699940000002]
["Seguros Azteca Daños|54 Incendio","Seguros Azteca Daños","54 Incendio",357929.69080000004]
["Seguros Azteca Daños|55 Riesgos Catastroficos","Seguros Azteca Daños","55 Riesgos Catastroficos",458250.00735000003]
["Seguros Azteca Daños|56 Terremoto y Erupcion Volcanica","Seguros Azteca Daños","56 Terremoto y Erupcion Volcanica",354006.14718000003]
[{"$f":"B1032&\"|\"&C1032","v":"Seguros Azteca Daños|57 Huracan y Otros Riesgos Hidrometeorologicos"},"Seguros Azteca Daños","57 Huracan y Otros Riesgos Hidrometeorologicos",104243.86017]
["Seguros Azteca Daños|63 Diversos","Seguros Azteca Daños","63 Diversos",287028.40655999997]
["Seguros Azteca Daños|64 Miscelaneos","Seguros Azteca Daños","64 Miscelaneos",114462.6623]
["Seguros Azteca Daños|65 Tecnicos","Seguros Azteca Daños","65 Tecnicos",172565.74425999998]
["Seguros SURA|10 Total General","Seguros SURA","10 Total General",3009079.1361799999]
["Seguros SURA|11 Total General Sin Pensiones","Seguros SURA","11 Total General Sin Pensiones",3009079.1361799999]
["Seguros SURA|12 Vida Total","Seguros SURA","12 Vida Total",693146.72094000003]
["Seguros SURA|13 Vida Individual","Seguros SURA","13 Vida Individual",31642.05082]
["Seguros SURA|14 Vida Gpo y Col","Seguros SURA","14 Vida Gpo y Col",661504.67012000002]
["Seguros SURA|28 Accidentes y Enfermedades Total","Seguros SURA","28 Accidentes y Enfermedades Total",363807.42283999996]
["Seguros SURA|29 Accidentes Personales","Seguros SURA","29 Accidentes Personales",57833.573380000002]
["Seguros SURA|30 AP Individual","Seguros SURA","30 AP Individual",26271.078579999998]
["Seguros SURA|31 AP Gpo y Col","Seguros SURA","31 AP Gpo y Col",31562.4948]
["Seguros SURA|32 Gastos Medicos","Seguros SURA","32 Gastos Medicos",305973.84946]
["Seguros SURA|33 GMM. Individual","Seguros SURA","33 GMM. Individual",81242.998240000001]
["Seguros SURA|34 GMM. Gpo y Col","Seguros SURA","34 GMM. Gpo y Col",224730.85122000001]
["Seguros SURA|38 Daños Total","Seguros SURA","38 Daños Total",1952124.9924000001]
["Seguros SURA|39 Automoviles Total","Seguros SURA","39 Automoviles Total",458950.71272000001]
["Seguros SURA|41 Automoviles Residentes","Seguros SURA","41 Automoviles Residentes",313075.10848]
["Seguros SURA|42 Camiones","Seguros SURA","42 Camiones",128238.68986]
["Seguros SURA|43 Automoviles Turistas","Seguros SURA","43 Automoviles Turistas",392.24423999999999]
["Seguros SURA|44 Otros Automoviles y Obligatorios","Seguros SURA","44 Otros Automoviles y Obligatorios",17244.670140000002]
["Seguros SURA|45 Daños Sin Autos Total","Seguros SURA","45 Daños Sin Autos Total",1493174.2796800002]
["Seguros SURA|46 Responsabilidad Civil y Riesgos Profesionales","Seguros SURA","46 Responsabilidad Civil y Riesgos Profesionales",210858.75743999999]
["Seguros SURA|47 RC General","Seguros SURA","47 RC General",206149.95703999998]
["Seguros SURA|48 RC Aviones y Barcos","Seguros SURA","48 RC Aviones y Barcos",0]
["Seguros SURA|49 RC Viajero","Seguros SURA","49 RC Viajero",4708.8004000000001]
["Seguros SURA|51 Maritimo y Transportes","Seguros SURA","51 Maritimo y Transportes",126805.85381999999]
["Seguros SURA|52 MyT Carga","Seguros SURA","52 MyT Carga",121934.308]
["Seguros SURA|53 MyT Cascos","Seguros SURA","53 MyT Cascos",4871.5458200000003]
["Seguros SURA|54 Incendio","Seguros SURA","54 Incendio",450839.20242000005]
["Seguros SURA|55 Riesgos Catastroficos","Seguros SURA","55 Riesgos Catastroficos",293984.59724000003]
["Seguros SURA|56 Terremoto y Erupcion Volcanica","Seguros SURA","56 Terremoto y Erupcion Volcanica",112077.70486]
["Seguros SURA|57 Huracan y Otros Riesgos Hidrometeorologicos","Seguros SURA","57 Huracan y Otros Riesgos Hidrometeorologicos",181906.89238]
["Seguros SURA|58 Otros Riesgos Catastroficos","Seguros SURA","58 Otros Riesgos Catastroficos",0]
["Seguros SURA|59 Agricola y de Animales","Seguros SURA","59 Agricola y de Animales",18827.322219999998]
["Seguros SURA|60 AyA Agricola","Seguros SURA","60 AyA Agricola",18827.322219999998]
["Seguros SURA|63 Diversos","Seguros SURA","63 Diversos",391858.54654000001]
["Seguros SURA|64 Miscelaneos","Seguros SURA","64 Miscelaneos",66311.048519999997]
["Seguros SURA|65 Tecnicos","Seguros SURA","65 Tecnicos",325547.49802]
["SHF Cred Vivienda|10 Total General","SHF Cred Vivienda","10 Total General",128656.87879999999]
["SHF Cred Vivienda|11 Total General Sin Pensiones","SHF Cred Vivienda","11 Total General Sin Pensiones",128656.87879999999]
["SHF Cred Vivienda|38 Daños Total","SHF Cred Vivienda","38 Daños Total",128656.87879999999]
["SHF Cred Vivienda|45 Daños Sin Autos Total","SHF Cred Vivienda","45 Daños Sin Autos Total",128656.87879999999]
["SHF Cred Vivienda|67 Credito a la Vivienda","SHF Cred Vivienda","67 Credito a la Vivienda",128656.87879999999]
["Skandia Life|10 Total General","Skandia Life","10 Total General",105288.88576999999]
["Skandia Life|11 Total General Sin Pensiones","Skandia Life","11 Total General Sin Pensiones",105288.88576999999]
["Skandia Life|12 Vida Total","Skandia Life","12 Vida Total",105288.88576999999]
["Skandia Life|13 Vida Individual","Skandia Life","13 Vida Individual",103147.18457]
["Skandia Life|14 Vida Gpo y Col","Skandia Life","14 Vida Gpo y Col",2141.7012]
["Solunion Crédito|10 Total General","Solunion Crédito","10 Total General",173836.21695]
["Solunion Crédito|11 Total General Sin Pensiones","Solunion Crédito","11 Total General Sin Pensiones",173836.21695]
["Solunion Crédito|38 Daños Total","Solunion Crédito","38 Daños Total",173836.21695]
["Solunion Crédito|45 Daños Sin Autos Total","Solunion Crédito","45 Daños Sin Autos Total",173836.21695]
["Solunion Crédito|66 Credito","Solunion Crédito","66 Credito",173836.21695]
["Sompo Japan|10 Total General","Sompo Japan","10 Total General",189031.92499999999]
["Sompo Japan|11 Total General Sin Pensiones","Sompo Japan","11 Total General Sin Pensiones",189031.92499999999]
["Sompo Japan|38 Daños Total","Sompo Japan","38 Daños Total",189031.92499999999]
["Sompo Japan|39 Automoviles Total","Sompo Japan","39 Automoviles Total",249.92348999999999]
["Sompo Japan|41 Automoviles Residentes","Sompo Japan","41 Automoviles Residentes",196.25797]
["Sompo Japan|42 Camiones","Sompo Japan","42 Camiones",53.665519999999994]
["Sompo Japan|45 Daños Sin Autos Total","Sompo Japan","45 Daños Sin Autos Total",188782.00154]
["Sompo Japan|46 Responsabilidad Civil y Riesgos Profesionales","Sompo Japan","46 Responsabilidad Civil y Riesgos Profesionales",16408.38119]
["Sompo Japan|47 RC General","Sompo Japan","47 RC General",16408.38119]
[{"$f":"B1096&\"|\"&C1096","v":"Sompo Japan|50 RC Otros"},"Sompo Japan","50 RC Otros",0]
["Sompo Japan|51 Maritimo y Transportes","Sompo Japan","51 Maritimo y Transportes",56651.441340000005]
["Sompo Japan|52 MyT Carga","Sompo Japan","52 MyT Carga",56651.441340000005]
["Sompo Japan|54 Incendio","Sompo Japan","54 Incendio",40625.908729999996]
["Sompo Japan|55 Riesgos Catastroficos","Sompo Japan","55 Riesgos Catastroficos",58415.719109999998]
["Sompo Japan|56 Terremoto y Erupcion Volcanica","Sompo Japan","56 Terremoto y Erupcion Volcanica",25454.052]
["Sompo Japan|57 Huracan y Otros Riesgos Hidrometeorologicos","Sompo Japan","57 Huracan y Otros Riesgos Hidrometeorologicos",32961.667110000002]
["Sompo Japan|63 Diversos","Sompo Japan","63 Diversos",16680.551169999999]
["Sompo Japan|64 Miscelaneos","Sompo Japan","64 Miscelaneos",3723.81756]
["Sompo Japan|65 Tecnicos","Sompo Japan","65 Tecnicos",12956.733609999999]
["Swiss Re Corporate Solutions|10 Total General","Swiss Re Corporate Solutions","10 Total General",131577.22926999998]
["Swiss Re Corporate Solutions|11 Total General Sin Pensiones","Swiss Re Corporate Solutions","11 Total General Sin Pensiones",131577.22926999998]
["Swiss Re Corporate Solutions|38 Daños Total","Swiss Re Corporate Solutions","38 Daños Total",131577.22926999998]
["Swiss Re Corporate Solutions|45 Daños Sin Autos Total","Swiss Re Corporate Solutions","45 Daños Sin Autos Total",131577.22926999998]
["Swiss Re Corporate Solutions|46 Responsabilidad Civil y Riesgos Profesionales","Swiss Re Corporate Solutions","46 Responsabilidad Civil y Riesgos Profesionales",12456.556070000001]
["Swiss Re Corporate Solutions|47 RC General","Swiss Re Corporate Solutions","47 RC General",12406.38832]
["Swiss Re Corporate Solutions|49 RC Viajero","Swiss Re Corporate Solutions","49 RC Viajero",0]
["Swiss Re Corporate Solutions|50 RC Otros","Swiss Re Corporate Solutions","50 RC Otros",50.167749999999998]
["Swiss Re Corporate Solutions|51 Maritimo y Transportes","Swiss Re Corporate Solutions","51 Maritimo y Transportes",0]
["Swiss Re Corporate Solutions|52 MyT Carga","Swiss Re Corporate Solutions","52 MyT Carga",0]
["Swiss Re Corporate Solutions|54 Incendio","Swiss Re Corporate Solutions","54 Incendio",36452.870649999997]
["Swiss Re Corporate Solutions|55 Riesgos Catastroficos","Swiss Re Corporate Solutions","55 Riesgos Catastroficos",70960.092099999994]
["Swiss Re Corporate Solutions|56 Terremoto y Erupcion Volcanica","Swiss Re Corporate Solutions","56 Terremoto y Erupcion Volcanica",22490.501199999999]
["Swiss Re Corporate Solutions|57 Huracan y Otros Riesgos Hidrometeorologicos","Swiss Re Corporate Solutions","57 Huracan y Otros Riesgos Hidrometeorologicos",48469.590899999996]
["Swiss Re Corporate Solutions|59 Agricola y de Animales","Swiss Re Corporate Solutions","59 Agricola y de Animales",0]
["Swiss Re Corporate Solutions|60 AyA Agricola","Swiss Re Corporate Solutions","60 AyA Agricola",0]
["Swiss Re Corporate Solutions|61 AyA Otros","Swiss Re Corporate Solutions","61 AyA Otros",0]
["Swiss Re Corporate Solutions|62 AyA Pecuario","Swiss Re Corporate Solutions","62 AyA Pecuario",0]
["Swiss Re Corporate Solutions|63 Diversos","Swiss Re Corporate Solutions","63 Diversos",11707.710449999999]
["Swiss Re Corporate Solutions|64 Miscelaneos","Swiss Re Corporate Solutions","64 Miscelaneos",2014.6140399999999]
["Swiss Re Corporate Solutions|65 Tecnicos","Swiss Re Corporate Solutions","65 Tecnicos",9693.0964100000001]
["Tokio Marine|10 Total General","Tokio Marine","10 Total General",328979.06079000002]
["Tokio Marine|11 Total General Sin Pensiones","Tokio Marine","11 Total General Sin Pensiones",328979.06079000002]
["Tokio Marine|12 Vida Total","Tokio Marine","12 Vida Total",20027.149960000002]
["Tokio Marine|14 Vida Gpo y Col","Tokio Marine","14 Vida Gpo y Col",20027.149960000002]
["Tokio Marine|38 Daños Total","Tokio Marine","38 Daños Total",308951.91083000001]
["Tokio Marine|39 Automoviles Total","Tokio Marine","39 Automoviles Total",10351.624109999999]
["Tokio Marine|41 Automoviles Residentes","Tokio Marine","41 Automoviles Residentes",8220.7235700000001]
["Tokio Marine|42 Camiones","Tokio Marine","42 Camiones",2130.9005400000001]
["Tokio Marine|43 Automoviles Turistas","Tokio Marine","43 Automoviles Turistas",0]
["Tokio Marine|44 Otros Automoviles y Obligatorios","Tokio Marine","44 Otros Automoviles y Obligatorios",0]
["Tokio Marine|45 Daños Sin Autos Total","Tokio Marine","45 Daños Sin Autos Total",298600.28672000003]
["Tokio Marine|46 Responsabilidad Civil y Riesgos Profesionales","Tokio Marine","46 Responsabilidad Civil y Riesgos Profesionales",24421.05672]
["Tokio Marine|47 RC General","Tokio Marine","47 RC General",21855.712350000002]
["Tokio Marine|50 RC Otros","Tokio Marine","50 RC Otros",2565.3443700000003]
["Tokio Marine|51 Maritimo y Transportes","Tokio Marine","51 Maritimo y Transportes",148787.00459999999]
["Tokio Marine|52 MyT Carga","Tokio Marine","52 MyT Carga",148787.00459999999]
["Tokio Marine|54 Incendio","Tokio Marine","54 Incendio",31272.101609999998]
["Tokio Marine|55 Riesgos Catastroficos","Tokio Marine","55 Riesgos Catastroficos",80035.127290000004]
["Tokio Marine|56 Terremoto y Erupcion Volcanica","Tokio Marine","56 Terremoto y Erupcion Volcanica",31026.02259]
["Tokio Marine|57 Huracan y Otros Riesgos Hidrometeorologicos","Tokio Marine","57 Huracan y Otros Riesgos Hidrometeorologicos",49009.104700000004]
["Tokio Marine|63 Diversos","Tokio Marine","63 Diversos",14084.996499999999]
["Tokio Marine|64 Miscelaneos","Tokio Marine","64 Miscelaneos",4377.8203700000004]
["Tokio Marine|65 Tecnicos","Tokio Marine","65 Tecnicos",9707.1761300000016]
["TOTAL|10 Total General","TOTAL","10 Total General",219584966.36028001]
["TOTAL|11 Total General Sin Pensiones","TOTAL","11 Total General Sin Pensiones",210029412.92616993]
["TOTAL|12 Vida Total","TOTAL","12 Vida Total",83951294.718330011]
["TOTAL|13 Vida Individual","TOTAL","13 Vida Individual",53146167.045630001]
["TOTAL|14 Vida Gpo y Col","TOTAL","14 Vida Gpo y Col",30805127.672699999]
["TOTAL|15 Pensiones Total","TOTAL","15 Pensiones Total",9555553.4341100007]
["TOTAL|16 Pensiones IMSS","TOTAL","16 Pensiones IMSS",6581693.9006200004]
["TOTAL|22 Pensiones ISSSTE","TOTAL","22 Pensiones ISSSTE",2973859.5334900003]
["TOTAL|28 Accidentes y Enfermedades Total","TOTAL","28 Accidentes y Enfermedades Total",44352188.506969996]
["TOTAL|29 Accidentes Personales","TOTAL","29 Accidentes Personales",1634065.60032]
[{"$f":"B1160&\"|\"&C1160","v":"TOTAL|30 AP Individual"},"TOTAL","30 AP Individual",859900.97607999993]
["TOTAL|31 AP Gpo y Col","TOTAL","31 AP Gpo y Col",774164.6242399998]
["TOTAL|32 Gastos Medicos","TOTAL","32 Gastos Medicos",41269683.43801]
["TOTAL|33 GMM. Individual","TOTAL","33 GMM. Individual",17505730.597710002]
["TOTAL|34 GMM. Gpo y Col","TOTAL","34 GMM. Gpo y Col",23763952.840350002]
["TOTAL|35 Salud","TOTAL","35 Salud",1448439.4686599998]
["TOTAL|36 Salud Individual","TOTAL","36 Salud Individual",590916.56693000009]
["TOTAL|37 Salud Gpo y Col","TOTAL","37 Salud Gpo y Col",857522.90173000016]
["TOTAL|38 Daños Total","TOTAL","38 Daños Total",81725929.700869977]
["TOTAL|39 Automoviles Total","TOTAL","39 Automoviles Total",37893481.075319991]
["TOTAL|41 Automoviles Residentes","TOTAL","41 Automoviles Residentes",22731915.333530001]
["TOTAL|42 Camiones","TOTAL","42 Camiones",12828463.609759998]
["TOTAL|43 Automoviles Turistas","TOTAL","43 Automoviles Turistas",530186.1463100001]
["TOTAL|44 Otros Automoviles y Obligatorios","TOTAL","44 Otros Automoviles y Obligatorios",1802915.9857200002]
["TOTAL|45 Daños Sin Autos Total","TOTAL","45 Daños Sin Autos Total",43832448.625579998]
["TOTAL|46 Responsabilidad Civil y Riesgos Profesionales","TOTAL","46 Responsabilidad Civil y Riesgos Profesionales",6637205.2107699988]
["TOTAL|47 RC General","TOTAL","47 RC General",4862738.0292499997]
["TOTAL|48 RC Aviones y Barcos","TOTAL","48 RC Aviones y Barcos",1121638.45891]
["TOTAL|49 RC Viajero","TOTAL","49 RC Viajero",76410.876629999999]
["TOTAL|50 RC Otros","TOTAL","50 RC Otros",576417.84597999987]
["TOTAL|51 Maritimo y Transportes","TOTAL","51 Maritimo y Transportes",6132491.4144800007]
["TOTAL|52 MyT Carga","TOTAL","52 MyT Carga",3734163.0907000001]
["TOTAL|53 MyT Cascos","TOTAL","53 MyT Cascos",2398328.3237800002]
["TOTAL|54 Incendio","TOTAL","54 Incendio",9232747.5252599996]
["TOTAL|55 Riesgos Catastroficos","TOTAL","55 Riesgos Catastroficos",9837479.9999300018]
["TOTAL|56 Terremoto y Erupcion Volcanica","TOTAL","56 Terremoto y Erupcion Volcanica",3738408.1878800001]
["TOTAL|57 Huracan y Otros Riesgos Hidrometeorologicos","TOTAL","57 Huracan y Otros Riesgos Hidrometeorologicos",6033283.5651799999]
["TOTAL|58 Otros Riesgos Catastroficos","TOTAL","58 Otros Riesgos Catastroficos",65788.246870000003]
["TOTAL|59 Agricola y de Animales","TOTAL","59 Agricola y de Animales",193236.85344000004]
["TOTAL|60 AyA Agricola","TOTAL","60 AyA Agricola",127334.17072000001]
["TOTAL|61 AyA Otros","TOTAL","61 AyA Otros",0]
["TOTAL|62 AyA Pecuario","TOTAL","62 AyA Pecuario",65902.682720000012]
["TOTAL|63 Diversos","TOTAL","63 Diversos",11173200.660349999]
["TOTAL|64 Miscelaneos","TOTAL","64 Miscelaneos",4201892.2048800001]
["TOTAL|65 Tecnicos","TOTAL","65 Tecnicos",6971308.4554700013]
["TOTAL|66 Credito","TOTAL","66 Credito",472119.71030000004]
["TOTAL|67 Credito a la Vivienda","TOTAL","67 Credito a la Vivienda",153967.25104999999]
["TOTAL GRANDES|10 Total General","TOTAL GRANDES","10 Total General",97416639.17403999]
["TOTAL GRANDES|11 Total General Sin Pensiones","TOTAL GRANDES","11 Total General Sin Pensiones",97416639.174040005]
["TOTAL GRANDES|12 Vida Total","TOTAL GRANDES","12 Vida Total",54827203.002259992]
["TOTAL GRANDES|13 Vida Individual","TOTAL GRANDES","13 Vida Individual",40836483.327989995]
["TOTAL GRANDES|14 Vida Gpo y Col","TOTAL GRANDES","14 Vida Gpo y Col",18589328.89023]
["TOTAL GRANDES|15 Pensiones Total","TOTAL GRANDES","15 Pensiones Total",9555461.9635199998]
["TOTAL GRANDES|16 Pensiones IMSS","TOTAL GRANDES","16 Pensiones IMSS",6581602.4300300013]
["TOTAL GRANDES|22 Pensiones ISSSTE","TOTAL GRANDES","22 Pensiones ISSSTE",2973859.5334900003]
["TOTAL GRANDES|28 Accidentes y Enfermedades Total","TOTAL GRANDES","28 Accidentes y Enfermedades Total",33585497.300520003]
["TOTAL GRANDES|29 Accidentes Personales","TOTAL GRANDES","29 Accidentes Personales",1021930.3274600001]
["TOTAL GRANDES|30 AP Individual","TOTAL GRANDES","30 AP Individual",663712.44313999999]
["TOTAL GRANDES|31 AP Gpo y Col","TOTAL GRANDES","31 AP Gpo y Col",492082.53615000006]
["TOTAL GRANDES|32 Gastos Medicos","TOTAL GRANDES","32 Gastos Medicos",33427219.833049998]
["TOTAL GRANDES|33 GMM. Individual","TOTAL GRANDES","33 GMM. Individual",14019085.642299999]
["TOTAL GRANDES|34 GMM. Gpo y Col","TOTAL GRANDES","34 GMM. Gpo y Col",19838667.281679999]
["TOTAL GRANDES|35 Salud","TOTAL GRANDES","35 Salud",1383737.9488499998]
["TOTAL GRANDES|36 Salud Individual","TOTAL GRANDES","36 Salud Individual",589489.28094000008]
["TOTAL GRANDES|37 Salud Gpo y Col","TOTAL GRANDES","37 Salud Gpo y Col",806842.61589000013]
["TOTAL GRANDES|38 Daños Total","TOTAL GRANDES","38 Daños Total",37026245.039240003]
["TOTAL GRANDES|39 Automoviles Total","TOTAL GRANDES","39 Automoviles Total",26463162.772160001]
["TOTAL GRANDES|41 Automoviles Residentes","TOTAL GRANDES","41 Automoviles Residentes",15030138.71892]
["TOTAL GRANDES|42 Camiones","TOTAL GRANDES","42 Camiones",9805210.1651299987]
["TOTAL GRANDES|43 Automoviles Turistas","TOTAL GRANDES","43 Automoviles Turistas",460556.27231000003]
["TOTAL GRANDES|44 Otros Automoviles y Obligatorios","TOTAL GRANDES","44 Otros Automoviles y Obligatorios",1705995.86051]
["TOTAL GRANDES|45 Daños Sin Autos Total","TOTAL GRANDES","45 Daños Sin Autos Total",20803414.013590001]
["TOTAL GRANDES|46 Responsabilidad Civil y Riesgos Profesionales","TOTAL GRANDES","46 Responsabilidad Civil y Riesgos Profesionales",4105081.7956400001]
["TOTAL GRANDES|47 RC General","TOTAL GRANDES","47 RC General",3027820.0273099998]
[{"$f":"B1224&\"|\"&C1224","v":"TOTAL GRANDES|48 RC Aviones y Barcos"},"TOTAL GRANDES","48 RC Aviones y Barcos",1045144.6207300001]
["TOTAL GRANDES|49 RC Viajero","TOTAL GRANDES","49 RC Viajero",60930.522410000005]
["TOTAL GRANDES|50 RC Otros","TOTAL GRANDES","50 RC Otros",553788.37424000003]
["TOTAL GRANDES|51 Maritimo y Transportes","TOTAL GRANDES","51 Maritimo y Transportes",3541089.1565699996]
["TOTAL GRANDES|52 MyT Carga","TOTAL GRANDES","52 MyT Carga",1998030.1238299999]
["TOTAL GRANDES|53 MyT Cascos","TOTAL GRANDES","53 MyT Cascos",2137162.7549100001]
["TOTAL GRANDES|54 Incendio","TOTAL GRANDES","54 Incendio",4462593.3702700008]
["TOTAL GRANDES|55 Riesgos Catastroficos","TOTAL GRANDES","55 Riesgos Catastroficos",5426459.5029899999]
["TOTAL GRANDES|56 Terremoto y Erupcion Volcanica","TOTAL GRANDES","56 Terremoto y Erupcion Volcanica",1701360.0591899999]
["TOTAL GRANDES|57 Huracan y Otros Riesgos Hidrometeorologicos","TOTAL GRANDES","57 Huracan y Otros Riesgos Hidrometeorologicos",3903672.6926499996]
["TOTAL GRANDES|58 Otros Riesgos Catastroficos","TOTAL GRANDES","58 Otros Riesgos Catastroficos",65788.246870000003]
["TOTAL GRANDES|59 Agricola y de Animales","TOTAL GRANDES","59 Agricola y de Animales",193236.85344000004]
["TOTAL GRANDES|60 AyA Agricola","TOTAL GRANDES","60 AyA Agricola",127334.17072000001]
["TOTAL GRANDES|62 AyA Pecuario","TOTAL GRANDES","62 AyA Pecuario",65902.682720000012]
["TOTAL GRANDES|63 Diversos","TOTAL GRANDES","63 Diversos",5467513.3071000008]
["TOTAL GRANDES|64 Miscelaneos","TOTAL GRANDES","64 Miscelaneos",2593438.58268]
["TOTAL GRANDES|65 Tecnicos","TOTAL GRANDES","65 Tecnicos",4128523.1620500004]
["TOTAL GRANDES|66 Credito","TOTAL GRANDES","66 Credito",472119.71030000004]
["TOTAL GRANDES|67 Credito a la Vivienda","TOTAL GRANDES","67 Credito a la Vivienda",153967.25104999999]
["TOTAL MEDIANAS|10 Total General","TOTAL MEDIANAS","10 Total General",72683975.649309993]
["TOTAL MEDIANAS|11 Total General Sin Pensiones","TOTAL MEDIANAS","11 Total General Sin Pensiones",72683975.649309993]
["TOTAL MEDIANAS|12 Vida Total","TOTAL MEDIANAS","12 Vida Total",22776145.08636]
["TOTAL MEDIANAS|13 Vida Individual","TOTAL MEDIANAS","13 Vida Individual",11351589.618729997]
["TOTAL MEDIANAS|14 Vida Gpo y Col","TOTAL MEDIANAS","14 Vida Gpo y Col",8715654.7009599991]
["TOTAL MEDIANAS|15 Pensiones Total","TOTAL MEDIANAS","15 Pensiones Total",91.470590000000001]
["TOTAL MEDIANAS|16 Pensiones IMSS","TOTAL MEDIANAS","16 Pensiones IMSS",91.470590000000001]
["TOTAL MEDIANAS|28 Accidentes y Enfermedades Total","TOTAL MEDIANAS","28 Accidentes y Enfermedades Total",8055362.6983199995]
["TOTAL MEDIANAS|29 Accidentes Personales","TOTAL MEDIANAS","29 Accidentes Personales",519956.51503999997]
["TOTAL MEDIANAS|30 AP Individual","TOTAL MEDIANAS","30 AP Individual",188447.98801999996]
["TOTAL MEDIANAS|31 AP Gpo y Col","TOTAL MEDIANAS","31 AP Gpo y Col",234381.46663000001]
["TOTAL MEDIANAS|32 Gastos Medicos","TOTAL MEDIANAS","32 Gastos Medicos",7100497.5269799996]
["TOTAL MEDIANAS|33 GMM. Individual","TOTAL MEDIANAS","33 GMM. Individual",3070171.3515900001]
["TOTAL MEDIANAS|34 GMM. Gpo y Col","TOTAL MEDIANAS","34 GMM. Gpo y Col",3724690.33506]
["TOTAL MEDIANAS|35 Salud","TOTAL MEDIANAS","35 Salud",64701.519810000005]
["TOTAL MEDIANAS|36 Salud Individual","TOTAL MEDIANAS","36 Salud Individual",1427.2859899999999]
["TOTAL MEDIANAS|37 Salud Gpo y Col","TOTAL MEDIANAS","37 Salud Gpo y Col",50680.285839999997]
["TOTAL MEDIANAS|38 Daños Total","TOTAL MEDIANAS","38 Daños Total",33049874.168370001]
["TOTAL MEDIANAS|39 Automoviles Total","TOTAL MEDIANAS","39 Automoviles Total",9926308.706629999]
["TOTAL MEDIANAS|41 Automoviles Residentes","TOTAL MEDIANAS","41 Automoviles Residentes",6907239.4634000016]
["TOTAL MEDIANAS|42 Camiones","TOTAL MEDIANAS","42 Camiones",2902504.7760099997]
["TOTAL MEDIANAS|43 Automoviles Turistas","TOTAL MEDIANAS","43 Automoviles Turistas",69573.488639999996]
["TOTAL MEDIANAS|44 Otros Automoviles y Obligatorios","TOTAL MEDIANAS","44 Otros Automoviles y Obligatorios",96319.057319999993]
["TOTAL MEDIANAS|45 Daños Sin Autos Total","TOTAL MEDIANAS","45 Daños Sin Autos Total",16741492.38713]
["TOTAL MEDIANAS|46 Responsabilidad Civil y Riesgos Profesionales","TOTAL MEDIANAS","46 Responsabilidad Civil y Riesgos Profesionales",2033131.00798]
["TOTAL MEDIANAS|47 RC General","TOTAL MEDIANAS","47 RC General",1401910.6507599999]
["TOTAL MEDIANAS|48 RC Aviones y Barcos","TOTAL MEDIANAS","48 RC Aviones y Barcos",76359.988740000001]
["TOTAL MEDIANAS|49 RC Viajero","TOTAL MEDIANAS","49 RC Viajero",15480.354220000001]
["TOTAL MEDIANAS|50 RC Otros","TOTAL MEDIANAS","50 RC Otros",22629.471740000001]
["TOTAL MEDIANAS|51 Maritimo y Transportes","TOTAL MEDIANAS","51 Maritimo y Transportes",2129413.7191399997]
["TOTAL MEDIANAS|52 MyT Carga","TOTAL MEDIANAS","52 MyT Carga",1406447.6981799998]
["TOTAL MEDIANAS|53 MyT Cascos","TOTAL MEDIANAS","53 MyT Cascos",254584.16877000002]
["TOTAL MEDIANAS|54 Incendio","TOTAL MEDIANAS","54 Incendio",3941291.3386300001]
["TOTAL MEDIANAS|55 Riesgos Catastroficos","TOTAL MEDIANAS","55 Riesgos Catastroficos",3440957.2975999992]
["TOTAL MEDIANAS|56 Terremoto y Erupcion Volcanica","TOTAL MEDIANAS","56 Terremoto y Erupcion Volcanica",1604472.7811499997]
["TOTAL MEDIANAS|57 Huracan y Otros Riesgos Hidrometeorologicos","TOTAL MEDIANAS","57 Huracan y Otros Riesgos Hidrometeorologicos",1621234.5174800002]
["TOTAL MEDIANAS|59 Agricola y de Animales","TOTAL MEDIANAS","59 Agricola y de Animales",0]
["TOTAL MEDIANAS|60 AyA Agricola","TOTAL MEDIANAS","60 AyA Agricola",0]
["TOTAL MEDIANAS|63 Diversos","TOTAL MEDIANAS","63 Diversos",4444758.0931700002]
["TOTAL MEDIANAS|64 Miscelaneos","TOTAL MEDIANAS","64 Miscelaneos",1176049.03324]
["TOTAL MEDIANAS|65 Tecnicos","TOTAL MEDIANAS","65 Tecnicos",2372033.24027]
["TOTAL RESTO|10 Total General","TOTAL RESTO","10 Total General",49484351.536929987]
["TOTAL RESTO|11 Total General Sin Pensiones","TOTAL RESTO","11 Total General Sin Pensiones",39928798.102819994]
["TOTAL RESTO|12 Vida Total","TOTAL RESTO","12 Vida Total",6347946.6297100009]
["TOTAL RESTO|13 Vida Individual","TOTAL RESTO","13 Vida Individual",958094.09890999994]
[{"$f":"B1288&\"|\"&C1288","v":"TOTAL RESTO|14 Vida Gpo y Col"},"TOTAL RESTO","14 Vida Gpo y Col",3500144.0815099995]
["TOTAL RESTO|28 Accidentes y Enfermedades Total","TOTAL RESTO","28 Accidentes y Enfermedades Total",2711328.5081300004]
["TOTAL RESTO|29 Accidentes Personales","TOTAL RESTO","29 Accidentes Personales",92178.757819999984]
["TOTAL RESTO|30 AP Individual","TOTAL RESTO","30 AP Individual",7740.5449199999994]
["TOTAL RESTO|31 AP Gpo y Col","TOTAL RESTO","31 AP Gpo y Col",47700.621459999995]
["TOTAL RESTO|32 Gastos Medicos","TOTAL RESTO","32 Gastos Medicos",741966.07798000006]
["TOTAL RESTO|33 GMM. Individual","TOTAL RESTO","33 GMM. Individual",416473.60381999996]
["TOTAL RESTO|34 GMM. Gpo y Col","TOTAL RESTO","34 GMM. Gpo y Col",200595.22361000004]
["TOTAL RESTO|38 Daños Total","TOTAL RESTO","38 Daños Total",11649810.493260002]
["TOTAL RESTO|39 Automoviles Total","TOTAL RESTO","39 Automoviles Total",1504009.59653]
["TOTAL RESTO|41 Automoviles Residentes","TOTAL RESTO","41 Automoviles Residentes",794537.15121000004]
["TOTAL RESTO|42 Camiones","TOTAL RESTO","42 Camiones",120748.66862000001]
["TOTAL RESTO|43 Automoviles Turistas","TOTAL RESTO","43 Automoviles Turistas",56.385359999999999]
["TOTAL RESTO|44 Otros Automoviles y Obligatorios","TOTAL RESTO","44 Otros Automoviles y Obligatorios",601.06789000000003]
["TOTAL RESTO|45 Daños Sin Autos Total","TOTAL RESTO","45 Daños Sin Autos Total",6287542.2248600004]
["TOTAL RESTO|51 Maritimo y Transportes","TOTAL RESTO","51 Maritimo y Transportes",461988.53876999998]
["TOTAL RESTO|52 MyT Carga","TOTAL RESTO","52 MyT Carga",329685.26869]
["TOTAL RESTO|53 MyT Cascos","TOTAL RESTO","53 MyT Cascos",6581.4000999999998]
["TOTAL RESTO|63 Diversos","TOTAL RESTO","63 Diversos",1260929.2600799995]
["TOTAL RESTO|64 Miscelaneos","TOTAL RESTO","64 Miscelaneos",432404.58896000002]
["TOTAL RESTO|65 Tecnicos","TOTAL RESTO","65 Tecnicos",470752.05314999999]
["Ve Por Más|10 Total General","Ve Por Más","10 Total General",764564.70062000002]
["Ve Por Más|11 Total General Sin Pensiones","Ve Por Más","11 Total General Sin Pensiones",764564.70062000002]
["Ve Por Más|12 Vida Total","Ve Por Más","12 Vida Total",93763.930959999998]
["Ve Por Más|13 Vida Individual","Ve Por Más","13 Vida Individual",16899.412680000001]
["Ve Por Más|14 Vida Gpo y Col","Ve Por Más","14 Vida Gpo y Col",76864.518280000004]
["Ve Por Más|28 Accidentes y Enfermedades Total","Ve Por Más","28 Accidentes y Enfermedades Total",522463.80973000004]
["Ve Por Más|29 Accidentes Personales","Ve Por Más","29 Accidentes Personales",5350.14408]
["Ve Por Más|30 AP Individual","Ve Por Más","30 AP Individual",30.65926]
["Ve Por Más|31 AP Gpo y Col","Ve Por Más","31 AP Gpo y Col",5319.4848200000006]
["Ve Por Más|32 Gastos Medicos","Ve Por Más","32 Gastos Medicos",517113.66564999998]
["Ve Por Más|33 GMM. Individual","Ve Por Más","33 GMM. Individual",437059.29243000003]
["Ve Por Más|34 GMM. Gpo y Col","Ve Por Más","34 GMM. Gpo y Col",80054.373219999994]
["Ve Por Más|38 Daños Total","Ve Por Más","38 Daños Total",148336.95993000001]
["Ve Por Más|39 Automoviles Total","Ve Por Más","39 Automoviles Total",58132.395689999998]
["Ve Por Más|41 Automoviles Residentes","Ve Por Más","41 Automoviles Residentes",33484.190239999996]
["Ve Por Más|42 Camiones","Ve Por Más","42 Camiones",22876.58207]
["Ve Por Más|44 Otros Automoviles y Obligatorios","Ve Por Más","44 Otros Automoviles y Obligatorios",1771.62338]
["Ve Por Más|45 Daños Sin Autos Total","Ve Por Más","45 Daños Sin Autos Total",90204.564240000007]
["Ve Por Más|46 Responsabilidad Civil y Riesgos Profesionales","Ve Por Más","46 Responsabilidad Civil y Riesgos Profesionales",32827.424780000001]
["Ve Por Más|47 RC General","Ve Por Más","47 RC General",30329.87674]
["Ve Por Más|48 RC Aviones y Barcos","Ve Por Más","48 RC Aviones y Barcos",1284.5796499999999]
["Ve Por Más|49 RC Viajero","Ve Por Más","49 RC Viajero",1212.96839]
["Ve Por Más|51 Maritimo y Transportes","Ve Por Más","51 Maritimo y Transportes",12265.98178]
["Ve Por Más|52 MyT Carga","Ve Por Más","52 MyT Carga",1875.1104599999999]
["Ve Por Más|53 MyT Cascos","Ve Por Más","53 MyT Cascos",10390.87132]
["Ve Por Más|54 Incendio","Ve Por Más","54 Incendio",18901.530059999997]
["Ve Por Más|55 Riesgos Catastroficos","Ve Por Más","55 Riesgos Catastroficos",14922.767689999999]
["Ve Por Más|56 Terremoto y Erupcion Volcanica","Ve Por Más","56 Terremoto y Erupcion Volcanica",3925.5601699999997]
["Ve Por Más|57 Huracan y Otros Riesgos Hidrometeorologicos","Ve Por Más","57 Huracan y Otros Riesgos Hidrometeorologicos",10997.20752]
["Ve Por Más|63 Diversos","Ve Por Más","63 Diversos",11286.859930000001]
["Ve Por Más|64 Miscelaneos","Ve Por Más","64 Miscelaneos",4401.60232]
["Ve Por Más|65 Tecnicos","Ve Por Más","65 Tecnicos",6885.2576100000006]
["Virginia Surety|10 Total General","Virginia Surety","10 Total General",35687.971720000001]
["Virginia Surety|11 Total General Sin Pensiones","Virginia Surety","11 Total General Sin Pensiones",35687.971720000001]
["Virginia Surety|38 Daños Total","Virginia Surety","38 Daños Total",35687.971720000001]
["Virginia Surety|39 Automoviles Total","Virginia Surety","39 Automoviles Total",538.50539000000003]
["Virginia Surety|44 Otros Automoviles y Obligatorios","Virginia Surety","44 Otros Automoviles y Obligatorios",538.50539000000003]
["Virginia Surety|45 Daños Sin Autos Total","Virginia Surety","45 Daños Sin Autos Total",35149.466329999996]
["Virginia Surety|63 Diversos","Virginia Surety","63 Diversos",35149.466329999996]
["Virginia Surety|64 Miscelaneos","Virginia Surety","64 Miscelaneos",35149.466329999996]
["Zurich Aseguradora Mexicana|10 Total General","Zurich Aseguradora Mexicana","10 Total General",3031903.05106]
["Zurich Aseguradora Mexicana|11 Total General Sin Pensiones","Zurich Aseguradora Mexicana","11 Total General Sin Pensiones",3031903.05106]
["Zurich Aseguradora Mexicana|12 Vida Total","Zurich Aseguradora Mexicana","12 Vida Total",254910.19438]
[{"$f":"B1352&\"|\"&C1352","v":"Zurich Aseguradora Mexicana|13 Vida Individual"},"Zurich Aseguradora Mexicana","13 Vida Individual",977.72163]
["Zurich Aseguradora Mexicana|14 Vida Gpo y Col","Zurich Aseguradora Mexicana","14 Vida Gpo y Col",253932.47274999999]
["Zurich Aseguradora Mexicana|28 Accidentes y Enfermedades Total","Zurich Aseguradora Mexicana","28 Accidentes y Enfermedades Total",45985.855750000002]
["Zurich Aseguradora Mexicana|29 Accidentes Personales","Zurich Aseguradora Mexicana","29 Accidentes Personales",2687.0755099999997]
["Zurich Aseguradora Mexicana|30 AP Individual","Zurich Aseguradora Mexicana","30 AP Individual",0]
["Zurich Aseguradora Mexicana|31 AP Gpo y Col","Zurich Aseguradora Mexicana","31 AP Gpo y Col",2687.0755099999997]
["Zurich Aseguradora Mexicana|32 Gastos Medicos","Zurich Aseguradora Mexicana","32 Gastos Medicos",43298.78024]
["Zurich Aseguradora Mexicana|33 GMM. Individual","Zurich Aseguradora Mexicana","33 GMM. Individual",23479.351979999999]
["Zurich Aseguradora Mexicana|34 GMM. Gpo y Col","Zurich Aseguradora Mexicana","34 GMM. Gpo y Col",19819.428260000001]
["Zurich Aseguradora Mexicana|38 Daños Total","Zurich Aseguradora Mexicana","38 Daños Total",2731007.0009299996]
["Zurich Aseguradora Mexicana|39 Automoviles Total","Zurich Aseguradora Mexicana","39 Automoviles Total",833687.08947000001]
["Zurich Aseguradora Mexicana|41 Automoviles Residentes","Zurich Aseguradora Mexicana","41 Automoviles Residentes",827803.37886000006]
["Zurich Aseguradora Mexicana|42 Camiones","Zurich Aseguradora Mexicana","42 Camiones",1722.06953]
["Zurich Aseguradora Mexicana|43 Automoviles Turistas","Zurich Aseguradora Mexicana","43 Automoviles Turistas",1403.0376899999999]
["Zurich Aseguradora Mexicana|44 Otros Automoviles y Obligatorios","Zurich Aseguradora Mexicana","44 Otros Automoviles y Obligatorios",2758.6033900000002]
["Zurich Aseguradora Mexicana|45 Daños Sin Autos Total","Zurich Aseguradora Mexicana","45 Daños Sin Autos Total",1897319.9114600001]
["Zurich Aseguradora Mexicana|46 Responsabilidad Civil y Riesgos Profesionales","Zurich Aseguradora Mexicana","46 Responsabilidad Civil y Riesgos Profesionales",228048.75465000002]
["Zurich Aseguradora Mexicana|47 RC General","Zurich Aseguradora Mexicana","47 RC General",180318.66529]
["Zurich Aseguradora Mexicana|50 RC Otros","Zurich Aseguradora Mexicana","50 RC Otros",47730.089359999998]
["Zurich Aseguradora Mexicana|51 Maritimo y Transportes","Zurich Aseguradora Mexicana","51 Maritimo y Transportes",173190.68988999998]
["Zurich Aseguradora Mexicana|52 MyT Carga","Zurich Aseguradora Mexicana","52 MyT Carga",172996.50638000001]
["Zurich Aseguradora Mexicana|53 MyT Cascos","Zurich Aseguradora Mexicana","53 MyT Cascos",194.18351000000001]
["Zurich Aseguradora Mexicana|54 Incendio","Zurich Aseguradora Mexicana","54 Incendio",930438.20629]
["Zurich Aseguradora Mexicana|55 Riesgos Catastroficos","Zurich Aseguradora Mexicana","55 Riesgos Catastroficos",394146.04045999999]
["Zurich Aseguradora Mexicana|56 Terremoto y Erupcion Volcanica","Zurich Aseguradora Mexicana","56 Terremoto y Erupcion Volcanica",271041.67481]
["Zurich Aseguradora Mexicana|57 Huracan y Otros Riesgos Hidrometeorologicos","Zurich Aseguradora Mexicana","57 Huracan y Otros Riesgos Hidrometeorologicos",123104.36565000001]
["Zurich Aseguradora Mexicana|63 Diversos","Zurich Aseguradora Mexicana","63 Diversos",171496.22016999999]
["Zurich Aseguradora Mexicana|64 Miscelaneos","Zurich Aseguradora Mexicana","64 Miscelaneos",43830.735509999999]
["Zurich Aseguradora Mexicana|65 Tecnicos","Zurich Aseguradora Mexicana","65 Tecnicos",127665.48466]
["Zurich Daños|10 Total General","Zurich Daños","10 Total General",0]
["Zurich Daños|11 Total General Sin Pensiones","Zurich Daños","11 Total General Sin Pensiones",0]
["Zurich Daños|38 Daños Total","Zurich Daños","38 Daños Total",0]
["Zurich Daños|39 Automoviles Total","Zurich Daños","39 Automoviles Total",0]
["Zurich Daños|41 Automoviles Residentes","Zurich Daños","41 Automoviles Residentes",0]
["Zurich Daños|42 Camiones","Zurich Daños","42 Camiones",0]
["Zurich Daños|43 Automoviles Turistas","Zurich Daños","43 Automoviles Turistas",0]
["Zurich Daños|44 Otros Automoviles y Obligatorios","Zurich Daños","44 Otros Automoviles y Obligatorios",0]
["Zurich Daños|45 Daños Sin Autos Total","Zurich Daños","45 Daños Sin Autos Total",0]
["Zurich Daños|46 Responsabilidad Civil y Riesgos Profesionales","Zurich Daños","46 Responsabilidad Civil y Riesgos Profesionales",0]
["Zurich Daños|47 RC General","Zurich Daños","47 RC General",0]
["Zurich Daños|50 RC Otros","Zurich Daños","50 RC Otros",0]
["Zurich Daños|51 Maritimo y Transportes","Zurich Daños","51 Maritimo y Transportes",0]
["Zurich Daños|52 MyT Carga","Zurich Daños","52 MyT Carga",0]
["Zurich Daños|53 MyT Cascos","Zurich Daños","53 MyT Cascos",0]
["Zurich Daños|54 Incendio","Zurich Daños","54 Incendio",0]
["Zurich Daños|55 Riesgos Catastroficos","Zurich Daños","55 Riesgos Catastroficos",0]
["Zurich Daños|56 Terremoto y Erupcion Volcanica","Zurich Daños","56 Terremoto y Erupcion Volcanica",0]
["Zurich Daños|57 Huracan y Otros Riesgos Hidrometeorologicos","Zurich Daños","57 Huracan y Otros Riesgos Hidrometeorologicos",0]
["Zurich Daños|63 Diversos","Zurich Daños","63 Diversos",0]
["Zurich Daños|64 Miscelaneos","Zurich Daños","64 Miscelaneos",0]
["Zurich Daños|65 Tecnicos","Zurich Daños","65 Tecnicos",0]
["Zurich Santander|10 Total General","Zurich Santander","10 Total General",3574791.8769999999]
["Zurich Santander|11 Total General Sin Pensiones","Zurich Santander","11 Total General Sin Pensiones",3574791.8769999999]
["Zurich Santander|12 Vida Total","Zurich Santander","12 Vida Total",2742800.4294000003]
["Zurich Santander|13 Vida Individual","Zurich Santander","13 Vida Individual",1921076.40943]
["Zurich Santander|14 Vida Gpo y Col","Zurich Santander","14 Vida Gpo y Col",821724.01997000002]
["Zurich Santander|28 Accidentes y Enfermedades Total","Zurich Santander","28 Accidentes y Enfermedades Total",218554.49596999999]
["Zurich Santander|29 Accidentes Personales","Zurich Santander","29 Accidentes Personales",150292.69988999999]
["Zurich Santander|30 AP Individual","Zurich Santander","30 AP Individual",150040.85019]
["Zurich Santander|31 AP Gpo y Col","Zurich Santander","31 AP Gpo y Col",251.84970000000001]
["Zurich Santander|32 Gastos Medicos","Zurich Santander","32 Gastos Medicos",68261.79608]
["Zurich Santander|33 GMM. Individual","Zurich Santander","33 GMM. Individual",68261.79608]
["Zurich Santander|38 Daños Total","Zurich Santander","38 Daños Total",613436.95163000003]
["Zurich Santander|39 Automoviles Total","Zurich Santander","39 Automoviles Total",288.26796999999999]
[{"$f":"B1416&\"|\"&C1416","v":"Zurich Santander|41 Automoviles Residentes"},"Zurich Santander","41 Automoviles Residentes",288.26796999999999]
["Zurich Santander|45 Daños Sin Autos Total","Zurich Santander","45 Daños Sin Autos Total",613148.68365999998]
["Zurich Santander|46 Responsabilidad Civil y Riesgos Profesionales","Zurich Santander","46 Responsabilidad Civil y Riesgos Profesionales",8833.59663]
["Zurich Santander|47 RC General","Zurich Santander","47 RC General",8833.59663]
["Zurich Santander|54 Incendio","Zurich Santander","54 Incendio",34086.746930000001]
["Zurich Santander|55 Riesgos Catastroficos","Zurich Santander","55 Riesgos Catastroficos",62204.957029999998]
["Zurich Santander|56 Terremoto y Erupcion Volcanica","Zurich Santander","56 Terremoto y Erupcion Volcanica",43542.851950000004]
["Zurich Santander|57 Huracan y Otros Riesgos Hidrometeorologicos","Zurich Santander","57 Huracan y Otros Riesgos Hidrometeorologicos",18662.105079999998]
["Zurich Santander|63 Diversos","Zurich Santander","63 Diversos",508023.38306999998]
["Zurich Santander|64 Miscelaneos","Zurich Santander","64 Miscelaneos",502365.34733999998]
["Zurich Santander|65 Tecnicos","Zurich Santander","65 Tecnicos",5658.0357300000005]
["Zurich Vida|10 Total General","Zurich Vida","10 Total General",0]
["Zurich Vida|11 Total General Sin Pensiones","Zurich Vida","11 Total General Sin Pensiones",0]
["Zurich Vida|12 Vida Total","Zurich Vida","12 Vida Total",0]
["Zurich Vida|13 Vida Individual","Zurich Vida","13 Vida Individual",0]
["Zurich Vida|14 Vida Gpo y Col","Zurich Vida","14 Vida Gpo y Col",0]
["Zurich Vida|28 Accidentes y Enfermedades Total","Zurich Vida","28 Accidentes y Enfermedades Total",0]
["Zurich Vida|29 Accidentes Personales","Zurich Vida","29 Accidentes Personales",0]
["Zurich Vida|30 AP Individual","Zurich Vida","30 AP Individual",0]
["Zurich Vida|31 AP Gpo y Col","Zurich Vida","31 AP Gpo y Col",0]
["Zurich Vida|32 Gastos Medicos","Zurich Vida","32 Gastos Medicos",0]
["Zurich Vida|33 GMM. Individual","Zurich Vida","33 GMM. Individual",0]
["Zurich Vida|34 GMM. Gpo y Col","Zurich Vida","34 GMM. Gpo y Col",0]
["SPT|10 Total General","SPT","10 Total General",10270.491199999999]
["SPT|11 Total General Sin Pensiones","SPT","11 Total General Sin Pensiones",10270.491199999999]
["SPT|38 Daños Total","SPT","38 Daños Total",10270.491199999999]
["SPT|39 Automoviles Total","SPT","39 Automoviles Total",10270.491199999999]
["SPT|41 Automoviles Residentes","SPT","41 Automoviles Residentes",10270.491199999999]
["Quálitas Salud|10 Total General","Quálitas Salud","10 Total General",-25.390689999999999]
["Quálitas Salud|11 Total General Sin Pensiones","Quálitas Salud","11 Total General Sin Pensiones",-25.390689999999999]
["Quálitas Salud|28 Accidentes y Enfermedades Total","Quálitas Salud","28 Accidentes y Enfermedades Total",-25.390689999999999]
["Quálitas Salud|29 Accidentes Personales","Quálitas Salud","29 Accidentes Personales",0.62639]
["Quálitas Salud|30 AP Individual","Quálitas Salud","30 AP Individual",0.62639]
["Quálitas Salud|32 Gastos Medicos","Quálitas Salud","32 Gastos Medicos",0]
["Quálitas Salud|33 GMM. Individual","Quálitas Salud","33 GMM. Individual",0]
["Quálitas Salud|35 Salud","Quálitas Salud","35 Salud",-26.01708]
["Quálitas Salud|36 Salud Individual","Quálitas Salud","36 Salud Individual",35.837260000000001]
["Quálitas Salud|37 Salud Gpo y Col","Quálitas Salud","37 Salud Gpo y Col",-61.854339999999993]
["|"]
["|"]
["|"]
["|"]
["|"]
["|"]
["|"]
["|"]
["|"]
["|"]
["|"]
["|"]
["|"]
["|"]
["|"]
["|"]
["|"]
["|"]
["|"]
["|"]
["|"]
["|"]
["|"]
["|"]
["|"]
["|"]
[{"$f":"B1480&\"|\"&C1480","v":"|"}]
["|"]
["|"]
["|"]
["|"]
["|"]
["|"]
["|"]
["|"]
["|"]
["|"]
["|"]
["|"]
["|"]
["|"]
["|"]
["|"]
["|"]
["|"]
["|"]
["|"]
["|"]
["|"]
["|"]
["|"]
["|"]
["|"]
["|"]
["|"]
["|"]
["|"]
["|"]
["|"]
["|"]
["|"]
["|"]
["|"]
["|"]
["|"]
["|"]
["|"]
["|"]
["|"]
["|"]
["|"]
["|"]
["|"]
["|"]
["|"]
["|"]
["|"]
["|"]
["|"]
["|"]
["|"]
["|"]
["|"]
["|"]
["|"]
["|"]
["|"]
["|"]
["|"]
["|"]
[{"$f":"B1544&\"|\"&C1544","v":"|"}]
["|"]
["|"]
["|"]
["|"]
["|"]
["|"]
["|"]
["|"]
["|"]
["|"]
["|"]
["|"]
["|"]
["|"]
["|"]
["|"]
["|"]
["|"]
["|"]
["|"]
["|"]
["|"]
["|"]
["|"]
["|"]
["|"]
["|"]
["|"]
["|"]
["|"]
["|"]
["|"]
["|"]
["|"]
["|"]
["|"]
["|"]
["|"]
["|"]
["|"]
["|"]
["|"]
["|"]
["|"]
["|"]
["|"]
["|"]
["|"]
["|"]
["|"]
["|"]
["|"]
["|"]
["|"]
["|"]
["|"]
["|"]
["|"]
["|"]
["|"]
["|"]
["|"]
["|"]
[{"$f":"B1608&\"|\"&C1608","v":"|"}]
["|"]
["|"]
["|"]
["|"]
["|"]
["|"]
["|"]
["|"]

{"sheet":"TD Siniestros Daños","index":6,"n_rows":58,"n_cols":13,"rows_kept":58,"cut":false,"hidden":true,"merged":[]}
["periodo","2023-Q1"]
["Ramo3","38 Daños Total"]
["operacion","(Varios elementos)"]
["ramo_complemento","(Varios elementos)"]
[]
["Jerarquia 2","nombre_compania","Suma de CostoSin_Act","Suma de IncSin","Suma de IncResvDivAct","Suma de %SinvsPrm_Act","Suma de %SinvsPrm_Ant","Suma de Costo_Sin_RetAct","Suma de IncSin_Ret","Suma de Prima_DevengadaAct","Suma de IncSin_PDev","Suma de %SinvsPDev_Act","Suma de %SinvsPDev_Ant"]
[1,"Quálitas",7182439.1313000005,27.36258163649272,18944.860940000002,62.898128633434467,63.58380378770768,7186344.0670100003,27.49275298704783,10378964.710719999,20.909119907529792,69.23950767062081,65.66402983027524]
[2,"Agroasemex",237638.04632000005,0,4926.18649,3.1961782542155253,0,35835.070169999999,0,589662.28635000007,0,6.0772192828913134,0]
[3,"G.N.P.",3575558.5680499999,26.974895252073217,2440.1246299999998,52.935297159740067,50.421712759490156,3179229.1943100002,27.786175302543704,4906854.4449499995,20.735530251342137,64.7915936773298,61.216695780597504]
[4,"Chubb Seguros México",2910025.0847399998,38.165890663546122,21489.148179999997,48.914061982186006,38.414297528781205,1420832.4487699999,49.580807896157417,1701535.07134,-10.878008852822452,83.502977558438445,49.752048617711026]
[5,"AXA Seguros",3102318.7354899999,29.971079148716285,44824.093670000002,56.734122492460813,46.976853944322315,2803088.52104,51.188585283337048,3799106.6431999998,15.041957176803278,73.782833289432219,56.142608463190491]
[5.0999999999999996,"TOTAL GRANDES",17007979.565900002,31.351646042278869,92624.413910000003,45.934929528703584,51.756720111570054,14625329.3013,33.827316384241591,21376123.15656,19.68831223358729,68.418998123201362,61.190455217431328]
[6,"GMX Seguros",480133.34065999999,-47.027101936322403,0,10.206824332550479,16.76987719950904,235573.10959000001,-13.97317193726435,600583.56672999996,-10.320683858309099,39.224035195073014,40.889391505246955]
[7,"Inbursa",1533713.3260900001,101.07818086433112,0,38.389524080282875,23.326652269966051,942676.18333000003,37.832149368324352,1479697.49872,9.7741079787661214,63.707358034020757,50.738658810146134]
[8,"Banorte",1100353.8106399998,45.799280291523559,112.18408000000001,29.842218241575175,23.212747046326072,1066277.1207900001,39.136558999539872,2396631.2444600002,18.940535244133862,44.490662602133,38.032730299743648]
[9,"Mapfre México",1798679.9870900002,76.081833909627434,192474.89626999997,49.548114514184668,21.220207384510989,954567.12326999998,37.177415424957452,1339823.2234799999,-3.2261695561144554,71.245751420149887,50.261365884623658]
[10,"BBVA Bancomer",1604417.4015000002,58.951578390133228,0,46.050272342247112,38.324181084288824,1569745.11619,56.027098646365772,2670637.7390900003,29.086992124430623,58.777912601687376,48.629142033214485]
[11,"AIG Seguros",282506.08312999998,9.0304779175687244E-2,1964.21298,8.7269693131879897,16.300473219667847,133065.21755999999,36.110237630969408,108020.4105,-33.115546757029634,123.1852544755882,60.533127680920373]
[12,"HDI Seguros",1551183.18557,25.112983116620224,0,52.494546210716756,54.250638311690189,1546668.1098399998,26.95897430619112,2495631.2483699997,8.9454155664723913,61.975025791578496,53.181706740341163]
[13,"Zurich Aseguradora Mexicana",574531.15515999997,19952.048146485697,-1477.9054700000002,21.037337325182719,239.09062097318881,536485.81331999996,23558.591443815472,1093685.3409599999,553087.62186527031,49.053031363581312,1146.9630315796119]
[14,"Atlas",859418.74672000005,1.933074543102431,-1963.6834400000002,32.139837283815901,36.792913073397763,741959.43290999997,36.014312147915398,1129543.8836400001,5.3713541980456858,65.686640745555295,50.887955677433226]
[15,"Seguros SURA",926586.46412000002,233.08173044040416,3521.848379999999,47.465529498745227,25.258847044216289,760940.75277999998,139.55954362440698,1495265.6828000001,55.189827541454385,50.890003130084537,32.967214287751979]
[15.1,"TOTAL MEDIANAS",10711523.50068,50.846326529201555,194631.55279999998,32.410179373485597,26.511455226578821,8487957.9795799982,51.368734435427974,14809519.838749999,23.681902856309577,57.314201081460759,46.830869511353335]
[16,"Allianz México",218041.34091,-81.739468633246602,-333.82969000000003,14.516923188469999,86.236275412670423,47127.086240000004,18.63950529315477,97108.567980000007,-23.464318205826416,48.530307078265288,31.307447976436809]
[17,"Afirme",978129.41276000009,19.533971393484741,-375.17179999999996,65.417540941129005,63.969581749013173,679325.46878,28.018376867821537,735498.19100999995,-13.922664990831169,92.362629450813131,62.103029206299396]
[18,"Seguros Azteca Daños",-20785.99139000001,-119.09660689132242,7886.3938499999995,-1.6614597866479786,6.3337234500279074,22596.73602,116.57601641590433,94293.007489999989,-11.93921016594156,23.964381475897291,9.7440261187536645]
[19,"HDI Global Seguros",87458.832719999991,-54.219293011682545,0,8.5971312589734694,40.652856552547171,470.59458000000001,-43.432774156379836,-24803.69485,172.25498264304835,-1.8972761229563346,-9.1314868321902054]
[20,"ANA",591466.43058000004,49.593388720412989,7185.2370300000002,71.936893080787087,54.677228412964929,450632.70748000004,50.724539241931652,626107.50834000006,7.2914613925781468,71.973694849110387,51.233614254341795]
[21,"FM Global",285738.26993000001,0.81528500707668261,0,41.680603785115252,49.463289432431864,2167.3376699999999,7.3403836542014433,12371.73554,-9.5297905671015819,17.518461035580785,14.765168381890998]
[22,"Zurich Santander",47416.520510000002,-4.9709184130413036,0,7.72964856192747,8.02487905356727,48404.296880000002,-5.8196705861645821,572255.68754999992,-0.73598795823633933,8.4585086584693414,8.915083548288365]
[23,"El Potosí",203715.42971,2.5501130208721579,0,36.418123743953998,41.404256569582778,214669.36486,19.330423350077865,327011.02322000003,-1.7266293888698381,65.645910876704292,54.062030013634164]
[24,"General de Seguros",375374.13084,9.2413496057448761,757.35193000000004,69.98344783454985,70.744150551722669,316322.73723999999,1.8150741849089824,420140.07069999998,22.618070345537976,75.289828154922517,90.673149520447978]
[25,"Cardif Seguros Generales",53604.732579999996,27.952591473450681,0,12.416362851122573,14.549441392732323,39498.58814,-42.384706162006559,409071.47012000001,25.728435141675487,9.6556692473354833,21.070658567266438]
[26,"El Águila",134472.34600000002,25.634520677341776,0,33.513682980661969,32.75103677240616,126931.24896,20.145924356518961,291613.53474999999,18.035857562716039,43.527214561154729,42.762766407260742]
[27,"Tokio Marine",85935.592539999983,-42.225491708192123,-46.24736,27.815200206768044,22.570805729697803,22434.783199999998,-11.969642981669926,53588.162939999995,4.4251616850143005,41.865184341398511,49.662171004408826]
[28,"Primero Seguros",142370.60707,7.3308114367083732,0,49.932876882743216,46.787303173858461,114535.77582,12.165088814125324,185936.62181000001,-5.3358463081374712,61.599363646091611,51.988115813627367]
[29,"Berkley Seguros",57749.803430000007,18.183307376558222,1126.9045000000001,29.941347256077545,35.175330980228743,5452.5139100000006,34.603677177930095,5515.1693700000005,42.400712480535944,98.863943139428926,104.59072320201204]
[30,"Atradius",23430.442950000004,-20.880175829871629,4052.0895499999997,12.222213472147578,15.728550882586291,10105.43605,-14.666607931453369,28701.205579999998,-34.038914371640004,35.209099568423078,27.215962886658073]
[31,"Sompo Japan",23399.659439999996,-175.70195648636934,2.9510900000000002,12.3786812412771,-16.5467658487736,8110.1187800000007,-269.60612210995583,-18513.69371,-298.95875714682018,-43.806054626578359,-51.387285291266828]
[32,"Solunion Crédito",46882.794429999994,26.292151293753641,186.24894,26.969520651432926,26.875798984777987,3101.8980799999999,1.4232148933381872,4675.4577900000004,16.618523604592973,66.344264440466688,76.284016206906017]
[33,"Ve Por Más",82306.511589999995,-8265.7635520860658,0,55.486179323642816,-0.86043424872968011,32980.58685,11.37309044470598,83494.443400000004,37.991463789327362,39.500337396105088,48.940990644117868]
[34,"La Latinoamericana",68105.185089999999,-17.90282510095733,143.19711999999998,49.449663696179918,66.02196939898343,29023.898129999998,-17.929559072788813,64736.669909999997,16.535634149605482,44.833783032631125,63.661572644252516]
[35,"Swiss Re Corporate Solutions",33258.891510000001,114.90392420220115,0,25.2770876043847,17.562891478878413,115.39917,-90.470987072380709,2133.3900800000001,240.29598902191802,5.4091922092372338,193.17073306898354]
[36,"SHF Cred Vivienda",-217169.86593,-1371.3724803994501,0,-168.79771058926079,17.309516611925197,-201928.47188,-1829.0022715389839,174526.01066,63.88151396298349,-115.70107579745444,10.966594885936921]
[37,"Patrimonial Inbursa",-3547.3184600000004,12.194559389528138,0,-3.4430868195895381,-2.5971093101046678,-3565.7120599999998,12.004703421472506,67789.601219999997,-1.6934826513926304,-5.2599690746491756,-4.6166743475435679]
[38,"Coface",-2657.5302299999994,-146.28642400994184,-4724.9663799999998,-2.6446064942571845,5.0539713595749935,-1796.71018,-126.09850690600899,14165.4684,68.054159090258025,-12.683732929014898,81.673410635619135]
[39,"Patrimonial Daños",10926.718380000002,87.578612455353806,0,15.166183741990361,11.182624358282716,10747.49266,110.23179221597572,70207.554049999992,41.680757237554886,15.308171329179073,10.316580965129134]
[40,"Assurant Daños",19552.652689999999,74.355335599841951,148.32820999999998,29.893176037336477,18.073105804496009,4762.7736299999997,37.301043048024376,11364.31833,-28.316922739717533,41.909892803926759,21.880606418869199]
[41,"Virginia Surety",9368.6654699999999,85.054433377431636,0,26.251605284560565,23.048020447350904,5605.11139,38.503948187238905,14317.684130000001,76.797567087337228,39.148170466029129,49.971870007327304]
[42,"Genworth Seg. de Crédito",-272.83399000000003,-103.14481076892315,0,-1.0779532884981573,50.11262378880383,-7497.06286,-491.95711476162893,37646.082750000001,-8.9343384169398696,-19.914589546504676,4.6268716752608361]
[43,"Crabi",9879.7429499999998,26.712764601749207,0,49.924582307419222,84.728345479228835,3272.07431,90.13171796166786,4248.4987199999996,82.973432572594447,77.017189497941061,74.117562711831866]
[44,"Citibanamex Seguros",-2293.6310299999996,-120.71184357402855,0,-15.828607252644117,34.213079324094352,-86.947270000000003,-100.94820110993984,546.08054000000004,521.12138186176765,-15.922059775285161,10429.782950093888]
[45,"SPT",5304.1057499999997,37.358399139250274,0,51.644129250604884,50.207401051750978,5304.1057499999997,37.358399139250274,7499.2788,-8.2090469058285986,70.728211224791366,47.264746529171781]
[46,"Zurich Daños",0,0,0,0,0,0,-100,0,-100,0,52.653637726434589]
[145,"HSBC Seguros",0,0,0,0,0,0,0,0,0,0,0]
[150.1,"TOTAL RESTO",3347161.6488000001,-21.590293819859706,16008.486989999999,28.731468642657326,32.773120843009721,1988823.2303300002,-17.106139119234363,4373245.1066200007,-17.105361256847385,45.477058382102079,45.477485131354797]
[151.1,"TOTAL",31066664.715380006,27.750707056773027,303264.45369999995,38.013228884748067,37.512053494307665,25102110.511209998,32.568359568857062,40558888.10193,15.521549790959543,61.890529267284109,53.932098742051608]
[200,"Patria",0,0,0,0,0,772187.78844999999,33.950736317475801,1919373.5815999999,10.313318966376283,40.231239809308001,33.131893944788736]

{"sheet":"Cat","index":7,"n_rows":77,"n_cols":20,"rows_kept":77,"cut":false,"hidden":true,"merged":[]}
[null,"ramo"]
[null,"Total General",1,{"$f":"E2&F2&\" \"&B2","v":"10 Total General"},1,0,null,"Automoviles Total",0,null,"Pensiones Total",1,null,"Q4","Cuarto Trimestre",null,null,"Ramo_"]
[null,"Total General Sin Pensiones",2,{"$f":"E3&F3&\" \"&B3","v":"11 Total General Sin Pensiones"},1,1,null,"Automoviles Residentes",0,null,"Pensiones IMSS",1,null,"Q3","Tercer Trimestre",null,null,"10 Total General","10 Total General",0]
[null,"Vida Total",3,"12 Vida Total",1,2,null,"Camiones",0,null,"Pensiones ISSSTE",1,null,"Q2","Segundo Trimestre",null,null,"11 Total General Sin Pensiones","10 Total General",0]
[null,"Vida Individual",4,"13 Vida Individual",1,3,null,"Automoviles Turistas",0,null,null,null,null,"Q1","Primer Trimestre",null,null,"12 Vida Total","12 Vida Total",0]
[null,"Vida Gpo y Col",5,"14 Vida Gpo y Col",1,4,null,"Otros Automoviles y Obligatorios",0,null,null,null,null,null,null,null,null,"13 Vida Individual","12 Vida Total",0]
[null,"Pensiones Total",6,"15 Pensiones Total",1,5,null,"Total General",0,null,null,null,null,null,null,null,null,"14 Vida Gpo y Col","12 Vida Total",0]
[null,"Pensiones IMSS",7,"16 Pensiones IMSS",1,6,null,"Total General Sin Pensiones",0,null,null,null,null,null,null,null,null,"15 Pensiones Total","15 Pensiones Total",0]
[null,"IMSS Incapacidad Permanente RT",null,"17 IMSS Incapacidad Permanente RT",1,7,null,"Vida Total",0,null,null,null,null,null,null,null,null,"16 Pensiones IMSS","15 Pensiones Total",0]
[null,"IMSS Invalidez (invalidez y vida)",null,"18 IMSS Invalidez (invalidez y vida)",1,8,null,"Vida Individual",0,null,null,null,null,null,null,null,null,"17 Pensiones ISSSTE","15 Pensiones Total",0]
[null,"IMSS Jubilacion (retiro, cesantia y vejez)",null,"19 IMSS Jubilacion (retiro, cesantia y vejez)",1,9,null,"Vida Gpo y Col",0,null,null,null,null,null,null,null,null,"18 Accidentes y Enfermedades Total","18 Accidentes y Enfermedades Total",0]
[null,"IMSS Muerte (invalidez y vida)",null,"20 IMSS Muerte (invalidez y vida)",2,0,null,"Pensiones Total",1,null,null,null,null,null,null,null,null,"19 Accidentes Personales","18 Accidentes y Enfermedades Total",0]
[null,"IMSS Muerte (riesgos de trabajo)",null,"21 IMSS Muerte (riesgos de trabajo)",2,1,null,"Pensiones IMSS",1,null,null,null,null,null,null,null,null,"20 AP Individual","18 Accidentes y Enfermedades Total",0]
[null,"Pensiones ISSSTE",8,"22 Pensiones ISSSTE",2,2,null,"Pensiones ISSSTE",1,null,null,null,null,null,null,null,null,"21 AP Gpo y Col","18 Accidentes y Enfermedades Total",0]
[null,"ISSSTE Incapacidad Permanente RT",null,"23 ISSSTE Incapacidad Permanente RT",2,3,null,"Accidentes y Enfermedades Total",0,null,null,null,null,null,null,null,null,"22 Gastos Medicos","18 Accidentes y Enfermedades Total",0]
[null,"ISSSTE Invalidez (invalidez y vida)",null,"24 ISSSTE Invalidez (invalidez y vida)",2,4,null,"Accidentes Personales",0,null,null,null,null,null,null,null,null,"23 GMM. Individual","18 Accidentes y Enfermedades Total",0]
[null,"ISSSTE Jubilacion (retiro, cesantia y vejez)",null,"25 ISSSTE Jubilacion (retiro, cesantia y vejez)",2,5,null,"AP Individual",0,null,null,null,null,null,null,null,null,"24 GMM. Gpo y Col","18 Accidentes y Enfermedades Total",0]
[null,"ISSSTE Muerte (invalidez y vida)",null,"26 ISSSTE Muerte (invalidez y vida)",2,6,null,"AP Gpo y Col",0,null,null,null,null,null,null,null,null,"25 Salud","18 Accidentes y Enfermedades Total",0]
[null,"ISSSTE Muerte (riesgos de trabajo)",null,"27 ISSSTE Muerte (riesgos de trabajo)",2,7,null,"Gastos Medicos",0,null,null,null,null,null,null,null,null,"26 Salud Individual","18 Accidentes y Enfermedades Total",0]
[null,"Accidentes y Enfermedades Total",14,"28 Accidentes y Enfermedades Total",2,8,null,"GMM. Individual",0,null,null,null,null,null,null,null,null,"27 Salud Gpo y Col","18 Accidentes y Enfermedades Total",0]
[null,"Accidentes Personales",15,"29 Accidentes Personales",2,9,null,"GMM. Gpo y Col",0,null,null,null,null,null,null,null,null,"28 Daños Total","28 Daños Total",1]
[null,"AP Individual",16,"30 AP Individual",3,0,null,"Salud",0,null,null,null,null,null,null,null,null,"29 Automoviles Total","29 Automoviles Total",1]
[null,"AP Gpo y Col",17,"31 AP Gpo y Col",3,1,null,"Salud Individual",0,null,null,null,null,null,null,null,null,"30 Automoviles Residentes","29 Automoviles Total",1]
[null,"Gastos Medicos",18,"32 Gastos Medicos",3,2,null,"Salud Gpo y Col",0,null,null,null,null,null,null,null,null,"31 Camiones","29 Automoviles Total",1]
[null,"GMM. Individual",19,"33 GMM. Individual",3,3,null,"Daños Total",0,null,null,null,null,null,null,null,null,"32 Automoviles Turistas","29 Automoviles Total",1]
[null,"GMM. Gpo y Col",20,"34 GMM. Gpo y Col",3,4,null,"Daños Sin Autos Total",0,null,null,null,null,null,null,null,null,"33 Otros Automoviles y Obligatorios","29 Automoviles Total",1]
[null,"Salud",21,"35 Salud",3,5,null,"Responsabilidad Civil y Riesgos Profesionales",0,null,null,null,null,null,null,null,null,"34 Daños Sin Autos Total","28 Daños Total",1]
[null,"Salud Individual",22,"36 Salud Individual",3,6,null,"RC General",0,null,null,null,null,null,null,null,null,"35 Responsabilidad Civil y Riesgos Profesionales","35 Responsabilidad Civil y Riesgos Profesionales",1]
[null,"Salud Gpo y Col",23,"37 Salud Gpo y Col",3,7,null,"RC Aviones y Barcos",0,null,null,null,null,null,null,null,null,"36 RC General","35 Responsabilidad Civil y Riesgos Profesionales",1]
[null,"Daños Total",24,"38 Daños Total",3,8,null,"RC Viajero",0,null,null,null,null,null,null,null,null,"37 RC Aviones y Barcos","35 Responsabilidad Civil y Riesgos Profesionales",1]
[null,"Daños",null,{"$f":"D30","v":"38 Daños Total"},null,null,null,"RC Otros",0,null,null,null,null,null,null,null,null,"38 RC Viajero","35 Responsabilidad Civil y Riesgos Profesionales",1]
[null,"Automoviles Total",25,"39 Automoviles Total",3,9,null,"Maritimo y Transportes",0,null,null,null,null,null,null,null,null,"39 RC Otros","35 Responsabilidad Civil y Riesgos Profesionales",1]
[null,"Automoviles",null,"39 Automoviles Total",3,9,null,"MyT Carga",0,null,null,null,null,null,null,null,null,"40 Maritimo y Transportes","40 Maritimo y Transportes",1]
[null,"Automoviles Residentes",26,"41 Automoviles Residentes",4,1,null,"MyT Cascos",0,null,null,null,null,null,null,null,null,"41 MyT Carga","40 Maritimo y Transportes",1]
[null,"Camiones",27,"42 Camiones",4,2,null,"Incendio",0,null,null,null,null,null,null,null,null,"42 MyT Cascos","40 Maritimo y Transportes",1]
[null,"Automoviles Turistas",28,"43 Automoviles Turistas",4,3,null,"Riesgos Catastroficos",0,null,null,null,null,null,null,null,null,"43 Incendio","43 Incendio",1]
[null,"Otros Automoviles y Obligatorios",29,"44 Otros Automoviles y Obligatorios",4,4,null,"Terremoto y Erupcion Volcanica",0,null,null,null,null,null,null,null,null,"44 Riesgos Catastroficos","44 Riesgos Catastroficos",1]
[null,"Daños Sin Autos Total",30,"45 Daños Sin Autos Total",4,5,null,"Huracan y Otros Riesgos Hidrometeorologicos",0,null,null,null,null,null,null,null,null,"45 Terremoto y Erupcion Volcanica","44 Riesgos Catastroficos",1]
[null,"Daños Sin Autos",null,"46 Daños Sin Autos Total",null,null,null,"Otros Riesgos Catastroficos",0,null,null,null,null,null,null,null,null,"46 Huracan y Otros Riesgos Hidrometeorologicos","44 Riesgos Catastroficos",1]
[null,"Responsabilidad Civil y Riesgos Profesionales",31,"46 Responsabilidad Civil y Riesgos Profesionales",4,6,null,"Agricola y de Animales",0,null,null,null,null,null,null,null,null,"47 Otros Riesgos Catastroficos","44 Riesgos Catastroficos",1]
[null,"RC General",32,"47 RC General",4,7,null,"AyA Agricola",0,null,null,null,null,null,null,null,null,"48 Agricola y de Animales","48 Agricola y de Animales",1]
[null,"RC Aviones y Barcos",33,"48 RC Aviones y Barcos",4,8,null,"AyA Otros",0,null,null,null,null,null,null,null,null,"49 AyA Agricola","48 Agricola y de Animales",1]
[null,"RC Viajero",34,"49 RC Viajero",4,9,null,"AyA Pecuario",0,null,null,null,null,null,null,null,null,"50 AyA Otros","48 Agricola y de Animales",1]
[null,"RC Otros",35,"50 RC Otros",5,0,null,"Diversos",0,null,null,null,null,null,null,null,null,"51 AyA Pecuario","48 Agricola y de Animales",1]
[null,"Maritimo y Transportes",36,"51 Maritimo y Transportes",5,1,null,"Miscelaneos",0,null,null,null,null,null,null,null,null,"52 Diversos","52 Diversos",1]
[null,"MyT Carga",37,"52 MyT Carga",5,2,null,"Tecnicos",0,null,null,null,null,null,null,null,null,"53 Miscelaneos","52 Diversos",1]
[null,"MyT Cascos",38,"53 MyT Cascos",5,3,null,"Credito",0,null,null,null,null,null,null,null,null,"54 Tecnicos","52 Diversos",1]
[null,"Incendio",39,"54 Incendio",5,4,null,"Credito a la Vivienda",0,null,null,null,null,null,null,null,null,"55 Credito","52 Diversos",1]
[null,"Riesgos Catastroficos",40,"55 Riesgos Catastroficos",5,5,null,null,null,null,null,null,null,null,null,null,null,"56 Credito a la Vivienda","52 Diversos",1]
[null,"Terremoto y Erupcion Volcanica",41,"56 Terremoto y Erupcion Volcanica",5,6]
[null,"Huracan y Otros Riesgos Hidrometeorologicos",42,"57 Huracan y Otros Riesgos Hidrometeorologicos",5,7]
[null,"Otros Riesgos Catastroficos",43,"58 Otros Riesgos Catastroficos",5,8]
[null,"Agricola y de Animales",44,"59 Agricola y de Animales",5,9]
[null,"AyA Agricola",45,"60 AyA Agricola",6,0]
[null,"AyA Otros",46,"61 AyA Otros",6,1]
[null,"AyA Pecuario",47,"62 AyA Pecuario",6,2]
[null,"Diversos",48,"63 Diversos",6,3]
[null,"Miscelaneos",49,"64 Miscelaneos",6,4]
[null,"Tecnicos",50,"65 Tecnicos",6,5]
[null,"Credito",51,"66 Credito",6,6]
[null,"Credito a la Vivienda",52,"67 Credito a la Vivienda",6,7]
[]
[]
[null,"Automoviles"]
[null,"Daños",null,{"$f":"E65&F65&\" \"&B65","v":" Daños"}]
[null,"Daños Sin Autos"]
[null,"IMSS Incapacidad Permanente RT",null,{"$f":"E67&F67&\" \"&B67","v":" IMSS Incapacidad Permanente RT"}]
[null,"IMSS Invalidez (invalidez y vida)",null,{"$f":"E68&F68&\" \"&B68","v":" IMSS Invalidez (invalidez y vida)"}]
[null,"IMSS Jubilacion (retiro, cesantia y vejez)"]
[null,"IMSS Muerte (invalidez y vida)",null,{"$f":"E70&F70&\" \"&B70","v":" IMSS Muerte (invalidez y vida)"}]
[null,"IMSS Muerte (riesgos de trabajo)",null,{"$f":"E71&F71&\" \"&B71","v":" IMSS Muerte (riesgos de trabajo)"}]
[null,"ISSSTE Incapacidad Permanente RT"]
[null,"ISSSTE Invalidez (invalidez y vida)",null,{"$f":"E73&F73&\" \"&B73","v":" ISSSTE Invalidez (invalidez y vida)"}]
[null,"ISSSTE Jubilacion (retiro, cesantia y vejez)",null,{"$f":"E74&F74&\" \"&B74","v":" ISSSTE Jubilacion (retiro, cesantia y vejez)"}]
[null,"ISSSTE Muerte (invalidez y vida)",null,{"$f":"E75&F75&\" \"&B75","v":" ISSSTE Muerte (invalidez y vida)"}]
[null,"ISSSTE Muerte (riesgos de trabajo)",null,{"$f":"E76&F76&\" \"&B76","v":" ISSSTE Muerte (riesgos de trabajo)"}]
[null,null,null," "]

{"sheet":"Inicio","index":8,"n_rows":33,"n_cols":10,"rows_kept":33,"cut":false,"hidden":false,"merged":[[5,3,8,9],[14,1,15,4],[14,6,15,9],[12,1,13,9]]}
[]
[]
[]
[null,null,null,null,null,null,null,null,null,"EstadisticAMIS Informe"]
[]
[null,null,null,"Con la finalidad de atender la solicitud de información, presentamos esta publicación comparando los datosprimas del periodo actual vs el mismo periodo del año anterior."]
[]
[]
[]
[null,null,null,null,null,null,null,null,"Periodo:","2023-Q1"]
[null,null,null,null,null,null,null,null,"Fecha de actualización:","2023-05-23"]
[]
[null,"No se incluyen la informaciónde Agroasemex ni de Protección Agropecuaria en virtud de que a la fecha de esta publicación, no se recibió su información."]
[]
[null,"ANÁLISIS DE PRIMAS DIRECTAS",null,null,null,null,"ANÁLISIS DE SINIESTROS"]
[]
[]
[]
[]
[]
[null,"DEFINICIÓN DE TÉRMINOS"]
[]
[null,"Participación de mercado"]
[null,"Porcentaje que representa la participación de las compañías sobre el total del ramo o subramo que se está consultando."]
[]
[null,"Participación por operación"]
[null,"Porcentaje que representa la participación del subramo sobre el ramo de la compañía."]
[]
[null,"Participación por cartera"]
[null,"Porcentaje que representa la participación del ramo o subramos sobre el total general sin pensiones de la compañía."]
[]
[null,"Participación por sector"]
[null,"Porcentaje que representa la participación de la compañía del ramo o subramo(s) sobre la suma del total general sin pensiones."]

{"sheet":"Primas Directas","index":9,"n_rows":129,"n_cols":12,"rows_kept":129,"cut":false,"hidden":false,"merged":[[5,7,6,7],[5,8,6,8],[1,1,1,11],[4,3,4,4],[4,5,4,6],[4,7,4,8],[4,9,4,11]]}
[null,"PRIMAS DIRECTAS",null,null,null,null,null,null,null,null,null,{"$f":"VLOOKUP(RIGHT(TDPrimas!B3,2),Cat!$N$2:$O$5,2,0)&\" \"&LEFT(TDPrimas!B3,4)","v":"Primer Trimestre 2023"}]
[null,{"$f":"UPPER(RIGHT(TDPrimas!$B$4,LEN(TDPrimas!$B$4)-3))","v":"TOTAL GENERAL"}]
[null,null,null,null,null,null,null,null,null,null,null,"Cifras en miles"]
[null,null,null,2,3,4,5,6,7,8,9,10]
[null,null,null,"Primas Directas",null,"% Part. en Merc. ",null,"Incremento",null,"% de Cartera"]
[null,"Compañías",null,{"$f":"LEFT(TDPrimas_!B3,4)","v":"2023"},{"$f":"D6-1","v":2022},{"$f":"D6","v":"2023"},{"$f":"E6","v":2022},"Importe","%","Por ","Total","Total"]
[null,null,null,"Importe","Importe",{"$f":"RIGHT(TDPrimas_!B3,2)","v":"Q1"},{"$f":"RIGHT(TDPrimas_!B3,2)","v":"Q1"},null,null,"Operación","Cartera","Sector"]
[null,null,"TOTAL",{"$f":"VLOOKUP($C$8,$C$9:$L$125,D$4,0)","v":217934666.02012995},{"$f":"VLOOKUP($C$8,$C$9:$L$125,E$4,0)","v":191571041.85928997},99.999999999999986,100,26363624.160839975,13.761800272613334,100,100,99.999999999999986]
[null,{"$f":"IF(TDPrimas_!A7=\"\",\"\",TDPrimas_!A7)","v":1},{"$f":"IF(TDPrimas_!B7=\"\",\"\",TDPrimas_!B7)","v":"G.N.P."},{"$f":"IF(TDPrimas_!C7=\"\",\"\",TDPrimas_!C7)","v":26676629.107240003},{"$f":"IF(TDPrimas_!D7=\"\",\"\",TDPrimas_!D7)","v":21970506.010949999},{"$f":"IF(TDPrimas_!E7=\"\",\"\",TDPrimas_!E7)","v":12.240654318288199},{"$f":"IF(TDPrimas_!F7=\"\",\"\",TDPrimas_!F7)","v":11.468594521236389},{"$f":"IF(TDPrimas_!G7=\"\",\"\",TDPrimas_!G7)","v":4706123.0962900035},{"$f":"IF(TDPrimas_!H7=\"\",\"\",TDPrimas_!H7)","v":21.420185288151728},{"$f":"IF(TDPrimas_!I7=\"\",\"\",TDPrimas_!I7)","v":100},{"$f":"IF(TDPrimas_!J7=\"\",\"\",TDPrimas_!J7)","v":100},{"$f":"IF(TDPrimas_!K7=\"\",\"\",TDPrimas_!K7)","v":12.240654318288199}]
[null,{"$f":"IF(TDPrimas_!A8=\"\",\"\",TDPrimas_!A8)","v":2},{"$f":"IF(TDPrimas_!B8=\"\",\"\",TDPrimas_!B8)","v":"Metlife México"},{"$f":"IF(TDPrimas_!C8=\"\",\"\",TDPrimas_!C8)","v":26097031.675279997},{"$f":"IF(TDPrimas_!D8=\"\",\"\",TDPrimas_!D8)","v":24057802.08182},{"$f":"IF(TDPrimas_!E8=\"\",\"\",TDPrimas_!E8)","v":11.97470423217089},{"$f":"IF(TDPrimas_!F8=\"\",\"\",TDPrimas_!F8)","v":12.558162156622082},{"$f":"IF(TDPrimas_!G8=\"\",\"\",TDPrimas_!G8)","v":2039229.5934599973},{"$f":"IF(TDPrimas_!H8=\"\",\"\",TDPrimas_!H8)","v":8.4763753003064259},{"$f":"IF(TDPrimas_!I8=\"\",\"\",TDPrimas_!I8)","v":100},{"$f":"IF(TDPrimas_!J8=\"\",\"\",TDPrimas_!J8)","v":100},{"$f":"IF(TDPrimas_!K8=\"\",\"\",TDPrimas_!K8)","v":11.97470423217089}]
[null,{"$f":"IF(TDPrimas_!A9=\"\",\"\",TDPrimas_!A9)","v":3},{"$f":"IF(TDPrimas_!B9=\"\",\"\",TDPrimas_!B9)","v":"BBVA Bancomer"},{"$f":"IF(TDPrimas_!C9=\"\",\"\",TDPrimas_!C9)","v":17603852.661830001},{"$f":"IF(TDPrimas_!D9=\"\",\"\",TDPrimas_!D9)","v":14691628.10217},{"$f":"IF(TDPrimas_!E9=\"\",\"\",TDPrimas_!E9)","v":8.0775826000091175},{"$f":"IF(TDPrimas_!F9=\"\",\"\",TDPrimas_!F9)","v":7.6690234388144551},{"$f":"IF(TDPrimas_!G9=\"\",\"\",TDPrimas_!G9)","v":2912224.5596600007},{"$f":"IF(TDPrimas_!H9=\"\",\"\",TDPrimas_!H9)","v":19.822340583409236},{"$f":"IF(TDPrimas_!I9=\"\",\"\",TDPrimas_!I9)","v":100},{"$f":"IF(TDPrimas_!J9=\"\",\"\",TDPrimas_!J9)","v":100},{"$f":"IF(TDPrimas_!K9=\"\",\"\",TDPrimas_!K9)","v":8.0775826000091175}]
[null,{"$f":"IF(TDPrimas_!A10=\"\",\"\",TDPrimas_!A10)","v":4},{"$f":"IF(TDPrimas_!B10=\"\",\"\",TDPrimas_!B10)","v":"AXA Seguros"},{"$f":"IF(TDPrimas_!C10=\"\",\"\",TDPrimas_!C10)","v":15398992.57395},{"$f":"IF(TDPrimas_!D10=\"\",\"\",TDPrimas_!D10)","v":13965513.662629999},{"$f":"IF(TDPrimas_!E10=\"\",\"\",TDPrimas_!E10)","v":7.0658756842877128},{"$f":"IF(TDPrimas_!F10=\"\",\"\",TDPrimas_!F10)","v":7.2899920191945018},{"$f":"IF(TDPrimas_!G10=\"\",\"\",TDPrimas_!G10)","v":1433478.9113200009},{"$f":"IF(TDPrimas_!H10=\"\",\"\",TDPrimas_!H10)","v":10.26441952619197},{"$f":"IF(TDPrimas_!I10=\"\",\"\",TDPrimas_!I10)","v":100},{"$f":"IF(TDPrimas_!J10=\"\",\"\",TDPrimas_!J10)","v":100},{"$f":"IF(TDPrimas_!K10=\"\",\"\",TDPrimas_!K10)","v":7.0658756842877128}]
[null,{"$f":"IF(TDPrimas_!A11=\"\",\"\",TDPrimas_!A11)","v":5},{"$f":"IF(TDPrimas_!B11=\"\",\"\",TDPrimas_!B11)","v":"Banorte"},{"$f":"IF(TDPrimas_!C11=\"\",\"\",TDPrimas_!C11)","v":11640133.15574},{"$f":"IF(TDPrimas_!D11=\"\",\"\",TDPrimas_!D11)","v":13532473.689889999},{"$f":"IF(TDPrimas_!E11=\"\",\"\",TDPrimas_!E11)","v":5.341111337773512},{"$f":"IF(TDPrimas_!F11=\"\",\"\",TDPrimas_!F11)","v":7.0639453429656021},{"$f":"IF(TDPrimas_!G11=\"\",\"\",TDPrimas_!G11)","v":-1892340.5341499988},{"$f":"IF(TDPrimas_!H11=\"\",\"\",TDPrimas_!H11)","v":-13.983700079636963},{"$f":"IF(TDPrimas_!I11=\"\",\"\",TDPrimas_!I11)","v":100},{"$f":"IF(TDPrimas_!J11=\"\",\"\",TDPrimas_!J11)","v":100},{"$f":"IF(TDPrimas_!K11=\"\",\"\",TDPrimas_!K11)","v":5.341111337773512}]
[null,{"$f":"IF(TDPrimas_!A12=\"\",\"\",TDPrimas_!A12)","v":5.0999999999999996},{"$f":"IF(TDPrimas_!B12=\"\",\"\",TDPrimas_!B12)","v":"TOTAL GRANDES"},{"$f":"IF(TDPrimas_!C12=\"\",\"\",TDPrimas_!C12)","v":97416639.17404002},{"$f":"IF(TDPrimas_!D12=\"\",\"\",TDPrimas_!D12)","v":88217923.54745999},{"$f":"IF(TDPrimas_!E12=\"\",\"\",TDPrimas_!E12)","v":44.699928172529432},{"$f":"IF(TDPrimas_!F12=\"\",\"\",TDPrimas_!F12)","v":46.049717478833024},{"$f":"IF(TDPrimas_!G12=\"\",\"\",TDPrimas_!G12)","v":9198715.6265800297},{"$f":"IF(TDPrimas_!H12=\"\",\"\",TDPrimas_!H12)","v":10.427263821995592},{"$f":"IF(TDPrimas_!I12=\"\",\"\",TDPrimas_!I12)","v":100},{"$f":"IF(TDPrimas_!J12=\"\",\"\",TDPrimas_!J12)","v":100},{"$f":"IF(TDPrimas_!K12=\"\",\"\",TDPrimas_!K12)","v":44.699928172529432}]
[null,{"$f":"IF(TDPrimas_!A13=\"\",\"\",TDPrimas_!A13)","v":6},{"$f":"IF(TDPrimas_!B13=\"\",\"\",TDPrimas_!B13)","v":"Quálitas"},{"$f":"IF(TDPrimas_!C13=\"\",\"\",TDPrimas_!C13)","v":11419161.885020001},{"$f":"IF(TDPrimas_!D13=\"\",\"\",TDPrimas_!D13)","v":8869182.5797000006},{"$f":"IF(TDPrimas_!E13=\"\",\"\",TDPrimas_!E13)","v":5.239717982253107},{"$f":"IF(TDPrimas_!F13=\"\",\"\",TDPrimas_!F13)","v":4.6297094245666139},{"$f":"IF(TDPrimas_!G13=\"\",\"\",TDPrimas_!G13)","v":2549979.3053200003},{"$f":"IF(TDPrimas_!H13=\"\",\"\",TDPrimas_!H13)","v":28.751007011135997},{"$f":"IF(TDPrimas_!I13=\"\",\"\",TDPrimas_!I13)","v":100},{"$f":"IF(TDPrimas_!J13=\"\",\"\",TDPrimas_!J13)","v":100},{"$f":"IF(TDPrimas_!K13=\"\",\"\",TDPrimas_!K13)","v":5.239717982253107}]
[null,{"$f":"IF(TDPrimas_!A14=\"\",\"\",TDPrimas_!A14)","v":7},{"$f":"IF(TDPrimas_!B14=\"\",\"\",TDPrimas_!B14)","v":"Monterrey New York Life"},{"$f":"IF(TDPrimas_!C14=\"\",\"\",TDPrimas_!C14)","v":10223427.716290001},{"$f":"IF(TDPrimas_!D14=\"\",\"\",TDPrimas_!D14)","v":9516075.7999300007},{"$f":"IF(TDPrimas_!E14=\"\",\"\",TDPrimas_!E14)","v":4.6910516362484955},{"$f":"IF(TDPrimas_!F14=\"\",\"\",TDPrimas_!F14)","v":4.9673874023818341},{"$f":"IF(TDPrimas_!G14=\"\",\"\",TDPrimas_!G14)","v":707351.91636000015},{"$f":"IF(TDPrimas_!H14=\"\",\"\",TDPrimas_!H14)","v":7.433231210339919},{"$f":"IF(TDPrimas_!I14=\"\",\"\",TDPrimas_!I14)","v":100},{"$f":"IF(TDPrimas_!J14=\"\",\"\",TDPrimas_!J14)","v":100},{"$f":"IF(TDPrimas_!K14=\"\",\"\",TDPrimas_!K14)","v":4.6910516362484955}]
[null,{"$f":"IF(TDPrimas_!A15=\"\",\"\",TDPrimas_!A15)","v":8},{"$f":"IF(TDPrimas_!B15=\"\",\"\",TDPrimas_!B15)","v":"Citibanamex Seguros"},{"$f":"IF(TDPrimas_!C15=\"\",\"\",TDPrimas_!C15)","v":8056026.6593599999},{"$f":"IF(TDPrimas_!D15=\"\",\"\",TDPrimas_!D15)","v":5326674.1903799996},{"$f":"IF(TDPrimas_!E15=\"\",\"\",TDPrimas_!E15)","v":3.6965329134998144},{"$f":"IF(TDPrimas_!F15=\"\",\"\",TDPrimas_!F15)","v":2.7805215958957263},{"$f":"IF(TDPrimas_!G15=\"\",\"\",TDPrimas_!G15)","v":2729352.4689800004},{"$f":"IF(TDPrimas_!H15=\"\",\"\",TDPrimas_!H15)","v":51.239335679836117},{"$f":"IF(TDPrimas_!I15=\"\",\"\",TDPrimas_!I15)","v":100},{"$f":"IF(TDPrimas_!J15=\"\",\"\",TDPrimas_!J15)","v":100},{"$f":"IF(TDPrimas_!K15=\"\",\"\",TDPrimas_!K15)","v":3.6965329134998144}]
[null,{"$f":"IF(TDPrimas_!A16=\"\",\"\",TDPrimas_!A16)","v":9},{"$f":"IF(TDPrimas_!B16=\"\",\"\",TDPrimas_!B16)","v":"Agroasemex"},{"$f":"IF(TDPrimas_!C16=\"\",\"\",TDPrimas_!C16)","v":7438742.8628900005},{"$f":"IF(TDPrimas_!D16=\"\",\"\",TDPrimas_!D16)","v":0},{"$f":"IF(TDPrimas_!E16=\"\",\"\",TDPrimas_!E16)","v":3.4132903216980202},{"$f":"IF(TDPrimas_!F16=\"\",\"\",TDPrimas_!F16)","v":""},{"$f":"IF(TDPrimas_!G16=\"\",\"\",TDPrimas_!G16)","v":""},{"$f":"IF(TDPrimas_!H16=\"\",\"\",TDPrimas_!H16)","v":""},{"$f":"IF(TDPrimas_!I16=\"\",\"\",TDPrimas_!I16)","v":100},{"$f":"IF(TDPrimas_!J16=\"\",\"\",TDPrimas_!J16)","v":100},{"$f":"IF(TDPrimas_!K16=\"\",\"\",TDPrimas_!K16)","v":3.4132903216980202}]
[null,{"$f":"IF(TDPrimas_!A17=\"\",\"\",TDPrimas_!A17)","v":10},{"$f":"IF(TDPrimas_!B17=\"\",\"\",TDPrimas_!B17)","v":"Inbursa"},{"$f":"IF(TDPrimas_!C17=\"\",\"\",TDPrimas_!C17)","v":6926531.7595299995},{"$f":"IF(TDPrimas_!D17=\"\",\"\",TDPrimas_!D17)","v":5739037.9061599998},{"$f":"IF(TDPrimas_!E17=\"\",\"\",TDPrimas_!E17)","v":3.1782606622528866},{"$f":"IF(TDPrimas_!F17=\"\",\"\",TDPrimas_!F17)","v":2.9957752750414941},{"$f":"IF(TDPrimas_!G17=\"\",\"\",TDPrimas_!G17)","v":1187493.8533699997},{"$f":"IF(TDPrimas_!H17=\"\",\"\",TDPrimas_!H17)","v":20.6915143755263},{"$f":"IF(TDPrimas_!I17=\"\",\"\",TDPrimas_!I17)","v":100},{"$f":"IF(TDPrimas_!J17=\"\",\"\",TDPrimas_!J17)","v":100},{"$f":"IF(TDPrimas_!K17=\"\",\"\",TDPrimas_!K17)","v":3.1782606622528866}]
[null,{"$f":"IF(TDPrimas_!A18=\"\",\"\",TDPrimas_!A18)","v":11},{"$f":"IF(TDPrimas_!B18=\"\",\"\",TDPrimas_!B18)","v":"Chubb Seguros México"},{"$f":"IF(TDPrimas_!C18=\"\",\"\",TDPrimas_!C18)","v":6735524.3046000004},{"$f":"IF(TDPrimas_!D18=\"\",\"\",TDPrimas_!D18)","v":6329296.8497900004},{"$f":"IF(TDPrimas_!E18=\"\",\"\",TDPrimas_!E18)","v":3.090616296894162},{"$f":"IF(TDPrimas_!F18=\"\",\"\",TDPrimas_!F18)","v":3.3038901852603093},{"$f":"IF(TDPrimas_!G18=\"\",\"\",TDPrimas_!G18)","v":406227.45481000002},{"$f":"IF(TDPrimas_!H18=\"\",\"\",TDPrimas_!H18)","v":6.4182082852296318},{"$f":"IF(TDPrimas_!I18=\"\",\"\",TDPrimas_!I18)","v":100},{"$f":"IF(TDPrimas_!J18=\"\",\"\",TDPrimas_!J18)","v":100},{"$f":"IF(TDPrimas_!K18=\"\",\"\",TDPrimas_!K18)","v":3.090616296894162}]
[null,{"$f":"IF(TDPrimas_!A19=\"\",\"\",TDPrimas_!A19)","v":12},{"$f":"IF(TDPrimas_!B19=\"\",\"\",TDPrimas_!B19)","v":"Mapfre México"},{"$f":"IF(TDPrimas_!C19=\"\",\"\",TDPrimas_!C19)","v":6434437.0004799999},{"$f":"IF(TDPrimas_!D19=\"\",\"\",TDPrimas_!D19)","v":7309671.1488300003},{"$f":"IF(TDPrimas_!E19=\"\",\"\",TDPrimas_!E19)","v":2.9524614500226734},{"$f":"IF(TDPrimas_!F19=\"\",\"\",TDPrimas_!F19)","v":3.8156451402498481},{"$f":"IF(TDPrimas_!G19=\"\",\"\",TDPrimas_!G19)","v":-875234.14835000038},{"$f":"IF(TDPrimas_!H19=\"\",\"\",TDPrimas_!H19)","v":-11.97364601675811},{"$f":"IF(TDPrimas_!I19=\"\",\"\",TDPrimas_!I19)","v":100},{"$f":"IF(TDPrimas_!J19=\"\",\"\",TDPrimas_!J19)","v":100},{"$f":"IF(TDPrimas_!K19=\"\",\"\",TDPrimas_!K19)","v":2.9524614500226734}]
[null,{"$f":"IF(TDPrimas_!A20=\"\",\"\",TDPrimas_!A20)","v":13},{"$f":"IF(TDPrimas_!B20=\"\",\"\",TDPrimas_!B20)","v":"Atlas"},{"$f":"IF(TDPrimas_!C20=\"\",\"\",TDPrimas_!C20)","v":5493499.0403699996},{"$f":"IF(TDPrimas_!D20=\"\",\"\",TDPrimas_!D20)","v":4932623.2233199999},{"$f":"IF(TDPrimas_!E20=\"\",\"\",TDPrimas_!E20)","v":2.5207091376011661},{"$f":"IF(TDPrimas_!F20=\"\",\"\",TDPrimas_!F20)","v":2.5748271635663182},{"$f":"IF(TDPrimas_!G20=\"\",\"\",TDPrimas_!G20)","v":560875.81704999972},{"$f":"IF(TDPrimas_!H20=\"\",\"\",TDPrimas_!H20)","v":11.370741117998694},{"$f":"IF(TDPrimas_!I20=\"\",\"\",TDPrimas_!I20)","v":100},{"$f":"IF(TDPrimas_!J20=\"\",\"\",TDPrimas_!J20)","v":100},{"$f":"IF(TDPrimas_!K20=\"\",\"\",TDPrimas_!K20)","v":2.5207091376011661}]
[null,{"$f":"IF(TDPrimas_!A21=\"\",\"\",TDPrimas_!A21)","v":14},{"$f":"IF(TDPrimas_!B21=\"\",\"\",TDPrimas_!B21)","v":"Allianz México"},{"$f":"IF(TDPrimas_!C21=\"\",\"\",TDPrimas_!C21)","v":5252582.0563999992},{"$f":"IF(TDPrimas_!D21=\"\",\"\",TDPrimas_!D21)","v":4453754.7797299996},{"$f":"IF(TDPrimas_!E21=\"\",\"\",TDPrimas_!E21)","v":2.410163629458947},{"$f":"IF(TDPrimas_!F21=\"\",\"\",TDPrimas_!F21)","v":2.3248580456128165},{"$f":"IF(TDPrimas_!G21=\"\",\"\",TDPrimas_!G21)","v":798827.27666999958},{"$f":"IF(TDPrimas_!H21=\"\",\"\",TDPrimas_!H21)","v":17.93604085042211},{"$f":"IF(TDPrimas_!I21=\"\",\"\",TDPrimas_!I21)","v":100},{"$f":"IF(TDPrimas_!J21=\"\",\"\",TDPrimas_!J21)","v":100},{"$f":"IF(TDPrimas_!K21=\"\",\"\",TDPrimas_!K21)","v":2.410163629458947}]
[null,{"$f":"IF(TDPrimas_!A22=\"\",\"\",TDPrimas_!A22)","v":15},{"$f":"IF(TDPrimas_!B22=\"\",\"\",TDPrimas_!B22)","v":"GMX Seguros"},{"$f":"IF(TDPrimas_!C22=\"\",\"\",TDPrimas_!C22)","v":4704042.3643699996},{"$f":"IF(TDPrimas_!D22=\"\",\"\",TDPrimas_!D22)","v":5404782.8401899999},{"$f":"IF(TDPrimas_!E22=\"\",\"\",TDPrimas_!E22)","v":2.1584644840006781},{"$f":"IF(TDPrimas_!F22=\"\",\"\",TDPrimas_!F22)","v":2.8212942769084295},{"$f":"IF(TDPrimas_!G22=\"\",\"\",TDPrimas_!G22)","v":-700740.47582000028},{"$f":"IF(TDPrimas_!H22=\"\",\"\",TDPrimas_!H22)","v":-12.965192063024055},{"$f":"IF(TDPrimas_!I22=\"\",\"\",TDPrimas_!I22)","v":100},{"$f":"IF(TDPrimas_!J22=\"\",\"\",TDPrimas_!J22)","v":100},{"$f":"IF(TDPrimas_!K22=\"\",\"\",TDPrimas_!K22)","v":2.1584644840006781}]
[null,{"$f":"IF(TDPrimas_!A23=\"\",\"\",TDPrimas_!A23)","v":15.1},{"$f":"IF(TDPrimas_!B23=\"\",\"\",TDPrimas_!B23)","v":"TOTAL MEDIANAS"},{"$f":"IF(TDPrimas_!C23=\"\",\"\",TDPrimas_!C23)","v":72683975.649310008},{"$f":"IF(TDPrimas_!D23=\"\",\"\",TDPrimas_!D23)","v":57881099.318030007},{"$f":"IF(TDPrimas_!E23=\"\",\"\",TDPrimas_!E23)","v":33.351268513929952},{"$f":"IF(TDPrimas_!F23=\"\",\"\",TDPrimas_!F23)","v":30.213908509483396},{"$f":"IF(TDPrimas_!G23=\"\",\"\",TDPrimas_!G23)","v":14802876.331280001},{"$f":"IF(TDPrimas_!H23=\"\",\"\",TDPrimas_!H23)","v":25.574628861046691},{"$f":"IF(TDPrimas_!I23=\"\",\"\",TDPrimas_!I23)","v":100},{"$f":"IF(TDPrimas_!J23=\"\",\"\",TDPrimas_!J23)","v":100},{"$f":"IF(TDPrimas_!K23=\"\",\"\",TDPrimas_!K23)","v":33.351268513929952}]
[null,{"$f":"IF(TDPrimas_!A24=\"\",\"\",TDPrimas_!A24)","v":16},{"$f":"IF(TDPrimas_!B24=\"\",\"\",TDPrimas_!B24)","v":"Pensiones Banorte"},{"$f":"IF(TDPrimas_!C24=\"\",\"\",TDPrimas_!C24)","v":4253756.2515000002},{"$f":"IF(TDPrimas_!D24=\"\",\"\",TDPrimas_!D24)","v":4945870.01198},{"$f":"IF(TDPrimas_!E24=\"\",\"\",TDPrimas_!E24)","v":1.9518492992331442},{"$f":"IF(TDPrimas_!F24=\"\",\"\",TDPrimas_!F24)","v":2.5817419814487255},{"$f":"IF(TDPrimas_!G24=\"\",\"\",TDPrimas_!G24)","v":-692113.76047999971},{"$f":"IF(TDPrimas_!H24=\"\",\"\",TDPrimas_!H24)","v":-13.993771749025875},{"$f":"IF(TDPrimas_!I24=\"\",\"\",TDPrimas_!I24)","v":100},{"$f":"IF(TDPrimas_!J24=\"\",\"\",TDPrimas_!J24)","v":100},{"$f":"IF(TDPrimas_!K24=\"\",\"\",TDPrimas_!K24)","v":1.9518492992331442}]
[null,{"$f":"IF(TDPrimas_!A25=\"\",\"\",TDPrimas_!A25)","v":17},{"$f":"IF(TDPrimas_!B25=\"\",\"\",TDPrimas_!B25)","v":"Zurich Santander"},{"$f":"IF(TDPrimas_!C25=\"\",\"\",TDPrimas_!C25)","v":3574791.8769999999},{"$f":"IF(TDPrimas_!D25=\"\",\"\",TDPrimas_!D25)","v":3159180.2807300002},{"$f":"IF(TDPrimas_!E25=\"\",\"\",TDPrimas_!E25)","v":1.6403043821719518},{"$f":"IF(TDPrimas_!F25=\"\",\"\",TDPrimas_!F25)","v":1.6490907237694288},{"$f":"IF(TDPrimas_!G25=\"\",\"\",TDPrimas_!G25)","v":415611.59626999963},{"$f":"IF(TDPrimas_!H25=\"\",\"\",TDPrimas_!H25)","v":13.15567835128304},{"$f":"IF(TDPrimas_!I25=\"\",\"\",TDPrimas_!I25)","v":100},{"$f":"IF(TDPrimas_!J25=\"\",\"\",TDPrimas_!J25)","v":100},{"$f":"IF(TDPrimas_!K25=\"\",\"\",TDPrimas_!K25)","v":1.6403043821719518}]
[null,{"$f":"IF(TDPrimas_!A26=\"\",\"\",TDPrimas_!A26)","v":18},{"$f":"IF(TDPrimas_!B26=\"\",\"\",TDPrimas_!B26)","v":"AIG Seguros"},{"$f":"IF(TDPrimas_!C26=\"\",\"\",TDPrimas_!C26)","v":3306000.0739899999},{"$f":"IF(TDPrimas_!D26=\"\",\"\",TDPrimas_!D26)","v":1805143.7563},{"$f":"IF(TDPrimas_!E26=\"\",\"\",TDPrimas_!E26)","v":1.5169684265304697},{"$f":"IF(TDPrimas_!F26=\"\",\"\",TDPrimas_!F26)","v":0.94228425067807919},{"$f":"IF(TDPrimas_!G26=\"\",\"\",TDPrimas_!G26)","v":1500856.3176899999},{"$f":"IF(TDPrimas_!H26=\"\",\"\",TDPrimas_!H26)","v":83.143312683655864},{"$f":"IF(TDPrimas_!I26=\"\",\"\",TDPrimas_!I26)","v":100},{"$f":"IF(TDPrimas_!J26=\"\",\"\",TDPrimas_!J26)","v":100},{"$f":"IF(TDPrimas_!K26=\"\",\"\",TDPrimas_!K26)","v":1.5169684265304697}]
[null,{"$f":"IF(TDPrimas_!A27=\"\",\"\",TDPrimas_!A27)","v":19},{"$f":"IF(TDPrimas_!B27=\"\",\"\",TDPrimas_!B27)","v":"Zurich Aseguradora Mexicana"},{"$f":"IF(TDPrimas_!C27=\"\",\"\",TDPrimas_!C27)","v":3031903.05106},{"$f":"IF(TDPrimas_!D27=\"\",\"\",TDPrimas_!D27)","v":78671.970780000003},{"$f":"IF(TDPrimas_!E27=\"\",\"\",TDPrimas_!E27)","v":1.391198154211938},{"$f":"IF(TDPrimas_!F27=\"\",\"\",TDPrimas_!F27)","v":4.1066734312477669E-2},{"$f":"IF(TDPrimas_!G27=\"\",\"\",TDPrimas_!G27)","v":2953231.0802799999},{"$f":"IF(TDPrimas_!H27=\"\",\"\",TDPrimas_!H27)","v":3753.8542011849167},{"$f":"IF(TDPrimas_!I27=\"\",\"\",TDPrimas_!I27)","v":100},{"$f":"IF(TDPrimas_!J27=\"\",\"\",TDPrimas_!J27)","v":100},{"$f":"IF(TDPrimas_!K27=\"\",\"\",TDPrimas_!K27)","v":1.391198154211938}]
[null,{"$f":"IF(TDPrimas_!A28=\"\",\"\",TDPrimas_!A28)","v":20},{"$f":"IF(TDPrimas_!B28=\"\",\"\",TDPrimas_!B28)","v":"HDI Seguros"},{"$f":"IF(TDPrimas_!C28=\"\",\"\",TDPrimas_!C28)","v":2965779.2021399997},{"$f":"IF(TDPrimas_!D28=\"\",\"\",TDPrimas_!D28)","v":2289870.9365900001},{"$f":"IF(TDPrimas_!E28=\"\",\"\",TDPrimas_!E28)","v":1.3608570202714145},{"$f":"IF(TDPrimas_!F28=\"\",\"\",TDPrimas_!F28)","v":1.1953116266246144},{"$f":"IF(TDPrimas_!G28=\"\",\"\",TDPrimas_!G28)","v":675908.26554999966},{"$f":"IF(TDPrimas_!H28=\"\",\"\",TDPrimas_!H28)","v":29.517308366581553},{"$f":"IF(TDPrimas_!I28=\"\",\"\",TDPrimas_!I28)","v":100},{"$f":"IF(TDPrimas_!J28=\"\",\"\",TDPrimas_!J28)","v":100},{"$f":"IF(TDPrimas_!K28=\"\",\"\",TDPrimas_!K28)","v":1.3608570202714145}]
[null,{"$f":"IF(TDPrimas_!A29=\"\",\"\",TDPrimas_!A29)","v":21},{"$f":"IF(TDPrimas_!B29=\"\",\"\",TDPrimas_!B29)","v":"Pensiones BBVA Bancomer"},{"$f":"IF(TDPrimas_!C29=\"\",\"\",TDPrimas_!C29)","v":2683241.2516399999},{"$f":"IF(TDPrimas_!D29=\"\",\"\",TDPrimas_!D29)","v":3936798.3321600002},{"$f":"IF(TDPrimas_!E29=\"\",\"\",TDPrimas_!E29)","v":1.2312136020582227},{"$f":"IF(TDPrimas_!F29=\"\",\"\",TDPrimas_!F29)","v":2.0550070062528558},{"$f":"IF(TDPrimas_!G29=\"\",\"\",TDPrimas_!G29)","v":-1253557.0805200003},{"$f":"IF(TDPrimas_!H29=\"\",\"\",TDPrimas_!H29)","v":-31.842044594451245},{"$f":"IF(TDPrimas_!I29=\"\",\"\",TDPrimas_!I29)","v":100},{"$f":"IF(TDPrimas_!J29=\"\",\"\",TDPrimas_!J29)","v":100},{"$f":"IF(TDPrimas_!K29=\"\",\"\",TDPrimas_!K29)","v":1.2312136020582227}]
[null,{"$f":"IF(TDPrimas_!A30=\"\",\"\",TDPrimas_!A30)","v":22},{"$f":"IF(TDPrimas_!B30=\"\",\"\",TDPrimas_!B30)","v":"ProFuturo G.N.P."},{"$f":"IF(TDPrimas_!C30=\"\",\"\",TDPrimas_!C30)","v":2615977.4752099998},{"$f":"IF(TDPrimas_!D30=\"\",\"\",TDPrimas_!D30)","v":2246257.45585},{"$f":"IF(TDPrimas_!E30=\"\",\"\",TDPrimas_!E30)","v":1.200349408830796},{"$f":"IF(TDPrimas_!F30=\"\",\"\",TDPrimas_!F30)","v":1.1725454087679332},{"$f":"IF(TDPrimas_!G30=\"\",\"\",TDPrimas_!G30)","v":369720.0193599998},{"$f":"IF(TDPrimas_!H30=\"\",\"\",TDPrimas_!H30)","v":16.459378616512808},{"$f":"IF(TDPrimas_!I30=\"\",\"\",TDPrimas_!I30)","v":100},{"$f":"IF(TDPrimas_!J30=\"\",\"\",TDPrimas_!J30)","v":100},{"$f":"IF(TDPrimas_!K30=\"\",\"\",TDPrimas_!K30)","v":1.200349408830796}]
[null,{"$f":"IF(TDPrimas_!A31=\"\",\"\",TDPrimas_!A31)","v":23},{"$f":"IF(TDPrimas_!B31=\"\",\"\",TDPrimas_!B31)","v":"Afirme"},{"$f":"IF(TDPrimas_!C31=\"\",\"\",TDPrimas_!C31)","v":2232143.8743000003},{"$f":"IF(TDPrimas_!D31=\"\",\"\",TDPrimas_!D31)","v":1889300.43243},{"$f":"IF(TDPrimas_!E31=\"\",\"\",TDPrimas_!E31)","v":1.0242261660629173},{"$f":"IF(TDPrimas_!F31=\"\",\"\",TDPrimas_!F31)","v":0.98621399878260407},{"$f":"IF(TDPrimas_!G31=\"\",\"\",TDPrimas_!G31)","v":342843.44187000021},{"$f":"IF(TDPrimas_!H31=\"\",\"\",TDPrimas_!H31)","v":18.146581453381572},{"$f":"IF(TDPrimas_!I31=\"\",\"\",TDPrimas_!I31)","v":100},{"$f":"IF(TDPrimas_!J31=\"\",\"\",TDPrimas_!J31)","v":100},{"$f":"IF(TDPrimas_!K31=\"\",\"\",TDPrimas_!K31)","v":1.0242261660629173}]
[null,{"$f":"IF(TDPrimas_!A32=\"\",\"\",TDPrimas_!A32)","v":24},{"$f":"IF(TDPrimas_!B32=\"\",\"\",TDPrimas_!B32)","v":"Seguros Azteca"},{"$f":"IF(TDPrimas_!C32=\"\",\"\",TDPrimas_!C32)","v":1962137.4953599998},{"$f":"IF(TDPrimas_!D32=\"\",\"\",TDPrimas_!D32)","v":1626725.29678},{"$f":"IF(TDPrimas_!E32=\"\",\"\",TDPrimas_!E32)","v":0.90033289847461129},{"$f":"IF(TDPrimas_!F32=\"\",\"\",TDPrimas_!F32)","v":0.8491498929023098},{"$f":"IF(TDPrimas_!G32=\"\",\"\",TDPrimas_!G32)","v":335412.19857999985},{"$f":"IF(TDPrimas_!H32=\"\",\"\",TDPrimas_!H32)","v":20.618859204066432},{"$f":"IF(TDPrimas_!I32=\"\",\"\",TDPrimas_!I32)","v":100},{"$f":"IF(TDPrimas_!J32=\"\",\"\",TDPrimas_!J32)","v":100},{"$f":"IF(TDPrimas_!K32=\"\",\"\",TDPrimas_!K32)","v":0.90033289847461129}]
[null,{"$f":"IF(TDPrimas_!A33=\"\",\"\",TDPrimas_!A33)","v":25},{"$f":"IF(TDPrimas_!B33=\"\",\"\",TDPrimas_!B33)","v":"Hir Seguros"},{"$f":"IF(TDPrimas_!C33=\"\",\"\",TDPrimas_!C33)","v":1797983.4388299999},{"$f":"IF(TDPrimas_!D33=\"\",\"\",TDPrimas_!D33)","v":1430544.88466},{"$f":"IF(TDPrimas_!E33=\"\",\"\",TDPrimas_!E33)","v":0.82501029857449359},{"$f":"IF(TDPrimas_!F33=\"\",\"\",TDPrimas_!F33)","v":0.74674380364373827},{"$f":"IF(TDPrimas_!G33=\"\",\"\",TDPrimas_!G33)","v":367438.5541699999},{"$f":"IF(TDPrimas_!H33=\"\",\"\",TDPrimas_!H33)","v":25.685216738748441},{"$f":"IF(TDPrimas_!I33=\"\",\"\",TDPrimas_!I33)","v":100},{"$f":"IF(TDPrimas_!J33=\"\",\"\",TDPrimas_!J33)","v":100},{"$f":"IF(TDPrimas_!K33=\"\",\"\",TDPrimas_!K33)","v":0.82501029857449359}]
[null,{"$f":"IF(TDPrimas_!A34=\"\",\"\",TDPrimas_!A34)","v":26},{"$f":"IF(TDPrimas_!B34=\"\",\"\",TDPrimas_!B34)","v":"HSBC Seguros"},{"$f":"IF(TDPrimas_!C34=\"\",\"\",TDPrimas_!C34)","v":1622418.9140099999},{"$f":"IF(TDPrimas_!D34=\"\",\"\",TDPrimas_!D34)","v":1476975.6419599999},{"$f":"IF(TDPrimas_!E34=\"\",\"\",TDPrimas_!E34)","v":0.74445196977526373},{"$f":"IF(TDPrimas_!F34=\"\",\"\",TDPrimas_!F34)","v":0.77098063863161892},{"$f":"IF(TDPrimas_!G34=\"\",\"\",TDPrimas_!G34)","v":145443.27205000003},{"$f":"IF(TDPrimas_!H34=\"\",\"\",TDPrimas_!H34)","v":9.8473710681505686},{"$f":"IF(TDPrimas_!I34=\"\",\"\",TDPrimas_!I34)","v":100},{"$f":"IF(TDPrimas_!J34=\"\",\"\",TDPrimas_!J34)","v":100},{"$f":"IF(TDPrimas_!K34=\"\",\"\",TDPrimas_!K34)","v":0.74445196977526373}]
[null,{"$f":"IF(TDPrimas_!A35=\"\",\"\",TDPrimas_!A35)","v":27},{"$f":"IF(TDPrimas_!B35=\"\",\"\",TDPrimas_!B35)","v":"Seguros SURA"},{"$f":"IF(TDPrimas_!C35=\"\",\"\",TDPrimas_!C35)","v":1504539.56809},{"$f":"IF(TDPrimas_!D35=\"\",\"\",TDPrimas_!D35)","v":1761775.44267},{"$f":"IF(TDPrimas_!E35=\"\",\"\",TDPrimas_!E35)","v":0.69036266490574294},{"$f":"IF(TDPrimas_!F35=\"\",\"\",TDPrimas_!F35)","v":0.91964600994550849},{"$f":"IF(TDPrimas_!G35=\"\",\"\",TDPrimas_!G35)","v":-257235.87458000006},{"$f":"IF(TDPrimas_!H35=\"\",\"\",TDPrimas_!H35)","v":-14.600945634147045},{"$f":"IF(TDPrimas_!I35=\"\",\"\",TDPrimas_!I35)","v":100},{"$f":"IF(TDPrimas_!J35=\"\",\"\",TDPrimas_!J35)","v":100},{"$f":"IF(TDPrimas_!K35=\"\",\"\",TDPrimas_!K35)","v":0.69036266490574294}]
[null,{"$f":"IF(TDPrimas_!A36=\"\",\"\",TDPrimas_!A36)","v":28},{"$f":"IF(TDPrimas_!B36=\"\",\"\",TDPrimas_!B36)","v":"Seguros Azteca Daños"},{"$f":"IF(TDPrimas_!C36=\"\",\"\",TDPrimas_!C36)","v":1251067.9799200001},{"$f":"IF(TDPrimas_!D36=\"\",\"\",TDPrimas_!D36)","v":1718523.35295},{"$f":"IF(TDPrimas_!E36=\"\",\"\",TDPrimas_!E36)","v":0.57405643754006652},{"$f":"IF(TDPrimas_!F36=\"\",\"\",TDPrimas_!F36)","v":0.89706843804308656},{"$f":"IF(TDPrimas_!G36=\"\",\"\",TDPrimas_!G36)","v":-467455.3730299999},{"$f":"IF(TDPrimas_!H36=\"\",\"\",TDPrimas_!H36)","v":-27.200990444940466},{"$f":"IF(TDPrimas_!I36=\"\",\"\",TDPrimas_!I36)","v":100},{"$f":"IF(TDPrimas_!J36=\"\",\"\",TDPrimas_!J36)","v":100},{"$f":"IF(TDPrimas_!K36=\"\",\"\",TDPrimas_!K36)","v":0.57405643754006652}]
[null,{"$f":"IF(TDPrimas_!A37=\"\",\"\",TDPrimas_!A37)","v":29},{"$f":"IF(TDPrimas_!B37=\"\",\"\",TDPrimas_!B37)","v":"HDI Global Seguros"},{"$f":"IF(TDPrimas_!C37=\"\",\"\",TDPrimas_!C37)","v":1017302.51738},{"$f":"IF(TDPrimas_!D37=\"\",\"\",TDPrimas_!D37)","v":469926.69216999999},{"$f":"IF(TDPrimas_!E37=\"\",\"\",TDPrimas_!E37)","v":0.4667924272708569},{"$f":"IF(TDPrimas_!F37=\"\",\"\",TDPrimas_!F37)","v":0.2453015276260615},{"$f":"IF(TDPrimas_!G37=\"\",\"\",TDPrimas_!G37)","v":547375.82520999992},{"$f":"IF(TDPrimas_!H37=\"\",\"\",TDPrimas_!H37)","v":116.48110957101841},{"$f":"IF(TDPrimas_!I37=\"\",\"\",TDPrimas_!I37)","v":100},{"$f":"IF(TDPrimas_!J37=\"\",\"\",TDPrimas_!J37)","v":100},{"$f":"IF(TDPrimas_!K37=\"\",\"\",TDPrimas_!K37)","v":0.4667924272708569}]
[null,{"$f":"IF(TDPrimas_!A38=\"\",\"\",TDPrimas_!A38)","v":30},{"$f":"IF(TDPrimas_!B38=\"\",\"\",TDPrimas_!B38)","v":"Cardif Vida"},{"$f":"IF(TDPrimas_!C38=\"\",\"\",TDPrimas_!C38)","v":972637.9765499999},{"$f":"IF(TDPrimas_!D38=\"\",\"\",TDPrimas_!D38)","v":837222.90852000006},{"$f":"IF(TDPrimas_!E38=\"\",\"\",TDPrimas_!E38)","v":0.4462979636567595},{"$f":"IF(TDPrimas_!F38=\"\",\"\",TDPrimas_!F38)","v":0.43702999179539104},{"$f":"IF(TDPrimas_!G38=\"\",\"\",TDPrimas_!G38)","v":135415.06802999985},{"$f":"IF(TDPrimas_!H38=\"\",\"\",TDPrimas_!H38)","v":16.174314707821335},{"$f":"IF(TDPrimas_!I38=\"\",\"\",TDPrimas_!I38)","v":100},{"$f":"IF(TDPrimas_!J38=\"\",\"\",TDPrimas_!J38)","v":100},{"$f":"IF(TDPrimas_!K38=\"\",\"\",TDPrimas_!K38)","v":0.4462979636567595}]
[null,{"$f":"IF(TDPrimas_!A39=\"\",\"\",TDPrimas_!A39)","v":31},{"$f":"IF(TDPrimas_!B39=\"\",\"\",TDPrimas_!B39)","v":"BUPA México"},{"$f":"IF(TDPrimas_!C39=\"\",\"\",TDPrimas_!C39)","v":874777.11228999996},{"$f":"IF(TDPrimas_!D39=\"\",\"\",TDPrimas_!D39)","v":826190.40769999998},{"$f":"IF(TDPrimas_!E39=\"\",\"\",TDPrimas_!E39)","v":0.40139420142053006},{"$f":"IF(TDPrimas_!F39=\"\",\"\",TDPrimas_!F39)","v":0.43127103119627108},{"$f":"IF(TDPrimas_!G39=\"\",\"\",TDPrimas_!G39)","v":48586.704589999979},{"$f":"IF(TDPrimas_!H39=\"\",\"\",TDPrimas_!H39)","v":5.8808119940848336},{"$f":"IF(TDPrimas_!I39=\"\",\"\",TDPrimas_!I39)","v":100},{"$f":"IF(TDPrimas_!J39=\"\",\"\",TDPrimas_!J39)","v":100},{"$f":"IF(TDPrimas_!K39=\"\",\"\",TDPrimas_!K39)","v":0.40139420142053006}]
[null,{"$f":"IF(TDPrimas_!A40=\"\",\"\",TDPrimas_!A40)","v":32},{"$f":"IF(TDPrimas_!B40=\"\",\"\",TDPrimas_!B40)","v":"ANA"},{"$f":"IF(TDPrimas_!C40=\"\",\"\",TDPrimas_!C40)","v":822201.80111999996},{"$f":"IF(TDPrimas_!D40=\"\",\"\",TDPrimas_!D40)","v":723121.39025000005},{"$f":"IF(TDPrimas_!E40=\"\",\"\",TDPrimas_!E40)","v":0.37726985620729819},{"$f":"IF(TDPrimas_!F40=\"\",\"\",TDPrimas_!F40)","v":0.37746904920062857},{"$f":"IF(TDPrimas_!G40=\"\",\"\",TDPrimas_!G40)","v":99080.410869999905},{"$f":"IF(TDPrimas_!H40=\"\",\"\",TDPrimas_!H40)","v":13.701767394233144},{"$f":"IF(TDPrimas_!I40=\"\",\"\",TDPrimas_!I40)","v":100},{"$f":"IF(TDPrimas_!J40=\"\",\"\",TDPrimas_!J40)","v":100},{"$f":"IF(TDPrimas_!K40=\"\",\"\",TDPrimas_!K40)","v":0.37726985620729819}]
[null,{"$f":"IF(TDPrimas_!A41=\"\",\"\",TDPrimas_!A41)","v":33},{"$f":"IF(TDPrimas_!B41=\"\",\"\",TDPrimas_!B41)","v":"Ve Por Más"},{"$f":"IF(TDPrimas_!C41=\"\",\"\",TDPrimas_!C41)","v":764564.70062000002},{"$f":"IF(TDPrimas_!D41=\"\",\"\",TDPrimas_!D41)","v":678146.09750999999},{"$f":"IF(TDPrimas_!E41=\"\",\"\",TDPrimas_!E41)","v":0.35082289320111165},{"$f":"IF(TDPrimas_!F41=\"\",\"\",TDPrimas_!F41)","v":0.35399196607601169},{"$f":"IF(TDPrimas_!G41=\"\",\"\",TDPrimas_!G41)","v":86418.603110000025},{"$f":"IF(TDPrimas_!H41=\"\",\"\",TDPrimas_!H41)","v":12.743360675127335},{"$f":"IF(TDPrimas_!I41=\"\",\"\",TDPrimas_!I41)","v":100},{"$f":"IF(TDPrimas_!J41=\"\",\"\",TDPrimas_!J41)","v":100},{"$f":"IF(TDPrimas_!K41=\"\",\"\",TDPrimas_!K41)","v":0.35082289320111165}]
[null,{"$f":"IF(TDPrimas_!A42=\"\",\"\",TDPrimas_!A42)","v":34},{"$f":"IF(TDPrimas_!B42=\"\",\"\",TDPrimas_!B42)","v":"Seguros Argos"},{"$f":"IF(TDPrimas_!C42=\"\",\"\",TDPrimas_!C42)","v":758060.44874999998},{"$f":"IF(TDPrimas_!D42=\"\",\"\",TDPrimas_!D42)","v":1176942.8885300001},{"$f":"IF(TDPrimas_!E42=\"\",\"\",TDPrimas_!E42)","v":0.34783839698085489},{"$f":"IF(TDPrimas_!F42=\"\",\"\",TDPrimas_!F42)","v":0.61436367266534542},{"$f":"IF(TDPrimas_!G42=\"\",\"\",TDPrimas_!G42)","v":-418882.43978000013},{"$f":"IF(TDPrimas_!H42=\"\",\"\",TDPrimas_!H42)","v":-35.590719300167883},{"$f":"IF(TDPrimas_!I42=\"\",\"\",TDPrimas_!I42)","v":100},{"$f":"IF(TDPrimas_!J42=\"\",\"\",TDPrimas_!J42)","v":100},{"$f":"IF(TDPrimas_!K42=\"\",\"\",TDPrimas_!K42)","v":0.34783839698085489}]
[null,{"$f":"IF(TDPrimas_!A43=\"\",\"\",TDPrimas_!A43)","v":35},{"$f":"IF(TDPrimas_!B43=\"\",\"\",TDPrimas_!B43)","v":"Plan Seguro"},{"$f":"IF(TDPrimas_!C43=\"\",\"\",TDPrimas_!C43)","v":702706.06438999996},{"$f":"IF(TDPrimas_!D43=\"\",\"\",TDPrimas_!D43)","v":842005.78388999996},{"$f":"IF(TDPrimas_!E43=\"\",\"\",TDPrimas_!E43)","v":0.32243886538229449},{"$f":"IF(TDPrimas_!F43=\"\",\"\",TDPrimas_!F43)","v":0.43952665064506879},{"$f":"IF(TDPrimas_!G43=\"\",\"\",TDPrimas_!G43)","v":-139299.71950000001},{"$f":"IF(TDPrimas_!H43=\"\",\"\",TDPrimas_!H43)","v":-16.543796036227487},{"$f":"IF(TDPrimas_!I43=\"\",\"\",TDPrimas_!I43)","v":100},{"$f":"IF(TDPrimas_!J43=\"\",\"\",TDPrimas_!J43)","v":100},{"$f":"IF(TDPrimas_!K43=\"\",\"\",TDPrimas_!K43)","v":0.32243886538229449}]
[null,{"$f":"IF(TDPrimas_!A44=\"\",\"\",TDPrimas_!A44)","v":36},{"$f":"IF(TDPrimas_!B44=\"\",\"\",TDPrimas_!B44)","v":"FM Global"},{"$f":"IF(TDPrimas_!C44=\"\",\"\",TDPrimas_!C44)","v":685542.54012999998},{"$f":"IF(TDPrimas_!D44=\"\",\"\",TDPrimas_!D44)","v":573005.82117000001},{"$f":"IF(TDPrimas_!E44=\"\",\"\",TDPrimas_!E44)","v":0.31456332884034083},{"$f":"IF(TDPrimas_!F44=\"\",\"\",TDPrimas_!F44)","v":0.29910878784637823},{"$f":"IF(TDPrimas_!G44=\"\",\"\",TDPrimas_!G44)","v":112536.71895999997},{"$f":"IF(TDPrimas_!H44=\"\",\"\",TDPrimas_!H44)","v":19.639716526826078},{"$f":"IF(TDPrimas_!I44=\"\",\"\",TDPrimas_!I44)","v":100},{"$f":"IF(TDPrimas_!J44=\"\",\"\",TDPrimas_!J44)","v":100},{"$f":"IF(TDPrimas_!K44=\"\",\"\",TDPrimas_!K44)","v":0.31456332884034083}]
[null,{"$f":"IF(TDPrimas_!A45=\"\",\"\",TDPrimas_!A45)","v":37},{"$f":"IF(TDPrimas_!B45=\"\",\"\",TDPrimas_!B45)","v":"El Potosí"},{"$f":"IF(TDPrimas_!C45=\"\",\"\",TDPrimas_!C45)","v":663569.20615999994},{"$f":"IF(TDPrimas_!D45=\"\",\"\",TDPrimas_!D45)","v":548570.98860000004},{"$f":"IF(TDPrimas_!E45=\"\",\"\",TDPrimas_!E45)","v":0.30448079613855838},{"$f":"IF(TDPrimas_!F45=\"\",\"\",TDPrimas_!F45)","v":0.28635381593995224},{"$f":"IF(TDPrimas_!G45=\"\",\"\",TDPrimas_!G45)","v":114998.2175599999},{"$f":"IF(TDPrimas_!H45=\"\",\"\",TDPrimas_!H45)","v":20.963233555876727},{"$f":"IF(TDPrimas_!I45=\"\",\"\",TDPrimas_!I45)","v":100},{"$f":"IF(TDPrimas_!J45=\"\",\"\",TDPrimas_!J45)","v":100},{"$f":"IF(TDPrimas_!K45=\"\",\"\",TDPrimas_!K45)","v":0.30448079613855838}]
[null,{"$f":"IF(TDPrimas_!A46=\"\",\"\",TDPrimas_!A46)","v":38},{"$f":"IF(TDPrimas_!B46=\"\",\"\",TDPrimas_!B46)","v":"General de Seguros"},{"$f":"IF(TDPrimas_!C46=\"\",\"\",TDPrimas_!C46)","v":660743.68034000008},{"$f":"IF(TDPrimas_!D46=\"\",\"\",TDPrimas_!D46)","v":638551.54223999998},{"$f":"IF(TDPrimas_!E46=\"\",\"\",TDPrimas_!E46)","v":0.30318429481933323},{"$f":"IF(TDPrimas_!F46=\"\",\"\",TDPrimas_!F46)","v":0.33332362555558881},{"$f":"IF(TDPrimas_!G46=\"\",\"\",TDPrimas_!G46)","v":22192.138100000098},{"$f":"IF(TDPrimas_!H46=\"\",\"\",TDPrimas_!H46)","v":3.4753871272711123},{"$f":"IF(TDPrimas_!I46=\"\",\"\",TDPrimas_!I46)","v":100},{"$f":"IF(TDPrimas_!J46=\"\",\"\",TDPrimas_!J46)","v":100},{"$f":"IF(TDPrimas_!K46=\"\",\"\",TDPrimas_!K46)","v":0.30318429481933323}]
[null,{"$f":"IF(TDPrimas_!A47=\"\",\"\",TDPrimas_!A47)","v":39},{"$f":"IF(TDPrimas_!B47=\"\",\"\",TDPrimas_!B47)","v":"AXA Salud"},{"$f":"IF(TDPrimas_!C47=\"\",\"\",TDPrimas_!C47)","v":487258.32735000004},{"$f":"IF(TDPrimas_!D47=\"\",\"\",TDPrimas_!D47)","v":488407.71211000002},{"$f":"IF(TDPrimas_!E47=\"\",\"\",TDPrimas_!E47)","v":0.22358000048739077},{"$f":"IF(TDPrimas_!F47=\"\",\"\",TDPrimas_!F47)","v":0.25494861194560825},{"$f":"IF(TDPrimas_!G47=\"\",\"\",TDPrimas_!G47)","v":-1149.3847599999863},{"$f":"IF(TDPrimas_!H47=\"\",\"\",TDPrimas_!H47)","v":-0.23533304890589468},{"$f":"IF(TDPrimas_!I47=\"\",\"\",TDPrimas_!I47)","v":100},{"$f":"IF(TDPrimas_!J47=\"\",\"\",TDPrimas_!J47)","v":100},{"$f":"IF(TDPrimas_!K47=\"\",\"\",TDPrimas_!K47)","v":0.22358000048739077}]
[null,{"$f":"IF(TDPrimas_!A48=\"\",\"\",TDPrimas_!A48)","v":40},{"$f":"IF(TDPrimas_!B48=\"\",\"\",TDPrimas_!B48)","v":"Assurant Vida"},{"$f":"IF(TDPrimas_!C48=\"\",\"\",TDPrimas_!C48)","v":448721.73488999996},{"$f":"IF(TDPrimas_!D48=\"\",\"\",TDPrimas_!D48)","v":72452.07634},{"$f":"IF(TDPrimas_!E48=\"\",\"\",TDPrimas_!E48)","v":0.20589736506102835},{"$f":"IF(TDPrimas_!F48=\"\",\"\",TDPrimas_!F48)","v":3.781995213724236E-2},{"$f":"IF(TDPrimas_!G48=\"\",\"\",TDPrimas_!G48)","v":376269.65854999993},{"$f":"IF(TDPrimas_!H48=\"\",\"\",TDPrimas_!H48)","v":519.33592183646726},{"$f":"IF(TDPrimas_!I48=\"\",\"\",TDPrimas_!I48)","v":100},{"$f":"IF(TDPrimas_!J48=\"\",\"\",TDPrimas_!J48)","v":100},{"$f":"IF(TDPrimas_!K48=\"\",\"\",TDPrimas_!K48)","v":0.20589736506102835}]
[null,{"$f":"IF(TDPrimas_!A49=\"\",\"\",TDPrimas_!A49)","v":41},{"$f":"IF(TDPrimas_!B49=\"\",\"\",TDPrimas_!B49)","v":"Prudential"},{"$f":"IF(TDPrimas_!C49=\"\",\"\",TDPrimas_!C49)","v":433447.13457999995},{"$f":"IF(TDPrimas_!D49=\"\",\"\",TDPrimas_!D49)","v":347533.37267999997},{"$f":"IF(TDPrimas_!E49=\"\",\"\",TDPrimas_!E49)","v":0.1988885671543249},{"$f":"IF(TDPrimas_!F49=\"\",\"\",TDPrimas_!F49)","v":0.18141226842377628},{"$f":"IF(TDPrimas_!G49=\"\",\"\",TDPrimas_!G49)","v":85913.761899999983},{"$f":"IF(TDPrimas_!H49=\"\",\"\",TDPrimas_!H49)","v":24.72101060035672},{"$f":"IF(TDPrimas_!I49=\"\",\"\",TDPrimas_!I49)","v":100},{"$f":"IF(TDPrimas_!J49=\"\",\"\",TDPrimas_!J49)","v":100},{"$f":"IF(TDPrimas_!K49=\"\",\"\",TDPrimas_!K49)","v":0.1988885671543249}]
[null,{"$f":"IF(TDPrimas_!A50=\"\",\"\",TDPrimas_!A50)","v":42},{"$f":"IF(TDPrimas_!B50=\"\",\"\",TDPrimas_!B50)","v":"Cardif Seguros Generales"},{"$f":"IF(TDPrimas_!C50=\"\",\"\",TDPrimas_!C50)","v":431726.53073},{"$f":"IF(TDPrimas_!D50=\"\",\"\",TDPrimas_!D50)","v":287943.79755999998},{"$f":"IF(TDPrimas_!E50=\"\",\"\",TDPrimas_!E50)","v":0.19809906272099123},{"$f":"IF(TDPrimas_!F50=\"\",\"\",TDPrimas_!F50)","v":0.15030653629346358},{"$f":"IF(TDPrimas_!G50=\"\",\"\",TDPrimas_!G50)","v":143782.73317000002},{"$f":"IF(TDPrimas_!H50=\"\",\"\",TDPrimas_!H50)","v":49.934304676258719},{"$f":"IF(TDPrimas_!I50=\"\",\"\",TDPrimas_!I50)","v":100},{"$f":"IF(TDPrimas_!J50=\"\",\"\",TDPrimas_!J50)","v":100},{"$f":"IF(TDPrimas_!K50=\"\",\"\",TDPrimas_!K50)","v":0.19809906272099123}]
[null,{"$f":"IF(TDPrimas_!A51=\"\",\"\",TDPrimas_!A51)","v":43},{"$f":"IF(TDPrimas_!B51=\"\",\"\",TDPrimas_!B51)","v":"Insignia Life"},{"$f":"IF(TDPrimas_!C51=\"\",\"\",TDPrimas_!C51)","v":421128.09495999996},{"$f":"IF(TDPrimas_!D51=\"\",\"\",TDPrimas_!D51)","v":404699.64291},{"$f":"IF(TDPrimas_!E51=\"\",\"\",TDPrimas_!E51)","v":0.19323593747178414},{"$f":"IF(TDPrimas_!F51=\"\",\"\",TDPrimas_!F51)","v":0.21125303646218835},{"$f":"IF(TDPrimas_!G51=\"\",\"\",TDPrimas_!G51)","v":16428.452049999963},{"$f":"IF(TDPrimas_!H51=\"\",\"\",TDPrimas_!H51)","v":4.0594184694285662},{"$f":"IF(TDPrimas_!I51=\"\",\"\",TDPrimas_!I51)","v":100},{"$f":"IF(TDPrimas_!J51=\"\",\"\",TDPrimas_!J51)","v":100},{"$f":"IF(TDPrimas_!K51=\"\",\"\",TDPrimas_!K51)","v":0.19323593747178414}]
[null,{"$f":"IF(TDPrimas_!A52=\"\",\"\",TDPrimas_!A52)","v":44},{"$f":"IF(TDPrimas_!B52=\"\",\"\",TDPrimas_!B52)","v":"El Águila"},{"$f":"IF(TDPrimas_!C52=\"\",\"\",TDPrimas_!C52)","v":401246.10022000002},{"$f":"IF(TDPrimas_!D52=\"\",\"\",TDPrimas_!D52)","v":326812.71269000001},{"$f":"IF(TDPrimas_!E52=\"\",\"\",TDPrimas_!E52)","v":0.18411302228666004},{"$f":"IF(TDPrimas_!F52=\"\",\"\",TDPrimas_!F52)","v":0.17059609297841885},{"$f":"IF(TDPrimas_!G52=\"\",\"\",TDPrimas_!G52)","v":74433.387530000007},{"$f":"IF(TDPrimas_!H52=\"\",\"\",TDPrimas_!H52)","v":22.775548392024824},{"$f":"IF(TDPrimas_!I52=\"\",\"\",TDPrimas_!I52)","v":100},{"$f":"IF(TDPrimas_!J52=\"\",\"\",TDPrimas_!J52)","v":100},{"$f":"IF(TDPrimas_!K52=\"\",\"\",TDPrimas_!K52)","v":0.18411302228666004}]
[null,{"$f":"IF(TDPrimas_!A53=\"\",\"\",TDPrimas_!A53)","v":45},{"$f":"IF(TDPrimas_!B53=\"\",\"\",TDPrimas_!B53)","v":"La Latinoamericana"},{"$f":"IF(TDPrimas_!C53=\"\",\"\",TDPrimas_!C53)","v":378273.63062999997},{"$f":"IF(TDPrimas_!D53=\"\",\"\",TDPrimas_!D53)","v":386901.91305999999},{"$f":"IF(TDPrimas_!E53=\"\",\"\",TDPrimas_!E53)","v":0.17357203309502856},{"$f":"IF(TDPrimas_!F53=\"\",\"\",TDPrimas_!F53)","v":0.20196262927054584},{"$f":"IF(TDPrimas_!G53=\"\",\"\",TDPrimas_!G53)","v":-8628.2824300000211},{"$f":"IF(TDPrimas_!H53=\"\",\"\",TDPrimas_!H53)","v":-2.2300955717068138},{"$f":"IF(TDPrimas_!I53=\"\",\"\",TDPrimas_!I53)","v":100},{"$f":"IF(TDPrimas_!J53=\"\",\"\",TDPrimas_!J53)","v":100},{"$f":"IF(TDPrimas_!K53=\"\",\"\",TDPrimas_!K53)","v":0.17357203309502856}]
[null,{"$f":"IF(TDPrimas_!A54=\"\",\"\",TDPrimas_!A54)","v":46},{"$f":"IF(TDPrimas_!B54=\"\",\"\",TDPrimas_!B54)","v":"Patrimonial Inbursa"},{"$f":"IF(TDPrimas_!C54=\"\",\"\",TDPrimas_!C54)","v":365783.35788999998},{"$f":"IF(TDPrimas_!D54=\"\",\"\",TDPrimas_!D54)","v":399496.20867000002},{"$f":"IF(TDPrimas_!E54=\"\",\"\",TDPrimas_!E54)","v":0.16784083256227517},{"$f":"IF(TDPrimas_!F54=\"\",\"\",TDPrimas_!F54)","v":0.20853684606644893},{"$f":"IF(TDPrimas_!G54=\"\",\"\",TDPrimas_!G54)","v":-33712.850780000037},{"$f":"IF(TDPrimas_!H54=\"\",\"\",TDPrimas_!H54)","v":-8.438841232620609},{"$f":"IF(TDPrimas_!I54=\"\",\"\",TDPrimas_!I54)","v":100},{"$f":"IF(TDPrimas_!J54=\"\",\"\",TDPrimas_!J54)","v":100},{"$f":"IF(TDPrimas_!K54=\"\",\"\",TDPrimas_!K54)","v":0.16784083256227517}]
[null,{"$f":"IF(TDPrimas_!A55=\"\",\"\",TDPrimas_!A55)","v":47},{"$f":"IF(TDPrimas_!B55=\"\",\"\",TDPrimas_!B55)","v":"Tokio Marine"},{"$f":"IF(TDPrimas_!C55=\"\",\"\",TDPrimas_!C55)","v":328979.06079000002},{"$f":"IF(TDPrimas_!D55=\"\",\"\",TDPrimas_!D55)","v":675587.68896000006},{"$f":"IF(TDPrimas_!E55=\"\",\"\",TDPrimas_!E55)","v":0.15095306625500929},{"$f":"IF(TDPrimas_!F55=\"\",\"\",TDPrimas_!F55)","v":0.35265647793272592},{"$f":"IF(TDPrimas_!G55=\"\",\"\",TDPrimas_!G55)","v":-346608.62817000004},{"$f":"IF(TDPrimas_!H55=\"\",\"\",TDPrimas_!H55)","v":-51.304757892135285},{"$f":"IF(TDPrimas_!I55=\"\",\"\",TDPrimas_!I55)","v":100},{"$f":"IF(TDPrimas_!J55=\"\",\"\",TDPrimas_!J55)","v":100},{"$f":"IF(TDPrimas_!K55=\"\",\"\",TDPrimas_!K55)","v":0.15095306625500929}]
[null,{"$f":"IF(TDPrimas_!A56=\"\",\"\",TDPrimas_!A56)","v":48},{"$f":"IF(TDPrimas_!B56=\"\",\"\",TDPrimas_!B56)","v":"Patrimonial Vida"},{"$f":"IF(TDPrimas_!C56=\"\",\"\",TDPrimas_!C56)","v":318429.82180999999},{"$f":"IF(TDPrimas_!D56=\"\",\"\",TDPrimas_!D56)","v":1407005.9488599999},{"$f":"IF(TDPrimas_!E56=\"\",\"\",TDPrimas_!E56)","v":0.14611251510605824},{"$f":"IF(TDPrimas_!F56=\"\",\"\",TDPrimas_!F56)","v":0.73445648945911868},{"$f":"IF(TDPrimas_!G56=\"\",\"\",TDPrimas_!G56)","v":-1088576.1270499998},{"$f":"IF(TDPrimas_!H56=\"\",\"\",TDPrimas_!H56)","v":-77.368267556508783},{"$f":"IF(TDPrimas_!I56=\"\",\"\",TDPrimas_!I56)","v":100},{"$f":"IF(TDPrimas_!J56=\"\",\"\",TDPrimas_!J56)","v":100},{"$f":"IF(TDPrimas_!K56=\"\",\"\",TDPrimas_!K56)","v":0.14611251510605824}]
[null,{"$f":"IF(TDPrimas_!A57=\"\",\"\",TDPrimas_!A57)","v":49},{"$f":"IF(TDPrimas_!B57=\"\",\"\",TDPrimas_!B57)","v":"Pan-American México"},{"$f":"IF(TDPrimas_!C57=\"\",\"\",TDPrimas_!C57)","v":309110.80956000002},{"$f":"IF(TDPrimas_!D57=\"\",\"\",TDPrimas_!D57)","v":143964.61814999999},{"$f":"IF(TDPrimas_!E57=\"\",\"\",TDPrimas_!E57)","v":0.14183645732223638},{"$f":"IF(TDPrimas_!F57=\"\",\"\",TDPrimas_!F57)","v":7.5149467661058511E-2},{"$f":"IF(TDPrimas_!G57=\"\",\"\",TDPrimas_!G57)","v":165146.19141000003},{"$f":"IF(TDPrimas_!H57=\"\",\"\",TDPrimas_!H57)","v":114.71304097645051},{"$f":"IF(TDPrimas_!I57=\"\",\"\",TDPrimas_!I57)","v":100},{"$f":"IF(TDPrimas_!J57=\"\",\"\",TDPrimas_!J57)","v":100},{"$f":"IF(TDPrimas_!K57=\"\",\"\",TDPrimas_!K57)","v":0.14183645732223638}]
[null,{"$f":"IF(TDPrimas_!A58=\"\",\"\",TDPrimas_!A58)","v":50},{"$f":"IF(TDPrimas_!B58=\"\",\"\",TDPrimas_!B58)","v":"BBVA Bancomer Salud"},{"$f":"IF(TDPrimas_!C58=\"\",\"\",TDPrimas_!C58)","v":295419.76160000003},{"$f":"IF(TDPrimas_!D58=\"\",\"\",TDPrimas_!D58)","v":122393.01183},{"$f":"IF(TDPrimas_!E58=\"\",\"\",TDPrimas_!E58)","v":0.13555427734140882},{"$f":"IF(TDPrimas_!F58=\"\",\"\",TDPrimas_!F58)","v":6.3889098603899838E-2},{"$f":"IF(TDPrimas_!G58=\"\",\"\",TDPrimas_!G58)","v":173026.74977000002},{"$f":"IF(TDPrimas_!H58=\"\",\"\",TDPrimas_!H58)","v":141.36979487875391},{"$f":"IF(TDPrimas_!I58=\"\",\"\",TDPrimas_!I58)","v":100},{"$f":"IF(TDPrimas_!J58=\"\",\"\",TDPrimas_!J58)","v":100},{"$f":"IF(TDPrimas_!K58=\"\",\"\",TDPrimas_!K58)","v":0.13555427734140882}]
[null,{"$f":"IF(TDPrimas_!A59=\"\",\"\",TDPrimas_!A59)","v":51},{"$f":"IF(TDPrimas_!B59=\"\",\"\",TDPrimas_!B59)","v":"Primero Seguros"},{"$f":"IF(TDPrimas_!C59=\"\",\"\",TDPrimas_!C59)","v":285123.98235000001},{"$f":"IF(TDPrimas_!D59=\"\",\"\",TDPrimas_!D59)","v":283509.69257000001},{"$f":"IF(TDPrimas_!E59=\"\",\"\",TDPrimas_!E59)","v":0.13083002697866522},{"$f":"IF(TDPrimas_!F59=\"\",\"\",TDPrimas_!F59)","v":0.14799193542948913},{"$f":"IF(TDPrimas_!G59=\"\",\"\",TDPrimas_!G59)","v":1614.2897799999919},{"$f":"IF(TDPrimas_!H59=\"\",\"\",TDPrimas_!H59)","v":0.5693949174599755},{"$f":"IF(TDPrimas_!I59=\"\",\"\",TDPrimas_!I59)","v":100},{"$f":"IF(TDPrimas_!J59=\"\",\"\",TDPrimas_!J59)","v":100},{"$f":"IF(TDPrimas_!K59=\"\",\"\",TDPrimas_!K59)","v":0.13083002697866522}]
[null,{"$f":"IF(TDPrimas_!A60=\"\",\"\",TDPrimas_!A60)","v":52},{"$f":"IF(TDPrimas_!B60=\"\",\"\",TDPrimas_!B60)","v":"General de Salud"},{"$f":"IF(TDPrimas_!C60=\"\",\"\",TDPrimas_!C60)","v":240008.10616999998},{"$f":"IF(TDPrimas_!D60=\"\",\"\",TDPrimas_!D60)","v":128786.91902},{"$f":"IF(TDPrimas_!E60=\"\",\"\",TDPrimas_!E60)","v":0.1101284667340767},{"$f":"IF(TDPrimas_!F60=\"\",\"\",TDPrimas_!F60)","v":6.7226715358469843E-2},{"$f":"IF(TDPrimas_!G60=\"\",\"\",TDPrimas_!G60)","v":111221.18714999998},{"$f":"IF(TDPrimas_!H60=\"\",\"\",TDPrimas_!H60)","v":86.360624197188727},{"$f":"IF(TDPrimas_!I60=\"\",\"\",TDPrimas_!I60)","v":100},{"$f":"IF(TDPrimas_!J60=\"\",\"\",TDPrimas_!J60)","v":100},{"$f":"IF(TDPrimas_!K60=\"\",\"\",TDPrimas_!K60)","v":0.1101284667340767}]
[null,{"$f":"IF(TDPrimas_!A61=\"\",\"\",TDPrimas_!A61)","v":53},{"$f":"IF(TDPrimas_!B61=\"\",\"\",TDPrimas_!B61)","v":"PREVEM Seguros"},{"$f":"IF(TDPrimas_!C61=\"\",\"\",TDPrimas_!C61)","v":216996.14955},{"$f":"IF(TDPrimas_!D61=\"\",\"\",TDPrimas_!D61)","v":126840.03514000001},{"$f":"IF(TDPrimas_!E61=\"\",\"\",TDPrimas_!E61)","v":9.9569358795794663E-2},{"$f":"IF(TDPrimas_!F61=\"\",\"\",TDPrimas_!F61)","v":6.6210442825259952E-2},{"$f":"IF(TDPrimas_!G61=\"\",\"\",TDPrimas_!G61)","v":90156.114409999995},{"$f":"IF(TDPrimas_!H61=\"\",\"\",TDPrimas_!H61)","v":71.078594633382082},{"$f":"IF(TDPrimas_!I61=\"\",\"\",TDPrimas_!I61)","v":100},{"$f":"IF(TDPrimas_!J61=\"\",\"\",TDPrimas_!J61)","v":100},{"$f":"IF(TDPrimas_!K61=\"\",\"\",TDPrimas_!K61)","v":9.9569358795794663E-2}]
[null,{"$f":"IF(TDPrimas_!A62=\"\",\"\",TDPrimas_!A62)","v":54},{"$f":"IF(TDPrimas_!B62=\"\",\"\",TDPrimas_!B62)","v":"Berkley Seguros"},{"$f":"IF(TDPrimas_!C62=\"\",\"\",TDPrimas_!C62)","v":192876.43583999999},{"$f":"IF(TDPrimas_!D62=\"\",\"\",TDPrimas_!D62)","v":138917.25021},{"$f":"IF(TDPrimas_!E62=\"\",\"\",TDPrimas_!E62)","v":8.8501953067982572E-2},{"$f":"IF(TDPrimas_!F62=\"\",\"\",TDPrimas_!F62)","v":7.2514743805608947E-2},{"$f":"IF(TDPrimas_!G62=\"\",\"\",TDPrimas_!G62)","v":53959.185629999993},{"$f":"IF(TDPrimas_!H62=\"\",\"\",TDPrimas_!H62)","v":38.842681919221953},{"$f":"IF(TDPrimas_!I62=\"\",\"\",TDPrimas_!I62)","v":100},{"$f":"IF(TDPrimas_!J62=\"\",\"\",TDPrimas_!J62)","v":100},{"$f":"IF(TDPrimas_!K62=\"\",\"\",TDPrimas_!K62)","v":8.8501953067982572E-2}]
[null,{"$f":"IF(TDPrimas_!A63=\"\",\"\",TDPrimas_!A63)","v":55},{"$f":"IF(TDPrimas_!B63=\"\",\"\",TDPrimas_!B63)","v":"Atradius"},{"$f":"IF(TDPrimas_!C63=\"\",\"\",TDPrimas_!C63)","v":191703.76137999998},{"$f":"IF(TDPrimas_!D63=\"\",\"\",TDPrimas_!D63)","v":188280.99028999999},{"$f":"IF(TDPrimas_!E63=\"\",\"\",TDPrimas_!E63)","v":8.7963867741120583E-2},{"$f":"IF(TDPrimas_!F63=\"\",\"\",TDPrimas_!F63)","v":9.8282594520884559E-2},{"$f":"IF(TDPrimas_!G63=\"\",\"\",TDPrimas_!G63)","v":3422.7710899999947},{"$f":"IF(TDPrimas_!H63=\"\",\"\",TDPrimas_!H63)","v":1.8179058250798796},{"$f":"IF(TDPrimas_!I63=\"\",\"\",TDPrimas_!I63)","v":100},{"$f":"IF(TDPrimas_!J63=\"\",\"\",TDPrimas_!J63)","v":100},{"$f":"IF(TDPrimas_!K63=\"\",\"\",TDPrimas_!K63)","v":8.7963867741120583E-2}]
[null,{"$f":"IF(TDPrimas_!A64=\"\",\"\",TDPrimas_!A64)","v":56},{"$f":"IF(TDPrimas_!B64=\"\",\"\",TDPrimas_!B64)","v":"Sompo Japan"},{"$f":"IF(TDPrimas_!C64=\"\",\"\",TDPrimas_!C64)","v":189031.92499999999},{"$f":"IF(TDPrimas_!D64=\"\",\"\",TDPrimas_!D64)","v":186805.35068},{"$f":"IF(TDPrimas_!E64=\"\",\"\",TDPrimas_!E64)","v":8.6737887299921185E-2},{"$f":"IF(TDPrimas_!F64=\"\",\"\",TDPrimas_!F64)","v":9.7512311290351289E-2},{"$f":"IF(TDPrimas_!G64=\"\",\"\",TDPrimas_!G64)","v":2226.5743199999852},{"$f":"IF(TDPrimas_!H64=\"\",\"\",TDPrimas_!H64)","v":1.1919221327948648},{"$f":"IF(TDPrimas_!I64=\"\",\"\",TDPrimas_!I64)","v":100},{"$f":"IF(TDPrimas_!J64=\"\",\"\",TDPrimas_!J64)","v":100},{"$f":"IF(TDPrimas_!K64=\"\",\"\",TDPrimas_!K64)","v":8.6737887299921185E-2}]
[null,{"$f":"IF(TDPrimas_!A65=\"\",\"\",TDPrimas_!A65)","v":57},{"$f":"IF(TDPrimas_!B65=\"\",\"\",TDPrimas_!B65)","v":"Solunion Crédito"},{"$f":"IF(TDPrimas_!C65=\"\",\"\",TDPrimas_!C65)","v":173836.21695},{"$f":"IF(TDPrimas_!D65=\"\",\"\",TDPrimas_!D65)","v":138126.09831999999},{"$f":"IF(TDPrimas_!E65=\"\",\"\",TDPrimas_!E65)","v":7.9765289352334276E-2},{"$f":"IF(TDPrimas_!F65=\"\",\"\",TDPrimas_!F65)","v":7.2101762865315736E-2},{"$f":"IF(TDPrimas_!G65=\"\",\"\",TDPrimas_!G65)","v":35710.118630000012},{"$f":"IF(TDPrimas_!H65=\"\",\"\",TDPrimas_!H65)","v":25.853273975255231},{"$f":"IF(TDPrimas_!I65=\"\",\"\",TDPrimas_!I65)","v":100},{"$f":"IF(TDPrimas_!J65=\"\",\"\",TDPrimas_!J65)","v":100},{"$f":"IF(TDPrimas_!K65=\"\",\"\",TDPrimas_!K65)","v":7.9765289352334276E-2}]
[null,{"$f":"IF(TDPrimas_!A66=\"\",\"\",TDPrimas_!A66)","v":58},{"$f":"IF(TDPrimas_!B66=\"\",\"\",TDPrimas_!B66)","v":"Dentegra"},{"$f":"IF(TDPrimas_!C66=\"\",\"\",TDPrimas_!C66)","v":145760.77205999999},{"$f":"IF(TDPrimas_!D66=\"\",\"\",TDPrimas_!D66)","v":115299.25764},{"$f":"IF(TDPrimas_!E66=\"\",\"\",TDPrimas_!E66)","v":6.6882784057189185E-2},{"$f":"IF(TDPrimas_!F66=\"\",\"\",TDPrimas_!F66)","v":6.0186162021652501E-2},{"$f":"IF(TDPrimas_!G66=\"\",\"\",TDPrimas_!G66)","v":30461.514419999992},{"$f":"IF(TDPrimas_!H66=\"\",\"\",TDPrimas_!H66)","v":26.419523458780869},{"$f":"IF(TDPrimas_!I66=\"\",\"\",TDPrimas_!I66)","v":100},{"$f":"IF(TDPrimas_!J66=\"\",\"\",TDPrimas_!J66)","v":100},{"$f":"IF(TDPrimas_!K66=\"\",\"\",TDPrimas_!K66)","v":6.6882784057189185E-2}]
[null,{"$f":"IF(TDPrimas_!A67=\"\",\"\",TDPrimas_!A67)","v":59},{"$f":"IF(TDPrimas_!B67=\"\",\"\",TDPrimas_!B67)","v":"Swiss Re Corporate Solutions"},{"$f":"IF(TDPrimas_!C67=\"\",\"\",TDPrimas_!C67)","v":131577.22926999998},{"$f":"IF(TDPrimas_!D67=\"\",\"\",TDPrimas_!D67)","v":88118.563099999999},{"$f":"IF(TDPrimas_!E67=\"\",\"\",TDPrimas_!E67)","v":6.0374621290330464E-2},{"$f":"IF(TDPrimas_!F67=\"\",\"\",TDPrimas_!F67)","v":4.5997851368748927E-2},{"$f":"IF(TDPrimas_!G67=\"\",\"\",TDPrimas_!G67)","v":43458.666169999982},{"$f":"IF(TDPrimas_!H67=\"\",\"\",TDPrimas_!H67)","v":49.318400846688327},{"$f":"IF(TDPrimas_!I67=\"\",\"\",TDPrimas_!I67)","v":100},{"$f":"IF(TDPrimas_!J67=\"\",\"\",TDPrimas_!J67)","v":100},{"$f":"IF(TDPrimas_!K67=\"\",\"\",TDPrimas_!K67)","v":6.0374621290330464E-2}]
[null,{"$f":"IF(TDPrimas_!A68=\"\",\"\",TDPrimas_!A68)","v":60},{"$f":"IF(TDPrimas_!B68=\"\",\"\",TDPrimas_!B68)","v":"SHF Cred Vivienda"},{"$f":"IF(TDPrimas_!C68=\"\",\"\",TDPrimas_!C68)","v":128656.87879999999},{"$f":"IF(TDPrimas_!D68=\"\",\"\",TDPrimas_!D68)","v":98682.880250000002},{"$f":"IF(TDPrimas_!E68=\"\",\"\",TDPrimas_!E68)","v":5.9034609385234901E-2},{"$f":"IF(TDPrimas_!F68=\"\",\"\",TDPrimas_!F68)","v":5.1512420297052587E-2},{"$f":"IF(TDPrimas_!G68=\"\",\"\",TDPrimas_!G68)","v":29973.998549999989},{"$f":"IF(TDPrimas_!H68=\"\",\"\",TDPrimas_!H68)","v":30.374061310396328},{"$f":"IF(TDPrimas_!I68=\"\",\"\",TDPrimas_!I68)","v":100},{"$f":"IF(TDPrimas_!J68=\"\",\"\",TDPrimas_!J68)","v":100},{"$f":"IF(TDPrimas_!K68=\"\",\"\",TDPrimas_!K68)","v":5.9034609385234901E-2}]
[null,{"$f":"IF(TDPrimas_!A69=\"\",\"\",TDPrimas_!A69)","v":61},{"$f":"IF(TDPrimas_!B69=\"\",\"\",TDPrimas_!B69)","v":"Skandia Life"},{"$f":"IF(TDPrimas_!C69=\"\",\"\",TDPrimas_!C69)","v":105288.88576999999},{"$f":"IF(TDPrimas_!D69=\"\",\"\",TDPrimas_!D69)","v":153166.89451000001},{"$f":"IF(TDPrimas_!E69=\"\",\"\",TDPrimas_!E69)","v":4.8312133031775117E-2},{"$f":"IF(TDPrimas_!F69=\"\",\"\",TDPrimas_!F69)","v":7.9953051893146762E-2},{"$f":"IF(TDPrimas_!G69=\"\",\"\",TDPrimas_!G69)","v":-47878.008740000019},{"$f":"IF(TDPrimas_!H69=\"\",\"\",TDPrimas_!H69)","v":-31.258718728461353},{"$f":"IF(TDPrimas_!I69=\"\",\"\",TDPrimas_!I69)","v":100},{"$f":"IF(TDPrimas_!J69=\"\",\"\",TDPrimas_!J69)","v":100},{"$f":"IF(TDPrimas_!K69=\"\",\"\",TDPrimas_!K69)","v":4.8312133031775117E-2}]
[null,{"$f":"IF(TDPrimas_!A70=\"\",\"\",TDPrimas_!A70)","v":62},{"$f":"IF(TDPrimas_!B70=\"\",\"\",TDPrimas_!B70)","v":"Coface"},{"$f":"IF(TDPrimas_!C70=\"\",\"\",TDPrimas_!C70)","v":100488.68275000001},{"$f":"IF(TDPrimas_!D70=\"\",\"\",TDPrimas_!D70)","v":113603.52506},{"$f":"IF(TDPrimas_!E70=\"\",\"\",TDPrimas_!E70)","v":4.6109544931561351E-2},{"$f":"IF(TDPrimas_!F70=\"\",\"\",TDPrimas_!F70)","v":5.9300990357113809E-2},{"$f":"IF(TDPrimas_!G70=\"\",\"\",TDPrimas_!G70)","v":-13114.842309999993},{"$f":"IF(TDPrimas_!H70=\"\",\"\",TDPrimas_!H70)","v":-11.544397326644006},{"$f":"IF(TDPrimas_!I70=\"\",\"\",TDPrimas_!I70)","v":100},{"$f":"IF(TDPrimas_!J70=\"\",\"\",TDPrimas_!J70)","v":100},{"$f":"IF(TDPrimas_!K70=\"\",\"\",TDPrimas_!K70)","v":4.6109544931561351E-2}]
[null,{"$f":"IF(TDPrimas_!A71=\"\",\"\",TDPrimas_!A71)","v":63},{"$f":"IF(TDPrimas_!B71=\"\",\"\",TDPrimas_!B71)","v":"Patrimonial Daños"},{"$f":"IF(TDPrimas_!C71=\"\",\"\",TDPrimas_!C71)","v":72046.591060000006},{"$f":"IF(TDPrimas_!D71=\"\",\"\",TDPrimas_!D71)","v":52090.999960000001},{"$f":"IF(TDPrimas_!E71=\"\",\"\",TDPrimas_!E71)","v":3.3058802610753661E-2},{"$f":"IF(TDPrimas_!F71=\"\",\"\",TDPrimas_!F71)","v":2.7191479178915328E-2},{"$f":"IF(TDPrimas_!G71=\"\",\"\",TDPrimas_!G71)","v":19955.591100000005},{"$f":"IF(TDPrimas_!H71=\"\",\"\",TDPrimas_!H71)","v":38.309095842513386},{"$f":"IF(TDPrimas_!I71=\"\",\"\",TDPrimas_!I71)","v":100},{"$f":"IF(TDPrimas_!J71=\"\",\"\",TDPrimas_!J71)","v":100},{"$f":"IF(TDPrimas_!K71=\"\",\"\",TDPrimas_!K71)","v":3.3058802610753661E-2}]
[null,{"$f":"IF(TDPrimas_!A72=\"\",\"\",TDPrimas_!A72)","v":64},{"$f":"IF(TDPrimas_!B72=\"\",\"\",TDPrimas_!B72)","v":"Assurant Daños"},{"$f":"IF(TDPrimas_!C72=\"\",\"\",TDPrimas_!C72)","v":65408.41517},{"$f":"IF(TDPrimas_!D72=\"\",\"\",TDPrimas_!D72)","v":62049.409500000002},{"$f":"IF(TDPrimas_!E72=\"\",\"\",TDPrimas_!E72)","v":3.0012854936973827E-2},{"$f":"IF(TDPrimas_!F72=\"\",\"\",TDPrimas_!F72)","v":3.2389764600004443E-2},{"$f":"IF(TDPrimas_!G72=\"\",\"\",TDPrimas_!G72)","v":3359.0056699999986},{"$f":"IF(TDPrimas_!H72=\"\",\"\",TDPrimas_!H72)","v":5.4134369642953706},{"$f":"IF(TDPrimas_!I72=\"\",\"\",TDPrimas_!I72)","v":100},{"$f":"IF(TDPrimas_!J72=\"\",\"\",TDPrimas_!J72)","v":100},{"$f":"IF(TDPrimas_!K72=\"\",\"\",TDPrimas_!K72)","v":3.0012854936973827E-2}]
[null,{"$f":"IF(TDPrimas_!A73=\"\",\"\",TDPrimas_!A73)","v":65},{"$f":"IF(TDPrimas_!B73=\"\",\"\",TDPrimas_!B73)","v":"MediAccess"},{"$f":"IF(TDPrimas_!C73=\"\",\"\",TDPrimas_!C73)","v":51745.073490000002},{"$f":"IF(TDPrimas_!D73=\"\",\"\",TDPrimas_!D73)","v":36238.523000000001},{"$f":"IF(TDPrimas_!E73=\"\",\"\",TDPrimas_!E73)","v":2.3743388068982317E-2},{"$f":"IF(TDPrimas_!F73=\"\",\"\",TDPrimas_!F73)","v":1.8916493144416575E-2},{"$f":"IF(TDPrimas_!G73=\"\",\"\",TDPrimas_!G73)","v":15506.550490000001},{"$f":"IF(TDPrimas_!H73=\"\",\"\",TDPrimas_!H73)","v":42.790238691571389},{"$f":"IF(TDPrimas_!I73=\"\",\"\",TDPrimas_!I73)","v":100},{"$f":"IF(TDPrimas_!J73=\"\",\"\",TDPrimas_!J73)","v":100},{"$f":"IF(TDPrimas_!K73=\"\",\"\",TDPrimas_!K73)","v":2.3743388068982317E-2}]
[null,{"$f":"IF(TDPrimas_!A74=\"\",\"\",TDPrimas_!A74)","v":66},{"$f":"IF(TDPrimas_!B74=\"\",\"\",TDPrimas_!B74)","v":"Centauro"},{"$f":"IF(TDPrimas_!C74=\"\",\"\",TDPrimas_!C74)","v":43790.384579999998},{"$f":"IF(TDPrimas_!D74=\"\",\"\",TDPrimas_!D74)","v":34971.827230000003},{"$f":"IF(TDPrimas_!E74=\"\",\"\",TDPrimas_!E74)","v":2.0093354297271462E-2},{"$f":"IF(TDPrimas_!F74=\"\",\"\",TDPrimas_!F74)","v":1.8255278506908685E-2},{"$f":"IF(TDPrimas_!G74=\"\",\"\",TDPrimas_!G74)","v":8818.5573499999955},{"$f":"IF(TDPrimas_!H74=\"\",\"\",TDPrimas_!H74)","v":25.216175557550336},{"$f":"IF(TDPrimas_!I74=\"\",\"\",TDPrimas_!I74)","v":100},{"$f":"IF(TDPrimas_!J74=\"\",\"\",TDPrimas_!J74)","v":100},{"$f":"IF(TDPrimas_!K74=\"\",\"\",TDPrimas_!K74)","v":2.0093354297271462E-2}]
[null,{"$f":"IF(TDPrimas_!A75=\"\",\"\",TDPrimas_!A75)","v":67},{"$f":"IF(TDPrimas_!B75=\"\",\"\",TDPrimas_!B75)","v":"Odontoprev"},{"$f":"IF(TDPrimas_!C75=\"\",\"\",TDPrimas_!C75)","v":38116.885219999996},{"$f":"IF(TDPrimas_!D75=\"\",\"\",TDPrimas_!D75)","v":11515.85694},{"$f":"IF(TDPrimas_!E75=\"\",\"\",TDPrimas_!E75)","v":1.7490051452612523E-2},{"$f":"IF(TDPrimas_!F75=\"\",\"\",TDPrimas_!F75)","v":6.0112722821951672E-3},{"$f":"IF(TDPrimas_!G75=\"\",\"\",TDPrimas_!G75)","v":26601.028279999999},{"$f":"IF(TDPrimas_!H75=\"\",\"\",TDPrimas_!H75)","v":230.99477892610912},{"$f":"IF(TDPrimas_!I75=\"\",\"\",TDPrimas_!I75)","v":100},{"$f":"IF(TDPrimas_!J75=\"\",\"\",TDPrimas_!J75)","v":100},{"$f":"IF(TDPrimas_!K75=\"\",\"\",TDPrimas_!K75)","v":1.7490051452612523E-2}]
[null,{"$f":"IF(TDPrimas_!A76=\"\",\"\",TDPrimas_!A76)","v":68},{"$f":"IF(TDPrimas_!B76=\"\",\"\",TDPrimas_!B76)","v":"Virginia Surety"},{"$f":"IF(TDPrimas_!C76=\"\",\"\",TDPrimas_!C76)","v":35687.971720000001},{"$f":"IF(TDPrimas_!D76=\"\",\"\",TDPrimas_!D76)","v":21965.67771},{"$f":"IF(TDPrimas_!E76=\"\",\"\",TDPrimas_!E76)","v":1.6375536931193684E-2},{"$f":"IF(TDPrimas_!F76=\"\",\"\",TDPrimas_!F76)","v":1.1466074150253833E-2},{"$f":"IF(TDPrimas_!G76=\"\",\"\",TDPrimas_!G76)","v":13722.294010000001},{"$f":"IF(TDPrimas_!H76=\"\",\"\",TDPrimas_!H76)","v":62.471525764729073},{"$f":"IF(TDPrimas_!I76=\"\",\"\",TDPrimas_!I76)","v":100},{"$f":"IF(TDPrimas_!J76=\"\",\"\",TDPrimas_!J76)","v":100},{"$f":"IF(TDPrimas_!K76=\"\",\"\",TDPrimas_!K76)","v":1.6375536931193684E-2}]
[null,{"$f":"IF(TDPrimas_!A77=\"\",\"\",TDPrimas_!A77)","v":69},{"$f":"IF(TDPrimas_!B77=\"\",\"\",TDPrimas_!B77)","v":"Genworth Seg. de Crédito"},{"$f":"IF(TDPrimas_!C77=\"\",\"\",TDPrimas_!C77)","v":25310.37225},{"$f":"IF(TDPrimas_!D77=\"\",\"\",TDPrimas_!D77)","v":17312.381519999999},{"$f":"IF(TDPrimas_!E77=\"\",\"\",TDPrimas_!E77)","v":1.1613743105771965E-2},{"$f":"IF(TDPrimas_!F77=\"\",\"\",TDPrimas_!F77)","v":9.0370555758192521E-3},{"$f":"IF(TDPrimas_!G77=\"\",\"\",TDPrimas_!G77)","v":7997.9907300000013},{"$f":"IF(TDPrimas_!H77=\"\",\"\",TDPrimas_!H77)","v":46.198096551652256},{"$f":"IF(TDPrimas_!I77=\"\",\"\",TDPrimas_!I77)","v":100},{"$f":"IF(TDPrimas_!J77=\"\",\"\",TDPrimas_!J77)","v":100},{"$f":"IF(TDPrimas_!K77=\"\",\"\",TDPrimas_!K77)","v":1.1613743105771965E-2}]
[null,{"$f":"IF(TDPrimas_!A78=\"\",\"\",TDPrimas_!A78)","v":70},{"$f":"IF(TDPrimas_!B78=\"\",\"\",TDPrimas_!B78)","v":"Metlife Más"},{"$f":"IF(TDPrimas_!C78=\"\",\"\",TDPrimas_!C78)","v":24612.720120000002},{"$f":"IF(TDPrimas_!D78=\"\",\"\",TDPrimas_!D78)","v":24682.470740000001},{"$f":"IF(TDPrimas_!E78=\"\",\"\",TDPrimas_!E78)","v":1.1293623253918951E-2},{"$f":"IF(TDPrimas_!F78=\"\",\"\",TDPrimas_!F78)","v":1.2884238922774882E-2},{"$f":"IF(TDPrimas_!G78=\"\",\"\",TDPrimas_!G78)","v":-69.750619999998889},{"$f":"IF(TDPrimas_!H78=\"\",\"\",TDPrimas_!H78)","v":-0.28259172566125201},{"$f":"IF(TDPrimas_!I78=\"\",\"\",TDPrimas_!I78)","v":100},{"$f":"IF(TDPrimas_!J78=\"\",\"\",TDPrimas_!J78)","v":100},{"$f":"IF(TDPrimas_!K78=\"\",\"\",TDPrimas_!K78)","v":1.1293623253918951E-2}]
[null,{"$f":"IF(TDPrimas_!A79=\"\",\"\",TDPrimas_!A79)","v":71},{"$f":"IF(TDPrimas_!B79=\"\",\"\",TDPrimas_!B79)","v":"Crabi"},{"$f":"IF(TDPrimas_!C79=\"\",\"\",TDPrimas_!C79)","v":19789.335219999997},{"$f":"IF(TDPrimas_!D79=\"\",\"\",TDPrimas_!D79)","v":9202.3035099999997},{"$f":"IF(TDPrimas_!E79=\"\",\"\",TDPrimas_!E79)","v":9.0803980758949639E-3},{"$f":"IF(TDPrimas_!F79=\"\",\"\",TDPrimas_!F79)","v":4.8035984043763484E-3},{"$f":"IF(TDPrimas_!G79=\"\",\"\",TDPrimas_!G79)","v":10587.031709999997},{"$f":"IF(TDPrimas_!H79=\"\",\"\",TDPrimas_!H79)","v":115.04762583080677},{"$f":"IF(TDPrimas_!I79=\"\",\"\",TDPrimas_!I79)","v":100},{"$f":"IF(TDPrimas_!J79=\"\",\"\",TDPrimas_!J79)","v":100},{"$f":"IF(TDPrimas_!K79=\"\",\"\",TDPrimas_!K79)","v":9.0803980758949639E-3}]
[null,{"$f":"IF(TDPrimas_!A80=\"\",\"\",TDPrimas_!A80)","v":72},{"$f":"IF(TDPrimas_!B80=\"\",\"\",TDPrimas_!B80)","v":"SPT"},{"$f":"IF(TDPrimas_!C80=\"\",\"\",TDPrimas_!C80)","v":10270.491199999999},{"$f":"IF(TDPrimas_!D80=\"\",\"\",TDPrimas_!D80)","v":7691.1133600000003},{"$f":"IF(TDPrimas_!E80=\"\",\"\",TDPrimas_!E80)","v":4.7126468622717159E-3},{"$f":"IF(TDPrimas_!F80=\"\",\"\",TDPrimas_!F80)","v":4.0147578075235228E-3},{"$f":"IF(TDPrimas_!G80=\"\",\"\",TDPrimas_!G80)","v":2579.3778399999983},{"$f":"IF(TDPrimas_!H80=\"\",\"\",TDPrimas_!H80)","v":33.537119000414762},{"$f":"IF(TDPrimas_!I80=\"\",\"\",TDPrimas_!I80)","v":100},{"$f":"IF(TDPrimas_!J80=\"\",\"\",TDPrimas_!J80)","v":100},{"$f":"IF(TDPrimas_!K80=\"\",\"\",TDPrimas_!K80)","v":4.7126468622717159E-3}]
[null,{"$f":"IF(TDPrimas_!A81=\"\",\"\",TDPrimas_!A81)","v":73},{"$f":"IF(TDPrimas_!B81=\"\",\"\",TDPrimas_!B81)","v":"Citibanamex Pensiones"},{"$f":"IF(TDPrimas_!C81=\"\",\"\",TDPrimas_!C81)","v":1390.5081499999999},{"$f":"IF(TDPrimas_!D81=\"\",\"\",TDPrimas_!D81)","v":11250.8117},{"$f":"IF(TDPrimas_!E81=\"\",\"\",TDPrimas_!E81)","v":6.3803899370078307E-4},{"$f":"IF(TDPrimas_!F81=\"\",\"\",TDPrimas_!F81)","v":5.872918782925337E-3},{"$f":"IF(TDPrimas_!G81=\"\",\"\",TDPrimas_!G81)","v":-9860.3035500000005},{"$f":"IF(TDPrimas_!H81=\"\",\"\",TDPrimas_!H81)","v":-87.640819284176629},{"$f":"IF(TDPrimas_!I81=\"\",\"\",TDPrimas_!I81)","v":100},{"$f":"IF(TDPrimas_!J81=\"\",\"\",TDPrimas_!J81)","v":100},{"$f":"IF(TDPrimas_!K81=\"\",\"\",TDPrimas_!K81)","v":6.3803899370078307E-4}]
[null,{"$f":"IF(TDPrimas_!A82=\"\",\"\",TDPrimas_!A82)","v":74},{"$f":"IF(TDPrimas_!B82=\"\",\"\",TDPrimas_!B82)","v":"Metlife Pensiones"},{"$f":"IF(TDPrimas_!C82=\"\",\"\",TDPrimas_!C82)","v":1096.47702},{"$f":"IF(TDPrimas_!D82=\"\",\"\",TDPrimas_!D82)","v":15732.58835},{"$f":"IF(TDPrimas_!E82=\"\",\"\",TDPrimas_!E82)","v":5.0312189429226539E-4},{"$f":"IF(TDPrimas_!F82=\"\",\"\",TDPrimas_!F82)","v":8.212404232553934E-3},{"$f":"IF(TDPrimas_!G82=\"\",\"\",TDPrimas_!G82)","v":-14636.11133},{"$f":"IF(TDPrimas_!H82=\"\",\"\",TDPrimas_!H82)","v":-93.030536389773403},{"$f":"IF(TDPrimas_!I82=\"\",\"\",TDPrimas_!I82)","v":100},{"$f":"IF(TDPrimas_!J82=\"\",\"\",TDPrimas_!J82)","v":100},{"$f":"IF(TDPrimas_!K82=\"\",\"\",TDPrimas_!K82)","v":5.0312189429226539E-4}]
[null,{"$f":"IF(TDPrimas_!A83=\"\",\"\",TDPrimas_!A83)","v":75},{"$f":"IF(TDPrimas_!B83=\"\",\"\",TDPrimas_!B83)","v":"Pensiones Inbursa"},{"$f":"IF(TDPrimas_!C83=\"\",\"\",TDPrimas_!C83)","v":91.470590000000001},{"$f":"IF(TDPrimas_!D83=\"\",\"\",TDPrimas_!D83)","v":0},{"$f":"IF(TDPrimas_!E83=\"\",\"\",TDPrimas_!E83)","v":4.1971564997168065E-5},{"$f":"IF(TDPrimas_!F83=\"\",\"\",TDPrimas_!F83)","v":""},{"$f":"IF(TDPrimas_!G83=\"\",\"\",TDPrimas_!G83)","v":""},{"$f":"IF(TDPrimas_!H83=\"\",\"\",TDPrimas_!H83)","v":""},{"$f":"IF(TDPrimas_!I83=\"\",\"\",TDPrimas_!I83)","v":100},{"$f":"IF(TDPrimas_!J83=\"\",\"\",TDPrimas_!J83)","v":100},{"$f":"IF(TDPrimas_!K83=\"\",\"\",TDPrimas_!K83)","v":4.1971564997168065E-5}]
[null,{"$f":"IF(TDPrimas_!A84=\"\",\"\",TDPrimas_!A84)","v":76},{"$f":"IF(TDPrimas_!B84=\"\",\"\",TDPrimas_!B84)","v":"Aserta Seguros de Vida"},{"$f":"IF(TDPrimas_!C84=\"\",\"\",TDPrimas_!C84)","v":0},{"$f":"IF(TDPrimas_!D84=\"\",\"\",TDPrimas_!D84)","v":105.39552999999999},{"$f":"IF(TDPrimas_!E84=\"\",\"\",TDPrimas_!E84)","v":""},{"$f":"IF(TDPrimas_!F84=\"\",\"\",TDPrimas_!F84)","v":5.501642052842914E-5},{"$f":"IF(TDPrimas_!G84=\"\",\"\",TDPrimas_!G84)","v":""},{"$f":"IF(TDPrimas_!H84=\"\",\"\",TDPrimas_!H84)","v":""},{"$f":"IF(TDPrimas_!I84=\"\",\"\",TDPrimas_!I84)","v":""},{"$f":"IF(TDPrimas_!J84=\"\",\"\",TDPrimas_!J84)","v":""},{"$f":"IF(TDPrimas_!K84=\"\",\"\",TDPrimas_!K84)","v":""}]
[null,{"$f":"IF(TDPrimas_!A85=\"\",\"\",TDPrimas_!A85)","v":76},{"$f":"IF(TDPrimas_!B85=\"\",\"\",TDPrimas_!B85)","v":"Principal México"},{"$f":"IF(TDPrimas_!C85=\"\",\"\",TDPrimas_!C85)","v":0},{"$f":"IF(TDPrimas_!D85=\"\",\"\",TDPrimas_!D85)","v":0},{"$f":"IF(TDPrimas_!E85=\"\",\"\",TDPrimas_!E85)","v":""},{"$f":"IF(TDPrimas_!F85=\"\",\"\",TDPrimas_!F85)","v":""},{"$f":"IF(TDPrimas_!G85=\"\",\"\",TDPrimas_!G85)","v":""},{"$f":"IF(TDPrimas_!H85=\"\",\"\",TDPrimas_!H85)","v":""},{"$f":"IF(TDPrimas_!I85=\"\",\"\",TDPrimas_!I85)","v":""},{"$f":"IF(TDPrimas_!J85=\"\",\"\",TDPrimas_!J85)","v":""},{"$f":"IF(TDPrimas_!K85=\"\",\"\",TDPrimas_!K85)","v":""}]
[null,{"$f":"IF(TDPrimas_!A86=\"\",\"\",TDPrimas_!A86)","v":76},{"$f":"IF(TDPrimas_!B86=\"\",\"\",TDPrimas_!B86)","v":"Zurich Daños"},{"$f":"IF(TDPrimas_!C86=\"\",\"\",TDPrimas_!C86)","v":0},{"$f":"IF(TDPrimas_!D86=\"\",\"\",TDPrimas_!D86)","v":2212646.45909},{"$f":"IF(TDPrimas_!E86=\"\",\"\",TDPrimas_!E86)","v":""},{"$f":"IF(TDPrimas_!F86=\"\",\"\",TDPrimas_!F86)","v":1.1550004831707297},{"$f":"IF(TDPrimas_!G86=\"\",\"\",TDPrimas_!G86)","v":""},{"$f":"IF(TDPrimas_!H86=\"\",\"\",TDPrimas_!H86)","v":""},{"$f":"IF(TDPrimas_!I86=\"\",\"\",TDPrimas_!I86)","v":""},{"$f":"IF(TDPrimas_!J86=\"\",\"\",TDPrimas_!J86)","v":""},{"$f":"IF(TDPrimas_!K86=\"\",\"\",TDPrimas_!K86)","v":""}]
[null,{"$f":"IF(TDPrimas_!A87=\"\",\"\",TDPrimas_!A87)","v":76},{"$f":"IF(TDPrimas_!B87=\"\",\"\",TDPrimas_!B87)","v":"Zurich Vida"},{"$f":"IF(TDPrimas_!C87=\"\",\"\",TDPrimas_!C87)","v":0},{"$f":"IF(TDPrimas_!D87=\"\",\"\",TDPrimas_!D87)","v":451904.69863},{"$f":"IF(TDPrimas_!E87=\"\",\"\",TDPrimas_!E87)","v":""},{"$f":"IF(TDPrimas_!F87=\"\",\"\",TDPrimas_!F87)","v":0.23589405488639906},{"$f":"IF(TDPrimas_!G87=\"\",\"\",TDPrimas_!G87)","v":""},{"$f":"IF(TDPrimas_!H87=\"\",\"\",TDPrimas_!H87)","v":""},{"$f":"IF(TDPrimas_!I87=\"\",\"\",TDPrimas_!I87)","v":""},{"$f":"IF(TDPrimas_!J87=\"\",\"\",TDPrimas_!J87)","v":""},{"$f":"IF(TDPrimas_!K87=\"\",\"\",TDPrimas_!K87)","v":""}]
[null,{"$f":"IF(TDPrimas_!A88=\"\",\"\",TDPrimas_!A88)","v":81},{"$f":"IF(TDPrimas_!B88=\"\",\"\",TDPrimas_!B88)","v":"Quálitas Salud"},{"$f":"IF(TDPrimas_!C88=\"\",\"\",TDPrimas_!C88)","v":-25.390689999999999},{"$f":"IF(TDPrimas_!D88=\"\",\"\",TDPrimas_!D88)","v":0},{"$f":"IF(TDPrimas_!E88=\"\",\"\",TDPrimas_!E88)","v":-1.165059715541296E-5},{"$f":"IF(TDPrimas_!F88=\"\",\"\",TDPrimas_!F88)","v":""},{"$f":"IF(TDPrimas_!G88=\"\",\"\",TDPrimas_!G88)","v":""},{"$f":"IF(TDPrimas_!H88=\"\",\"\",TDPrimas_!H88)","v":""},{"$f":"IF(TDPrimas_!I88=\"\",\"\",TDPrimas_!I88)","v":100},{"$f":"IF(TDPrimas_!J88=\"\",\"\",TDPrimas_!J88)","v":100},{"$f":"IF(TDPrimas_!K88=\"\",\"\",TDPrimas_!K88)","v":-1.165059715541296E-5}]
[null,{"$f":"IF(TDPrimas_!A89=\"\",\"\",TDPrimas_!A89)","v":150.1},{"$f":"IF(TDPrimas_!B89=\"\",\"\",TDPrimas_!B89)","v":"TOTAL RESTO"},{"$f":"IF(TDPrimas_!C89=\"\",\"\",TDPrimas_!C89)","v":47834051.196780011},{"$f":"IF(TDPrimas_!D89=\"\",\"\",TDPrimas_!D89)","v":45472018.993800022},{"$f":"IF(TDPrimas_!E89=\"\",\"\",TDPrimas_!E89)","v":21.948803313540637},{"$f":"IF(TDPrimas_!F89=\"\",\"\",TDPrimas_!F89)","v":23.736374011683601},{"$f":"IF(TDPrimas_!G89=\"\",\"\",TDPrimas_!G89)","v":2362032.2029799893},{"$f":"IF(TDPrimas_!H89=\"\",\"\",TDPrimas_!H89)","v":5.1944739979591592},{"$f":"IF(TDPrimas_!I89=\"\",\"\",TDPrimas_!I89)","v":100},{"$f":"IF(TDPrimas_!J89=\"\",\"\",TDPrimas_!J89)","v":100},{"$f":"IF(TDPrimas_!K89=\"\",\"\",TDPrimas_!K89)","v":21.948803313540637}]
[null,{"$f":"IF(TDPrimas_!A90=\"\",\"\",TDPrimas_!A90)","v":200},{"$f":"IF(TDPrimas_!B90=\"\",\"\",TDPrimas_!B90)","v":"Patria"},{"$f":"IF(TDPrimas_!C90=\"\",\"\",TDPrimas_!C90)","v":0},{"$f":"IF(TDPrimas_!D90=\"\",\"\",TDPrimas_!D90)","v":0},{"$f":"IF(TDPrimas_!E90=\"\",\"\",TDPrimas_!E90)","v":""},{"$f":"IF(TDPrimas_!F90=\"\",\"\",TDPrimas_!F90)","v":""},{"$f":"IF(TDPrimas_!G90=\"\",\"\",TDPrimas_!G90)","v":""},{"$f":"IF(TDPrimas_!H90=\"\",\"\",TDPrimas_!H90)","v":""},{"$f":"IF(TDPrimas_!I90=\"\",\"\",TDPrimas_!I90)","v":""},{"$f":"IF(TDPrimas_!J90=\"\",\"\",TDPrimas_!J90)","v":""},{"$f":"IF(TDPrimas_!K90=\"\",\"\",TDPrimas_!K90)","v":""}]
[null,{"$f":"IF(TDPrimas_!A91=\"\",\"\",TDPrimas_!A91)","v":201.1},{"$f":"IF(TDPrimas_!B91=\"\",\"\",TDPrimas_!B91)","v":"TOTAL"},{"$f":"IF(TDPrimas_!C91=\"\",\"\",TDPrimas_!C91)","v":217934666.02012995},{"$f":"IF(TDPrimas_!D91=\"\",\"\",TDPrimas_!D91)","v":191571041.85928997},{"$f":"IF(TDPrimas_!E91=\"\",\"\",TDPrimas_!E91)","v":99.999999999999986},{"$f":"IF(TDPrimas_!F91=\"\",\"\",TDPrimas_!F91)","v":100},{"$f":"IF(TDPrimas_!G91=\"\",\"\",TDPrimas_!G91)","v":26363624.160839975},{"$f":"IF(TDPrimas_!H91=\"\",\"\",TDPrimas_!H91)","v":13.761800272613334},{"$f":"IF(TDPrimas_!I91=\"\",\"\",TDPrimas_!I91)","v":100},{"$f":"IF(TDPrimas_!J91=\"\",\"\",TDPrimas_!J91)","v":100},{"$f":"IF(TDPrimas_!K91=\"\",\"\",TDPrimas_!K91)","v":99.999999999999986}]
[null,{"$f":"IF(TDPrimas_!A92=\"\",\"\",TDPrimas_!A92)","v":""},{"$f":"IF(TDPrimas_!B92=\"\",\"\",TDPrimas_!B92)","v":""},{"$f":"IF(TDPrimas_!C92=\"\",\"\",TDPrimas_!C92)","v":""},{"$f":"IF(TDPrimas_!D92=\"\",\"\",TDPrimas_!D92)","v":""},{"$f":"IF(TDPrimas_!E92=\"\",\"\",TDPrimas_!E92)","v":""},{"$f":"IF(TDPrimas_!F92=\"\",\"\",TDPrimas_!F92)","v":""},{"$f":"IF(TDPrimas_!G92=\"\",\"\",TDPrimas_!G92)","v":""},{"$f":"IF(TDPrimas_!H92=\"\",\"\",TDPrimas_!H92)","v":""},{"$f":"IF(TDPrimas_!I92=\"\",\"\",TDPrimas_!I92)","v":""},{"$f":"IF(TDPrimas_!J92=\"\",\"\",TDPrimas_!J92)","v":""},{"$f":"IF(TDPrimas_!K92=\"\",\"\",TDPrimas_!K92)","v":""}]
[null,{"$f":"IF(TDPrimas_!A93=\"\",\"\",TDPrimas_!A93)","v":""},{"$f":"IF(TDPrimas_!B93=\"\",\"\",TDPrimas_!B93)","v":""},{"$f":"IF(TDPrimas_!C93=\"\",\"\",TDPrimas_!C93)","v":""},{"$f":"IF(TDPrimas_!D93=\"\",\"\",TDPrimas_!D93)","v":""},{"$f":"IF(TDPrimas_!E93=\"\",\"\",TDPrimas_!E93)","v":""},{"$f":"IF(TDPrimas_!F93=\"\",\"\",TDPrimas_!F93)","v":""},{"$f":"IF(TDPrimas_!G93=\"\",\"\",TDPrimas_!G93)","v":""},{"$f":"IF(TDPrimas_!H93=\"\",\"\",TDPrimas_!H93)","v":""},{"$f":"IF(TDPrimas_!I93=\"\",\"\",TDPrimas_!I93)","v":""},{"$f":"IF(TDPrimas_!J93=\"\",\"\",TDPrimas_!J93)","v":""},{"$f":"IF(TDPrimas_!K93=\"\",\"\",TDPrimas_!K93)","v":""}]
[null,{"$f":"IF(TDPrimas_!A94=\"\",\"\",TDPrimas_!A94)","v":""},{"$f":"IF(TDPrimas_!B94=\"\",\"\",TDPrimas_!B94)","v":""},{"$f":"IF(TDPrimas_!C94=\"\",\"\",TDPrimas_!C94)","v":""},{"$f":"IF(TDPrimas_!D94=\"\",\"\",TDPrimas_!D94)","v":""},{"$f":"IF(TDPrimas_!E94=\"\",\"\",TDPrimas_!E94)","v":""},{"$f":"IF(TDPrimas_!F94=\"\",\"\",TDPrimas_!F94)","v":""},{"$f":"IF(TDPrimas_!G94=\"\",\"\",TDPrimas_!G94)","v":""},{"$f":"IF(TDPrimas_!H94=\"\",\"\",TDPrimas_!H94)","v":""},{"$f":"IF(TDPrimas_!I94=\"\",\"\",TDPrimas_!I94)","v":""},{"$f":"IF(TDPrimas_!J94=\"\",\"\",TDPrimas_!J94)","v":""},{"$f":"IF(TDPrimas_!K94=\"\",\"\",TDPrimas_!K94)","v":""}]
[null,{"$f":"IF(TDPrimas_!A95=\"\",\"\",TDPrimas_!A95)","v":""},{"$f":"IF(TDPrimas_!B95=\"\",\"\",TDPrimas_!B95)","v":""},{"$f":"IF(TDPrimas_!C95=\"\",\"\",TDPrimas_!C95)","v":""},{"$f":"IF(TDPrimas_!D95=\"\",\"\",TDPrimas_!D95)","v":""},{"$f":"IF(TDPrimas_!E95=\"\",\"\",TDPrimas_!E95)","v":""},{"$f":"IF(TDPrimas_!F95=\"\",\"\",TDPrimas_!F95)","v":""},{"$f":"IF(TDPrimas_!G95=\"\",\"\",TDPrimas_!G95)","v":""},{"$f":"IF(TDPrimas_!H95=\"\",\"\",TDPrimas_!H95)","v":""},{"$f":"IF(TDPrimas_!I95=\"\",\"\",TDPrimas_!I95)","v":""},{"$f":"IF(TDPrimas_!J95=\"\",\"\",TDPrimas_!J95)","v":""},{"$f":"IF(TDPrimas_!K95=\"\",\"\",TDPrimas_!K95)","v":""}]
[null,{"$f":"IF(TDPrimas_!A96=\"\",\"\",TDPrimas_!A96)","v":""},{"$f":"IF(TDPrimas_!B96=\"\",\"\",TDPrimas_!B96)","v":""},{"$f":"IF(TDPrimas_!C96=\"\",\"\",TDPrimas_!C96)","v":""},{"$f":"IF(TDPrimas_!D96=\"\",\"\",TDPrimas_!D96)","v":""},{"$f":"IF(TDPrimas_!E96=\"\",\"\",TDPrimas_!E96)","v":""},{"$f":"IF(TDPrimas_!F96=\"\",\"\",TDPrimas_!F96)","v":""},{"$f":"IF(TDPrimas_!G96=\"\",\"\",TDPrimas_!G96)","v":""},{"$f":"IF(TDPrimas_!H96=\"\",\"\",TDPrimas_!H96)","v":""},{"$f":"IF(TDPrimas_!I96=\"\",\"\",TDPrimas_!I96)","v":""},{"$f":"IF(TDPrimas_!J96=\"\",\"\",TDPrimas_!J96)","v":""},{"$f":"IF(TDPrimas_!K96=\"\",\"\",TDPrimas_!K96)","v":""}]
[null,{"$f":"IF(TDPrimas_!A97=\"\",\"\",TDPrimas_!A97)","v":""},{"$f":"IF(TDPrimas_!B97=\"\",\"\",TDPrimas_!B97)","v":""},{"$f":"IF(TDPrimas_!C97=\"\",\"\",TDPrimas_!C97)","v":""},{"$f":"IF(TDPrimas_!D97=\"\",\"\",TDPrimas_!D97)","v":""},{"$f":"IF(TDPrimas_!E97=\"\",\"\",TDPrimas_!E97)","v":""},{"$f":"IF(TDPrimas_!F97=\"\",\"\",TDPrimas_!F97)","v":""},{"$f":"IF(TDPrimas_!G97=\"\",\"\",TDPrimas_!G97)","v":""},{"$f":"IF(TDPrimas_!H97=\"\",\"\",TDPrimas_!H97)","v":""},{"$f":"IF(TDPrimas_!I97=\"\",\"\",TDPrimas_!I97)","v":""},{"$f":"IF(TDPrimas_!J97=\"\",\"\",TDPrimas_!J97)","v":""},{"$f":"IF(TDPrimas_!K97=\"\",\"\",TDPrimas_!K97)","v":""}]
[null,{"$f":"IF(TDPrimas_!A98=\"\",\"\",TDPrimas_!A98)","v":""},{"$f":"IF(TDPrimas_!B98=\"\",\"\",TDPrimas_!B98)","v":""},{"$f":"IF(TDPrimas_!C98=\"\",\"\",TDPrimas_!C98)","v":""},{"$f":"IF(TDPrimas_!D98=\"\",\"\",TDPrimas_!D98)","v":""},{"$f":"IF(TDPrimas_!E98=\"\",\"\",TDPrimas_!E98)","v":""},{"$f":"IF(TDPrimas_!F98=\"\",\"\",TDPrimas_!F98)","v":""},{"$f":"IF(TDPrimas_!G98=\"\",\"\",TDPrimas_!G98)","v":""},{"$f":"IF(TDPrimas_!H98=\"\",\"\",TDPrimas_!H98)","v":""},{"$f":"IF(TDPrimas_!I98=\"\",\"\",TDPrimas_!I98)","v":""},{"$f":"IF(TDPrimas_!J98=\"\",\"\",TDPrimas_!J98)","v":""},{"$f":"IF(TDPrimas_!K98=\"\",\"\",TDPrimas_!K98)","v":""}]
[null,{"$f":"IF(TDPrimas_!A99=\"\",\"\",TDPrimas_!A99)","v":""},{"$f":"IF(TDPrimas_!B99=\"\",\"\",TDPrimas_!B99)","v":""},{"$f":"IF(TDPrimas_!C99=\"\",\"\",TDPrimas_!C99)","v":""},{"$f":"IF(TDPrimas_!D99=\"\",\"\",TDPrimas_!D99)","v":""},{"$f":"IF(TDPrimas_!E99=\"\",\"\",TDPrimas_!E99)","v":""},{"$f":"IF(TDPrimas_!F99=\"\",\"\",TDPrimas_!F99)","v":""},{"$f":"IF(TDPrimas_!G99=\"\",\"\",TDPrimas_!G99)","v":""},{"$f":"IF(TDPrimas_!H99=\"\",\"\",TDPrimas_!H99)","v":""},{"$f":"IF(TDPrimas_!I99=\"\",\"\",TDPrimas_!I99)","v":""},{"$f":"IF(TDPrimas_!J99=\"\",\"\",TDPrimas_!J99)","v":""},{"$f":"IF(TDPrimas_!K99=\"\",\"\",TDPrimas_!K99)","v":""}]
[null,{"$f":"IF(TDPrimas_!A100=\"\",\"\",TDPrimas_!A100)","v":""},{"$f":"IF(TDPrimas_!B100=\"\",\"\",TDPrimas_!B100)","v":""},{"$f":"IF(TDPrimas_!C100=\"\",\"\",TDPrimas_!C100)","v":""},{"$f":"IF(TDPrimas_!D100=\"\",\"\",TDPrimas_!D100)","v":""},{"$f":"IF(TDPrimas_!E100=\"\",\"\",TDPrimas_!E100)","v":""},{"$f":"IF(TDPrimas_!F100=\"\",\"\",TDPrimas_!F100)","v":""},{"$f":"IF(TDPrimas_!G100=\"\",\"\",TDPrimas_!G100)","v":""},{"$f":"IF(TDPrimas_!H100=\"\",\"\",TDPrimas_!H100)","v":""},{"$f":"IF(TDPrimas_!I100=\"\",\"\",TDPrimas_!I100)","v":""},{"$f":"IF(TDPrimas_!J100=\"\",\"\",TDPrimas_!J100)","v":""},{"$f":"IF(TDPrimas_!K100=\"\",\"\",TDPrimas_!K100)","v":""}]
[null,{"$f":"IF(TDPrimas_!A101=\"\",\"\",TDPrimas_!A101)","v":""},{"$f":"IF(TDPrimas_!B101=\"\",\"\",TDPrimas_!B101)","v":""},{"$f":"IF(TDPrimas_!C101=\"\",\"\",TDPrimas_!C101)","v":""},{"$f":"IF(TDPrimas_!D101=\"\",\"\",TDPrimas_!D101)","v":""},{"$f":"IF(TDPrimas_!E101=\"\",\"\",TDPrimas_!E101)","v":""},{"$f":"IF(TDPrimas_!F101=\"\",\"\",TDPrimas_!F101)","v":""},{"$f":"IF(TDPrimas_!G101=\"\",\"\",TDPrimas_!G101)","v":""},{"$f":"IF(TDPrimas_!H101=\"\",\"\",TDPrimas_!H101)","v":""},{"$f":"IF(TDPrimas_!I101=\"\",\"\",TDPrimas_!I101)","v":""},{"$f":"IF(TDPrimas_!J101=\"\",\"\",TDPrimas_!J101)","v":""},{"$f":"IF(TDPrimas_!K101=\"\",\"\",TDPrimas_!K101)","v":""}]
[null,{"$f":"IF(TDPrimas_!A102=\"\",\"\",TDPrimas_!A102)","v":""},{"$f":"IF(TDPrimas_!B102=\"\",\"\",TDPrimas_!B102)","v":""},{"$f":"IF(TDPrimas_!C102=\"\",\"\",TDPrimas_!C102)","v":""},{"$f":"IF(TDPrimas_!D102=\"\",\"\",TDPrimas_!D102)","v":""},{"$f":"IF(TDPrimas_!E102=\"\",\"\",TDPrimas_!E102)","v":""},{"$f":"IF(TDPrimas_!F102=\"\",\"\",TDPrimas_!F102)","v":""},{"$f":"IF(TDPrimas_!G102=\"\",\"\",TDPrimas_!G102)","v":""},{"$f":"IF(TDPrimas_!H102=\"\",\"\",TDPrimas_!H102)","v":""},{"$f":"IF(TDPrimas_!I102=\"\",\"\",TDPrimas_!I102)","v":""},{"$f":"IF(TDPrimas_!J102=\"\",\"\",TDPrimas_!J102)","v":""},{"$f":"IF(TDPrimas_!K102=\"\",\"\",TDPrimas_!K102)","v":""}]
[null,{"$f":"IF(TDPrimas_!A103=\"\",\"\",TDPrimas_!A103)","v":""},{"$f":"IF(TDPrimas_!B103=\"\",\"\",TDPrimas_!B103)","v":""},{"$f":"IF(TDPrimas_!C103=\"\",\"\",TDPrimas_!C103)","v":""},{"$f":"IF(TDPrimas_!D103=\"\",\"\",TDPrimas_!D103)","v":""},{"$f":"IF(TDPrimas_!E103=\"\",\"\",TDPrimas_!E103)","v":""},{"$f":"IF(TDPrimas_!F103=\"\",\"\",TDPrimas_!F103)","v":""},{"$f":"IF(TDPrimas_!G103=\"\",\"\",TDPrimas_!G103)","v":""},{"$f":"IF(TDPrimas_!H103=\"\",\"\",TDPrimas_!H103)","v":""},{"$f":"IF(TDPrimas_!I103=\"\",\"\",TDPrimas_!I103)","v":""},{"$f":"IF(TDPrimas_!J103=\"\",\"\",TDPrimas_!J103)","v":""},{"$f":"IF(TDPrimas_!K103=\"\",\"\",TDPrimas_!K103)","v":""}]
[null,{"$f":"IF(TDPrimas_!A104=\"\",\"\",TDPrimas_!A104)","v":""},{"$f":"IF(TDPrimas_!B104=\"\",\"\",TDPrimas_!B104)","v":""},{"$f":"IF(TDPrimas_!C104=\"\",\"\",TDPrimas_!C104)","v":""},{"$f":"IF(TDPrimas_!D104=\"\",\"\",TDPrimas_!D104)","v":""},{"$f":"IF(TDPrimas_!E104=\"\",\"\",TDPrimas_!E104)","v":""},{"$f":"IF(TDPrimas_!F104=\"\",\"\",TDPrimas_!F104)","v":""},{"$f":"IF(TDPrimas_!G104=\"\",\"\",TDPrimas_!G104)","v":""},{"$f":"IF(TDPrimas_!H104=\"\",\"\",TDPrimas_!H104)","v":""},{"$f":"IF(TDPrimas_!I104=\"\",\"\",TDPrimas_!I104)","v":""},{"$f":"IF(TDPrimas_!J104=\"\",\"\",TDPrimas_!J104)","v":""},{"$f":"IF(TDPrimas_!K104=\"\",\"\",TDPrimas_!K104)","v":""}]
[null,{"$f":"IF(TDPrimas_!A105=\"\",\"\",TDPrimas_!A105)","v":""},{"$f":"IF(TDPrimas_!B105=\"\",\"\",TDPrimas_!B105)","v":""},{"$f":"IF(TDPrimas_!C105=\"\",\"\",TDPrimas_!C105)","v":""},{"$f":"IF(TDPrimas_!D105=\"\",\"\",TDPrimas_!D105)","v":""},{"$f":"IF(TDPrimas_!E105=\"\",\"\",TDPrimas_!E105)","v":""},{"$f":"IF(TDPrimas_!F105=\"\",\"\",TDPrimas_!F105)","v":""},{"$f":"IF(TDPrimas_!G105=\"\",\"\",TDPrimas_!G105)","v":""},{"$f":"IF(TDPrimas_!H105=\"\",\"\",TDPrimas_!H105)","v":""},{"$f":"IF(TDPrimas_!I105=\"\",\"\",TDPrimas_!I105)","v":""},{"$f":"IF(TDPrimas_!J105=\"\",\"\",TDPrimas_!J105)","v":""},{"$f":"IF(TDPrimas_!K105=\"\",\"\",TDPrimas_!K105)","v":""}]
[null,{"$f":"IF(TDPrimas_!A106=\"\",\"\",TDPrimas_!A106)","v":""},{"$f":"IF(TDPrimas_!B106=\"\",\"\",TDPrimas_!B106)","v":""},{"$f":"IF(TDPrimas_!C106=\"\",\"\",TDPrimas_!C106)","v":""},{"$f":"IF(TDPrimas_!D106=\"\",\"\",TDPrimas_!D106)","v":""},{"$f":"IF(TDPrimas_!E106=\"\",\"\",TDPrimas_!E106)","v":""},{"$f":"IF(TDPrimas_!F106=\"\",\"\",TDPrimas_!F106)","v":""},{"$f":"IF(TDPrimas_!G106=\"\",\"\",TDPrimas_!G106)","v":""},{"$f":"IF(TDPrimas_!H106=\"\",\"\",TDPrimas_!H106)","v":""},{"$f":"IF(TDPrimas_!I106=\"\",\"\",TDPrimas_!I106)","v":""},{"$f":"IF(TDPrimas_!J106=\"\",\"\",TDPrimas_!J106)","v":""},{"$f":"IF(TDPrimas_!K106=\"\",\"\",TDPrimas_!K106)","v":""}]
[null,{"$f":"IF(TDPrimas_!A107=\"\",\"\",TDPrimas_!A107)","v":""},{"$f":"IF(TDPrimas_!B107=\"\",\"\",TDPrimas_!B107)","v":""},{"$f":"IF(TDPrimas_!C107=\"\",\"\",TDPrimas_!C107)","v":""},{"$f":"IF(TDPrimas_!D107=\"\",\"\",TDPrimas_!D107)","v":""},{"$f":"IF(TDPrimas_!E107=\"\",\"\",TDPrimas_!E107)","v":""},{"$f":"IF(TDPrimas_!F107=\"\",\"\",TDPrimas_!F107)","v":""},{"$f":"IF(TDPrimas_!G107=\"\",\"\",TDPrimas_!G107)","v":""},{"$f":"IF(TDPrimas_!H107=\"\",\"\",TDPrimas_!H107)","v":""},{"$f":"IF(TDPrimas_!I107=\"\",\"\",TDPrimas_!I107)","v":""},{"$f":"IF(TDPrimas_!J107=\"\",\"\",TDPrimas_!J107)","v":""},{"$f":"IF(TDPrimas_!K107=\"\",\"\",TDPrimas_!K107)","v":""}]
[null,{"$f":"IF(TDPrimas_!A108=\"\",\"\",TDPrimas_!A108)","v":""},{"$f":"IF(TDPrimas_!B108=\"\",\"\",TDPrimas_!B108)","v":""},{"$f":"IF(TDPrimas_!C108=\"\",\"\",TDPrimas_!C108)","v":""},{"$f":"IF(TDPrimas_!D108=\"\",\"\",TDPrimas_!D108)","v":""},{"$f":"IF(TDPrimas_!E108=\"\",\"\",TDPrimas_!E108)","v":""},{"$f":"IF(TDPrimas_!F108=\"\",\"\",TDPrimas_!F108)","v":""},{"$f":"IF(TDPrimas_!G108=\"\",\"\",TDPrimas_!G108)","v":""},{"$f":"IF(TDPrimas_!H108=\"\",\"\",TDPrimas_!H108)","v":""},{"$f":"IF(TDPrimas_!I108=\"\",\"\",TDPrimas_!I108)","v":""},{"$f":"IF(TDPrimas_!J108=\"\",\"\",TDPrimas_!J108)","v":""},{"$f":"IF(TDPrimas_!K108=\"\",\"\",TDPrimas_!K108)","v":""}]
[null,{"$f":"IF(TDPrimas_!A109=\"\",\"\",TDPrimas_!A109)","v":""},{"$f":"IF(TDPrimas_!B109=\"\",\"\",TDPrimas_!B109)","v":""},{"$f":"IF(TDPrimas_!C109=\"\",\"\",TDPrimas_!C109)","v":""},{"$f":"IF(TDPrimas_!D109=\"\",\"\",TDPrimas_!D109)","v":""},{"$f":"IF(TDPrimas_!E109=\"\",\"\",TDPrimas_!E109)","v":""},{"$f":"IF(TDPrimas_!F109=\"\",\"\",TDPrimas_!F109)","v":""},{"$f":"IF(TDPrimas_!G109=\"\",\"\",TDPrimas_!G109)","v":""},{"$f":"IF(TDPrimas_!H109=\"\",\"\",TDPrimas_!H109)","v":""},{"$f":"IF(TDPrimas_!I109=\"\",\"\",TDPrimas_!I109)","v":""},{"$f":"IF(TDPrimas_!J109=\"\",\"\",TDPrimas_!J109)","v":""},{"$f":"IF(TDPrimas_!K109=\"\",\"\",TDPrimas_!K109)","v":""}]
[null,{"$f":"IF(TDPrimas_!A110=\"\",\"\",TDPrimas_!A110)","v":""},{"$f":"IF(TDPrimas_!B110=\"\",\"\",TDPrimas_!B110)","v":""},{"$f":"IF(TDPrimas_!C110=\"\",\"\",TDPrimas_!C110)","v":""},{"$f":"IF(TDPrimas_!D110=\"\",\"\",TDPrimas_!D110)","v":""},{"$f":"IF(TDPrimas_!E110=\"\",\"\",TDPrimas_!E110)","v":""},{"$f":"IF(TDPrimas_!F110=\"\",\"\",TDPrimas_!F110)","v":""},{"$f":"IF(TDPrimas_!G110=\"\",\"\",TDPrimas_!G110)","v":""},{"$f":"IF(TDPrimas_!H110=\"\",\"\",TDPrimas_!H110)","v":""},{"$f":"IF(TDPrimas_!I110=\"\",\"\",TDPrimas_!I110)","v":""},{"$f":"IF(TDPrimas_!J110=\"\",\"\",TDPrimas_!J110)","v":""},{"$f":"IF(TDPrimas_!K110=\"\",\"\",TDPrimas_!K110)","v":""}]
[null,{"$f":"IF(TDPrimas_!A111=\"\",\"\",TDPrimas_!A111)","v":""},{"$f":"IF(TDPrimas_!B111=\"\",\"\",TDPrimas_!B111)","v":""},{"$f":"IF(TDPrimas_!C111=\"\",\"\",TDPrimas_!C111)","v":""},{"$f":"IF(TDPrimas_!D111=\"\",\"\",TDPrimas_!D111)","v":""},{"$f":"IF(TDPrimas_!E111=\"\",\"\",TDPrimas_!E111)","v":""},{"$f":"IF(TDPrimas_!F111=\"\",\"\",TDPrimas_!F111)","v":""},{"$f":"IF(TDPrimas_!G111=\"\",\"\",TDPrimas_!G111)","v":""},{"$f":"IF(TDPrimas_!H111=\"\",\"\",TDPrimas_!H111)","v":""},{"$f":"IF(TDPrimas_!I111=\"\",\"\",TDPrimas_!I111)","v":""},{"$f":"IF(TDPrimas_!J111=\"\",\"\",TDPrimas_!J111)","v":""},{"$f":"IF(TDPrimas_!K111=\"\",\"\",TDPrimas_!K111)","v":""}]
[null,{"$f":"IF(TDPrimas_!A112=\"\",\"\",TDPrimas_!A112)","v":""},{"$f":"IF(TDPrimas_!B112=\"\",\"\",TDPrimas_!B112)","v":""},{"$f":"IF(TDPrimas_!C112=\"\",\"\",TDPrimas_!C112)","v":""},{"$f":"IF(TDPrimas_!D112=\"\",\"\",TDPrimas_!D112)","v":""},{"$f":"IF(TDPrimas_!E112=\"\",\"\",TDPrimas_!E112)","v":""},{"$f":"IF(TDPrimas_!F112=\"\",\"\",TDPrimas_!F112)","v":""},{"$f":"IF(TDPrimas_!G112=\"\",\"\",TDPrimas_!G112)","v":""},{"$f":"IF(TDPrimas_!H112=\"\",\"\",TDPrimas_!H112)","v":""},{"$f":"IF(TDPrimas_!I112=\"\",\"\",TDPrimas_!I112)","v":""},{"$f":"IF(TDPrimas_!J112=\"\",\"\",TDPrimas_!J112)","v":""},{"$f":"IF(TDPrimas_!K112=\"\",\"\",TDPrimas_!K112)","v":""}]
[null,{"$f":"IF(TDPrimas_!A113=\"\",\"\",TDPrimas_!A113)","v":""},{"$f":"IF(TDPrimas_!B113=\"\",\"\",TDPrimas_!B113)","v":""},{"$f":"IF(TDPrimas_!C113=\"\",\"\",TDPrimas_!C113)","v":""},{"$f":"IF(TDPrimas_!D113=\"\",\"\",TDPrimas_!D113)","v":""},{"$f":"IF(TDPrimas_!E113=\"\",\"\",TDPrimas_!E113)","v":""},{"$f":"IF(TDPrimas_!F113=\"\",\"\",TDPrimas_!F113)","v":""},{"$f":"IF(TDPrimas_!G113=\"\",\"\",TDPrimas_!G113)","v":""},{"$f":"IF(TDPrimas_!H113=\"\",\"\",TDPrimas_!H113)","v":""},{"$f":"IF(TDPrimas_!I113=\"\",\"\",TDPrimas_!I113)","v":""},{"$f":"IF(TDPrimas_!J113=\"\",\"\",TDPrimas_!J113)","v":""},{"$f":"IF(TDPrimas_!K113=\"\",\"\",TDPrimas_!K113)","v":""}]
[null,{"$f":"IF(TDPrimas_!A114=\"\",\"\",TDPrimas_!A114)","v":""},{"$f":"IF(TDPrimas_!B114=\"\",\"\",TDPrimas_!B114)","v":""},{"$f":"IF(TDPrimas_!C114=\"\",\"\",TDPrimas_!C114)","v":""},{"$f":"IF(TDPrimas_!D114=\"\",\"\",TDPrimas_!D114)","v":""},{"$f":"IF(TDPrimas_!E114=\"\",\"\",TDPrimas_!E114)","v":""},{"$f":"IF(TDPrimas_!F114=\"\",\"\",TDPrimas_!F114)","v":""},{"$f":"IF(TDPrimas_!G114=\"\",\"\",TDPrimas_!G114)","v":""},{"$f":"IF(TDPrimas_!H114=\"\",\"\",TDPrimas_!H114)","v":""},{"$f":"IF(TDPrimas_!I114=\"\",\"\",TDPrimas_!I114)","v":""},{"$f":"IF(TDPrimas_!J114=\"\",\"\",TDPrimas_!J114)","v":""},{"$f":"IF(TDPrimas_!K114=\"\",\"\",TDPrimas_!K114)","v":""}]
[null,{"$f":"IF(TDPrimas_!A115=\"\",\"\",TDPrimas_!A115)","v":""},{"$f":"IF(TDPrimas_!B115=\"\",\"\",TDPrimas_!B115)","v":""},{"$f":"IF(TDPrimas_!C115=\"\",\"\",TDPrimas_!C115)","v":""},{"$f":"IF(TDPrimas_!D115=\"\",\"\",TDPrimas_!D115)","v":""},{"$f":"IF(TDPrimas_!E115=\"\",\"\",TDPrimas_!E115)","v":""},{"$f":"IF(TDPrimas_!F115=\"\",\"\",TDPrimas_!F115)","v":""},{"$f":"IF(TDPrimas_!G115=\"\",\"\",TDPrimas_!G115)","v":""},{"$f":"IF(TDPrimas_!H115=\"\",\"\",TDPrimas_!H115)","v":""},{"$f":"IF(TDPrimas_!I115=\"\",\"\",TDPrimas_!I115)","v":""},{"$f":"IF(TDPrimas_!J115=\"\",\"\",TDPrimas_!J115)","v":""},{"$f":"IF(TDPrimas_!K115=\"\",\"\",TDPrimas_!K115)","v":""}]
[null,{"$f":"IF(TDPrimas_!A116=\"\",\"\",TDPrimas_!A116)","v":""},{"$f":"IF(TDPrimas_!B116=\"\",\"\",TDPrimas_!B116)","v":""},{"$f":"IF(TDPrimas_!C116=\"\",\"\",TDPrimas_!C116)","v":""},{"$f":"IF(TDPrimas_!D116=\"\",\"\",TDPrimas_!D116)","v":""},{"$f":"IF(TDPrimas_!E116=\"\",\"\",TDPrimas_!E116)","v":""},{"$f":"IF(TDPrimas_!F116=\"\",\"\",TDPrimas_!F116)","v":""},{"$f":"IF(TDPrimas_!G116=\"\",\"\",TDPrimas_!G116)","v":""},{"$f":"IF(TDPrimas_!H116=\"\",\"\",TDPrimas_!H116)","v":""},{"$f":"IF(TDPrimas_!I116=\"\",\"\",TDPrimas_!I116)","v":""},{"$f":"IF(TDPrimas_!J116=\"\",\"\",TDPrimas_!J116)","v":""},{"$f":"IF(TDPrimas_!K116=\"\",\"\",TDPrimas_!K116)","v":""}]
[null,{"$f":"IF(TDPrimas_!A117=\"\",\"\",TDPrimas_!A117)","v":""},{"$f":"IF(TDPrimas_!B117=\"\",\"\",TDPrimas_!B117)","v":""},{"$f":"IF(TDPrimas_!C117=\"\",\"\",TDPrimas_!C117)","v":""},{"$f":"IF(TDPrimas_!D117=\"\",\"\",TDPrimas_!D117)","v":""},{"$f":"IF(TDPrimas_!E117=\"\",\"\",TDPrimas_!E117)","v":""},{"$f":"IF(TDPrimas_!F117=\"\",\"\",TDPrimas_!F117)","v":""},{"$f":"IF(TDPrimas_!G117=\"\",\"\",TDPrimas_!G117)","v":""},{"$f":"IF(TDPrimas_!H117=\"\",\"\",TDPrimas_!H117)","v":""},{"$f":"IF(TDPrimas_!I117=\"\",\"\",TDPrimas_!I117)","v":""},{"$f":"IF(TDPrimas_!J117=\"\",\"\",TDPrimas_!J117)","v":""},{"$f":"IF(TDPrimas_!K117=\"\",\"\",TDPrimas_!K117)","v":""}]
[null,{"$f":"IF(TDPrimas_!A118=\"\",\"\",TDPrimas_!A118)","v":""},{"$f":"IF(TDPrimas_!B118=\"\",\"\",TDPrimas_!B118)","v":""},{"$f":"IF(TDPrimas_!C118=\"\",\"\",TDPrimas_!C118)","v":""},{"$f":"IF(TDPrimas_!D118=\"\",\"\",TDPrimas_!D118)","v":""},{"$f":"IF(TDPrimas_!E118=\"\",\"\",TDPrimas_!E118)","v":""},{"$f":"IF(TDPrimas_!F118=\"\",\"\",TDPrimas_!F118)","v":""},{"$f":"IF(TDPrimas_!G118=\"\",\"\",TDPrimas_!G118)","v":""},{"$f":"IF(TDPrimas_!H118=\"\",\"\",TDPrimas_!H118)","v":""},{"$f":"IF(TDPrimas_!I118=\"\",\"\",TDPrimas_!I118)","v":""},{"$f":"IF(TDPrimas_!J118=\"\",\"\",TDPrimas_!J118)","v":""},{"$f":"IF(TDPrimas_!K118=\"\",\"\",TDPrimas_!K118)","v":""}]
[null,{"$f":"IF(TDPrimas_!A119=\"\",\"\",TDPrimas_!A119)","v":""},{"$f":"IF(TDPrimas_!B119=\"\",\"\",TDPrimas_!B119)","v":""},{"$f":"IF(TDPrimas_!C119=\"\",\"\",TDPrimas_!C119)","v":""},{"$f":"IF(TDPrimas_!D119=\"\",\"\",TDPrimas_!D119)","v":""},{"$f":"IF(TDPrimas_!E119=\"\",\"\",TDPrimas_!E119)","v":""},{"$f":"IF(TDPrimas_!F119=\"\",\"\",TDPrimas_!F119)","v":""},{"$f":"IF(TDPrimas_!G119=\"\",\"\",TDPrimas_!G119)","v":""},{"$f":"IF(TDPrimas_!H119=\"\",\"\",TDPrimas_!H119)","v":""},{"$f":"IF(TDPrimas_!I119=\"\",\"\",TDPrimas_!I119)","v":""},{"$f":"IF(TDPrimas_!J119=\"\",\"\",TDPrimas_!J119)","v":""},{"$f":"IF(TDPrimas_!K119=\"\",\"\",TDPrimas_!K119)","v":""}]
[null,{"$f":"IF(TDPrimas_!A120=\"\",\"\",TDPrimas_!A120)","v":""},{"$f":"IF(TDPrimas_!B120=\"\",\"\",TDPrimas_!B120)","v":""},{"$f":"IF(TDPrimas_!C120=\"\",\"\",TDPrimas_!C120)","v":""},{"$f":"IF(TDPrimas_!D120=\"\",\"\",TDPrimas_!D120)","v":""},{"$f":"IF(TDPrimas_!E120=\"\",\"\",TDPrimas_!E120)","v":""},{"$f":"IF(TDPrimas_!F120=\"\",\"\",TDPrimas_!F120)","v":""},{"$f":"IF(TDPrimas_!G120=\"\",\"\",TDPrimas_!G120)","v":""},{"$f":"IF(TDPrimas_!H120=\"\",\"\",TDPrimas_!H120)","v":""},{"$f":"IF(TDPrimas_!I120=\"\",\"\",TDPrimas_!I120)","v":""},{"$f":"IF(TDPrimas_!J120=\"\",\"\",TDPrimas_!J120)","v":""},{"$f":"IF(TDPrimas_!K120=\"\",\"\",TDPrimas_!K120)","v":""}]
[null,{"$f":"IF(TDPrimas_!A121=\"\",\"\",TDPrimas_!A121)","v":""},{"$f":"IF(TDPrimas_!B121=\"\",\"\",TDPrimas_!B121)","v":""},{"$f":"IF(TDPrimas_!C121=\"\",\"\",TDPrimas_!C121)","v":""},{"$f":"IF(TDPrimas_!D121=\"\",\"\",TDPrimas_!D121)","v":""},{"$f":"IF(TDPrimas_!E121=\"\",\"\",TDPrimas_!E121)","v":""},{"$f":"IF(TDPrimas_!F121=\"\",\"\",TDPrimas_!F121)","v":""},{"$f":"IF(TDPrimas_!G121=\"\",\"\",TDPrimas_!G121)","v":""},{"$f":"IF(TDPrimas_!H121=\"\",\"\",TDPrimas_!H121)","v":""},{"$f":"IF(TDPrimas_!I121=\"\",\"\",TDPrimas_!I121)","v":""},{"$f":"IF(TDPrimas_!J121=\"\",\"\",TDPrimas_!J121)","v":""},{"$f":"IF(TDPrimas_!K121=\"\",\"\",TDPrimas_!K121)","v":""}]
[null,{"$f":"IF(TDPrimas_!A122=\"\",\"\",TDPrimas_!A122)","v":""},{"$f":"IF(TDPrimas_!B122=\"\",\"\",TDPrimas_!B122)","v":""},{"$f":"IF(TDPrimas_!C122=\"\",\"\",TDPrimas_!C122)","v":""},{"$f":"IF(TDPrimas_!D122=\"\",\"\",TDPrimas_!D122)","v":""},{"$f":"IF(TDPrimas_!E122=\"\",\"\",TDPrimas_!E122)","v":""},{"$f":"IF(TDPrimas_!F122=\"\",\"\",TDPrimas_!F122)","v":""},{"$f":"IF(TDPrimas_!G122=\"\",\"\",TDPrimas_!G122)","v":""},{"$f":"IF(TDPrimas_!H122=\"\",\"\",TDPrimas_!H122)","v":""},{"$f":"IF(TDPrimas_!I122=\"\",\"\",TDPrimas_!I122)","v":""},{"$f":"IF(TDPrimas_!J122=\"\",\"\",TDPrimas_!J122)","v":""},{"$f":"IF(TDPrimas_!K122=\"\",\"\",TDPrimas_!K122)","v":""}]
[null,{"$f":"IF(TDPrimas_!A123=\"\",\"\",TDPrimas_!A123)","v":""},{"$f":"IF(TDPrimas_!B123=\"\",\"\",TDPrimas_!B123)","v":""},{"$f":"IF(TDPrimas_!C123=\"\",\"\",TDPrimas_!C123)","v":""},{"$f":"IF(TDPrimas_!D123=\"\",\"\",TDPrimas_!D123)","v":""},{"$f":"IF(TDPrimas_!E123=\"\",\"\",TDPrimas_!E123)","v":""},{"$f":"IF(TDPrimas_!F123=\"\",\"\",TDPrimas_!F123)","v":""},{"$f":"IF(TDPrimas_!G123=\"\",\"\",TDPrimas_!G123)","v":""},{"$f":"IF(TDPrimas_!H123=\"\",\"\",TDPrimas_!H123)","v":""},{"$f":"IF(TDPrimas_!I123=\"\",\"\",TDPrimas_!I123)","v":""},{"$f":"IF(TDPrimas_!J123=\"\",\"\",TDPrimas_!J123)","v":""},{"$f":"IF(TDPrimas_!K123=\"\",\"\",TDPrimas_!K123)","v":""}]
[]
[]
[null,"NE  = No Existe"]
[null,"* % Extraordinario mayor de 1000%"]

{"sheet":"Siniestros","index":10,"n_rows":124,"n_cols":9,"rows_kept":124,"cut":false,"hidden":false,"merged":[[4,4,5,4],[4,5,5,5],[4,6,4,7],[4,8,5,8],[1,1,1,8],[3,3,3,8]]}
[null,"SINIESTROS DIRECTOS",null,null,null,null,null,null,{"$f":"'Primas Directas'!L1","v":"Primer Trimestre 2023"}]
[null,{"$f":"UPPER(RIGHT(TDPrimas!$B$4,LEN(TDPrimas!$B$4)-3))","v":"TOTAL GENERAL"}]
[]
[null,null,null,"Siniestros Directos"]
[null,"Compañías",null,"Importe","Incr. %","Inc. Rva.\nDividendos","% vs. Prima Directa",null,"%  Participac de Mercado"]
[null,null,null,{"$f":"'Primas Directas'!D6","v":"2023"},null,null,{"$f":"'Primas Directas'!D6","v":"2023"},{"$f":"'Primas Directas'!E6","v":2022}]
[null,null,"TOTAL",{"$f":"VLOOKUP(C7,'TD Siniestros'!$B$7:$M$154,2,0)","v":103686529.03886999},{"$f":"VLOOKUP(C7,'TD Siniestros'!$B$7:$M$154,3,0)","v":7.6603390865122689},{"$f":"VLOOKUP(C7,'TD Siniestros'!$B$7:$M$154,4,0)","v":827800.19380999974},{"$f":"VLOOKUP(C7,'TD Siniestros'!$B$7:$M$154,5,0)","v":47.219320501544821},{"$f":"VLOOKUP(C7,'TD Siniestros'!$B$7:$M$154,6,0)","v":50.273223393115707},{"$f":"IFERROR(D7/VLOOKUP(\"TOTAL\",$C$8:$D$124,2,0)*100,\"\")","v":100}]
[null,{"$f":"IF('TD Siniestros'!A7=\"\",\"\",'TD Siniestros'!A7)","v":1},{"$f":"IF('TD Siniestros'!B7=\"\",\"\",'TD Siniestros'!B7)","v":"G.N.P."},{"$f":"IF('TD Siniestros'!C7=\"\",\"\",'TD Siniestros'!C7)","v":13950620.598899998},{"$f":"IF('TD Siniestros'!D7=\"\",\"\",'TD Siniestros'!D7)","v":11.038151801821062},{"$f":"IF('TD Siniestros'!E7=\"\",\"\",'TD Siniestros'!E7)","v":89852.579490000004},{"$f":"IF('TD Siniestros'!F7=\"\",\"\",'TD Siniestros'!F7)","v":52.295290168853526},{"$f":"IF('TD Siniestros'!G7=\"\",\"\",'TD Siniestros'!G7)","v":57.184883924695484},{"$f":"IFERROR(D8/VLOOKUP(\"TOTAL\",$C$8:$D$124,2,0)*100,\"\")","v":13.454612405503699}]
[null,{"$f":"IF('TD Siniestros'!A8=\"\",\"\",'TD Siniestros'!A8)","v":2},{"$f":"IF('TD Siniestros'!B8=\"\",\"\",'TD Siniestros'!B8)","v":"Metlife México"},{"$f":"IF('TD Siniestros'!C8=\"\",\"\",'TD Siniestros'!C8)","v":13278274.68158},{"$f":"IF('TD Siniestros'!D8=\"\",\"\",'TD Siniestros'!D8)","v":10.978179595339977},{"$f":"IF('TD Siniestros'!E8=\"\",\"\",'TD Siniestros'!E8)","v":54701.191709999999},{"$f":"IF('TD Siniestros'!F8=\"\",\"\",'TD Siniestros'!F8)","v":50.880402211250853},{"$f":"IF('TD Siniestros'!G8=\"\",\"\",'TD Siniestros'!G8)","v":49.733394671126391},{"$f":"IFERROR(D9/VLOOKUP(\"TOTAL\",$C$8:$D$124,2,0)*100,\"\")","v":12.8061714522262}]
[null,{"$f":"IF('TD Siniestros'!A9=\"\",\"\",'TD Siniestros'!A9)","v":3},{"$f":"IF('TD Siniestros'!B9=\"\",\"\",'TD Siniestros'!B9)","v":"BBVA Bancomer"},{"$f":"IF('TD Siniestros'!C9=\"\",\"\",'TD Siniestros'!C9)","v":7306290.3585599996},{"$f":"IF('TD Siniestros'!D9=\"\",\"\",'TD Siniestros'!D9)","v":12.417731122553155},{"$f":"IF('TD Siniestros'!E9=\"\",\"\",'TD Siniestros'!E9)","v":0},{"$f":"IF('TD Siniestros'!F9=\"\",\"\",'TD Siniestros'!F9)","v":41.503928139560323},{"$f":"IF('TD Siniestros'!G9=\"\",\"\",'TD Siniestros'!G9)","v":44.237663964826638},7.046518411105283]
[null,{"$f":"IF('TD Siniestros'!A10=\"\",\"\",'TD Siniestros'!A10)","v":4},{"$f":"IF('TD Siniestros'!B10=\"\",\"\",'TD Siniestros'!B10)","v":"AXA Seguros"},{"$f":"IF('TD Siniestros'!C10=\"\",\"\",'TD Siniestros'!C10)","v":8529360.4337100014},{"$f":"IF('TD Siniestros'!D10=\"\",\"\",'TD Siniestros'!D10)","v":13.473772311153276},{"$f":"IF('TD Siniestros'!E10=\"\",\"\",'TD Siniestros'!E10)","v":104410.53275000001},{"$f":"IF('TD Siniestros'!F10=\"\",\"\",'TD Siniestros'!F10)","v":55.389080764535578},{"$f":"IF('TD Siniestros'!G10=\"\",\"\",'TD Siniestros'!G10)","v":53.822524044092113},8.2261027664572666]
[null,{"$f":"IF('TD Siniestros'!A11=\"\",\"\",'TD Siniestros'!A11)","v":5},{"$f":"IF('TD Siniestros'!B11=\"\",\"\",'TD Siniestros'!B11)","v":"Banorte"},{"$f":"IF('TD Siniestros'!C11=\"\",\"\",'TD Siniestros'!C11)","v":3875368.9704199997},{"$f":"IF('TD Siniestros'!D11=\"\",\"\",'TD Siniestros'!D11)","v":-13.746374871191037},{"$f":"IF('TD Siniestros'!E11=\"\",\"\",'TD Siniestros'!E11)","v":102972.26204},{"$f":"IF('TD Siniestros'!F11=\"\",\"\",'TD Siniestros'!F11)","v":33.293166998772449},{"$f":"IF('TD Siniestros'!G11=\"\",\"\",'TD Siniestros'!G11)","v":33.201561483224445},3.7375819273178701]
[null,{"$f":"IF('TD Siniestros'!A12=\"\",\"\",'TD Siniestros'!A12)","v":5.0999999999999996},{"$f":"IF('TD Siniestros'!B12=\"\",\"\",'TD Siniestros'!B12)","v":"TOTAL GRANDES"},{"$f":"IF('TD Siniestros'!C12=\"\",\"\",'TD Siniestros'!C12)","v":46939915.043169998},{"$f":"IF('TD Siniestros'!D12=\"\",\"\",'TD Siniestros'!D12)","v":9.0677609612195944},{"$f":"IF('TD Siniestros'!E12=\"\",\"\",'TD Siniestros'!E12)","v":351936.56598999997},{"$f":"IF('TD Siniestros'!F12=\"\",\"\",'TD Siniestros'!F12)","v":48.184699699308403},{"$f":"IF('TD Siniestros'!G12=\"\",\"\",'TD Siniestros'!G12)","v":48.785310150183363},45.270986962610323]
[null,{"$f":"IF('TD Siniestros'!A13=\"\",\"\",'TD Siniestros'!A13)","v":6},{"$f":"IF('TD Siniestros'!B13=\"\",\"\",'TD Siniestros'!B13)","v":"Quálitas"},{"$f":"IF('TD Siniestros'!C13=\"\",\"\",'TD Siniestros'!C13)","v":7182439.1313000005},{"$f":"IF('TD Siniestros'!D13=\"\",\"\",'TD Siniestros'!D13)","v":27.362581636492699},{"$f":"IF('TD Siniestros'!E13=\"\",\"\",'TD Siniestros'!E13)","v":18944.860940000002},{"$f":"IF('TD Siniestros'!F13=\"\",\"\",'TD Siniestros'!F13)","v":62.898128633434467},{"$f":"IF('TD Siniestros'!G13=\"\",\"\",'TD Siniestros'!G13)","v":63.583803787707694},6.9270706598804646]
[null,{"$f":"IF('TD Siniestros'!A14=\"\",\"\",'TD Siniestros'!A14)","v":7},{"$f":"IF('TD Siniestros'!B14=\"\",\"\",'TD Siniestros'!B14)","v":"Monterrey New York Life"},{"$f":"IF('TD Siniestros'!C14=\"\",\"\",'TD Siniestros'!C14)","v":6017298.0489700008},{"$f":"IF('TD Siniestros'!D14=\"\",\"\",'TD Siniestros'!D14)","v":-1.6074789800843092},{"$f":"IF('TD Siniestros'!E14=\"\",\"\",'TD Siniestros'!E14)","v":9660.9418900000001},{"$f":"IF('TD Siniestros'!F14=\"\",\"\",'TD Siniestros'!F14)","v":58.857931174903733},{"$f":"IF('TD Siniestros'!G14=\"\",\"\",'TD Siniestros'!G14)","v":64.266040375119601},5.8033556574299414]
[null,{"$f":"IF('TD Siniestros'!A15=\"\",\"\",'TD Siniestros'!A15)","v":8},{"$f":"IF('TD Siniestros'!B15=\"\",\"\",'TD Siniestros'!B15)","v":"Citibanamex Seguros"},{"$f":"IF('TD Siniestros'!C15=\"\",\"\",'TD Siniestros'!C15)","v":6380754.23814},{"$f":"IF('TD Siniestros'!D15=\"\",\"\",'TD Siniestros'!D15)","v":-31.356210406007989},{"$f":"IF('TD Siniestros'!E15=\"\",\"\",'TD Siniestros'!E15)","v":0},{"$f":"IF('TD Siniestros'!F15=\"\",\"\",'TD Siniestros'!F15)","v":79.204730916902292},{"$f":"IF('TD Siniestros'!G15=\"\",\"\",'TD Siniestros'!G15)","v":174.50771522702934},6.1538893212906984]
[null,{"$f":"IF('TD Siniestros'!A16=\"\",\"\",'TD Siniestros'!A16)","v":9},{"$f":"IF('TD Siniestros'!B16=\"\",\"\",'TD Siniestros'!B16)","v":"Agroasemex"},{"$f":"IF('TD Siniestros'!C16=\"\",\"\",'TD Siniestros'!C16)","v":319565.04244000005},{"$f":"IF('TD Siniestros'!D16=\"\",\"\",'TD Siniestros'!D16)","v":0},{"$f":"IF('TD Siniestros'!E16=\"\",\"\",'TD Siniestros'!E16)","v":4926.18649},{"$f":"IF('TD Siniestros'!F16=\"\",\"\",'TD Siniestros'!F16)","v":4.2959549527411269},{"$f":"IF('TD Siniestros'!G16=\"\",\"\",'TD Siniestros'!G16)","v":0},0.30820304759184441]
[null,{"$f":"IF('TD Siniestros'!A17=\"\",\"\",'TD Siniestros'!A17)","v":10},{"$f":"IF('TD Siniestros'!B17=\"\",\"\",'TD Siniestros'!B17)","v":"Inbursa"},{"$f":"IF('TD Siniestros'!C17=\"\",\"\",'TD Siniestros'!C17)","v":3481787.7154000001},{"$f":"IF('TD Siniestros'!D17=\"\",\"\",'TD Siniestros'!D17)","v":46.577922338565038},{"$f":"IF('TD Siniestros'!E17=\"\",\"\",'TD Siniestros'!E17)","v":56498.984919999995},{"$f":"IF('TD Siniestros'!F17=\"\",\"\",'TD Siniestros'!F17)","v":50.267404182612992},{"$f":"IF('TD Siniestros'!G17=\"\",\"\",'TD Siniestros'!G17)","v":41.389924469750937},3.3579942811035246]
[null,{"$f":"IF('TD Siniestros'!A18=\"\",\"\",'TD Siniestros'!A18)","v":11},{"$f":"IF('TD Siniestros'!B18=\"\",\"\",'TD Siniestros'!B18)","v":"Chubb Seguros México"},{"$f":"IF('TD Siniestros'!C18=\"\",\"\",'TD Siniestros'!C18)","v":3100056.8114400003},{"$f":"IF('TD Siniestros'!D18=\"\",\"\",'TD Siniestros'!D18)","v":30.946647335612298},{"$f":"IF('TD Siniestros'!E18=\"\",\"\",'TD Siniestros'!E18)","v":32790.84577},{"$f":"IF('TD Siniestros'!F18=\"\",\"\",'TD Siniestros'!F18)","v":46.025471384949626},{"$f":"IF('TD Siniestros'!G18=\"\",\"\",'TD Siniestros'!G18)","v":37.404151232036909},2.9898356519175708]
[null,{"$f":"IF('TD Siniestros'!A19=\"\",\"\",'TD Siniestros'!A19)","v":12},{"$f":"IF('TD Siniestros'!B19=\"\",\"\",'TD Siniestros'!B19)","v":"Mapfre México"},{"$f":"IF('TD Siniestros'!C19=\"\",\"\",'TD Siniestros'!C19)","v":3435151.2554299994},{"$f":"IF('TD Siniestros'!D19=\"\",\"\",'TD Siniestros'!D19)","v":30.664170856080109},{"$f":"IF('TD Siniestros'!E19=\"\",\"\",'TD Siniestros'!E19)","v":218660.58895999996},{"$f":"IF('TD Siniestros'!F19=\"\",\"\",'TD Siniestros'!F19)","v":53.386974729471163},{"$f":"IF('TD Siniestros'!G19=\"\",\"\",'TD Siniestros'!G19)","v":35.965947702733544},3.3130159600021241]
[null,{"$f":"IF('TD Siniestros'!A20=\"\",\"\",'TD Siniestros'!A20)","v":13},{"$f":"IF('TD Siniestros'!B20=\"\",\"\",'TD Siniestros'!B20)","v":"Atlas"},{"$f":"IF('TD Siniestros'!C20=\"\",\"\",'TD Siniestros'!C20)","v":2220660.4324400001},{"$f":"IF('TD Siniestros'!D20=\"\",\"\",'TD Siniestros'!D20)","v":3.6789397347141595},{"$f":"IF('TD Siniestros'!E20=\"\",\"\",'TD Siniestros'!E20)","v":-1557.3772900000004},{"$f":"IF('TD Siniestros'!F20=\"\",\"\",'TD Siniestros'!F20)","v":40.423424417134939},{"$f":"IF('TD Siniestros'!G20=\"\",\"\",'TD Siniestros'!G20)","v":43.422384019194901},2.1417058252644559]
[null,{"$f":"IF('TD Siniestros'!A21=\"\",\"\",'TD Siniestros'!A21)","v":14},{"$f":"IF('TD Siniestros'!B21=\"\",\"\",'TD Siniestros'!B21)","v":"Allianz México"},{"$f":"IF('TD Siniestros'!C21=\"\",\"\",'TD Siniestros'!C21)","v":2467516.9256100003},{"$f":"IF('TD Siniestros'!D21=\"\",\"\",'TD Siniestros'!D21)","v":-23.677772556533572},{"$f":"IF('TD Siniestros'!E21=\"\",\"\",'TD Siniestros'!E21)","v":1015.9079},{"$f":"IF('TD Siniestros'!F21=\"\",\"\",'TD Siniestros'!F21)","v":46.977218044665456},{"$f":"IF('TD Siniestros'!G21=\"\",\"\",'TD Siniestros'!G21)","v":72.591003852169806},2.3797854441486588]
[null,{"$f":"IF('TD Siniestros'!A22=\"\",\"\",'TD Siniestros'!A22)","v":15},{"$f":"IF('TD Siniestros'!B22=\"\",\"\",'TD Siniestros'!B22)","v":"GMX Seguros"},{"$f":"IF('TD Siniestros'!C22=\"\",\"\",'TD Siniestros'!C22)","v":480133.34065999999},{"$f":"IF('TD Siniestros'!D22=\"\",\"\",'TD Siniestros'!D22)","v":-47.02710193632241},{"$f":"IF('TD Siniestros'!E22=\"\",\"\",'TD Siniestros'!E22)","v":0},{"$f":"IF('TD Siniestros'!F22=\"\",\"\",'TD Siniestros'!F22)","v":10.206824332550479},{"$f":"IF('TD Siniestros'!G22=\"\",\"\",'TD Siniestros'!G22)","v":16.769877199509043},0.46306241043135671]
[null,{"$f":"IF('TD Siniestros'!A23=\"\",\"\",'TD Siniestros'!A23)","v":15.1},{"$f":"IF('TD Siniestros'!B23=\"\",\"\",'TD Siniestros'!B23)","v":"TOTAL MEDIANAS"},{"$f":"IF('TD Siniestros'!C23=\"\",\"\",'TD Siniestros'!C23)","v":35085362.941829994},{"$f":"IF('TD Siniestros'!D23=\"\",\"\",'TD Siniestros'!D23)","v":1.1004015213353924},{"$f":"IF('TD Siniestros'!E23=\"\",\"\",'TD Siniestros'!E23)","v":340940.93957999995},{"$f":"IF('TD Siniestros'!F23=\"\",\"\",'TD Siniestros'!F23)","v":48.271111518599312},{"$f":"IF('TD Siniestros'!G23=\"\",\"\",'TD Siniestros'!G23)","v":59.956506823359234},33.837918259060636]
[null,{"$f":"IF('TD Siniestros'!A24=\"\",\"\",'TD Siniestros'!A24)","v":16},{"$f":"IF('TD Siniestros'!B24=\"\",\"\",'TD Siniestros'!B24)","v":"Pensiones Banorte"},{"$f":"IF('TD Siniestros'!C24=\"\",\"\",'TD Siniestros'!C24)","v":3161078.4449000005},{"$f":"IF('TD Siniestros'!D24=\"\",\"\",'TD Siniestros'!D24)","v":13.36781803084024},{"$f":"IF('TD Siniestros'!E24=\"\",\"\",'TD Siniestros'!E24)","v":0},{"$f":"IF('TD Siniestros'!F24=\"\",\"\",'TD Siniestros'!F24)","v":74.312637067187637},{"$f":"IF('TD Siniestros'!G24=\"\",\"\",'TD Siniestros'!G24)","v":56.377107159226235},3.0486876879782288]
[null,{"$f":"IF('TD Siniestros'!A25=\"\",\"\",'TD Siniestros'!A25)","v":17},{"$f":"IF('TD Siniestros'!B25=\"\",\"\",'TD Siniestros'!B25)","v":"Zurich Santander"},{"$f":"IF('TD Siniestros'!C25=\"\",\"\",'TD Siniestros'!C25)","v":743104.73987000005},{"$f":"IF('TD Siniestros'!D25=\"\",\"\",'TD Siniestros'!D25)","v":-9.9497967449024944},{"$f":"IF('TD Siniestros'!E25=\"\",\"\",'TD Siniestros'!E25)","v":0},{"$f":"IF('TD Siniestros'!F25=\"\",\"\",'TD Siniestros'!F25)","v":20.787356731201392},{"$f":"IF('TD Siniestros'!G25=\"\",\"\",'TD Siniestros'!G25)","v":26.121067660289278},0.71668397694306563]
[null,{"$f":"IF('TD Siniestros'!A26=\"\",\"\",'TD Siniestros'!A26)","v":18},{"$f":"IF('TD Siniestros'!B26=\"\",\"\",'TD Siniestros'!B26)","v":"AIG Seguros"},{"$f":"IF('TD Siniestros'!C26=\"\",\"\",'TD Siniestros'!C26)","v":302973.23800999997},{"$f":"IF('TD Siniestros'!D26=\"\",\"\",'TD Siniestros'!D26)","v":0.96517976221608404},{"$f":"IF('TD Siniestros'!E26=\"\",\"\",'TD Siniestros'!E26)","v":2546.799},{"$f":"IF('TD Siniestros'!F26=\"\",\"\",'TD Siniestros'!F26)","v":9.1643445622898199},{"$f":"IF('TD Siniestros'!G26=\"\",\"\",'TD Siniestros'!G26)","v":16.623438156253396},0.29220115748731579]
[null,{"$f":"IF('TD Siniestros'!A27=\"\",\"\",'TD Siniestros'!A27)","v":19},{"$f":"IF('TD Siniestros'!B27=\"\",\"\",'TD Siniestros'!B27)","v":"Zurich Aseguradora Mexicana"},{"$f":"IF('TD Siniestros'!C27=\"\",\"\",'TD Siniestros'!C27)","v":846854.39786999999},{"$f":"IF('TD Siniestros'!D27=\"\",\"\",'TD Siniestros'!D27)","v":2493.5268029211888},{"$f":"IF('TD Siniestros'!E27=\"\",\"\",'TD Siniestros'!E27)","v":-2980.95784},{"$f":"IF('TD Siniestros'!F27=\"\",\"\",'TD Siniestros'!F27)","v":27.931447134298264},{"$f":"IF('TD Siniestros'!G27=\"\",\"\",'TD Siniestros'!G27)","v":41.504766699324833},0.81674486138168578]
[null,{"$f":"IF('TD Siniestros'!A28=\"\",\"\",'TD Siniestros'!A28)","v":20},{"$f":"IF('TD Siniestros'!B28=\"\",\"\",'TD Siniestros'!B28)","v":"Seguros SURA"},{"$f":"IF('TD Siniestros'!C28=\"\",\"\",'TD Siniestros'!C28)","v":1685134.5116000001},{"$f":"IF('TD Siniestros'!D28=\"\",\"\",'TD Siniestros'!D28)","v":153.57233882399797},{"$f":"IF('TD Siniestros'!E28=\"\",\"\",'TD Siniestros'!E28)","v":20781.631860000001},{"$f":"IF('TD Siniestros'!F28=\"\",\"\",'TD Siniestros'!F28)","v":56.001668129581461},{"$f":"IF('TD Siniestros'!G28=\"\",\"\",'TD Siniestros'!G28)","v":37.720908545123763},1.6252202935332873]
[null,{"$f":"IF('TD Siniestros'!A29=\"\",\"\",'TD Siniestros'!A29)","v":21},{"$f":"IF('TD Siniestros'!B29=\"\",\"\",'TD Siniestros'!B29)","v":"HDI Seguros"},{"$f":"IF('TD Siniestros'!C29=\"\",\"\",'TD Siniestros'!C29)","v":1559277.7425299997},{"$f":"IF('TD Siniestros'!D29=\"\",\"\",'TD Siniestros'!D29)","v":25.418124580460177},{"$f":"IF('TD Siniestros'!E29=\"\",\"\",'TD Siniestros'!E29)","v":0},{"$f":"IF('TD Siniestros'!F29=\"\",\"\",'TD Siniestros'!F29)","v":52.575651667018263},{"$f":"IF('TD Siniestros'!G29=\"\",\"\",'TD Siniestros'!G29)","v":54.294041728894406},1.503838306657423]
[null,{"$f":"IF('TD Siniestros'!A30=\"\",\"\",'TD Siniestros'!A30)","v":22},{"$f":"IF('TD Siniestros'!B30=\"\",\"\",'TD Siniestros'!B30)","v":"Pensiones BBVA Bancomer"},{"$f":"IF('TD Siniestros'!C30=\"\",\"\",'TD Siniestros'!C30)","v":2074045.0432300004},{"$f":"IF('TD Siniestros'!D30=\"\",\"\",'TD Siniestros'!D30)","v":10.839347996219772},{"$f":"IF('TD Siniestros'!E30=\"\",\"\",'TD Siniestros'!E30)","v":0},{"$f":"IF('TD Siniestros'!F30=\"\",\"\",'TD Siniestros'!F30)","v":77.296256606160256},{"$f":"IF('TD Siniestros'!G30=\"\",\"\",'TD Siniestros'!G30)","v":47.531448948600847},2.0003032818780948]
[null,{"$f":"IF('TD Siniestros'!A31=\"\",\"\",'TD Siniestros'!A31)","v":23},{"$f":"IF('TD Siniestros'!B31=\"\",\"\",'TD Siniestros'!B31)","v":"ProFuturo G.N.P."},{"$f":"IF('TD Siniestros'!C31=\"\",\"\",'TD Siniestros'!C31)","v":1327040.9672200002},{"$f":"IF('TD Siniestros'!D31=\"\",\"\",'TD Siniestros'!D31)","v":18.745735723846234},{"$f":"IF('TD Siniestros'!E31=\"\",\"\",'TD Siniestros'!E31)","v":0},{"$f":"IF('TD Siniestros'!F31=\"\",\"\",'TD Siniestros'!F31)","v":50.728302510076887},{"$f":"IF('TD Siniestros'!G31=\"\",\"\",'TD Siniestros'!G31)","v":49.751568362278917},1.279858607980328]
[null,{"$f":"IF('TD Siniestros'!A32=\"\",\"\",'TD Siniestros'!A32)","v":24},{"$f":"IF('TD Siniestros'!B32=\"\",\"\",'TD Siniestros'!B32)","v":"Afirme"},{"$f":"IF('TD Siniestros'!C32=\"\",\"\",'TD Siniestros'!C32)","v":1341828.4959400003},{"$f":"IF('TD Siniestros'!D32=\"\",\"\",'TD Siniestros'!D32)","v":16.16396078727178},{"$f":"IF('TD Siniestros'!E32=\"\",\"\",'TD Siniestros'!E32)","v":-623.85296999999991},{"$f":"IF('TD Siniestros'!F32=\"\",\"\",'TD Siniestros'!F32)","v":60.113889225030235},{"$f":"IF('TD Siniestros'!G32=\"\",\"\",'TD Siniestros'!G32)","v":61.139879026772938},1.2941203726059494]
[null,{"$f":"IF('TD Siniestros'!A33=\"\",\"\",'TD Siniestros'!A33)","v":25},{"$f":"IF('TD Siniestros'!B33=\"\",\"\",'TD Siniestros'!B33)","v":"Seguros Azteca"},{"$f":"IF('TD Siniestros'!C33=\"\",\"\",'TD Siniestros'!C33)","v":545140.19307999988},{"$f":"IF('TD Siniestros'!D33=\"\",\"\",'TD Siniestros'!D33)","v":-36.613655936972833},{"$f":"IF('TD Siniestros'!E33=\"\",\"\",'TD Siniestros'!E33)","v":0},{"$f":"IF('TD Siniestros'!F33=\"\",\"\",'TD Siniestros'!F33)","v":27.782976186385},{"$f":"IF('TD Siniestros'!G33=\"\",\"\",'TD Siniestros'!G33)","v":52.868657160023943},0.52575797274073832]
[null,{"$f":"IF('TD Siniestros'!A34=\"\",\"\",'TD Siniestros'!A34)","v":26},{"$f":"IF('TD Siniestros'!B34=\"\",\"\",'TD Siniestros'!B34)","v":"Hir Seguros"},{"$f":"IF('TD Siniestros'!C34=\"\",\"\",'TD Siniestros'!C34)","v":417602.72994999995},{"$f":"IF('TD Siniestros'!D34=\"\",\"\",'TD Siniestros'!D34)","v":8.4835104163916597},{"$f":"IF('TD Siniestros'!E34=\"\",\"\",'TD Siniestros'!E34)","v":96183.779909999997},{"$f":"IF('TD Siniestros'!F34=\"\",\"\",'TD Siniestros'!F34)","v":23.226172217790069},{"$f":"IF('TD Siniestros'!G34=\"\",\"\",'TD Siniestros'!G34)","v":26.909034174869017},0.4027550481446332]
[null,{"$f":"IF('TD Siniestros'!A35=\"\",\"\",'TD Siniestros'!A35)","v":27},{"$f":"IF('TD Siniestros'!B35=\"\",\"\",'TD Siniestros'!B35)","v":"HSBC Seguros"},{"$f":"IF('TD Siniestros'!C35=\"\",\"\",'TD Siniestros'!C35)","v":752600.98979999998},{"$f":"IF('TD Siniestros'!D35=\"\",\"\",'TD Siniestros'!D35)","v":17.100871488542047},{"$f":"IF('TD Siniestros'!E35=\"\",\"\",'TD Siniestros'!E35)","v":0},{"$f":"IF('TD Siniestros'!F35=\"\",\"\",'TD Siniestros'!F35)","v":46.387587281009793},{"$f":"IF('TD Siniestros'!G35=\"\",\"\",'TD Siniestros'!G35)","v":43.514232202036929},0.72584259187407563]
[null,{"$f":"IF('TD Siniestros'!A36=\"\",\"\",'TD Siniestros'!A36)","v":28},{"$f":"IF('TD Siniestros'!B36=\"\",\"\",'TD Siniestros'!B36)","v":"Seguros Azteca Daños"},{"$f":"IF('TD Siniestros'!C36=\"\",\"\",'TD Siniestros'!C36)","v":-20785.99139000001},{"$f":"IF('TD Siniestros'!D36=\"\",\"\",'TD Siniestros'!D36)","v":-119.09660689132242},{"$f":"IF('TD Siniestros'!E36=\"\",\"\",'TD Siniestros'!E36)","v":7886.3938499999995},{"$f":"IF('TD Siniestros'!F36=\"\",\"\",'TD Siniestros'!F36)","v":-1.6614597866479786},{"$f":"IF('TD Siniestros'!G36=\"\",\"\",'TD Siniestros'!G36)","v":6.3337234500279074},-2.0046954587714823E-2]
[null,{"$f":"IF('TD Siniestros'!A37=\"\",\"\",'TD Siniestros'!A37)","v":29},{"$f":"IF('TD Siniestros'!B37=\"\",\"\",'TD Siniestros'!B37)","v":"HDI Global Seguros"},{"$f":"IF('TD Siniestros'!C37=\"\",\"\",'TD Siniestros'!C37)","v":87458.832719999991},{"$f":"IF('TD Siniestros'!D37=\"\",\"\",'TD Siniestros'!D37)","v":-54.219293011682545},{"$f":"IF('TD Siniestros'!E37=\"\",\"\",'TD Siniestros'!E37)","v":0},{"$f":"IF('TD Siniestros'!F37=\"\",\"\",'TD Siniestros'!F37)","v":8.5971312589734694},{"$f":"IF('TD Siniestros'!G37=\"\",\"\",'TD Siniestros'!G37)","v":40.652856552547171},8.4349272302493061E-2]
[null,{"$f":"IF('TD Siniestros'!A38=\"\",\"\",'TD Siniestros'!A38)","v":30},{"$f":"IF('TD Siniestros'!B38=\"\",\"\",'TD Siniestros'!B38)","v":"Cardif Vida"},{"$f":"IF('TD Siniestros'!C38=\"\",\"\",'TD Siniestros'!C38)","v":211269.16222000003},{"$f":"IF('TD Siniestros'!D38=\"\",\"\",'TD Siniestros'!D38)","v":-22.303978839399608},{"$f":"IF('TD Siniestros'!E38=\"\",\"\",'TD Siniestros'!E38)","v":-20536.893319999999},{"$f":"IF('TD Siniestros'!F38=\"\",\"\",'TD Siniestros'!F38)","v":21.721253674402401},{"$f":"IF('TD Siniestros'!G38=\"\",\"\",'TD Siniestros'!G38)","v":32.478519781629252},0.20375757986922241]
[null,{"$f":"IF('TD Siniestros'!A39=\"\",\"\",'TD Siniestros'!A39)","v":31},{"$f":"IF('TD Siniestros'!B39=\"\",\"\",'TD Siniestros'!B39)","v":"BUPA México"},{"$f":"IF('TD Siniestros'!C39=\"\",\"\",'TD Siniestros'!C39)","v":758665.86320000002},{"$f":"IF('TD Siniestros'!D39=\"\",\"\",'TD Siniestros'!D39)","v":20.219288507705112},{"$f":"IF('TD Siniestros'!E39=\"\",\"\",'TD Siniestros'!E39)","v":0},{"$f":"IF('TD Siniestros'!F39=\"\",\"\",'TD Siniestros'!F39)","v":86.72676188497401},{"$f":"IF('TD Siniestros'!G39=\"\",\"\",'TD Siniestros'!G39)","v":76.382917283778113},0.73169183136180738]
[null,{"$f":"IF('TD Siniestros'!A40=\"\",\"\",'TD Siniestros'!A40)","v":32},{"$f":"IF('TD Siniestros'!B40=\"\",\"\",'TD Siniestros'!B40)","v":"ANA"},{"$f":"IF('TD Siniestros'!C40=\"\",\"\",'TD Siniestros'!C40)","v":591466.43058000004},{"$f":"IF('TD Siniestros'!D40=\"\",\"\",'TD Siniestros'!D40)","v":49.59338872041301},{"$f":"IF('TD Siniestros'!E40=\"\",\"\",'TD Siniestros'!E40)","v":7185.2370300000002},{"$f":"IF('TD Siniestros'!F40=\"\",\"\",'TD Siniestros'!F40)","v":71.936893080787087},{"$f":"IF('TD Siniestros'!G40=\"\",\"\",'TD Siniestros'!G40)","v":54.677228412964915},0.57043710119592406]
[null,{"$f":"IF('TD Siniestros'!A41=\"\",\"\",'TD Siniestros'!A41)","v":33},{"$f":"IF('TD Siniestros'!B41=\"\",\"\",'TD Siniestros'!B41)","v":"Ve Por Más"},{"$f":"IF('TD Siniestros'!C41=\"\",\"\",'TD Siniestros'!C41)","v":615816.13243},{"$f":"IF('TD Siniestros'!D41=\"\",\"\",'TD Siniestros'!D41)","v":43.769820970712601},{"$f":"IF('TD Siniestros'!E41=\"\",\"\",'TD Siniestros'!E41)","v":3583.2302400000003},{"$f":"IF('TD Siniestros'!F41=\"\",\"\",'TD Siniestros'!F41)","v":80.54467227307552},{"$f":"IF('TD Siniestros'!G41=\"\",\"\",'TD Siniestros'!G41)","v":63.162609337832798},0.59392106008210854]
[null,{"$f":"IF('TD Siniestros'!A42=\"\",\"\",'TD Siniestros'!A42)","v":34},{"$f":"IF('TD Siniestros'!B42=\"\",\"\",'TD Siniestros'!B42)","v":"Seguros Argos"},{"$f":"IF('TD Siniestros'!C42=\"\",\"\",'TD Siniestros'!C42)","v":623983.12085000018},{"$f":"IF('TD Siniestros'!D42=\"\",\"\",'TD Siniestros'!D42)","v":-2.2978109227163812},{"$f":"IF('TD Siniestros'!E42=\"\",\"\",'TD Siniestros'!E42)","v":-398.33476999999999},{"$f":"IF('TD Siniestros'!F42=\"\",\"\",'TD Siniestros'!F42)","v":82.313108654977853},{"$f":"IF('TD Siniestros'!G42=\"\",\"\",'TD Siniestros'!G42)","v":54.264169213655158},0.60179767481278257]
[null,{"$f":"IF('TD Siniestros'!A43=\"\",\"\",'TD Siniestros'!A43)","v":35},{"$f":"IF('TD Siniestros'!B43=\"\",\"\",'TD Siniestros'!B43)","v":"Plan Seguro"},{"$f":"IF('TD Siniestros'!C43=\"\",\"\",'TD Siniestros'!C43)","v":474349.77591999999},{"$f":"IF('TD Siniestros'!D43=\"\",\"\",'TD Siniestros'!D43)","v":9.2547758206920285},{"$f":"IF('TD Siniestros'!E43=\"\",\"\",'TD Siniestros'!E43)","v":0},{"$f":"IF('TD Siniestros'!F43=\"\",\"\",'TD Siniestros'!F43)","v":67.503299026139771},{"$f":"IF('TD Siniestros'!G43=\"\",\"\",'TD Siniestros'!G43)","v":51.563595727831725},0.45748447779766627]
[null,{"$f":"IF('TD Siniestros'!A44=\"\",\"\",'TD Siniestros'!A44)","v":36},{"$f":"IF('TD Siniestros'!B44=\"\",\"\",'TD Siniestros'!B44)","v":"FM Global"},{"$f":"IF('TD Siniestros'!C44=\"\",\"\",'TD Siniestros'!C44)","v":285738.26993000001},{"$f":"IF('TD Siniestros'!D44=\"\",\"\",'TD Siniestros'!D44)","v":0.81528500707668261},{"$f":"IF('TD Siniestros'!E44=\"\",\"\",'TD Siniestros'!E44)","v":0},{"$f":"IF('TD Siniestros'!F44=\"\",\"\",'TD Siniestros'!F44)","v":41.680603785115252},{"$f":"IF('TD Siniestros'!G44=\"\",\"\",'TD Siniestros'!G44)","v":49.463289432431864},0.27557897113412144]
[null,{"$f":"IF('TD Siniestros'!A45=\"\",\"\",'TD Siniestros'!A45)","v":37},{"$f":"IF('TD Siniestros'!B45=\"\",\"\",'TD Siniestros'!B45)","v":"El Potosí"},{"$f":"IF('TD Siniestros'!C45=\"\",\"\",'TD Siniestros'!C45)","v":255047.79302999997},{"$f":"IF('TD Siniestros'!D45=\"\",\"\",'TD Siniestros'!D45)","v":7.1605810347971088},{"$f":"IF('TD Siniestros'!E45=\"\",\"\",'TD Siniestros'!E45)","v":-153.74030999999999},{"$f":"IF('TD Siniestros'!F45=\"\",\"\",'TD Siniestros'!F45)","v":38.435748775313542},{"$f":"IF('TD Siniestros'!G45=\"\",\"\",'TD Siniestros'!G45)","v":43.386405813659529},0.24597968067229609]
[null,{"$f":"IF('TD Siniestros'!A46=\"\",\"\",'TD Siniestros'!A46)","v":38},{"$f":"IF('TD Siniestros'!B46=\"\",\"\",'TD Siniestros'!B46)","v":"General de Seguros"},{"$f":"IF('TD Siniestros'!C46=\"\",\"\",'TD Siniestros'!C46)","v":470556.09862999996},{"$f":"IF('TD Siniestros'!D46=\"\",\"\",'TD Siniestros'!D46)","v":-4.1262018093946251},{"$f":"IF('TD Siniestros'!E46=\"\",\"\",'TD Siniestros'!E46)","v":793.18721000000005},{"$f":"IF('TD Siniestros'!F46=\"\",\"\",'TD Siniestros'!F46)","v":71.216133068100646},{"$f":"IF('TD Siniestros'!G46=\"\",\"\",'TD Siniestros'!G46)","v":76.862678625483554},0.45382568303892012]
[null,{"$f":"IF('TD Siniestros'!A47=\"\",\"\",'TD Siniestros'!A47)","v":39},{"$f":"IF('TD Siniestros'!B47=\"\",\"\",'TD Siniestros'!B47)","v":"AXA Salud"},{"$f":"IF('TD Siniestros'!C47=\"\",\"\",'TD Siniestros'!C47)","v":114368.80999000001},{"$f":"IF('TD Siniestros'!D47=\"\",\"\",'TD Siniestros'!D47)","v":8.6258474145509254},{"$f":"IF('TD Siniestros'!E47=\"\",\"\",'TD Siniestros'!E47)","v":0},{"$f":"IF('TD Siniestros'!F47=\"\",\"\",'TD Siniestros'!F47)","v":23.471904649019642},{"$f":"IF('TD Siniestros'!G47=\"\",\"\",'TD Siniestros'!G47)","v":21.557178201618388},0.11030247713965373]
[null,{"$f":"IF('TD Siniestros'!A48=\"\",\"\",'TD Siniestros'!A48)","v":40},{"$f":"IF('TD Siniestros'!B48=\"\",\"\",'TD Siniestros'!B48)","v":"Assurant Vida"},{"$f":"IF('TD Siniestros'!C48=\"\",\"\",'TD Siniestros'!C48)","v":62581.925040000002},{"$f":"IF('TD Siniestros'!D48=\"\",\"\",'TD Siniestros'!D48)","v":-19.894498221851052},{"$f":"IF('TD Siniestros'!E48=\"\",\"\",'TD Siniestros'!E48)","v":1473.03836},{"$f":"IF('TD Siniestros'!F48=\"\",\"\",'TD Siniestros'!F48)","v":13.946711329983023},{"$f":"IF('TD Siniestros'!G48=\"\",\"\",'TD Siniestros'!G48)","v":107.82903953418983},6.0356852158238702E-2]
[null,{"$f":"IF('TD Siniestros'!A49=\"\",\"\",'TD Siniestros'!A49)","v":41},{"$f":"IF('TD Siniestros'!B49=\"\",\"\",'TD Siniestros'!B49)","v":"Prudential"},{"$f":"IF('TD Siniestros'!C49=\"\",\"\",'TD Siniestros'!C49)","v":48369.278169999998},{"$f":"IF('TD Siniestros'!D49=\"\",\"\",'TD Siniestros'!D49)","v":3.0731818342263351},{"$f":"IF('TD Siniestros'!E49=\"\",\"\",'TD Siniestros'!E49)","v":0},{"$f":"IF('TD Siniestros'!F49=\"\",\"\",'TD Siniestros'!F49)","v":11.159210503691225},{"$f":"IF('TD Siniestros'!G49=\"\",\"\",'TD Siniestros'!G49)","v":13.502911104082461},4.6649529710718091E-2]
[null,{"$f":"IF('TD Siniestros'!A50=\"\",\"\",'TD Siniestros'!A50)","v":42},{"$f":"IF('TD Siniestros'!B50=\"\",\"\",'TD Siniestros'!B50)","v":"Cardif Seguros Generales"},{"$f":"IF('TD Siniestros'!C50=\"\",\"\",'TD Siniestros'!C50)","v":53604.732579999996},{"$f":"IF('TD Siniestros'!D50=\"\",\"\",'TD Siniestros'!D50)","v":27.952591473450681},{"$f":"IF('TD Siniestros'!E50=\"\",\"\",'TD Siniestros'!E50)","v":0},{"$f":"IF('TD Siniestros'!F50=\"\",\"\",'TD Siniestros'!F50)","v":12.416362851122573},{"$f":"IF('TD Siniestros'!G50=\"\",\"\",'TD Siniestros'!G50)","v":14.549441392732323},5.1698839836662541E-2]
[null,{"$f":"IF('TD Siniestros'!A51=\"\",\"\",'TD Siniestros'!A51)","v":43},{"$f":"IF('TD Siniestros'!B51=\"\",\"\",'TD Siniestros'!B51)","v":"Insignia Life"},{"$f":"IF('TD Siniestros'!C51=\"\",\"\",'TD Siniestros'!C51)","v":164032.83993000002},{"$f":"IF('TD Siniestros'!D51=\"\",\"\",'TD Siniestros'!D51)","v":-34.746816502120694},{"$f":"IF('TD Siniestros'!E51=\"\",\"\",'TD Siniestros'!E51)","v":6173.0976600000004},{"$f":"IF('TD Siniestros'!F51=\"\",\"\",'TD Siniestros'!F51)","v":38.950818502285003},{"$f":"IF('TD Siniestros'!G51=\"\",\"\",'TD Siniestros'!G51)","v":62.114969798948771},0.15820072428936974]
[null,{"$f":"IF('TD Siniestros'!A52=\"\",\"\",'TD Siniestros'!A52)","v":44},{"$f":"IF('TD Siniestros'!B52=\"\",\"\",'TD Siniestros'!B52)","v":"El Águila"},{"$f":"IF('TD Siniestros'!C52=\"\",\"\",'TD Siniestros'!C52)","v":134472.34600000002},{"$f":"IF('TD Siniestros'!D52=\"\",\"\",'TD Siniestros'!D52)","v":25.634520677341776},{"$f":"IF('TD Siniestros'!E52=\"\",\"\",'TD Siniestros'!E52)","v":0},{"$f":"IF('TD Siniestros'!F52=\"\",\"\",'TD Siniestros'!F52)","v":33.513682980661969},{"$f":"IF('TD Siniestros'!G52=\"\",\"\",'TD Siniestros'!G52)","v":32.75103677240616},0.1296912407489203]
[null,{"$f":"IF('TD Siniestros'!A53=\"\",\"\",'TD Siniestros'!A53)","v":45},{"$f":"IF('TD Siniestros'!B53=\"\",\"\",'TD Siniestros'!B53)","v":"La Latinoamericana"},{"$f":"IF('TD Siniestros'!C53=\"\",\"\",'TD Siniestros'!C53)","v":232495.58491000001},{"$f":"IF('TD Siniestros'!D53=\"\",\"\",'TD Siniestros'!D53)","v":-0.55157512653146723},{"$f":"IF('TD Siniestros'!E53=\"\",\"\",'TD Siniestros'!E53)","v":1622.9062899999999},{"$f":"IF('TD Siniestros'!F53=\"\",\"\",'TD Siniestros'!F53)","v":61.462276533203678},{"$f":"IF('TD Siniestros'!G53=\"\",\"\",'TD Siniestros'!G53)","v":60.42489773208878},0.22422930641534167]
[null,{"$f":"IF('TD Siniestros'!A54=\"\",\"\",'TD Siniestros'!A54)","v":46},{"$f":"IF('TD Siniestros'!B54=\"\",\"\",'TD Siniestros'!B54)","v":"Patrimonial Inbursa"},{"$f":"IF('TD Siniestros'!C54=\"\",\"\",'TD Siniestros'!C54)","v":310.33876999999666},{"$f":"IF('TD Siniestros'!D54=\"\",\"\",'TD Siniestros'!D54)","v":-97.89047552251931},{"$f":"IF('TD Siniestros'!E54=\"\",\"\",'TD Siniestros'!E54)","v":0},{"$f":"IF('TD Siniestros'!F54=\"\",\"\",'TD Siniestros'!F54)","v":8.4842233334552944E-2},{"$f":"IF('TD Siniestros'!G54=\"\",\"\",'TD Siniestros'!G54)","v":3.682466489225718},2.9930481121964925E-4]
[null,{"$f":"IF('TD Siniestros'!A55=\"\",\"\",'TD Siniestros'!A55)","v":47},{"$f":"IF('TD Siniestros'!B55=\"\",\"\",'TD Siniestros'!B55)","v":"Tokio Marine"},{"$f":"IF('TD Siniestros'!C55=\"\",\"\",'TD Siniestros'!C55)","v":103187.24733},{"$f":"IF('TD Siniestros'!D55=\"\",\"\",'TD Siniestros'!D55)","v":-34.876227782706827},{"$f":"IF('TD Siniestros'!E55=\"\",\"\",'TD Siniestros'!E55)","v":52.95338000000001},{"$f":"IF('TD Siniestros'!F55=\"\",\"\",'TD Siniestros'!F55)","v":31.36590124678737},{"$f":"IF('TD Siniestros'!G55=\"\",\"\",'TD Siniestros'!G55)","v":23.453342813856594},9.9518470033187423E-2]
[null,{"$f":"IF('TD Siniestros'!A56=\"\",\"\",'TD Siniestros'!A56)","v":48},{"$f":"IF('TD Siniestros'!B56=\"\",\"\",'TD Siniestros'!B56)","v":"Patrimonial Vida"},{"$f":"IF('TD Siniestros'!C56=\"\",\"\",'TD Siniestros'!C56)","v":326666.07067000004},{"$f":"IF('TD Siniestros'!D56=\"\",\"\",'TD Siniestros'!D56)","v":11.142280598307952},{"$f":"IF('TD Siniestros'!E56=\"\",\"\",'TD Siniestros'!E56)","v":935.52278000000001},{"$f":"IF('TD Siniestros'!F56=\"\",\"\",'TD Siniestros'!F56)","v":102.58651931944817},{"$f":"IF('TD Siniestros'!G56=\"\",\"\",'TD Siniestros'!G56)","v":20.889535872832717},0.31505160187929476]
[null,{"$f":"IF('TD Siniestros'!A57=\"\",\"\",'TD Siniestros'!A57)","v":49},{"$f":"IF('TD Siniestros'!B57=\"\",\"\",'TD Siniestros'!B57)","v":"Pan-American México"},{"$f":"IF('TD Siniestros'!C57=\"\",\"\",'TD Siniestros'!C57)","v":136472.80111},{"$f":"IF('TD Siniestros'!D57=\"\",\"\",'TD Siniestros'!D57)","v":-29.193954394831923},{"$f":"IF('TD Siniestros'!E57=\"\",\"\",'TD Siniestros'!E57)","v":9464.6250299999992},{"$f":"IF('TD Siniestros'!F57=\"\",\"\",'TD Siniestros'!F57)","v":44.150122509225909},{"$f":"IF('TD Siniestros'!G57=\"\",\"\",'TD Siniestros'!G57)","v":133.88132302006179},0.13162057055535062]
[null,{"$f":"IF('TD Siniestros'!A58=\"\",\"\",'TD Siniestros'!A58)","v":50},{"$f":"IF('TD Siniestros'!B58=\"\",\"\",'TD Siniestros'!B58)","v":"BBVA Bancomer Salud"},{"$f":"IF('TD Siniestros'!C58=\"\",\"\",'TD Siniestros'!C58)","v":249870.94431999998},{"$f":"IF('TD Siniestros'!D58=\"\",\"\",'TD Siniestros'!D58)","v":71.767975195738387},{"$f":"IF('TD Siniestros'!E58=\"\",\"\",'TD Siniestros'!E58)","v":0},{"$f":"IF('TD Siniestros'!F58=\"\",\"\",'TD Siniestros'!F58)","v":84.581662027852616},{"$f":"IF('TD Siniestros'!G58=\"\",\"\",'TD Siniestros'!G58)","v":118.85485865978463},0.24098689254640629]
[null,{"$f":"IF('TD Siniestros'!A59=\"\",\"\",'TD Siniestros'!A59)","v":51},{"$f":"IF('TD Siniestros'!B59=\"\",\"\",'TD Siniestros'!B59)","v":"Dentegra"},{"$f":"IF('TD Siniestros'!C59=\"\",\"\",'TD Siniestros'!C59)","v":71242.006860000009},{"$f":"IF('TD Siniestros'!D59=\"\",\"\",'TD Siniestros'!D59)","v":118.29363434993682},{"$f":"IF('TD Siniestros'!E59=\"\",\"\",'TD Siniestros'!E59)","v":53.472139999999996},{"$f":"IF('TD Siniestros'!F59=\"\",\"\",'TD Siniestros'!F59)","v":24.437990363646819},{"$f":"IF('TD Siniestros'!G59=\"\",\"\",'TD Siniestros'!G59)","v":28.305352148839734},6.8709028569461345E-2]
[null,{"$f":"IF('TD Siniestros'!A60=\"\",\"\",'TD Siniestros'!A60)","v":52},{"$f":"IF('TD Siniestros'!B60=\"\",\"\",'TD Siniestros'!B60)","v":"Primero Seguros"},{"$f":"IF('TD Siniestros'!C60=\"\",\"\",'TD Siniestros'!C60)","v":142370.60707},{"$f":"IF('TD Siniestros'!D60=\"\",\"\",'TD Siniestros'!D60)","v":7.3308114367083732},{"$f":"IF('TD Siniestros'!E60=\"\",\"\",'TD Siniestros'!E60)","v":0},{"$f":"IF('TD Siniestros'!F60=\"\",\"\",'TD Siniestros'!F60)","v":49.932876882743216},{"$f":"IF('TD Siniestros'!G60=\"\",\"\",'TD Siniestros'!G60)","v":46.787303173858461},0.13730868261259679]
[null,{"$f":"IF('TD Siniestros'!A61=\"\",\"\",'TD Siniestros'!A61)","v":53},{"$f":"IF('TD Siniestros'!B61=\"\",\"\",'TD Siniestros'!B61)","v":"General de Salud"},{"$f":"IF('TD Siniestros'!C61=\"\",\"\",'TD Siniestros'!C61)","v":165561.19089},{"$f":"IF('TD Siniestros'!D61=\"\",\"\",'TD Siniestros'!D61)","v":37.652409442557364},{"$f":"IF('TD Siniestros'!E61=\"\",\"\",'TD Siniestros'!E61)","v":0},{"$f":"IF('TD Siniestros'!F61=\"\",\"\",'TD Siniestros'!F61)","v":68.981499638487819},{"$f":"IF('TD Siniestros'!G61=\"\",\"\",'TD Siniestros'!G61)","v":93.390558020354447},0.15967473540167831]
[null,{"$f":"IF('TD Siniestros'!A62=\"\",\"\",'TD Siniestros'!A62)","v":54},{"$f":"IF('TD Siniestros'!B62=\"\",\"\",'TD Siniestros'!B62)","v":"PREVEM Seguros"},{"$f":"IF('TD Siniestros'!C62=\"\",\"\",'TD Siniestros'!C62)","v":114667.90078},{"$f":"IF('TD Siniestros'!D62=\"\",\"\",'TD Siniestros'!D62)","v":37.330709382112893},{"$f":"IF('TD Siniestros'!E62=\"\",\"\",'TD Siniestros'!E62)","v":0},{"$f":"IF('TD Siniestros'!F62=\"\",\"\",'TD Siniestros'!F62)","v":52.843288241655337},{"$f":"IF('TD Siniestros'!G62=\"\",\"\",'TD Siniestros'!G62)","v":65.829088984277931},0.1105909338878663]
[null,{"$f":"IF('TD Siniestros'!A63=\"\",\"\",'TD Siniestros'!A63)","v":55},{"$f":"IF('TD Siniestros'!B63=\"\",\"\",'TD Siniestros'!B63)","v":"Berkley Seguros"},{"$f":"IF('TD Siniestros'!C63=\"\",\"\",'TD Siniestros'!C63)","v":57749.803430000007},{"$f":"IF('TD Siniestros'!D63=\"\",\"\",'TD Siniestros'!D63)","v":18.183307376558222},{"$f":"IF('TD Siniestros'!E63=\"\",\"\",'TD Siniestros'!E63)","v":1126.9045000000001},{"$f":"IF('TD Siniestros'!F63=\"\",\"\",'TD Siniestros'!F63)","v":29.941347256077545},{"$f":"IF('TD Siniestros'!G63=\"\",\"\",'TD Siniestros'!G63)","v":35.175330980228743},5.5696534511586133E-2]
[null,{"$f":"IF('TD Siniestros'!A64=\"\",\"\",'TD Siniestros'!A64)","v":56},{"$f":"IF('TD Siniestros'!B64=\"\",\"\",'TD Siniestros'!B64)","v":"Atradius"},{"$f":"IF('TD Siniestros'!C64=\"\",\"\",'TD Siniestros'!C64)","v":23430.442950000004},{"$f":"IF('TD Siniestros'!D64=\"\",\"\",'TD Siniestros'!D64)","v":-20.880175829871629},{"$f":"IF('TD Siniestros'!E64=\"\",\"\",'TD Siniestros'!E64)","v":4052.0895499999997},{"$f":"IF('TD Siniestros'!F64=\"\",\"\",'TD Siniestros'!F64)","v":12.222213472147578},{"$f":"IF('TD Siniestros'!G64=\"\",\"\",'TD Siniestros'!G64)","v":15.728550882586291},2.2597383832972558E-2]
[null,{"$f":"IF('TD Siniestros'!A65=\"\",\"\",'TD Siniestros'!A65)","v":57},{"$f":"IF('TD Siniestros'!B65=\"\",\"\",'TD Siniestros'!B65)","v":"Sompo Japan"},{"$f":"IF('TD Siniestros'!C65=\"\",\"\",'TD Siniestros'!C65)","v":23399.659439999996},{"$f":"IF('TD Siniestros'!D65=\"\",\"\",'TD Siniestros'!D65)","v":-175.70195648636934},{"$f":"IF('TD Siniestros'!E65=\"\",\"\",'TD Siniestros'!E65)","v":2.9510900000000002},{"$f":"IF('TD Siniestros'!F65=\"\",\"\",'TD Siniestros'!F65)","v":12.3786812412771},{"$f":"IF('TD Siniestros'!G65=\"\",\"\",'TD Siniestros'!G65)","v":-16.5467658487736},2.2567694817161772E-2]
[null,{"$f":"IF('TD Siniestros'!A66=\"\",\"\",'TD Siniestros'!A66)","v":58},{"$f":"IF('TD Siniestros'!B66=\"\",\"\",'TD Siniestros'!B66)","v":"Solunion Crédito"},{"$f":"IF('TD Siniestros'!C66=\"\",\"\",'TD Siniestros'!C66)","v":46882.794429999994},{"$f":"IF('TD Siniestros'!D66=\"\",\"\",'TD Siniestros'!D66)","v":26.292151293753641},{"$f":"IF('TD Siniestros'!E66=\"\",\"\",'TD Siniestros'!E66)","v":186.24894},{"$f":"IF('TD Siniestros'!F66=\"\",\"\",'TD Siniestros'!F66)","v":26.969520651432926},{"$f":"IF('TD Siniestros'!G66=\"\",\"\",'TD Siniestros'!G66)","v":26.875798984777987},4.5215897247775146E-2]
[null,{"$f":"IF('TD Siniestros'!A67=\"\",\"\",'TD Siniestros'!A67)","v":59},{"$f":"IF('TD Siniestros'!B67=\"\",\"\",'TD Siniestros'!B67)","v":"Swiss Re Corporate Solutions"},{"$f":"IF('TD Siniestros'!C67=\"\",\"\",'TD Siniestros'!C67)","v":33258.891510000001},{"$f":"IF('TD Siniestros'!D67=\"\",\"\",'TD Siniestros'!D67)","v":114.9039242022011},{"$f":"IF('TD Siniestros'!E67=\"\",\"\",'TD Siniestros'!E67)","v":0},{"$f":"IF('TD Siniestros'!F67=\"\",\"\",'TD Siniestros'!F67)","v":25.2770876043847},{"$f":"IF('TD Siniestros'!G67=\"\",\"\",'TD Siniestros'!G67)","v":17.562891478878417},3.2076386217472774E-2]
[null,{"$f":"IF('TD Siniestros'!A68=\"\",\"\",'TD Siniestros'!A68)","v":60},{"$f":"IF('TD Siniestros'!B68=\"\",\"\",'TD Siniestros'!B68)","v":"SHF Cred Vivienda"},{"$f":"IF('TD Siniestros'!C68=\"\",\"\",'TD Siniestros'!C68)","v":-217169.86593},{"$f":"IF('TD Siniestros'!D68=\"\",\"\",'TD Siniestros'!D68)","v":-1371.3724803994501},{"$f":"IF('TD Siniestros'!E68=\"\",\"\",'TD Siniestros'!E68)","v":0},{"$f":"IF('TD Siniestros'!F68=\"\",\"\",'TD Siniestros'!F68)","v":-168.79771058926079},{"$f":"IF('TD Siniestros'!G68=\"\",\"\",'TD Siniestros'!G68)","v":17.309516611925197},-0.20944848664823895]
[null,{"$f":"IF('TD Siniestros'!A69=\"\",\"\",'TD Siniestros'!A69)","v":61},{"$f":"IF('TD Siniestros'!B69=\"\",\"\",'TD Siniestros'!B69)","v":"Skandia Life"},{"$f":"IF('TD Siniestros'!C69=\"\",\"\",'TD Siniestros'!C69)","v":33840.657930000001},{"$f":"IF('TD Siniestros'!D69=\"\",\"\",'TD Siniestros'!D69)","v":220.34954478712999},{"$f":"IF('TD Siniestros'!E69=\"\",\"\",'TD Siniestros'!E69)","v":0},{"$f":"IF('TD Siniestros'!F69=\"\",\"\",'TD Siniestros'!F69)","v":32.140769353304563},{"$f":"IF('TD Siniestros'!G69=\"\",\"\",'TD Siniestros'!G69)","v":6.8968341062175904},3.2637468187708185E-2]
[null,{"$f":"IF('TD Siniestros'!A70=\"\",\"\",'TD Siniestros'!A70)","v":62},{"$f":"IF('TD Siniestros'!B70=\"\",\"\",'TD Siniestros'!B70)","v":"Coface"},{"$f":"IF('TD Siniestros'!C70=\"\",\"\",'TD Siniestros'!C70)","v":-2657.5302299999998},{"$f":"IF('TD Siniestros'!D70=\"\",\"\",'TD Siniestros'!D70)","v":-146.28642400994187},{"$f":"IF('TD Siniestros'!E70=\"\",\"\",'TD Siniestros'!E70)","v":-4724.9663799999998},{"$f":"IF('TD Siniestros'!F70=\"\",\"\",'TD Siniestros'!F70)","v":-2.6446064942571854},{"$f":"IF('TD Siniestros'!G70=\"\",\"\",'TD Siniestros'!G70)","v":5.0539713595749935},-2.5630429088852468E-3]
[null,{"$f":"IF('TD Siniestros'!A71=\"\",\"\",'TD Siniestros'!A71)","v":63},{"$f":"IF('TD Siniestros'!B71=\"\",\"\",'TD Siniestros'!B71)","v":"Patrimonial Daños"},{"$f":"IF('TD Siniestros'!C71=\"\",\"\",'TD Siniestros'!C71)","v":10926.71838},{"$f":"IF('TD Siniestros'!D71=\"\",\"\",'TD Siniestros'!D71)","v":87.578612455353763},{"$f":"IF('TD Siniestros'!E71=\"\",\"\",'TD Siniestros'!E71)","v":0},{"$f":"IF('TD Siniestros'!F71=\"\",\"\",'TD Siniestros'!F71)","v":15.166183741990357},{"$f":"IF('TD Siniestros'!G71=\"\",\"\",'TD Siniestros'!G71)","v":11.182624358282716},1.0538223703007546E-2]
[null,{"$f":"IF('TD Siniestros'!A72=\"\",\"\",'TD Siniestros'!A72)","v":64},{"$f":"IF('TD Siniestros'!B72=\"\",\"\",'TD Siniestros'!B72)","v":"Assurant Daños"},{"$f":"IF('TD Siniestros'!C72=\"\",\"\",'TD Siniestros'!C72)","v":19552.652689999999},{"$f":"IF('TD Siniestros'!D72=\"\",\"\",'TD Siniestros'!D72)","v":74.355335599841951},{"$f":"IF('TD Siniestros'!E72=\"\",\"\",'TD Siniestros'!E72)","v":148.32820999999998},{"$f":"IF('TD Siniestros'!F72=\"\",\"\",'TD Siniestros'!F72)","v":29.893176037336477},{"$f":"IF('TD Siniestros'!G72=\"\",\"\",'TD Siniestros'!G72)","v":18.073105804496009},{"$f":"IFERROR(D73/VLOOKUP(\"TOTAL\",$C$8:$D$124,2,0)*100,\"\")","v":1.8857466703963155E-2}]
[null,{"$f":"IF('TD Siniestros'!A73=\"\",\"\",'TD Siniestros'!A73)","v":65},{"$f":"IF('TD Siniestros'!B73=\"\",\"\",'TD Siniestros'!B73)","v":"MediAccess"},{"$f":"IF('TD Siniestros'!C73=\"\",\"\",'TD Siniestros'!C73)","v":51471.835990000007},{"$f":"IF('TD Siniestros'!D73=\"\",\"\",'TD Siniestros'!D73)","v":54.583366507731654},{"$f":"IF('TD Siniestros'!E73=\"\",\"\",'TD Siniestros'!E73)","v":0},{"$f":"IF('TD Siniestros'!F73=\"\",\"\",'TD Siniestros'!F73)","v":99.471954561910508},{"$f":"IF('TD Siniestros'!G73=\"\",\"\",'TD Siniestros'!G73)","v":91.883263095463363},4.964177744893384E-2]
[null,{"$f":"IF('TD Siniestros'!A74=\"\",\"\",'TD Siniestros'!A74)","v":66},{"$f":"IF('TD Siniestros'!B74=\"\",\"\",'TD Siniestros'!B74)","v":"Centauro"},{"$f":"IF('TD Siniestros'!C74=\"\",\"\",'TD Siniestros'!C74)","v":24760.92627},{"$f":"IF('TD Siniestros'!D74=\"\",\"\",'TD Siniestros'!D74)","v":33.461914675888615},{"$f":"IF('TD Siniestros'!E74=\"\",\"\",'TD Siniestros'!E74)","v":89.036799999999999},{"$f":"IF('TD Siniestros'!F74=\"\",\"\",'TD Siniestros'!F74)","v":56.54420829477904},{"$f":"IF('TD Siniestros'!G74=\"\",\"\",'TD Siniestros'!G74)","v":53.050711356839784},2.3880562402390407E-2]
[null,{"$f":"IF('TD Siniestros'!A75=\"\",\"\",'TD Siniestros'!A75)","v":67},{"$f":"IF('TD Siniestros'!B75=\"\",\"\",'TD Siniestros'!B75)","v":"Odontoprev"},{"$f":"IF('TD Siniestros'!C75=\"\",\"\",'TD Siniestros'!C75)","v":5803.7488400000011},{"$f":"IF('TD Siniestros'!D75=\"\",\"\",'TD Siniestros'!D75)","v":7.0156896566027305},{"$f":"IF('TD Siniestros'!E75=\"\",\"\",'TD Siniestros'!E75)","v":0},{"$f":"IF('TD Siniestros'!F75=\"\",\"\",'TD Siniestros'!F75)","v":15.226188620875988},{"$f":"IF('TD Siniestros'!G75=\"\",\"\",'TD Siniestros'!G75)","v":47.093925690952531},5.5973990968723551E-3]
[null,{"$f":"IF('TD Siniestros'!A76=\"\",\"\",'TD Siniestros'!A76)","v":68},{"$f":"IF('TD Siniestros'!B76=\"\",\"\",'TD Siniestros'!B76)","v":"Virginia Surety"},{"$f":"IF('TD Siniestros'!C76=\"\",\"\",'TD Siniestros'!C76)","v":9368.6654699999999},{"$f":"IF('TD Siniestros'!D76=\"\",\"\",'TD Siniestros'!D76)","v":85.054433377431593},{"$f":"IF('TD Siniestros'!E76=\"\",\"\",'TD Siniestros'!E76)","v":0},{"$f":"IF('TD Siniestros'!F76=\"\",\"\",'TD Siniestros'!F76)","v":26.251605284560565},{"$f":"IF('TD Siniestros'!G76=\"\",\"\",'TD Siniestros'!G76)","v":23.048020447350908},9.0355666804970165E-3]
[null,{"$f":"IF('TD Siniestros'!A77=\"\",\"\",'TD Siniestros'!A77)","v":69},{"$f":"IF('TD Siniestros'!B77=\"\",\"\",'TD Siniestros'!B77)","v":"Genworth Seg. de Crédito"},{"$f":"IF('TD Siniestros'!C77=\"\",\"\",'TD Siniestros'!C77)","v":-272.83399000000003},{"$f":"IF('TD Siniestros'!D77=\"\",\"\",'TD Siniestros'!D77)","v":-103.14481076892315},{"$f":"IF('TD Siniestros'!E77=\"\",\"\",'TD Siniestros'!E77)","v":0},{"$f":"IF('TD Siniestros'!F77=\"\",\"\",'TD Siniestros'!F77)","v":-1.0779532884981573},{"$f":"IF('TD Siniestros'!G77=\"\",\"\",'TD Siniestros'!G77)","v":50.11262378880383},-2.6313349721420425E-4]
[null,{"$f":"IF('TD Siniestros'!A78=\"\",\"\",'TD Siniestros'!A78)","v":70},{"$f":"IF('TD Siniestros'!B78=\"\",\"\",'TD Siniestros'!B78)","v":"Metlife Más"},{"$f":"IF('TD Siniestros'!C78=\"\",\"\",'TD Siniestros'!C78)","v":405.19159999999988},{"$f":"IF('TD Siniestros'!D78=\"\",\"\",'TD Siniestros'!D78)","v":-2168.7912892482382},{"$f":"IF('TD Siniestros'!E78=\"\",\"\",'TD Siniestros'!E78)","v":0},{"$f":"IF('TD Siniestros'!F78=\"\",\"\",'TD Siniestros'!F78)","v":1.6462690756018714},{"$f":"IF('TD Siniestros'!G78=\"\",\"\",'TD Siniestros'!G78)","v":-7.9351496883411324E-2},3.9078519047358763E-4]
[null,{"$f":"IF('TD Siniestros'!A79=\"\",\"\",'TD Siniestros'!A79)","v":71},{"$f":"IF('TD Siniestros'!B79=\"\",\"\",'TD Siniestros'!B79)","v":"Crabi"},{"$f":"IF('TD Siniestros'!C79=\"\",\"\",'TD Siniestros'!C79)","v":9879.7429499999998},{"$f":"IF('TD Siniestros'!D79=\"\",\"\",'TD Siniestros'!D79)","v":26.712764601749228},{"$f":"IF('TD Siniestros'!E79=\"\",\"\",'TD Siniestros'!E79)","v":0},{"$f":"IF('TD Siniestros'!F79=\"\",\"\",'TD Siniestros'!F79)","v":49.924582307419222},{"$f":"IF('TD Siniestros'!G79=\"\",\"\",'TD Siniestros'!G79)","v":84.728345479228821},9.5284730249734582E-3]
[null,{"$f":"IF('TD Siniestros'!A80=\"\",\"\",'TD Siniestros'!A80)","v":72},{"$f":"IF('TD Siniestros'!B80=\"\",\"\",'TD Siniestros'!B80)","v":"SPT"},{"$f":"IF('TD Siniestros'!C80=\"\",\"\",'TD Siniestros'!C80)","v":5304.1057499999997},{"$f":"IF('TD Siniestros'!D80=\"\",\"\",'TD Siniestros'!D80)","v":37.358399139250274},{"$f":"IF('TD Siniestros'!E80=\"\",\"\",'TD Siniestros'!E80)","v":0},{"$f":"IF('TD Siniestros'!F80=\"\",\"\",'TD Siniestros'!F80)","v":51.644129250604884},{"$f":"IF('TD Siniestros'!G80=\"\",\"\",'TD Siniestros'!G80)","v":50.207401051750978},5.1155205976772516E-3]
[null,{"$f":"IF('TD Siniestros'!A81=\"\",\"\",'TD Siniestros'!A81)","v":73},{"$f":"IF('TD Siniestros'!B81=\"\",\"\",'TD Siniestros'!B81)","v":"Citibanamex Pensiones"},{"$f":"IF('TD Siniestros'!C81=\"\",\"\",'TD Siniestros'!C81)","v":195153.23121999999},{"$f":"IF('TD Siniestros'!D81=\"\",\"\",'TD Siniestros'!D81)","v":4.8412709097812812},{"$f":"IF('TD Siniestros'!E81=\"\",\"\",'TD Siniestros'!E81)","v":0},{"$f":"IF('TD Siniestros'!F81=\"\",\"\",'TD Siniestros'!F81)","v":14034.670075108872},{"$f":"IF('TD Siniestros'!G81=\"\",\"\",'TD Siniestros'!G81)","v":1654.4727304430846},0.18821464372371938]
[null,{"$f":"IF('TD Siniestros'!A82=\"\",\"\",'TD Siniestros'!A82)","v":74},{"$f":"IF('TD Siniestros'!B82=\"\",\"\",'TD Siniestros'!B82)","v":"Metlife Pensiones"},{"$f":"IF('TD Siniestros'!C82=\"\",\"\",'TD Siniestros'!C82)","v":91374.918869999994},{"$f":"IF('TD Siniestros'!D82=\"\",\"\",'TD Siniestros'!D82)","v":-4.6113967266525613E-2},{"$f":"IF('TD Siniestros'!E82=\"\",\"\",'TD Siniestros'!E82)","v":0},{"$f":"IF('TD Siniestros'!F82=\"\",\"\",'TD Siniestros'!F82)","v":8333.5005844445313},{"$f":"IF('TD Siniestros'!G82=\"\",\"\",'TD Siniestros'!G82)","v":581.06824431086079},8.8126123727939015E-2]
[null,{"$f":"IF('TD Siniestros'!A83=\"\",\"\",'TD Siniestros'!A83)","v":75},{"$f":"IF('TD Siniestros'!B83=\"\",\"\",'TD Siniestros'!B83)","v":"Pensiones Inbursa"},{"$f":"IF('TD Siniestros'!C83=\"\",\"\",'TD Siniestros'!C83)","v":6364.399879999999},{"$f":"IF('TD Siniestros'!D83=\"\",\"\",'TD Siniestros'!D83)","v":5.2313192492641436},{"$f":"IF('TD Siniestros'!E83=\"\",\"\",'TD Siniestros'!E83)","v":0},{"$f":"IF('TD Siniestros'!F83=\"\",\"\",'TD Siniestros'!F83)","v":6957.864686343446},{"$f":"IF('TD Siniestros'!G83=\"\",\"\",'TD Siniestros'!G83)","v":0},6.1381164351775276E-3]
[null,{"$f":"IF('TD Siniestros'!A84=\"\",\"\",'TD Siniestros'!A84)","v":76},{"$f":"IF('TD Siniestros'!B84=\"\",\"\",'TD Siniestros'!B84)","v":"Quálitas Salud"},{"$f":"IF('TD Siniestros'!C84=\"\",\"\",'TD Siniestros'!C84)","v":3052.3492699999997},{"$f":"IF('TD Siniestros'!D84=\"\",\"\",'TD Siniestros'!D84)","v":0},{"$f":"IF('TD Siniestros'!E84=\"\",\"\",'TD Siniestros'!E84)","v":0},{"$f":"IF('TD Siniestros'!F84=\"\",\"\",'TD Siniestros'!F84)","v":-12021.529426730822},{"$f":"IF('TD Siniestros'!G84=\"\",\"\",'TD Siniestros'!G84)","v":0},2.9438243311778094E-3]
[null,{"$f":"IF('TD Siniestros'!A85=\"\",\"\",'TD Siniestros'!A85)","v":77},{"$f":"IF('TD Siniestros'!B85=\"\",\"\",'TD Siniestros'!B85)","v":"Zurich Daños"},{"$f":"IF('TD Siniestros'!C85=\"\",\"\",'TD Siniestros'!C85)","v":0},{"$f":"IF('TD Siniestros'!D85=\"\",\"\",'TD Siniestros'!D85)","v":0},{"$f":"IF('TD Siniestros'!E85=\"\",\"\",'TD Siniestros'!E85)","v":0},{"$f":"IF('TD Siniestros'!F85=\"\",\"\",'TD Siniestros'!F85)","v":0},{"$f":"IF('TD Siniestros'!G85=\"\",\"\",'TD Siniestros'!G85)","v":0},0]
[null,{"$f":"IF('TD Siniestros'!A86=\"\",\"\",'TD Siniestros'!A86)","v":78},{"$f":"IF('TD Siniestros'!B86=\"\",\"\",'TD Siniestros'!B86)","v":"Aserta Seguros de Vida"},{"$f":"IF('TD Siniestros'!C86=\"\",\"\",'TD Siniestros'!C86)","v":-1151.0593900000003},{"$f":"IF('TD Siniestros'!D86=\"\",\"\",'TD Siniestros'!D86)","v":-107.60573852767239},{"$f":"IF('TD Siniestros'!E86=\"\",\"\",'TD Siniestros'!E86)","v":0},{"$f":"IF('TD Siniestros'!F86=\"\",\"\",'TD Siniestros'!F86)","v":0},{"$f":"IF('TD Siniestros'!G86=\"\",\"\",'TD Siniestros'!G86)","v":14359.329091091437},-1.1101339785118001E-3]
[null,{"$f":"IF('TD Siniestros'!A87=\"\",\"\",'TD Siniestros'!A87)","v":79},{"$f":"IF('TD Siniestros'!B87=\"\",\"\",'TD Siniestros'!B87)","v":"Zurich Vida"},{"$f":"IF('TD Siniestros'!C87=\"\",\"\",'TD Siniestros'!C87)","v":0},{"$f":"IF('TD Siniestros'!D87=\"\",\"\",'TD Siniestros'!D87)","v":0},{"$f":"IF('TD Siniestros'!E87=\"\",\"\",'TD Siniestros'!E87)","v":0},{"$f":"IF('TD Siniestros'!F87=\"\",\"\",'TD Siniestros'!F87)","v":0},{"$f":"IF('TD Siniestros'!G87=\"\",\"\",'TD Siniestros'!G87)","v":0},0]
[null,{"$f":"IF('TD Siniestros'!A88=\"\",\"\",'TD Siniestros'!A88)","v":80},{"$f":"IF('TD Siniestros'!B88=\"\",\"\",'TD Siniestros'!B88)","v":"Principal México"},{"$f":"IF('TD Siniestros'!C88=\"\",\"\",'TD Siniestros'!C88)","v":0},{"$f":"IF('TD Siniestros'!D88=\"\",\"\",'TD Siniestros'!D88)","v":0},{"$f":"IF('TD Siniestros'!E88=\"\",\"\",'TD Siniestros'!E88)","v":0},{"$f":"IF('TD Siniestros'!F88=\"\",\"\",'TD Siniestros'!F88)","v":0},{"$f":"IF('TD Siniestros'!G88=\"\",\"\",'TD Siniestros'!G88)","v":0},0]
[null,{"$f":"IF('TD Siniestros'!A89=\"\",\"\",'TD Siniestros'!A89)","v":150.1},{"$f":"IF('TD Siniestros'!B89=\"\",\"\",'TD Siniestros'!B89)","v":"TOTAL RESTO"},{"$f":"IF('TD Siniestros'!C89=\"\",\"\",'TD Siniestros'!C89)","v":21661251.053870007},{"$f":"IF('TD Siniestros'!D89=\"\",\"\",'TD Siniestros'!D89)","v":16.658634613811074},{"$f":"IF('TD Siniestros'!E89=\"\",\"\",'TD Siniestros'!E89)","v":134922.68824000002},{"$f":"IF('TD Siniestros'!F89=\"\",\"\",'TD Siniestros'!F89)","v":43.77394142005538},{"$f":"IF('TD Siniestros'!G89=\"\",\"\",'TD Siniestros'!G89)","v":40.834045570401692},20.891094778329052]
[null,{"$f":"IF('TD Siniestros'!A90=\"\",\"\",'TD Siniestros'!A90)","v":151.1},{"$f":"IF('TD Siniestros'!B90=\"\",\"\",'TD Siniestros'!B90)","v":"TOTAL"},{"$f":"IF('TD Siniestros'!C90=\"\",\"\",'TD Siniestros'!C90)","v":103686529.03886999},{"$f":"IF('TD Siniestros'!D90=\"\",\"\",'TD Siniestros'!D90)","v":7.6603390865122689},{"$f":"IF('TD Siniestros'!E90=\"\",\"\",'TD Siniestros'!E90)","v":827800.19380999974},{"$f":"IF('TD Siniestros'!F90=\"\",\"\",'TD Siniestros'!F90)","v":47.219320501544821},{"$f":"IF('TD Siniestros'!G90=\"\",\"\",'TD Siniestros'!G90)","v":50.273223393115707},100]
[null,{"$f":"IF('TD Siniestros'!A91=\"\",\"\",'TD Siniestros'!A91)","v":200},{"$f":"IF('TD Siniestros'!B91=\"\",\"\",'TD Siniestros'!B91)","v":"Patria"},{"$f":"IF('TD Siniestros'!C91=\"\",\"\",'TD Siniestros'!C91)","v":0},{"$f":"IF('TD Siniestros'!D91=\"\",\"\",'TD Siniestros'!D91)","v":0},{"$f":"IF('TD Siniestros'!E91=\"\",\"\",'TD Siniestros'!E91)","v":0},{"$f":"IF('TD Siniestros'!F91=\"\",\"\",'TD Siniestros'!F91)","v":0},{"$f":"IF('TD Siniestros'!G91=\"\",\"\",'TD Siniestros'!G91)","v":0},0]
[null,{"$f":"IF('TD Siniestros'!A92=\"\",\"\",'TD Siniestros'!A92)","v":""},{"$f":"IF('TD Siniestros'!B92=\"\",\"\",'TD Siniestros'!B92)","v":""},{"$f":"IF('TD Siniestros'!C92=\"\",\"\",'TD Siniestros'!C92)","v":""},{"$f":"IF('TD Siniestros'!D92=\"\",\"\",'TD Siniestros'!D92)","v":""},{"$f":"IF('TD Siniestros'!E92=\"\",\"\",'TD Siniestros'!E92)","v":""},{"$f":"IF('TD Siniestros'!F92=\"\",\"\",'TD Siniestros'!F92)","v":""},{"$f":"IF('TD Siniestros'!G92=\"\",\"\",'TD Siniestros'!G92)","v":""},""]
[null,{"$f":"IF('TD Siniestros'!A93=\"\",\"\",'TD Siniestros'!A93)","v":""},{"$f":"IF('TD Siniestros'!B93=\"\",\"\",'TD Siniestros'!B93)","v":""},{"$f":"IF('TD Siniestros'!C93=\"\",\"\",'TD Siniestros'!C93)","v":""},{"$f":"IF('TD Siniestros'!D93=\"\",\"\",'TD Siniestros'!D93)","v":""},{"$f":"IF('TD Siniestros'!E93=\"\",\"\",'TD Siniestros'!E93)","v":""},{"$f":"IF('TD Siniestros'!F93=\"\",\"\",'TD Siniestros'!F93)","v":""},{"$f":"IF('TD Siniestros'!G93=\"\",\"\",'TD Siniestros'!G93)","v":""},""]
[null,{"$f":"IF('TD Siniestros'!A94=\"\",\"\",'TD Siniestros'!A94)","v":""},{"$f":"IF('TD Siniestros'!B94=\"\",\"\",'TD Siniestros'!B94)","v":""},{"$f":"IF('TD Siniestros'!C94=\"\",\"\",'TD Siniestros'!C94)","v":""},{"$f":"IF('TD Siniestros'!D94=\"\",\"\",'TD Siniestros'!D94)","v":""},{"$f":"IF('TD Siniestros'!E94=\"\",\"\",'TD Siniestros'!E94)","v":""},{"$f":"IF('TD Siniestros'!F94=\"\",\"\",'TD Siniestros'!F94)","v":""},{"$f":"IF('TD Siniestros'!G94=\"\",\"\",'TD Siniestros'!G94)","v":""},""]
[null,{"$f":"IF('TD Siniestros'!A95=\"\",\"\",'TD Siniestros'!A95)","v":""},{"$f":"IF('TD Siniestros'!B95=\"\",\"\",'TD Siniestros'!B95)","v":""},{"$f":"IF('TD Siniestros'!C95=\"\",\"\",'TD Siniestros'!C95)","v":""},{"$f":"IF('TD Siniestros'!D95=\"\",\"\",'TD Siniestros'!D95)","v":""},{"$f":"IF('TD Siniestros'!E95=\"\",\"\",'TD Siniestros'!E95)","v":""},{"$f":"IF('TD Siniestros'!F95=\"\",\"\",'TD Siniestros'!F95)","v":""},{"$f":"IF('TD Siniestros'!G95=\"\",\"\",'TD Siniestros'!G95)","v":""},""]
[null,{"$f":"IF('TD Siniestros'!A96=\"\",\"\",'TD Siniestros'!A96)","v":""},{"$f":"IF('TD Siniestros'!B96=\"\",\"\",'TD Siniestros'!B96)","v":""},{"$f":"IF('TD Siniestros'!C96=\"\",\"\",'TD Siniestros'!C96)","v":""},{"$f":"IF('TD Siniestros'!D96=\"\",\"\",'TD Siniestros'!D96)","v":""},{"$f":"IF('TD Siniestros'!E96=\"\",\"\",'TD Siniestros'!E96)","v":""},{"$f":"IF('TD Siniestros'!F96=\"\",\"\",'TD Siniestros'!F96)","v":""},{"$f":"IF('TD Siniestros'!G96=\"\",\"\",'TD Siniestros'!G96)","v":""},""]
[null,{"$f":"IF('TD Siniestros'!A97=\"\",\"\",'TD Siniestros'!A97)","v":""},{"$f":"IF('TD Siniestros'!B97=\"\",\"\",'TD Siniestros'!B97)","v":""},{"$f":"IF('TD Siniestros'!C97=\"\",\"\",'TD Siniestros'!C97)","v":""},{"$f":"IF('TD Siniestros'!D97=\"\",\"\",'TD Siniestros'!D97)","v":""},{"$f":"IF('TD Siniestros'!E97=\"\",\"\",'TD Siniestros'!E97)","v":""},{"$f":"IF('TD Siniestros'!F97=\"\",\"\",'TD Siniestros'!F97)","v":""},{"$f":"IF('TD Siniestros'!G97=\"\",\"\",'TD Siniestros'!G97)","v":""},""]
[null,{"$f":"IF('TD Siniestros'!A98=\"\",\"\",'TD Siniestros'!A98)","v":""},{"$f":"IF('TD Siniestros'!B98=\"\",\"\",'TD Siniestros'!B98)","v":""},{"$f":"IF('TD Siniestros'!C98=\"\",\"\",'TD Siniestros'!C98)","v":""},{"$f":"IF('TD Siniestros'!D98=\"\",\"\",'TD Siniestros'!D98)","v":""},{"$f":"IF('TD Siniestros'!E98=\"\",\"\",'TD Siniestros'!E98)","v":""},{"$f":"IF('TD Siniestros'!F98=\"\",\"\",'TD Siniestros'!F98)","v":""},{"$f":"IF('TD Siniestros'!G98=\"\",\"\",'TD Siniestros'!G98)","v":""},""]
[null,{"$f":"IF('TD Siniestros'!A99=\"\",\"\",'TD Siniestros'!A99)","v":""},{"$f":"IF('TD Siniestros'!B99=\"\",\"\",'TD Siniestros'!B99)","v":""},{"$f":"IF('TD Siniestros'!C99=\"\",\"\",'TD Siniestros'!C99)","v":""},{"$f":"IF('TD Siniestros'!D99=\"\",\"\",'TD Siniestros'!D99)","v":""},{"$f":"IF('TD Siniestros'!E99=\"\",\"\",'TD Siniestros'!E99)","v":""},{"$f":"IF('TD Siniestros'!F99=\"\",\"\",'TD Siniestros'!F99)","v":""},{"$f":"IF('TD Siniestros'!G99=\"\",\"\",'TD Siniestros'!G99)","v":""},""]
[null,{"$f":"IF('TD Siniestros'!A100=\"\",\"\",'TD Siniestros'!A100)","v":""},{"$f":"IF('TD Siniestros'!B100=\"\",\"\",'TD Siniestros'!B100)","v":""},{"$f":"IF('TD Siniestros'!C100=\"\",\"\",'TD Siniestros'!C100)","v":""},{"$f":"IF('TD Siniestros'!D100=\"\",\"\",'TD Siniestros'!D100)","v":""},{"$f":"IF('TD Siniestros'!E100=\"\",\"\",'TD Siniestros'!E100)","v":""},{"$f":"IF('TD Siniestros'!F100=\"\",\"\",'TD Siniestros'!F100)","v":""},{"$f":"IF('TD Siniestros'!G100=\"\",\"\",'TD Siniestros'!G100)","v":""},""]
[null,{"$f":"IF('TD Siniestros'!A101=\"\",\"\",'TD Siniestros'!A101)","v":""},{"$f":"IF('TD Siniestros'!B101=\"\",\"\",'TD Siniestros'!B101)","v":""},{"$f":"IF('TD Siniestros'!C101=\"\",\"\",'TD Siniestros'!C101)","v":""},{"$f":"IF('TD Siniestros'!D101=\"\",\"\",'TD Siniestros'!D101)","v":""},{"$f":"IF('TD Siniestros'!E101=\"\",\"\",'TD Siniestros'!E101)","v":""},{"$f":"IF('TD Siniestros'!F101=\"\",\"\",'TD Siniestros'!F101)","v":""},{"$f":"IF('TD Siniestros'!G101=\"\",\"\",'TD Siniestros'!G101)","v":""},""]
[null,{"$f":"IF('TD Siniestros'!A102=\"\",\"\",'TD Siniestros'!A102)","v":""},{"$f":"IF('TD Siniestros'!B102=\"\",\"\",'TD Siniestros'!B102)","v":""},{"$f":"IF('TD Siniestros'!C102=\"\",\"\",'TD Siniestros'!C102)","v":""},{"$f":"IF('TD Siniestros'!D102=\"\",\"\",'TD Siniestros'!D102)","v":""},{"$f":"IF('TD Siniestros'!E102=\"\",\"\",'TD Siniestros'!E102)","v":""},{"$f":"IF('TD Siniestros'!F102=\"\",\"\",'TD Siniestros'!F102)","v":""},{"$f":"IF('TD Siniestros'!G102=\"\",\"\",'TD Siniestros'!G102)","v":""},""]
[null,{"$f":"IF('TD Siniestros'!A103=\"\",\"\",'TD Siniestros'!A103)","v":""},{"$f":"IF('TD Siniestros'!B103=\"\",\"\",'TD Siniestros'!B103)","v":""},{"$f":"IF('TD Siniestros'!C103=\"\",\"\",'TD Siniestros'!C103)","v":""},{"$f":"IF('TD Siniestros'!D103=\"\",\"\",'TD Siniestros'!D103)","v":""},{"$f":"IF('TD Siniestros'!E103=\"\",\"\",'TD Siniestros'!E103)","v":""},{"$f":"IF('TD Siniestros'!F103=\"\",\"\",'TD Siniestros'!F103)","v":""},{"$f":"IF('TD Siniestros'!G103=\"\",\"\",'TD Siniestros'!G103)","v":""},""]
[null,{"$f":"IF('TD Siniestros'!A104=\"\",\"\",'TD Siniestros'!A104)","v":""},{"$f":"IF('TD Siniestros'!B104=\"\",\"\",'TD Siniestros'!B104)","v":""},{"$f":"IF('TD Siniestros'!C104=\"\",\"\",'TD Siniestros'!C104)","v":""},{"$f":"IF('TD Siniestros'!D104=\"\",\"\",'TD Siniestros'!D104)","v":""},{"$f":"IF('TD Siniestros'!E104=\"\",\"\",'TD Siniestros'!E104)","v":""},{"$f":"IF('TD Siniestros'!F104=\"\",\"\",'TD Siniestros'!F104)","v":""},{"$f":"IF('TD Siniestros'!G104=\"\",\"\",'TD Siniestros'!G104)","v":""},""]
[null,{"$f":"IF('TD Siniestros'!A105=\"\",\"\",'TD Siniestros'!A105)","v":""},{"$f":"IF('TD Siniestros'!B105=\"\",\"\",'TD Siniestros'!B105)","v":""},{"$f":"IF('TD Siniestros'!C105=\"\",\"\",'TD Siniestros'!C105)","v":""},{"$f":"IF('TD Siniestros'!D105=\"\",\"\",'TD Siniestros'!D105)","v":""},{"$f":"IF('TD Siniestros'!E105=\"\",\"\",'TD Siniestros'!E105)","v":""},{"$f":"IF('TD Siniestros'!F105=\"\",\"\",'TD Siniestros'!F105)","v":""},{"$f":"IF('TD Siniestros'!G105=\"\",\"\",'TD Siniestros'!G105)","v":""},""]
[null,{"$f":"IF('TD Siniestros'!A106=\"\",\"\",'TD Siniestros'!A106)","v":""},{"$f":"IF('TD Siniestros'!B106=\"\",\"\",'TD Siniestros'!B106)","v":""},{"$f":"IF('TD Siniestros'!C106=\"\",\"\",'TD Siniestros'!C106)","v":""},{"$f":"IF('TD Siniestros'!D106=\"\",\"\",'TD Siniestros'!D106)","v":""},{"$f":"IF('TD Siniestros'!E106=\"\",\"\",'TD Siniestros'!E106)","v":""},{"$f":"IF('TD Siniestros'!F106=\"\",\"\",'TD Siniestros'!F106)","v":""},{"$f":"IF('TD Siniestros'!G106=\"\",\"\",'TD Siniestros'!G106)","v":""},""]
[null,{"$f":"IF('TD Siniestros'!A107=\"\",\"\",'TD Siniestros'!A107)","v":""},{"$f":"IF('TD Siniestros'!B107=\"\",\"\",'TD Siniestros'!B107)","v":""},{"$f":"IF('TD Siniestros'!C107=\"\",\"\",'TD Siniestros'!C107)","v":""},{"$f":"IF('TD Siniestros'!D107=\"\",\"\",'TD Siniestros'!D107)","v":""},{"$f":"IF('TD Siniestros'!E107=\"\",\"\",'TD Siniestros'!E107)","v":""},{"$f":"IF('TD Siniestros'!F107=\"\",\"\",'TD Siniestros'!F107)","v":""},{"$f":"IF('TD Siniestros'!G107=\"\",\"\",'TD Siniestros'!G107)","v":""},""]
[null,{"$f":"IF('TD Siniestros'!A108=\"\",\"\",'TD Siniestros'!A108)","v":""},{"$f":"IF('TD Siniestros'!B108=\"\",\"\",'TD Siniestros'!B108)","v":""},{"$f":"IF('TD Siniestros'!C108=\"\",\"\",'TD Siniestros'!C108)","v":""},{"$f":"IF('TD Siniestros'!D108=\"\",\"\",'TD Siniestros'!D108)","v":""},{"$f":"IF('TD Siniestros'!E108=\"\",\"\",'TD Siniestros'!E108)","v":""},{"$f":"IF('TD Siniestros'!F108=\"\",\"\",'TD Siniestros'!F108)","v":""},{"$f":"IF('TD Siniestros'!G108=\"\",\"\",'TD Siniestros'!G108)","v":""},""]
[null,{"$f":"IF('TD Siniestros'!A109=\"\",\"\",'TD Siniestros'!A109)","v":""},{"$f":"IF('TD Siniestros'!B109=\"\",\"\",'TD Siniestros'!B109)","v":""},{"$f":"IF('TD Siniestros'!C109=\"\",\"\",'TD Siniestros'!C109)","v":""},{"$f":"IF('TD Siniestros'!D109=\"\",\"\",'TD Siniestros'!D109)","v":""},{"$f":"IF('TD Siniestros'!E109=\"\",\"\",'TD Siniestros'!E109)","v":""},{"$f":"IF('TD Siniestros'!F109=\"\",\"\",'TD Siniestros'!F109)","v":""},{"$f":"IF('TD Siniestros'!G109=\"\",\"\",'TD Siniestros'!G109)","v":""},""]
[null,{"$f":"IF('TD Siniestros'!A110=\"\",\"\",'TD Siniestros'!A110)","v":""},{"$f":"IF('TD Siniestros'!B110=\"\",\"\",'TD Siniestros'!B110)","v":""},{"$f":"IF('TD Siniestros'!C110=\"\",\"\",'TD Siniestros'!C110)","v":""},{"$f":"IF('TD Siniestros'!D110=\"\",\"\",'TD Siniestros'!D110)","v":""},{"$f":"IF('TD Siniestros'!E110=\"\",\"\",'TD Siniestros'!E110)","v":""},{"$f":"IF('TD Siniestros'!F110=\"\",\"\",'TD Siniestros'!F110)","v":""},{"$f":"IF('TD Siniestros'!G110=\"\",\"\",'TD Siniestros'!G110)","v":""},""]
[null,{"$f":"IF('TD Siniestros'!A111=\"\",\"\",'TD Siniestros'!A111)","v":""},{"$f":"IF('TD Siniestros'!B111=\"\",\"\",'TD Siniestros'!B111)","v":""},{"$f":"IF('TD Siniestros'!C111=\"\",\"\",'TD Siniestros'!C111)","v":""},{"$f":"IF('TD Siniestros'!D111=\"\",\"\",'TD Siniestros'!D111)","v":""},{"$f":"IF('TD Siniestros'!E111=\"\",\"\",'TD Siniestros'!E111)","v":""},{"$f":"IF('TD Siniestros'!F111=\"\",\"\",'TD Siniestros'!F111)","v":""},{"$f":"IF('TD Siniestros'!G111=\"\",\"\",'TD Siniestros'!G111)","v":""},""]
[null,{"$f":"IF('TD Siniestros'!A112=\"\",\"\",'TD Siniestros'!A112)","v":""},{"$f":"IF('TD Siniestros'!B112=\"\",\"\",'TD Siniestros'!B112)","v":""},{"$f":"IF('TD Siniestros'!C112=\"\",\"\",'TD Siniestros'!C112)","v":""},{"$f":"IF('TD Siniestros'!D112=\"\",\"\",'TD Siniestros'!D112)","v":""},{"$f":"IF('TD Siniestros'!E112=\"\",\"\",'TD Siniestros'!E112)","v":""},{"$f":"IF('TD Siniestros'!F112=\"\",\"\",'TD Siniestros'!F112)","v":""},{"$f":"IF('TD Siniestros'!G112=\"\",\"\",'TD Siniestros'!G112)","v":""},""]
[null,{"$f":"IF('TD Siniestros'!A113=\"\",\"\",'TD Siniestros'!A113)","v":""},{"$f":"IF('TD Siniestros'!B113=\"\",\"\",'TD Siniestros'!B113)","v":""},{"$f":"IF('TD Siniestros'!C113=\"\",\"\",'TD Siniestros'!C113)","v":""},{"$f":"IF('TD Siniestros'!D113=\"\",\"\",'TD Siniestros'!D113)","v":""},{"$f":"IF('TD Siniestros'!E113=\"\",\"\",'TD Siniestros'!E113)","v":""},{"$f":"IF('TD Siniestros'!F113=\"\",\"\",'TD Siniestros'!F113)","v":""},{"$f":"IF('TD Siniestros'!G113=\"\",\"\",'TD Siniestros'!G113)","v":""},""]
[null,{"$f":"IF('TD Siniestros'!A114=\"\",\"\",'TD Siniestros'!A114)","v":""},{"$f":"IF('TD Siniestros'!B114=\"\",\"\",'TD Siniestros'!B114)","v":""},{"$f":"IF('TD Siniestros'!C114=\"\",\"\",'TD Siniestros'!C114)","v":""},{"$f":"IF('TD Siniestros'!D114=\"\",\"\",'TD Siniestros'!D114)","v":""},{"$f":"IF('TD Siniestros'!E114=\"\",\"\",'TD Siniestros'!E114)","v":""},{"$f":"IF('TD Siniestros'!F114=\"\",\"\",'TD Siniestros'!F114)","v":""},{"$f":"IF('TD Siniestros'!G114=\"\",\"\",'TD Siniestros'!G114)","v":""},""]
[null,{"$f":"IF('TD Siniestros'!A115=\"\",\"\",'TD Siniestros'!A115)","v":""},{"$f":"IF('TD Siniestros'!B115=\"\",\"\",'TD Siniestros'!B115)","v":""},{"$f":"IF('TD Siniestros'!C115=\"\",\"\",'TD Siniestros'!C115)","v":""},{"$f":"IF('TD Siniestros'!D115=\"\",\"\",'TD Siniestros'!D115)","v":""},{"$f":"IF('TD Siniestros'!E115=\"\",\"\",'TD Siniestros'!E115)","v":""},{"$f":"IF('TD Siniestros'!F115=\"\",\"\",'TD Siniestros'!F115)","v":""},{"$f":"IF('TD Siniestros'!G115=\"\",\"\",'TD Siniestros'!G115)","v":""},""]
[null,{"$f":"IF('TD Siniestros'!A116=\"\",\"\",'TD Siniestros'!A116)","v":""},{"$f":"IF('TD Siniestros'!B116=\"\",\"\",'TD Siniestros'!B116)","v":""},{"$f":"IF('TD Siniestros'!C116=\"\",\"\",'TD Siniestros'!C116)","v":""},{"$f":"IF('TD Siniestros'!D116=\"\",\"\",'TD Siniestros'!D116)","v":""},{"$f":"IF('TD Siniestros'!E116=\"\",\"\",'TD Siniestros'!E116)","v":""},{"$f":"IF('TD Siniestros'!F116=\"\",\"\",'TD Siniestros'!F116)","v":""},{"$f":"IF('TD Siniestros'!G116=\"\",\"\",'TD Siniestros'!G116)","v":""},""]
[null,{"$f":"IF('TD Siniestros'!A117=\"\",\"\",'TD Siniestros'!A117)","v":""},{"$f":"IF('TD Siniestros'!B117=\"\",\"\",'TD Siniestros'!B117)","v":""},{"$f":"IF('TD Siniestros'!C117=\"\",\"\",'TD Siniestros'!C117)","v":""},{"$f":"IF('TD Siniestros'!D117=\"\",\"\",'TD Siniestros'!D117)","v":""},{"$f":"IF('TD Siniestros'!E117=\"\",\"\",'TD Siniestros'!E117)","v":""},{"$f":"IF('TD Siniestros'!F117=\"\",\"\",'TD Siniestros'!F117)","v":""},{"$f":"IF('TD Siniestros'!G117=\"\",\"\",'TD Siniestros'!G117)","v":""},""]
[null,{"$f":"IF('TD Siniestros'!A118=\"\",\"\",'TD Siniestros'!A118)","v":""},{"$f":"IF('TD Siniestros'!B118=\"\",\"\",'TD Siniestros'!B118)","v":""},{"$f":"IF('TD Siniestros'!C118=\"\",\"\",'TD Siniestros'!C118)","v":""},{"$f":"IF('TD Siniestros'!D118=\"\",\"\",'TD Siniestros'!D118)","v":""},{"$f":"IF('TD Siniestros'!E118=\"\",\"\",'TD Siniestros'!E118)","v":""},{"$f":"IF('TD Siniestros'!F118=\"\",\"\",'TD Siniestros'!F118)","v":""},{"$f":"IF('TD Siniestros'!G118=\"\",\"\",'TD Siniestros'!G118)","v":""},""]
[null,{"$f":"IF('TD Siniestros'!A119=\"\",\"\",'TD Siniestros'!A119)","v":""},{"$f":"IF('TD Siniestros'!B119=\"\",\"\",'TD Siniestros'!B119)","v":""},{"$f":"IF('TD Siniestros'!C119=\"\",\"\",'TD Siniestros'!C119)","v":""},{"$f":"IF('TD Siniestros'!D119=\"\",\"\",'TD Siniestros'!D119)","v":""},{"$f":"IF('TD Siniestros'!E119=\"\",\"\",'TD Siniestros'!E119)","v":""},{"$f":"IF('TD Siniestros'!F119=\"\",\"\",'TD Siniestros'!F119)","v":""},{"$f":"IF('TD Siniestros'!G119=\"\",\"\",'TD Siniestros'!G119)","v":""},""]
[null,{"$f":"IF('TD Siniestros'!A120=\"\",\"\",'TD Siniestros'!A120)","v":""},{"$f":"IF('TD Siniestros'!B120=\"\",\"\",'TD Siniestros'!B120)","v":""},{"$f":"IF('TD Siniestros'!C120=\"\",\"\",'TD Siniestros'!C120)","v":""},{"$f":"IF('TD Siniestros'!D120=\"\",\"\",'TD Siniestros'!D120)","v":""},{"$f":"IF('TD Siniestros'!E120=\"\",\"\",'TD Siniestros'!E120)","v":""},{"$f":"IF('TD Siniestros'!F120=\"\",\"\",'TD Siniestros'!F120)","v":""},{"$f":"IF('TD Siniestros'!G120=\"\",\"\",'TD Siniestros'!G120)","v":""},""]
[null,{"$f":"IF('TD Siniestros'!A121=\"\",\"\",'TD Siniestros'!A121)","v":""},{"$f":"IF('TD Siniestros'!B121=\"\",\"\",'TD Siniestros'!B121)","v":""},{"$f":"IF('TD Siniestros'!C121=\"\",\"\",'TD Siniestros'!C121)","v":""},{"$f":"IF('TD Siniestros'!D121=\"\",\"\",'TD Siniestros'!D121)","v":""},{"$f":"IF('TD Siniestros'!E121=\"\",\"\",'TD Siniestros'!E121)","v":""},{"$f":"IF('TD Siniestros'!F121=\"\",\"\",'TD Siniestros'!F121)","v":""},{"$f":"IF('TD Siniestros'!G121=\"\",\"\",'TD Siniestros'!G121)","v":""},""]
[null,{"$f":"IF('TD Siniestros'!A122=\"\",\"\",'TD Siniestros'!A122)","v":""},{"$f":"IF('TD Siniestros'!B122=\"\",\"\",'TD Siniestros'!B122)","v":""},{"$f":"IF('TD Siniestros'!C122=\"\",\"\",'TD Siniestros'!C122)","v":""},{"$f":"IF('TD Siniestros'!D122=\"\",\"\",'TD Siniestros'!D122)","v":""},{"$f":"IF('TD Siniestros'!E122=\"\",\"\",'TD Siniestros'!E122)","v":""},{"$f":"IF('TD Siniestros'!F122=\"\",\"\",'TD Siniestros'!F122)","v":""},{"$f":"IF('TD Siniestros'!G122=\"\",\"\",'TD Siniestros'!G122)","v":""},""]
[null,{"$f":"IF('TD Siniestros'!A123=\"\",\"\",'TD Siniestros'!A123)","v":""},{"$f":"IF('TD Siniestros'!B123=\"\",\"\",'TD Siniestros'!B123)","v":""},{"$f":"IF('TD Siniestros'!C123=\"\",\"\",'TD Siniestros'!C123)","v":""},{"$f":"IF('TD Siniestros'!D123=\"\",\"\",'TD Siniestros'!D123)","v":""},{"$f":"IF('TD Siniestros'!E123=\"\",\"\",'TD Siniestros'!E123)","v":""},{"$f":"IF('TD Siniestros'!F123=\"\",\"\",'TD Siniestros'!F123)","v":""},{"$f":"IF('TD Siniestros'!G123=\"\",\"\",'TD Siniestros'!G123)","v":""},""]

{"sheet":"Primas Directas (Vida)","index":11,"n_rows":211,"n_cols":12,"rows_kept":211,"cut":false,"hidden":false,"merged":[[1,2,1,11]]}
[null,null,"Análisis de Primas Directas",null,null,null,null,null,null,null,null,{"$f":"'Primas Directas'!L1","v":"Primer Trimestre 2023"}]
[null,null,{"$f":"UPPER(RIGHT('TDPrimas Vida'!B3,LEN('TDPrimas Vida'!B3)-3))","v":"VIDA TOTAL"}]
[null,null,null,null,null,null,null,null,null,null,null,"Cifras en miles"]
[null,null,null,null,2,3,4,5,6,7,8,9]
[null,null,null,null,"Primas Directas",null,"% Part. en Merc. ",null,"Incremento",null,"% de Cartera"]
[null,null,"Compañías",null,{"$f":"'Primas Directas'!$D$6","v":"2023"},{"$f":"'Primas Directas'!$E$6","v":2022},{"$f":"$E$6","v":"2023"},{"$f":"$F$6","v":2022},"Importe","%","Por ","Total"]
[null,null,null,null,"Importe","Importe",null,null,null,null,"Operación","Cartera"]
[null,{"$f":"IF(C8=\"\",B2,D8)","v":"TOTAL"},151.1,"TOTAL",{"$f":"VLOOKUP($D8,$D$12:$L$211,E$4,0)","v":83951294.718330011},{"$f":"VLOOKUP($D8,$D$12:$L$211,F$4,0)","v":77974362.671590015},100,107.6652528369016,5976932.0467399955,7.6652528369016038,38.23180434884074,46.355708791781495]
[null,{"$f":"IF(C9=\"\",B8,D9)","v":"TOTAL"},null,{"$f":"IF(D8=\"\",\"\",\"1er Año\")","v":"1er Año"},{"$f":"IF(E8=\"\",\"\",(VLOOKUP(B9,'TDPrimas Vida'!$B:$N,5,0)))","v":35800375.31453},{"$f":"IF(E8=\"\",\"\",(VLOOKUP(B9,'TDPrimas Vida'!$B:$N,6,0)))","v":31584970.643019997},{"$f":"IFERROR((E9/VLOOKUP(\"TOTAL\",$D$12:$L$312,2,0))*100,\"\")","v":42.644220597962153},{"$f":"IFERROR((E9/VLOOKUP(\"TOTAL\",$D$12:$L$312,3,0))*100,\"\")","v":45.913007927122024},{"$f":"IF(E8=\"\",\"\",E9-F9)","v":4215404.6715100035},{"$f":"IF(E8=\"\",\"\",IFERROR((E9/F9-1)*100,\"ND\"))","v":13.346235838409971},{"$f":"IF(E8=\"\",\"\",IFERROR((E9/VLOOKUP(B9&\"|\"&VLOOKUP(TDPrimas!$B$4,Cat!R:T,2,0),'TD Operación'!A:D,4,0))*100,\"ND\"))","v":16.303654985100934},{"$f":"IF(E8=\"\",\"\",(VLOOKUP(B9,'TDPrimas Vida'!$B:$N,7,0)))","v":19.768030716916236}]
[null,"TOTAL",null,{"$f":"IF(D9=\"\",\"\",\"Renovación\")","v":"Renovación"},{"$f":"IF(E8=\"\",\"\",(VLOOKUP(B10,'TDPrimas Vida'!$B:$N,8,0)))","v":38552532.416940004},{"$f":"IF(E8=\"\",\"\",(VLOOKUP(B10,'TDPrimas Vida'!$B:$N,9,0)))","v":38778823.262489989},{"$f":"IFERROR((E10/VLOOKUP(\"TOTAL\",$D$12:$L$312,2,0))*100,\"\")","v":45.922498927848466},{"$f":"IFERROR((E10/VLOOKUP(\"TOTAL\",$D$12:$L$312,3,0))*100,\"\")","v":49.442574579691474},{"$f":"IF(E8=\"\",\"\",E10-F10)","v":-226290.84554998577},{"$f":"IF(E8=\"\",\"\",IFERROR((E10/F10-1)*100,\"ND\"))","v":-0.58354232158682739},{"$f":"IF(E8=\"\",\"\",IFERROR((E10/VLOOKUP(B10&\"|\"&VLOOKUP(TDPrimas!$B$4,Cat!R:T,2,0),'TD Operación'!A:D,4,0))*100,\"ND\"))","v":17.556999942193514},{"$f":"IF(E8=\"\",\"\",(VLOOKUP(B10,'TDPrimas Vida'!$B:$N,10,0)))","v":21.287699872902415}]
[null,"TOTAL",null,{"$f":"IF(D10=\"\",\"\",\"Únicas\")","v":"Únicas"},{"$f":"IF(E9=\"\",\"\",(VLOOKUP(B11,'TDPrimas Vida'!$B:$N,11,0)))","v":8905240.2659200002},{"$f":"IF(E9=\"\",\"\",(VLOOKUP(B11,'TDPrimas Vida'!$B:$N,12,0)))","v":6964396.3290700009},{"$f":"IFERROR((E11/VLOOKUP(\"TOTAL\",$D$12:$L$312,2,0))*100,\"\")","v":10.607627072099962},{"$f":"IFERROR((E11/VLOOKUP(\"TOTAL\",$D$12:$L$312,3,0))*100,\"\")","v":11.420728507172047},{"$f":"IF(E8=\"\",\"\",E11-F11)","v":1940843.9368499992},{"$f":"IF(E8=\"\",\"\",IFERROR((E11/F11-1)*100,\"ND\"))","v":27.868085691056187},{"$f":"IF(E8=\"\",\"\",IFERROR((E11/VLOOKUP(B11&\"|\"&VLOOKUP(TDPrimas!$B$4,Cat!R:T,2,0),'TD Operación'!A:D,4,0))*100,\"ND\"))","v":4.0554872282599215},{"$f":"IF(E8=\"\",\"\",(VLOOKUP(B11,'TDPrimas Vida'!$B:$N,13,0)))","v":4.9172407152608368}]
[null,{"$f":"IF(C12=\"\",B7,D12)","v":"Metlife México"},{"$f":"IF('TDPrimas Vida'!A7=\"\",\"\",'TDPrimas Vida'!A7)","v":1},{"$f":"IF('TDPrimas Vida'!B7=\"\",\"\",'TDPrimas Vida'!B7)","v":"Metlife México"},{"$f":"IF('TDPrimas Vida'!C7=\"\",\"\",'TDPrimas Vida'!C7)","v":17646520.229729999},{"$f":"IF('TDPrimas Vida'!D7=\"\",\"\",'TDPrimas Vida'!D7)","v":16817655.51083},{"$f":"IF('TDPrimas Vida'!C7=\"\",\"\",IFERROR((E12/VLOOKUP(\"TOTAL\",$D$12:$L$312,2,0))*100,\"\"))","v":21.019950066210281},{"$f":"IF('TDPrimas Vida'!C7=\"\",\"\",IFERROR((E12/VLOOKUP(\"TOTAL\",$D$12:$L$312,3,0))*100,\"\"))","v":22.631182384975766},{"$f":"IF('TDPrimas Vida'!C7=\"\",\"\",E12-F12)","v":828864.71889999881},{"$f":"IFERROR(IF('TDPrimas Vida'!C7=\"\",\"\",(E12/F12-1)*100),\"ND\")","v":4.928539048538827},{"$f":"IFERROR((E12/VLOOKUP(B12&\"|\"&VLOOKUP(TDPrimas!$B$4,Cat!R:T,2,0),'TD Operación'!A:D,4,0))*100,\"ND\")","v":67.618878841479074},{"$f":"IF('TDPrimas Vida'!E7=\"\",\"\",'TDPrimas Vida'!E7)","v":67.618878841479074}]
[null,{"$f":"IF(C13=\"\",B12,D13)","v":"Metlife México"},null,{"$f":"IF(D12=\"\",\"\",\"1er Año\")","v":"1er Año"},{"$f":"IF(E12=\"\",\"\",(VLOOKUP(B13,'TDPrimas Vida'!$B:$N,5,0)))","v":2509547.3853099998},{"$f":"IF(E12=\"\",\"\",(VLOOKUP(B13,'TDPrimas Vida'!$B:$N,6,0)))","v":2309419.2963399999},{"$f":"IFERROR((E13/VLOOKUP(\"TOTAL\",$D$12:$L$312,2,0))*100,\"\")","v":2.9892896753170177},{"$f":"IFERROR((E13/VLOOKUP(\"TOTAL\",$D$12:$L$312,3,0))*100,\"\")","v":3.2184262869574618},{"$f":"IF(E12=\"\",\"\",E13-F13)","v":200128.08896999992},{"$f":"IF(E12=\"\",\"\",IFERROR((E13/F13-1)*100,\"ND\"))","v":8.6657320862939748},{"$f":"IF(E12=\"\",\"\",IFERROR((E13/VLOOKUP(B13&\"|\"&VLOOKUP(TDPrimas!$B$4,Cat!R:T,2,0),'TD Operación'!A:D,4,0))*100,\"ND\"))","v":9.6162177236698128},{"$f":"IF(E12=\"\",\"\",(VLOOKUP(B13,'TDPrimas Vida'!$B:$N,7,0)))","v":9.6162177236698128}]
[null,"Metlife México",null,{"$f":"IF(D13=\"\",\"\",\"Renovación\")","v":"Renovación"},{"$f":"IF(E12=\"\",\"\",(VLOOKUP(B14,'TDPrimas Vida'!$B:$N,8,0)))","v":13356148.097899999},{"$f":"IF(E12=\"\",\"\",(VLOOKUP(B14,'TDPrimas Vida'!$B:$N,9,0)))","v":13013045.217829999},{"$f":"IFERROR((E14/VLOOKUP(\"TOTAL\",$D$12:$L$312,2,0))*100,\"\")","v":15.909400971970722},{"$f":"IFERROR((E14/VLOOKUP(\"TOTAL\",$D$12:$L$312,3,0))*100,\"\")","v":17.128896781308757},{"$f":"IF(E12=\"\",\"\",E14-F14)","v":343102.88007000089},{"$f":"IF(E12=\"\",\"\",IFERROR((E14/F14-1)*100,\"ND\"))","v":2.6366071455733886},{"$f":"IF(E12=\"\",\"\",IFERROR((E14/VLOOKUP(B14&\"|\"&VLOOKUP(TDPrimas!$B$4,Cat!R:T,2,0),'TD Operación'!A:D,4,0))*100,\"ND\"))","v":51.178801727674653},{"$f":"IF(E12=\"\",\"\",(VLOOKUP(B14,'TDPrimas Vida'!$B:$N,10,0)))","v":51.178801727674653}]
[null,"Metlife México",null,{"$f":"IF(D14=\"\",\"\",\"Únicas\")","v":"Únicas"},{"$f":"IF(E13=\"\",\"\",(VLOOKUP(B15,'TDPrimas Vida'!$B:$N,11,0)))","v":1780824.74652},{"$f":"IF(E13=\"\",\"\",(VLOOKUP(B15,'TDPrimas Vida'!$B:$N,12,0)))","v":1495190.9966600002},{"$f":"IFERROR((E15/VLOOKUP(\"TOTAL\",$D$12:$L$312,2,0))*100,\"\")","v":2.1212594189225444},{"$f":"IFERROR((E15/VLOOKUP(\"TOTAL\",$D$12:$L$312,3,0))*100,\"\")","v":2.2838593167095476},{"$f":"IF(E12=\"\",\"\",E15-F15)","v":285633.74985999987},{"$f":"IF(E12=\"\",\"\",IFERROR((E15/F15-1)*100,\"ND\"))","v":19.103495840869613},{"$f":"IF(E12=\"\",\"\",IFERROR((E15/VLOOKUP(B15&\"|\"&VLOOKUP(TDPrimas!$B$4,Cat!R:T,2,0),'TD Operación'!A:D,4,0))*100,\"ND\"))","v":6.8238593901346194},{"$f":"IF(E12=\"\",\"\",(VLOOKUP(B15,'TDPrimas Vida'!$B:$N,13,0)))","v":6.8238593901346194}]
[null,"BBVA Bancomer",{"$f":"IF('TDPrimas Vida'!A8=\"\",\"\",'TDPrimas Vida'!A8)","v":2},{"$f":"IF('TDPrimas Vida'!B8=\"\",\"\",'TDPrimas Vida'!B8)","v":"BBVA Bancomer"},{"$f":"IF('TDPrimas Vida'!C8=\"\",\"\",'TDPrimas Vida'!C8)","v":13962952.188959999},{"$f":"IF('TDPrimas Vida'!D8=\"\",\"\",'TDPrimas Vida'!D8)","v":11906835.161259999},{"$f":"IF('TDPrimas Vida'!C8=\"\",\"\",IFERROR((E16/VLOOKUP(\"TOTAL\",$D$12:$L$312,2,0))*100,\"\"))","v":16.632205894867887},{"$f":"IF('TDPrimas Vida'!C8=\"\",\"\",IFERROR((E16/VLOOKUP(\"TOTAL\",$D$12:$L$312,3,0))*100,\"\"))","v":17.907106529063565},{"$f":"IF('TDPrimas Vida'!C8=\"\",\"\",E16-F16)","v":2056117.0276999995},{"$f":"IFERROR(IF('TDPrimas Vida'!C8=\"\",\"\",(E16/F16-1)*100),\"ND\")","v":17.268375683823756},{"$f":"IF(E16=\"\",\"\",IFERROR((E16/VLOOKUP(D16&\"|\"&VLOOKUP(TDPrimas!$B$4,Cat!R:T,2,0),'TD Operación'!A:D,4,0))*100,\"ND\"))","v":79.317592899624316},{"$f":"IF('TDPrimas Vida'!E8=\"\",\"\",'TDPrimas Vida'!E8)","v":79.317592899624316}]
[null,"BBVA Bancomer",null,{"$f":"IF(D16=\"\",\"\",\"1er Año\")","v":"1er Año"},{"$f":"IF(E16=\"\",\"\",(VLOOKUP(B17,'TDPrimas Vida'!$B:$N,5,0)))","v":12113834.814679999},{"$f":"IF(E16=\"\",\"\",(VLOOKUP(B17,'TDPrimas Vida'!$B:$N,6,0)))","v":10376484.49563},{"$f":"IFERROR((E17/VLOOKUP(\"TOTAL\",$D$12:$L$312,2,0))*100,\"\")","v":14.429598561075021},{"$f":"IFERROR((E17/VLOOKUP(\"TOTAL\",$D$12:$L$312,3,0))*100,\"\")","v":15.53566377413134},{"$f":"IF(E16=\"\",\"\",E17-F17)","v":1737350.3190499991},{"$f":"IF(E16=\"\",\"\",IFERROR((E17/F17-1)*100,\"ND\"))","v":16.743149568446558},{"$f":"IF(E16=\"\",\"\",IFERROR((E17/VLOOKUP(B17&\"|\"&VLOOKUP(TDPrimas!$B$4,Cat!R:T,2,0),'TD Operación'!A:D,4,0))*100,\"ND\"))","v":68.813543531559588},{"$f":"IF(E16=\"\",\"\",(VLOOKUP(B17,'TDPrimas Vida'!$B:$N,7,0)))","v":68.813543531559588}]
[null,"BBVA Bancomer",null,{"$f":"IF(D17=\"\",\"\",\"Renovación\")","v":"Renovación"},{"$f":"IF(E16=\"\",\"\",(VLOOKUP(B18,'TDPrimas Vida'!$B:$N,8,0)))","v":1233041.75333},{"$f":"IF(E16=\"\",\"\",(VLOOKUP(B18,'TDPrimas Vida'!$B:$N,9,0)))","v":1081815.68313},{"$f":"IFERROR((E18/VLOOKUP(\"TOTAL\",$D$12:$L$312,2,0))*100,\"\")","v":1.4687584717627666},{"$f":"IFERROR((E18/VLOOKUP(\"TOTAL\",$D$12:$L$312,3,0))*100,\"\")","v":1.5813425221867947},{"$f":"IF(E16=\"\",\"\",E18-F18)","v":151226.07019999996},{"$f":"IF(E16=\"\",\"\",IFERROR((E18/F18-1)*100,\"ND\"))","v":13.97891272591465},{"$f":"IF(E16=\"\",\"\",IFERROR((E18/VLOOKUP(B18&\"|\"&VLOOKUP(TDPrimas!$B$4,Cat!R:T,2,0),'TD Operación'!A:D,4,0))*100,\"ND\"))","v":7.0043857842753594},{"$f":"IF(E16=\"\",\"\",(VLOOKUP(B18,'TDPrimas Vida'!$B:$N,10,0)))","v":7.0043857842753594}]
[null,"BBVA Bancomer",null,{"$f":"IF(D18=\"\",\"\",\"Únicas\")","v":"Únicas"},{"$f":"IF(E17=\"\",\"\",(VLOOKUP(B19,'TDPrimas Vida'!$B:$N,11,0)))","v":616075.62095000001},{"$f":"IF(E17=\"\",\"\",(VLOOKUP(B19,'TDPrimas Vida'!$B:$N,12,0)))","v":448534.98249999998},{"$f":"IFERROR((E19/VLOOKUP(\"TOTAL\",$D$12:$L$312,2,0))*100,\"\")","v":0.73384886203009969},{"$f":"IFERROR((E19/VLOOKUP(\"TOTAL\",$D$12:$L$312,3,0))*100,\"\")","v":0.79010023274543217},{"$f":"IF(E16=\"\",\"\",E19-F19)","v":167540.63845000003},{"$f":"IF(E16=\"\",\"\",IFERROR((E19/F19-1)*100,\"ND\"))","v":37.35285874831402},{"$f":"IF(E16=\"\",\"\",IFERROR((E19/VLOOKUP(B19&\"|\"&VLOOKUP(TDPrimas!$B$4,Cat!R:T,2,0),'TD Operación'!A:D,4,0))*100,\"ND\"))","v":3.4996635837893688},{"$f":"IF(E16=\"\",\"\",(VLOOKUP(B19,'TDPrimas Vida'!$B:$N,13,0)))","v":3.4996635837893688}]
[null,{"$f":"IF(C20=\"\",B16,D20)","v":"G.N.P."},{"$f":"IF('TDPrimas Vida'!A9=\"\",\"\",'TDPrimas Vida'!A9)","v":3},{"$f":"IF('TDPrimas Vida'!B9=\"\",\"\",'TDPrimas Vida'!B9)","v":"G.N.P."},{"$f":"IF('TDPrimas Vida'!C9=\"\",\"\",'TDPrimas Vida'!C9)","v":8699615.61809},{"$f":"IF('TDPrimas Vida'!D9=\"\",\"\",'TDPrimas Vida'!D9)","v":7352217.2469899999},{"$f":"IF('TDPrimas Vida'!C9=\"\",\"\",IFERROR((E20/VLOOKUP(\"TOTAL\",$D$12:$L$312,2,0))*100,\"\"))","v":10.362693806305904},{"$f":"IF('TDPrimas Vida'!C9=\"\",\"\",IFERROR((E20/VLOOKUP(\"TOTAL\",$D$12:$L$312,3,0))*100,\"\"))","v":11.157020487273195},{"$f":"IF('TDPrimas Vida'!C9=\"\",\"\",E20-F20)","v":1347398.3711000001},{"$f":"IFERROR(IF('TDPrimas Vida'!C9=\"\",\"\",(E20/F20-1)*100),\"ND\")","v":18.326422164029843},{"$f":"IF(E20=\"\",\"\",IFERROR((E20/VLOOKUP(D20&\"|\"&VLOOKUP(TDPrimas!$B$4,Cat!R:T,2,0),'TD Operación'!A:D,4,0))*100,\"ND\"))","v":32.611375234545413},{"$f":"IF('TDPrimas Vida'!E9=\"\",\"\",'TDPrimas Vida'!E9)","v":32.611375234545413}]
[null,{"$f":"IF(C21=\"\",B20,D21)","v":"G.N.P."},null,{"$f":"IF(D20=\"\",\"\",\"1er Año\")","v":"1er Año"},{"$f":"IF(E20=\"\",\"\",(VLOOKUP(B21,'TDPrimas Vida'!$B:$N,5,0)))","v":2289790.2685999996},{"$f":"IF(E20=\"\",\"\",(VLOOKUP(B21,'TDPrimas Vida'!$B:$N,6,0)))","v":1512666.53666},{"$f":"IFERROR((E21/VLOOKUP(\"TOTAL\",$D$12:$L$312,2,0))*100,\"\")","v":2.7275222809637558},{"$f":"IFERROR((E21/VLOOKUP(\"TOTAL\",$D$12:$L$312,3,0))*100,\"\")","v":2.9365937599824532},{"$f":"IF(E20=\"\",\"\",E21-F21)","v":777123.73193999962},{"$f":"IF(E20=\"\",\"\",IFERROR((E21/F21-1)*100,\"ND\"))","v":51.374424772819083},{"$f":"IF(E20=\"\",\"\",IFERROR((E21/VLOOKUP(B21&\"|\"&VLOOKUP(TDPrimas!$B$4,Cat!R:T,2,0),'TD Operación'!A:D,4,0))*100,\"ND\"))","v":8.5835067818915451},{"$f":"IF(E20=\"\",\"\",(VLOOKUP(B21,'TDPrimas Vida'!$B:$N,7,0)))","v":8.5835067818915451}]
[null,{"$f":"IF(C22=\"\",B21,D22)","v":"G.N.P."},null,{"$f":"IF(D21=\"\",\"\",\"Renovación\")","v":"Renovación"},{"$f":"IF(E20=\"\",\"\",(VLOOKUP(B22,'TDPrimas Vida'!$B:$N,8,0)))","v":4211545.6443799995},{"$f":"IF(E20=\"\",\"\",(VLOOKUP(B22,'TDPrimas Vida'!$B:$N,9,0)))","v":4189906.7013899996},{"$f":"IFERROR((E22/VLOOKUP(\"TOTAL\",$D$12:$L$312,2,0))*100,\"\")","v":5.0166535948140014},{"$f":"IFERROR((E22/VLOOKUP(\"TOTAL\",$D$12:$L$312,3,0))*100,\"\")","v":5.4011927768080081},{"$f":"IF(E20=\"\",\"\",E22-F22)","v":21638.942989999894},{"$f":"IF(E20=\"\",\"\",IFERROR((E22/F22-1)*100,\"ND\"))","v":0.51645405332823024},{"$f":"IF(E20=\"\",\"\",IFERROR((E22/VLOOKUP(B22&\"|\"&VLOOKUP(TDPrimas!$B$4,Cat!R:T,2,0),'TD Operación'!A:D,4,0))*100,\"ND\"))","v":15.787398128337705},{"$f":"IF(E20=\"\",\"\",(VLOOKUP(B22,'TDPrimas Vida'!$B:$N,10,0)))","v":15.787398128337705}]
[null,{"$f":"IF(C23=\"\",B22,D23)","v":"G.N.P."},null,{"$f":"IF(D22=\"\",\"\",\"Únicas\")","v":"Únicas"},{"$f":"IF(E21=\"\",\"\",(VLOOKUP(B23,'TDPrimas Vida'!$B:$N,11,0)))","v":2198279.70511},{"$f":"IF(E21=\"\",\"\",(VLOOKUP(B23,'TDPrimas Vida'!$B:$N,12,0)))","v":1649644.0089400001},{"$f":"IFERROR((E23/VLOOKUP(\"TOTAL\",$D$12:$L$312,2,0))*100,\"\")","v":2.6185179305281463},{"$f":"IFERROR((E23/VLOOKUP(\"TOTAL\",$D$12:$L$312,3,0))*100,\"\")","v":2.8192339504827317},{"$f":"IF(E20=\"\",\"\",E23-F23)","v":548635.69616999989},{"$f":"IF(E20=\"\",\"\",IFERROR((E23/F23-1)*100,\"ND\"))","v":33.257823699946812},{"$f":"IF(E20=\"\",\"\",IFERROR((E23/VLOOKUP(B23&\"|\"&VLOOKUP(TDPrimas!$B$4,Cat!R:T,2,0),'TD Operación'!A:D,4,0))*100,\"ND\"))","v":8.2404703243161634},{"$f":"IF(E20=\"\",\"\",(VLOOKUP(B23,'TDPrimas Vida'!$B:$N,13,0)))","v":8.2404703243161634}]
[null,{"$f":"IF(C24=\"\",B20,D24)","v":"Citibanamex Seguros"},{"$f":"IF('TDPrimas Vida'!A10=\"\",\"\",'TDPrimas Vida'!A10)","v":4},{"$f":"IF('TDPrimas Vida'!B10=\"\",\"\",'TDPrimas Vida'!B10)","v":"Citibanamex Seguros"},{"$f":"IF('TDPrimas Vida'!C10=\"\",\"\",'TDPrimas Vida'!C10)","v":7831081.57259},{"$f":"IF('TDPrimas Vida'!D10=\"\",\"\",'TDPrimas Vida'!D10)","v":5094137.7829299998},{"$f":"IF('TDPrimas Vida'!C10=\"\",\"\",IFERROR((E24/VLOOKUP(\"TOTAL\",$D$12:$L$312,2,0))*100,\"\"))","v":9.3281248357926199},{"$f":"IF('TDPrimas Vida'!C10=\"\",\"\",IFERROR((E24/VLOOKUP(\"TOTAL\",$D$12:$L$312,3,0))*100,\"\"))","v":10.043149189397937},{"$f":"IF('TDPrimas Vida'!C10=\"\",\"\",E24-F24)","v":2736943.7896600002},{"$f":"IFERROR(IF('TDPrimas Vida'!C10=\"\",\"\",(E24/F24-1)*100),\"ND\")","v":53.727321605459011},{"$f":"IF(E24=\"\",\"\",IFERROR((E24/VLOOKUP(D24&\"|\"&VLOOKUP(TDPrimas!$B$4,Cat!R:T,2,0),'TD Operación'!A:D,4,0))*100,\"ND\"))","v":97.207741529645446},{"$f":"IF('TDPrimas Vida'!E10=\"\",\"\",'TDPrimas Vida'!E10)","v":97.207741529645446}]
[null,{"$f":"IF(C25=\"\",B24,D25)","v":"Citibanamex Seguros"},null,{"$f":"IF(D24=\"\",\"\",\"1er Año\")","v":"1er Año"},{"$f":"IF(E24=\"\",\"\",(VLOOKUP(B25,'TDPrimas Vida'!$B:$N,5,0)))","v":3759204.7664999999},{"$f":"IF(E24=\"\",\"\",(VLOOKUP(B25,'TDPrimas Vida'!$B:$N,6,0)))","v":3174926.0152099999},{"$f":"IFERROR((E25/VLOOKUP(\"TOTAL\",$D$12:$L$312,2,0))*100,\"\")","v":4.4778401323204511},{"$f":"IFERROR((E25/VLOOKUP(\"TOTAL\",$D$12:$L$312,3,0))*100,\"\")","v":4.8210779000950623},{"$f":"IF(E24=\"\",\"\",E25-F25)","v":584278.75129000004},{"$f":"IF(E24=\"\",\"\",IFERROR((E25/F25-1)*100,\"ND\"))","v":18.402909185628815},{"$f":"IF(E24=\"\",\"\",IFERROR((E25/VLOOKUP(B25&\"|\"&VLOOKUP(TDPrimas!$B$4,Cat!R:T,2,0),'TD Operación'!A:D,4,0))*100,\"ND\"))","v":46.663261250908583},{"$f":"IF(E24=\"\",\"\",(VLOOKUP(B25,'TDPrimas Vida'!$B:$N,7,0)))","v":46.663261250908583}]
[null,{"$f":"IF(C26=\"\",B25,D26)","v":"Citibanamex Seguros"},null,{"$f":"IF(D25=\"\",\"\",\"Renovación\")","v":"Renovación"},{"$f":"IF(E24=\"\",\"\",(VLOOKUP(B26,'TDPrimas Vida'!$B:$N,8,0)))","v":4071876.8060899996},{"$f":"IF(E24=\"\",\"\",(VLOOKUP(B26,'TDPrimas Vida'!$B:$N,9,0)))","v":1919211.7677199999},{"$f":"IFERROR((E26/VLOOKUP(\"TOTAL\",$D$12:$L$312,2,0))*100,\"\")","v":4.8502847034721697},{"$f":"IFERROR((E26/VLOOKUP(\"TOTAL\",$D$12:$L$312,3,0))*100,\"\")","v":5.2220712893028738},{"$f":"IF(E24=\"\",\"\",E26-F26)","v":2152665.0383699997},{"$f":"IF(E24=\"\",\"\",IFERROR((E26/F26-1)*100,\"ND\"))","v":112.1640183004578},{"$f":"IF(E24=\"\",\"\",IFERROR((E26/VLOOKUP(B26&\"|\"&VLOOKUP(TDPrimas!$B$4,Cat!R:T,2,0),'TD Operación'!A:D,4,0))*100,\"ND\"))","v":50.54448027873687},{"$f":"IF(E24=\"\",\"\",(VLOOKUP(B26,'TDPrimas Vida'!$B:$N,10,0)))","v":50.54448027873687}]
[null,{"$f":"IF(C27=\"\",B26,D27)","v":"Citibanamex Seguros"},null,{"$f":"IF(D26=\"\",\"\",\"Únicas\")","v":"Únicas"},{"$f":"IF(E25=\"\",\"\",(VLOOKUP(B27,'TDPrimas Vida'!$B:$N,11,0)))","v":0},{"$f":"IF(E25=\"\",\"\",(VLOOKUP(B27,'TDPrimas Vida'!$B:$N,12,0)))","v":0},{"$f":"IFERROR((E27/VLOOKUP(\"TOTAL\",$D$12:$L$312,2,0))*100,\"\")","v":0},{"$f":"IFERROR((E27/VLOOKUP(\"TOTAL\",$D$12:$L$312,3,0))*100,\"\")","v":0},{"$f":"IF(E24=\"\",\"\",E27-F27)","v":0},{"$f":"IF(E24=\"\",\"\",IFERROR((E27/F27-1)*100,\"ND\"))","v":"ND"},{"$f":"IF(E24=\"\",\"\",IFERROR((E27/VLOOKUP(B27&\"|\"&VLOOKUP(TDPrimas!$B$4,Cat!R:T,2,0),'TD Operación'!A:D,4,0))*100,\"ND\"))","v":0},{"$f":"IF(E24=\"\",\"\",(VLOOKUP(B27,'TDPrimas Vida'!$B:$N,13,0)))","v":0}]
[null,{"$f":"IF(C28=\"\",B24,D28)","v":"Banorte"},{"$f":"IF('TDPrimas Vida'!A11=\"\",\"\",'TDPrimas Vida'!A11)","v":5},{"$f":"IF('TDPrimas Vida'!B11=\"\",\"\",'TDPrimas Vida'!B11)","v":"Banorte"},{"$f":"IF('TDPrimas Vida'!C11=\"\",\"\",'TDPrimas Vida'!C11)","v":6687033.3928900007},{"$f":"IF('TDPrimas Vida'!D11=\"\",\"\",'TDPrimas Vida'!D11)","v":9064775.8129200004},{"$f":"IF('TDPrimas Vida'!C11=\"\",\"\",IFERROR((E28/VLOOKUP(\"TOTAL\",$D$12:$L$312,2,0))*100,\"\"))","v":7.9653725595609517},{"$f":"IF('TDPrimas Vida'!C11=\"\",\"\",IFERROR((E28/VLOOKUP(\"TOTAL\",$D$12:$L$312,3,0))*100,\"\"))","v":8.5759385056524771},{"$f":"IF('TDPrimas Vida'!C11=\"\",\"\",E28-F28)","v":-2377742.4200299997},{"$f":"IFERROR(IF('TDPrimas Vida'!C11=\"\",\"\",(E28/F28-1)*100),\"ND\")","v":-26.230570607615135},{"$f":"IF(E28=\"\",\"\",IFERROR((E28/VLOOKUP(D28&\"|\"&VLOOKUP(TDPrimas!$B$4,Cat!R:T,2,0),'TD Operación'!A:D,4,0))*100,\"ND\"))","v":57.448083311594075},{"$f":"IF('TDPrimas Vida'!E11=\"\",\"\",'TDPrimas Vida'!E11)","v":57.448083311594075}]
[null,{"$f":"IF(C29=\"\",B28,D29)","v":"Banorte"},null,{"$f":"IF(D28=\"\",\"\",\"1er Año\")","v":"1er Año"},{"$f":"IF(E28=\"\",\"\",(VLOOKUP(B29,'TDPrimas Vida'!$B:$N,5,0)))","v":1266536.4686800002},{"$f":"IF(E28=\"\",\"\",(VLOOKUP(B29,'TDPrimas Vida'!$B:$N,6,0)))","v":1524982.1186200001},{"$f":"IFERROR((E29/VLOOKUP(\"TOTAL\",$D$12:$L$312,2,0))*100,\"\")","v":1.5086562666239181},{"$f":"IFERROR((E29/VLOOKUP(\"TOTAL\",$D$12:$L$312,3,0))*100,\"\")","v":1.6242985839004016},{"$f":"IF(E28=\"\",\"\",E29-F29)","v":-258445.64993999992},{"$f":"IF(E28=\"\",\"\",IFERROR((E29/F29-1)*100,\"ND\"))","v":-16.947454451064303},{"$f":"IF(E28=\"\",\"\",IFERROR((E29/VLOOKUP(B29&\"|\"&VLOOKUP(TDPrimas!$B$4,Cat!R:T,2,0),'TD Operación'!A:D,4,0))*100,\"ND\"))","v":10.880773026685214},{"$f":"IF(E28=\"\",\"\",(VLOOKUP(B29,'TDPrimas Vida'!$B:$N,7,0)))","v":10.880773026685214}]
[null,{"$f":"IF(C30=\"\",B29,D30)","v":"Banorte"},null,{"$f":"IF(D29=\"\",\"\",\"Renovación\")","v":"Renovación"},{"$f":"IF(E28=\"\",\"\",(VLOOKUP(B30,'TDPrimas Vida'!$B:$N,8,0)))","v":4224507.6665599998},{"$f":"IF(E28=\"\",\"\",(VLOOKUP(B30,'TDPrimas Vida'!$B:$N,9,0)))","v":7044133.4336700002},{"$f":"IFERROR((E30/VLOOKUP(\"TOTAL\",$D$12:$L$312,2,0))*100,\"\")","v":5.0320935260544788},{"$f":"IFERROR((E30/VLOOKUP(\"TOTAL\",$D$12:$L$312,3,0))*100,\"\")","v":5.4178162178159113},{"$f":"IF(E28=\"\",\"\",E30-F30)","v":-2819625.7671100004},{"$f":"IF(E28=\"\",\"\",IFERROR((E30/F30-1)*100,\"ND\"))","v":-40.028000515046649},{"$f":"IF(E28=\"\",\"\",IFERROR((E30/VLOOKUP(B30&\"|\"&VLOOKUP(TDPrimas!$B$4,Cat!R:T,2,0),'TD Operación'!A:D,4,0))*100,\"ND\"))","v":36.292606021236139},{"$f":"IF(E28=\"\",\"\",(VLOOKUP(B30,'TDPrimas Vida'!$B:$N,10,0)))","v":36.292606021236139}]
[null,{"$f":"IF(C31=\"\",B30,D31)","v":"Banorte"},null,{"$f":"IF(D30=\"\",\"\",\"Únicas\")","v":"Únicas"},{"$f":"IF(E29=\"\",\"\",(VLOOKUP(B31,'TDPrimas Vida'!$B:$N,11,0)))","v":1195989.25765},{"$f":"IF(E29=\"\",\"\",(VLOOKUP(B31,'TDPrimas Vida'!$B:$N,12,0)))","v":495660.26062999998},{"$f":"IFERROR((E31/VLOOKUP(\"TOTAL\",$D$12:$L$312,2,0))*100,\"\")","v":1.4246227668825535},{"$f":"IFERROR((E31/VLOOKUP(\"TOTAL\",$D$12:$L$312,3,0))*100,\"\")","v":1.5338237039361646},{"$f":"IF(E28=\"\",\"\",E31-F31)","v":700328.99702000013},{"$f":"IF(E28=\"\",\"\",IFERROR((E31/F31-1)*100,\"ND\"))","v":141.29214154264849},{"$f":"IF(E28=\"\",\"\",IFERROR((E31/VLOOKUP(B31&\"|\"&VLOOKUP(TDPrimas!$B$4,Cat!R:T,2,0),'TD Operación'!A:D,4,0))*100,\"ND\"))","v":10.274704263672723},{"$f":"IF(E28=\"\",\"\",(VLOOKUP(B31,'TDPrimas Vida'!$B:$N,13,0)))","v":10.274704263672723}]
[null,{"$f":"IF(C32=\"\",B28,D32)","v":"TOTAL GRANDES"},{"$f":"IF('TDPrimas Vida'!A12=\"\",\"\",'TDPrimas Vida'!A12)","v":5.0999999999999996},{"$f":"IF('TDPrimas Vida'!B12=\"\",\"\",'TDPrimas Vida'!B12)","v":"TOTAL GRANDES"},{"$f":"IF('TDPrimas Vida'!C12=\"\",\"\",'TDPrimas Vida'!C12)","v":54827203.002259992},{"$f":"IF('TDPrimas Vida'!D12=\"\",\"\",'TDPrimas Vida'!D12)","v":50235621.51493001},{"$f":"IF('TDPrimas Vida'!C12=\"\",\"\",IFERROR((E32/VLOOKUP(\"TOTAL\",$D$12:$L$312,2,0))*100,\"\"))","v":65.308347162737647},{"$f":"IF('TDPrimas Vida'!C12=\"\",\"\",IFERROR((E32/VLOOKUP(\"TOTAL\",$D$12:$L$312,3,0))*100,\"\"))","v":70.314397096362939},{"$f":"IF('TDPrimas Vida'!C12=\"\",\"\",E32-F32)","v":4591581.4873299822},{"$f":"IFERROR(IF('TDPrimas Vida'!C12=\"\",\"\",(E32/F32-1)*100),\"ND\")","v":9.1400909332143279},{"$f":"IF(E32=\"\",\"\",IFERROR((E32/VLOOKUP(D32&\"|\"&VLOOKUP(TDPrimas!$B$4,Cat!R:T,2,0),'TD Operación'!A:D,4,0))*100,\"ND\"))","v":56.281148135595494},{"$f":"IF('TDPrimas Vida'!E12=\"\",\"\",'TDPrimas Vida'!E12)","v":60.869287349184297}]
[null,{"$f":"IF(C33=\"\",B32,D33)","v":"TOTAL GRANDES"},null,{"$f":"IF(D32=\"\",\"\",\"1er Año\")","v":"1er Año"},{"$f":"IF(E32=\"\",\"\",(VLOOKUP(B33,'TDPrimas Vida'!$B:$N,5,0)))","v":21938913.70377},{"$f":"IF(E32=\"\",\"\",(VLOOKUP(B33,'TDPrimas Vida'!$B:$N,6,0)))","v":18898478.46246},{"$f":"IFERROR((E33/VLOOKUP(\"TOTAL\",$D$12:$L$312,2,0))*100,\"\")","v":26.132906916300168},{"$f":"IFERROR((E33/VLOOKUP(\"TOTAL\",$D$12:$L$312,3,0))*100,\"\")","v":28.136060305066717},{"$f":"IF(E32=\"\",\"\",E33-F33)","v":3040435.2413100004},{"$f":"IF(E32=\"\",\"\",IFERROR((E33/F33-1)*100,\"ND\"))","v":16.08825412770414},{"$f":"IF(E32=\"\",\"\",IFERROR((E33/VLOOKUP(B33&\"|\"&VLOOKUP(TDPrimas!$B$4,Cat!R:T,2,0),'TD Operación'!A:D,4,0))*100,\"ND\"))","v":22.52070476848926},{"$f":"IF(E32=\"\",\"\",(VLOOKUP(B33,'TDPrimas Vida'!$B:$N,7,0)))","v":24.356632642899683}]
[null,{"$f":"IF(C34=\"\",B33,D34)","v":"TOTAL GRANDES"},null,{"$f":"IF(D33=\"\",\"\",\"Renovación\")","v":"Renovación"},{"$f":"IF(E32=\"\",\"\",(VLOOKUP(B34,'TDPrimas Vida'!$B:$N,8,0)))","v":27097119.968259998},{"$f":"IF(E32=\"\",\"\",(VLOOKUP(B34,'TDPrimas Vida'!$B:$N,9,0)))","v":27248112.803739995},{"$f":"IFERROR((E34/VLOOKUP(\"TOTAL\",$D$12:$L$312,2,0))*100,\"\")","v":32.277191268074134},{"$f":"IFERROR((E34/VLOOKUP(\"TOTAL\",$D$12:$L$312,3,0))*100,\"\")","v":34.751319587422344},{"$f":"IF(E32=\"\",\"\",E34-F34)","v":-150992.8354799971},{"$f":"IF(E32=\"\",\"\",IFERROR((E34/F34-1)*100,\"ND\"))","v":-0.55414052550191162},{"$f":"IF(E32=\"\",\"\",IFERROR((E34/VLOOKUP(B34&\"|\"&VLOOKUP(TDPrimas!$B$4,Cat!R:T,2,0),'TD Operación'!A:D,4,0))*100,\"ND\"))","v":27.815699861960496},{"$f":"IF(E32=\"\",\"\",(VLOOKUP(B34,'TDPrimas Vida'!$B:$N,10,0)))","v":30.083285146159099}]
[null,{"$f":"IF(C35=\"\",B34,D35)","v":"TOTAL GRANDES"},null,{"$f":"IF(D34=\"\",\"\",\"Únicas\")","v":"Únicas"},{"$f":"IF(E33=\"\",\"\",(VLOOKUP(B35,'TDPrimas Vida'!$B:$N,11,0)))","v":5791169.3302300004},{"$f":"IF(E33=\"\",\"\",(VLOOKUP(B35,'TDPrimas Vida'!$B:$N,12,0)))","v":4089030.2487300001},{"$f":"IFERROR((E35/VLOOKUP(\"TOTAL\",$D$12:$L$312,2,0))*100,\"\")","v":6.8982489783633447},{"$f":"IFERROR((E35/VLOOKUP(\"TOTAL\",$D$12:$L$312,3,0))*100,\"\")","v":7.4270172038738771},{"$f":"IF(E32=\"\",\"\",E35-F35)","v":1702139.0815000003},{"$f":"IF(E32=\"\",\"\",IFERROR((E35/F35-1)*100,\"ND\"))","v":41.626962334863208},{"$f":"IF(E32=\"\",\"\",IFERROR((E35/VLOOKUP(B35&\"|\"&VLOOKUP(TDPrimas!$B$4,Cat!R:T,2,0),'TD Operación'!A:D,4,0))*100,\"ND\"))","v":5.9447435051457376},{"$f":"IF(E32=\"\",\"\",(VLOOKUP(B35,'TDPrimas Vida'!$B:$N,13,0)))","v":6.4293695601255223}]
[null,{"$f":"IF(C36=\"\",B32,D36)","v":"Monterrey New York Life"},{"$f":"IF('TDPrimas Vida'!A13=\"\",\"\",'TDPrimas Vida'!A13)","v":6},{"$f":"IF('TDPrimas Vida'!B13=\"\",\"\",'TDPrimas Vida'!B13)","v":"Monterrey New York Life"},{"$f":"IF('TDPrimas Vida'!C13=\"\",\"\",'TDPrimas Vida'!C13)","v":6428564.6628400004},{"$f":"IF('TDPrimas Vida'!D13=\"\",\"\",'TDPrimas Vida'!D13)","v":6193660.3552700002},{"$f":"IF('TDPrimas Vida'!C13=\"\",\"\",IFERROR((E36/VLOOKUP(\"TOTAL\",$D$12:$L$312,2,0))*100,\"\"))","v":7.6574931743564649},{"$f":"IF('TDPrimas Vida'!C13=\"\",\"\",IFERROR((E36/VLOOKUP(\"TOTAL\",$D$12:$L$312,3,0))*100,\"\"))","v":8.2444593871393703},{"$f":"IF('TDPrimas Vida'!C13=\"\",\"\",E36-F36)","v":234904.30757000018},{"$f":"IFERROR(IF('TDPrimas Vida'!C13=\"\",\"\",(E36/F36-1)*100),\"ND\")","v":3.7926572349116228},{"$f":"IF(E36=\"\",\"\",IFERROR((E36/VLOOKUP(D36&\"|\"&VLOOKUP(TDPrimas!$B$4,Cat!R:T,2,0),'TD Operación'!A:D,4,0))*100,\"ND\"))","v":62.88071712579071},{"$f":"IF('TDPrimas Vida'!E13=\"\",\"\",'TDPrimas Vida'!E13)","v":62.88071712579071}]
[null,{"$f":"IF(C37=\"\",B36,D37)","v":"Monterrey New York Life"},null,{"$f":"IF(D36=\"\",\"\",\"1er Año\")","v":"1er Año"},{"$f":"IF(E36=\"\",\"\",(VLOOKUP(B37,'TDPrimas Vida'!$B:$N,5,0)))","v":583833.49925999995},{"$f":"IF(E36=\"\",\"\",(VLOOKUP(B37,'TDPrimas Vida'!$B:$N,6,0)))","v":509897.11298999999},{"$f":"IFERROR((E37/VLOOKUP(\"TOTAL\",$D$12:$L$312,2,0))*100,\"\")","v":0.69544311522395752},{"$f":"IFERROR((E37/VLOOKUP(\"TOTAL\",$D$12:$L$312,3,0))*100,\"\")","v":0.74875058834269881},{"$f":"IF(E36=\"\",\"\",E37-F37)","v":73936.386269999959},{"$f":"IF(E36=\"\",\"\",IFERROR((E37/F37-1)*100,\"ND\"))","v":14.500255911715666},{"$f":"IF(E36=\"\",\"\",IFERROR((E37/VLOOKUP(B37&\"|\"&VLOOKUP(TDPrimas!$B$4,Cat!R:T,2,0),'TD Operación'!A:D,4,0))*100,\"ND\"))","v":5.7107412060019769},{"$f":"IF(E36=\"\",\"\",(VLOOKUP(B37,'TDPrimas Vida'!$B:$N,7,0)))","v":5.7107412060019769}]
[null,{"$f":"IF(C38=\"\",B37,D38)","v":"Monterrey New York Life"},null,{"$f":"IF(D37=\"\",\"\",\"Renovación\")","v":"Renovación"},{"$f":"IF(E36=\"\",\"\",(VLOOKUP(B38,'TDPrimas Vida'!$B:$N,8,0)))","v":4336934.5127400002},{"$f":"IF(E36=\"\",\"\",(VLOOKUP(B38,'TDPrimas Vida'!$B:$N,9,0)))","v":4145932.0830999999},{"$f":"IFERROR((E38/VLOOKUP(\"TOTAL\",$D$12:$L$312,2,0))*100,\"\")","v":5.166012659234271},{"$f":"IFERROR((E38/VLOOKUP(\"TOTAL\",$D$12:$L$312,3,0))*100,\"\")","v":5.5620005911509214},{"$f":"IF(E36=\"\",\"\",E38-F38)","v":191002.42964000022},{"$f":"IF(E36=\"\",\"\",IFERROR((E38/F38-1)*100,\"ND\"))","v":4.6069840463277334},{"$f":"IF(E36=\"\",\"\",IFERROR((E38/VLOOKUP(B38&\"|\"&VLOOKUP(TDPrimas!$B$4,Cat!R:T,2,0),'TD Operación'!A:D,4,0))*100,\"ND\"))","v":42.421530557990181},{"$f":"IF(E36=\"\",\"\",(VLOOKUP(B38,'TDPrimas Vida'!$B:$N,10,0)))","v":42.421530557990181}]
[null,{"$f":"IF(C39=\"\",B38,D39)","v":"Monterrey New York Life"},null,{"$f":"IF(D38=\"\",\"\",\"Únicas\")","v":"Únicas"},{"$f":"IF(E37=\"\",\"\",(VLOOKUP(B39,'TDPrimas Vida'!$B:$N,11,0)))","v":1507796.65084},{"$f":"IF(E37=\"\",\"\",(VLOOKUP(B39,'TDPrimas Vida'!$B:$N,12,0)))","v":1537831.1591800002},{"$f":"IFERROR((E39/VLOOKUP(\"TOTAL\",$D$12:$L$312,2,0))*100,\"\")","v":1.7960373998982366},{"$f":"IFERROR((E39/VLOOKUP(\"TOTAL\",$D$12:$L$312,3,0))*100,\"\")","v":1.9337082076457499},{"$f":"IF(E36=\"\",\"\",E39-F39)","v":-30034.508340000175},{"$f":"IF(E36=\"\",\"\",IFERROR((E39/F39-1)*100,\"ND\"))","v":-1.953043294818857},{"$f":"IF(E36=\"\",\"\",IFERROR((E39/VLOOKUP(B39&\"|\"&VLOOKUP(TDPrimas!$B$4,Cat!R:T,2,0),'TD Operación'!A:D,4,0))*100,\"ND\"))","v":14.748445361798549},{"$f":"IF(E36=\"\",\"\",(VLOOKUP(B39,'TDPrimas Vida'!$B:$N,13,0)))","v":14.748445361798549}]
[null,{"$f":"IF(C40=\"\",B36,D40)","v":"Allianz México"},{"$f":"IF('TDPrimas Vida'!A14=\"\",\"\",'TDPrimas Vida'!A14)","v":7},{"$f":"IF('TDPrimas Vida'!B14=\"\",\"\",'TDPrimas Vida'!B14)","v":"Allianz México"},{"$f":"IF('TDPrimas Vida'!C14=\"\",\"\",'TDPrimas Vida'!C14)","v":2952744.1178600001},{"$f":"IF('TDPrimas Vida'!D14=\"\",\"\",'TDPrimas Vida'!D14)","v":2423258.5270400001},{"$f":"IF('TDPrimas Vida'!C14=\"\",\"\",IFERROR((E40/VLOOKUP(\"TOTAL\",$D$12:$L$312,2,0))*100,\"\"))","v":3.5172109349438001},{"$f":"IF('TDPrimas Vida'!C14=\"\",\"\",IFERROR((E40/VLOOKUP(\"TOTAL\",$D$12:$L$312,3,0))*100,\"\"))","v":3.7868140459143933},{"$f":"IF('TDPrimas Vida'!C14=\"\",\"\",E40-F40)","v":529485.59082000004},{"$f":"IFERROR(IF('TDPrimas Vida'!C14=\"\",\"\",(E40/F40-1)*100),\"ND\")","v":21.850148670136505},{"$f":"IF(E40=\"\",\"\",IFERROR((E40/VLOOKUP(D40&\"|\"&VLOOKUP(TDPrimas!$B$4,Cat!R:T,2,0),'TD Operación'!A:D,4,0))*100,\"ND\"))","v":56.215097377912151},{"$f":"IF('TDPrimas Vida'!E14=\"\",\"\",'TDPrimas Vida'!E14)","v":56.215097377912151}]
[null,{"$f":"IF(C41=\"\",B40,D41)","v":"Allianz México"},null,{"$f":"IF(D40=\"\",\"\",\"1er Año\")","v":"1er Año"},{"$f":"IF(E40=\"\",\"\",(VLOOKUP(B41,'TDPrimas Vida'!$B:$N,5,0)))","v":1505117.9470900001},{"$f":"IF(E40=\"\",\"\",(VLOOKUP(B41,'TDPrimas Vida'!$B:$N,6,0)))","v":1134075.6068200001},{"$f":"IFERROR((E41/VLOOKUP(\"TOTAL\",$D$12:$L$312,2,0))*100,\"\")","v":1.79284661676739},{"$f":"IFERROR((E41/VLOOKUP(\"TOTAL\",$D$12:$L$312,3,0))*100,\"\")","v":1.9302728429204465},{"$f":"IF(E40=\"\",\"\",E41-F41)","v":371042.34027000004},{"$f":"IF(E40=\"\",\"\",IFERROR((E41/F41-1)*100,\"ND\"))","v":32.717601722377211},{"$f":"IF(E40=\"\",\"\",IFERROR((E41/VLOOKUP(B41&\"|\"&VLOOKUP(TDPrimas!$B$4,Cat!R:T,2,0),'TD Operación'!A:D,4,0))*100,\"ND\"))","v":28.6548202565649},{"$f":"IF(E40=\"\",\"\",(VLOOKUP(B41,'TDPrimas Vida'!$B:$N,7,0)))","v":28.6548202565649}]
[null,{"$f":"IF(C42=\"\",B41,D42)","v":"Allianz México"},null,{"$f":"IF(D41=\"\",\"\",\"Renovación\")","v":"Renovación"},{"$f":"IF(E40=\"\",\"\",(VLOOKUP(B42,'TDPrimas Vida'!$B:$N,8,0)))","v":1447626.1707700002},{"$f":"IF(E40=\"\",\"\",(VLOOKUP(B42,'TDPrimas Vida'!$B:$N,9,0)))","v":1289182.92022},{"$f":"IFERROR((E42/VLOOKUP(\"TOTAL\",$D$12:$L$312,2,0))*100,\"\")","v":1.7243643181764103},{"$f":"IFERROR((E42/VLOOKUP(\"TOTAL\",$D$12:$L$312,3,0))*100,\"\")","v":1.8565412029939468},{"$f":"IF(E40=\"\",\"\",E42-F42)","v":158443.25055000023},{"$f":"IF(E40=\"\",\"\",IFERROR((E42/F42-1)*100,\"ND\"))","v":12.290207081161286},{"$f":"IF(E40=\"\",\"\",IFERROR((E42/VLOOKUP(B42&\"|\"&VLOOKUP(TDPrimas!$B$4,Cat!R:T,2,0),'TD Operación'!A:D,4,0))*100,\"ND\"))","v":27.560277121347255},{"$f":"IF(E40=\"\",\"\",(VLOOKUP(B42,'TDPrimas Vida'!$B:$N,10,0)))","v":27.560277121347255}]
[null,{"$f":"IF(C43=\"\",B42,D43)","v":"Allianz México"},null,{"$f":"IF(D42=\"\",\"\",\"Únicas\")","v":"Únicas"},{"$f":"IF(E41=\"\",\"\",(VLOOKUP(B43,'TDPrimas Vida'!$B:$N,11,0)))","v":0},{"$f":"IF(E41=\"\",\"\",(VLOOKUP(B43,'TDPrimas Vida'!$B:$N,12,0)))","v":0},{"$f":"IFERROR((E43/VLOOKUP(\"TOTAL\",$D$12:$L$312,2,0))*100,\"\")","v":0},{"$f":"IFERROR((E43/VLOOKUP(\"TOTAL\",$D$12:$L$312,3,0))*100,\"\")","v":0},{"$f":"IF(E40=\"\",\"\",E43-F43)","v":0},{"$f":"IF(E40=\"\",\"\",IFERROR((E43/F43-1)*100,\"ND\"))","v":"ND"},{"$f":"IF(E40=\"\",\"\",IFERROR((E43/VLOOKUP(B43&\"|\"&VLOOKUP(TDPrimas!$B$4,Cat!R:T,2,0),'TD Operación'!A:D,4,0))*100,\"ND\"))","v":0},{"$f":"IF(E40=\"\",\"\",(VLOOKUP(B43,'TDPrimas Vida'!$B:$N,13,0)))","v":0}]
[null,{"$f":"IF(C44=\"\",B40,D44)","v":"Zurich Santander"},{"$f":"IF('TDPrimas Vida'!A15=\"\",\"\",'TDPrimas Vida'!A15)","v":8},{"$f":"IF('TDPrimas Vida'!B15=\"\",\"\",'TDPrimas Vida'!B15)","v":"Zurich Santander"},{"$f":"IF('TDPrimas Vida'!C15=\"\",\"\",'TDPrimas Vida'!C15)","v":2742800.4294000003},{"$f":"IF('TDPrimas Vida'!D15=\"\",\"\",'TDPrimas Vida'!D15)","v":2307308.2400699998},{"$f":"IF('TDPrimas Vida'!C15=\"\",\"\",IFERROR((E44/VLOOKUP(\"TOTAL\",$D$12:$L$312,2,0))*100,\"\"))","v":3.2671329710905987},{"$f":"IF('TDPrimas Vida'!C15=\"\",\"\",IFERROR((E44/VLOOKUP(\"TOTAL\",$D$12:$L$312,3,0))*100,\"\"))","v":3.5175669738424684},{"$f":"IF('TDPrimas Vida'!C15=\"\",\"\",E44-F44)","v":435492.18933000043},{"$f":"IFERROR(IF('TDPrimas Vida'!C15=\"\",\"\",(E44/F44-1)*100),\"ND\")","v":18.874469469098255},{"$f":"IF(E44=\"\",\"\",IFERROR((E44/VLOOKUP(D44&\"|\"&VLOOKUP(TDPrimas!$B$4,Cat!R:T,2,0),'TD Operación'!A:D,4,0))*100,\"ND\"))","v":76.726157039994874},{"$f":"IF('TDPrimas Vida'!E15=\"\",\"\",'TDPrimas Vida'!E15)","v":76.726157039994874}]
[null,{"$f":"IF(C45=\"\",B44,D45)","v":"Zurich Santander"},null,{"$f":"IF(D44=\"\",\"\",\"1er Año\")","v":"1er Año"},{"$f":"IF(E44=\"\",\"\",(VLOOKUP(B45,'TDPrimas Vida'!$B:$N,5,0)))","v":1213835.1063099999},{"$f":"IF(E44=\"\",\"\",(VLOOKUP(B45,'TDPrimas Vida'!$B:$N,6,0)))","v":971228.7792799999},{"$f":"IFERROR((E45/VLOOKUP(\"TOTAL\",$D$12:$L$312,2,0))*100,\"\")","v":1.4458801503688663},{"$f":"IFERROR((E45/VLOOKUP(\"TOTAL\",$D$12:$L$312,3,0))*100,\"\")","v":1.5567105196132127},{"$f":"IF(E44=\"\",\"\",E45-F45)","v":242606.32703000004},{"$f":"IF(E44=\"\",\"\",IFERROR((E45/F45-1)*100,\"ND\"))","v":24.979318179785736},{"$f":"IF(E44=\"\",\"\",IFERROR((E45/VLOOKUP(B45&\"|\"&VLOOKUP(TDPrimas!$B$4,Cat!R:T,2,0),'TD Operación'!A:D,4,0))*100,\"ND\"))","v":33.955406302664599},{"$f":"IF(E44=\"\",\"\",(VLOOKUP(B45,'TDPrimas Vida'!$B:$N,7,0)))","v":33.955406302664599}]
[null,{"$f":"IF(C46=\"\",B45,D46)","v":"Zurich Santander"},null,{"$f":"IF(D45=\"\",\"\",\"Renovación\")","v":"Renovación"},{"$f":"IF(E44=\"\",\"\",(VLOOKUP(B46,'TDPrimas Vida'!$B:$N,8,0)))","v":317802.12179},{"$f":"IF(E44=\"\",\"\",(VLOOKUP(B46,'TDPrimas Vida'!$B:$N,9,0)))","v":303081.19848000002},{"$f":"IFERROR((E46/VLOOKUP(\"TOTAL\",$D$12:$L$312,2,0))*100,\"\")","v":0.37855535504994514},{"$f":"IFERROR((E46/VLOOKUP(\"TOTAL\",$D$12:$L$312,3,0))*100,\"\")","v":0.40757258014215397},{"$f":"IF(E44=\"\",\"\",E46-F46)","v":14720.923309999984},{"$f":"IF(E44=\"\",\"\",IFERROR((E46/F46-1)*100,\"ND\"))","v":4.8570889200081568},{"$f":"IF(E44=\"\",\"\",IFERROR((E46/VLOOKUP(B46&\"|\"&VLOOKUP(TDPrimas!$B$4,Cat!R:T,2,0),'TD Operación'!A:D,4,0))*100,\"ND\"))","v":8.8900873875964663},{"$f":"IF(E44=\"\",\"\",(VLOOKUP(B46,'TDPrimas Vida'!$B:$N,10,0)))","v":8.8900873875964663}]
[null,{"$f":"IF(C47=\"\",B46,D47)","v":"Zurich Santander"},null,{"$f":"IF(D46=\"\",\"\",\"Únicas\")","v":"Únicas"},{"$f":"IF(E45=\"\",\"\",(VLOOKUP(B47,'TDPrimas Vida'!$B:$N,11,0)))","v":1211163.2013000001},{"$f":"IF(E45=\"\",\"\",(VLOOKUP(B47,'TDPrimas Vida'!$B:$N,12,0)))","v":1032998.26231},{"$f":"IFERROR((E47/VLOOKUP(\"TOTAL\",$D$12:$L$312,2,0))*100,\"\")","v":1.4426974656717872},{"$f":"IFERROR((E47/VLOOKUP(\"TOTAL\",$D$12:$L$312,3,0))*100,\"\")","v":1.5532838740871013},{"$f":"IF(E44=\"\",\"\",E47-F47)","v":178164.93899000005},{"$f":"IF(E44=\"\",\"\",IFERROR((E47/F47-1)*100,\"ND\"))","v":17.247360957954182},{"$f":"IF(E44=\"\",\"\",IFERROR((E47/VLOOKUP(B47&\"|\"&VLOOKUP(TDPrimas!$B$4,Cat!R:T,2,0),'TD Operación'!A:D,4,0))*100,\"ND\"))","v":33.880663349733801},{"$f":"IF(E44=\"\",\"\",(VLOOKUP(B47,'TDPrimas Vida'!$B:$N,13,0)))","v":33.880663349733801}]
[null,{"$f":"IF(C48=\"\",B44,D48)","v":"Hir Seguros"},{"$f":"IF('TDPrimas Vida'!A16=\"\",\"\",'TDPrimas Vida'!A16)","v":9},{"$f":"IF('TDPrimas Vida'!B16=\"\",\"\",'TDPrimas Vida'!B16)","v":"Hir Seguros"},{"$f":"IF('TDPrimas Vida'!C16=\"\",\"\",'TDPrimas Vida'!C16)","v":1793397.8050299999},{"$f":"IF('TDPrimas Vida'!D16=\"\",\"\",'TDPrimas Vida'!D16)","v":1426260.8833099999},{"$f":"IF('TDPrimas Vida'!C16=\"\",\"\",IFERROR((E48/VLOOKUP(\"TOTAL\",$D$12:$L$312,2,0))*100,\"\"))","v":2.1362360295301408},{"$f":"IF('TDPrimas Vida'!C16=\"\",\"\",IFERROR((E48/VLOOKUP(\"TOTAL\",$D$12:$L$312,3,0))*100,\"\"))","v":2.2999839223866143},{"$f":"IF('TDPrimas Vida'!C16=\"\",\"\",E48-F48)","v":367136.92171999998},{"$f":"IFERROR(IF('TDPrimas Vida'!C16=\"\",\"\",(E48/F48-1)*100),\"ND\")","v":25.741217894721036},{"$f":"IF(E48=\"\",\"\",IFERROR((E48/VLOOKUP(D48&\"|\"&VLOOKUP(TDPrimas!$B$4,Cat!R:T,2,0),'TD Operación'!A:D,4,0))*100,\"ND\"))","v":99.744956838813607},{"$f":"IF('TDPrimas Vida'!E16=\"\",\"\",'TDPrimas Vida'!E16)","v":99.744956838813607}]
[null,{"$f":"IF(C49=\"\",B48,D49)","v":"Hir Seguros"},null,{"$f":"IF(D48=\"\",\"\",\"1er Año\")","v":"1er Año"},{"$f":"IF(E48=\"\",\"\",(VLOOKUP(B49,'TDPrimas Vida'!$B:$N,5,0)))","v":1456232.47426},{"$f":"IF(E48=\"\",\"\",(VLOOKUP(B49,'TDPrimas Vida'!$B:$N,6,0)))","v":280736.99338},{"$f":"IFERROR((E49/VLOOKUP(\"TOTAL\",$D$12:$L$312,2,0))*100,\"\")","v":1.7346158616682354},{"$f":"IFERROR((E49/VLOOKUP(\"TOTAL\",$D$12:$L$312,3,0))*100,\"\")","v":1.8675785532141049},{"$f":"IF(E48=\"\",\"\",E49-F49)","v":1175495.4808800002},{"$f":"IF(E48=\"\",\"\",IFERROR((E49/F49-1)*100,\"ND\"))","v":418.71769969726529},{"$f":"IF(E48=\"\",\"\",IFERROR((E49/VLOOKUP(B49&\"|\"&VLOOKUP(TDPrimas!$B$4,Cat!R:T,2,0),'TD Operación'!A:D,4,0))*100,\"ND\"))","v":80.992541021824579},{"$f":"IF(E48=\"\",\"\",(VLOOKUP(B49,'TDPrimas Vida'!$B:$N,7,0)))","v":80.992541021824579}]
[null,{"$f":"IF(C50=\"\",B49,D50)","v":"Hir Seguros"},null,{"$f":"IF(D49=\"\",\"\",\"Renovación\")","v":"Renovación"},{"$f":"IF(E48=\"\",\"\",(VLOOKUP(B50,'TDPrimas Vida'!$B:$N,8,0)))","v":337165.33077},{"$f":"IF(E48=\"\",\"\",(VLOOKUP(B50,'TDPrimas Vida'!$B:$N,9,0)))","v":1145523.8899299998},{"$f":"IFERROR((E50/VLOOKUP(\"TOTAL\",$D$12:$L$312,2,0))*100,\"\")","v":0.40162016786190546},{"$f":"IFERROR((E50/VLOOKUP(\"TOTAL\",$D$12:$L$312,3,0))*100,\"\")","v":0.43240536917250916},{"$f":"IF(E48=\"\",\"\",E50-F50)","v":-808358.55915999983},{"$f":"IF(E48=\"\",\"\",IFERROR((E50/F50-1)*100,\"ND\"))","v":-70.566713297388901},{"$f":"IF(E48=\"\",\"\",IFERROR((E50/VLOOKUP(B50&\"|\"&VLOOKUP(TDPrimas!$B$4,Cat!R:T,2,0),'TD Operación'!A:D,4,0))*100,\"ND\"))","v":18.752415816989021},{"$f":"IF(E48=\"\",\"\",(VLOOKUP(B50,'TDPrimas Vida'!$B:$N,10,0)))","v":18.752415816989021}]
[null,{"$f":"IF(C51=\"\",B50,D51)","v":"Hir Seguros"},null,{"$f":"IF(D50=\"\",\"\",\"Únicas\")","v":"Únicas"},{"$f":"IF(E49=\"\",\"\",(VLOOKUP(B51,'TDPrimas Vida'!$B:$N,11,0)))","v":0},{"$f":"IF(E49=\"\",\"\",(VLOOKUP(B51,'TDPrimas Vida'!$B:$N,12,0)))","v":0},{"$f":"IFERROR((E51/VLOOKUP(\"TOTAL\",$D$12:$L$312,2,0))*100,\"\")","v":0},{"$f":"IFERROR((E51/VLOOKUP(\"TOTAL\",$D$12:$L$312,3,0))*100,\"\")","v":0},{"$f":"IF(E48=\"\",\"\",E51-F51)","v":0},{"$f":"IF(E48=\"\",\"\",IFERROR((E51/F51-1)*100,\"ND\"))","v":"ND"},{"$f":"IF(E48=\"\",\"\",IFERROR((E51/VLOOKUP(B51&\"|\"&VLOOKUP(TDPrimas!$B$4,Cat!R:T,2,0),'TD Operación'!A:D,4,0))*100,\"ND\"))","v":0},{"$f":"IF(E48=\"\",\"\",(VLOOKUP(B51,'TDPrimas Vida'!$B:$N,13,0)))","v":0}]
[null,{"$f":"IF(C52=\"\",B48,D52)","v":"AXA Seguros"},{"$f":"IF('TDPrimas Vida'!A17=\"\",\"\",'TDPrimas Vida'!A17)","v":10},{"$f":"IF('TDPrimas Vida'!B17=\"\",\"\",'TDPrimas Vida'!B17)","v":"AXA Seguros"},{"$f":"IF('TDPrimas Vida'!C17=\"\",\"\",'TDPrimas Vida'!C17)","v":1725044.36372},{"$f":"IF('TDPrimas Vida'!D17=\"\",\"\",'TDPrimas Vida'!D17)","v":1633678.0242300001},{"$f":"IF('TDPrimas Vida'!C17=\"\",\"\",IFERROR((E52/VLOOKUP(\"TOTAL\",$D$12:$L$312,2,0))*100,\"\"))","v":2.0548156755745093},{"$f":"IF('TDPrimas Vida'!C17=\"\",\"\",IFERROR((E52/VLOOKUP(\"TOTAL\",$D$12:$L$312,3,0))*100,\"\"))","v":2.2123224924395832},{"$f":"IF('TDPrimas Vida'!C17=\"\",\"\",E52-F52)","v":91366.339489999926},{"$f":"IFERROR(IF('TDPrimas Vida'!C17=\"\",\"\",(E52/F52-1)*100),\"ND\")","v":5.5926772677904912},{"$f":"IF(E52=\"\",\"\",IFERROR((E52/VLOOKUP(D52&\"|\"&VLOOKUP(TDPrimas!$B$4,Cat!R:T,2,0),'TD Operación'!A:D,4,0))*100,\"ND\"))","v":11.202319602635592},{"$f":"IF('TDPrimas Vida'!E17=\"\",\"\",'TDPrimas Vida'!E17)","v":11.202319602635592}]
[null,{"$f":"IF(C53=\"\",B52,D53)","v":"AXA Seguros"},null,{"$f":"IF(D52=\"\",\"\",\"1er Año\")","v":"1er Año"},{"$f":"IF(E52=\"\",\"\",(VLOOKUP(B53,'TDPrimas Vida'!$B:$N,5,0)))","v":313595.58857999998},{"$f":"IF(E52=\"\",\"\",(VLOOKUP(B53,'TDPrimas Vida'!$B:$N,6,0)))","v":334734.76714000001},{"$f":"IFERROR((E53/VLOOKUP(\"TOTAL\",$D$12:$L$312,2,0))*100,\"\")","v":0.37354467210084519},{"$f":"IFERROR((E53/VLOOKUP(\"TOTAL\",$D$12:$L$312,3,0))*100,\"\")","v":0.40217781567614996},{"$f":"IF(E52=\"\",\"\",E53-F53)","v":-21139.178560000029},{"$f":"IF(E52=\"\",\"\",IFERROR((E53/F53-1)*100,\"ND\"))","v":-6.3152025529391036},{"$f":"IF(E52=\"\",\"\",IFERROR((E53/VLOOKUP(B53&\"|\"&VLOOKUP(TDPrimas!$B$4,Cat!R:T,2,0),'TD Operación'!A:D,4,0))*100,\"ND\"))","v":2.0364682109821906},{"$f":"IF(E52=\"\",\"\",(VLOOKUP(B53,'TDPrimas Vida'!$B:$N,7,0)))","v":2.0364682109821906}]
[null,{"$f":"IF(C54=\"\",B53,D54)","v":"AXA Seguros"},null,{"$f":"IF(D53=\"\",\"\",\"Renovación\")","v":"Renovación"},{"$f":"IF(E52=\"\",\"\",(VLOOKUP(B54,'TDPrimas Vida'!$B:$N,8,0)))","v":1407785.2230799999},{"$f":"IF(E52=\"\",\"\",(VLOOKUP(B54,'TDPrimas Vida'!$B:$N,9,0)))","v":1297940.3508899999},{"$f":"IFERROR((E54/VLOOKUP(\"TOTAL\",$D$12:$L$312,2,0))*100,\"\")","v":1.6769071016752557},{"$f":"IFERROR((E54/VLOOKUP(\"TOTAL\",$D$12:$L$312,3,0))*100,\"\")","v":1.8054462708586227},{"$f":"IF(E52=\"\",\"\",E54-F54)","v":109844.87219000002},{"$f":"IF(E52=\"\",\"\",IFERROR((E54/F54-1)*100,\"ND\"))","v":8.4630138907908261},{"$f":"IF(E52=\"\",\"\",IFERROR((E54/VLOOKUP(B54&\"|\"&VLOOKUP(TDPrimas!$B$4,Cat!R:T,2,0),'TD Operación'!A:D,4,0))*100,\"ND\"))","v":9.1420605362295362},{"$f":"IF(E52=\"\",\"\",(VLOOKUP(B54,'TDPrimas Vida'!$B:$N,10,0)))","v":9.1420605362295362}]
[null,{"$f":"IF(C55=\"\",B54,D55)","v":"AXA Seguros"},null,{"$f":"IF(D54=\"\",\"\",\"Únicas\")","v":"Únicas"},{"$f":"IF(E53=\"\",\"\",(VLOOKUP(B55,'TDPrimas Vida'!$B:$N,11,0)))","v":3663.55206},{"$f":"IF(E53=\"\",\"\",(VLOOKUP(B55,'TDPrimas Vida'!$B:$N,12,0)))","v":1002.9062},{"$f":"IFERROR((E55/VLOOKUP(\"TOTAL\",$D$12:$L$312,2,0))*100,\"\")","v":4.3639017984079959E-3},{"$f":"IFERROR((E55/VLOOKUP(\"TOTAL\",$D$12:$L$312,3,0))*100,\"\")","v":4.6984059048100647E-3},{"$f":"IF(E52=\"\",\"\",E55-F55)","v":2660.6458600000001},{"$f":"IF(E52=\"\",\"\",IFERROR((E55/F55-1)*100,\"ND\"))","v":265.29358976941211},{"$f":"IF(E52=\"\",\"\",IFERROR((E55/VLOOKUP(B55&\"|\"&VLOOKUP(TDPrimas!$B$4,Cat!R:T,2,0),'TD Operación'!A:D,4,0))*100,\"ND\"))","v":2.3790855423864013E-2},{"$f":"IF(E52=\"\",\"\",(VLOOKUP(B55,'TDPrimas Vida'!$B:$N,13,0)))","v":2.3790855423864013E-2}]
[null,{"$f":"IF(C56=\"\",B52,D56)","v":"Seguros Azteca"},{"$f":"IF('TDPrimas Vida'!A18=\"\",\"\",'TDPrimas Vida'!A18)","v":11},{"$f":"IF('TDPrimas Vida'!B18=\"\",\"\",'TDPrimas Vida'!B18)","v":"Seguros Azteca"},{"$f":"IF('TDPrimas Vida'!C18=\"\",\"\",'TDPrimas Vida'!C18)","v":1702679.9857100002},{"$f":"IF('TDPrimas Vida'!D18=\"\",\"\",'TDPrimas Vida'!D18)","v":1549216.2280999999},{"$f":"IF('TDPrimas Vida'!C18=\"\",\"\",IFERROR((E56/VLOOKUP(\"TOTAL\",$D$12:$L$312,2,0))*100,\"\"))","v":2.0281759696771364},{"$f":"IF('TDPrimas Vida'!C18=\"\",\"\",IFERROR((E56/VLOOKUP(\"TOTAL\",$D$12:$L$312,3,0))*100,\"\"))","v":2.1836407857301694},{"$f":"IF('TDPrimas Vida'!C18=\"\",\"\",E56-F56)","v":153463.7576100002},{"$f":"IFERROR(IF('TDPrimas Vida'!C18=\"\",\"\",(E56/F56-1)*100),\"ND\")","v":9.9058965963848777},{"$f":"IF(E56=\"\",\"\",IFERROR((E56/VLOOKUP(D56&\"|\"&VLOOKUP(TDPrimas!$B$4,Cat!R:T,2,0),'TD Operación'!A:D,4,0))*100,\"ND\"))","v":86.776792642536179},{"$f":"IF('TDPrimas Vida'!E18=\"\",\"\",'TDPrimas Vida'!E18)","v":86.776792642536179}]
[null,{"$f":"IF(C57=\"\",B56,D57)","v":"Seguros Azteca"},null,{"$f":"IF(D56=\"\",\"\",\"1er Año\")","v":"1er Año"},{"$f":"IF(E56=\"\",\"\",(VLOOKUP(B57,'TDPrimas Vida'!$B:$N,5,0)))","v":1670848.9999000002},{"$f":"IF(E56=\"\",\"\",(VLOOKUP(B57,'TDPrimas Vida'!$B:$N,6,0)))","v":1535250.3603999999},{"$f":"IFERROR((E57/VLOOKUP(\"TOTAL\",$D$12:$L$312,2,0))*100,\"\")","v":1.990259954305607},{"$f":"IFERROR((E57/VLOOKUP(\"TOTAL\",$D$12:$L$312,3,0))*100,\"\")","v":2.1428184119147335},{"$f":"IF(E56=\"\",\"\",E57-F57)","v":135598.63950000028},{"$f":"IF(E56=\"\",\"\",IFERROR((E57/F57-1)*100,\"ND\"))","v":8.8323470228445888},{"$f":"IF(E56=\"\",\"\",IFERROR((E57/VLOOKUP(B57&\"|\"&VLOOKUP(TDPrimas!$B$4,Cat!R:T,2,0),'TD Operación'!A:D,4,0))*100,\"ND\"))","v":85.154531925064916},{"$f":"IF(E56=\"\",\"\",(VLOOKUP(B57,'TDPrimas Vida'!$B:$N,7,0)))","v":85.154531925064916}]
[null,{"$f":"IF(C58=\"\",B57,D58)","v":"Seguros Azteca"},null,{"$f":"IF(D57=\"\",\"\",\"Renovación\")","v":"Renovación"},{"$f":"IF(E56=\"\",\"\",(VLOOKUP(B58,'TDPrimas Vida'!$B:$N,8,0)))","v":2.3928099999999999},{"$f":"IF(E56=\"\",\"\",(VLOOKUP(B58,'TDPrimas Vida'!$B:$N,9,0)))","v":1116.65255},{"$f":"IFERROR((E58/VLOOKUP(\"TOTAL\",$D$12:$L$312,2,0))*100,\"\")","v":2.8502359707831299E-6},{"$f":"IFERROR((E58/VLOOKUP(\"TOTAL\",$D$12:$L$312,3,0))*100,\"\")","v":3.0687137643919737E-6},{"$f":"IF(E56=\"\",\"\",E58-F58)","v":-1114.25974},{"$f":"IF(E56=\"\",\"\",IFERROR((E58/F58-1)*100,\"ND\"))","v":-99.785715798526581},{"$f":"IF(E56=\"\",\"\",IFERROR((E58/VLOOKUP(B58&\"|\"&VLOOKUP(TDPrimas!$B$4,Cat!R:T,2,0),'TD Operación'!A:D,4,0))*100,\"ND\"))","v":1.2194915013134607E-4},{"$f":"IF(E56=\"\",\"\",(VLOOKUP(B58,'TDPrimas Vida'!$B:$N,10,0)))","v":1.2194915013134607E-4}]
[null,{"$f":"IF(C59=\"\",B58,D59)","v":"Seguros Azteca"},null,{"$f":"IF(D58=\"\",\"\",\"Únicas\")","v":"Únicas"},{"$f":"IF(E57=\"\",\"\",(VLOOKUP(B59,'TDPrimas Vida'!$B:$N,11,0)))","v":31828.593000000001},{"$f":"IF(E57=\"\",\"\",(VLOOKUP(B59,'TDPrimas Vida'!$B:$N,12,0)))","v":12849.21515},{"$f":"IFERROR((E59/VLOOKUP(\"TOTAL\",$D$12:$L$312,2,0))*100,\"\")","v":3.7913165135558674E-2},{"$f":"IFERROR((E59/VLOOKUP(\"TOTAL\",$D$12:$L$312,3,0))*100,\"\")","v":4.0819305101671269E-2},{"$f":"IF(E56=\"\",\"\",E59-F59)","v":18979.377850000001},{"$f":"IF(E56=\"\",\"\",IFERROR((E59/F59-1)*100,\"ND\"))","v":147.70846023229674},{"$f":"IF(E56=\"\",\"\",IFERROR((E59/VLOOKUP(B59&\"|\"&VLOOKUP(TDPrimas!$B$4,Cat!R:T,2,0),'TD Operación'!A:D,4,0))*100,\"ND\"))","v":1.6221387683211419},{"$f":"IF(E56=\"\",\"\",(VLOOKUP(B59,'TDPrimas Vida'!$B:$N,13,0)))","v":1.6221387683211419}]
[null,{"$f":"IF(C60=\"\",B56,D60)","v":"Inbursa"},{"$f":"IF('TDPrimas Vida'!A19=\"\",\"\",'TDPrimas Vida'!A19)","v":12},{"$f":"IF('TDPrimas Vida'!B19=\"\",\"\",'TDPrimas Vida'!B19)","v":"Inbursa"},{"$f":"IF('TDPrimas Vida'!C19=\"\",\"\",'TDPrimas Vida'!C19)","v":1539068.4426800001},{"$f":"IF('TDPrimas Vida'!D19=\"\",\"\",'TDPrimas Vida'!D19)","v":1475814.7738900001},{"$f":"IF('TDPrimas Vida'!C19=\"\",\"\",IFERROR((E60/VLOOKUP(\"TOTAL\",$D$12:$L$312,2,0))*100,\"\"))","v":1.8332873219452068},{"$f":"IF('TDPrimas Vida'!C19=\"\",\"\",IFERROR((E60/VLOOKUP(\"TOTAL\",$D$12:$L$312,3,0))*100,\"\"))","v":1.973813430399169},{"$f":"IF('TDPrimas Vida'!C19=\"\",\"\",E60-F60)","v":63253.668790000025},{"$f":"IFERROR(IF('TDPrimas Vida'!C19=\"\",\"\",(E60/F60-1)*100),\"ND\")","v":4.2860167758907775},{"$f":"IF(E60=\"\",\"\",IFERROR((E60/VLOOKUP(D60&\"|\"&VLOOKUP(TDPrimas!$B$4,Cat!R:T,2,0),'TD Operación'!A:D,4,0))*100,\"ND\"))","v":22.219900176772363},{"$f":"IF('TDPrimas Vida'!E19=\"\",\"\",'TDPrimas Vida'!E19)","v":22.219900176772363}]
[null,{"$f":"IF(C61=\"\",B60,D61)","v":"Inbursa"},null,{"$f":"IF(D60=\"\",\"\",\"1er Año\")","v":"1er Año"},{"$f":"IF(E60=\"\",\"\",(VLOOKUP(B61,'TDPrimas Vida'!$B:$N,5,0)))","v":986423.96505},{"$f":"IF(E60=\"\",\"\",(VLOOKUP(B61,'TDPrimas Vida'!$B:$N,6,0)))","v":955578.15778999997},{"$f":"IFERROR((E61/VLOOKUP(\"TOTAL\",$D$12:$L$312,2,0))*100,\"\")","v":1.1749955356371928},{"$f":"IFERROR((E61/VLOOKUP(\"TOTAL\",$D$12:$L$312,3,0))*100,\"\")","v":1.2650619142660897},{"$f":"IF(E60=\"\",\"\",E61-F61)","v":30845.807260000031},{"$f":"IF(E60=\"\",\"\",IFERROR((E61/F61-1)*100,\"ND\"))","v":3.2279732441078623},{"$f":"IF(E60=\"\",\"\",IFERROR((E61/VLOOKUP(B61&\"|\"&VLOOKUP(TDPrimas!$B$4,Cat!R:T,2,0),'TD Operación'!A:D,4,0))*100,\"ND\"))","v":14.241239328655499},{"$f":"IF(E60=\"\",\"\",(VLOOKUP(B61,'TDPrimas Vida'!$B:$N,7,0)))","v":14.241239328655499}]
[null,{"$f":"IF(C62=\"\",B61,D62)","v":"Inbursa"},null,{"$f":"IF(D61=\"\",\"\",\"Renovación\")","v":"Renovación"},{"$f":"IF(E60=\"\",\"\",(VLOOKUP(B62,'TDPrimas Vida'!$B:$N,8,0)))","v":552644.47762999998},{"$f":"IF(E60=\"\",\"\",(VLOOKUP(B62,'TDPrimas Vida'!$B:$N,9,0)))","v":520236.61610000004},{"$f":"IFERROR((E62/VLOOKUP(\"TOTAL\",$D$12:$L$312,2,0))*100,\"\")","v":0.65829178630801388},{"$f":"IFERROR((E62/VLOOKUP(\"TOTAL\",$D$12:$L$312,3,0))*100,\"\")","v":0.70875151613307918},{"$f":"IF(E60=\"\",\"\",E62-F62)","v":32407.861529999936},{"$f":"IF(E60=\"\",\"\",IFERROR((E62/F62-1)*100,\"ND\"))","v":6.2294464724433229},{"$f":"IF(E60=\"\",\"\",IFERROR((E62/VLOOKUP(B62&\"|\"&VLOOKUP(TDPrimas!$B$4,Cat!R:T,2,0),'TD Operación'!A:D,4,0))*100,\"ND\"))","v":7.9786608481168617},{"$f":"IF(E60=\"\",\"\",(VLOOKUP(B62,'TDPrimas Vida'!$B:$N,10,0)))","v":7.9786608481168617}]
[null,{"$f":"IF(C63=\"\",B62,D63)","v":"Inbursa"},null,{"$f":"IF(D62=\"\",\"\",\"Únicas\")","v":"Únicas"},{"$f":"IF(E61=\"\",\"\",(VLOOKUP(B63,'TDPrimas Vida'!$B:$N,11,0)))","v":0},{"$f":"IF(E61=\"\",\"\",(VLOOKUP(B63,'TDPrimas Vida'!$B:$N,12,0)))","v":0},{"$f":"IFERROR((E63/VLOOKUP(\"TOTAL\",$D$12:$L$312,2,0))*100,\"\")","v":0},{"$f":"IFERROR((E63/VLOOKUP(\"TOTAL\",$D$12:$L$312,3,0))*100,\"\")","v":0},{"$f":"IF(E60=\"\",\"\",E63-F63)","v":0},{"$f":"IF(E60=\"\",\"\",IFERROR((E63/F63-1)*100,\"ND\"))","v":"ND"},{"$f":"IF(E60=\"\",\"\",IFERROR((E63/VLOOKUP(B63&\"|\"&VLOOKUP(TDPrimas!$B$4,Cat!R:T,2,0),'TD Operación'!A:D,4,0))*100,\"ND\"))","v":0},{"$f":"IF(E60=\"\",\"\",(VLOOKUP(B63,'TDPrimas Vida'!$B:$N,13,0)))","v":0}]
[null,{"$f":"IF(C64=\"\",B60,D64)","v":"Mapfre México"},{"$f":"IF('TDPrimas Vida'!A20=\"\",\"\",'TDPrimas Vida'!A20)","v":13},{"$f":"IF('TDPrimas Vida'!B20=\"\",\"\",'TDPrimas Vida'!B20)","v":"Mapfre México"},{"$f":"IF('TDPrimas Vida'!C20=\"\",\"\",'TDPrimas Vida'!C20)","v":1489236.7007200001},{"$f":"IF('TDPrimas Vida'!D20=\"\",\"\",'TDPrimas Vida'!D20)","v":1426998.2668300001},{"$f":"IF('TDPrimas Vida'!C20=\"\",\"\",IFERROR((E64/VLOOKUP(\"TOTAL\",$D$12:$L$312,2,0))*100,\"\"))","v":1.773929402419137},{"$f":"IF('TDPrimas Vida'!C20=\"\",\"\",IFERROR((E64/VLOOKUP(\"TOTAL\",$D$12:$L$312,3,0))*100,\"\"))","v":1.9099055762627013},{"$f":"IF('TDPrimas Vida'!C20=\"\",\"\",E64-F64)","v":62238.433889999986},{"$f":"IFERROR(IF('TDPrimas Vida'!C20=\"\",\"\",(E64/F64-1)*100),\"ND\")","v":4.3614933063835792},{"$f":"IF(E64=\"\",\"\",IFERROR((E64/VLOOKUP(D64&\"|\"&VLOOKUP(TDPrimas!$B$4,Cat!R:T,2,0),'TD Operación'!A:D,4,0))*100,\"ND\"))","v":23.144786414241139},{"$f":"IF('TDPrimas Vida'!E20=\"\",\"\",'TDPrimas Vida'!E20)","v":23.144786414241139}]
[null,{"$f":"IF(C65=\"\",B64,D65)","v":"Mapfre México"},null,{"$f":"IF(D64=\"\",\"\",\"1er Año\")","v":"1er Año"},{"$f":"IF(E64=\"\",\"\",(VLOOKUP(B65,'TDPrimas Vida'!$B:$N,5,0)))","v":1290519.33556},{"$f":"IF(E64=\"\",\"\",(VLOOKUP(B65,'TDPrimas Vida'!$B:$N,6,0)))","v":1248702.3532400001},{"$f":"IFERROR((E65/VLOOKUP(\"TOTAL\",$D$12:$L$312,2,0))*100,\"\")","v":1.5372238628241508},{"$f":"IFERROR((E65/VLOOKUP(\"TOTAL\",$D$12:$L$312,3,0))*100,\"\")","v":1.6550559585788078},{"$f":"IF(E64=\"\",\"\",E65-F65)","v":41816.982319999952},{"$f":"IF(E64=\"\",\"\",IFERROR((E65/F65-1)*100,\"ND\"))","v":3.3488350695822566},{"$f":"IF(E64=\"\",\"\",IFERROR((E65/VLOOKUP(B65&\"|\"&VLOOKUP(TDPrimas!$B$4,Cat!R:T,2,0),'TD Operación'!A:D,4,0))*100,\"ND\"))","v":20.056445271959756},{"$f":"IF(E64=\"\",\"\",(VLOOKUP(B65,'TDPrimas Vida'!$B:$N,7,0)))","v":20.056445271959756}]
[null,{"$f":"IF(C66=\"\",B65,D66)","v":"Mapfre México"},null,{"$f":"IF(D65=\"\",\"\",\"Renovación\")","v":"Renovación"},{"$f":"IF(E64=\"\",\"\",(VLOOKUP(B66,'TDPrimas Vida'!$B:$N,8,0)))","v":198581.22021},{"$f":"IF(E64=\"\",\"\",(VLOOKUP(B66,'TDPrimas Vida'!$B:$N,9,0)))","v":178462.37570999999},{"$f":"IFERROR((E66/VLOOKUP(\"TOTAL\",$D$12:$L$312,2,0))*100,\"\")","v":0.23654336824258837},{"$f":"IFERROR((E66/VLOOKUP(\"TOTAL\",$D$12:$L$312,3,0))*100,\"\")","v":0.25467501548730598},{"$f":"IF(E64=\"\",\"\",E66-F66)","v":20118.844500000007},{"$f":"IF(E64=\"\",\"\",IFERROR((E66/F66-1)*100,\"ND\"))","v":11.273437563496834},{"$f":"IF(E64=\"\",\"\",IFERROR((E66/VLOOKUP(B66&\"|\"&VLOOKUP(TDPrimas!$B$4,Cat!R:T,2,0),'TD Operación'!A:D,4,0))*100,\"ND\"))","v":3.0862252625239179},{"$f":"IF(E64=\"\",\"\",(VLOOKUP(B66,'TDPrimas Vida'!$B:$N,10,0)))","v":3.0862252625239179}]
[null,{"$f":"IF(C67=\"\",B66,D67)","v":"Mapfre México"},null,{"$f":"IF(D66=\"\",\"\",\"Únicas\")","v":"Únicas"},{"$f":"IF(E65=\"\",\"\",(VLOOKUP(B67,'TDPrimas Vida'!$B:$N,11,0)))","v":136.14495000000002},{"$f":"IF(E65=\"\",\"\",(VLOOKUP(B67,'TDPrimas Vida'!$B:$N,12,0)))","v":-166.46212},{"$f":"IFERROR((E67/VLOOKUP(\"TOTAL\",$D$12:$L$312,2,0))*100,\"\")","v":1.6217135239758726E-4},{"$f":"IFERROR((E67/VLOOKUP(\"TOTAL\",$D$12:$L$312,3,0))*100,\"\")","v":1.7460219658788502E-4},{"$f":"IF(E64=\"\",\"\",E67-F67)","v":302.60707000000002},{"$f":"IF(E64=\"\",\"\",IFERROR((E67/F67-1)*100,\"ND\"))","v":-181.78734597396695},{"$f":"IF(E64=\"\",\"\",IFERROR((E67/VLOOKUP(B67&\"|\"&VLOOKUP(TDPrimas!$B$4,Cat!R:T,2,0),'TD Operación'!A:D,4,0))*100,\"ND\"))","v":2.1158797574650869E-3},{"$f":"IF(E64=\"\",\"\",(VLOOKUP(B67,'TDPrimas Vida'!$B:$N,13,0)))","v":2.1158797574650869E-3}]
[null,{"$f":"IF(C68=\"\",B64,D68)","v":"HSBC Seguros"},{"$f":"IF('TDPrimas Vida'!A21=\"\",\"\",'TDPrimas Vida'!A21)","v":14},{"$f":"IF('TDPrimas Vida'!B21=\"\",\"\",'TDPrimas Vida'!B21)","v":"HSBC Seguros"},{"$f":"IF('TDPrimas Vida'!C21=\"\",\"\",'TDPrimas Vida'!C21)","v":1473862.7125500001},{"$f":"IF('TDPrimas Vida'!D21=\"\",\"\",'TDPrimas Vida'!D21)","v":1376947.9871700001},{"$f":"IF('TDPrimas Vida'!C21=\"\",\"\",IFERROR((E68/VLOOKUP(\"TOTAL\",$D$12:$L$312,2,0))*100,\"\"))","v":1.7556164172274469},{"$f":"IF('TDPrimas Vida'!C21=\"\",\"\",IFERROR((E68/VLOOKUP(\"TOTAL\",$D$12:$L$312,3,0))*100,\"\"))","v":1.8901888544540839},{"$f":"IF('TDPrimas Vida'!C21=\"\",\"\",E68-F68)","v":96914.72537999996},{"$f":"IFERROR(IF('TDPrimas Vida'!C21=\"\",\"\",(E68/F68-1)*100),\"ND\")","v":7.0383722757157985},{"$f":"IF(E68=\"\",\"\",IFERROR((E68/VLOOKUP(D68&\"|\"&VLOOKUP(TDPrimas!$B$4,Cat!R:T,2,0),'TD Operación'!A:D,4,0))*100,\"ND\"))","v":90.84353614364457},{"$f":"IF('TDPrimas Vida'!E21=\"\",\"\",'TDPrimas Vida'!E21)","v":90.84353614364457}]
[null,{"$f":"IF(C69=\"\",B68,D69)","v":"HSBC Seguros"},null,{"$f":"IF(D68=\"\",\"\",\"1er Año\")","v":"1er Año"},{"$f":"IF(E68=\"\",\"\",(VLOOKUP(B69,'TDPrimas Vida'!$B:$N,5,0)))","v":911497.92030000011},{"$f":"IF(E68=\"\",\"\",(VLOOKUP(B69,'TDPrimas Vida'!$B:$N,6,0)))","v":845191.22629999998},{"$f":"IFERROR((E69/VLOOKUP(\"TOTAL\",$D$12:$L$312,2,0))*100,\"\")","v":1.0857461142895071},{"$f":"IFERROR((E69/VLOOKUP(\"TOTAL\",$D$12:$L$312,3,0))*100,\"\")","v":1.1689712991166323},{"$f":"IF(E68=\"\",\"\",E69-F69)","v":66306.694000000134},{"$f":"IF(E68=\"\",\"\",IFERROR((E69/F69-1)*100,\"ND\"))","v":7.8451706473896321},{"$f":"IF(E68=\"\",\"\",IFERROR((E69/VLOOKUP(B69&\"|\"&VLOOKUP(TDPrimas!$B$4,Cat!R:T,2,0),'TD Operación'!A:D,4,0))*100,\"ND\"))","v":56.181416059008171},{"$f":"IF(E68=\"\",\"\",(VLOOKUP(B69,'TDPrimas Vida'!$B:$N,7,0)))","v":56.181416059008171}]
[null,{"$f":"IF(C70=\"\",B69,D70)","v":"HSBC Seguros"},null,{"$f":"IF(D69=\"\",\"\",\"Renovación\")","v":"Renovación"},{"$f":"IF(E68=\"\",\"\",(VLOOKUP(B70,'TDPrimas Vida'!$B:$N,8,0)))","v":562364.79224999994},{"$f":"IF(E68=\"\",\"\",(VLOOKUP(B70,'TDPrimas Vida'!$B:$N,9,0)))","v":531756.76087},{"$f":"IFERROR((E70/VLOOKUP(\"TOTAL\",$D$12:$L$312,2,0))*100,\"\")","v":0.66987030293793981},{"$f":"IFERROR((E70/VLOOKUP(\"TOTAL\",$D$12:$L$312,3,0))*100,\"\")","v":0.72121755533745158},{"$f":"IF(E68=\"\",\"\",E70-F70)","v":30608.031379999942},{"$f":"IF(E68=\"\",\"\",IFERROR((E70/F70-1)*100,\"ND\"))","v":5.7560211044468179},{"$f":"IF(E68=\"\",\"\",IFERROR((E70/VLOOKUP(B70&\"|\"&VLOOKUP(TDPrimas!$B$4,Cat!R:T,2,0),'TD Operación'!A:D,4,0))*100,\"ND\"))","v":34.662120084636399},{"$f":"IF(E68=\"\",\"\",(VLOOKUP(B70,'TDPrimas Vida'!$B:$N,10,0)))","v":34.662120084636399}]
[null,{"$f":"IF(C71=\"\",B70,D71)","v":"HSBC Seguros"},null,{"$f":"IF(D70=\"\",\"\",\"Únicas\")","v":"Únicas"},{"$f":"IF(E69=\"\",\"\",(VLOOKUP(B71,'TDPrimas Vida'!$B:$N,11,0)))","v":0},{"$f":"IF(E69=\"\",\"\",(VLOOKUP(B71,'TDPrimas Vida'!$B:$N,12,0)))","v":0},{"$f":"IFERROR((E71/VLOOKUP(\"TOTAL\",$D$12:$L$312,2,0))*100,\"\")","v":0},{"$f":"IFERROR((E71/VLOOKUP(\"TOTAL\",$D$12:$L$312,3,0))*100,\"\")","v":0},{"$f":"IF(E68=\"\",\"\",E71-F71)","v":0},{"$f":"IF(E68=\"\",\"\",IFERROR((E71/F71-1)*100,\"ND\"))","v":"ND"},{"$f":"IF(E68=\"\",\"\",IFERROR((E71/VLOOKUP(B71&\"|\"&VLOOKUP(TDPrimas!$B$4,Cat!R:T,2,0),'TD Operación'!A:D,4,0))*100,\"ND\"))","v":0},{"$f":"IF(E68=\"\",\"\",(VLOOKUP(B71,'TDPrimas Vida'!$B:$N,13,0)))","v":0}]
[null,{"$f":"IF(C72=\"\",B68,D72)","v":"Cardif Vida"},{"$f":"IF('TDPrimas Vida'!A22=\"\",\"\",'TDPrimas Vida'!A22)","v":15},{"$f":"IF('TDPrimas Vida'!B22=\"\",\"\",'TDPrimas Vida'!B22)","v":"Cardif Vida"},{"$f":"IF('TDPrimas Vida'!C22=\"\",\"\",'TDPrimas Vida'!C22)","v":928745.86585000006},{"$f":"IF('TDPrimas Vida'!D22=\"\",\"\",'TDPrimas Vida'!D22)","v":773785.16914000001},{"$f":"IF('TDPrimas Vida'!C22=\"\",\"\",IFERROR((E72/VLOOKUP(\"TOTAL\",$D$12:$L$312,2,0))*100,\"\"))","v":1.1062912954065696},{"$f":"IF('TDPrimas Vida'!C22=\"\",\"\",IFERROR((E72/VLOOKUP(\"TOTAL\",$D$12:$L$312,3,0))*100,\"\"))","v":1.1910913203121172},{"$f":"IF('TDPrimas Vida'!C22=\"\",\"\",E72-F72)","v":154960.69671000005},{"$f":"IFERROR(IF('TDPrimas Vida'!C22=\"\",\"\",(E72/F72-1)*100),\"ND\")","v":20.026320339303783},{"$f":"IF(E72=\"\",\"\",IFERROR((E72/VLOOKUP(D72&\"|\"&VLOOKUP(TDPrimas!$B$4,Cat!R:T,2,0),'TD Operación'!A:D,4,0))*100,\"ND\"))","v":95.487312673551202},{"$f":"IF('TDPrimas Vida'!E22=\"\",\"\",'TDPrimas Vida'!E22)","v":95.487312673551202}]
[null,{"$f":"IF(C73=\"\",B72,D73)","v":"Cardif Vida"},null,{"$f":"IF(D72=\"\",\"\",\"1er Año\")","v":"1er Año"},{"$f":"IF(E72=\"\",\"\",(VLOOKUP(B73,'TDPrimas Vida'!$B:$N,5,0)))","v":22877.607899999999},{"$f":"IF(E72=\"\",\"\",(VLOOKUP(B73,'TDPrimas Vida'!$B:$N,6,0)))","v":157378.21124},{"$f":"IFERROR((E73/VLOOKUP(\"TOTAL\",$D$12:$L$312,2,0))*100,\"\")","v":2.7251048333153196E-2},{"$f":"IFERROR((E73/VLOOKUP(\"TOTAL\",$D$12:$L$312,3,0))*100,\"\")","v":2.9339910088595652E-2},{"$f":"IF(E72=\"\",\"\",E73-F73)","v":-134500.60334},{"$f":"IF(E72=\"\",\"\",IFERROR((E73/F73-1)*100,\"ND\"))","v":-85.463293984761407},{"$f":"IF(E72=\"\",\"\",IFERROR((E73/VLOOKUP(B73&\"|\"&VLOOKUP(TDPrimas!$B$4,Cat!R:T,2,0),'TD Operación'!A:D,4,0))*100,\"ND\"))","v":2.352119540010984},{"$f":"IF(E72=\"\",\"\",(VLOOKUP(B73,'TDPrimas Vida'!$B:$N,7,0)))","v":2.352119540010984}]
[null,{"$f":"IF(C74=\"\",B73,D74)","v":"Cardif Vida"},null,{"$f":"IF(D73=\"\",\"\",\"Renovación\")","v":"Renovación"},{"$f":"IF(E72=\"\",\"\",(VLOOKUP(B74,'TDPrimas Vida'!$B:$N,8,0)))","v":743111.74934999994},{"$f":"IF(E72=\"\",\"\",(VLOOKUP(B74,'TDPrimas Vida'!$B:$N,9,0)))","v":470321.09976999997},{"$f":"IFERROR((E74/VLOOKUP(\"TOTAL\",$D$12:$L$312,2,0))*100,\"\")","v":0.88517008801741359},{"$f":"IFERROR((E74/VLOOKUP(\"TOTAL\",$D$12:$L$312,3,0))*100,\"\")","v":0.95302061330057253},{"$f":"IF(E72=\"\",\"\",E74-F74)","v":272790.64957999997},{"$f":"IF(E72=\"\",\"\",IFERROR((E74/F74-1)*100,\"ND\"))","v":58.000938021577618},{"$f":"IF(E72=\"\",\"\",IFERROR((E74/VLOOKUP(B74&\"|\"&VLOOKUP(TDPrimas!$B$4,Cat!R:T,2,0),'TD Operación'!A:D,4,0))*100,\"ND\"))","v":76.401679480566656},{"$f":"IF(E72=\"\",\"\",(VLOOKUP(B74,'TDPrimas Vida'!$B:$N,10,0)))","v":76.401679480566656}]
[null,{"$f":"IF(C75=\"\",B74,D75)","v":"Cardif Vida"},null,{"$f":"IF(D74=\"\",\"\",\"Únicas\")","v":"Únicas"},{"$f":"IF(E73=\"\",\"\",(VLOOKUP(B75,'TDPrimas Vida'!$B:$N,11,0)))","v":162756.5086},{"$f":"IF(E73=\"\",\"\",(VLOOKUP(B75,'TDPrimas Vida'!$B:$N,12,0)))","v":146085.85813000001},{"$f":"IFERROR((E75/VLOOKUP(\"TOTAL\",$D$12:$L$312,2,0))*100,\"\")","v":0.19387015905600272},{"$f":"IFERROR((E75/VLOOKUP(\"TOTAL\",$D$12:$L$312,3,0))*100,\"\")","v":0.20873079692294863},{"$f":"IF(E72=\"\",\"\",E75-F75)","v":16670.650469999993},{"$f":"IF(E72=\"\",\"\",IFERROR((E75/F75-1)*100,\"ND\"))","v":11.411542967536924},{"$f":"IF(E72=\"\",\"\",IFERROR((E75/VLOOKUP(B75&\"|\"&VLOOKUP(TDPrimas!$B$4,Cat!R:T,2,0),'TD Operación'!A:D,4,0))*100,\"ND\"))","v":16.73351365297356},{"$f":"IF(E72=\"\",\"\",(VLOOKUP(B75,'TDPrimas Vida'!$B:$N,13,0)))","v":16.73351365297356}]
[null,{"$f":"IF(C76=\"\",B72,D76)","v":"TOTAL MEDIANAS"},{"$f":"IF('TDPrimas Vida'!A23=\"\",\"\",'TDPrimas Vida'!A23)","v":15.1},{"$f":"IF('TDPrimas Vida'!B23=\"\",\"\",'TDPrimas Vida'!B23)","v":"TOTAL MEDIANAS"},{"$f":"IF('TDPrimas Vida'!C23=\"\",\"\",'TDPrimas Vida'!C23)","v":22776145.08636},{"$f":"IF('TDPrimas Vida'!D23=\"\",\"\",'TDPrimas Vida'!D23)","v":20586928.455049999},{"$f":"IF('TDPrimas Vida'!C23=\"\",\"\",IFERROR((E76/VLOOKUP(\"TOTAL\",$D$12:$L$312,2,0))*100,\"\"))","v":27.130189192171013},{"$f":"IF('TDPrimas Vida'!C23=\"\",\"\",IFERROR((E76/VLOOKUP(\"TOTAL\",$D$12:$L$312,3,0))*100,\"\"))","v":29.20978678888067},{"$f":"IF('TDPrimas Vida'!C23=\"\",\"\",E76-F76)","v":2189216.631310001},{"$f":"IFERROR(IF('TDPrimas Vida'!C23=\"\",\"\",(E76/F76-1)*100),\"ND\")","v":10.634012917905601},{"$f":"IF(E76=\"\",\"\",IFERROR((E76/VLOOKUP(D76&\"|\"&VLOOKUP(TDPrimas!$B$4,Cat!R:T,2,0),'TD Operación'!A:D,4,0))*100,\"ND\"))","v":31.335854819295673},{"$f":"IF('TDPrimas Vida'!E23=\"\",\"\",'TDPrimas Vida'!E23)","v":42.048831325436701}]
[null,{"$f":"IF(C77=\"\",B76,D77)","v":"TOTAL MEDIANAS"},null,{"$f":"IF(D76=\"\",\"\",\"1er Año\")","v":"1er Año"},{"$f":"IF(E76=\"\",\"\",(VLOOKUP(B77,'TDPrimas Vida'!$B:$N,5,0)))","v":9954782.4442100003},{"$f":"IF(E76=\"\",\"\",(VLOOKUP(B77,'TDPrimas Vida'!$B:$N,6,0)))","v":7972773.5685800007},{"$f":"IFERROR((E77/VLOOKUP(\"TOTAL\",$D$12:$L$312,2,0))*100,\"\")","v":11.857806931518905},{"$f":"IFERROR((E77/VLOOKUP(\"TOTAL\",$D$12:$L$312,3,0))*100,\"\")","v":12.766737813731471},{"$f":"IF(E76=\"\",\"\",E77-F77)","v":1982008.8756299997},{"$f":"IF(E76=\"\",\"\",IFERROR((E77/F77-1)*100,\"ND\"))","v":24.859716114865261},{"$f":"IF(E76=\"\",\"\",IFERROR((E77/VLOOKUP(B77&\"|\"&VLOOKUP(TDPrimas!$B$4,Cat!R:T,2,0),'TD Operación'!A:D,4,0))*100,\"ND\"))","v":13.695979554338678},{"$f":"IF(E76=\"\",\"\",(VLOOKUP(B77,'TDPrimas Vida'!$B:$N,7,0)))","v":18.378306174765495}]
[null,{"$f":"IF(C78=\"\",B77,D78)","v":"TOTAL MEDIANAS"},null,{"$f":"IF(D77=\"\",\"\",\"Renovación\")","v":"Renovación"},{"$f":"IF(E76=\"\",\"\",(VLOOKUP(B78,'TDPrimas Vida'!$B:$N,8,0)))","v":9904017.9913999978},{"$f":"IF(E76=\"\",\"\",(VLOOKUP(B78,'TDPrimas Vida'!$B:$N,9,0)))","v":9883553.9476200026},{"$f":"IFERROR((E78/VLOOKUP(\"TOTAL\",$D$12:$L$312,2,0))*100,\"\")","v":11.797337997739712},{"$f":"IFERROR((E78/VLOOKUP(\"TOTAL\",$D$12:$L$312,3,0))*100,\"\")","v":12.701633783290326},{"$f":"IF(E76=\"\",\"\",E78-F78)","v":20464.043779995292},{"$f":"IF(E76=\"\",\"\",IFERROR((E78/F78-1)*100,\"ND\"))","v":0.20705147043713623},{"$f":"IF(E76=\"\",\"\",IFERROR((E78/VLOOKUP(B78&\"|\"&VLOOKUP(TDPrimas!$B$4,Cat!R:T,2,0),'TD Operación'!A:D,4,0))*100,\"ND\"))","v":13.626136851932122},{"$f":"IF(E76=\"\",\"\",(VLOOKUP(B78,'TDPrimas Vida'!$B:$N,10,0)))","v":18.28458592906798}]
[null,{"$f":"IF(C79=\"\",B78,D79)","v":"TOTAL MEDIANAS"},null,{"$f":"IF(D78=\"\",\"\",\"Únicas\")","v":"Únicas"},{"$f":"IF(E77=\"\",\"\",(VLOOKUP(B79,'TDPrimas Vida'!$B:$N,11,0)))","v":2917344.65075},{"$f":"IF(E77=\"\",\"\",(VLOOKUP(B79,'TDPrimas Vida'!$B:$N,12,0)))","v":2730600.9388500005},{"$f":"IFERROR((E79/VLOOKUP(\"TOTAL\",$D$12:$L$312,2,0))*100,\"\")","v":3.4750442629123905},{"$f":"IFERROR((E79/VLOOKUP(\"TOTAL\",$D$12:$L$312,3,0))*100,\"\")","v":3.7414151918588692},{"$f":"IF(E76=\"\",\"\",E79-F79)","v":186743.71189999953},{"$f":"IF(E76=\"\",\"\",IFERROR((E79/F79-1)*100,\"ND\"))","v":6.8389235952818206},{"$f":"IF(E76=\"\",\"\",IFERROR((E79/VLOOKUP(B79&\"|\"&VLOOKUP(TDPrimas!$B$4,Cat!R:T,2,0),'TD Operación'!A:D,4,0))*100,\"ND\"))","v":4.013738413024873},{"$f":"IF(E76=\"\",\"\",(VLOOKUP(B79,'TDPrimas Vida'!$B:$N,13,0)))","v":5.3859392216032207}]
[null,{"$f":"IF(C80=\"\",B76,D80)","v":"Atlas"},{"$f":"IF('TDPrimas Vida'!A24=\"\",\"\",'TDPrimas Vida'!A24)","v":16},{"$f":"IF('TDPrimas Vida'!B24=\"\",\"\",'TDPrimas Vida'!B24)","v":"Atlas"},{"$f":"IF('TDPrimas Vida'!C24=\"\",\"\",'TDPrimas Vida'!C24)","v":907585.70137000002},{"$f":"IF('TDPrimas Vida'!D24=\"\",\"\",'TDPrimas Vida'!D24)","v":1081747.9572099999},{"$f":"IF('TDPrimas Vida'!C24=\"\",\"\",IFERROR((E80/VLOOKUP(\"TOTAL\",$D$12:$L$312,2,0))*100,\"\"))","v":1.081086008756738},{"$f":"IF('TDPrimas Vida'!C24=\"\",\"\",IFERROR((E80/VLOOKUP(\"TOTAL\",$D$12:$L$312,3,0))*100,\"\"))","v":1.1639539847123099},{"$f":"IF('TDPrimas Vida'!C24=\"\",\"\",E80-F80)","v":-174162.25583999988},{"$f":"IFERROR(IF('TDPrimas Vida'!C24=\"\",\"\",(E80/F80-1)*100),\"ND\")","v":-16.100077164850124},{"$f":"IF(E80=\"\",\"\",IFERROR((E80/VLOOKUP(D80&\"|\"&VLOOKUP(TDPrimas!$B$4,Cat!R:T,2,0),'TD Operación'!A:D,4,0))*100,\"ND\"))","v":16.521086009125288},{"$f":"IF('TDPrimas Vida'!E24=\"\",\"\",'TDPrimas Vida'!E24)","v":16.521086009125288}]
[null,{"$f":"IF(C81=\"\",B80,D81)","v":"Atlas"},null,{"$f":"IF(D80=\"\",\"\",\"1er Año\")","v":"1er Año"},{"$f":"IF(E80=\"\",\"\",(VLOOKUP(B81,'TDPrimas Vida'!$B:$N,5,0)))","v":723774.93727000011},{"$f":"IF(E80=\"\",\"\",(VLOOKUP(B81,'TDPrimas Vida'!$B:$N,6,0)))","v":919494.53989999997},{"$f":"IFERROR((E81/VLOOKUP(\"TOTAL\",$D$12:$L$312,2,0))*100,\"\")","v":0.86213671831790151},{"$f":"IFERROR((E81/VLOOKUP(\"TOTAL\",$D$12:$L$312,3,0))*100,\"\")","v":0.92822167757673468},{"$f":"IF(E80=\"\",\"\",E81-F81)","v":-195719.60262999986},{"$f":"IF(E80=\"\",\"\",IFERROR((E81/F81-1)*100,\"ND\"))","v":-21.285564420130811},{"$f":"IF(E80=\"\",\"\",IFERROR((E81/VLOOKUP(B81&\"|\"&VLOOKUP(TDPrimas!$B$4,Cat!R:T,2,0),'TD Operación'!A:D,4,0))*100,\"ND\"))","v":13.175117205831935},{"$f":"IF(E80=\"\",\"\",(VLOOKUP(B81,'TDPrimas Vida'!$B:$N,7,0)))","v":13.175117205831935}]
[null,{"$f":"IF(C82=\"\",B81,D82)","v":"Atlas"},null,{"$f":"IF(D81=\"\",\"\",\"Renovación\")","v":"Renovación"},{"$f":"IF(E80=\"\",\"\",(VLOOKUP(B82,'TDPrimas Vida'!$B:$N,8,0)))","v":156694.23322000002},{"$f":"IF(E80=\"\",\"\",(VLOOKUP(B82,'TDPrimas Vida'!$B:$N,9,0)))","v":147285.80684999999},{"$f":"IFERROR((E82/VLOOKUP(\"TOTAL\",$D$12:$L$312,2,0))*100,\"\")","v":0.18664897753600368},{"$f":"IFERROR((E82/VLOOKUP(\"TOTAL\",$D$12:$L$312,3,0))*100,\"\")","v":0.20095609358163005},{"$f":"IF(E80=\"\",\"\",E82-F82)","v":9408.4263700000301},{"$f":"IF(E80=\"\",\"\",IFERROR((E82/F82-1)*100,\"ND\"))","v":6.3878703394562919},{"$f":"IF(E80=\"\",\"\",IFERROR((E82/VLOOKUP(B82&\"|\"&VLOOKUP(TDPrimas!$B$4,Cat!R:T,2,0),'TD Operación'!A:D,4,0))*100,\"ND\"))","v":2.852357524202759},{"$f":"IF(E80=\"\",\"\",(VLOOKUP(B82,'TDPrimas Vida'!$B:$N,10,0)))","v":2.852357524202759}]
[null,{"$f":"IF(C83=\"\",B82,D83)","v":"Atlas"},null,{"$f":"IF(D82=\"\",\"\",\"Únicas\")","v":"Únicas"},{"$f":"IF(E81=\"\",\"\",(VLOOKUP(B83,'TDPrimas Vida'!$B:$N,11,0)))","v":27116.530879999998},{"$f":"IF(E81=\"\",\"\",(VLOOKUP(B83,'TDPrimas Vida'!$B:$N,12,0)))","v":14967.61046},{"$f":"IFERROR((E83/VLOOKUP(\"TOTAL\",$D$12:$L$312,2,0))*100,\"\")","v":3.2300312902832869E-2},{"$f":"IFERROR((E83/VLOOKUP(\"TOTAL\",$D$12:$L$312,3,0))*100,\"\")","v":3.4776213553945362E-2},{"$f":"IF(E80=\"\",\"\",E83-F83)","v":12148.920419999999},{"$f":"IF(E80=\"\",\"\",IFERROR((E83/F83-1)*100,\"ND\"))","v":81.168069228332911},{"$f":"IF(E80=\"\",\"\",IFERROR((E83/VLOOKUP(B83&\"|\"&VLOOKUP(TDPrimas!$B$4,Cat!R:T,2,0),'TD Operación'!A:D,4,0))*100,\"ND\"))","v":0.49361127909059654},{"$f":"IF(E80=\"\",\"\",(VLOOKUP(B83,'TDPrimas Vida'!$B:$N,13,0)))","v":0.49361127909059654}]
[null,{"$f":"IF(C84=\"\",B80,D84)","v":"Seguros Argos"},{"$f":"IF('TDPrimas Vida'!A25=\"\",\"\",'TDPrimas Vida'!A25)","v":17},{"$f":"IF('TDPrimas Vida'!B25=\"\",\"\",'TDPrimas Vida'!B25)","v":"Seguros Argos"},{"$f":"IF('TDPrimas Vida'!C25=\"\",\"\",'TDPrimas Vida'!C25)","v":758060.44874999998},{"$f":"IF('TDPrimas Vida'!D25=\"\",\"\",'TDPrimas Vida'!D25)","v":1176942.8885300001},{"$f":"IF('TDPrimas Vida'!C25=\"\",\"\",IFERROR((E84/VLOOKUP(\"TOTAL\",$D$12:$L$312,2,0))*100,\"\"))","v":0.90297648332097058},{"$f":"IF('TDPrimas Vida'!C25=\"\",\"\",IFERROR((E84/VLOOKUP(\"TOTAL\",$D$12:$L$312,3,0))*100,\"\"))","v":0.97219191382528547},{"$f":"IF('TDPrimas Vida'!C25=\"\",\"\",E84-F84)","v":-418882.43978000013},{"$f":"IFERROR(IF('TDPrimas Vida'!C25=\"\",\"\",(E84/F84-1)*100),\"ND\")","v":-35.590719300167883},{"$f":"IF(E84=\"\",\"\",IFERROR((E84/VLOOKUP(D84&\"|\"&VLOOKUP(TDPrimas!$B$4,Cat!R:T,2,0),'TD Operación'!A:D,4,0))*100,\"ND\"))","v":100},{"$f":"IF('TDPrimas Vida'!E25=\"\",\"\",'TDPrimas Vida'!E25)","v":100}]
[null,{"$f":"IF(C85=\"\",B84,D85)","v":"Seguros Argos"},null,{"$f":"IF(D84=\"\",\"\",\"1er Año\")","v":"1er Año"},{"$f":"IF(E84=\"\",\"\",(VLOOKUP(B85,'TDPrimas Vida'!$B:$N,5,0)))","v":311404.18886999995},{"$f":"IF(E84=\"\",\"\",(VLOOKUP(B85,'TDPrimas Vida'!$B:$N,6,0)))","v":418703.16706000001},{"$f":"IFERROR((E85/VLOOKUP(\"TOTAL\",$D$12:$L$312,2,0))*100,\"\")","v":0.37093434939247893},{"$f":"IFERROR((E85/VLOOKUP(\"TOTAL\",$D$12:$L$312,3,0))*100,\"\")","v":0.39936740513232843},{"$f":"IF(E84=\"\",\"\",E85-F85)","v":-107298.97819000005},{"$f":"IF(E84=\"\",\"\",IFERROR((E85/F85-1)*100,\"ND\"))","v":-25.626502647070769},{"$f":"IF(E84=\"\",\"\",IFERROR((E85/VLOOKUP(B85&\"|\"&VLOOKUP(TDPrimas!$B$4,Cat!R:T,2,0),'TD Operación'!A:D,4,0))*100,\"ND\"))","v":41.079070855561497},{"$f":"IF(E84=\"\",\"\",(VLOOKUP(B85,'TDPrimas Vida'!$B:$N,7,0)))","v":41.079070855561497}]
[null,{"$f":"IF(C86=\"\",B85,D86)","v":"Seguros Argos"},null,{"$f":"IF(D85=\"\",\"\",\"Renovación\")","v":"Renovación"},{"$f":"IF(E84=\"\",\"\",(VLOOKUP(B86,'TDPrimas Vida'!$B:$N,8,0)))","v":393215.78263999999},{"$f":"IF(E84=\"\",\"\",(VLOOKUP(B86,'TDPrimas Vida'!$B:$N,9,0)))","v":666888.90836999996},{"$f":"IFERROR((E86/VLOOKUP(\"TOTAL\",$D$12:$L$312,2,0))*100,\"\")","v":0.46838560853564165},{"$f":"IFERROR((E86/VLOOKUP(\"TOTAL\",$D$12:$L$312,3,0))*100,\"\")","v":0.50428854968155878},{"$f":"IF(E84=\"\",\"\",E86-F86)","v":-273673.12572999997},{"$f":"IF(E84=\"\",\"\",IFERROR((E86/F86-1)*100,\"ND\"))","v":-41.037288564133988},{"$f":"IF(E84=\"\",\"\",IFERROR((E86/VLOOKUP(B86&\"|\"&VLOOKUP(TDPrimas!$B$4,Cat!R:T,2,0),'TD Operación'!A:D,4,0))*100,\"ND\"))","v":51.871296449826822},{"$f":"IF(E84=\"\",\"\",(VLOOKUP(B86,'TDPrimas Vida'!$B:$N,10,0)))","v":51.871296449826822}]
[null,{"$f":"IF(C87=\"\",B86,D87)","v":"Seguros Argos"},null,{"$f":"IF(D86=\"\",\"\",\"Únicas\")","v":"Únicas"},{"$f":"IF(E85=\"\",\"\",(VLOOKUP(B87,'TDPrimas Vida'!$B:$N,11,0)))","v":53440.47724},{"$f":"IF(E85=\"\",\"\",(VLOOKUP(B87,'TDPrimas Vida'!$B:$N,12,0)))","v":91350.813099999999},{"$f":"IFERROR((E87/VLOOKUP(\"TOTAL\",$D$12:$L$312,2,0))*100,\"\")","v":6.3656525392849897E-2},{"$f":"IFERROR((E87/VLOOKUP(\"TOTAL\",$D$12:$L$312,3,0))*100,\"\")","v":6.853595901139832E-2},{"$f":"IF(E84=\"\",\"\",E87-F87)","v":-37910.335859999999},{"$f":"IF(E84=\"\",\"\",IFERROR((E87/F87-1)*100,\"ND\"))","v":-41.499724603983843},{"$f":"IF(E84=\"\",\"\",IFERROR((E87/VLOOKUP(B87&\"|\"&VLOOKUP(TDPrimas!$B$4,Cat!R:T,2,0),'TD Operación'!A:D,4,0))*100,\"ND\"))","v":7.0496326946116783},{"$f":"IF(E84=\"\",\"\",(VLOOKUP(B87,'TDPrimas Vida'!$B:$N,13,0)))","v":7.0496326946116783}]
[null,{"$f":"IF(C88=\"\",B84,D88)","v":"Afirme"},{"$f":"IF('TDPrimas Vida'!A26=\"\",\"\",'TDPrimas Vida'!A26)","v":18},{"$f":"IF('TDPrimas Vida'!B26=\"\",\"\",'TDPrimas Vida'!B26)","v":"Afirme"},{"$f":"IF('TDPrimas Vida'!C26=\"\",\"\",'TDPrimas Vida'!C26)","v":736934.18177999998},{"$f":"IF('TDPrimas Vida'!D26=\"\",\"\",'TDPrimas Vida'!D26)","v":610121.02737999998},{"$f":"IF('TDPrimas Vida'!C26=\"\",\"\",IFERROR((E88/VLOOKUP(\"TOTAL\",$D$12:$L$312,2,0))*100,\"\"))","v":0.87781157426163792},{"$f":"IF('TDPrimas Vida'!C26=\"\",\"\",IFERROR((E88/VLOOKUP(\"TOTAL\",$D$12:$L$312,3,0))*100,\"\"))","v":0.94509805086037868},{"$f":"IF('TDPrimas Vida'!C26=\"\",\"\",E88-F88)","v":126813.1544},{"$f":"IFERROR(IF('TDPrimas Vida'!C26=\"\",\"\",(E88/F88-1)*100),\"ND\")","v":20.784917862045305},{"$f":"IF(E88=\"\",\"\",IFERROR((E88/VLOOKUP(D88&\"|\"&VLOOKUP(TDPrimas!$B$4,Cat!R:T,2,0),'TD Operación'!A:D,4,0))*100,\"ND\"))","v":33.014636299423231},{"$f":"IF('TDPrimas Vida'!E26=\"\",\"\",'TDPrimas Vida'!E26)","v":33.014636299423231}]
[null,{"$f":"IF(C89=\"\",B88,D89)","v":"Afirme"},null,{"$f":"IF(D88=\"\",\"\",\"1er Año\")","v":"1er Año"},{"$f":"IF(E88=\"\",\"\",(VLOOKUP(B89,'TDPrimas Vida'!$B:$N,5,0)))","v":736934.18177999998},{"$f":"IF(E88=\"\",\"\",(VLOOKUP(B89,'TDPrimas Vida'!$B:$N,6,0)))","v":610121.02737999998},{"$f":"IFERROR((E89/VLOOKUP(\"TOTAL\",$D$12:$L$312,2,0))*100,\"\")","v":0.87781157426163792},{"$f":"IFERROR((E89/VLOOKUP(\"TOTAL\",$D$12:$L$312,3,0))*100,\"\")","v":0.94509805086037868},{"$f":"IF(E88=\"\",\"\",E89-F89)","v":126813.1544},{"$f":"IF(E88=\"\",\"\",IFERROR((E89/F89-1)*100,\"ND\"))","v":20.784917862045305},{"$f":"IF(E88=\"\",\"\",IFERROR((E89/VLOOKUP(B89&\"|\"&VLOOKUP(TDPrimas!$B$4,Cat!R:T,2,0),'TD Operación'!A:D,4,0))*100,\"ND\"))","v":33.014636299423231},{"$f":"IF(E88=\"\",\"\",(VLOOKUP(B89,'TDPrimas Vida'!$B:$N,7,0)))","v":33.014636299423231}]
[null,{"$f":"IF(C90=\"\",B89,D90)","v":"Afirme"},null,{"$f":"IF(D89=\"\",\"\",\"Renovación\")","v":"Renovación"},{"$f":"IF(E88=\"\",\"\",(VLOOKUP(B90,'TDPrimas Vida'!$B:$N,8,0)))","v":0},{"$f":"IF(E88=\"\",\"\",(VLOOKUP(B90,'TDPrimas Vida'!$B:$N,9,0)))","v":0},{"$f":"IFERROR((E90/VLOOKUP(\"TOTAL\",$D$12:$L$312,2,0))*100,\"\")","v":0},{"$f":"IFERROR((E90/VLOOKUP(\"TOTAL\",$D$12:$L$312,3,0))*100,\"\")","v":0},{"$f":"IF(E88=\"\",\"\",E90-F90)","v":0},{"$f":"IF(E88=\"\",\"\",IFERROR((E90/F90-1)*100,\"ND\"))","v":"ND"},{"$f":"IF(E88=\"\",\"\",IFERROR((E90/VLOOKUP(B90&\"|\"&VLOOKUP(TDPrimas!$B$4,Cat!R:T,2,0),'TD Operación'!A:D,4,0))*100,\"ND\"))","v":0},{"$f":"IF(E88=\"\",\"\",(VLOOKUP(B90,'TDPrimas Vida'!$B:$N,10,0)))","v":0}]
[null,{"$f":"IF(C91=\"\",B90,D91)","v":"Afirme"},null,{"$f":"IF(D90=\"\",\"\",\"Únicas\")","v":"Únicas"},{"$f":"IF(E89=\"\",\"\",(VLOOKUP(B91,'TDPrimas Vida'!$B:$N,11,0)))","v":0},{"$f":"IF(E89=\"\",\"\",(VLOOKUP(B91,'TDPrimas Vida'!$B:$N,12,0)))","v":0},{"$f":"IFERROR((E91/VLOOKUP(\"TOTAL\",$D$12:$L$312,2,0))*100,\"\")","v":0},{"$f":"IFERROR((E91/VLOOKUP(\"TOTAL\",$D$12:$L$312,3,0))*100,\"\")","v":0},{"$f":"IF(E88=\"\",\"\",E91-F91)","v":0},{"$f":"IF(E88=\"\",\"\",IFERROR((E91/F91-1)*100,\"ND\"))","v":"ND"},{"$f":"IF(E88=\"\",\"\",IFERROR((E91/VLOOKUP(B91&\"|\"&VLOOKUP(TDPrimas!$B$4,Cat!R:T,2,0),'TD Operación'!A:D,4,0))*100,\"ND\"))","v":0},{"$f":"IF(E88=\"\",\"\",(VLOOKUP(B91,'TDPrimas Vida'!$B:$N,13,0)))","v":0}]
[null,{"$f":"IF(C92=\"\",B88,D92)","v":"Seguros SURA"},{"$f":"IF('TDPrimas Vida'!A27=\"\",\"\",'TDPrimas Vida'!A27)","v":19},{"$f":"IF('TDPrimas Vida'!B27=\"\",\"\",'TDPrimas Vida'!B27)","v":"Seguros SURA"},{"$f":"IF('TDPrimas Vida'!C27=\"\",\"\",'TDPrimas Vida'!C27)","v":693146.72094000003},{"$f":"IF('TDPrimas Vida'!D27=\"\",\"\",'TDPrimas Vida'!D27)","v":447336.25871000002},{"$f":"IF('TDPrimas Vida'!C27=\"\",\"\",IFERROR((E92/VLOOKUP(\"TOTAL\",$D$12:$L$312,2,0))*100,\"\"))","v":0.8256534020894114},{"$f":"IF('TDPrimas Vida'!C27=\"\",\"\",IFERROR((E92/VLOOKUP(\"TOTAL\",$D$12:$L$312,3,0))*100,\"\"))","v":0.88894182291604451},{"$f":"IF('TDPrimas Vida'!C27=\"\",\"\",E92-F92)","v":245810.46223},{"$f":"IFERROR(IF('TDPrimas Vida'!C27=\"\",\"\",(E92/F92-1)*100),\"ND\")","v":54.949818496460054},{"$f":"IF(E92=\"\",\"\",IFERROR((E92/VLOOKUP(D92&\"|\"&VLOOKUP(TDPrimas!$B$4,Cat!R:T,2,0),'TD Operación'!A:D,4,0))*100,\"ND\"))","v":23.035177526767999},{"$f":"IF('TDPrimas Vida'!E27=\"\",\"\",'TDPrimas Vida'!E27)","v":23.035177526767999}]
[null,{"$f":"IF(C93=\"\",B92,D93)","v":"Seguros SURA"},null,{"$f":"IF(D92=\"\",\"\",\"1er Año\")","v":"1er Año"},{"$f":"IF(E92=\"\",\"\",(VLOOKUP(B93,'TDPrimas Vida'!$B:$N,5,0)))","v":0},{"$f":"IF(E92=\"\",\"\",(VLOOKUP(B93,'TDPrimas Vida'!$B:$N,6,0)))","v":0},{"$f":"IFERROR((E93/VLOOKUP(\"TOTAL\",$D$12:$L$312,2,0))*100,\"\")","v":0},{"$f":"IFERROR((E93/VLOOKUP(\"TOTAL\",$D$12:$L$312,3,0))*100,\"\")","v":0},{"$f":"IF(E92=\"\",\"\",E93-F93)","v":0},{"$f":"IF(E92=\"\",\"\",IFERROR((E93/F93-1)*100,\"ND\"))","v":"ND"},{"$f":"IF(E92=\"\",\"\",IFERROR((E93/VLOOKUP(B93&\"|\"&VLOOKUP(TDPrimas!$B$4,Cat!R:T,2,0),'TD Operación'!A:D,4,0))*100,\"ND\"))","v":0},{"$f":"IF(E92=\"\",\"\",(VLOOKUP(B93,'TDPrimas Vida'!$B:$N,7,0)))","v":0}]
[null,{"$f":"IF(C94=\"\",B93,D94)","v":"Seguros SURA"},null,{"$f":"IF(D93=\"\",\"\",\"Renovación\")","v":"Renovación"},{"$f":"IF(E92=\"\",\"\",(VLOOKUP(B94,'TDPrimas Vida'!$B:$N,8,0)))","v":0},{"$f":"IF(E92=\"\",\"\",(VLOOKUP(B94,'TDPrimas Vida'!$B:$N,9,0)))","v":0},{"$f":"IFERROR((E94/VLOOKUP(\"TOTAL\",$D$12:$L$312,2,0))*100,\"\")","v":0},{"$f":"IFERROR((E94/VLOOKUP(\"TOTAL\",$D$12:$L$312,3,0))*100,\"\")","v":0},{"$f":"IF(E92=\"\",\"\",E94-F94)","v":0},{"$f":"IF(E92=\"\",\"\",IFERROR((E94/F94-1)*100,\"ND\"))","v":"ND"},{"$f":"IF(E92=\"\",\"\",IFERROR((E94/VLOOKUP(B94&\"|\"&VLOOKUP(TDPrimas!$B$4,Cat!R:T,2,0),'TD Operación'!A:D,4,0))*100,\"ND\"))","v":0},{"$f":"IF(E92=\"\",\"\",(VLOOKUP(B94,'TDPrimas Vida'!$B:$N,10,0)))","v":0}]
[null,{"$f":"IF(C95=\"\",B94,D95)","v":"Seguros SURA"},null,{"$f":"IF(D94=\"\",\"\",\"Únicas\")","v":"Únicas"},{"$f":"IF(E93=\"\",\"\",(VLOOKUP(B95,'TDPrimas Vida'!$B:$N,11,0)))","v":0},{"$f":"IF(E93=\"\",\"\",(VLOOKUP(B95,'TDPrimas Vida'!$B:$N,12,0)))","v":0},{"$f":"IFERROR((E95/VLOOKUP(\"TOTAL\",$D$12:$L$312,2,0))*100,\"\")","v":0},{"$f":"IFERROR((E95/VLOOKUP(\"TOTAL\",$D$12:$L$312,3,0))*100,\"\")","v":0},{"$f":"IF(E92=\"\",\"\",E95-F95)","v":0},{"$f":"IF(E92=\"\",\"\",IFERROR((E95/F95-1)*100,\"ND\"))","v":"ND"},{"$f":"IF(E92=\"\",\"\",IFERROR((E95/VLOOKUP(B95&\"|\"&VLOOKUP(TDPrimas!$B$4,Cat!R:T,2,0),'TD Operación'!A:D,4,0))*100,\"ND\"))","v":0},{"$f":"IF(E92=\"\",\"\",(VLOOKUP(B95,'TDPrimas Vida'!$B:$N,13,0)))","v":0}]
[null,{"$f":"IF(C96=\"\",B92,D96)","v":"Chubb Seguros México"},{"$f":"IF('TDPrimas Vida'!A28=\"\",\"\",'TDPrimas Vida'!A28)","v":20},{"$f":"IF('TDPrimas Vida'!B28=\"\",\"\",'TDPrimas Vida'!B28)","v":"Chubb Seguros México"},{"$f":"IF('TDPrimas Vida'!C28=\"\",\"\",'TDPrimas Vida'!C28)","v":452992.43806000001},{"$f":"IF('TDPrimas Vida'!D28=\"\",\"\",'TDPrimas Vida'!D28)","v":426439.88348000002},{"$f":"IF('TDPrimas Vida'!C28=\"\",\"\",IFERROR((E96/VLOOKUP(\"TOTAL\",$D$12:$L$312,2,0))*100,\"\"))","v":0.53958957938631202},{"$f":"IF('TDPrimas Vida'!C28=\"\",\"\",IFERROR((E96/VLOOKUP(\"TOTAL\",$D$12:$L$312,3,0))*100,\"\"))","v":0.58095048492784662},{"$f":"IF('TDPrimas Vida'!C28=\"\",\"\",E96-F96)","v":26552.554579999996},{"$f":"IFERROR(IF('TDPrimas Vida'!C28=\"\",\"\",(E96/F96-1)*100),\"ND\")","v":6.2265645425365834},{"$f":"IF(E96=\"\",\"\",IFERROR((E96/VLOOKUP(D96&\"|\"&VLOOKUP(TDPrimas!$B$4,Cat!R:T,2,0),'TD Operación'!A:D,4,0))*100,\"ND\"))","v":6.7254220692312048},{"$f":"IF('TDPrimas Vida'!E28=\"\",\"\",'TDPrimas Vida'!E28)","v":6.7254220692312048}]
[null,{"$f":"IF(C97=\"\",B96,D97)","v":"Chubb Seguros México"},null,{"$f":"IF(D96=\"\",\"\",\"1er Año\")","v":"1er Año"},{"$f":"IF(E96=\"\",\"\",(VLOOKUP(B97,'TDPrimas Vida'!$B:$N,5,0)))","v":452992.43805999996},{"$f":"IF(E96=\"\",\"\",(VLOOKUP(B97,'TDPrimas Vida'!$B:$N,6,0)))","v":426439.88348000002},{"$f":"IFERROR((E97/VLOOKUP(\"TOTAL\",$D$12:$L$312,2,0))*100,\"\")","v":0.53958957938631191},{"$f":"IFERROR((E97/VLOOKUP(\"TOTAL\",$D$12:$L$312,3,0))*100,\"\")","v":0.58095048492784651},{"$f":"IF(E96=\"\",\"\",E97-F97)","v":26552.554579999938},{"$f":"IF(E96=\"\",\"\",IFERROR((E97/F97-1)*100,\"ND\"))","v":6.2265645425365612},{"$f":"IF(E96=\"\",\"\",IFERROR((E97/VLOOKUP(B97&\"|\"&VLOOKUP(TDPrimas!$B$4,Cat!R:T,2,0),'TD Operación'!A:D,4,0))*100,\"ND\"))","v":6.725422069231203},{"$f":"IF(E96=\"\",\"\",(VLOOKUP(B97,'TDPrimas Vida'!$B:$N,7,0)))","v":6.725422069231203}]
[null,{"$f":"IF(C98=\"\",B97,D98)","v":"Chubb Seguros México"},null,{"$f":"IF(D97=\"\",\"\",\"Renovación\")","v":"Renovación"},{"$f":"IF(E96=\"\",\"\",(VLOOKUP(B98,'TDPrimas Vida'!$B:$N,8,0)))","v":0},{"$f":"IF(E96=\"\",\"\",(VLOOKUP(B98,'TDPrimas Vida'!$B:$N,9,0)))","v":0},{"$f":"IFERROR((E98/VLOOKUP(\"TOTAL\",$D$12:$L$312,2,0))*100,\"\")","v":0},{"$f":"IFERROR((E98/VLOOKUP(\"TOTAL\",$D$12:$L$312,3,0))*100,\"\")","v":0},{"$f":"IF(E96=\"\",\"\",E98-F98)","v":0},{"$f":"IF(E96=\"\",\"\",IFERROR((E98/F98-1)*100,\"ND\"))","v":"ND"},{"$f":"IF(E96=\"\",\"\",IFERROR((E98/VLOOKUP(B98&\"|\"&VLOOKUP(TDPrimas!$B$4,Cat!R:T,2,0),'TD Operación'!A:D,4,0))*100,\"ND\"))","v":0},{"$f":"IF(E96=\"\",\"\",(VLOOKUP(B98,'TDPrimas Vida'!$B:$N,10,0)))","v":0}]
[null,{"$f":"IF(C99=\"\",B98,D99)","v":"Chubb Seguros México"},null,{"$f":"IF(D98=\"\",\"\",\"Únicas\")","v":"Únicas"},{"$f":"IF(E97=\"\",\"\",(VLOOKUP(B99,'TDPrimas Vida'!$B:$N,11,0)))","v":0},{"$f":"IF(E97=\"\",\"\",(VLOOKUP(B99,'TDPrimas Vida'!$B:$N,12,0)))","v":0},{"$f":"IFERROR((E99/VLOOKUP(\"TOTAL\",$D$12:$L$312,2,0))*100,\"\")","v":0},{"$f":"IFERROR((E99/VLOOKUP(\"TOTAL\",$D$12:$L$312,3,0))*100,\"\")","v":0},{"$f":"IF(E96=\"\",\"\",E99-F99)","v":0},{"$f":"IF(E96=\"\",\"\",IFERROR((E99/F99-1)*100,\"ND\"))","v":"ND"},{"$f":"IF(E96=\"\",\"\",IFERROR((E99/VLOOKUP(B99&\"|\"&VLOOKUP(TDPrimas!$B$4,Cat!R:T,2,0),'TD Operación'!A:D,4,0))*100,\"ND\"))","v":0},{"$f":"IF(E96=\"\",\"\",(VLOOKUP(B99,'TDPrimas Vida'!$B:$N,13,0)))","v":0}]
[null,{"$f":"IF(C100=\"\",B96,D100)","v":"Assurant Vida"},{"$f":"IF('TDPrimas Vida'!A29=\"\",\"\",'TDPrimas Vida'!A29)","v":21},{"$f":"IF('TDPrimas Vida'!B29=\"\",\"\",'TDPrimas Vida'!B29)","v":"Assurant Vida"},{"$f":"IF('TDPrimas Vida'!C29=\"\",\"\",'TDPrimas Vida'!C29)","v":448721.73488999996},{"$f":"IF('TDPrimas Vida'!D29=\"\",\"\",'TDPrimas Vida'!D29)","v":72452.07634},{"$f":"IF('TDPrimas Vida'!C29=\"\",\"\",IFERROR((E100/VLOOKUP(\"TOTAL\",$D$12:$L$312,2,0))*100,\"\"))","v":0.53450245930754603},{"$f":"IF('TDPrimas Vida'!C29=\"\",\"\",IFERROR((E100/VLOOKUP(\"TOTAL\",$D$12:$L$312,3,0))*100,\"\"))","v":0.57547342423292658},{"$f":"IF('TDPrimas Vida'!C29=\"\",\"\",E100-F100)","v":376269.65854999993},{"$f":"IFERROR(IF('TDPrimas Vida'!C29=\"\",\"\",(E100/F100-1)*100),\"ND\")","v":519.33592183646726},{"$f":"IF(E100=\"\",\"\",IFERROR((E100/VLOOKUP(D100&\"|\"&VLOOKUP(TDPrimas!$B$4,Cat!R:T,2,0),'TD Operación'!A:D,4,0))*100,\"ND\"))","v":100},{"$f":"IF('TDPrimas Vida'!E29=\"\",\"\",'TDPrimas Vida'!E29)","v":100}]
[null,{"$f":"IF(C101=\"\",B100,D101)","v":"Assurant Vida"},null,{"$f":"IF(D100=\"\",\"\",\"1er Año\")","v":"1er Año"},{"$f":"IF(E100=\"\",\"\",(VLOOKUP(B101,'TDPrimas Vida'!$B:$N,5,0)))","v":446135.59227999998},{"$f":"IF(E100=\"\",\"\",(VLOOKUP(B101,'TDPrimas Vida'!$B:$N,6,0)))","v":69604.547009999995},{"$f":"IFERROR((E101/VLOOKUP(\"TOTAL\",$D$12:$L$312,2,0))*100,\"\")","v":0.53142193193905596},{"$f":"IFERROR((E101/VLOOKUP(\"TOTAL\",$D$12:$L$312,3,0))*100,\"\")","v":0.57215676665293169},{"$f":"IF(E100=\"\",\"\",E101-F101)","v":376531.04527},{"$f":"IF(E100=\"\",\"\",IFERROR((E101/F101-1)*100,\"ND\"))","v":540.95754005252593},{"$f":"IF(E100=\"\",\"\",IFERROR((E101/VLOOKUP(B101&\"|\"&VLOOKUP(TDPrimas!$B$4,Cat!R:T,2,0),'TD Operación'!A:D,4,0))*100,\"ND\"))","v":99.423664509891879},{"$f":"IF(E100=\"\",\"\",(VLOOKUP(B101,'TDPrimas Vida'!$B:$N,7,0)))","v":99.423664509891879}]
[null,{"$f":"IF(C102=\"\",B101,D102)","v":"Assurant Vida"},null,{"$f":"IF(D101=\"\",\"\",\"Renovación\")","v":"Renovación"},{"$f":"IF(E100=\"\",\"\",(VLOOKUP(B102,'TDPrimas Vida'!$B:$N,8,0)))","v":2586.1426099999999},{"$f":"IF(E100=\"\",\"\",(VLOOKUP(B102,'TDPrimas Vida'!$B:$N,9,0)))","v":2847.5293299999998},{"$f":"IFERROR((E102/VLOOKUP(\"TOTAL\",$D$12:$L$312,2,0))*100,\"\")","v":3.0805273684901715E-3},{"$f":"IFERROR((E102/VLOOKUP(\"TOTAL\",$D$12:$L$312,3,0))*100,\"\")","v":3.3166575799948948E-3},{"$f":"IF(E100=\"\",\"\",E102-F102)","v":-261.38671999999997},{"$f":"IF(E100=\"\",\"\",IFERROR((E102/F102-1)*100,\"ND\"))","v":-9.1794215162658173},{"$f":"IF(E100=\"\",\"\",IFERROR((E102/VLOOKUP(B102&\"|\"&VLOOKUP(TDPrimas!$B$4,Cat!R:T,2,0),'TD Operación'!A:D,4,0))*100,\"ND\"))","v":0.57633549010813323},{"$f":"IF(E100=\"\",\"\",(VLOOKUP(B102,'TDPrimas Vida'!$B:$N,10,0)))","v":0.57633549010813323}]
[null,{"$f":"IF(C103=\"\",B102,D103)","v":"Assurant Vida"},null,{"$f":"IF(D102=\"\",\"\",\"Únicas\")","v":"Únicas"},{"$f":"IF(E101=\"\",\"\",(VLOOKUP(B103,'TDPrimas Vida'!$B:$N,11,0)))","v":0},{"$f":"IF(E101=\"\",\"\",(VLOOKUP(B103,'TDPrimas Vida'!$B:$N,12,0)))","v":0},{"$f":"IFERROR((E103/VLOOKUP(\"TOTAL\",$D$12:$L$312,2,0))*100,\"\")","v":0},{"$f":"IFERROR((E103/VLOOKUP(\"TOTAL\",$D$12:$L$312,3,0))*100,\"\")","v":0},{"$f":"IF(E100=\"\",\"\",E103-F103)","v":0},{"$f":"IF(E100=\"\",\"\",IFERROR((E103/F103-1)*100,\"ND\"))","v":"ND"},{"$f":"IF(E100=\"\",\"\",IFERROR((E103/VLOOKUP(B103&\"|\"&VLOOKUP(TDPrimas!$B$4,Cat!R:T,2,0),'TD Operación'!A:D,4,0))*100,\"ND\"))","v":0},{"$f":"IF(E100=\"\",\"\",(VLOOKUP(B103,'TDPrimas Vida'!$B:$N,13,0)))","v":0}]
[null,{"$f":"IF(C104=\"\",B100,D104)","v":"Prudential"},{"$f":"IF('TDPrimas Vida'!A30=\"\",\"\",'TDPrimas Vida'!A30)","v":22},{"$f":"IF('TDPrimas Vida'!B30=\"\",\"\",'TDPrimas Vida'!B30)","v":"Prudential"},{"$f":"IF('TDPrimas Vida'!C30=\"\",\"\",'TDPrimas Vida'!C30)","v":433447.13457999995},{"$f":"IF('TDPrimas Vida'!D30=\"\",\"\",'TDPrimas Vida'!D30)","v":347533.37267999997},{"$f":"IF('TDPrimas Vida'!C30=\"\",\"\",IFERROR((E104/VLOOKUP(\"TOTAL\",$D$12:$L$312,2,0))*100,\"\"))","v":0.51630786164082909},{"$f":"IF('TDPrimas Vida'!C30=\"\",\"\",IFERROR((E104/VLOOKUP(\"TOTAL\",$D$12:$L$312,3,0))*100,\"\"))","v":0.55588416465239876},{"$f":"IF('TDPrimas Vida'!C30=\"\",\"\",E104-F104)","v":85913.761899999983},{"$f":"IFERROR(IF('TDPrimas Vida'!C30=\"\",\"\",(E104/F104-1)*100),\"ND\")","v":24.72101060035672},{"$f":"IF(E104=\"\",\"\",IFERROR((E104/VLOOKUP(D104&\"|\"&VLOOKUP(TDPrimas!$B$4,Cat!R:T,2,0),'TD Operación'!A:D,4,0))*100,\"ND\"))","v":100},{"$f":"IF('TDPrimas Vida'!E30=\"\",\"\",'TDPrimas Vida'!E30)","v":100}]
[null,{"$f":"IF(C105=\"\",B104,D105)","v":"Prudential"},null,{"$f":"IF(D104=\"\",\"\",\"1er Año\")","v":"1er Año"},{"$f":"IF(E104=\"\",\"\",(VLOOKUP(B105,'TDPrimas Vida'!$B:$N,5,0)))","v":128365.54312999999},{"$f":"IF(E104=\"\",\"\",(VLOOKUP(B105,'TDPrimas Vida'!$B:$N,6,0)))","v":131094.84680999999},{"$f":"IFERROR((E105/VLOOKUP(\"TOTAL\",$D$12:$L$312,2,0))*100,\"\")","v":0.15290478075494471},{"$f":"IFERROR((E105/VLOOKUP(\"TOTAL\",$D$12:$L$312,3,0))*100,\"\")","v":0.1646253187995213},{"$f":"IF(E104=\"\",\"\",E105-F105)","v":-2729.3036799999973},{"$f":"IF(E104=\"\",\"\",IFERROR((E105/F105-1)*100,\"ND\"))","v":-2.0819305612795436},{"$f":"IF(E104=\"\",\"\",IFERROR((E105/VLOOKUP(B105&\"|\"&VLOOKUP(TDPrimas!$B$4,Cat!R:T,2,0),'TD Operación'!A:D,4,0))*100,\"ND\"))","v":29.615040195013208},{"$f":"IF(E104=\"\",\"\",(VLOOKUP(B105,'TDPrimas Vida'!$B:$N,7,0)))","v":29.615040195013208}]
[null,{"$f":"IF(C106=\"\",B105,D106)","v":"Prudential"},null,{"$f":"IF(D105=\"\",\"\",\"Renovación\")","v":"Renovación"},{"$f":"IF(E104=\"\",\"\",(VLOOKUP(B106,'TDPrimas Vida'!$B:$N,8,0)))","v":299048.80322},{"$f":"IF(E104=\"\",\"\",(VLOOKUP(B106,'TDPrimas Vida'!$B:$N,9,0)))","v":209163.29981999999},{"$f":"IFERROR((E106/VLOOKUP(\"TOTAL\",$D$12:$L$312,2,0))*100,\"\")","v":0.35621702348171813},{"$f":"IFERROR((E106/VLOOKUP(\"TOTAL\",$D$12:$L$312,3,0))*100,\"\")","v":0.38352195897967695},{"$f":"IF(E104=\"\",\"\",E106-F106)","v":89885.503400000016},{"$f":"IF(E104=\"\",\"\",IFERROR((E106/F106-1)*100,\"ND\"))","v":42.973840763342764},{"$f":"IF(E104=\"\",\"\",IFERROR((E106/VLOOKUP(B106&\"|\"&VLOOKUP(TDPrimas!$B$4,Cat!R:T,2,0),'TD Operación'!A:D,4,0))*100,\"ND\"))","v":68.993143422154873},{"$f":"IF(E104=\"\",\"\",(VLOOKUP(B106,'TDPrimas Vida'!$B:$N,10,0)))","v":68.993143422154873}]
[null,{"$f":"IF(C107=\"\",B106,D107)","v":"Prudential"},null,{"$f":"IF(D106=\"\",\"\",\"Únicas\")","v":"Únicas"},{"$f":"IF(E105=\"\",\"\",(VLOOKUP(B107,'TDPrimas Vida'!$B:$N,11,0)))","v":6032.7882300000001},{"$f":"IF(E105=\"\",\"\",(VLOOKUP(B107,'TDPrimas Vida'!$B:$N,12,0)))","v":7275.2260500000002},{"$f":"IFERROR((E107/VLOOKUP(\"TOTAL\",$D$12:$L$312,2,0))*100,\"\")","v":7.1860574041662691E-3},{"$f":"IFERROR((E107/VLOOKUP(\"TOTAL\",$D$12:$L$312,3,0))*100,\"\")","v":7.7368868732005016E-3},{"$f":"IF(E104=\"\",\"\",E107-F107)","v":-1242.4378200000001},{"$f":"IF(E104=\"\",\"\",IFERROR((E107/F107-1)*100,\"ND\"))","v":-17.07765245314955},{"$f":"IF(E104=\"\",\"\",IFERROR((E107/VLOOKUP(B107&\"|\"&VLOOKUP(TDPrimas!$B$4,Cat!R:T,2,0),'TD Operación'!A:D,4,0))*100,\"ND\"))","v":1.3918163828319294},{"$f":"IF(E104=\"\",\"\",(VLOOKUP(B107,'TDPrimas Vida'!$B:$N,13,0)))","v":1.3918163828319294}]
[null,{"$f":"IF(C108=\"\",B104,D108)","v":"Insignia Life"},{"$f":"IF('TDPrimas Vida'!A31=\"\",\"\",'TDPrimas Vida'!A31)","v":23},{"$f":"IF('TDPrimas Vida'!B31=\"\",\"\",'TDPrimas Vida'!B31)","v":"Insignia Life"},{"$f":"IF('TDPrimas Vida'!C31=\"\",\"\",'TDPrimas Vida'!C31)","v":421128.09495999996},{"$f":"IF('TDPrimas Vida'!D31=\"\",\"\",'TDPrimas Vida'!D31)","v":404699.64291},{"$f":"IF('TDPrimas Vida'!C31=\"\",\"\",IFERROR((E108/VLOOKUP(\"TOTAL\",$D$12:$L$312,2,0))*100,\"\"))","v":0.50163382991644379},{"$f":"IF('TDPrimas Vida'!C31=\"\",\"\",IFERROR((E108/VLOOKUP(\"TOTAL\",$D$12:$L$312,3,0))*100,\"\"))","v":0.54008533129497205},{"$f":"IF('TDPrimas Vida'!C31=\"\",\"\",E108-F108)","v":16428.452049999963},{"$f":"IFERROR(IF('TDPrimas Vida'!C31=\"\",\"\",(E108/F108-1)*100),\"ND\")","v":4.0594184694285662},{"$f":"IF(E108=\"\",\"\",IFERROR((E108/VLOOKUP(D108&\"|\"&VLOOKUP(TDPrimas!$B$4,Cat!R:T,2,0),'TD Operación'!A:D,4,0))*100,\"ND\"))","v":100},{"$f":"IF('TDPrimas Vida'!E31=\"\",\"\",'TDPrimas Vida'!E31)","v":100}]
[null,{"$f":"IF(C109=\"\",B108,D109)","v":"Insignia Life"},null,{"$f":"IF(D108=\"\",\"\",\"1er Año\")","v":"1er Año"},{"$f":"IF(E108=\"\",\"\",(VLOOKUP(B109,'TDPrimas Vida'!$B:$N,5,0)))","v":124821.28216},{"$f":"IF(E108=\"\",\"\",(VLOOKUP(B109,'TDPrimas Vida'!$B:$N,6,0)))","v":143008.44738},{"$f":"IFERROR((E109/VLOOKUP(\"TOTAL\",$D$12:$L$312,2,0))*100,\"\")","v":0.14868297454946386},{"$f":"IFERROR((E109/VLOOKUP(\"TOTAL\",$D$12:$L$312,3,0))*100,\"\")","v":0.16007990047410631},{"$f":"IF(E108=\"\",\"\",E109-F109)","v":-18187.165219999995},{"$f":"IF(E108=\"\",\"\",IFERROR((E109/F109-1)*100,\"ND\"))","v":-12.717546098289789},{"$f":"IF(E108=\"\",\"\",IFERROR((E109/VLOOKUP(B109&\"|\"&VLOOKUP(TDPrimas!$B$4,Cat!R:T,2,0),'TD Operación'!A:D,4,0))*100,\"ND\"))","v":29.639742314474628},{"$f":"IF(E108=\"\",\"\",(VLOOKUP(B109,'TDPrimas Vida'!$B:$N,7,0)))","v":29.639742314474628}]
[null,{"$f":"IF(C110=\"\",B109,D110)","v":"Insignia Life"},null,{"$f":"IF(D109=\"\",\"\",\"Renovación\")","v":"Renovación"},{"$f":"IF(E108=\"\",\"\",(VLOOKUP(B110,'TDPrimas Vida'!$B:$N,8,0)))","v":297170.53365999996},{"$f":"IF(E108=\"\",\"\",(VLOOKUP(B110,'TDPrimas Vida'!$B:$N,9,0)))","v":262194.39214000001},{"$f":"IFERROR((E110/VLOOKUP(\"TOTAL\",$D$12:$L$312,2,0))*100,\"\")","v":0.35397969103044152},{"$f":"IFERROR((E110/VLOOKUP(\"TOTAL\",$D$12:$L$312,3,0))*100,\"\")","v":0.38111312933920799},{"$f":"IF(E108=\"\",\"\",E110-F110)","v":34976.141519999946},{"$f":"IF(E108=\"\",\"\",IFERROR((E110/F110-1)*100,\"ND\"))","v":13.339774826810281},{"$f":"IF(E108=\"\",\"\",IFERROR((E110/VLOOKUP(B110&\"|\"&VLOOKUP(TDPrimas!$B$4,Cat!R:T,2,0),'TD Operación'!A:D,4,0))*100,\"ND\"))","v":70.565354631166585},{"$f":"IF(E108=\"\",\"\",(VLOOKUP(B110,'TDPrimas Vida'!$B:$N,10,0)))","v":70.565354631166585}]
[null,{"$f":"IF(C111=\"\",B110,D111)","v":"Insignia Life"},null,{"$f":"IF(D110=\"\",\"\",\"Únicas\")","v":"Únicas"},{"$f":"IF(E109=\"\",\"\",(VLOOKUP(B111,'TDPrimas Vida'!$B:$N,11,0)))","v":-863.72086000000002},{"$f":"IF(E109=\"\",\"\",(VLOOKUP(B111,'TDPrimas Vida'!$B:$N,12,0)))","v":-503.19661000000002},{"$f":"IFERROR((E111/VLOOKUP(\"TOTAL\",$D$12:$L$312,2,0))*100,\"\")","v":-1.0288356634616791E-3},{"$f":"IFERROR((E111/VLOOKUP(\"TOTAL\",$D$12:$L$312,3,0))*100,\"\")","v":-1.1076985183422305E-3},{"$f":"IF(E108=\"\",\"\",E111-F111)","v":-360.52424999999999},{"$f":"IF(E108=\"\",\"\",IFERROR((E111/F111-1)*100,\"ND\"))","v":71.646796269156113},{"$f":"IF(E108=\"\",\"\",IFERROR((E111/VLOOKUP(B111&\"|\"&VLOOKUP(TDPrimas!$B$4,Cat!R:T,2,0),'TD Operación'!A:D,4,0))*100,\"ND\"))","v":-0.20509694564121608},{"$f":"IF(E108=\"\",\"\",(VLOOKUP(B111,'TDPrimas Vida'!$B:$N,13,0)))","v":-0.20509694564121608}]
[null,{"$f":"IF(C112=\"\",B108,D112)","v":"Patrimonial Vida"},{"$f":"IF('TDPrimas Vida'!A32=\"\",\"\",'TDPrimas Vida'!A32)","v":24},{"$f":"IF('TDPrimas Vida'!B32=\"\",\"\",'TDPrimas Vida'!B32)","v":"Patrimonial Vida"},{"$f":"IF('TDPrimas Vida'!C32=\"\",\"\",'TDPrimas Vida'!C32)","v":318429.82180999999},{"$f":"IF('TDPrimas Vida'!D32=\"\",\"\",'TDPrimas Vida'!D32)","v":1407005.9488599999},{"$f":"IF('TDPrimas Vida'!C32=\"\",\"\",IFERROR((E112/VLOOKUP(\"TOTAL\",$D$12:$L$312,2,0))*100,\"\"))","v":0.37930305051087404},{"$f":"IF('TDPrimas Vida'!C32=\"\",\"\",IFERROR((E112/VLOOKUP(\"TOTAL\",$D$12:$L$312,3,0))*100,\"\"))","v":0.40837758835061305},{"$f":"IF('TDPrimas Vida'!C32=\"\",\"\",E112-F112)","v":-1088576.1270499998},{"$f":"IFERROR(IF('TDPrimas Vida'!C32=\"\",\"\",(E112/F112-1)*100),\"ND\")","v":-77.368267556508783},{"$f":"IF(E112=\"\",\"\",IFERROR((E112/VLOOKUP(D112&\"|\"&VLOOKUP(TDPrimas!$B$4,Cat!R:T,2,0),'TD Operación'!A:D,4,0))*100,\"ND\"))","v":100},{"$f":"IF('TDPrimas Vida'!E32=\"\",\"\",'TDPrimas Vida'!E32)","v":100}]
[null,{"$f":"IF(C113=\"\",B112,D113)","v":"Patrimonial Vida"},null,{"$f":"IF(D112=\"\",\"\",\"1er Año\")","v":"1er Año"},{"$f":"IF(E112=\"\",\"\",(VLOOKUP(B113,'TDPrimas Vida'!$B:$N,5,0)))","v":318429.82180999999},{"$f":"IF(E112=\"\",\"\",(VLOOKUP(B113,'TDPrimas Vida'!$B:$N,6,0)))","v":1407005.9488599999},{"$f":"IFERROR((E113/VLOOKUP(\"TOTAL\",$D$12:$L$312,2,0))*100,\"\")","v":0.37930305051087404},{"$f":"IFERROR((E113/VLOOKUP(\"TOTAL\",$D$12:$L$312,3,0))*100,\"\")","v":0.40837758835061305},{"$f":"IF(E112=\"\",\"\",E113-F113)","v":-1088576.1270499998},{"$f":"IF(E112=\"\",\"\",IFERROR((E113/F113-1)*100,\"ND\"))","v":-77.368267556508783},{"$f":"IF(E112=\"\",\"\",IFERROR((E113/VLOOKUP(B113&\"|\"&VLOOKUP(TDPrimas!$B$4,Cat!R:T,2,0),'TD Operación'!A:D,4,0))*100,\"ND\"))","v":100},{"$f":"IF(E112=\"\",\"\",(VLOOKUP(B113,'TDPrimas Vida'!$B:$N,7,0)))","v":100}]
[null,{"$f":"IF(C114=\"\",B113,D114)","v":"Patrimonial Vida"},null,{"$f":"IF(D113=\"\",\"\",\"Renovación\")","v":"Renovación"},{"$f":"IF(E112=\"\",\"\",(VLOOKUP(B114,'TDPrimas Vida'!$B:$N,8,0)))","v":0},{"$f":"IF(E112=\"\",\"\",(VLOOKUP(B114,'TDPrimas Vida'!$B:$N,9,0)))","v":0},{"$f":"IFERROR((E114/VLOOKUP(\"TOTAL\",$D$12:$L$312,2,0))*100,\"\")","v":0},{"$f":"IFERROR((E114/VLOOKUP(\"TOTAL\",$D$12:$L$312,3,0))*100,\"\")","v":0},{"$f":"IF(E112=\"\",\"\",E114-F114)","v":0},{"$f":"IF(E112=\"\",\"\",IFERROR((E114/F114-1)*100,\"ND\"))","v":"ND"},{"$f":"IF(E112=\"\",\"\",IFERROR((E114/VLOOKUP(B114&\"|\"&VLOOKUP(TDPrimas!$B$4,Cat!R:T,2,0),'TD Operación'!A:D,4,0))*100,\"ND\"))","v":0},{"$f":"IF(E112=\"\",\"\",(VLOOKUP(B114,'TDPrimas Vida'!$B:$N,10,0)))","v":0}]
[null,{"$f":"IF(C115=\"\",B114,D115)","v":"Patrimonial Vida"},null,{"$f":"IF(D114=\"\",\"\",\"Únicas\")","v":"Únicas"},{"$f":"IF(E113=\"\",\"\",(VLOOKUP(B115,'TDPrimas Vida'!$B:$N,11,0)))","v":0},{"$f":"IF(E113=\"\",\"\",(VLOOKUP(B115,'TDPrimas Vida'!$B:$N,12,0)))","v":0},{"$f":"IFERROR((E115/VLOOKUP(\"TOTAL\",$D$12:$L$312,2,0))*100,\"\")","v":0},{"$f":"IFERROR((E115/VLOOKUP(\"TOTAL\",$D$12:$L$312,3,0))*100,\"\")","v":0},{"$f":"IF(E112=\"\",\"\",E115-F115)","v":0},{"$f":"IF(E112=\"\",\"\",IFERROR((E115/F115-1)*100,\"ND\"))","v":"ND"},{"$f":"IF(E112=\"\",\"\",IFERROR((E115/VLOOKUP(B115&\"|\"&VLOOKUP(TDPrimas!$B$4,Cat!R:T,2,0),'TD Operación'!A:D,4,0))*100,\"ND\"))","v":0},{"$f":"IF(E112=\"\",\"\",(VLOOKUP(B115,'TDPrimas Vida'!$B:$N,13,0)))","v":0}]
[null,{"$f":"IF(C116=\"\",B112,D116)","v":"Zurich Aseguradora Mexicana"},{"$f":"IF('TDPrimas Vida'!A33=\"\",\"\",'TDPrimas Vida'!A33)","v":25},{"$f":"IF('TDPrimas Vida'!B33=\"\",\"\",'TDPrimas Vida'!B33)","v":"Zurich Aseguradora Mexicana"},{"$f":"IF('TDPrimas Vida'!C33=\"\",\"\",'TDPrimas Vida'!C33)","v":254910.19438},{"$f":"IF('TDPrimas Vida'!D33=\"\",\"\",'TDPrimas Vida'!D33)","v":77101.289879999997},{"$f":"IF('TDPrimas Vida'!C33=\"\",\"\",IFERROR((E116/VLOOKUP(\"TOTAL\",$D$12:$L$312,2,0))*100,\"\"))","v":0.30364057544944884},{"$f":"IF('TDPrimas Vida'!C33=\"\",\"\",IFERROR((E116/VLOOKUP(\"TOTAL\",$D$12:$L$312,3,0))*100,\"\"))","v":0.32691539327307206},{"$f":"IF('TDPrimas Vida'!C33=\"\",\"\",E116-F116)","v":177808.9045},{"$f":"IFERROR(IF('TDPrimas Vida'!C33=\"\",\"\",(E116/F116-1)*100),\"ND\")","v":230.61728899314232},{"$f":"IF(E116=\"\",\"\",IFERROR((E116/VLOOKUP(D116&\"|\"&VLOOKUP(TDPrimas!$B$4,Cat!R:T,2,0),'TD Operación'!A:D,4,0))*100,\"ND\"))","v":8.4075971456567338},{"$f":"IF('TDPrimas Vida'!E33=\"\",\"\",'TDPrimas Vida'!E33)","v":8.4075971456567338}]
[null,{"$f":"IF(C117=\"\",B116,D117)","v":"Zurich Aseguradora Mexicana"},null,{"$f":"IF(D116=\"\",\"\",\"1er Año\")","v":"1er Año"},{"$f":"IF(E116=\"\",\"\",(VLOOKUP(B117,'TDPrimas Vida'!$B:$N,5,0)))","v":95366.971600000004},{"$f":"IF(E116=\"\",\"\",(VLOOKUP(B117,'TDPrimas Vida'!$B:$N,6,0)))","v":77101.289879999997},{"$f":"IFERROR((E117/VLOOKUP(\"TOTAL\",$D$12:$L$312,2,0))*100,\"\")","v":0.1135979759692467},{"$f":"IFERROR((E117/VLOOKUP(\"TOTAL\",$D$12:$L$312,3,0))*100,\"\")","v":0.12230554804489217},{"$f":"IF(E116=\"\",\"\",E117-F117)","v":18265.681720000008},{"$f":"IF(E116=\"\",\"\",IFERROR((E117/F117-1)*100,\"ND\"))","v":23.690500831346164},{"$f":"IF(E116=\"\",\"\",IFERROR((E117/VLOOKUP(B117&\"|\"&VLOOKUP(TDPrimas!$B$4,Cat!R:T,2,0),'TD Operación'!A:D,4,0))*100,\"ND\"))","v":3.1454492440534416},{"$f":"IF(E116=\"\",\"\",(VLOOKUP(B117,'TDPrimas Vida'!$B:$N,7,0)))","v":3.1454492440534416}]
[null,{"$f":"IF(C118=\"\",B117,D118)","v":"Zurich Aseguradora Mexicana"},null,{"$f":"IF(D117=\"\",\"\",\"Renovación\")","v":"Renovación"},{"$f":"IF(E116=\"\",\"\",(VLOOKUP(B118,'TDPrimas Vida'!$B:$N,8,0)))","v":62390.424330000002},{"$f":"IF(E116=\"\",\"\",(VLOOKUP(B118,'TDPrimas Vida'!$B:$N,9,0)))","v":0},{"$f":"IFERROR((E118/VLOOKUP(\"TOTAL\",$D$12:$L$312,2,0))*100,\"\")","v":7.4317405752144544E-2},{"$f":"IFERROR((E118/VLOOKUP(\"TOTAL\",$D$12:$L$312,3,0))*100,\"\")","v":8.0014022804872478E-2},{"$f":"IF(E116=\"\",\"\",E118-F118)","v":62390.424330000002},{"$f":"IF(E116=\"\",\"\",IFERROR((E118/F118-1)*100,\"ND\"))","v":"ND"},{"$f":"IF(E116=\"\",\"\",IFERROR((E118/VLOOKUP(B118&\"|\"&VLOOKUP(TDPrimas!$B$4,Cat!R:T,2,0),'TD Operación'!A:D,4,0))*100,\"ND\"))","v":2.0577974717294256},{"$f":"IF(E116=\"\",\"\",(VLOOKUP(B118,'TDPrimas Vida'!$B:$N,10,0)))","v":2.0577974717294256}]
[null,{"$f":"IF(C119=\"\",B118,D119)","v":"Zurich Aseguradora Mexicana"},null,{"$f":"IF(D118=\"\",\"\",\"Únicas\")","v":"Únicas"},{"$f":"IF(E117=\"\",\"\",(VLOOKUP(B119,'TDPrimas Vida'!$B:$N,11,0)))","v":97152.798450000002},{"$f":"IF(E117=\"\",\"\",(VLOOKUP(B119,'TDPrimas Vida'!$B:$N,12,0)))","v":0},{"$f":"IFERROR((E119/VLOOKUP(\"TOTAL\",$D$12:$L$312,2,0))*100,\"\")","v":0.1157251937280576},{"$f":"IFERROR((E119/VLOOKUP(\"TOTAL\",$D$12:$L$312,3,0))*100,\"\")","v":0.12459582242330741},{"$f":"IF(E116=\"\",\"\",E119-F119)","v":97152.798450000002},{"$f":"IF(E116=\"\",\"\",IFERROR((E119/F119-1)*100,\"ND\"))","v":"ND"},{"$f":"IF(E116=\"\",\"\",IFERROR((E119/VLOOKUP(B119&\"|\"&VLOOKUP(TDPrimas!$B$4,Cat!R:T,2,0),'TD Operación'!A:D,4,0))*100,\"ND\"))","v":3.2043504298738674},{"$f":"IF(E116=\"\",\"\",(VLOOKUP(B119,'TDPrimas Vida'!$B:$N,13,0)))","v":3.2043504298738674}]
[null,{"$f":"IF(C120=\"\",B116,D120)","v":"Patrimonial Inbursa"},{"$f":"IF('TDPrimas Vida'!A34=\"\",\"\",'TDPrimas Vida'!A34)","v":26},{"$f":"IF('TDPrimas Vida'!B34=\"\",\"\",'TDPrimas Vida'!B34)","v":"Patrimonial Inbursa"},{"$f":"IF('TDPrimas Vida'!C34=\"\",\"\",'TDPrimas Vida'!C34)","v":234048.00074000002},{"$f":"IF('TDPrimas Vida'!D34=\"\",\"\",'TDPrimas Vida'!D34)","v":259024.80114},{"$f":"IF('TDPrimas Vida'!C34=\"\",\"\",IFERROR((E120/VLOOKUP(\"TOTAL\",$D$12:$L$312,2,0))*100,\"\"))","v":0.27879022178903662},{"$f":"IF('TDPrimas Vida'!C34=\"\",\"\",IFERROR((E120/VLOOKUP(\"TOTAL\",$D$12:$L$312,3,0))*100,\"\"))","v":0.300160197173725},{"$f":"IF('TDPrimas Vida'!C34=\"\",\"\",E120-F120)","v":-24976.800399999978},{"$f":"IFERROR(IF('TDPrimas Vida'!C34=\"\",\"\",(E120/F120-1)*100),\"ND\")","v":-9.6426289259074807},{"$f":"IF(E120=\"\",\"\",IFERROR((E120/VLOOKUP(D120&\"|\"&VLOOKUP(TDPrimas!$B$4,Cat!R:T,2,0),'TD Operación'!A:D,4,0))*100,\"ND\"))","v":63.985415326189873},{"$f":"IF('TDPrimas Vida'!E34=\"\",\"\",'TDPrimas Vida'!E34)","v":63.985415326189873}]
[null,{"$f":"IF(C121=\"\",B120,D121)","v":"Patrimonial Inbursa"},null,{"$f":"IF(D120=\"\",\"\",\"1er Año\")","v":"1er Año"},{"$f":"IF(E120=\"\",\"\",(VLOOKUP(B121,'TDPrimas Vida'!$B:$N,5,0)))","v":234048.00073999999},{"$f":"IF(E120=\"\",\"\",(VLOOKUP(B121,'TDPrimas Vida'!$B:$N,6,0)))","v":259024.80114},{"$f":"IFERROR((E121/VLOOKUP(\"TOTAL\",$D$12:$L$312,2,0))*100,\"\")","v":0.27879022178903662},{"$f":"IFERROR((E121/VLOOKUP(\"TOTAL\",$D$12:$L$312,3,0))*100,\"\")","v":0.300160197173725},{"$f":"IF(E120=\"\",\"\",E121-F121)","v":-24976.800400000007},{"$f":"IF(E120=\"\",\"\",IFERROR((E121/F121-1)*100,\"ND\"))","v":-9.6426289259074931},{"$f":"IF(E120=\"\",\"\",IFERROR((E121/VLOOKUP(B121&\"|\"&VLOOKUP(TDPrimas!$B$4,Cat!R:T,2,0),'TD Operación'!A:D,4,0))*100,\"ND\"))","v":63.985415326189866},{"$f":"IF(E120=\"\",\"\",(VLOOKUP(B121,'TDPrimas Vida'!$B:$N,7,0)))","v":63.985415326189866}]
[null,{"$f":"IF(C122=\"\",B121,D122)","v":"Patrimonial Inbursa"},null,{"$f":"IF(D121=\"\",\"\",\"Renovación\")","v":"Renovación"},{"$f":"IF(E120=\"\",\"\",(VLOOKUP(B122,'TDPrimas Vida'!$B:$N,8,0)))","v":0},{"$f":"IF(E120=\"\",\"\",(VLOOKUP(B122,'TDPrimas Vida'!$B:$N,9,0)))","v":0},{"$f":"IFERROR((E122/VLOOKUP(\"TOTAL\",$D$12:$L$312,2,0))*100,\"\")","v":0},{"$f":"IFERROR((E122/VLOOKUP(\"TOTAL\",$D$12:$L$312,3,0))*100,\"\")","v":0},{"$f":"IF(E120=\"\",\"\",E122-F122)","v":0},{"$f":"IF(E120=\"\",\"\",IFERROR((E122/F122-1)*100,\"ND\"))","v":"ND"},{"$f":"IF(E120=\"\",\"\",IFERROR((E122/VLOOKUP(B122&\"|\"&VLOOKUP(TDPrimas!$B$4,Cat!R:T,2,0),'TD Operación'!A:D,4,0))*100,\"ND\"))","v":0},{"$f":"IF(E120=\"\",\"\",(VLOOKUP(B122,'TDPrimas Vida'!$B:$N,10,0)))","v":0}]
[null,{"$f":"IF(C123=\"\",B122,D123)","v":"Patrimonial Inbursa"},null,{"$f":"IF(D122=\"\",\"\",\"Únicas\")","v":"Únicas"},{"$f":"IF(E121=\"\",\"\",(VLOOKUP(B123,'TDPrimas Vida'!$B:$N,11,0)))","v":0},{"$f":"IF(E121=\"\",\"\",(VLOOKUP(B123,'TDPrimas Vida'!$B:$N,12,0)))","v":0},{"$f":"IFERROR((E123/VLOOKUP(\"TOTAL\",$D$12:$L$312,2,0))*100,\"\")","v":0},{"$f":"IFERROR((E123/VLOOKUP(\"TOTAL\",$D$12:$L$312,3,0))*100,\"\")","v":0},{"$f":"IF(E120=\"\",\"\",E123-F123)","v":0},{"$f":"IF(E120=\"\",\"\",IFERROR((E123/F123-1)*100,\"ND\"))","v":"ND"},{"$f":"IF(E120=\"\",\"\",IFERROR((E123/VLOOKUP(B123&\"|\"&VLOOKUP(TDPrimas!$B$4,Cat!R:T,2,0),'TD Operación'!A:D,4,0))*100,\"ND\"))","v":0},{"$f":"IF(E120=\"\",\"\",(VLOOKUP(B123,'TDPrimas Vida'!$B:$N,13,0)))","v":0}]
[null,{"$f":"IF(C124=\"\",B120,D124)","v":"Pan-American México"},{"$f":"IF('TDPrimas Vida'!A35=\"\",\"\",'TDPrimas Vida'!A35)","v":27},{"$f":"IF('TDPrimas Vida'!B35=\"\",\"\",'TDPrimas Vida'!B35)","v":"Pan-American México"},{"$f":"IF('TDPrimas Vida'!C35=\"\",\"\",'TDPrimas Vida'!C35)","v":174262.19602999999},{"$f":"IF('TDPrimas Vida'!D35=\"\",\"\",'TDPrimas Vida'!D35)","v":40770.263899999998},{"$f":"IF('TDPrimas Vida'!C35=\"\",\"\",IFERROR((E124/VLOOKUP(\"TOTAL\",$D$12:$L$312,2,0))*100,\"\"))","v":0.20757535260733914},{"$f":"IF('TDPrimas Vida'!C35=\"\",\"\",IFERROR((E124/VLOOKUP(\"TOTAL\",$D$12:$L$312,3,0))*100,\"\"))","v":0.22348652821178169},{"$f":"IF('TDPrimas Vida'!C35=\"\",\"\",E124-F124)","v":133491.93213},{"$f":"IFERROR(IF('TDPrimas Vida'!C35=\"\",\"\",(E124/F124-1)*100),\"ND\")","v":327.42474382168518},{"$f":"IF(E124=\"\",\"\",IFERROR((E124/VLOOKUP(D124&\"|\"&VLOOKUP(TDPrimas!$B$4,Cat!R:T,2,0),'TD Operación'!A:D,4,0))*100,\"ND\"))","v":56.375316113354742},{"$f":"IF('TDPrimas Vida'!E35=\"\",\"\",'TDPrimas Vida'!E35)","v":56.375316113354742}]
[null,{"$f":"IF(C125=\"\",B124,D125)","v":"Pan-American México"},null,{"$f":"IF(D124=\"\",\"\",\"1er Año\")","v":"1er Año"},{"$f":"IF(E124=\"\",\"\",(VLOOKUP(B125,'TDPrimas Vida'!$B:$N,5,0)))","v":140540.42763999998},{"$f":"IF(E124=\"\",\"\",(VLOOKUP(B125,'TDPrimas Vida'!$B:$N,6,0)))","v":10871.133470000001},{"$f":"IFERROR((E125/VLOOKUP(\"TOTAL\",$D$12:$L$312,2,0))*100,\"\")","v":0.16740709968980888},{"$f":"IFERROR((E125/VLOOKUP(\"TOTAL\",$D$12:$L$312,3,0))*100,\"\")","v":0.18023927714795665},{"$f":"IF(E124=\"\",\"\",E125-F125)","v":129669.29416999998},{"$f":"IF(E124=\"\",\"\",IFERROR((E125/F125-1)*100,\"ND\"))","v":1192.7854121912458},{"$f":"IF(E124=\"\",\"\",IFERROR((E125/VLOOKUP(B125&\"|\"&VLOOKUP(TDPrimas!$B$4,Cat!R:T,2,0),'TD Operación'!A:D,4,0))*100,\"ND\"))","v":45.466034604241287},{"$f":"IF(E124=\"\",\"\",(VLOOKUP(B125,'TDPrimas Vida'!$B:$N,7,0)))","v":45.466034604241287}]
[null,{"$f":"IF(C126=\"\",B125,D126)","v":"Pan-American México"},null,{"$f":"IF(D125=\"\",\"\",\"Renovación\")","v":"Renovación"},{"$f":"IF(E124=\"\",\"\",(VLOOKUP(B126,'TDPrimas Vida'!$B:$N,8,0)))","v":33721.768389999997},{"$f":"IF(E124=\"\",\"\",(VLOOKUP(B126,'TDPrimas Vida'!$B:$N,9,0)))","v":29899.130430000001},{"$f":"IFERROR((E126/VLOOKUP(\"TOTAL\",$D$12:$L$312,2,0))*100,\"\")","v":4.0168252917530234E-2},{"$f":"IFERROR((E126/VLOOKUP(\"TOTAL\",$D$12:$L$312,3,0))*100,\"\")","v":4.3247251063825029E-2},{"$f":"IF(E124=\"\",\"\",E126-F126)","v":3822.6379599999964},{"$f":"IF(E124=\"\",\"\",IFERROR((E126/F126-1)*100,\"ND\"))","v":12.785114165609524},{"$f":"IF(E124=\"\",\"\",IFERROR((E126/VLOOKUP(B126&\"|\"&VLOOKUP(TDPrimas!$B$4,Cat!R:T,2,0),'TD Operación'!A:D,4,0))*100,\"ND\"))","v":10.909281509113459},{"$f":"IF(E124=\"\",\"\",(VLOOKUP(B126,'TDPrimas Vida'!$B:$N,10,0)))","v":10.909281509113459}]
[null,{"$f":"IF(C127=\"\",B126,D127)","v":"Pan-American México"},null,{"$f":"IF(D126=\"\",\"\",\"Únicas\")","v":"Únicas"},{"$f":"IF(E125=\"\",\"\",(VLOOKUP(B127,'TDPrimas Vida'!$B:$N,11,0)))","v":0},{"$f":"IF(E125=\"\",\"\",(VLOOKUP(B127,'TDPrimas Vida'!$B:$N,12,0)))","v":0},{"$f":"IFERROR((E127/VLOOKUP(\"TOTAL\",$D$12:$L$312,2,0))*100,\"\")","v":0},{"$f":"IFERROR((E127/VLOOKUP(\"TOTAL\",$D$12:$L$312,3,0))*100,\"\")","v":0},{"$f":"IF(E124=\"\",\"\",E127-F127)","v":0},{"$f":"IF(E124=\"\",\"\",IFERROR((E127/F127-1)*100,\"ND\"))","v":"ND"},{"$f":"IF(E124=\"\",\"\",IFERROR((E127/VLOOKUP(B127&\"|\"&VLOOKUP(TDPrimas!$B$4,Cat!R:T,2,0),'TD Operación'!A:D,4,0))*100,\"ND\"))","v":0},{"$f":"IF(E124=\"\",\"\",(VLOOKUP(B127,'TDPrimas Vida'!$B:$N,13,0)))","v":0}]
[null,{"$f":"IF(C128=\"\",B124,D128)","v":"General de Seguros"},{"$f":"IF('TDPrimas Vida'!A36=\"\",\"\",'TDPrimas Vida'!A36)","v":28},{"$f":"IF('TDPrimas Vida'!B36=\"\",\"\",'TDPrimas Vida'!B36)","v":"General de Seguros"},{"$f":"IF('TDPrimas Vida'!C36=\"\",\"\",'TDPrimas Vida'!C36)","v":116555.63473999999},{"$f":"IF('TDPrimas Vida'!D36=\"\",\"\",'TDPrimas Vida'!D36)","v":146493.26892},{"$f":"IF('TDPrimas Vida'!C36=\"\",\"\",IFERROR((E128/VLOOKUP(\"TOTAL\",$D$12:$L$312,2,0))*100,\"\"))","v":0.13883720927838306},{"$f":"IF('TDPrimas Vida'!C36=\"\",\"\",IFERROR((E128/VLOOKUP(\"TOTAL\",$D$12:$L$312,3,0))*100,\"\"))","v":0.14947943240126935},{"$f":"IF('TDPrimas Vida'!C36=\"\",\"\",E128-F128)","v":-29937.634180000008},{"$f":"IFERROR(IF('TDPrimas Vida'!C36=\"\",\"\",(E128/F128-1)*100),\"ND\")","v":-20.436184133722179},{"$f":"IF(E128=\"\",\"\",IFERROR((E128/VLOOKUP(D128&\"|\"&VLOOKUP(TDPrimas!$B$4,Cat!R:T,2,0),'TD Operación'!A:D,4,0))*100,\"ND\"))","v":17.64006803364714},{"$f":"IF('TDPrimas Vida'!E36=\"\",\"\",'TDPrimas Vida'!E36)","v":17.64006803364714}]
[null,{"$f":"IF(C129=\"\",B128,D129)","v":"General de Seguros"},null,{"$f":"IF(D128=\"\",\"\",\"1er Año\")","v":"1er Año"},{"$f":"IF(E128=\"\",\"\",(VLOOKUP(B129,'TDPrimas Vida'!$B:$N,5,0)))","v":33880.931149999997},{"$f":"IF(E128=\"\",\"\",(VLOOKUP(B129,'TDPrimas Vida'!$B:$N,6,0)))","v":40805.656179999998},{"$f":"IFERROR((E129/VLOOKUP(\"TOTAL\",$D$12:$L$312,2,0))*100,\"\")","v":4.0357842322355994E-2},{"$f":"IFERROR((E129/VLOOKUP(\"TOTAL\",$D$12:$L$312,3,0))*100,\"\")","v":4.3451372975882654E-2},{"$f":"IF(E128=\"\",\"\",E129-F129)","v":-6924.7250300000014},{"$f":"IF(E128=\"\",\"\",IFERROR((E129/F129-1)*100,\"ND\"))","v":-16.970012685138503},{"$f":"IF(E128=\"\",\"\",IFERROR((E129/VLOOKUP(B129&\"|\"&VLOOKUP(TDPrimas!$B$4,Cat!R:T,2,0),'TD Operación'!A:D,4,0))*100,\"ND\"))","v":5.127696587664043},{"$f":"IF(E128=\"\",\"\",(VLOOKUP(B129,'TDPrimas Vida'!$B:$N,7,0)))","v":5.127696587664043}]
[null,{"$f":"IF(C130=\"\",B129,D130)","v":"General de Seguros"},null,{"$f":"IF(D129=\"\",\"\",\"Renovación\")","v":"Renovación"},{"$f":"IF(E128=\"\",\"\",(VLOOKUP(B130,'TDPrimas Vida'!$B:$N,8,0)))","v":82674.70358999999},{"$f":"IF(E128=\"\",\"\",(VLOOKUP(B130,'TDPrimas Vida'!$B:$N,9,0)))","v":105687.61274},{"$f":"IFERROR((E130/VLOOKUP(\"TOTAL\",$D$12:$L$312,2,0))*100,\"\")","v":9.8479366956027076E-2},{"$f":"IFERROR((E130/VLOOKUP(\"TOTAL\",$D$12:$L$312,3,0))*100,\"\")","v":0.10602805942538668},{"$f":"IF(E128=\"\",\"\",E130-F130)","v":-23012.909150000007},{"$f":"IF(E128=\"\",\"\",IFERROR((E130/F130-1)*100,\"ND\"))","v":-21.774462071173474},{"$f":"IF(E128=\"\",\"\",IFERROR((E130/VLOOKUP(B130&\"|\"&VLOOKUP(TDPrimas!$B$4,Cat!R:T,2,0),'TD Operación'!A:D,4,0))*100,\"ND\"))","v":12.512371445983096},{"$f":"IF(E128=\"\",\"\",(VLOOKUP(B130,'TDPrimas Vida'!$B:$N,10,0)))","v":12.512371445983096}]
[null,{"$f":"IF(C131=\"\",B130,D131)","v":"General de Seguros"},null,{"$f":"IF(D130=\"\",\"\",\"Únicas\")","v":"Únicas"},{"$f":"IF(E129=\"\",\"\",(VLOOKUP(B131,'TDPrimas Vida'!$B:$N,11,0)))","v":0},{"$f":"IF(E129=\"\",\"\",(VLOOKUP(B131,'TDPrimas Vida'!$B:$N,12,0)))","v":0},{"$f":"IFERROR((E131/VLOOKUP(\"TOTAL\",$D$12:$L$312,2,0))*100,\"\")","v":0},{"$f":"IFERROR((E131/VLOOKUP(\"TOTAL\",$D$12:$L$312,3,0))*100,\"\")","v":0},{"$f":"IF(E128=\"\",\"\",E131-F131)","v":0},{"$f":"IF(E128=\"\",\"\",IFERROR((E131/F131-1)*100,\"ND\"))","v":"ND"},{"$f":"IF(E128=\"\",\"\",IFERROR((E131/VLOOKUP(B131&\"|\"&VLOOKUP(TDPrimas!$B$4,Cat!R:T,2,0),'TD Operación'!A:D,4,0))*100,\"ND\"))","v":0},{"$f":"IF(E128=\"\",\"\",(VLOOKUP(B131,'TDPrimas Vida'!$B:$N,13,0)))","v":0}]
[null,{"$f":"IF(C132=\"\",B128,D132)","v":"Skandia Life"},{"$f":"IF('TDPrimas Vida'!A37=\"\",\"\",'TDPrimas Vida'!A37)","v":29},{"$f":"IF('TDPrimas Vida'!B37=\"\",\"\",'TDPrimas Vida'!B37)","v":"Skandia Life"},{"$f":"IF('TDPrimas Vida'!C37=\"\",\"\",'TDPrimas Vida'!C37)","v":105288.88576999999},{"$f":"IF('TDPrimas Vida'!D37=\"\",\"\",'TDPrimas Vida'!D37)","v":153166.89451000001},{"$f":"IF('TDPrimas Vida'!C37=\"\",\"\",IFERROR((E132/VLOOKUP(\"TOTAL\",$D$12:$L$312,2,0))*100,\"\"))","v":0.12541663130182923},{"$f":"IF('TDPrimas Vida'!C37=\"\",\"\",IFERROR((E132/VLOOKUP(\"TOTAL\",$D$12:$L$312,3,0))*100,\"\"))","v":0.13503013319063911},{"$f":"IF('TDPrimas Vida'!C37=\"\",\"\",E132-F132)","v":-47878.008740000019},{"$f":"IFERROR(IF('TDPrimas Vida'!C37=\"\",\"\",(E132/F132-1)*100),\"ND\")","v":-31.258718728461353},{"$f":"IF(E132=\"\",\"\",IFERROR((E132/VLOOKUP(D132&\"|\"&VLOOKUP(TDPrimas!$B$4,Cat!R:T,2,0),'TD Operación'!A:D,4,0))*100,\"ND\"))","v":100},{"$f":"IF('TDPrimas Vida'!E37=\"\",\"\",'TDPrimas Vida'!E37)","v":100}]
[null,{"$f":"IF(C133=\"\",B132,D133)","v":"Skandia Life"},null,{"$f":"IF(D132=\"\",\"\",\"1er Año\")","v":"1er Año"},{"$f":"IF(E132=\"\",\"\",(VLOOKUP(B133,'TDPrimas Vida'!$B:$N,5,0)))","v":45982.692479999998},{"$f":"IF(E132=\"\",\"\",(VLOOKUP(B133,'TDPrimas Vida'!$B:$N,6,0)))","v":90898.852579999992},{"$f":"IFERROR((E133/VLOOKUP(\"TOTAL\",$D$12:$L$312,2,0))*100,\"\")","v":5.477305934861311E-2},{"$f":"IFERROR((E133/VLOOKUP(\"TOTAL\",$D$12:$L$312,3,0))*100,\"\")","v":5.897155283419047E-2},{"$f":"IF(E132=\"\",\"\",E133-F133)","v":-44916.160099999994},{"$f":"IF(E132=\"\",\"\",IFERROR((E133/F133-1)*100,\"ND\"))","v":-49.413341120526596},{"$f":"IF(E132=\"\",\"\",IFERROR((E133/VLOOKUP(B133&\"|\"&VLOOKUP(TDPrimas!$B$4,Cat!R:T,2,0),'TD Operación'!A:D,4,0))*100,\"ND\"))","v":43.672883556245083},{"$f":"IF(E132=\"\",\"\",(VLOOKUP(B133,'TDPrimas Vida'!$B:$N,7,0)))","v":43.672883556245083}]
[null,{"$f":"IF(C134=\"\",B133,D134)","v":"Skandia Life"},null,{"$f":"IF(D133=\"\",\"\",\"Renovación\")","v":"Renovación"},{"$f":"IF(E132=\"\",\"\",(VLOOKUP(B134,'TDPrimas Vida'!$B:$N,8,0)))","v":59306.19329000001},{"$f":"IF(E132=\"\",\"\",(VLOOKUP(B134,'TDPrimas Vida'!$B:$N,9,0)))","v":62268.041929999999},{"$f":"IFERROR((E134/VLOOKUP(\"TOTAL\",$D$12:$L$312,2,0))*100,\"\")","v":7.0643571953216161E-2},{"$f":"IFERROR((E134/VLOOKUP(\"TOTAL\",$D$12:$L$312,3,0))*100,\"\")","v":7.6058580356448663E-2},{"$f":"IF(E132=\"\",\"\",E134-F134)","v":-2961.8486399999892},{"$f":"IF(E132=\"\",\"\",IFERROR((E134/F134-1)*100,\"ND\"))","v":-4.7566111735609322},{"$f":"IF(E132=\"\",\"\",IFERROR((E134/VLOOKUP(B134&\"|\"&VLOOKUP(TDPrimas!$B$4,Cat!R:T,2,0),'TD Operación'!A:D,4,0))*100,\"ND\"))","v":56.327116443754932},{"$f":"IF(E132=\"\",\"\",(VLOOKUP(B134,'TDPrimas Vida'!$B:$N,10,0)))","v":56.327116443754932}]
[null,{"$f":"IF(C135=\"\",B134,D135)","v":"Skandia Life"},null,{"$f":"IF(D134=\"\",\"\",\"Únicas\")","v":"Únicas"},{"$f":"IF(E133=\"\",\"\",(VLOOKUP(B135,'TDPrimas Vida'!$B:$N,11,0)))","v":0},{"$f":"IF(E133=\"\",\"\",(VLOOKUP(B135,'TDPrimas Vida'!$B:$N,12,0)))","v":0},{"$f":"IFERROR((E135/VLOOKUP(\"TOTAL\",$D$12:$L$312,2,0))*100,\"\")","v":0},{"$f":"IFERROR((E135/VLOOKUP(\"TOTAL\",$D$12:$L$312,3,0))*100,\"\")","v":0},{"$f":"IF(E132=\"\",\"\",E135-F135)","v":0},{"$f":"IF(E132=\"\",\"\",IFERROR((E135/F135-1)*100,\"ND\"))","v":"ND"},{"$f":"IF(E132=\"\",\"\",IFERROR((E135/VLOOKUP(B135&\"|\"&VLOOKUP(TDPrimas!$B$4,Cat!R:T,2,0),'TD Operación'!A:D,4,0))*100,\"ND\"))","v":0},{"$f":"IF(E132=\"\",\"\",(VLOOKUP(B135,'TDPrimas Vida'!$B:$N,13,0)))","v":0}]
[null,{"$f":"IF(C136=\"\",B132,D136)","v":"El Potosí"},{"$f":"IF('TDPrimas Vida'!A38=\"\",\"\",'TDPrimas Vida'!A38)","v":30},{"$f":"IF('TDPrimas Vida'!B38=\"\",\"\",'TDPrimas Vida'!B38)","v":"El Potosí"},{"$f":"IF('TDPrimas Vida'!C38=\"\",\"\",'TDPrimas Vida'!C38)","v":96882.227709999992},{"$f":"IF('TDPrimas Vida'!D38=\"\",\"\",'TDPrimas Vida'!D38)","v":58079.983310000003},{"$f":"IF('TDPrimas Vida'!C38=\"\",\"\",IFERROR((E136/VLOOKUP(\"TOTAL\",$D$12:$L$312,2,0))*100,\"\"))","v":0.11540289882967895},{"$f":"IF('TDPrimas Vida'!C38=\"\",\"\",IFERROR((E136/VLOOKUP(\"TOTAL\",$D$12:$L$312,3,0))*100,\"\"))","v":0.12424882280608761},{"$f":"IF('TDPrimas Vida'!C38=\"\",\"\",E136-F136)","v":38802.244399999989},{"$f":"IFERROR(IF('TDPrimas Vida'!C38=\"\",\"\",(E136/F136-1)*100),\"ND\")","v":66.808291236748957},{"$f":"IF(E136=\"\",\"\",IFERROR((E136/VLOOKUP(D136&\"|\"&VLOOKUP(TDPrimas!$B$4,Cat!R:T,2,0),'TD Operación'!A:D,4,0))*100,\"ND\"))","v":14.600169328327711},{"$f":"IF('TDPrimas Vida'!E38=\"\",\"\",'TDPrimas Vida'!E38)","v":14.600169328327711}]
[null,{"$f":"IF(C137=\"\",B136,D137)","v":"El Potosí"},null,{"$f":"IF(D136=\"\",\"\",\"1er Año\")","v":"1er Año"},{"$f":"IF(E136=\"\",\"\",(VLOOKUP(B137,'TDPrimas Vida'!$B:$N,5,0)))","v":49078.633029999997},{"$f":"IF(E136=\"\",\"\",(VLOOKUP(B137,'TDPrimas Vida'!$B:$N,6,0)))","v":17188.59892},{"$f":"IFERROR((E137/VLOOKUP(\"TOTAL\",$D$12:$L$312,2,0))*100,\"\")","v":5.8460841127783242E-2},{"$f":"IFERROR((E137/VLOOKUP(\"TOTAL\",$D$12:$L$312,3,0))*100,\"\")","v":6.2942012410807185E-2},{"$f":"IF(E136=\"\",\"\",E137-F137)","v":31890.034109999997},{"$f":"IF(E136=\"\",\"\",IFERROR((E137/F137-1)*100,\"ND\"))","v":185.53015436816068},{"$f":"IF(E136=\"\",\"\",IFERROR((E137/VLOOKUP(B137&\"|\"&VLOOKUP(TDPrimas!$B$4,Cat!R:T,2,0),'TD Operación'!A:D,4,0))*100,\"ND\"))","v":7.3961589197323523},{"$f":"IF(E136=\"\",\"\",(VLOOKUP(B137,'TDPrimas Vida'!$B:$N,7,0)))","v":7.3961589197323523}]
[null,{"$f":"IF(C138=\"\",B137,D138)","v":"El Potosí"},null,{"$f":"IF(D137=\"\",\"\",\"Renovación\")","v":"Renovación"},{"$f":"IF(E136=\"\",\"\",(VLOOKUP(B138,'TDPrimas Vida'!$B:$N,8,0)))","v":47354.394679999998},{"$f":"IF(E136=\"\",\"\",(VLOOKUP(B138,'TDPrimas Vida'!$B:$N,9,0)))","v":40782.54825},{"$f":"IFERROR((E138/VLOOKUP(\"TOTAL\",$D$12:$L$312,2,0))*100,\"\")","v":5.6406985549039536E-2},{"$f":"IFERROR((E138/VLOOKUP(\"TOTAL\",$D$12:$L$312,3,0))*100,\"\")","v":6.0730723609047958E-2},{"$f":"IF(E136=\"\",\"\",E138-F138)","v":6571.8464299999978},{"$f":"IF(E136=\"\",\"\",IFERROR((E138/F138-1)*100,\"ND\"))","v":16.114359479731633},{"$f":"IF(E136=\"\",\"\",IFERROR((E138/VLOOKUP(B138&\"|\"&VLOOKUP(TDPrimas!$B$4,Cat!R:T,2,0),'TD Operación'!A:D,4,0))*100,\"ND\"))","v":7.136315886934316},{"$f":"IF(E136=\"\",\"\",(VLOOKUP(B138,'TDPrimas Vida'!$B:$N,10,0)))","v":7.136315886934316}]
[null,{"$f":"IF(C139=\"\",B138,D139)","v":"El Potosí"},null,{"$f":"IF(D138=\"\",\"\",\"Únicas\")","v":"Únicas"},{"$f":"IF(E137=\"\",\"\",(VLOOKUP(B139,'TDPrimas Vida'!$B:$N,11,0)))","v":449.2},{"$f":"IF(E137=\"\",\"\",(VLOOKUP(B139,'TDPrimas Vida'!$B:$N,12,0)))","v":108.83614},{"$f":"IFERROR((E139/VLOOKUP(\"TOTAL\",$D$12:$L$312,2,0))*100,\"\")","v":5.3507215285617405E-4},{"$f":"IFERROR((E139/VLOOKUP(\"TOTAL\",$D$12:$L$312,3,0))*100,\"\")","v":5.7608678623245247E-4},{"$f":"IF(E136=\"\",\"\",E139-F139)","v":340.36385999999999},{"$f":"IF(E136=\"\",\"\",IFERROR((E139/F139-1)*100,\"ND\"))","v":312.73055071596627},{"$f":"IF(E136=\"\",\"\",IFERROR((E139/VLOOKUP(B139&\"|\"&VLOOKUP(TDPrimas!$B$4,Cat!R:T,2,0),'TD Operación'!A:D,4,0))*100,\"ND\"))","v":6.7694521661044171E-2},{"$f":"IF(E136=\"\",\"\",(VLOOKUP(B139,'TDPrimas Vida'!$B:$N,13,0)))","v":6.7694521661044171E-2}]
[null,{"$f":"IF(C140=\"\",B136,D140)","v":"Ve Por Más"},{"$f":"IF('TDPrimas Vida'!A39=\"\",\"\",'TDPrimas Vida'!A39)","v":31},{"$f":"IF('TDPrimas Vida'!B39=\"\",\"\",'TDPrimas Vida'!B39)","v":"Ve Por Más"},{"$f":"IF('TDPrimas Vida'!C39=\"\",\"\",'TDPrimas Vida'!C39)","v":93763.930959999998},{"$f":"IF('TDPrimas Vida'!D39=\"\",\"\",'TDPrimas Vida'!D39)","v":95001.263229999997},{"$f":"IF('TDPrimas Vida'!C39=\"\",\"\",IFERROR((E140/VLOOKUP(\"TOTAL\",$D$12:$L$312,2,0))*100,\"\"))","v":0.11168848708598593},{"$f":"IF('TDPrimas Vida'!C39=\"\",\"\",IFERROR((E140/VLOOKUP(\"TOTAL\",$D$12:$L$312,3,0))*100,\"\"))","v":0.12024969201083695},{"$f":"IF('TDPrimas Vida'!C39=\"\",\"\",E140-F140)","v":-1237.332269999999},{"$f":"IFERROR(IF('TDPrimas Vida'!C39=\"\",\"\",(E140/F140-1)*100),\"ND\")","v":-1.3024377023328593},{"$f":"IF(E140=\"\",\"\",IFERROR((E140/VLOOKUP(D140&\"|\"&VLOOKUP(TDPrimas!$B$4,Cat!R:T,2,0),'TD Operación'!A:D,4,0))*100,\"ND\"))","v":12.263701277859813},{"$f":"IF('TDPrimas Vida'!E39=\"\",\"\",'TDPrimas Vida'!E39)","v":12.263701277859813}]
[null,{"$f":"IF(C141=\"\",B140,D141)","v":"Ve Por Más"},null,{"$f":"IF(D140=\"\",\"\",\"1er Año\")","v":"1er Año"},{"$f":"IF(E140=\"\",\"\",(VLOOKUP(B141,'TDPrimas Vida'!$B:$N,5,0)))","v":54583.757890000001},{"$f":"IF(E140=\"\",\"\",(VLOOKUP(B141,'TDPrimas Vida'!$B:$N,6,0)))","v":28829.497780000002},{"$f":"IFERROR((E141/VLOOKUP(\"TOTAL\",$D$12:$L$312,2,0))*100,\"\")","v":6.501836341313999E-2},{"$f":"IFERROR((E141/VLOOKUP(\"TOTAL\",$D$12:$L$312,3,0))*100,\"\")","v":7.0002185359172686E-2},{"$f":"IF(E140=\"\",\"\",E141-F141)","v":25754.260109999999},{"$f":"IF(E140=\"\",\"\",IFERROR((E141/F141-1)*100,\"ND\"))","v":89.333016851464549},{"$f":"IF(E140=\"\",\"\",IFERROR((E141/VLOOKUP(B141&\"|\"&VLOOKUP(TDPrimas!$B$4,Cat!R:T,2,0),'TD Operación'!A:D,4,0))*100,\"ND\"))","v":7.1391940859598924},{"$f":"IF(E140=\"\",\"\",(VLOOKUP(B141,'TDPrimas Vida'!$B:$N,7,0)))","v":7.1391940859598924}]
[null,{"$f":"IF(C142=\"\",B141,D142)","v":"Ve Por Más"},null,{"$f":"IF(D141=\"\",\"\",\"Renovación\")","v":"Renovación"},{"$f":"IF(E140=\"\",\"\",(VLOOKUP(B142,'TDPrimas Vida'!$B:$N,8,0)))","v":25781.962069999998},{"$f":"IF(E140=\"\",\"\",(VLOOKUP(B142,'TDPrimas Vida'!$B:$N,9,0)))","v":34591.765449999999},{"$f":"IFERROR((E142/VLOOKUP(\"TOTAL\",$D$12:$L$312,2,0))*100,\"\")","v":3.0710618765919684E-2},{"$f":"IFERROR((E142/VLOOKUP(\"TOTAL\",$D$12:$L$312,3,0))*100,\"\")","v":3.306466534210438E-2},{"$f":"IF(E140=\"\",\"\",E142-F142)","v":-8809.8033800000012},{"$f":"IF(E140=\"\",\"\",IFERROR((E142/F142-1)*100,\"ND\"))","v":-25.467920660869314},{"$f":"IF(E140=\"\",\"\",IFERROR((E142/VLOOKUP(B142&\"|\"&VLOOKUP(TDPrimas!$B$4,Cat!R:T,2,0),'TD Operación'!A:D,4,0))*100,\"ND\"))","v":3.3721099141894619},{"$f":"IF(E140=\"\",\"\",(VLOOKUP(B142,'TDPrimas Vida'!$B:$N,10,0)))","v":3.3721099141894619}]
[null,{"$f":"IF(C143=\"\",B142,D143)","v":"Ve Por Más"},null,{"$f":"IF(D142=\"\",\"\",\"Únicas\")","v":"Únicas"},{"$f":"IF(E141=\"\",\"\",(VLOOKUP(B143,'TDPrimas Vida'!$B:$N,11,0)))","v":13398.210999999999},{"$f":"IF(E141=\"\",\"\",(VLOOKUP(B143,'TDPrimas Vida'!$B:$N,12,0)))","v":31580},{"$f":"IFERROR((E143/VLOOKUP(\"TOTAL\",$D$12:$L$312,2,0))*100,\"\")","v":1.5959504906926256E-2},{"$f":"IFERROR((E143/VLOOKUP(\"TOTAL\",$D$12:$L$312,3,0))*100,\"\")","v":1.7182841309559868E-2},{"$f":"IF(E140=\"\",\"\",E143-F143)","v":-18181.789000000001},{"$f":"IF(E140=\"\",\"\",IFERROR((E143/F143-1)*100,\"ND\"))","v":-57.573746041798614},{"$f":"IF(E140=\"\",\"\",IFERROR((E143/VLOOKUP(B143&\"|\"&VLOOKUP(TDPrimas!$B$4,Cat!R:T,2,0),'TD Operación'!A:D,4,0))*100,\"ND\"))","v":1.7523972777104588},{"$f":"IF(E140=\"\",\"\",(VLOOKUP(B143,'TDPrimas Vida'!$B:$N,13,0)))","v":1.7523972777104588}]
[null,{"$f":"IF(C144=\"\",B140,D144)","v":"La Latinoamericana"},{"$f":"IF('TDPrimas Vida'!A40=\"\",\"\",'TDPrimas Vida'!A40)","v":32},{"$f":"IF('TDPrimas Vida'!B40=\"\",\"\",'TDPrimas Vida'!B40)","v":"La Latinoamericana"},{"$f":"IF('TDPrimas Vida'!C40=\"\",\"\",'TDPrimas Vida'!C40)","v":76756.726450000002},{"$f":"IF('TDPrimas Vida'!D40=\"\",\"\",'TDPrimas Vida'!D40)","v":131064.1697},{"$f":"IF('TDPrimas Vida'!C40=\"\",\"\",IFERROR((E144/VLOOKUP(\"TOTAL\",$D$12:$L$312,2,0))*100,\"\"))","v":9.1430068717261684E-2},{"$f":"IF('TDPrimas Vida'!C40=\"\",\"\",IFERROR((E144/VLOOKUP(\"TOTAL\",$D$12:$L$312,3,0))*100,\"\"))","v":9.8438414653392647E-2},{"$f":"IF('TDPrimas Vida'!C40=\"\",\"\",E144-F144)","v":-54307.443249999997},{"$f":"IFERROR(IF('TDPrimas Vida'!C40=\"\",\"\",(E144/F144-1)*100),\"ND\")","v":-41.435766445022537},{"$f":"IF(E144=\"\",\"\",IFERROR((E144/VLOOKUP(D144&\"|\"&VLOOKUP(TDPrimas!$B$4,Cat!R:T,2,0),'TD Operación'!A:D,4,0))*100,\"ND\"))","v":20.291323590852649},{"$f":"IF('TDPrimas Vida'!E40=\"\",\"\",'TDPrimas Vida'!E40)","v":20.291323590852649}]
[null,{"$f":"IF(C145=\"\",B144,D145)","v":"La Latinoamericana"},null,{"$f":"IF(D144=\"\",\"\",\"1er Año\")","v":"1er Año"},{"$f":"IF(E144=\"\",\"\",(VLOOKUP(B145,'TDPrimas Vida'!$B:$N,5,0)))","v":-2719.5000899999995},{"$f":"IF(E144=\"\",\"\",(VLOOKUP(B145,'TDPrimas Vida'!$B:$N,6,0)))","v":57826.837979999997},{"$f":"IFERROR((E145/VLOOKUP(\"TOTAL\",$D$12:$L$312,2,0))*100,\"\")","v":-3.239378379004584E-3},{"$f":"IFERROR((E145/VLOOKUP(\"TOTAL\",$D$12:$L$312,3,0))*100,\"\")","v":-3.4876849220992099E-3},{"$f":"IF(E144=\"\",\"\",E145-F145)","v":-60546.338069999998},{"$f":"IF(E144=\"\",\"\",IFERROR((E145/F145-1)*100,\"ND\"))","v":-104.70283381384363},{"$f":"IF(E144=\"\",\"\",IFERROR((E145/VLOOKUP(B145&\"|\"&VLOOKUP(TDPrimas!$B$4,Cat!R:T,2,0),'TD Operación'!A:D,4,0))*100,\"ND\"))","v":-0.7189240459269598},{"$f":"IF(E144=\"\",\"\",(VLOOKUP(B145,'TDPrimas Vida'!$B:$N,7,0)))","v":-0.7189240459269598}]
[null,{"$f":"IF(C146=\"\",B145,D146)","v":"La Latinoamericana"},null,{"$f":"IF(D145=\"\",\"\",\"Renovación\")","v":"Renovación"},{"$f":"IF(E144=\"\",\"\",(VLOOKUP(B146,'TDPrimas Vida'!$B:$N,8,0)))","v":79476.226540000003},{"$f":"IF(E144=\"\",\"\",(VLOOKUP(B146,'TDPrimas Vida'!$B:$N,9,0)))","v":73237.331720000002},{"$f":"IFERROR((E146/VLOOKUP(\"TOTAL\",$D$12:$L$312,2,0))*100,\"\")","v":9.4669447096266263E-2},{"$f":"IFERROR((E146/VLOOKUP(\"TOTAL\",$D$12:$L$312,3,0))*100,\"\")","v":0.10192609957549187},{"$f":"IF(E144=\"\",\"\",E146-F146)","v":6238.8948200000013},{"$f":"IF(E144=\"\",\"\",IFERROR((E146/F146-1)*100,\"ND\"))","v":8.5187358325019993},{"$f":"IF(E144=\"\",\"\",IFERROR((E146/VLOOKUP(B146&\"|\"&VLOOKUP(TDPrimas!$B$4,Cat!R:T,2,0),'TD Operación'!A:D,4,0))*100,\"ND\"))","v":21.01024763677961},{"$f":"IF(E144=\"\",\"\",(VLOOKUP(B146,'TDPrimas Vida'!$B:$N,10,0)))","v":21.01024763677961}]
[null,{"$f":"IF(C147=\"\",B146,D147)","v":"La Latinoamericana"},null,{"$f":"IF(D146=\"\",\"\",\"Únicas\")","v":"Únicas"},{"$f":"IF(E145=\"\",\"\",(VLOOKUP(B147,'TDPrimas Vida'!$B:$N,11,0)))","v":0},{"$f":"IF(E145=\"\",\"\",(VLOOKUP(B147,'TDPrimas Vida'!$B:$N,12,0)))","v":0},{"$f":"IFERROR((E147/VLOOKUP(\"TOTAL\",$D$12:$L$312,2,0))*100,\"\")","v":0},{"$f":"IFERROR((E147/VLOOKUP(\"TOTAL\",$D$12:$L$312,3,0))*100,\"\")","v":0},{"$f":"IF(E144=\"\",\"\",E147-F147)","v":0},{"$f":"IF(E144=\"\",\"\",IFERROR((E147/F147-1)*100,\"ND\"))","v":"ND"},{"$f":"IF(E144=\"\",\"\",IFERROR((E147/VLOOKUP(B147&\"|\"&VLOOKUP(TDPrimas!$B$4,Cat!R:T,2,0),'TD Operación'!A:D,4,0))*100,\"ND\"))","v":0},{"$f":"IF(E144=\"\",\"\",(VLOOKUP(B147,'TDPrimas Vida'!$B:$N,13,0)))","v":0}]
[null,{"$f":"IF(C148=\"\",B144,D148)","v":"Tokio Marine"},{"$f":"IF('TDPrimas Vida'!A41=\"\",\"\",'TDPrimas Vida'!A41)","v":33},{"$f":"IF('TDPrimas Vida'!B41=\"\",\"\",'TDPrimas Vida'!B41)","v":"Tokio Marine"},{"$f":"IF('TDPrimas Vida'!C41=\"\",\"\",'TDPrimas Vida'!C41)","v":20027.149960000002},{"$f":"IF('TDPrimas Vida'!D41=\"\",\"\",'TDPrimas Vida'!D41)","v":16581.102569999999},{"$f":"IF('TDPrimas Vida'!C41=\"\",\"\",IFERROR((E148/VLOOKUP(\"TOTAL\",$D$12:$L$312,2,0))*100,\"\"))","v":2.3855677303362962E-2},{"$f":"IF('TDPrimas Vida'!C41=\"\",\"\",IFERROR((E148/VLOOKUP(\"TOTAL\",$D$12:$L$312,3,0))*100,\"\"))","v":2.5684275284621083E-2},{"$f":"IF('TDPrimas Vida'!C41=\"\",\"\",E148-F148)","v":3446.0473900000034},{"$f":"IFERROR(IF('TDPrimas Vida'!C41=\"\",\"\",(E148/F148-1)*100),\"ND\")","v":20.782980959510478},{"$f":"IF(E148=\"\",\"\",IFERROR((E148/VLOOKUP(D148&\"|\"&VLOOKUP(TDPrimas!$B$4,Cat!R:T,2,0),'TD Operación'!A:D,4,0))*100,\"ND\"))","v":6.0876670727636677},{"$f":"IF('TDPrimas Vida'!E41=\"\",\"\",'TDPrimas Vida'!E41)","v":6.0876670727636677}]
[null,{"$f":"IF(C149=\"\",B148,D149)","v":"Tokio Marine"},null,{"$f":"IF(D148=\"\",\"\",\"1er Año\")","v":"1er Año"},{"$f":"IF(E148=\"\",\"\",(VLOOKUP(B149,'TDPrimas Vida'!$B:$N,5,0)))","v":9385.0207800000007},{"$f":"IF(E148=\"\",\"\",(VLOOKUP(B149,'TDPrimas Vida'!$B:$N,6,0)))","v":5581.5862100000004},{"$f":"IFERROR((E149/VLOOKUP(\"TOTAL\",$D$12:$L$312,2,0))*100,\"\")","v":1.117912571984535E-2},{"$f":"IFERROR((E149/VLOOKUP(\"TOTAL\",$D$12:$L$312,3,0))*100,\"\")","v":1.2036033971226592E-2},{"$f":"IF(E148=\"\",\"\",E149-F149)","v":3803.4345700000003},{"$f":"IF(E148=\"\",\"\",IFERROR((E149/F149-1)*100,\"ND\"))","v":68.142539179736161},{"$f":"IF(E148=\"\",\"\",IFERROR((E149/VLOOKUP(B149&\"|\"&VLOOKUP(TDPrimas!$B$4,Cat!R:T,2,0),'TD Operación'!A:D,4,0))*100,\"ND\"))","v":2.8527714674189615},{"$f":"IF(E148=\"\",\"\",(VLOOKUP(B149,'TDPrimas Vida'!$B:$N,7,0)))","v":2.8527714674189615}]
[null,{"$f":"IF(C150=\"\",B149,D150)","v":"Tokio Marine"},null,{"$f":"IF(D149=\"\",\"\",\"Renovación\")","v":"Renovación"},{"$f":"IF(E148=\"\",\"\",(VLOOKUP(B150,'TDPrimas Vida'!$B:$N,8,0)))","v":10642.12918},{"$f":"IF(E148=\"\",\"\",(VLOOKUP(B150,'TDPrimas Vida'!$B:$N,9,0)))","v":10999.51636},{"$f":"IFERROR((E150/VLOOKUP(\"TOTAL\",$D$12:$L$312,2,0))*100,\"\")","v":1.2676551583517612E-2},{"$f":"IFERROR((E150/VLOOKUP(\"TOTAL\",$D$12:$L$312,3,0))*100,\"\")","v":1.3648241313394489E-2},{"$f":"IF(E148=\"\",\"\",E150-F150)","v":-357.38717999999972},{"$f":"IF(E148=\"\",\"\",IFERROR((E150/F150-1)*100,\"ND\"))","v":-3.2491172184592298},{"$f":"IF(E148=\"\",\"\",IFERROR((E150/VLOOKUP(B150&\"|\"&VLOOKUP(TDPrimas!$B$4,Cat!R:T,2,0),'TD Operación'!A:D,4,0))*100,\"ND\"))","v":3.2348956053447067},{"$f":"IF(E148=\"\",\"\",(VLOOKUP(B150,'TDPrimas Vida'!$B:$N,10,0)))","v":3.2348956053447067}]
[null,{"$f":"IF(C151=\"\",B150,D151)","v":"Tokio Marine"},null,{"$f":"IF(D150=\"\",\"\",\"Únicas\")","v":"Únicas"},{"$f":"IF(E149=\"\",\"\",(VLOOKUP(B151,'TDPrimas Vida'!$B:$N,11,0)))","v":0},{"$f":"IF(E149=\"\",\"\",(VLOOKUP(B151,'TDPrimas Vida'!$B:$N,12,0)))","v":0},{"$f":"IFERROR((E151/VLOOKUP(\"TOTAL\",$D$12:$L$312,2,0))*100,\"\")","v":0},{"$f":"IFERROR((E151/VLOOKUP(\"TOTAL\",$D$12:$L$312,3,0))*100,\"\")","v":0},{"$f":"IF(E148=\"\",\"\",E151-F151)","v":0},{"$f":"IF(E148=\"\",\"\",IFERROR((E151/F151-1)*100,\"ND\"))","v":"ND"},{"$f":"IF(E148=\"\",\"\",IFERROR((E151/VLOOKUP(B151&\"|\"&VLOOKUP(TDPrimas!$B$4,Cat!R:T,2,0),'TD Operación'!A:D,4,0))*100,\"ND\"))","v":0},{"$f":"IF(E148=\"\",\"\",(VLOOKUP(B151,'TDPrimas Vida'!$B:$N,13,0)))","v":0}]
[null,{"$f":"IF(C152=\"\",B148,D152)","v":"Agroasemex"},{"$f":"IF('TDPrimas Vida'!A42=\"\",\"\",'TDPrimas Vida'!A42)","v":34},{"$f":"IF('TDPrimas Vida'!B42=\"\",\"\",'TDPrimas Vida'!B42)","v":"Agroasemex"},{"$f":"IF('TDPrimas Vida'!C42=\"\",\"\",'TDPrimas Vida'!C42)","v":3674.2459700000004},{"$f":"IF('TDPrimas Vida'!D42=\"\",\"\",'TDPrimas Vida'!D42)","v":0},{"$f":"IF('TDPrimas Vida'!C42=\"\",\"\",IFERROR((E152/VLOOKUP(\"TOTAL\",$D$12:$L$312,2,0))*100,\"\"))","v":4.3766400295882054E-3},{"$f":"IF('TDPrimas Vida'!C42=\"\",\"\",IFERROR((E152/VLOOKUP(\"TOTAL\",$D$12:$L$312,3,0))*100,\"\"))","v":4.712120553617187E-3},{"$f":"IF('TDPrimas Vida'!C42=\"\",\"\",E152-F152)","v":3674.2459700000004},{"$f":"IFERROR(IF('TDPrimas Vida'!C42=\"\",\"\",(E152/F152-1)*100),\"ND\")","v":"ND"},{"$f":"IF(E152=\"\",\"\",IFERROR((E152/VLOOKUP(D152&\"|\"&VLOOKUP(TDPrimas!$B$4,Cat!R:T,2,0),'TD Operación'!A:D,4,0))*100,\"ND\"))","v":4.9393372478700404E-2},{"$f":"IF('TDPrimas Vida'!E42=\"\",\"\",'TDPrimas Vida'!E42)","v":4.9393372478700404E-2}]
[null,{"$f":"IF(C153=\"\",B152,D153)","v":"Agroasemex"},null,{"$f":"IF(D152=\"\",\"\",\"1er Año\")","v":"1er Año"},{"$f":"IF(E152=\"\",\"\",(VLOOKUP(B153,'TDPrimas Vida'!$B:$N,5,0)))","v":3674.2459700000004},{"$f":"IF(E152=\"\",\"\",(VLOOKUP(B153,'TDPrimas Vida'!$B:$N,6,0)))","v":0},{"$f":"IFERROR((E153/VLOOKUP(\"TOTAL\",$D$12:$L$312,2,0))*100,\"\")","v":4.3766400295882054E-3},{"$f":"IFERROR((E153/VLOOKUP(\"TOTAL\",$D$12:$L$312,3,0))*100,\"\")","v":4.712120553617187E-3},{"$f":"IF(E152=\"\",\"\",E153-F153)","v":3674.2459700000004},{"$f":"IF(E152=\"\",\"\",IFERROR((E153/F153-1)*100,\"ND\"))","v":"ND"},{"$f":"IF(E152=\"\",\"\",IFERROR((E153/VLOOKUP(B153&\"|\"&VLOOKUP(TDPrimas!$B$4,Cat!R:T,2,0),'TD Operación'!A:D,4,0))*100,\"ND\"))","v":4.9393372478700404E-2},{"$f":"IF(E152=\"\",\"\",(VLOOKUP(B153,'TDPrimas Vida'!$B:$N,7,0)))","v":4.9393372478700404E-2}]
[null,{"$f":"IF(C154=\"\",B153,D154)","v":"Agroasemex"},null,{"$f":"IF(D153=\"\",\"\",\"Renovación\")","v":"Renovación"},{"$f":"IF(E152=\"\",\"\",(VLOOKUP(B154,'TDPrimas Vida'!$B:$N,8,0)))","v":0},{"$f":"IF(E152=\"\",\"\",(VLOOKUP(B154,'TDPrimas Vida'!$B:$N,9,0)))","v":0},{"$f":"IFERROR((E154/VLOOKUP(\"TOTAL\",$D$12:$L$312,2,0))*100,\"\")","v":0},{"$f":"IFERROR((E154/VLOOKUP(\"TOTAL\",$D$12:$L$312,3,0))*100,\"\")","v":0},{"$f":"IF(E152=\"\",\"\",E154-F154)","v":0},{"$f":"IF(E152=\"\",\"\",IFERROR((E154/F154-1)*100,\"ND\"))","v":"ND"},{"$f":"IF(E152=\"\",\"\",IFERROR((E154/VLOOKUP(B154&\"|\"&VLOOKUP(TDPrimas!$B$4,Cat!R:T,2,0),'TD Operación'!A:D,4,0))*100,\"ND\"))","v":0},{"$f":"IF(E152=\"\",\"\",(VLOOKUP(B154,'TDPrimas Vida'!$B:$N,10,0)))","v":0}]
[null,{"$f":"IF(C155=\"\",B154,D155)","v":"Agroasemex"},null,{"$f":"IF(D154=\"\",\"\",\"Únicas\")","v":"Únicas"},{"$f":"IF(E153=\"\",\"\",(VLOOKUP(B155,'TDPrimas Vida'!$B:$N,11,0)))","v":0},{"$f":"IF(E153=\"\",\"\",(VLOOKUP(B155,'TDPrimas Vida'!$B:$N,12,0)))","v":0},{"$f":"IFERROR((E155/VLOOKUP(\"TOTAL\",$D$12:$L$312,2,0))*100,\"\")","v":0},{"$f":"IFERROR((E155/VLOOKUP(\"TOTAL\",$D$12:$L$312,3,0))*100,\"\")","v":0},{"$f":"IF(E152=\"\",\"\",E155-F155)","v":0},{"$f":"IF(E152=\"\",\"\",IFERROR((E155/F155-1)*100,\"ND\"))","v":"ND"},{"$f":"IF(E152=\"\",\"\",IFERROR((E155/VLOOKUP(B155&\"|\"&VLOOKUP(TDPrimas!$B$4,Cat!R:T,2,0),'TD Operación'!A:D,4,0))*100,\"ND\"))","v":0},{"$f":"IF(E152=\"\",\"\",(VLOOKUP(B155,'TDPrimas Vida'!$B:$N,13,0)))","v":0}]
[null,{"$f":"IF(C156=\"\",B152,D156)","v":"HDI Seguros"},{"$f":"IF('TDPrimas Vida'!A43=\"\",\"\",'TDPrimas Vida'!A43)","v":35},{"$f":"IF('TDPrimas Vida'!B43=\"\",\"\",'TDPrimas Vida'!B43)","v":"HDI Seguros"},{"$f":"IF('TDPrimas Vida'!C43=\"\",\"\",'TDPrimas Vida'!C43)","v":1331.1598600000002},{"$f":"IF('TDPrimas Vida'!D43=\"\",\"\",'TDPrimas Vida'!D43)","v":1309.0345199999999},{"$f":"IF('TDPrimas Vida'!C43=\"\",\"\",IFERROR((E156/VLOOKUP(\"TOTAL\",$D$12:$L$312,2,0))*100,\"\"))","v":1.5856335086507647E-3},{"$f":"IF('TDPrimas Vida'!C43=\"\",\"\",IFERROR((E156/VLOOKUP(\"TOTAL\",$D$12:$L$312,3,0))*100,\"\"))","v":1.7071763261554795E-3},{"$f":"IF('TDPrimas Vida'!C43=\"\",\"\",E156-F156)","v":22.125340000000278},{"$f":"IFERROR(IF('TDPrimas Vida'!C43=\"\",\"\",(E156/F156-1)*100),\"ND\")","v":1.6902029443807365},{"$f":"IF(E156=\"\",\"\",IFERROR((E156/VLOOKUP(D156&\"|\"&VLOOKUP(TDPrimas!$B$4,Cat!R:T,2,0),'TD Operación'!A:D,4,0))*100,\"ND\"))","v":4.4883983913552403E-2},{"$f":"IF('TDPrimas Vida'!E43=\"\",\"\",'TDPrimas Vida'!E43)","v":4.4883983913552403E-2}]
[null,{"$f":"IF(C157=\"\",B156,D157)","v":"HDI Seguros"},null,{"$f":"IF(D156=\"\",\"\",\"1er Año\")","v":"1er Año"},{"$f":"IF(E156=\"\",\"\",(VLOOKUP(B157,'TDPrimas Vida'!$B:$N,5,0)))","v":0},{"$f":"IF(E156=\"\",\"\",(VLOOKUP(B157,'TDPrimas Vida'!$B:$N,6,0)))","v":0},{"$f":"IFERROR((E157/VLOOKUP(\"TOTAL\",$D$12:$L$312,2,0))*100,\"\")","v":0},{"$f":"IFERROR((E157/VLOOKUP(\"TOTAL\",$D$12:$L$312,3,0))*100,\"\")","v":0},{"$f":"IF(E156=\"\",\"\",E157-F157)","v":0},{"$f":"IF(E156=\"\",\"\",IFERROR((E157/F157-1)*100,\"ND\"))","v":"ND"},{"$f":"IF(E156=\"\",\"\",IFERROR((E157/VLOOKUP(B157&\"|\"&VLOOKUP(TDPrimas!$B$4,Cat!R:T,2,0),'TD Operación'!A:D,4,0))*100,\"ND\"))","v":0},{"$f":"IF(E156=\"\",\"\",(VLOOKUP(B157,'TDPrimas Vida'!$B:$N,7,0)))","v":0}]
[null,{"$f":"IF(C158=\"\",B157,D158)","v":"HDI Seguros"},null,{"$f":"IF(D157=\"\",\"\",\"Renovación\")","v":"Renovación"},{"$f":"IF(E156=\"\",\"\",(VLOOKUP(B158,'TDPrimas Vida'!$B:$N,8,0)))","v":1331.1598600000002},{"$f":"IF(E156=\"\",\"\",(VLOOKUP(B158,'TDPrimas Vida'!$B:$N,9,0)))","v":1309.0345199999999},{"$f":"IFERROR((E158/VLOOKUP(\"TOTAL\",$D$12:$L$312,2,0))*100,\"\")","v":1.5856335086507647E-3},{"$f":"IFERROR((E158/VLOOKUP(\"TOTAL\",$D$12:$L$312,3,0))*100,\"\")","v":1.7071763261554795E-3},{"$f":"IF(E156=\"\",\"\",E158-F158)","v":22.125340000000278},{"$f":"IF(E156=\"\",\"\",IFERROR((E158/F158-1)*100,\"ND\"))","v":1.6902029443807365},{"$f":"IF(E156=\"\",\"\",IFERROR((E158/VLOOKUP(B158&\"|\"&VLOOKUP(TDPrimas!$B$4,Cat!R:T,2,0),'TD Operación'!A:D,4,0))*100,\"ND\"))","v":4.4883983913552403E-2},{"$f":"IF(E156=\"\",\"\",(VLOOKUP(B158,'TDPrimas Vida'!$B:$N,10,0)))","v":4.4883983913552403E-2}]
[null,{"$f":"IF(C159=\"\",B158,D159)","v":"HDI Seguros"},null,{"$f":"IF(D158=\"\",\"\",\"Únicas\")","v":"Únicas"},{"$f":"IF(E157=\"\",\"\",(VLOOKUP(B159,'TDPrimas Vida'!$B:$N,11,0)))","v":0},{"$f":"IF(E157=\"\",\"\",(VLOOKUP(B159,'TDPrimas Vida'!$B:$N,12,0)))","v":0},{"$f":"IFERROR((E159/VLOOKUP(\"TOTAL\",$D$12:$L$312,2,0))*100,\"\")","v":0},{"$f":"IFERROR((E159/VLOOKUP(\"TOTAL\",$D$12:$L$312,3,0))*100,\"\")","v":0},{"$f":"IF(E156=\"\",\"\",E159-F159)","v":0},{"$f":"IF(E156=\"\",\"\",IFERROR((E159/F159-1)*100,\"ND\"))","v":"ND"},{"$f":"IF(E156=\"\",\"\",IFERROR((E159/VLOOKUP(B159&\"|\"&VLOOKUP(TDPrimas!$B$4,Cat!R:T,2,0),'TD Operación'!A:D,4,0))*100,\"ND\"))","v":0},{"$f":"IF(E156=\"\",\"\",(VLOOKUP(B159,'TDPrimas Vida'!$B:$N,13,0)))","v":0}]
[null,{"$f":"IF(C160=\"\",B156,D160)","v":"Principal México"},{"$f":"IF('TDPrimas Vida'!A44=\"\",\"\",'TDPrimas Vida'!A44)","v":36},{"$f":"IF('TDPrimas Vida'!B44=\"\",\"\",'TDPrimas Vida'!B44)","v":"Principal México"},{"$f":"IF('TDPrimas Vida'!C44=\"\",\"\",'TDPrimas Vida'!C44)","v":0},{"$f":"IF('TDPrimas Vida'!D44=\"\",\"\",'TDPrimas Vida'!D44)","v":0},{"$f":"IF('TDPrimas Vida'!C44=\"\",\"\",IFERROR((E160/VLOOKUP(\"TOTAL\",$D$12:$L$312,2,0))*100,\"\"))","v":0},{"$f":"IF('TDPrimas Vida'!C44=\"\",\"\",IFERROR((E160/VLOOKUP(\"TOTAL\",$D$12:$L$312,3,0))*100,\"\"))","v":0},{"$f":"IF('TDPrimas Vida'!C44=\"\",\"\",E160-F160)","v":0},{"$f":"IFERROR(IF('TDPrimas Vida'!C44=\"\",\"\",(E160/F160-1)*100),\"ND\")","v":"ND"},{"$f":"IF(E160=\"\",\"\",IFERROR((E160/VLOOKUP(D160&\"|\"&VLOOKUP(TDPrimas!$B$4,Cat!R:T,2,0),'TD Operación'!A:D,4,0))*100,\"ND\"))","v":"ND"},{"$f":"IF('TDPrimas Vida'!E44=\"\",\"\",'TDPrimas Vida'!E44)","v":0}]
[null,{"$f":"IF(C161=\"\",B160,D161)","v":"Principal México"},null,{"$f":"IF(D160=\"\",\"\",\"1er Año\")","v":"1er Año"},{"$f":"IF(E160=\"\",\"\",(VLOOKUP(B161,'TDPrimas Vida'!$B:$N,5,0)))","v":0},{"$f":"IF(E160=\"\",\"\",(VLOOKUP(B161,'TDPrimas Vida'!$B:$N,6,0)))","v":0},{"$f":"IFERROR((E161/VLOOKUP(\"TOTAL\",$D$12:$L$312,2,0))*100,\"\")","v":0},{"$f":"IFERROR((E161/VLOOKUP(\"TOTAL\",$D$12:$L$312,3,0))*100,\"\")","v":0},{"$f":"IF(E160=\"\",\"\",E161-F161)","v":0},{"$f":"IF(E160=\"\",\"\",IFERROR((E161/F161-1)*100,\"ND\"))","v":"ND"},{"$f":"IF(E160=\"\",\"\",IFERROR((E161/VLOOKUP(B161&\"|\"&VLOOKUP(TDPrimas!$B$4,Cat!R:T,2,0),'TD Operación'!A:D,4,0))*100,\"ND\"))","v":"ND"},{"$f":"IF(E160=\"\",\"\",(VLOOKUP(B161,'TDPrimas Vida'!$B:$N,7,0)))","v":0}]
[null,{"$f":"IF(C162=\"\",B161,D162)","v":"Principal México"},null,{"$f":"IF(D161=\"\",\"\",\"Renovación\")","v":"Renovación"},{"$f":"IF(E160=\"\",\"\",(VLOOKUP(B162,'TDPrimas Vida'!$B:$N,8,0)))","v":0},{"$f":"IF(E160=\"\",\"\",(VLOOKUP(B162,'TDPrimas Vida'!$B:$N,9,0)))","v":0},{"$f":"IFERROR((E162/VLOOKUP(\"TOTAL\",$D$12:$L$312,2,0))*100,\"\")","v":0},{"$f":"IFERROR((E162/VLOOKUP(\"TOTAL\",$D$12:$L$312,3,0))*100,\"\")","v":0},{"$f":"IF(E160=\"\",\"\",E162-F162)","v":0},{"$f":"IF(E160=\"\",\"\",IFERROR((E162/F162-1)*100,\"ND\"))","v":"ND"},{"$f":"IF(E160=\"\",\"\",IFERROR((E162/VLOOKUP(B162&\"|\"&VLOOKUP(TDPrimas!$B$4,Cat!R:T,2,0),'TD Operación'!A:D,4,0))*100,\"ND\"))","v":"ND"},{"$f":"IF(E160=\"\",\"\",(VLOOKUP(B162,'TDPrimas Vida'!$B:$N,10,0)))","v":0}]
[null,{"$f":"IF(C163=\"\",B162,D163)","v":"Principal México"},null,{"$f":"IF(D162=\"\",\"\",\"Únicas\")","v":"Únicas"},{"$f":"IF(E161=\"\",\"\",(VLOOKUP(B163,'TDPrimas Vida'!$B:$N,11,0)))","v":0},{"$f":"IF(E161=\"\",\"\",(VLOOKUP(B163,'TDPrimas Vida'!$B:$N,12,0)))","v":0},{"$f":"IFERROR((E163/VLOOKUP(\"TOTAL\",$D$12:$L$312,2,0))*100,\"\")","v":0},{"$f":"IFERROR((E163/VLOOKUP(\"TOTAL\",$D$12:$L$312,3,0))*100,\"\")","v":0},{"$f":"IF(E160=\"\",\"\",E163-F163)","v":0},{"$f":"IF(E160=\"\",\"\",IFERROR((E163/F163-1)*100,\"ND\"))","v":"ND"},{"$f":"IF(E160=\"\",\"\",IFERROR((E163/VLOOKUP(B163&\"|\"&VLOOKUP(TDPrimas!$B$4,Cat!R:T,2,0),'TD Operación'!A:D,4,0))*100,\"ND\"))","v":"ND"},{"$f":"IF(E160=\"\",\"\",(VLOOKUP(B163,'TDPrimas Vida'!$B:$N,13,0)))","v":0}]
[null,{"$f":"IF(C164=\"\",B160,D164)","v":"Aserta Seguros de Vida"},{"$f":"IF('TDPrimas Vida'!A45=\"\",\"\",'TDPrimas Vida'!A45)","v":37},{"$f":"IF('TDPrimas Vida'!B45=\"\",\"\",'TDPrimas Vida'!B45)","v":"Aserta Seguros de Vida"},{"$f":"IF('TDPrimas Vida'!C45=\"\",\"\",'TDPrimas Vida'!C45)","v":0},{"$f":"IF('TDPrimas Vida'!D45=\"\",\"\",'TDPrimas Vida'!D45)","v":105.39552999999999},{"$f":"IF('TDPrimas Vida'!C45=\"\",\"\",IFERROR((E164/VLOOKUP(\"TOTAL\",$D$12:$L$312,2,0))*100,\"\"))","v":0},{"$f":"IF('TDPrimas Vida'!C45=\"\",\"\",IFERROR((E164/VLOOKUP(\"TOTAL\",$D$12:$L$312,3,0))*100,\"\"))","v":0},{"$f":"IF('TDPrimas Vida'!C45=\"\",\"\",E164-F164)","v":-105.39552999999999},{"$f":"IFERROR(IF('TDPrimas Vida'!C45=\"\",\"\",(E164/F164-1)*100),\"ND\")","v":-100},{"$f":"IF(E164=\"\",\"\",IFERROR((E164/VLOOKUP(D164&\"|\"&VLOOKUP(TDPrimas!$B$4,Cat!R:T,2,0),'TD Operación'!A:D,4,0))*100,\"ND\"))","v":"ND"},{"$f":"IF('TDPrimas Vida'!E45=\"\",\"\",'TDPrimas Vida'!E45)","v":0}]
[null,{"$f":"IF(C165=\"\",B164,D165)","v":"Aserta Seguros de Vida"},null,{"$f":"IF(D164=\"\",\"\",\"1er Año\")","v":"1er Año"},{"$f":"IF(E164=\"\",\"\",(VLOOKUP(B165,'TDPrimas Vida'!$B:$N,5,0)))","v":0},{"$f":"IF(E164=\"\",\"\",(VLOOKUP(B165,'TDPrimas Vida'!$B:$N,6,0)))","v":117.94996},{"$f":"IFERROR((E165/VLOOKUP(\"TOTAL\",$D$12:$L$312,2,0))*100,\"\")","v":0},{"$f":"IFERROR((E165/VLOOKUP(\"TOTAL\",$D$12:$L$312,3,0))*100,\"\")","v":0},{"$f":"IF(E164=\"\",\"\",E165-F165)","v":-117.94996},{"$f":"IF(E164=\"\",\"\",IFERROR((E165/F165-1)*100,\"ND\"))","v":-100},{"$f":"IF(E164=\"\",\"\",IFERROR((E165/VLOOKUP(B165&\"|\"&VLOOKUP(TDPrimas!$B$4,Cat!R:T,2,0),'TD Operación'!A:D,4,0))*100,\"ND\"))","v":"ND"},{"$f":"IF(E164=\"\",\"\",(VLOOKUP(B165,'TDPrimas Vida'!$B:$N,7,0)))","v":0}]
[null,{"$f":"IF(C166=\"\",B165,D166)","v":"Aserta Seguros de Vida"},null,{"$f":"IF(D165=\"\",\"\",\"Renovación\")","v":"Renovación"},{"$f":"IF(E164=\"\",\"\",(VLOOKUP(B166,'TDPrimas Vida'!$B:$N,8,0)))","v":0},{"$f":"IF(E164=\"\",\"\",(VLOOKUP(B166,'TDPrimas Vida'!$B:$N,9,0)))","v":1.5932200000000001},{"$f":"IFERROR((E166/VLOOKUP(\"TOTAL\",$D$12:$L$312,2,0))*100,\"\")","v":0},{"$f":"IFERROR((E166/VLOOKUP(\"TOTAL\",$D$12:$L$312,3,0))*100,\"\")","v":0},{"$f":"IF(E164=\"\",\"\",E166-F166)","v":-1.5932200000000001},{"$f":"IF(E164=\"\",\"\",IFERROR((E166/F166-1)*100,\"ND\"))","v":-100},{"$f":"IF(E164=\"\",\"\",IFERROR((E166/VLOOKUP(B166&\"|\"&VLOOKUP(TDPrimas!$B$4,Cat!R:T,2,0),'TD Operación'!A:D,4,0))*100,\"ND\"))","v":"ND"},{"$f":"IF(E164=\"\",\"\",(VLOOKUP(B166,'TDPrimas Vida'!$B:$N,10,0)))","v":0}]
[null,{"$f":"IF(C167=\"\",B166,D167)","v":"Aserta Seguros de Vida"},null,{"$f":"IF(D166=\"\",\"\",\"Únicas\")","v":"Únicas"},{"$f":"IF(E165=\"\",\"\",(VLOOKUP(B167,'TDPrimas Vida'!$B:$N,11,0)))","v":0},{"$f":"IF(E165=\"\",\"\",(VLOOKUP(B167,'TDPrimas Vida'!$B:$N,12,0)))","v":-14.147650000000001},{"$f":"IFERROR((E167/VLOOKUP(\"TOTAL\",$D$12:$L$312,2,0))*100,\"\")","v":0},{"$f":"IFERROR((E167/VLOOKUP(\"TOTAL\",$D$12:$L$312,3,0))*100,\"\")","v":0},{"$f":"IF(E164=\"\",\"\",E167-F167)","v":14.147650000000001},{"$f":"IF(E164=\"\",\"\",IFERROR((E167/F167-1)*100,\"ND\"))","v":-100},{"$f":"IF(E164=\"\",\"\",IFERROR((E167/VLOOKUP(B167&\"|\"&VLOOKUP(TDPrimas!$B$4,Cat!R:T,2,0),'TD Operación'!A:D,4,0))*100,\"ND\"))","v":"ND"},{"$f":"IF(E164=\"\",\"\",(VLOOKUP(B167,'TDPrimas Vida'!$B:$N,13,0)))","v":0}]
[null,{"$f":"IF(C168=\"\",B164,D168)","v":"Zurich Vida"},{"$f":"IF('TDPrimas Vida'!A46=\"\",\"\",'TDPrimas Vida'!A46)","v":38},{"$f":"IF('TDPrimas Vida'!B46=\"\",\"\",'TDPrimas Vida'!B46)","v":"Zurich Vida"},{"$f":"IF('TDPrimas Vida'!C46=\"\",\"\",'TDPrimas Vida'!C46)","v":0},{"$f":"IF('TDPrimas Vida'!D46=\"\",\"\",'TDPrimas Vida'!D46)","v":198836.1783},{"$f":"IF('TDPrimas Vida'!C46=\"\",\"\",IFERROR((E168/VLOOKUP(\"TOTAL\",$D$12:$L$312,2,0))*100,\"\"))","v":0},{"$f":"IF('TDPrimas Vida'!C46=\"\",\"\",IFERROR((E168/VLOOKUP(\"TOTAL\",$D$12:$L$312,3,0))*100,\"\"))","v":0},{"$f":"IF('TDPrimas Vida'!C46=\"\",\"\",E168-F168)","v":-198836.1783},{"$f":"IFERROR(IF('TDPrimas Vida'!C46=\"\",\"\",(E168/F168-1)*100),\"ND\")","v":-100},{"$f":"IF(E168=\"\",\"\",IFERROR((E168/VLOOKUP(D168&\"|\"&VLOOKUP(TDPrimas!$B$4,Cat!R:T,2,0),'TD Operación'!A:D,4,0))*100,\"ND\"))","v":"ND"},{"$f":"IF('TDPrimas Vida'!E46=\"\",\"\",'TDPrimas Vida'!E46)","v":0}]
[null,{"$f":"IF(C169=\"\",B168,D169)","v":"Zurich Vida"},null,{"$f":"IF(D168=\"\",\"\",\"1er Año\")","v":"1er Año"},{"$f":"IF(E168=\"\",\"\",(VLOOKUP(B169,'TDPrimas Vida'!$B:$N,5,0)))","v":0},{"$f":"IF(E168=\"\",\"\",(VLOOKUP(B169,'TDPrimas Vida'!$B:$N,6,0)))","v":0},{"$f":"IFERROR((E169/VLOOKUP(\"TOTAL\",$D$12:$L$312,2,0))*100,\"\")","v":0},{"$f":"IFERROR((E169/VLOOKUP(\"TOTAL\",$D$12:$L$312,3,0))*100,\"\")","v":0},{"$f":"IF(E168=\"\",\"\",E169-F169)","v":0},{"$f":"IF(E168=\"\",\"\",IFERROR((E169/F169-1)*100,\"ND\"))","v":"ND"},{"$f":"IF(E168=\"\",\"\",IFERROR((E169/VLOOKUP(B169&\"|\"&VLOOKUP(TDPrimas!$B$4,Cat!R:T,2,0),'TD Operación'!A:D,4,0))*100,\"ND\"))","v":"ND"},{"$f":"IF(E168=\"\",\"\",(VLOOKUP(B169,'TDPrimas Vida'!$B:$N,7,0)))","v":0}]
[null,{"$f":"IF(C170=\"\",B169,D170)","v":"Zurich Vida"},null,{"$f":"IF(D169=\"\",\"\",\"Renovación\")","v":"Renovación"},{"$f":"IF(E168=\"\",\"\",(VLOOKUP(B170,'TDPrimas Vida'!$B:$N,8,0)))","v":0},{"$f":"IF(E168=\"\",\"\",(VLOOKUP(B170,'TDPrimas Vida'!$B:$N,9,0)))","v":0},{"$f":"IFERROR((E170/VLOOKUP(\"TOTAL\",$D$12:$L$312,2,0))*100,\"\")","v":0},{"$f":"IFERROR((E170/VLOOKUP(\"TOTAL\",$D$12:$L$312,3,0))*100,\"\")","v":0},{"$f":"IF(E168=\"\",\"\",E170-F170)","v":0},{"$f":"IF(E168=\"\",\"\",IFERROR((E170/F170-1)*100,\"ND\"))","v":"ND"},{"$f":"IF(E168=\"\",\"\",IFERROR((E170/VLOOKUP(B170&\"|\"&VLOOKUP(TDPrimas!$B$4,Cat!R:T,2,0),'TD Operación'!A:D,4,0))*100,\"ND\"))","v":"ND"},{"$f":"IF(E168=\"\",\"\",(VLOOKUP(B170,'TDPrimas Vida'!$B:$N,10,0)))","v":0}]
[null,{"$f":"IF(C171=\"\",B170,D171)","v":"Zurich Vida"},null,{"$f":"IF(D170=\"\",\"\",\"Únicas\")","v":"Únicas"},{"$f":"IF(E169=\"\",\"\",(VLOOKUP(B171,'TDPrimas Vida'!$B:$N,11,0)))","v":0},{"$f":"IF(E169=\"\",\"\",(VLOOKUP(B171,'TDPrimas Vida'!$B:$N,12,0)))","v":0},{"$f":"IFERROR((E171/VLOOKUP(\"TOTAL\",$D$12:$L$312,2,0))*100,\"\")","v":0},{"$f":"IFERROR((E171/VLOOKUP(\"TOTAL\",$D$12:$L$312,3,0))*100,\"\")","v":0},{"$f":"IF(E168=\"\",\"\",E171-F171)","v":0},{"$f":"IF(E168=\"\",\"\",IFERROR((E171/F171-1)*100,\"ND\"))","v":"ND"},{"$f":"IF(E168=\"\",\"\",IFERROR((E171/VLOOKUP(B171&\"|\"&VLOOKUP(TDPrimas!$B$4,Cat!R:T,2,0),'TD Operación'!A:D,4,0))*100,\"ND\"))","v":"ND"},{"$f":"IF(E168=\"\",\"\",(VLOOKUP(B171,'TDPrimas Vida'!$B:$N,13,0)))","v":0}]
[null,{"$f":"IF(C172=\"\",B168,D172)","v":"TOTAL RESTO"},{"$f":"IF('TDPrimas Vida'!A47=\"\",\"\",'TDPrimas Vida'!A47)","v":150.1},{"$f":"IF('TDPrimas Vida'!B47=\"\",\"\",'TDPrimas Vida'!B47)","v":"TOTAL RESTO"},{"$f":"IF('TDPrimas Vida'!C47=\"\",\"\",'TDPrimas Vida'!C47)","v":6347946.6297100009},{"$f":"IF('TDPrimas Vida'!D47=\"\",\"\",'TDPrimas Vida'!D47)","v":7151812.7016099999},{"$f":"IF('TDPrimas Vida'!C47=\"\",\"\",IFERROR((E172/VLOOKUP(\"TOTAL\",$D$12:$L$312,2,0))*100,\"\"))","v":7.5614636450913295},{"$f":"IF('TDPrimas Vida'!C47=\"\",\"\",IFERROR((E172/VLOOKUP(\"TOTAL\",$D$12:$L$312,3,0))*100,\"\"))","v":8.1410689516579762},{"$f":"IF('TDPrimas Vida'!C47=\"\",\"\",E172-F172)","v":-803866.07189999893},{"$f":"IFERROR(IF('TDPrimas Vida'!C47=\"\",\"\",(E172/F172-1)*100),\"ND\")","v":-11.240032498600449},{"$f":"IF(E172=\"\",\"\",IFERROR((E172/VLOOKUP(D172&\"|\"&VLOOKUP(TDPrimas!$B$4,Cat!R:T,2,0),'TD Operación'!A:D,4,0))*100,\"ND\"))","v":12.828189988450292},{"$f":"IF('TDPrimas Vida'!E47=\"\",\"\",'TDPrimas Vida'!E47)","v":17.220480931592114}]
[null,{"$f":"IF(C173=\"\",B172,D173)","v":"TOTAL RESTO"},null,{"$f":"IF(D172=\"\",\"\",\"1er Año\")","v":"1er Año"},{"$f":"IF(E172=\"\",\"\",(VLOOKUP(B173,'TDPrimas Vida'!$B:$N,5,0)))","v":3906679.1665499997},{"$f":"IF(E172=\"\",\"\",(VLOOKUP(B173,'TDPrimas Vida'!$B:$N,6,0)))","v":4713718.6119799986},{"$f":"IFERROR((E173/VLOOKUP(\"TOTAL\",$D$12:$L$312,2,0))*100,\"\")","v":4.653506750143082},{"$f":"IFERROR((E173/VLOOKUP(\"TOTAL\",$D$12:$L$312,3,0))*100,\"\")","v":5.0102098083238324},{"$f":"IF(E172=\"\",\"\",E173-F173)","v":-807039.44542999892},{"$f":"IF(E172=\"\",\"\",IFERROR((E173/F173-1)*100,\"ND\"))","v":-17.12107810973048},{"$f":"IF(E172=\"\",\"\",IFERROR((E173/VLOOKUP(B173&\"|\"&VLOOKUP(TDPrimas!$B$4,Cat!R:T,2,0),'TD Operación'!A:D,4,0))*100,\"ND\"))","v":7.8947769248516053},{"$f":"IF(E172=\"\",\"\",(VLOOKUP(B173,'TDPrimas Vida'!$B:$N,7,0)))","v":10.597898504464244}]
[null,{"$f":"IF(C174=\"\",B173,D174)","v":"TOTAL RESTO"},null,{"$f":"IF(D173=\"\",\"\",\"Renovación\")","v":"Renovación"},{"$f":"IF(E172=\"\",\"\",(VLOOKUP(B174,'TDPrimas Vida'!$B:$N,8,0)))","v":1551394.45728},{"$f":"IF(E172=\"\",\"\",(VLOOKUP(B174,'TDPrimas Vida'!$B:$N,9,0)))","v":1647156.51113},{"$f":"IFERROR((E174/VLOOKUP(\"TOTAL\",$D$12:$L$312,2,0))*100,\"\")","v":1.8479696620346071},{"$f":"IFERROR((E174/VLOOKUP(\"TOTAL\",$D$12:$L$312,3,0))*100,\"\")","v":1.9896212089787955},{"$f":"IF(E172=\"\",\"\",E174-F174)","v":-95762.053850000026},{"$f":"IF(E172=\"\",\"\",IFERROR((E174/F174-1)*100,\"ND\"))","v":-5.8137798808386654},{"$f":"IF(E172=\"\",\"\",IFERROR((E174/VLOOKUP(B174&\"|\"&VLOOKUP(TDPrimas!$B$4,Cat!R:T,2,0),'TD Operación'!A:D,4,0))*100,\"ND\"))","v":3.1351213244093943},{"$f":"IF(E172=\"\",\"\",(VLOOKUP(B174,'TDPrimas Vida'!$B:$N,10,0)))","v":4.2085669945508695}]
[null,{"$f":"IF(C175=\"\",B174,D175)","v":"TOTAL RESTO"},null,{"$f":"IF(D174=\"\",\"\",\"Únicas\")","v":"Únicas"},{"$f":"IF(E173=\"\",\"\",(VLOOKUP(B175,'TDPrimas Vida'!$B:$N,11,0)))","v":196726.28494000001},{"$f":"IF(E173=\"\",\"\",(VLOOKUP(B175,'TDPrimas Vida'!$B:$N,12,0)))","v":144765.14149000001},{"$f":"IFERROR((E175/VLOOKUP(\"TOTAL\",$D$12:$L$312,2,0))*100,\"\")","v":0.2343338308242274},{"$f":"IFERROR((E175/VLOOKUP(\"TOTAL\",$D$12:$L$312,3,0))*100,\"\")","v":0.2522961114393017},{"$f":"IF(E172=\"\",\"\",E175-F175)","v":51961.143450000003},{"$f":"IF(E172=\"\",\"\",IFERROR((E175/F175-1)*100,\"ND\"))","v":35.893408395963419},{"$f":"IF(E172=\"\",\"\",IFERROR((E175/VLOOKUP(B175&\"|\"&VLOOKUP(TDPrimas!$B$4,Cat!R:T,2,0),'TD Operación'!A:D,4,0))*100,\"ND\"))","v":0.39755251676519171},{"$f":"IF(E172=\"\",\"\",(VLOOKUP(B175,'TDPrimas Vida'!$B:$N,13,0)))","v":0.53367197869888072}]
[null,{"$f":"IF(C176=\"\",B172,D176)","v":"TOTAL"},{"$f":"IF('TDPrimas Vida'!A48=\"\",\"\",'TDPrimas Vida'!A48)","v":151.1},{"$f":"IF('TDPrimas Vida'!B48=\"\",\"\",'TDPrimas Vida'!B48)","v":"TOTAL"},{"$f":"IF('TDPrimas Vida'!C48=\"\",\"\",'TDPrimas Vida'!C48)","v":83951294.718330011},{"$f":"IF('TDPrimas Vida'!D48=\"\",\"\",'TDPrimas Vida'!D48)","v":77974362.671590015},{"$f":"IF('TDPrimas Vida'!C48=\"\",\"\",IFERROR((E176/VLOOKUP(\"TOTAL\",$D$12:$L$312,2,0))*100,\"\"))","v":100},{"$f":"IF('TDPrimas Vida'!C48=\"\",\"\",IFERROR((E176/VLOOKUP(\"TOTAL\",$D$12:$L$312,3,0))*100,\"\"))","v":107.6652528369016},{"$f":"IF('TDPrimas Vida'!C48=\"\",\"\",E176-F176)","v":5976932.0467399955},{"$f":"IFERROR(IF('TDPrimas Vida'!C48=\"\",\"\",(E176/F176-1)*100),\"ND\")","v":7.6652528369016038},{"$f":"IF(E176=\"\",\"\",IFERROR((E176/VLOOKUP(D176&\"|\"&VLOOKUP(TDPrimas!$B$4,Cat!R:T,2,0),'TD Operación'!A:D,4,0))*100,\"ND\"))","v":38.23180434884074},{"$f":"IF('TDPrimas Vida'!E48=\"\",\"\",'TDPrimas Vida'!E48)","v":46.355708791781495}]
[null,{"$f":"IF(C177=\"\",B176,D177)","v":"TOTAL"},null,{"$f":"IF(D176=\"\",\"\",\"1er Año\")","v":"1er Año"},{"$f":"IF(E176=\"\",\"\",(VLOOKUP(B177,'TDPrimas Vida'!$B:$N,5,0)))","v":35800375.31453},{"$f":"IF(E176=\"\",\"\",(VLOOKUP(B177,'TDPrimas Vida'!$B:$N,6,0)))","v":31584970.643019997},{"$f":"IFERROR((E177/VLOOKUP(\"TOTAL\",$D$12:$L$312,2,0))*100,\"\")","v":42.644220597962153},{"$f":"IFERROR((E177/VLOOKUP(\"TOTAL\",$D$12:$L$312,3,0))*100,\"\")","v":45.913007927122024},{"$f":"IF(E176=\"\",\"\",E177-F177)","v":4215404.6715100035},{"$f":"IF(E176=\"\",\"\",IFERROR((E177/F177-1)*100,\"ND\"))","v":13.346235838409971},{"$f":"IF(E176=\"\",\"\",IFERROR((E177/VLOOKUP(B177&\"|\"&VLOOKUP(TDPrimas!$B$4,Cat!R:T,2,0),'TD Operación'!A:D,4,0))*100,\"ND\"))","v":16.303654985100934},{"$f":"IF(E176=\"\",\"\",(VLOOKUP(B177,'TDPrimas Vida'!$B:$N,7,0)))","v":19.768030716916236}]
[null,{"$f":"IF(C178=\"\",B177,D178)","v":"TOTAL"},null,{"$f":"IF(D177=\"\",\"\",\"Renovación\")","v":"Renovación"},{"$f":"IF(E176=\"\",\"\",(VLOOKUP(B178,'TDPrimas Vida'!$B:$N,8,0)))","v":38552532.416940004},{"$f":"IF(E176=\"\",\"\",(VLOOKUP(B178,'TDPrimas Vida'!$B:$N,9,0)))","v":38778823.262489989},{"$f":"IFERROR((E178/VLOOKUP(\"TOTAL\",$D$12:$L$312,2,0))*100,\"\")","v":45.922498927848466},{"$f":"IFERROR((E178/VLOOKUP(\"TOTAL\",$D$12:$L$312,3,0))*100,\"\")","v":49.442574579691474},{"$f":"IF(E176=\"\",\"\",E178-F178)","v":-226290.84554998577},{"$f":"IF(E176=\"\",\"\",IFERROR((E178/F178-1)*100,\"ND\"))","v":-0.58354232158682739},{"$f":"IF(E176=\"\",\"\",IFERROR((E178/VLOOKUP(B178&\"|\"&VLOOKUP(TDPrimas!$B$4,Cat!R:T,2,0),'TD Operación'!A:D,4,0))*100,\"ND\"))","v":17.556999942193514},{"$f":"IF(E176=\"\",\"\",(VLOOKUP(B178,'TDPrimas Vida'!$B:$N,10,0)))","v":21.287699872902415}]
[null,{"$f":"IF(C179=\"\",B178,D179)","v":"TOTAL"},null,{"$f":"IF(D178=\"\",\"\",\"Únicas\")","v":"Únicas"},{"$f":"IF(E177=\"\",\"\",(VLOOKUP(B179,'TDPrimas Vida'!$B:$N,11,0)))","v":8905240.2659200002},{"$f":"IF(E177=\"\",\"\",(VLOOKUP(B179,'TDPrimas Vida'!$B:$N,12,0)))","v":6964396.3290700009},{"$f":"IFERROR((E179/VLOOKUP(\"TOTAL\",$D$12:$L$312,2,0))*100,\"\")","v":10.607627072099962},{"$f":"IFERROR((E179/VLOOKUP(\"TOTAL\",$D$12:$L$312,3,0))*100,\"\")","v":11.420728507172047},{"$f":"IF(E176=\"\",\"\",E179-F179)","v":1940843.9368499992},{"$f":"IF(E176=\"\",\"\",IFERROR((E179/F179-1)*100,\"ND\"))","v":27.868085691056187},{"$f":"IF(E176=\"\",\"\",IFERROR((E179/VLOOKUP(B179&\"|\"&VLOOKUP(TDPrimas!$B$4,Cat!R:T,2,0),'TD Operación'!A:D,4,0))*100,\"ND\"))","v":4.0554872282599215},{"$f":"IF(E176=\"\",\"\",(VLOOKUP(B179,'TDPrimas Vida'!$B:$N,13,0)))","v":4.9172407152608368}]
[null,{"$f":"IF(C180=\"\",B176,D180)","v":"TOTAL"},{"$f":"IF('TDPrimas Vida'!A49=\"\",\"\",'TDPrimas Vida'!A49)","v":""},{"$f":"IF('TDPrimas Vida'!B49=\"\",\"\",'TDPrimas Vida'!B49)","v":""},{"$f":"IF('TDPrimas Vida'!C49=\"\",\"\",'TDPrimas Vida'!C49)","v":""},{"$f":"IF('TDPrimas Vida'!D49=\"\",\"\",'TDPrimas Vida'!D49)","v":""},{"$f":"IF('TDPrimas Vida'!C49=\"\",\"\",IFERROR((E180/VLOOKUP(\"TOTAL\",$D$12:$L$312,2,0))*100,\"\"))","v":""},{"$f":"IF('TDPrimas Vida'!C49=\"\",\"\",IFERROR((E180/VLOOKUP(\"TOTAL\",$D$12:$L$312,3,0))*100,\"\"))","v":""},{"$f":"IF('TDPrimas Vida'!C49=\"\",\"\",E180-F180)","v":""},{"$f":"IFERROR(IF('TDPrimas Vida'!C49=\"\",\"\",(E180/F180-1)*100),\"ND\")","v":""},{"$f":"IF(E180=\"\",\"\",IFERROR((E180/VLOOKUP(D180&\"|\"&VLOOKUP(TDPrimas!$B$4,Cat!R:T,2,0),'TD Operación'!A:D,4,0))*100,\"ND\"))","v":""},{"$f":"IF('TDPrimas Vida'!E49=\"\",\"\",'TDPrimas Vida'!E49)","v":""}]
[null,{"$f":"IF(C181=\"\",B180,D181)","v":"TOTAL"},null,{"$f":"IF(D180=\"\",\"\",\"1er Año\")","v":""},{"$f":"IF(E180=\"\",\"\",(VLOOKUP(B181,'TDPrimas Vida'!$B:$N,5,0)))","v":""},{"$f":"IF(E180=\"\",\"\",(VLOOKUP(B181,'TDPrimas Vida'!$B:$N,6,0)))","v":""},{"$f":"IFERROR((E181/VLOOKUP(\"TOTAL\",$D$12:$L$312,2,0))*100,\"\")","v":""},{"$f":"IFERROR((E181/VLOOKUP(\"TOTAL\",$D$12:$L$312,3,0))*100,\"\")","v":""},{"$f":"IF(E180=\"\",\"\",E181-F181)","v":""},{"$f":"IF(E180=\"\",\"\",IFERROR((E181/F181-1)*100,\"ND\"))","v":""},{"$f":"IF(E180=\"\",\"\",IFERROR((E181/VLOOKUP(B181&\"|\"&VLOOKUP(TDPrimas!$B$4,Cat!R:T,2,0),'TD Operación'!A:D,4,0))*100,\"ND\"))","v":""},{"$f":"IF(E180=\"\",\"\",(VLOOKUP(B181,'TDPrimas Vida'!$B:$N,7,0)))","v":""}]
[null,"TOTAL",null,{"$f":"IF(D181=\"\",\"\",\"Renovación\")","v":""},{"$f":"IF(E180=\"\",\"\",(VLOOKUP(B182,'TDPrimas Vida'!$B:$N,8,0)))","v":""},{"$f":"IF(E180=\"\",\"\",(VLOOKUP(B182,'TDPrimas Vida'!$B:$N,9,0)))","v":""},{"$f":"IFERROR((E182/VLOOKUP(\"TOTAL\",$D$12:$L$312,2,0))*100,\"\")","v":""},{"$f":"IFERROR((E182/VLOOKUP(\"TOTAL\",$D$12:$L$312,3,0))*100,\"\")","v":""},{"$f":"IF(E180=\"\",\"\",E182-F182)","v":""},{"$f":"IF(E180=\"\",\"\",IFERROR((E182/F182-1)*100,\"ND\"))","v":""},{"$f":"IF(E180=\"\",\"\",IFERROR((E182/VLOOKUP(B182&\"|\"&VLOOKUP(TDPrimas!$B$4,Cat!R:T,2,0),'TD Operación'!A:D,4,0))*100,\"ND\"))","v":""},{"$f":"IF(E180=\"\",\"\",(VLOOKUP(B182,'TDPrimas Vida'!$B:$N,10,0)))","v":""}]
[null,"TOTAL",null,{"$f":"IF(D182=\"\",\"\",\"Únicas\")","v":""},{"$f":"IF(E181=\"\",\"\",(VLOOKUP(B183,'TDPrimas Vida'!$B:$N,11,0)))","v":""},{"$f":"IF(E181=\"\",\"\",(VLOOKUP(B183,'TDPrimas Vida'!$B:$N,12,0)))","v":""},{"$f":"IFERROR((E183/VLOOKUP(\"TOTAL\",$D$12:$L$312,2,0))*100,\"\")","v":""},{"$f":"IFERROR((E183/VLOOKUP(\"TOTAL\",$D$12:$L$312,3,0))*100,\"\")","v":""},{"$f":"IF(E180=\"\",\"\",E183-F183)","v":""},{"$f":"IF(E180=\"\",\"\",IFERROR((E183/F183-1)*100,\"ND\"))","v":""},{"$f":"IF(E180=\"\",\"\",IFERROR((E183/VLOOKUP(B183&\"|\"&VLOOKUP(TDPrimas!$B$4,Cat!R:T,2,0),'TD Operación'!A:D,4,0))*100,\"ND\"))","v":""},{"$f":"IF(E180=\"\",\"\",(VLOOKUP(B183,'TDPrimas Vida'!$B:$N,13,0)))","v":""}]
[null,"TOTAL",{"$f":"IF('TDPrimas Vida'!A51=\"\",\"\",'TDPrimas Vida'!A51)","v":""},{"$f":"IF('TDPrimas Vida'!B51=\"\",\"\",'TDPrimas Vida'!B51)","v":""},{"$f":"IF('TDPrimas Vida'!C51=\"\",\"\",'TDPrimas Vida'!C51)","v":""},{"$f":"IF('TDPrimas Vida'!D51=\"\",\"\",'TDPrimas Vida'!D51)","v":""},{"$f":"IF('TDPrimas Vida'!C51=\"\",\"\",IFERROR((E184/VLOOKUP(\"TOTAL\",$D$12:$L$312,2,0))*100,\"\"))","v":""},{"$f":"IF('TDPrimas Vida'!C51=\"\",\"\",IFERROR((E184/VLOOKUP(\"TOTAL\",$D$12:$L$312,3,0))*100,\"\"))","v":""},{"$f":"IF('TDPrimas Vida'!C51=\"\",\"\",E184-F184)","v":""},{"$f":"IFERROR(IF('TDPrimas Vida'!C51=\"\",\"\",(E184/F184-1)*100),\"ND\")","v":""},{"$f":"IF(E184=\"\",\"\",IFERROR((E184/VLOOKUP(D184&\"|\"&VLOOKUP(TDPrimas!$B$4,Cat!R:T,2,0),'TD Operación'!A:D,4,0))*100,\"ND\"))","v":""},{"$f":"IF('TDPrimas Vida'!E51=\"\",\"\",'TDPrimas Vida'!E51)","v":""}]
[null,"TOTAL",null,{"$f":"IF(D184=\"\",\"\",\"1er Año\")","v":""},{"$f":"IF(E184=\"\",\"\",(VLOOKUP(B185,'TDPrimas Vida'!$B:$N,5,0)))","v":""},{"$f":"IF(E184=\"\",\"\",(VLOOKUP(B185,'TDPrimas Vida'!$B:$N,6,0)))","v":""},{"$f":"IFERROR((E185/VLOOKUP(\"TOTAL\",$D$12:$L$312,2,0))*100,\"\")","v":""},{"$f":"IFERROR((E185/VLOOKUP(\"TOTAL\",$D$12:$L$312,3,0))*100,\"\")","v":""},{"$f":"IF(E184=\"\",\"\",E185-F185)","v":""},{"$f":"IF(E184=\"\",\"\",IFERROR((E185/F185-1)*100,\"ND\"))","v":""},{"$f":"IF(E184=\"\",\"\",IFERROR((E185/VLOOKUP(B185&\"|\"&VLOOKUP(TDPrimas!$B$4,Cat!R:T,2,0),'TD Operación'!A:D,4,0))*100,\"ND\"))","v":""},{"$f":"IF(E184=\"\",\"\",(VLOOKUP(B185,'TDPrimas Vida'!$B:$N,7,0)))","v":""}]
[null,"TOTAL",null,{"$f":"IF(D185=\"\",\"\",\"Renovación\")","v":""},{"$f":"IF(E184=\"\",\"\",(VLOOKUP(B186,'TDPrimas Vida'!$B:$N,8,0)))","v":""},{"$f":"IF(E184=\"\",\"\",(VLOOKUP(B186,'TDPrimas Vida'!$B:$N,9,0)))","v":""},{"$f":"IFERROR((E186/VLOOKUP(\"TOTAL\",$D$12:$L$312,2,0))*100,\"\")","v":""},{"$f":"IFERROR((E186/VLOOKUP(\"TOTAL\",$D$12:$L$312,3,0))*100,\"\")","v":""},{"$f":"IF(E184=\"\",\"\",E186-F186)","v":""},{"$f":"IF(E184=\"\",\"\",IFERROR((E186/F186-1)*100,\"ND\"))","v":""},{"$f":"IF(E184=\"\",\"\",IFERROR((E186/VLOOKUP(B186&\"|\"&VLOOKUP(TDPrimas!$B$4,Cat!R:T,2,0),'TD Operación'!A:D,4,0))*100,\"ND\"))","v":""},{"$f":"IF(E184=\"\",\"\",(VLOOKUP(B186,'TDPrimas Vida'!$B:$N,10,0)))","v":""}]
[null,"TOTAL",null,{"$f":"IF(D186=\"\",\"\",\"Únicas\")","v":""},{"$f":"IF(E185=\"\",\"\",(VLOOKUP(B187,'TDPrimas Vida'!$B:$N,11,0)))","v":""},{"$f":"IF(E185=\"\",\"\",(VLOOKUP(B187,'TDPrimas Vida'!$B:$N,12,0)))","v":""},{"$f":"IFERROR((E187/VLOOKUP(\"TOTAL\",$D$12:$L$312,2,0))*100,\"\")","v":""},{"$f":"IFERROR((E187/VLOOKUP(\"TOTAL\",$D$12:$L$312,3,0))*100,\"\")","v":""},{"$f":"IF(E184=\"\",\"\",E187-F187)","v":""},{"$f":"IF(E184=\"\",\"\",IFERROR((E187/F187-1)*100,\"ND\"))","v":""},{"$f":"IF(E184=\"\",\"\",IFERROR((E187/VLOOKUP(B187&\"|\"&VLOOKUP(TDPrimas!$B$4,Cat!R:T,2,0),'TD Operación'!A:D,4,0))*100,\"ND\"))","v":""},{"$f":"IF(E184=\"\",\"\",(VLOOKUP(B187,'TDPrimas Vida'!$B:$N,13,0)))","v":""}]
[null,{"$f":"IF(C188=\"\",B184,D188)","v":"TOTAL"},{"$f":"IF('TDPrimas Vida'!A52=\"\",\"\",'TDPrimas Vida'!A52)","v":""},{"$f":"IF('TDPrimas Vida'!B52=\"\",\"\",'TDPrimas Vida'!B52)","v":""},{"$f":"IF('TDPrimas Vida'!C52=\"\",\"\",'TDPrimas Vida'!C52)","v":""},{"$f":"IF('TDPrimas Vida'!D52=\"\",\"\",'TDPrimas Vida'!D52)","v":""},{"$f":"IF('TDPrimas Vida'!C52=\"\",\"\",IFERROR((E188/VLOOKUP(\"TOTAL\",$D$12:$L$312,2,0))*100,\"\"))","v":""},{"$f":"IF('TDPrimas Vida'!C52=\"\",\"\",IFERROR((E188/VLOOKUP(\"TOTAL\",$D$12:$L$312,3,0))*100,\"\"))","v":""},{"$f":"IF('TDPrimas Vida'!C52=\"\",\"\",E188-F188)","v":""},{"$f":"IFERROR(IF('TDPrimas Vida'!C52=\"\",\"\",(E188/F188-1)*100),\"ND\")","v":""},{"$f":"IF(E188=\"\",\"\",IFERROR((E188/VLOOKUP(D188&\"|\"&VLOOKUP(TDPrimas!$B$4,Cat!R:T,2,0),'TD Operación'!A:D,4,0))*100,\"ND\"))","v":""},{"$f":"IF('TDPrimas Vida'!E52=\"\",\"\",'TDPrimas Vida'!E52)","v":""}]
[null,{"$f":"IF(C189=\"\",B188,D189)","v":"TOTAL"},null,{"$f":"IF(D188=\"\",\"\",\"1er Año\")","v":""},{"$f":"IF(E188=\"\",\"\",(VLOOKUP(B189,'TDPrimas Vida'!$B:$N,5,0)))","v":""},{"$f":"IF(E188=\"\",\"\",(VLOOKUP(B189,'TDPrimas Vida'!$B:$N,6,0)))","v":""},{"$f":"IFERROR((E189/VLOOKUP(\"TOTAL\",$D$12:$L$312,2,0))*100,\"\")","v":""},{"$f":"IFERROR((E189/VLOOKUP(\"TOTAL\",$D$12:$L$312,3,0))*100,\"\")","v":""},{"$f":"IF(E188=\"\",\"\",E189-F189)","v":""},{"$f":"IF(E188=\"\",\"\",IFERROR((E189/F189-1)*100,\"ND\"))","v":""},{"$f":"IF(E188=\"\",\"\",IFERROR((E189/VLOOKUP(B189&\"|\"&VLOOKUP(TDPrimas!$B$4,Cat!R:T,2,0),'TD Operación'!A:D,4,0))*100,\"ND\"))","v":""},{"$f":"IF(E188=\"\",\"\",(VLOOKUP(B189,'TDPrimas Vida'!$B:$N,7,0)))","v":""}]
[null,{"$f":"IF(C190=\"\",B189,D190)","v":"TOTAL"},null,{"$f":"IF(D189=\"\",\"\",\"Renovación\")","v":""},{"$f":"IF(E188=\"\",\"\",(VLOOKUP(B190,'TDPrimas Vida'!$B:$N,8,0)))","v":""},{"$f":"IF(E188=\"\",\"\",(VLOOKUP(B190,'TDPrimas Vida'!$B:$N,9,0)))","v":""},{"$f":"IFERROR((E190/VLOOKUP(\"TOTAL\",$D$12:$L$312,2,0))*100,\"\")","v":""},{"$f":"IFERROR((E190/VLOOKUP(\"TOTAL\",$D$12:$L$312,3,0))*100,\"\")","v":""},{"$f":"IF(E188=\"\",\"\",E190-F190)","v":""},{"$f":"IF(E188=\"\",\"\",IFERROR((E190/F190-1)*100,\"ND\"))","v":""},{"$f":"IF(E188=\"\",\"\",IFERROR((E190/VLOOKUP(B190&\"|\"&VLOOKUP(TDPrimas!$B$4,Cat!R:T,2,0),'TD Operación'!A:D,4,0))*100,\"ND\"))","v":""},{"$f":"IF(E188=\"\",\"\",(VLOOKUP(B190,'TDPrimas Vida'!$B:$N,10,0)))","v":""}]
[null,{"$f":"IF(C191=\"\",B190,D191)","v":"TOTAL"},null,{"$f":"IF(D190=\"\",\"\",\"Únicas\")","v":""},{"$f":"IF(E189=\"\",\"\",(VLOOKUP(B191,'TDPrimas Vida'!$B:$N,11,0)))","v":""},{"$f":"IF(E189=\"\",\"\",(VLOOKUP(B191,'TDPrimas Vida'!$B:$N,12,0)))","v":""},{"$f":"IFERROR((E191/VLOOKUP(\"TOTAL\",$D$12:$L$312,2,0))*100,\"\")","v":""},{"$f":"IFERROR((E191/VLOOKUP(\"TOTAL\",$D$12:$L$312,3,0))*100,\"\")","v":""},{"$f":"IF(E188=\"\",\"\",E191-F191)","v":""},{"$f":"IF(E188=\"\",\"\",IFERROR((E191/F191-1)*100,\"ND\"))","v":""},{"$f":"IF(E188=\"\",\"\",IFERROR((E191/VLOOKUP(B191&\"|\"&VLOOKUP(TDPrimas!$B$4,Cat!R:T,2,0),'TD Operación'!A:D,4,0))*100,\"ND\"))","v":""},{"$f":"IF(E188=\"\",\"\",(VLOOKUP(B191,'TDPrimas Vida'!$B:$N,13,0)))","v":""}]
[null,{"$f":"IF(C192=\"\",B188,D192)","v":"TOTAL"},{"$f":"IF('TDPrimas Vida'!A53=\"\",\"\",'TDPrimas Vida'!A53)","v":""},{"$f":"IF('TDPrimas Vida'!B53=\"\",\"\",'TDPrimas Vida'!B53)","v":""},{"$f":"IF('TDPrimas Vida'!C53=\"\",\"\",'TDPrimas Vida'!C53)","v":""},{"$f":"IF('TDPrimas Vida'!D53=\"\",\"\",'TDPrimas Vida'!D53)","v":""},{"$f":"IF('TDPrimas Vida'!C53=\"\",\"\",IFERROR((E192/VLOOKUP(\"TOTAL\",$D$12:$L$312,2,0))*100,\"\"))","v":""},{"$f":"IF('TDPrimas Vida'!C53=\"\",\"\",IFERROR((E192/VLOOKUP(\"TOTAL\",$D$12:$L$312,3,0))*100,\"\"))","v":""},{"$f":"IF('TDPrimas Vida'!C53=\"\",\"\",E192-F192)","v":""},{"$f":"IFERROR(IF('TDPrimas Vida'!C53=\"\",\"\",(E192/F192-1)*100),\"ND\")","v":""},{"$f":"IF(E192=\"\",\"\",IFERROR((E192/VLOOKUP(D192&\"|\"&VLOOKUP(TDPrimas!$B$4,Cat!R:T,2,0),'TD Operación'!A:D,4,0))*100,\"ND\"))","v":""},{"$f":"IF('TDPrimas Vida'!E53=\"\",\"\",'TDPrimas Vida'!E53)","v":""}]
[null,{"$f":"IF(C193=\"\",B192,D193)","v":"TOTAL"},null,{"$f":"IF(D192=\"\",\"\",\"1er Año\")","v":""},{"$f":"IF(E192=\"\",\"\",(VLOOKUP(B193,'TDPrimas Vida'!$B:$N,5,0)))","v":""},{"$f":"IF(E192=\"\",\"\",(VLOOKUP(B193,'TDPrimas Vida'!$B:$N,6,0)))","v":""},{"$f":"IFERROR((E193/VLOOKUP(\"TOTAL\",$D$12:$L$312,2,0))*100,\"\")","v":""},{"$f":"IFERROR((E193/VLOOKUP(\"TOTAL\",$D$12:$L$312,3,0))*100,\"\")","v":""},{"$f":"IF(E192=\"\",\"\",E193-F193)","v":""},{"$f":"IF(E192=\"\",\"\",IFERROR((E193/F193-1)*100,\"ND\"))","v":""},{"$f":"IF(E192=\"\",\"\",IFERROR((E193/VLOOKUP(B193&\"|\"&VLOOKUP(TDPrimas!$B$4,Cat!R:T,2,0),'TD Operación'!A:D,4,0))*100,\"ND\"))","v":""},{"$f":"IF(E192=\"\",\"\",(VLOOKUP(B193,'TDPrimas Vida'!$B:$N,7,0)))","v":""}]
[null,{"$f":"IF(C194=\"\",B193,D194)","v":"TOTAL"},null,{"$f":"IF(D193=\"\",\"\",\"Renovación\")","v":""},{"$f":"IF(E192=\"\",\"\",(VLOOKUP(B194,'TDPrimas Vida'!$B:$N,8,0)))","v":""},{"$f":"IF(E192=\"\",\"\",(VLOOKUP(B194,'TDPrimas Vida'!$B:$N,9,0)))","v":""},{"$f":"IFERROR((E194/VLOOKUP(\"TOTAL\",$D$12:$L$312,2,0))*100,\"\")","v":""},{"$f":"IFERROR((E194/VLOOKUP(\"TOTAL\",$D$12:$L$312,3,0))*100,\"\")","v":""},{"$f":"IF(E192=\"\",\"\",E194-F194)","v":""},{"$f":"IF(E192=\"\",\"\",IFERROR((E194/F194-1)*100,\"ND\"))","v":""},{"$f":"IF(E192=\"\",\"\",IFERROR((E194/VLOOKUP(B194&\"|\"&VLOOKUP(TDPrimas!$B$4,Cat!R:T,2,0),'TD Operación'!A:D,4,0))*100,\"ND\"))","v":""},{"$f":"IF(E192=\"\",\"\",(VLOOKUP(B194,'TDPrimas Vida'!$B:$N,10,0)))","v":""}]
[null,{"$f":"IF(C195=\"\",B194,D195)","v":"TOTAL"},null,{"$f":"IF(D194=\"\",\"\",\"Únicas\")","v":""},{"$f":"IF(E193=\"\",\"\",(VLOOKUP(B195,'TDPrimas Vida'!$B:$N,11,0)))","v":""},{"$f":"IF(E193=\"\",\"\",(VLOOKUP(B195,'TDPrimas Vida'!$B:$N,12,0)))","v":""},{"$f":"IFERROR((E195/VLOOKUP(\"TOTAL\",$D$12:$L$312,2,0))*100,\"\")","v":""},{"$f":"IFERROR((E195/VLOOKUP(\"TOTAL\",$D$12:$L$312,3,0))*100,\"\")","v":""},{"$f":"IF(E192=\"\",\"\",E195-F195)","v":""},{"$f":"IF(E192=\"\",\"\",IFERROR((E195/F195-1)*100,\"ND\"))","v":""},{"$f":"IF(E192=\"\",\"\",IFERROR((E195/VLOOKUP(B195&\"|\"&VLOOKUP(TDPrimas!$B$4,Cat!R:T,2,0),'TD Operación'!A:D,4,0))*100,\"ND\"))","v":""},{"$f":"IF(E192=\"\",\"\",(VLOOKUP(B195,'TDPrimas Vida'!$B:$N,13,0)))","v":""}]
[null,{"$f":"IF(C196=\"\",B192,D196)","v":"TOTAL"},{"$f":"IF('TDPrimas Vida'!A54=\"\",\"\",'TDPrimas Vida'!A54)","v":""},{"$f":"IF('TDPrimas Vida'!B54=\"\",\"\",'TDPrimas Vida'!B54)","v":""},{"$f":"IF('TDPrimas Vida'!C54=\"\",\"\",'TDPrimas Vida'!C54)","v":""},{"$f":"IF('TDPrimas Vida'!D54=\"\",\"\",'TDPrimas Vida'!D54)","v":""},{"$f":"IF('TDPrimas Vida'!C54=\"\",\"\",IFERROR((E196/VLOOKUP(\"TOTAL\",$D$12:$L$312,2,0))*100,\"\"))","v":""},{"$f":"IF('TDPrimas Vida'!C54=\"\",\"\",IFERROR((E196/VLOOKUP(\"TOTAL\",$D$12:$L$312,3,0))*100,\"\"))","v":""},{"$f":"IF('TDPrimas Vida'!C54=\"\",\"\",E196-F196)","v":""},{"$f":"IFERROR(IF('TDPrimas Vida'!C54=\"\",\"\",(E196/F196-1)*100),\"ND\")","v":""},{"$f":"IF(E196=\"\",\"\",IFERROR((E196/VLOOKUP(D196&\"|\"&VLOOKUP(TDPrimas!$B$4,Cat!R:T,2,0),'TD Operación'!A:D,4,0))*100,\"ND\"))","v":""},{"$f":"IF('TDPrimas Vida'!E54=\"\",\"\",'TDPrimas Vida'!E54)","v":""}]
[null,{"$f":"IF(C197=\"\",B196,D197)","v":"TOTAL"},null,{"$f":"IF(D196=\"\",\"\",\"1er Año\")","v":""},{"$f":"IF(E196=\"\",\"\",(VLOOKUP(B197,'TDPrimas Vida'!$B:$N,5,0)))","v":""},{"$f":"IF(E196=\"\",\"\",(VLOOKUP(B197,'TDPrimas Vida'!$B:$N,6,0)))","v":""},{"$f":"IFERROR((E197/VLOOKUP(\"TOTAL\",$D$12:$L$312,2,0))*100,\"\")","v":""},{"$f":"IFERROR((E197/VLOOKUP(\"TOTAL\",$D$12:$L$312,3,0))*100,\"\")","v":""},{"$f":"IF(E196=\"\",\"\",E197-F197)","v":""},{"$f":"IF(E196=\"\",\"\",IFERROR((E197/F197-1)*100,\"ND\"))","v":""},{"$f":"IF(E196=\"\",\"\",IFERROR((E197/VLOOKUP(B197&\"|\"&VLOOKUP(TDPrimas!$B$4,Cat!R:T,2,0),'TD Operación'!A:D,4,0))*100,\"ND\"))","v":""},{"$f":"IF(E196=\"\",\"\",(VLOOKUP(B197,'TDPrimas Vida'!$B:$N,7,0)))","v":""}]
[null,{"$f":"IF(C198=\"\",B197,D198)","v":"TOTAL"},null,{"$f":"IF(D197=\"\",\"\",\"Renovación\")","v":""},{"$f":"IF(E196=\"\",\"\",(VLOOKUP(B198,'TDPrimas Vida'!$B:$N,8,0)))","v":""},{"$f":"IF(E196=\"\",\"\",(VLOOKUP(B198,'TDPrimas Vida'!$B:$N,9,0)))","v":""},{"$f":"IFERROR((E198/VLOOKUP(\"TOTAL\",$D$12:$L$312,2,0))*100,\"\")","v":""},{"$f":"IFERROR((E198/VLOOKUP(\"TOTAL\",$D$12:$L$312,3,0))*100,\"\")","v":""},{"$f":"IF(E196=\"\",\"\",E198-F198)","v":""},{"$f":"IF(E196=\"\",\"\",IFERROR((E198/F198-1)*100,\"ND\"))","v":""},{"$f":"IF(E196=\"\",\"\",IFERROR((E198/VLOOKUP(B198&\"|\"&VLOOKUP(TDPrimas!$B$4,Cat!R:T,2,0),'TD Operación'!A:D,4,0))*100,\"ND\"))","v":""},{"$f":"IF(E196=\"\",\"\",(VLOOKUP(B198,'TDPrimas Vida'!$B:$N,10,0)))","v":""}]
[null,{"$f":"IF(C199=\"\",B198,D199)","v":"TOTAL"},null,{"$f":"IF(D198=\"\",\"\",\"Únicas\")","v":""},{"$f":"IF(E197=\"\",\"\",(VLOOKUP(B199,'TDPrimas Vida'!$B:$N,11,0)))","v":""},{"$f":"IF(E197=\"\",\"\",(VLOOKUP(B199,'TDPrimas Vida'!$B:$N,12,0)))","v":""},{"$f":"IFERROR((E199/VLOOKUP(\"TOTAL\",$D$12:$L$312,2,0))*100,\"\")","v":""},{"$f":"IFERROR((E199/VLOOKUP(\"TOTAL\",$D$12:$L$312,3,0))*100,\"\")","v":""},{"$f":"IF(E196=\"\",\"\",E199-F199)","v":""},{"$f":"IF(E196=\"\",\"\",IFERROR((E199/F199-1)*100,\"ND\"))","v":""},{"$f":"IF(E196=\"\",\"\",IFERROR((E199/VLOOKUP(B199&\"|\"&VLOOKUP(TDPrimas!$B$4,Cat!R:T,2,0),'TD Operación'!A:D,4,0))*100,\"ND\"))","v":""},{"$f":"IF(E196=\"\",\"\",(VLOOKUP(B199,'TDPrimas Vida'!$B:$N,13,0)))","v":""}]
[null,{"$f":"IF(C200=\"\",B196,D200)","v":"TOTAL"},{"$f":"IF('TDPrimas Vida'!A55=\"\",\"\",'TDPrimas Vida'!A55)","v":""},{"$f":"IF('TDPrimas Vida'!B55=\"\",\"\",'TDPrimas Vida'!B55)","v":""},{"$f":"IF('TDPrimas Vida'!C55=\"\",\"\",'TDPrimas Vida'!C55)","v":""},{"$f":"IF('TDPrimas Vida'!D55=\"\",\"\",'TDPrimas Vida'!D55)","v":""},{"$f":"IF('TDPrimas Vida'!C55=\"\",\"\",IFERROR((E200/VLOOKUP(\"TOTAL\",$D$12:$L$312,2,0))*100,\"\"))","v":""},{"$f":"IF('TDPrimas Vida'!C55=\"\",\"\",IFERROR((E200/VLOOKUP(\"TOTAL\",$D$12:$L$312,3,0))*100,\"\"))","v":""},{"$f":"IF('TDPrimas Vida'!C55=\"\",\"\",E200-F200)","v":""},{"$f":"IFERROR(IF('TDPrimas Vida'!C55=\"\",\"\",(E200/F200-1)*100),\"ND\")","v":""},{"$f":"IF(E200=\"\",\"\",IFERROR((E200/VLOOKUP(D200&\"|\"&VLOOKUP(TDPrimas!$B$4,Cat!R:T,2,0),'TD Operación'!A:D,4,0))*100,\"ND\"))","v":""},{"$f":"IF('TDPrimas Vida'!E55=\"\",\"\",'TDPrimas Vida'!E55)","v":""}]
[null,{"$f":"IF(C201=\"\",B200,D201)","v":"TOTAL"},null,{"$f":"IF(D200=\"\",\"\",\"1er Año\")","v":""},{"$f":"IF(E200=\"\",\"\",(VLOOKUP(B201,'TDPrimas Vida'!$B:$N,5,0)))","v":""},{"$f":"IF(E200=\"\",\"\",(VLOOKUP(B201,'TDPrimas Vida'!$B:$N,6,0)))","v":""},{"$f":"IFERROR((E201/VLOOKUP(\"TOTAL\",$D$12:$L$312,2,0))*100,\"\")","v":""},{"$f":"IFERROR((E201/VLOOKUP(\"TOTAL\",$D$12:$L$312,3,0))*100,\"\")","v":""},{"$f":"IF(E200=\"\",\"\",E201-F201)","v":""},{"$f":"IF(E200=\"\",\"\",IFERROR((E201/F201-1)*100,\"ND\"))","v":""},{"$f":"IF(E200=\"\",\"\",IFERROR((E201/VLOOKUP(B201&\"|\"&VLOOKUP(TDPrimas!$B$4,Cat!R:T,2,0),'TD Operación'!A:D,4,0))*100,\"ND\"))","v":""},{"$f":"IF(E200=\"\",\"\",(VLOOKUP(B201,'TDPrimas Vida'!$B:$N,7,0)))","v":""}]
[null,{"$f":"IF(C202=\"\",B201,D202)","v":"TOTAL"},null,{"$f":"IF(D201=\"\",\"\",\"Renovación\")","v":""},{"$f":"IF(E200=\"\",\"\",(VLOOKUP(B202,'TDPrimas Vida'!$B:$N,8,0)))","v":""},{"$f":"IF(E200=\"\",\"\",(VLOOKUP(B202,'TDPrimas Vida'!$B:$N,9,0)))","v":""},{"$f":"IFERROR((E202/VLOOKUP(\"TOTAL\",$D$12:$L$312,2,0))*100,\"\")","v":""},{"$f":"IFERROR((E202/VLOOKUP(\"TOTAL\",$D$12:$L$312,3,0))*100,\"\")","v":""},{"$f":"IF(E200=\"\",\"\",E202-F202)","v":""},{"$f":"IF(E200=\"\",\"\",IFERROR((E202/F202-1)*100,\"ND\"))","v":""},{"$f":"IF(E200=\"\",\"\",IFERROR((E202/VLOOKUP(B202&\"|\"&VLOOKUP(TDPrimas!$B$4,Cat!R:T,2,0),'TD Operación'!A:D,4,0))*100,\"ND\"))","v":""},{"$f":"IF(E200=\"\",\"\",(VLOOKUP(B202,'TDPrimas Vida'!$B:$N,10,0)))","v":""}]
[null,{"$f":"IF(C203=\"\",B202,D203)","v":"TOTAL"},null,{"$f":"IF(D202=\"\",\"\",\"Únicas\")","v":""},{"$f":"IF(E201=\"\",\"\",(VLOOKUP(B203,'TDPrimas Vida'!$B:$N,11,0)))","v":""},{"$f":"IF(E201=\"\",\"\",(VLOOKUP(B203,'TDPrimas Vida'!$B:$N,12,0)))","v":""},{"$f":"IFERROR((E203/VLOOKUP(\"TOTAL\",$D$12:$L$312,2,0))*100,\"\")","v":""},{"$f":"IFERROR((E203/VLOOKUP(\"TOTAL\",$D$12:$L$312,3,0))*100,\"\")","v":""},{"$f":"IF(E200=\"\",\"\",E203-F203)","v":""},{"$f":"IF(E200=\"\",\"\",IFERROR((E203/F203-1)*100,\"ND\"))","v":""},{"$f":"IF(E200=\"\",\"\",IFERROR((E203/VLOOKUP(B203&\"|\"&VLOOKUP(TDPrimas!$B$4,Cat!R:T,2,0),'TD Operación'!A:D,4,0))*100,\"ND\"))","v":""},{"$f":"IF(E200=\"\",\"\",(VLOOKUP(B203,'TDPrimas Vida'!$B:$N,13,0)))","v":""}]
[null,{"$f":"IF(C204=\"\",B200,D204)","v":"TOTAL"},{"$f":"IF('TDPrimas Vida'!A56=\"\",\"\",'TDPrimas Vida'!A56)","v":""},{"$f":"IF('TDPrimas Vida'!B56=\"\",\"\",'TDPrimas Vida'!B56)","v":""},{"$f":"IF('TDPrimas Vida'!C56=\"\",\"\",'TDPrimas Vida'!C56)","v":""},{"$f":"IF('TDPrimas Vida'!D56=\"\",\"\",'TDPrimas Vida'!D56)","v":""},{"$f":"IF('TDPrimas Vida'!C56=\"\",\"\",IFERROR((E204/VLOOKUP(\"TOTAL\",$D$12:$L$312,2,0))*100,\"\"))","v":""},{"$f":"IF('TDPrimas Vida'!C56=\"\",\"\",IFERROR((E204/VLOOKUP(\"TOTAL\",$D$12:$L$312,3,0))*100,\"\"))","v":""},{"$f":"IF('TDPrimas Vida'!C56=\"\",\"\",E204-F204)","v":""},{"$f":"IFERROR(IF('TDPrimas Vida'!C56=\"\",\"\",(E204/F204-1)*100),\"ND\")","v":""},{"$f":"IF(E204=\"\",\"\",IFERROR((E204/VLOOKUP(D204&\"|\"&VLOOKUP(TDPrimas!$B$4,Cat!R:T,2,0),'TD Operación'!A:D,4,0))*100,\"ND\"))","v":""},{"$f":"IF('TDPrimas Vida'!E56=\"\",\"\",'TDPrimas Vida'!E56)","v":""}]
[null,{"$f":"IF(C205=\"\",B204,D205)","v":"TOTAL"},null,{"$f":"IF(D204=\"\",\"\",\"1er Año\")","v":""},{"$f":"IF(E204=\"\",\"\",(VLOOKUP(B205,'TDPrimas Vida'!$B:$N,5,0)))","v":""},{"$f":"IF(E204=\"\",\"\",(VLOOKUP(B205,'TDPrimas Vida'!$B:$N,6,0)))","v":""},{"$f":"IFERROR((E205/VLOOKUP(\"TOTAL\",$D$12:$L$312,2,0))*100,\"\")","v":""},{"$f":"IFERROR((E205/VLOOKUP(\"TOTAL\",$D$12:$L$312,3,0))*100,\"\")","v":""},{"$f":"IF(E204=\"\",\"\",E205-F205)","v":""},{"$f":"IF(E204=\"\",\"\",IFERROR((E205/F205-1)*100,\"ND\"))","v":""},{"$f":"IF(E204=\"\",\"\",IFERROR((E205/VLOOKUP(B205&\"|\"&VLOOKUP(TDPrimas!$B$4,Cat!R:T,2,0),'TD Operación'!A:D,4,0))*100,\"ND\"))","v":""},{"$f":"IF(E204=\"\",\"\",(VLOOKUP(B205,'TDPrimas Vida'!$B:$N,7,0)))","v":""}]
[null,{"$f":"IF(C206=\"\",B205,D206)","v":"TOTAL"},null,{"$f":"IF(D205=\"\",\"\",\"Renovación\")","v":""},{"$f":"IF(E204=\"\",\"\",(VLOOKUP(B206,'TDPrimas Vida'!$B:$N,8,0)))","v":""},{"$f":"IF(E204=\"\",\"\",(VLOOKUP(B206,'TDPrimas Vida'!$B:$N,9,0)))","v":""},{"$f":"IFERROR((E206/VLOOKUP(\"TOTAL\",$D$12:$L$312,2,0))*100,\"\")","v":""},{"$f":"IFERROR((E206/VLOOKUP(\"TOTAL\",$D$12:$L$312,3,0))*100,\"\")","v":""},{"$f":"IF(E204=\"\",\"\",E206-F206)","v":""},{"$f":"IF(E204=\"\",\"\",IFERROR((E206/F206-1)*100,\"ND\"))","v":""},{"$f":"IF(E204=\"\",\"\",IFERROR((E206/VLOOKUP(B206&\"|\"&VLOOKUP(TDPrimas!$B$4,Cat!R:T,2,0),'TD Operación'!A:D,4,0))*100,\"ND\"))","v":""},{"$f":"IF(E204=\"\",\"\",(VLOOKUP(B206,'TDPrimas Vida'!$B:$N,10,0)))","v":""}]
[null,{"$f":"IF(C207=\"\",B206,D207)","v":"TOTAL"},null,{"$f":"IF(D206=\"\",\"\",\"Únicas\")","v":""},{"$f":"IF(E205=\"\",\"\",(VLOOKUP(B207,'TDPrimas Vida'!$B:$N,11,0)))","v":""},{"$f":"IF(E205=\"\",\"\",(VLOOKUP(B207,'TDPrimas Vida'!$B:$N,12,0)))","v":""},{"$f":"IFERROR((E207/VLOOKUP(\"TOTAL\",$D$12:$L$312,2,0))*100,\"\")","v":""},{"$f":"IFERROR((E207/VLOOKUP(\"TOTAL\",$D$12:$L$312,3,0))*100,\"\")","v":""},{"$f":"IF(E204=\"\",\"\",E207-F207)","v":""},{"$f":"IF(E204=\"\",\"\",IFERROR((E207/F207-1)*100,\"ND\"))","v":""},{"$f":"IF(E204=\"\",\"\",IFERROR((E207/VLOOKUP(B207&\"|\"&VLOOKUP(TDPrimas!$B$4,Cat!R:T,2,0),'TD Operación'!A:D,4,0))*100,\"ND\"))","v":""},{"$f":"IF(E204=\"\",\"\",(VLOOKUP(B207,'TDPrimas Vida'!$B:$N,13,0)))","v":""}]
[null,{"$f":"IF(C208=\"\",B204,D208)","v":"TOTAL"},{"$f":"IF('TDPrimas Vida'!A57=\"\",\"\",'TDPrimas Vida'!A57)","v":""},{"$f":"IF('TDPrimas Vida'!B57=\"\",\"\",'TDPrimas Vida'!B57)","v":""},{"$f":"IF('TDPrimas Vida'!C57=\"\",\"\",'TDPrimas Vida'!C57)","v":""},{"$f":"IF('TDPrimas Vida'!D57=\"\",\"\",'TDPrimas Vida'!D57)","v":""},{"$f":"IF('TDPrimas Vida'!C57=\"\",\"\",IFERROR((E208/VLOOKUP(\"TOTAL\",$D$12:$L$312,2,0))*100,\"\"))","v":""},{"$f":"IF('TDPrimas Vida'!C57=\"\",\"\",IFERROR((E208/VLOOKUP(\"TOTAL\",$D$12:$L$312,3,0))*100,\"\"))","v":""},{"$f":"IF('TDPrimas Vida'!C57=\"\",\"\",E208-F208)","v":""},{"$f":"IFERROR(IF('TDPrimas Vida'!C57=\"\",\"\",(E208/F208-1)*100),\"ND\")","v":""},{"$f":"IF(E208=\"\",\"\",IFERROR((E208/VLOOKUP(D208&\"|\"&VLOOKUP(TDPrimas!$B$4,Cat!R:T,2,0),'TD Operación'!A:D,4,0))*100,\"ND\"))","v":""},{"$f":"IF('TDPrimas Vida'!E57=\"\",\"\",'TDPrimas Vida'!E57)","v":""}]
[null,{"$f":"IF(C209=\"\",B208,D209)","v":"TOTAL"},null,{"$f":"IF(D208=\"\",\"\",\"1er Año\")","v":""},{"$f":"IF(E208=\"\",\"\",(VLOOKUP(B209,'TDPrimas Vida'!$B:$N,5,0)))","v":""},{"$f":"IF(E208=\"\",\"\",(VLOOKUP(B209,'TDPrimas Vida'!$B:$N,6,0)))","v":""},{"$f":"IFERROR((E209/VLOOKUP(\"TOTAL\",$D$12:$L$312,2,0))*100,\"\")","v":""},{"$f":"IFERROR((E209/VLOOKUP(\"TOTAL\",$D$12:$L$312,3,0))*100,\"\")","v":""},{"$f":"IF(E208=\"\",\"\",E209-F209)","v":""},{"$f":"IF(E208=\"\",\"\",IFERROR((E209/F209-1)*100,\"ND\"))","v":""},{"$f":"IF(E208=\"\",\"\",IFERROR((E209/VLOOKUP(B209&\"|\"&VLOOKUP(TDPrimas!$B$4,Cat!R:T,2,0),'TD Operación'!A:D,4,0))*100,\"ND\"))","v":""},{"$f":"IF(E208=\"\",\"\",(VLOOKUP(B209,'TDPrimas Vida'!$B:$N,7,0)))","v":""}]
[null,{"$f":"IF(C210=\"\",B209,D210)","v":"TOTAL"},null,{"$f":"IF(D209=\"\",\"\",\"Renovación\")","v":""},{"$f":"IF(E208=\"\",\"\",(VLOOKUP(B210,'TDPrimas Vida'!$B:$N,8,0)))","v":""},{"$f":"IF(E208=\"\",\"\",(VLOOKUP(B210,'TDPrimas Vida'!$B:$N,9,0)))","v":""},{"$f":"IFERROR((E210/VLOOKUP(\"TOTAL\",$D$12:$L$312,2,0))*100,\"\")","v":""},{"$f":"IFERROR((E210/VLOOKUP(\"TOTAL\",$D$12:$L$312,3,0))*100,\"\")","v":""},{"$f":"IF(E208=\"\",\"\",E210-F210)","v":""},{"$f":"IF(E208=\"\",\"\",IFERROR((E210/F210-1)*100,\"ND\"))","v":""},{"$f":"IF(E208=\"\",\"\",IFERROR((E210/VLOOKUP(B210&\"|\"&VLOOKUP(TDPrimas!$B$4,Cat!R:T,2,0),'TD Operación'!A:D,4,0))*100,\"ND\"))","v":""},{"$f":"IF(E208=\"\",\"\",(VLOOKUP(B210,'TDPrimas Vida'!$B:$N,10,0)))","v":""}]
[null,{"$f":"IF(C211=\"\",B210,D211)","v":"TOTAL"},null,{"$f":"IF(D210=\"\",\"\",\"Únicas\")","v":""},{"$f":"IF(E209=\"\",\"\",(VLOOKUP(B211,'TDPrimas Vida'!$B:$N,11,0)))","v":""},{"$f":"IF(E209=\"\",\"\",(VLOOKUP(B211,'TDPrimas Vida'!$B:$N,12,0)))","v":""},{"$f":"IFERROR((E211/VLOOKUP(\"TOTAL\",$D$12:$L$312,2,0))*100,\"\")","v":""},{"$f":"IFERROR((E211/VLOOKUP(\"TOTAL\",$D$12:$L$312,3,0))*100,\"\")","v":""},{"$f":"IF(E208=\"\",\"\",E211-F211)","v":""},{"$f":"IF(E208=\"\",\"\",IFERROR((E211/F211-1)*100,\"ND\"))","v":""},{"$f":"IF(E208=\"\",\"\",IFERROR((E211/VLOOKUP(B211&\"|\"&VLOOKUP(TDPrimas!$B$4,Cat!R:T,2,0),'TD Operación'!A:D,4,0))*100,\"ND\"))","v":""},{"$f":"IF(E208=\"\",\"\",(VLOOKUP(B211,'TDPrimas Vida'!$B:$N,13,0)))","v":""}]

{"sheet":"Siniestros (Daños)","index":12,"n_rows":124,"n_cols":16,"rows_kept":124,"cut":false,"hidden":false,"merged":[[1,1,1,15],[3,3,3,8],[3,10,3,15],[4,4,5,4],[4,5,5,5],[4,6,4,7],[4,8,5,8],[4,14,4,15]]}
[null,"SINIESTROS DIRECTOS",null,null,null,null,null,null,null,null,null,null,null,null,null,{"$f":"'Primas Directas'!L1","v":"Primer Trimestre 2023"}]
[null,{"$f":"UPPER(RIGHT('TD Siniestros Daños'!$B$2,LEN('TD Siniestros Daños'!$B$2)-3))","v":"DAÑOS TOTAL"}]
[null,null,null,null,null,null,null,null,null,null,null,null,null,null,null,"Cifras en miles"]
[null,null,null,"Siniestros Directos",null,null,null,null,null,null,"Siniestros Retenidos"]
[null,"Compañías",null,"Importe","Incr. %","Inc. Rva.\nDividendos","% vs. Prima Directa",null,"%  Participac de Mercado",null,"Importe","% de","Prima Dev.","% de","% vs. Prima Dev. Ret."]
[null,null,null,{"$f":"'Primas Directas'!D6","v":"2023"},null,null,{"$f":"'Primas Directas'!D6","v":"2023"},{"$f":"'Primas Directas'!E6","v":2022},null,null,{"$f":"D6","v":"2023"},"Incr.","Retenida","Incr.",{"$f":"G6","v":"2023"},{"$f":"H6","v":2022}]
[null,null,"TOTAL",{"$f":"VLOOKUP(C7,'TD Siniestros Daños'!$B$7:$M$154,2,0)","v":31066664.715380006},{"$f":"VLOOKUP(C7,'TD Siniestros Daños'!$B$7:$M$154,3,0)","v":27.750707056773027},{"$f":"VLOOKUP(C7,'TD Siniestros Daños'!$B$7:$M$154,4,0)","v":303264.45369999995},{"$f":"VLOOKUP(C7,'TD Siniestros Daños'!$B$7:$M$154,5,0)","v":38.013228884748067},{"$f":"VLOOKUP(C7,'TD Siniestros Daños'!$B$7:$M$154,6,0)","v":37.512053494307665},{"$f":"IFERROR(D7/VLOOKUP(\"TOTAL\",$C$8:$D$124,2,0)*100,\"\")","v":100},null,{"$f":"VLOOKUP(C7,'TD Siniestros Daños'!$B$7:$M$154,7,0)","v":25102110.511209998},{"$f":"VLOOKUP(C7,'TD Siniestros Daños'!$B$7:$M$154,8,0)","v":32.568359568857062},{"$f":"VLOOKUP(C7,'TD Siniestros Daños'!$B$7:$M$154,9,0)","v":40558888.10193},{"$f":"VLOOKUP(C7,'TD Siniestros Daños'!$B$7:$M$154,10,0)","v":15.521549790959543},{"$f":"VLOOKUP(C7,'TD Siniestros Daños'!$B$7:$M$154,11,0)","v":61.890529267284109},{"$f":"VLOOKUP(C7,'TD Siniestros Daños'!$B$7:$M$154,12,0)","v":53.932098742051608}]
[null,{"$f":"IF('TD Siniestros Daños'!A7=\"\",\"\",'TD Siniestros Daños'!A7)","v":1},{"$f":"IF('TD Siniestros Daños'!B7=\"\",\"\",'TD Siniestros Daños'!B7)","v":"Quálitas"},{"$f":"IF('TD Siniestros Daños'!C7=\"\",\"\",'TD Siniestros Daños'!C7)","v":7182439.1313000005},{"$f":"IF('TD Siniestros Daños'!D7=\"\",\"\",'TD Siniestros Daños'!D7)","v":27.36258163649272},{"$f":"IF('TD Siniestros Daños'!E7=\"\",\"\",'TD Siniestros Daños'!E7)","v":18944.860940000002},{"$f":"IF('TD Siniestros Daños'!F7=\"\",\"\",'TD Siniestros Daños'!F7)","v":62.898128633434467},{"$f":"IF('TD Siniestros Daños'!G7=\"\",\"\",'TD Siniestros Daños'!G7)","v":63.58380378770768},{"$f":"IFERROR(D8/VLOOKUP(\"TOTAL\",$C$8:$D$124,2,0)*100,\"\")","v":23.119440715965332},null,{"$f":"IF('TD Siniestros Daños'!H7=\"\",\"\",'TD Siniestros Daños'!H7)","v":7186344.0670100003},{"$f":"IF('TD Siniestros Daños'!I7=\"\",\"\",'TD Siniestros Daños'!I7)","v":27.49275298704783},{"$f":"IF('TD Siniestros Daños'!J7=\"\",\"\",'TD Siniestros Daños'!J7)","v":10378964.710719999},{"$f":"IF('TD Siniestros Daños'!K7=\"\",\"\",'TD Siniestros Daños'!K7)","v":20.909119907529792},{"$f":"IF('TD Siniestros Daños'!L7=\"\",\"\",'TD Siniestros Daños'!L7)","v":69.23950767062081},{"$f":"IF('TD Siniestros Daños'!M7=\"\",\"\",'TD Siniestros Daños'!M7)","v":65.66402983027524}]
[null,{"$f":"IF('TD Siniestros Daños'!A8=\"\",\"\",'TD Siniestros Daños'!A8)","v":2},{"$f":"IF('TD Siniestros Daños'!B8=\"\",\"\",'TD Siniestros Daños'!B8)","v":"Agroasemex"},{"$f":"IF('TD Siniestros Daños'!C8=\"\",\"\",'TD Siniestros Daños'!C8)","v":237638.04632000005},{"$f":"IF('TD Siniestros Daños'!D8=\"\",\"\",'TD Siniestros Daños'!D8)","v":0},{"$f":"IF('TD Siniestros Daños'!E8=\"\",\"\",'TD Siniestros Daños'!E8)","v":4926.18649},{"$f":"IF('TD Siniestros Daños'!F8=\"\",\"\",'TD Siniestros Daños'!F8)","v":3.1961782542155253},{"$f":"IF('TD Siniestros Daños'!G8=\"\",\"\",'TD Siniestros Daños'!G8)","v":0},{"$f":"IFERROR(D9/VLOOKUP(\"TOTAL\",$C$8:$D$124,2,0)*100,\"\")","v":0.76492938169302049},null,{"$f":"IF('TD Siniestros Daños'!H8=\"\",\"\",'TD Siniestros Daños'!H8)","v":35835.070169999999},{"$f":"IF('TD Siniestros Daños'!I8=\"\",\"\",'TD Siniestros Daños'!I8)","v":0},{"$f":"IF('TD Siniestros Daños'!J8=\"\",\"\",'TD Siniestros Daños'!J8)","v":589662.28635000007},{"$f":"IF('TD Siniestros Daños'!K8=\"\",\"\",'TD Siniestros Daños'!K8)","v":0},{"$f":"IF('TD Siniestros Daños'!L8=\"\",\"\",'TD Siniestros Daños'!L8)","v":6.0772192828913134},{"$f":"IF('TD Siniestros Daños'!M8=\"\",\"\",'TD Siniestros Daños'!M8)","v":0}]
[null,{"$f":"IF('TD Siniestros Daños'!A9=\"\",\"\",'TD Siniestros Daños'!A9)","v":3},{"$f":"IF('TD Siniestros Daños'!B9=\"\",\"\",'TD Siniestros Daños'!B9)","v":"G.N.P."},{"$f":"IF('TD Siniestros Daños'!C9=\"\",\"\",'TD Siniestros Daños'!C9)","v":3575558.5680499999},{"$f":"IF('TD Siniestros Daños'!D9=\"\",\"\",'TD Siniestros Daños'!D9)","v":26.974895252073217},{"$f":"IF('TD Siniestros Daños'!E9=\"\",\"\",'TD Siniestros Daños'!E9)","v":2440.1246299999998},{"$f":"IF('TD Siniestros Daños'!F9=\"\",\"\",'TD Siniestros Daños'!F9)","v":52.935297159740067},{"$f":"IF('TD Siniestros Daños'!G9=\"\",\"\",'TD Siniestros Daños'!G9)","v":50.421712759490156},11.509309418335684,null,{"$f":"IF('TD Siniestros Daños'!H9=\"\",\"\",'TD Siniestros Daños'!H9)","v":3179229.1943100002},{"$f":"IF('TD Siniestros Daños'!I9=\"\",\"\",'TD Siniestros Daños'!I9)","v":27.786175302543704},{"$f":"IF('TD Siniestros Daños'!J9=\"\",\"\",'TD Siniestros Daños'!J9)","v":4906854.4449499995},{"$f":"IF('TD Siniestros Daños'!K9=\"\",\"\",'TD Siniestros Daños'!K9)","v":20.735530251342137},{"$f":"IF('TD Siniestros Daños'!L9=\"\",\"\",'TD Siniestros Daños'!L9)","v":64.7915936773298},{"$f":"IF('TD Siniestros Daños'!M9=\"\",\"\",'TD Siniestros Daños'!M9)","v":61.216695780597504}]
[null,{"$f":"IF('TD Siniestros Daños'!A10=\"\",\"\",'TD Siniestros Daños'!A10)","v":4},{"$f":"IF('TD Siniestros Daños'!B10=\"\",\"\",'TD Siniestros Daños'!B10)","v":"Chubb Seguros México"},{"$f":"IF('TD Siniestros Daños'!C10=\"\",\"\",'TD Siniestros Daños'!C10)","v":2910025.0847399998},{"$f":"IF('TD Siniestros Daños'!D10=\"\",\"\",'TD Siniestros Daños'!D10)","v":38.165890663546122},{"$f":"IF('TD Siniestros Daños'!E10=\"\",\"\",'TD Siniestros Daños'!E10)","v":21489.148179999997},{"$f":"IF('TD Siniestros Daños'!F10=\"\",\"\",'TD Siniestros Daños'!F10)","v":48.914061982186006},{"$f":"IF('TD Siniestros Daños'!G10=\"\",\"\",'TD Siniestros Daños'!G10)","v":38.414297528781205},9.3670341229110115,null,{"$f":"IF('TD Siniestros Daños'!H10=\"\",\"\",'TD Siniestros Daños'!H10)","v":1420832.4487699999},{"$f":"IF('TD Siniestros Daños'!I10=\"\",\"\",'TD Siniestros Daños'!I10)","v":49.580807896157417},{"$f":"IF('TD Siniestros Daños'!J10=\"\",\"\",'TD Siniestros Daños'!J10)","v":1701535.07134},{"$f":"IF('TD Siniestros Daños'!K10=\"\",\"\",'TD Siniestros Daños'!K10)","v":-10.878008852822452},{"$f":"IF('TD Siniestros Daños'!L10=\"\",\"\",'TD Siniestros Daños'!L10)","v":83.502977558438445},{"$f":"IF('TD Siniestros Daños'!M10=\"\",\"\",'TD Siniestros Daños'!M10)","v":49.752048617711026}]
[null,{"$f":"IF('TD Siniestros Daños'!A11=\"\",\"\",'TD Siniestros Daños'!A11)","v":5},{"$f":"IF('TD Siniestros Daños'!B11=\"\",\"\",'TD Siniestros Daños'!B11)","v":"AXA Seguros"},{"$f":"IF('TD Siniestros Daños'!C11=\"\",\"\",'TD Siniestros Daños'!C11)","v":3102318.7354899999},{"$f":"IF('TD Siniestros Daños'!D11=\"\",\"\",'TD Siniestros Daños'!D11)","v":29.971079148716285},{"$f":"IF('TD Siniestros Daños'!E11=\"\",\"\",'TD Siniestros Daños'!E11)","v":44824.093670000002},{"$f":"IF('TD Siniestros Daños'!F11=\"\",\"\",'TD Siniestros Daños'!F11)","v":56.734122492460813},{"$f":"IF('TD Siniestros Daños'!G11=\"\",\"\",'TD Siniestros Daños'!G11)","v":46.976853944322315},9.9860051405973795,null,{"$f":"IF('TD Siniestros Daños'!H11=\"\",\"\",'TD Siniestros Daños'!H11)","v":2803088.52104},{"$f":"IF('TD Siniestros Daños'!I11=\"\",\"\",'TD Siniestros Daños'!I11)","v":51.188585283337048},{"$f":"IF('TD Siniestros Daños'!J11=\"\",\"\",'TD Siniestros Daños'!J11)","v":3799106.6431999998},{"$f":"IF('TD Siniestros Daños'!K11=\"\",\"\",'TD Siniestros Daños'!K11)","v":15.041957176803278},{"$f":"IF('TD Siniestros Daños'!L11=\"\",\"\",'TD Siniestros Daños'!L11)","v":73.782833289432219},{"$f":"IF('TD Siniestros Daños'!M11=\"\",\"\",'TD Siniestros Daños'!M11)","v":56.142608463190491}]
[null,{"$f":"IF('TD Siniestros Daños'!A12=\"\",\"\",'TD Siniestros Daños'!A12)","v":5.0999999999999996},{"$f":"IF('TD Siniestros Daños'!B12=\"\",\"\",'TD Siniestros Daños'!B12)","v":"TOTAL GRANDES"},{"$f":"IF('TD Siniestros Daños'!C12=\"\",\"\",'TD Siniestros Daños'!C12)","v":17007979.565900002},{"$f":"IF('TD Siniestros Daños'!D12=\"\",\"\",'TD Siniestros Daños'!D12)","v":31.351646042278869},{"$f":"IF('TD Siniestros Daños'!E12=\"\",\"\",'TD Siniestros Daños'!E12)","v":92624.413910000003},{"$f":"IF('TD Siniestros Daños'!F12=\"\",\"\",'TD Siniestros Daños'!F12)","v":45.934929528703584},{"$f":"IF('TD Siniestros Daños'!G12=\"\",\"\",'TD Siniestros Daños'!G12)","v":51.756720111570054},54.746718779502437,null,{"$f":"IF('TD Siniestros Daños'!H12=\"\",\"\",'TD Siniestros Daños'!H12)","v":14625329.3013},{"$f":"IF('TD Siniestros Daños'!I12=\"\",\"\",'TD Siniestros Daños'!I12)","v":33.827316384241591},{"$f":"IF('TD Siniestros Daños'!J12=\"\",\"\",'TD Siniestros Daños'!J12)","v":21376123.15656},{"$f":"IF('TD Siniestros Daños'!K12=\"\",\"\",'TD Siniestros Daños'!K12)","v":19.68831223358729},{"$f":"IF('TD Siniestros Daños'!L12=\"\",\"\",'TD Siniestros Daños'!L12)","v":68.418998123201362},{"$f":"IF('TD Siniestros Daños'!M12=\"\",\"\",'TD Siniestros Daños'!M12)","v":61.190455217431328}]
[null,{"$f":"IF('TD Siniestros Daños'!A13=\"\",\"\",'TD Siniestros Daños'!A13)","v":6},{"$f":"IF('TD Siniestros Daños'!B13=\"\",\"\",'TD Siniestros Daños'!B13)","v":"GMX Seguros"},{"$f":"IF('TD Siniestros Daños'!C13=\"\",\"\",'TD Siniestros Daños'!C13)","v":480133.34065999999},{"$f":"IF('TD Siniestros Daños'!D13=\"\",\"\",'TD Siniestros Daños'!D13)","v":-47.027101936322403},{"$f":"IF('TD Siniestros Daños'!E13=\"\",\"\",'TD Siniestros Daños'!E13)","v":0},{"$f":"IF('TD Siniestros Daños'!F13=\"\",\"\",'TD Siniestros Daños'!F13)","v":10.206824332550479},{"$f":"IF('TD Siniestros Daños'!G13=\"\",\"\",'TD Siniestros Daños'!G13)","v":16.76987719950904},1.545493682887378,null,{"$f":"IF('TD Siniestros Daños'!H13=\"\",\"\",'TD Siniestros Daños'!H13)","v":235573.10959000001},{"$f":"IF('TD Siniestros Daños'!I13=\"\",\"\",'TD Siniestros Daños'!I13)","v":-13.97317193726435},{"$f":"IF('TD Siniestros Daños'!J13=\"\",\"\",'TD Siniestros Daños'!J13)","v":600583.56672999996},{"$f":"IF('TD Siniestros Daños'!K13=\"\",\"\",'TD Siniestros Daños'!K13)","v":-10.320683858309099},{"$f":"IF('TD Siniestros Daños'!L13=\"\",\"\",'TD Siniestros Daños'!L13)","v":39.224035195073014},{"$f":"IF('TD Siniestros Daños'!M13=\"\",\"\",'TD Siniestros Daños'!M13)","v":40.889391505246955}]
[null,{"$f":"IF('TD Siniestros Daños'!A14=\"\",\"\",'TD Siniestros Daños'!A14)","v":7},{"$f":"IF('TD Siniestros Daños'!B14=\"\",\"\",'TD Siniestros Daños'!B14)","v":"Inbursa"},{"$f":"IF('TD Siniestros Daños'!C14=\"\",\"\",'TD Siniestros Daños'!C14)","v":1533713.3260900001},{"$f":"IF('TD Siniestros Daños'!D14=\"\",\"\",'TD Siniestros Daños'!D14)","v":101.07818086433112},{"$f":"IF('TD Siniestros Daños'!E14=\"\",\"\",'TD Siniestros Daños'!E14)","v":0},{"$f":"IF('TD Siniestros Daños'!F14=\"\",\"\",'TD Siniestros Daños'!F14)","v":38.389524080282875},{"$f":"IF('TD Siniestros Daños'!G14=\"\",\"\",'TD Siniestros Daños'!G14)","v":23.326652269966051},4.936845780328369,null,{"$f":"IF('TD Siniestros Daños'!H14=\"\",\"\",'TD Siniestros Daños'!H14)","v":942676.18333000003},{"$f":"IF('TD Siniestros Daños'!I14=\"\",\"\",'TD Siniestros Daños'!I14)","v":37.832149368324352},{"$f":"IF('TD Siniestros Daños'!J14=\"\",\"\",'TD Siniestros Daños'!J14)","v":1479697.49872},{"$f":"IF('TD Siniestros Daños'!K14=\"\",\"\",'TD Siniestros Daños'!K14)","v":9.7741079787661214},{"$f":"IF('TD Siniestros Daños'!L14=\"\",\"\",'TD Siniestros Daños'!L14)","v":63.707358034020757},{"$f":"IF('TD Siniestros Daños'!M14=\"\",\"\",'TD Siniestros Daños'!M14)","v":50.738658810146134}]
[null,{"$f":"IF('TD Siniestros Daños'!A15=\"\",\"\",'TD Siniestros Daños'!A15)","v":8},{"$f":"IF('TD Siniestros Daños'!B15=\"\",\"\",'TD Siniestros Daños'!B15)","v":"Banorte"},{"$f":"IF('TD Siniestros Daños'!C15=\"\",\"\",'TD Siniestros Daños'!C15)","v":1100353.8106399998},{"$f":"IF('TD Siniestros Daños'!D15=\"\",\"\",'TD Siniestros Daños'!D15)","v":45.799280291523559},{"$f":"IF('TD Siniestros Daños'!E15=\"\",\"\",'TD Siniestros Daños'!E15)","v":112.18408000000001},{"$f":"IF('TD Siniestros Daños'!F15=\"\",\"\",'TD Siniestros Daños'!F15)","v":29.842218241575175},{"$f":"IF('TD Siniestros Daños'!G15=\"\",\"\",'TD Siniestros Daños'!G15)","v":23.212747046326072},3.5419116301057372,null,{"$f":"IF('TD Siniestros Daños'!H15=\"\",\"\",'TD Siniestros Daños'!H15)","v":1066277.1207900001},{"$f":"IF('TD Siniestros Daños'!I15=\"\",\"\",'TD Siniestros Daños'!I15)","v":39.136558999539872},{"$f":"IF('TD Siniestros Daños'!J15=\"\",\"\",'TD Siniestros Daños'!J15)","v":2396631.2444600002},{"$f":"IF('TD Siniestros Daños'!K15=\"\",\"\",'TD Siniestros Daños'!K15)","v":18.940535244133862},{"$f":"IF('TD Siniestros Daños'!L15=\"\",\"\",'TD Siniestros Daños'!L15)","v":44.490662602133},{"$f":"IF('TD Siniestros Daños'!M15=\"\",\"\",'TD Siniestros Daños'!M15)","v":38.032730299743648}]
[null,{"$f":"IF('TD Siniestros Daños'!A16=\"\",\"\",'TD Siniestros Daños'!A16)","v":9},{"$f":"IF('TD Siniestros Daños'!B16=\"\",\"\",'TD Siniestros Daños'!B16)","v":"Mapfre México"},{"$f":"IF('TD Siniestros Daños'!C16=\"\",\"\",'TD Siniestros Daños'!C16)","v":1798679.9870900002},{"$f":"IF('TD Siniestros Daños'!D16=\"\",\"\",'TD Siniestros Daños'!D16)","v":76.081833909627434},{"$f":"IF('TD Siniestros Daños'!E16=\"\",\"\",'TD Siniestros Daños'!E16)","v":192474.89626999997},{"$f":"IF('TD Siniestros Daños'!F16=\"\",\"\",'TD Siniestros Daños'!F16)","v":49.548114514184668},{"$f":"IF('TD Siniestros Daños'!G16=\"\",\"\",'TD Siniestros Daños'!G16)","v":21.220207384510989},5.7897428113663496,null,{"$f":"IF('TD Siniestros Daños'!H16=\"\",\"\",'TD Siniestros Daños'!H16)","v":954567.12326999998},{"$f":"IF('TD Siniestros Daños'!I16=\"\",\"\",'TD Siniestros Daños'!I16)","v":37.177415424957452},{"$f":"IF('TD Siniestros Daños'!J16=\"\",\"\",'TD Siniestros Daños'!J16)","v":1339823.2234799999},{"$f":"IF('TD Siniestros Daños'!K16=\"\",\"\",'TD Siniestros Daños'!K16)","v":-3.2261695561144554},{"$f":"IF('TD Siniestros Daños'!L16=\"\",\"\",'TD Siniestros Daños'!L16)","v":71.245751420149887},{"$f":"IF('TD Siniestros Daños'!M16=\"\",\"\",'TD Siniestros Daños'!M16)","v":50.261365884623658}]
[null,{"$f":"IF('TD Siniestros Daños'!A17=\"\",\"\",'TD Siniestros Daños'!A17)","v":10},{"$f":"IF('TD Siniestros Daños'!B17=\"\",\"\",'TD Siniestros Daños'!B17)","v":"BBVA Bancomer"},{"$f":"IF('TD Siniestros Daños'!C17=\"\",\"\",'TD Siniestros Daños'!C17)","v":1604417.4015000002},{"$f":"IF('TD Siniestros Daños'!D17=\"\",\"\",'TD Siniestros Daños'!D17)","v":58.951578390133228},{"$f":"IF('TD Siniestros Daños'!E17=\"\",\"\",'TD Siniestros Daños'!E17)","v":0},{"$f":"IF('TD Siniestros Daños'!F17=\"\",\"\",'TD Siniestros Daños'!F17)","v":46.050272342247112},{"$f":"IF('TD Siniestros Daños'!G17=\"\",\"\",'TD Siniestros Daños'!G17)","v":38.324181084288824},5.164434020191778,null,{"$f":"IF('TD Siniestros Daños'!H17=\"\",\"\",'TD Siniestros Daños'!H17)","v":1569745.11619},{"$f":"IF('TD Siniestros Daños'!I17=\"\",\"\",'TD Siniestros Daños'!I17)","v":56.027098646365772},{"$f":"IF('TD Siniestros Daños'!J17=\"\",\"\",'TD Siniestros Daños'!J17)","v":2670637.7390900003},{"$f":"IF('TD Siniestros Daños'!K17=\"\",\"\",'TD Siniestros Daños'!K17)","v":29.086992124430623},{"$f":"IF('TD Siniestros Daños'!L17=\"\",\"\",'TD Siniestros Daños'!L17)","v":58.777912601687376},{"$f":"IF('TD Siniestros Daños'!M17=\"\",\"\",'TD Siniestros Daños'!M17)","v":48.629142033214485}]
[null,{"$f":"IF('TD Siniestros Daños'!A18=\"\",\"\",'TD Siniestros Daños'!A18)","v":11},{"$f":"IF('TD Siniestros Daños'!B18=\"\",\"\",'TD Siniestros Daños'!B18)","v":"AIG Seguros"},{"$f":"IF('TD Siniestros Daños'!C18=\"\",\"\",'TD Siniestros Daños'!C18)","v":282506.08312999998},{"$f":"IF('TD Siniestros Daños'!D18=\"\",\"\",'TD Siniestros Daños'!D18)","v":9.0304779175687244E-2},{"$f":"IF('TD Siniestros Daños'!E18=\"\",\"\",'TD Siniestros Daños'!E18)","v":1964.21298},{"$f":"IF('TD Siniestros Daños'!F18=\"\",\"\",'TD Siniestros Daños'!F18)","v":8.7269693131879897},{"$f":"IF('TD Siniestros Daños'!G18=\"\",\"\",'TD Siniestros Daños'!G18)","v":16.300473219667847},0.90935440195529338,null,{"$f":"IF('TD Siniestros Daños'!H18=\"\",\"\",'TD Siniestros Daños'!H18)","v":133065.21755999999},{"$f":"IF('TD Siniestros Daños'!I18=\"\",\"\",'TD Siniestros Daños'!I18)","v":36.110237630969408},{"$f":"IF('TD Siniestros Daños'!J18=\"\",\"\",'TD Siniestros Daños'!J18)","v":108020.4105},{"$f":"IF('TD Siniestros Daños'!K18=\"\",\"\",'TD Siniestros Daños'!K18)","v":-33.115546757029634},{"$f":"IF('TD Siniestros Daños'!L18=\"\",\"\",'TD Siniestros Daños'!L18)","v":123.1852544755882},{"$f":"IF('TD Siniestros Daños'!M18=\"\",\"\",'TD Siniestros Daños'!M18)","v":60.533127680920373}]
[null,{"$f":"IF('TD Siniestros Daños'!A19=\"\",\"\",'TD Siniestros Daños'!A19)","v":12},{"$f":"IF('TD Siniestros Daños'!B19=\"\",\"\",'TD Siniestros Daños'!B19)","v":"HDI Seguros"},{"$f":"IF('TD Siniestros Daños'!C19=\"\",\"\",'TD Siniestros Daños'!C19)","v":1551183.18557},{"$f":"IF('TD Siniestros Daños'!D19=\"\",\"\",'TD Siniestros Daños'!D19)","v":25.112983116620224},{"$f":"IF('TD Siniestros Daños'!E19=\"\",\"\",'TD Siniestros Daños'!E19)","v":0},{"$f":"IF('TD Siniestros Daños'!F19=\"\",\"\",'TD Siniestros Daños'!F19)","v":52.494546210716756},{"$f":"IF('TD Siniestros Daños'!G19=\"\",\"\",'TD Siniestros Daños'!G19)","v":54.250638311690189},4.9930792371221751,null,{"$f":"IF('TD Siniestros Daños'!H19=\"\",\"\",'TD Siniestros Daños'!H19)","v":1546668.1098399998},{"$f":"IF('TD Siniestros Daños'!I19=\"\",\"\",'TD Siniestros Daños'!I19)","v":26.95897430619112},{"$f":"IF('TD Siniestros Daños'!J19=\"\",\"\",'TD Siniestros Daños'!J19)","v":2495631.2483699997},{"$f":"IF('TD Siniestros Daños'!K19=\"\",\"\",'TD Siniestros Daños'!K19)","v":8.9454155664723913},{"$f":"IF('TD Siniestros Daños'!L19=\"\",\"\",'TD Siniestros Daños'!L19)","v":61.975025791578496},{"$f":"IF('TD Siniestros Daños'!M19=\"\",\"\",'TD Siniestros Daños'!M19)","v":53.181706740341163}]
[null,{"$f":"IF('TD Siniestros Daños'!A20=\"\",\"\",'TD Siniestros Daños'!A20)","v":13},{"$f":"IF('TD Siniestros Daños'!B20=\"\",\"\",'TD Siniestros Daños'!B20)","v":"Zurich Aseguradora Mexicana"},{"$f":"IF('TD Siniestros Daños'!C20=\"\",\"\",'TD Siniestros Daños'!C20)","v":574531.15515999997},{"$f":"IF('TD Siniestros Daños'!D20=\"\",\"\",'TD Siniestros Daños'!D20)","v":19952.048146485697},{"$f":"IF('TD Siniestros Daños'!E20=\"\",\"\",'TD Siniestros Daños'!E20)","v":-1477.9054700000002},{"$f":"IF('TD Siniestros Daños'!F20=\"\",\"\",'TD Siniestros Daños'!F20)","v":21.037337325182719},{"$f":"IF('TD Siniestros Daños'!G20=\"\",\"\",'TD Siniestros Daños'!G20)","v":239.09062097318881},1.8493493280454081,null,{"$f":"IF('TD Siniestros Daños'!H20=\"\",\"\",'TD Siniestros Daños'!H20)","v":536485.81331999996},{"$f":"IF('TD Siniestros Daños'!I20=\"\",\"\",'TD Siniestros Daños'!I20)","v":23558.591443815472},{"$f":"IF('TD Siniestros Daños'!J20=\"\",\"\",'TD Siniestros Daños'!J20)","v":1093685.3409599999},{"$f":"IF('TD Siniestros Daños'!K20=\"\",\"\",'TD Siniestros Daños'!K20)","v":553087.62186527031},{"$f":"IF('TD Siniestros Daños'!L20=\"\",\"\",'TD Siniestros Daños'!L20)","v":49.053031363581312},{"$f":"IF('TD Siniestros Daños'!M20=\"\",\"\",'TD Siniestros Daños'!M20)","v":1146.9630315796119}]
[null,{"$f":"IF('TD Siniestros Daños'!A21=\"\",\"\",'TD Siniestros Daños'!A21)","v":14},{"$f":"IF('TD Siniestros Daños'!B21=\"\",\"\",'TD Siniestros Daños'!B21)","v":"Atlas"},{"$f":"IF('TD Siniestros Daños'!C21=\"\",\"\",'TD Siniestros Daños'!C21)","v":859418.74672000005},{"$f":"IF('TD Siniestros Daños'!D21=\"\",\"\",'TD Siniestros Daños'!D21)","v":1.933074543102431},{"$f":"IF('TD Siniestros Daños'!E21=\"\",\"\",'TD Siniestros Daños'!E21)","v":-1963.6834400000002},{"$f":"IF('TD Siniestros Daños'!F21=\"\",\"\",'TD Siniestros Daños'!F21)","v":32.139837283815901},{"$f":"IF('TD Siniestros Daños'!G21=\"\",\"\",'TD Siniestros Daños'!G21)","v":36.792913073397763},2.7663695301495697,null,{"$f":"IF('TD Siniestros Daños'!H21=\"\",\"\",'TD Siniestros Daños'!H21)","v":741959.43290999997},{"$f":"IF('TD Siniestros Daños'!I21=\"\",\"\",'TD Siniestros Daños'!I21)","v":36.014312147915398},{"$f":"IF('TD Siniestros Daños'!J21=\"\",\"\",'TD Siniestros Daños'!J21)","v":1129543.8836400001},{"$f":"IF('TD Siniestros Daños'!K21=\"\",\"\",'TD Siniestros Daños'!K21)","v":5.3713541980456858},{"$f":"IF('TD Siniestros Daños'!L21=\"\",\"\",'TD Siniestros Daños'!L21)","v":65.686640745555295},{"$f":"IF('TD Siniestros Daños'!M21=\"\",\"\",'TD Siniestros Daños'!M21)","v":50.887955677433226}]
[null,{"$f":"IF('TD Siniestros Daños'!A22=\"\",\"\",'TD Siniestros Daños'!A22)","v":15},{"$f":"IF('TD Siniestros Daños'!B22=\"\",\"\",'TD Siniestros Daños'!B22)","v":"Seguros SURA"},{"$f":"IF('TD Siniestros Daños'!C22=\"\",\"\",'TD Siniestros Daños'!C22)","v":926586.46412000002},{"$f":"IF('TD Siniestros Daños'!D22=\"\",\"\",'TD Siniestros Daños'!D22)","v":233.08173044040416},{"$f":"IF('TD Siniestros Daños'!E22=\"\",\"\",'TD Siniestros Daños'!E22)","v":3521.848379999999},{"$f":"IF('TD Siniestros Daños'!F22=\"\",\"\",'TD Siniestros Daños'!F22)","v":47.465529498745227},{"$f":"IF('TD Siniestros Daños'!G22=\"\",\"\",'TD Siniestros Daños'!G22)","v":25.258847044216289},2.9825746426563771,null,{"$f":"IF('TD Siniestros Daños'!H22=\"\",\"\",'TD Siniestros Daños'!H22)","v":760940.75277999998},{"$f":"IF('TD Siniestros Daños'!I22=\"\",\"\",'TD Siniestros Daños'!I22)","v":139.55954362440698},{"$f":"IF('TD Siniestros Daños'!J22=\"\",\"\",'TD Siniestros Daños'!J22)","v":1495265.6828000001},{"$f":"IF('TD Siniestros Daños'!K22=\"\",\"\",'TD Siniestros Daños'!K22)","v":55.189827541454385},{"$f":"IF('TD Siniestros Daños'!L22=\"\",\"\",'TD Siniestros Daños'!L22)","v":50.890003130084537},{"$f":"IF('TD Siniestros Daños'!M22=\"\",\"\",'TD Siniestros Daños'!M22)","v":32.967214287751979}]
[null,{"$f":"IF('TD Siniestros Daños'!A23=\"\",\"\",'TD Siniestros Daños'!A23)","v":15.1},{"$f":"IF('TD Siniestros Daños'!B23=\"\",\"\",'TD Siniestros Daños'!B23)","v":"TOTAL MEDIANAS"},{"$f":"IF('TD Siniestros Daños'!C23=\"\",\"\",'TD Siniestros Daños'!C23)","v":10711523.50068},{"$f":"IF('TD Siniestros Daños'!D23=\"\",\"\",'TD Siniestros Daños'!D23)","v":50.846326529201555},{"$f":"IF('TD Siniestros Daños'!E23=\"\",\"\",'TD Siniestros Daños'!E23)","v":194631.55279999998},{"$f":"IF('TD Siniestros Daños'!F23=\"\",\"\",'TD Siniestros Daños'!F23)","v":32.410179373485597},{"$f":"IF('TD Siniestros Daños'!G23=\"\",\"\",'TD Siniestros Daños'!G23)","v":26.511455226578821},34.479155064808431,null,{"$f":"IF('TD Siniestros Daños'!H23=\"\",\"\",'TD Siniestros Daños'!H23)","v":8487957.9795799982},{"$f":"IF('TD Siniestros Daños'!I23=\"\",\"\",'TD Siniestros Daños'!I23)","v":51.368734435427974},{"$f":"IF('TD Siniestros Daños'!J23=\"\",\"\",'TD Siniestros Daños'!J23)","v":14809519.838749999},{"$f":"IF('TD Siniestros Daños'!K23=\"\",\"\",'TD Siniestros Daños'!K23)","v":23.681902856309577},{"$f":"IF('TD Siniestros Daños'!L23=\"\",\"\",'TD Siniestros Daños'!L23)","v":57.314201081460759},{"$f":"IF('TD Siniestros Daños'!M23=\"\",\"\",'TD Siniestros Daños'!M23)","v":46.830869511353335}]
[null,{"$f":"IF('TD Siniestros Daños'!A24=\"\",\"\",'TD Siniestros Daños'!A24)","v":16},{"$f":"IF('TD Siniestros Daños'!B24=\"\",\"\",'TD Siniestros Daños'!B24)","v":"Allianz México"},{"$f":"IF('TD Siniestros Daños'!C24=\"\",\"\",'TD Siniestros Daños'!C24)","v":218041.34091},{"$f":"IF('TD Siniestros Daños'!D24=\"\",\"\",'TD Siniestros Daños'!D24)","v":-81.739468633246602},{"$f":"IF('TD Siniestros Daños'!E24=\"\",\"\",'TD Siniestros Daños'!E24)","v":-333.82969000000003},{"$f":"IF('TD Siniestros Daños'!F24=\"\",\"\",'TD Siniestros Daños'!F24)","v":14.516923188469999},{"$f":"IF('TD Siniestros Daños'!G24=\"\",\"\",'TD Siniestros Daños'!G24)","v":86.236275412670423},0.70184985387908549,null,{"$f":"IF('TD Siniestros Daños'!H24=\"\",\"\",'TD Siniestros Daños'!H24)","v":47127.086240000004},{"$f":"IF('TD Siniestros Daños'!I24=\"\",\"\",'TD Siniestros Daños'!I24)","v":18.63950529315477},{"$f":"IF('TD Siniestros Daños'!J24=\"\",\"\",'TD Siniestros Daños'!J24)","v":97108.567980000007},{"$f":"IF('TD Siniestros Daños'!K24=\"\",\"\",'TD Siniestros Daños'!K24)","v":-23.464318205826416},{"$f":"IF('TD Siniestros Daños'!L24=\"\",\"\",'TD Siniestros Daños'!L24)","v":48.530307078265288},{"$f":"IF('TD Siniestros Daños'!M24=\"\",\"\",'TD Siniestros Daños'!M24)","v":31.307447976436809}]
[null,{"$f":"IF('TD Siniestros Daños'!A25=\"\",\"\",'TD Siniestros Daños'!A25)","v":17},{"$f":"IF('TD Siniestros Daños'!B25=\"\",\"\",'TD Siniestros Daños'!B25)","v":"Afirme"},{"$f":"IF('TD Siniestros Daños'!C25=\"\",\"\",'TD Siniestros Daños'!C25)","v":978129.41276000009},{"$f":"IF('TD Siniestros Daños'!D25=\"\",\"\",'TD Siniestros Daños'!D25)","v":19.533971393484741},{"$f":"IF('TD Siniestros Daños'!E25=\"\",\"\",'TD Siniestros Daños'!E25)","v":-375.17179999999996},{"$f":"IF('TD Siniestros Daños'!F25=\"\",\"\",'TD Siniestros Daños'!F25)","v":65.417540941129005},{"$f":"IF('TD Siniestros Daños'!G25=\"\",\"\",'TD Siniestros Daños'!G25)","v":63.969581749013173},3.1484854319612974,null,{"$f":"IF('TD Siniestros Daños'!H25=\"\",\"\",'TD Siniestros Daños'!H25)","v":679325.46878},{"$f":"IF('TD Siniestros Daños'!I25=\"\",\"\",'TD Siniestros Daños'!I25)","v":28.018376867821537},{"$f":"IF('TD Siniestros Daños'!J25=\"\",\"\",'TD Siniestros Daños'!J25)","v":735498.19100999995},{"$f":"IF('TD Siniestros Daños'!K25=\"\",\"\",'TD Siniestros Daños'!K25)","v":-13.922664990831169},{"$f":"IF('TD Siniestros Daños'!L25=\"\",\"\",'TD Siniestros Daños'!L25)","v":92.362629450813131},{"$f":"IF('TD Siniestros Daños'!M25=\"\",\"\",'TD Siniestros Daños'!M25)","v":62.103029206299396}]
[null,{"$f":"IF('TD Siniestros Daños'!A26=\"\",\"\",'TD Siniestros Daños'!A26)","v":18},{"$f":"IF('TD Siniestros Daños'!B26=\"\",\"\",'TD Siniestros Daños'!B26)","v":"Seguros Azteca Daños"},{"$f":"IF('TD Siniestros Daños'!C26=\"\",\"\",'TD Siniestros Daños'!C26)","v":-20785.99139000001},{"$f":"IF('TD Siniestros Daños'!D26=\"\",\"\",'TD Siniestros Daños'!D26)","v":-119.09660689132242},{"$f":"IF('TD Siniestros Daños'!E26=\"\",\"\",'TD Siniestros Daños'!E26)","v":7886.3938499999995},{"$f":"IF('TD Siniestros Daños'!F26=\"\",\"\",'TD Siniestros Daños'!F26)","v":-1.6614597866479786},{"$f":"IF('TD Siniestros Daños'!G26=\"\",\"\",'TD Siniestros Daños'!G26)","v":6.3337234500279074},-6.6907701809745937E-2,null,{"$f":"IF('TD Siniestros Daños'!H26=\"\",\"\",'TD Siniestros Daños'!H26)","v":22596.73602},{"$f":"IF('TD Siniestros Daños'!I26=\"\",\"\",'TD Siniestros Daños'!I26)","v":116.57601641590433},{"$f":"IF('TD Siniestros Daños'!J26=\"\",\"\",'TD Siniestros Daños'!J26)","v":94293.007489999989},{"$f":"IF('TD Siniestros Daños'!K26=\"\",\"\",'TD Siniestros Daños'!K26)","v":-11.93921016594156},{"$f":"IF('TD Siniestros Daños'!L26=\"\",\"\",'TD Siniestros Daños'!L26)","v":23.964381475897291},{"$f":"IF('TD Siniestros Daños'!M26=\"\",\"\",'TD Siniestros Daños'!M26)","v":9.7440261187536645}]
[null,{"$f":"IF('TD Siniestros Daños'!A27=\"\",\"\",'TD Siniestros Daños'!A27)","v":19},{"$f":"IF('TD Siniestros Daños'!B27=\"\",\"\",'TD Siniestros Daños'!B27)","v":"HDI Global Seguros"},{"$f":"IF('TD Siniestros Daños'!C27=\"\",\"\",'TD Siniestros Daños'!C27)","v":87458.832719999991},{"$f":"IF('TD Siniestros Daños'!D27=\"\",\"\",'TD Siniestros Daños'!D27)","v":-54.219293011682545},{"$f":"IF('TD Siniestros Daños'!E27=\"\",\"\",'TD Siniestros Daños'!E27)","v":0},{"$f":"IF('TD Siniestros Daños'!F27=\"\",\"\",'TD Siniestros Daños'!F27)","v":8.5971312589734694},{"$f":"IF('TD Siniestros Daños'!G27=\"\",\"\",'TD Siniestros Daños'!G27)","v":40.652856552547171},0.28151986549332481,null,{"$f":"IF('TD Siniestros Daños'!H27=\"\",\"\",'TD Siniestros Daños'!H27)","v":470.59458000000001},{"$f":"IF('TD Siniestros Daños'!I27=\"\",\"\",'TD Siniestros Daños'!I27)","v":-43.432774156379836},{"$f":"IF('TD Siniestros Daños'!J27=\"\",\"\",'TD Siniestros Daños'!J27)","v":-24803.69485},{"$f":"IF('TD Siniestros Daños'!K27=\"\",\"\",'TD Siniestros Daños'!K27)","v":172.25498264304835},{"$f":"IF('TD Siniestros Daños'!L27=\"\",\"\",'TD Siniestros Daños'!L27)","v":-1.8972761229563346},{"$f":"IF('TD Siniestros Daños'!M27=\"\",\"\",'TD Siniestros Daños'!M27)","v":-9.1314868321902054}]
[null,{"$f":"IF('TD Siniestros Daños'!A28=\"\",\"\",'TD Siniestros Daños'!A28)","v":20},{"$f":"IF('TD Siniestros Daños'!B28=\"\",\"\",'TD Siniestros Daños'!B28)","v":"ANA"},{"$f":"IF('TD Siniestros Daños'!C28=\"\",\"\",'TD Siniestros Daños'!C28)","v":591466.43058000004},{"$f":"IF('TD Siniestros Daños'!D28=\"\",\"\",'TD Siniestros Daños'!D28)","v":49.593388720412989},{"$f":"IF('TD Siniestros Daños'!E28=\"\",\"\",'TD Siniestros Daños'!E28)","v":7185.2370300000002},{"$f":"IF('TD Siniestros Daños'!F28=\"\",\"\",'TD Siniestros Daños'!F28)","v":71.936893080787087},{"$f":"IF('TD Siniestros Daños'!G28=\"\",\"\",'TD Siniestros Daños'!G28)","v":54.677228412964929},1.9038620205895034,null,{"$f":"IF('TD Siniestros Daños'!H28=\"\",\"\",'TD Siniestros Daños'!H28)","v":450632.70748000004},{"$f":"IF('TD Siniestros Daños'!I28=\"\",\"\",'TD Siniestros Daños'!I28)","v":50.724539241931652},{"$f":"IF('TD Siniestros Daños'!J28=\"\",\"\",'TD Siniestros Daños'!J28)","v":626107.50834000006},{"$f":"IF('TD Siniestros Daños'!K28=\"\",\"\",'TD Siniestros Daños'!K28)","v":7.2914613925781468},{"$f":"IF('TD Siniestros Daños'!L28=\"\",\"\",'TD Siniestros Daños'!L28)","v":71.973694849110387},{"$f":"IF('TD Siniestros Daños'!M28=\"\",\"\",'TD Siniestros Daños'!M28)","v":51.233614254341795}]
[null,{"$f":"IF('TD Siniestros Daños'!A29=\"\",\"\",'TD Siniestros Daños'!A29)","v":21},{"$f":"IF('TD Siniestros Daños'!B29=\"\",\"\",'TD Siniestros Daños'!B29)","v":"FM Global"},{"$f":"IF('TD Siniestros Daños'!C29=\"\",\"\",'TD Siniestros Daños'!C29)","v":285738.26993000001},{"$f":"IF('TD Siniestros Daños'!D29=\"\",\"\",'TD Siniestros Daños'!D29)","v":0.81528500707668261},{"$f":"IF('TD Siniestros Daños'!E29=\"\",\"\",'TD Siniestros Daños'!E29)","v":0},{"$f":"IF('TD Siniestros Daños'!F29=\"\",\"\",'TD Siniestros Daños'!F29)","v":41.680603785115252},{"$f":"IF('TD Siniestros Daños'!G29=\"\",\"\",'TD Siniestros Daños'!G29)","v":49.463289432431864},0.9197584373727159,null,{"$f":"IF('TD Siniestros Daños'!H29=\"\",\"\",'TD Siniestros Daños'!H29)","v":2167.3376699999999},{"$f":"IF('TD Siniestros Daños'!I29=\"\",\"\",'TD Siniestros Daños'!I29)","v":7.3403836542014433},{"$f":"IF('TD Siniestros Daños'!J29=\"\",\"\",'TD Siniestros Daños'!J29)","v":12371.73554},{"$f":"IF('TD Siniestros Daños'!K29=\"\",\"\",'TD Siniestros Daños'!K29)","v":-9.5297905671015819},{"$f":"IF('TD Siniestros Daños'!L29=\"\",\"\",'TD Siniestros Daños'!L29)","v":17.518461035580785},{"$f":"IF('TD Siniestros Daños'!M29=\"\",\"\",'TD Siniestros Daños'!M29)","v":14.765168381890998}]
[null,{"$f":"IF('TD Siniestros Daños'!A30=\"\",\"\",'TD Siniestros Daños'!A30)","v":22},{"$f":"IF('TD Siniestros Daños'!B30=\"\",\"\",'TD Siniestros Daños'!B30)","v":"Zurich Santander"},{"$f":"IF('TD Siniestros Daños'!C30=\"\",\"\",'TD Siniestros Daños'!C30)","v":47416.520510000002},{"$f":"IF('TD Siniestros Daños'!D30=\"\",\"\",'TD Siniestros Daños'!D30)","v":-4.9709184130413036},{"$f":"IF('TD Siniestros Daños'!E30=\"\",\"\",'TD Siniestros Daños'!E30)","v":0},{"$f":"IF('TD Siniestros Daños'!F30=\"\",\"\",'TD Siniestros Daños'!F30)","v":7.72964856192747},{"$f":"IF('TD Siniestros Daños'!G30=\"\",\"\",'TD Siniestros Daños'!G30)","v":8.02487905356727},0.15262829448996423,null,{"$f":"IF('TD Siniestros Daños'!H30=\"\",\"\",'TD Siniestros Daños'!H30)","v":48404.296880000002},{"$f":"IF('TD Siniestros Daños'!I30=\"\",\"\",'TD Siniestros Daños'!I30)","v":-5.8196705861645821},{"$f":"IF('TD Siniestros Daños'!J30=\"\",\"\",'TD Siniestros Daños'!J30)","v":572255.68754999992},{"$f":"IF('TD Siniestros Daños'!K30=\"\",\"\",'TD Siniestros Daños'!K30)","v":-0.73598795823633933},{"$f":"IF('TD Siniestros Daños'!L30=\"\",\"\",'TD Siniestros Daños'!L30)","v":8.4585086584693414},{"$f":"IF('TD Siniestros Daños'!M30=\"\",\"\",'TD Siniestros Daños'!M30)","v":8.915083548288365}]
[null,{"$f":"IF('TD Siniestros Daños'!A31=\"\",\"\",'TD Siniestros Daños'!A31)","v":23},{"$f":"IF('TD Siniestros Daños'!B31=\"\",\"\",'TD Siniestros Daños'!B31)","v":"El Potosí"},{"$f":"IF('TD Siniestros Daños'!C31=\"\",\"\",'TD Siniestros Daños'!C31)","v":203715.42971},{"$f":"IF('TD Siniestros Daños'!D31=\"\",\"\",'TD Siniestros Daños'!D31)","v":2.5501130208721579},{"$f":"IF('TD Siniestros Daños'!E31=\"\",\"\",'TD Siniestros Daños'!E31)","v":0},{"$f":"IF('TD Siniestros Daños'!F31=\"\",\"\",'TD Siniestros Daños'!F31)","v":36.418123743953998},{"$f":"IF('TD Siniestros Daños'!G31=\"\",\"\",'TD Siniestros Daños'!G31)","v":41.404256569582778},0.655736402914046,null,{"$f":"IF('TD Siniestros Daños'!H31=\"\",\"\",'TD Siniestros Daños'!H31)","v":214669.36486},{"$f":"IF('TD Siniestros Daños'!I31=\"\",\"\",'TD Siniestros Daños'!I31)","v":19.330423350077865},{"$f":"IF('TD Siniestros Daños'!J31=\"\",\"\",'TD Siniestros Daños'!J31)","v":327011.02322000003},{"$f":"IF('TD Siniestros Daños'!K31=\"\",\"\",'TD Siniestros Daños'!K31)","v":-1.7266293888698381},{"$f":"IF('TD Siniestros Daños'!L31=\"\",\"\",'TD Siniestros Daños'!L31)","v":65.645910876704292},{"$f":"IF('TD Siniestros Daños'!M31=\"\",\"\",'TD Siniestros Daños'!M31)","v":54.062030013634164}]
[null,{"$f":"IF('TD Siniestros Daños'!A32=\"\",\"\",'TD Siniestros Daños'!A32)","v":24},{"$f":"IF('TD Siniestros Daños'!B32=\"\",\"\",'TD Siniestros Daños'!B32)","v":"General de Seguros"},{"$f":"IF('TD Siniestros Daños'!C32=\"\",\"\",'TD Siniestros Daños'!C32)","v":375374.13084},{"$f":"IF('TD Siniestros Daños'!D32=\"\",\"\",'TD Siniestros Daños'!D32)","v":9.2413496057448761},{"$f":"IF('TD Siniestros Daños'!E32=\"\",\"\",'TD Siniestros Daños'!E32)","v":757.35193000000004},{"$f":"IF('TD Siniestros Daños'!F32=\"\",\"\",'TD Siniestros Daños'!F32)","v":69.98344783454985},{"$f":"IF('TD Siniestros Daños'!G32=\"\",\"\",'TD Siniestros Daños'!G32)","v":70.744150551722669},1.2082859047761427,null,{"$f":"IF('TD Siniestros Daños'!H32=\"\",\"\",'TD Siniestros Daños'!H32)","v":316322.73723999999},{"$f":"IF('TD Siniestros Daños'!I32=\"\",\"\",'TD Siniestros Daños'!I32)","v":1.8150741849089824},{"$f":"IF('TD Siniestros Daños'!J32=\"\",\"\",'TD Siniestros Daños'!J32)","v":420140.07069999998},{"$f":"IF('TD Siniestros Daños'!K32=\"\",\"\",'TD Siniestros Daños'!K32)","v":22.618070345537976},{"$f":"IF('TD Siniestros Daños'!L32=\"\",\"\",'TD Siniestros Daños'!L32)","v":75.289828154922517},{"$f":"IF('TD Siniestros Daños'!M32=\"\",\"\",'TD Siniestros Daños'!M32)","v":90.673149520447978}]
[null,{"$f":"IF('TD Siniestros Daños'!A33=\"\",\"\",'TD Siniestros Daños'!A33)","v":25},{"$f":"IF('TD Siniestros Daños'!B33=\"\",\"\",'TD Siniestros Daños'!B33)","v":"Cardif Seguros Generales"},{"$f":"IF('TD Siniestros Daños'!C33=\"\",\"\",'TD Siniestros Daños'!C33)","v":53604.732579999996},{"$f":"IF('TD Siniestros Daños'!D33=\"\",\"\",'TD Siniestros Daños'!D33)","v":27.952591473450681},{"$f":"IF('TD Siniestros Daños'!E33=\"\",\"\",'TD Siniestros Daños'!E33)","v":0},{"$f":"IF('TD Siniestros Daños'!F33=\"\",\"\",'TD Siniestros Daños'!F33)","v":12.416362851122573},{"$f":"IF('TD Siniestros Daños'!G33=\"\",\"\",'TD Siniestros Daños'!G33)","v":14.549441392732323},0.17254743330545616,null,{"$f":"IF('TD Siniestros Daños'!H33=\"\",\"\",'TD Siniestros Daños'!H33)","v":39498.58814},{"$f":"IF('TD Siniestros Daños'!I33=\"\",\"\",'TD Siniestros Daños'!I33)","v":-42.384706162006559},{"$f":"IF('TD Siniestros Daños'!J33=\"\",\"\",'TD Siniestros Daños'!J33)","v":409071.47012000001},{"$f":"IF('TD Siniestros Daños'!K33=\"\",\"\",'TD Siniestros Daños'!K33)","v":25.728435141675487},{"$f":"IF('TD Siniestros Daños'!L33=\"\",\"\",'TD Siniestros Daños'!L33)","v":9.6556692473354833},{"$f":"IF('TD Siniestros Daños'!M33=\"\",\"\",'TD Siniestros Daños'!M33)","v":21.070658567266438}]
[null,{"$f":"IF('TD Siniestros Daños'!A34=\"\",\"\",'TD Siniestros Daños'!A34)","v":26},{"$f":"IF('TD Siniestros Daños'!B34=\"\",\"\",'TD Siniestros Daños'!B34)","v":"El Águila"},{"$f":"IF('TD Siniestros Daños'!C34=\"\",\"\",'TD Siniestros Daños'!C34)","v":134472.34600000002},{"$f":"IF('TD Siniestros Daños'!D34=\"\",\"\",'TD Siniestros Daños'!D34)","v":25.634520677341776},{"$f":"IF('TD Siniestros Daños'!E34=\"\",\"\",'TD Siniestros Daños'!E34)","v":0},{"$f":"IF('TD Siniestros Daños'!F34=\"\",\"\",'TD Siniestros Daños'!F34)","v":33.513682980661969},{"$f":"IF('TD Siniestros Daños'!G34=\"\",\"\",'TD Siniestros Daños'!G34)","v":32.75103677240616},0.43285092632884892,null,{"$f":"IF('TD Siniestros Daños'!H34=\"\",\"\",'TD Siniestros Daños'!H34)","v":126931.24896},{"$f":"IF('TD Siniestros Daños'!I34=\"\",\"\",'TD Siniestros Daños'!I34)","v":20.145924356518961},{"$f":"IF('TD Siniestros Daños'!J34=\"\",\"\",'TD Siniestros Daños'!J34)","v":291613.53474999999},{"$f":"IF('TD Siniestros Daños'!K34=\"\",\"\",'TD Siniestros Daños'!K34)","v":18.035857562716039},{"$f":"IF('TD Siniestros Daños'!L34=\"\",\"\",'TD Siniestros Daños'!L34)","v":43.527214561154729},{"$f":"IF('TD Siniestros Daños'!M34=\"\",\"\",'TD Siniestros Daños'!M34)","v":42.762766407260742}]
[null,{"$f":"IF('TD Siniestros Daños'!A35=\"\",\"\",'TD Siniestros Daños'!A35)","v":27},{"$f":"IF('TD Siniestros Daños'!B35=\"\",\"\",'TD Siniestros Daños'!B35)","v":"Tokio Marine"},{"$f":"IF('TD Siniestros Daños'!C35=\"\",\"\",'TD Siniestros Daños'!C35)","v":85935.592539999983},{"$f":"IF('TD Siniestros Daños'!D35=\"\",\"\",'TD Siniestros Daños'!D35)","v":-42.225491708192123},{"$f":"IF('TD Siniestros Daños'!E35=\"\",\"\",'TD Siniestros Daños'!E35)","v":-46.24736},{"$f":"IF('TD Siniestros Daños'!F35=\"\",\"\",'TD Siniestros Daños'!F35)","v":27.815200206768044},{"$f":"IF('TD Siniestros Daños'!G35=\"\",\"\",'TD Siniestros Daños'!G35)","v":22.570805729697803},0.27661673155875116,null,{"$f":"IF('TD Siniestros Daños'!H35=\"\",\"\",'TD Siniestros Daños'!H35)","v":22434.783199999998},{"$f":"IF('TD Siniestros Daños'!I35=\"\",\"\",'TD Siniestros Daños'!I35)","v":-11.969642981669926},{"$f":"IF('TD Siniestros Daños'!J35=\"\",\"\",'TD Siniestros Daños'!J35)","v":53588.162939999995},{"$f":"IF('TD Siniestros Daños'!K35=\"\",\"\",'TD Siniestros Daños'!K35)","v":4.4251616850143005},{"$f":"IF('TD Siniestros Daños'!L35=\"\",\"\",'TD Siniestros Daños'!L35)","v":41.865184341398511},{"$f":"IF('TD Siniestros Daños'!M35=\"\",\"\",'TD Siniestros Daños'!M35)","v":49.662171004408826}]
[null,{"$f":"IF('TD Siniestros Daños'!A36=\"\",\"\",'TD Siniestros Daños'!A36)","v":28},{"$f":"IF('TD Siniestros Daños'!B36=\"\",\"\",'TD Siniestros Daños'!B36)","v":"Primero Seguros"},{"$f":"IF('TD Siniestros Daños'!C36=\"\",\"\",'TD Siniestros Daños'!C36)","v":142370.60707},{"$f":"IF('TD Siniestros Daños'!D36=\"\",\"\",'TD Siniestros Daños'!D36)","v":7.3308114367083732},{"$f":"IF('TD Siniestros Daños'!E36=\"\",\"\",'TD Siniestros Daños'!E36)","v":0},{"$f":"IF('TD Siniestros Daños'!F36=\"\",\"\",'TD Siniestros Daños'!F36)","v":49.932876882743216},{"$f":"IF('TD Siniestros Daños'!G36=\"\",\"\",'TD Siniestros Daños'!G36)","v":46.787303173858461},0.4582745150608889,null,{"$f":"IF('TD Siniestros Daños'!H36=\"\",\"\",'TD Siniestros Daños'!H36)","v":114535.77582},{"$f":"IF('TD Siniestros Daños'!I36=\"\",\"\",'TD Siniestros Daños'!I36)","v":12.165088814125324},{"$f":"IF('TD Siniestros Daños'!J36=\"\",\"\",'TD Siniestros Daños'!J36)","v":185936.62181000001},{"$f":"IF('TD Siniestros Daños'!K36=\"\",\"\",'TD Siniestros Daños'!K36)","v":-5.3358463081374712},{"$f":"IF('TD Siniestros Daños'!L36=\"\",\"\",'TD Siniestros Daños'!L36)","v":61.599363646091611},{"$f":"IF('TD Siniestros Daños'!M36=\"\",\"\",'TD Siniestros Daños'!M36)","v":51.988115813627367}]
[null,{"$f":"IF('TD Siniestros Daños'!A37=\"\",\"\",'TD Siniestros Daños'!A37)","v":29},{"$f":"IF('TD Siniestros Daños'!B37=\"\",\"\",'TD Siniestros Daños'!B37)","v":"Berkley Seguros"},{"$f":"IF('TD Siniestros Daños'!C37=\"\",\"\",'TD Siniestros Daños'!C37)","v":57749.803430000007},{"$f":"IF('TD Siniestros Daños'!D37=\"\",\"\",'TD Siniestros Daños'!D37)","v":18.183307376558222},{"$f":"IF('TD Siniestros Daños'!E37=\"\",\"\",'TD Siniestros Daños'!E37)","v":1126.9045000000001},{"$f":"IF('TD Siniestros Daños'!F37=\"\",\"\",'TD Siniestros Daños'!F37)","v":29.941347256077545},{"$f":"IF('TD Siniestros Daños'!G37=\"\",\"\",'TD Siniestros Daños'!G37)","v":35.175330980228743},0.18588993687954575,null,{"$f":"IF('TD Siniestros Daños'!H37=\"\",\"\",'TD Siniestros Daños'!H37)","v":5452.5139100000006},{"$f":"IF('TD Siniestros Daños'!I37=\"\",\"\",'TD Siniestros Daños'!I37)","v":34.603677177930095},{"$f":"IF('TD Siniestros Daños'!J37=\"\",\"\",'TD Siniestros Daños'!J37)","v":5515.1693700000005},{"$f":"IF('TD Siniestros Daños'!K37=\"\",\"\",'TD Siniestros Daños'!K37)","v":42.400712480535944},{"$f":"IF('TD Siniestros Daños'!L37=\"\",\"\",'TD Siniestros Daños'!L37)","v":98.863943139428926},{"$f":"IF('TD Siniestros Daños'!M37=\"\",\"\",'TD Siniestros Daños'!M37)","v":104.59072320201204}]
[null,{"$f":"IF('TD Siniestros Daños'!A38=\"\",\"\",'TD Siniestros Daños'!A38)","v":30},{"$f":"IF('TD Siniestros Daños'!B38=\"\",\"\",'TD Siniestros Daños'!B38)","v":"Atradius"},{"$f":"IF('TD Siniestros Daños'!C38=\"\",\"\",'TD Siniestros Daños'!C38)","v":23430.442950000004},{"$f":"IF('TD Siniestros Daños'!D38=\"\",\"\",'TD Siniestros Daños'!D38)","v":-20.880175829871629},{"$f":"IF('TD Siniestros Daños'!E38=\"\",\"\",'TD Siniestros Daños'!E38)","v":4052.0895499999997},{"$f":"IF('TD Siniestros Daños'!F38=\"\",\"\",'TD Siniestros Daños'!F38)","v":12.222213472147578},{"$f":"IF('TD Siniestros Daños'!G38=\"\",\"\",'TD Siniestros Daños'!G38)","v":15.728550882586291},7.5419885477440454E-2,null,{"$f":"IF('TD Siniestros Daños'!H38=\"\",\"\",'TD Siniestros Daños'!H38)","v":10105.43605},{"$f":"IF('TD Siniestros Daños'!I38=\"\",\"\",'TD Siniestros Daños'!I38)","v":-14.666607931453369},{"$f":"IF('TD Siniestros Daños'!J38=\"\",\"\",'TD Siniestros Daños'!J38)","v":28701.205579999998},{"$f":"IF('TD Siniestros Daños'!K38=\"\",\"\",'TD Siniestros Daños'!K38)","v":-34.038914371640004},{"$f":"IF('TD Siniestros Daños'!L38=\"\",\"\",'TD Siniestros Daños'!L38)","v":35.209099568423078},{"$f":"IF('TD Siniestros Daños'!M38=\"\",\"\",'TD Siniestros Daños'!M38)","v":27.215962886658073}]
[null,{"$f":"IF('TD Siniestros Daños'!A39=\"\",\"\",'TD Siniestros Daños'!A39)","v":31},{"$f":"IF('TD Siniestros Daños'!B39=\"\",\"\",'TD Siniestros Daños'!B39)","v":"Sompo Japan"},{"$f":"IF('TD Siniestros Daños'!C39=\"\",\"\",'TD Siniestros Daños'!C39)","v":23399.659439999996},{"$f":"IF('TD Siniestros Daños'!D39=\"\",\"\",'TD Siniestros Daños'!D39)","v":-175.70195648636934},{"$f":"IF('TD Siniestros Daños'!E39=\"\",\"\",'TD Siniestros Daños'!E39)","v":2.9510900000000002},{"$f":"IF('TD Siniestros Daños'!F39=\"\",\"\",'TD Siniestros Daños'!F39)","v":12.3786812412771},{"$f":"IF('TD Siniestros Daños'!G39=\"\",\"\",'TD Siniestros Daños'!G39)","v":-16.5467658487736},7.5320796919714564E-2,null,{"$f":"IF('TD Siniestros Daños'!H39=\"\",\"\",'TD Siniestros Daños'!H39)","v":8110.1187800000007},{"$f":"IF('TD Siniestros Daños'!I39=\"\",\"\",'TD Siniestros Daños'!I39)","v":-269.60612210995583},{"$f":"IF('TD Siniestros Daños'!J39=\"\",\"\",'TD Siniestros Daños'!J39)","v":-18513.69371},{"$f":"IF('TD Siniestros Daños'!K39=\"\",\"\",'TD Siniestros Daños'!K39)","v":-298.95875714682018},{"$f":"IF('TD Siniestros Daños'!L39=\"\",\"\",'TD Siniestros Daños'!L39)","v":-43.806054626578359},{"$f":"IF('TD Siniestros Daños'!M39=\"\",\"\",'TD Siniestros Daños'!M39)","v":-51.387285291266828}]
[null,{"$f":"IF('TD Siniestros Daños'!A40=\"\",\"\",'TD Siniestros Daños'!A40)","v":32},{"$f":"IF('TD Siniestros Daños'!B40=\"\",\"\",'TD Siniestros Daños'!B40)","v":"Solunion Crédito"},{"$f":"IF('TD Siniestros Daños'!C40=\"\",\"\",'TD Siniestros Daños'!C40)","v":46882.794429999994},{"$f":"IF('TD Siniestros Daños'!D40=\"\",\"\",'TD Siniestros Daños'!D40)","v":26.292151293753641},{"$f":"IF('TD Siniestros Daños'!E40=\"\",\"\",'TD Siniestros Daños'!E40)","v":186.24894},{"$f":"IF('TD Siniestros Daños'!F40=\"\",\"\",'TD Siniestros Daños'!F40)","v":26.969520651432926},{"$f":"IF('TD Siniestros Daños'!G40=\"\",\"\",'TD Siniestros Daños'!G40)","v":26.875798984777987},0.1509102919786236,null,{"$f":"IF('TD Siniestros Daños'!H40=\"\",\"\",'TD Siniestros Daños'!H40)","v":3101.8980799999999},{"$f":"IF('TD Siniestros Daños'!I40=\"\",\"\",'TD Siniestros Daños'!I40)","v":1.4232148933381872},{"$f":"IF('TD Siniestros Daños'!J40=\"\",\"\",'TD Siniestros Daños'!J40)","v":4675.4577900000004},{"$f":"IF('TD Siniestros Daños'!K40=\"\",\"\",'TD Siniestros Daños'!K40)","v":16.618523604592973},{"$f":"IF('TD Siniestros Daños'!L40=\"\",\"\",'TD Siniestros Daños'!L40)","v":66.344264440466688},{"$f":"IF('TD Siniestros Daños'!M40=\"\",\"\",'TD Siniestros Daños'!M40)","v":76.284016206906017}]
[null,{"$f":"IF('TD Siniestros Daños'!A41=\"\",\"\",'TD Siniestros Daños'!A41)","v":33},{"$f":"IF('TD Siniestros Daños'!B41=\"\",\"\",'TD Siniestros Daños'!B41)","v":"Ve Por Más"},{"$f":"IF('TD Siniestros Daños'!C41=\"\",\"\",'TD Siniestros Daños'!C41)","v":82306.511589999995},{"$f":"IF('TD Siniestros Daños'!D41=\"\",\"\",'TD Siniestros Daños'!D41)","v":-8265.7635520860658},{"$f":"IF('TD Siniestros Daños'!E41=\"\",\"\",'TD Siniestros Daños'!E41)","v":0},{"$f":"IF('TD Siniestros Daños'!F41=\"\",\"\",'TD Siniestros Daños'!F41)","v":55.486179323642816},{"$f":"IF('TD Siniestros Daños'!G41=\"\",\"\",'TD Siniestros Daños'!G41)","v":-0.86043424872968011},0.26493513978426192,null,{"$f":"IF('TD Siniestros Daños'!H41=\"\",\"\",'TD Siniestros Daños'!H41)","v":32980.58685},{"$f":"IF('TD Siniestros Daños'!I41=\"\",\"\",'TD Siniestros Daños'!I41)","v":11.37309044470598},{"$f":"IF('TD Siniestros Daños'!J41=\"\",\"\",'TD Siniestros Daños'!J41)","v":83494.443400000004},{"$f":"IF('TD Siniestros Daños'!K41=\"\",\"\",'TD Siniestros Daños'!K41)","v":37.991463789327362},{"$f":"IF('TD Siniestros Daños'!L41=\"\",\"\",'TD Siniestros Daños'!L41)","v":39.500337396105088},{"$f":"IF('TD Siniestros Daños'!M41=\"\",\"\",'TD Siniestros Daños'!M41)","v":48.940990644117868}]
[null,{"$f":"IF('TD Siniestros Daños'!A42=\"\",\"\",'TD Siniestros Daños'!A42)","v":34},{"$f":"IF('TD Siniestros Daños'!B42=\"\",\"\",'TD Siniestros Daños'!B42)","v":"La Latinoamericana"},{"$f":"IF('TD Siniestros Daños'!C42=\"\",\"\",'TD Siniestros Daños'!C42)","v":68105.185089999999},{"$f":"IF('TD Siniestros Daños'!D42=\"\",\"\",'TD Siniestros Daños'!D42)","v":-17.90282510095733},{"$f":"IF('TD Siniestros Daños'!E42=\"\",\"\",'TD Siniestros Daños'!E42)","v":143.19711999999998},{"$f":"IF('TD Siniestros Daños'!F42=\"\",\"\",'TD Siniestros Daños'!F42)","v":49.449663696179918},{"$f":"IF('TD Siniestros Daños'!G42=\"\",\"\",'TD Siniestros Daños'!G42)","v":66.02196939898343},0.21922271255685691,null,{"$f":"IF('TD Siniestros Daños'!H42=\"\",\"\",'TD Siniestros Daños'!H42)","v":29023.898129999998},{"$f":"IF('TD Siniestros Daños'!I42=\"\",\"\",'TD Siniestros Daños'!I42)","v":-17.929559072788813},{"$f":"IF('TD Siniestros Daños'!J42=\"\",\"\",'TD Siniestros Daños'!J42)","v":64736.669909999997},{"$f":"IF('TD Siniestros Daños'!K42=\"\",\"\",'TD Siniestros Daños'!K42)","v":16.535634149605482},{"$f":"IF('TD Siniestros Daños'!L42=\"\",\"\",'TD Siniestros Daños'!L42)","v":44.833783032631125},{"$f":"IF('TD Siniestros Daños'!M42=\"\",\"\",'TD Siniestros Daños'!M42)","v":63.661572644252516}]
[null,{"$f":"IF('TD Siniestros Daños'!A43=\"\",\"\",'TD Siniestros Daños'!A43)","v":35},{"$f":"IF('TD Siniestros Daños'!B43=\"\",\"\",'TD Siniestros Daños'!B43)","v":"Swiss Re Corporate Solutions"},{"$f":"IF('TD Siniestros Daños'!C43=\"\",\"\",'TD Siniestros Daños'!C43)","v":33258.891510000001},{"$f":"IF('TD Siniestros Daños'!D43=\"\",\"\",'TD Siniestros Daños'!D43)","v":114.90392420220115},{"$f":"IF('TD Siniestros Daños'!E43=\"\",\"\",'TD Siniestros Daños'!E43)","v":0},{"$f":"IF('TD Siniestros Daños'!F43=\"\",\"\",'TD Siniestros Daños'!F43)","v":25.2770876043847},{"$f":"IF('TD Siniestros Daños'!G43=\"\",\"\",'TD Siniestros Daños'!G43)","v":17.562891478878413},0.10705652446023504,null,{"$f":"IF('TD Siniestros Daños'!H43=\"\",\"\",'TD Siniestros Daños'!H43)","v":115.39917},{"$f":"IF('TD Siniestros Daños'!I43=\"\",\"\",'TD Siniestros Daños'!I43)","v":-90.470987072380709},{"$f":"IF('TD Siniestros Daños'!J43=\"\",\"\",'TD Siniestros Daños'!J43)","v":2133.3900800000001},{"$f":"IF('TD Siniestros Daños'!K43=\"\",\"\",'TD Siniestros Daños'!K43)","v":240.29598902191802},{"$f":"IF('TD Siniestros Daños'!L43=\"\",\"\",'TD Siniestros Daños'!L43)","v":5.4091922092372338},{"$f":"IF('TD Siniestros Daños'!M43=\"\",\"\",'TD Siniestros Daños'!M43)","v":193.17073306898354}]
[null,{"$f":"IF('TD Siniestros Daños'!A44=\"\",\"\",'TD Siniestros Daños'!A44)","v":36},{"$f":"IF('TD Siniestros Daños'!B44=\"\",\"\",'TD Siniestros Daños'!B44)","v":"SHF Cred Vivienda"},{"$f":"IF('TD Siniestros Daños'!C44=\"\",\"\",'TD Siniestros Daños'!C44)","v":-217169.86593},{"$f":"IF('TD Siniestros Daños'!D44=\"\",\"\",'TD Siniestros Daños'!D44)","v":-1371.3724803994501},{"$f":"IF('TD Siniestros Daños'!E44=\"\",\"\",'TD Siniestros Daños'!E44)","v":0},{"$f":"IF('TD Siniestros Daños'!F44=\"\",\"\",'TD Siniestros Daños'!F44)","v":-168.79771058926079},{"$f":"IF('TD Siniestros Daños'!G44=\"\",\"\",'TD Siniestros Daños'!G44)","v":17.309516611925197},-0.69904467672864445,null,{"$f":"IF('TD Siniestros Daños'!H44=\"\",\"\",'TD Siniestros Daños'!H44)","v":-201928.47188},{"$f":"IF('TD Siniestros Daños'!I44=\"\",\"\",'TD Siniestros Daños'!I44)","v":-1829.0022715389839},{"$f":"IF('TD Siniestros Daños'!J44=\"\",\"\",'TD Siniestros Daños'!J44)","v":174526.01066},{"$f":"IF('TD Siniestros Daños'!K44=\"\",\"\",'TD Siniestros Daños'!K44)","v":63.88151396298349},{"$f":"IF('TD Siniestros Daños'!L44=\"\",\"\",'TD Siniestros Daños'!L44)","v":-115.70107579745444},{"$f":"IF('TD Siniestros Daños'!M44=\"\",\"\",'TD Siniestros Daños'!M44)","v":10.966594885936921}]
[null,{"$f":"IF('TD Siniestros Daños'!A45=\"\",\"\",'TD Siniestros Daños'!A45)","v":37},{"$f":"IF('TD Siniestros Daños'!B45=\"\",\"\",'TD Siniestros Daños'!B45)","v":"Patrimonial Inbursa"},{"$f":"IF('TD Siniestros Daños'!C45=\"\",\"\",'TD Siniestros Daños'!C45)","v":-3547.3184600000004},{"$f":"IF('TD Siniestros Daños'!D45=\"\",\"\",'TD Siniestros Daños'!D45)","v":12.194559389528138},{"$f":"IF('TD Siniestros Daños'!E45=\"\",\"\",'TD Siniestros Daños'!E45)","v":0},{"$f":"IF('TD Siniestros Daños'!F45=\"\",\"\",'TD Siniestros Daños'!F45)","v":-3.4430868195895381},{"$f":"IF('TD Siniestros Daños'!G45=\"\",\"\",'TD Siniestros Daños'!G45)","v":-2.5971093101046678},-1.1418407777272108E-2,null,{"$f":"IF('TD Siniestros Daños'!H45=\"\",\"\",'TD Siniestros Daños'!H45)","v":-3565.7120599999998},{"$f":"IF('TD Siniestros Daños'!I45=\"\",\"\",'TD Siniestros Daños'!I45)","v":12.004703421472506},{"$f":"IF('TD Siniestros Daños'!J45=\"\",\"\",'TD Siniestros Daños'!J45)","v":67789.601219999997},{"$f":"IF('TD Siniestros Daños'!K45=\"\",\"\",'TD Siniestros Daños'!K45)","v":-1.6934826513926304},{"$f":"IF('TD Siniestros Daños'!L45=\"\",\"\",'TD Siniestros Daños'!L45)","v":-5.2599690746491756},{"$f":"IF('TD Siniestros Daños'!M45=\"\",\"\",'TD Siniestros Daños'!M45)","v":-4.6166743475435679}]
[null,{"$f":"IF('TD Siniestros Daños'!A46=\"\",\"\",'TD Siniestros Daños'!A46)","v":38},{"$f":"IF('TD Siniestros Daños'!B46=\"\",\"\",'TD Siniestros Daños'!B46)","v":"Coface"},{"$f":"IF('TD Siniestros Daños'!C46=\"\",\"\",'TD Siniestros Daños'!C46)","v":-2657.5302299999994},{"$f":"IF('TD Siniestros Daños'!D46=\"\",\"\",'TD Siniestros Daños'!D46)","v":-146.28642400994184},{"$f":"IF('TD Siniestros Daños'!E46=\"\",\"\",'TD Siniestros Daños'!E46)","v":-4724.9663799999998},{"$f":"IF('TD Siniestros Daños'!F46=\"\",\"\",'TD Siniestros Daños'!F46)","v":-2.6446064942571845},{"$f":"IF('TD Siniestros Daños'!G46=\"\",\"\",'TD Siniestros Daños'!G46)","v":5.0539713595749935},-8.554282393514712E-3,null,{"$f":"IF('TD Siniestros Daños'!H46=\"\",\"\",'TD Siniestros Daños'!H46)","v":-1796.71018},{"$f":"IF('TD Siniestros Daños'!I46=\"\",\"\",'TD Siniestros Daños'!I46)","v":-126.09850690600899},{"$f":"IF('TD Siniestros Daños'!J46=\"\",\"\",'TD Siniestros Daños'!J46)","v":14165.4684},{"$f":"IF('TD Siniestros Daños'!K46=\"\",\"\",'TD Siniestros Daños'!K46)","v":68.054159090258025},{"$f":"IF('TD Siniestros Daños'!L46=\"\",\"\",'TD Siniestros Daños'!L46)","v":-12.683732929014898},{"$f":"IF('TD Siniestros Daños'!M46=\"\",\"\",'TD Siniestros Daños'!M46)","v":81.673410635619135}]
[null,{"$f":"IF('TD Siniestros Daños'!A47=\"\",\"\",'TD Siniestros Daños'!A47)","v":39},{"$f":"IF('TD Siniestros Daños'!B47=\"\",\"\",'TD Siniestros Daños'!B47)","v":"Patrimonial Daños"},{"$f":"IF('TD Siniestros Daños'!C47=\"\",\"\",'TD Siniestros Daños'!C47)","v":10926.718380000002},{"$f":"IF('TD Siniestros Daños'!D47=\"\",\"\",'TD Siniestros Daños'!D47)","v":87.578612455353806},{"$f":"IF('TD Siniestros Daños'!E47=\"\",\"\",'TD Siniestros Daños'!E47)","v":0},{"$f":"IF('TD Siniestros Daños'!F47=\"\",\"\",'TD Siniestros Daños'!F47)","v":15.166183741990361},{"$f":"IF('TD Siniestros Daños'!G47=\"\",\"\",'TD Siniestros Daños'!G47)","v":11.182624358282716},3.5171842488101304E-2,null,{"$f":"IF('TD Siniestros Daños'!H47=\"\",\"\",'TD Siniestros Daños'!H47)","v":10747.49266},{"$f":"IF('TD Siniestros Daños'!I47=\"\",\"\",'TD Siniestros Daños'!I47)","v":110.23179221597572},{"$f":"IF('TD Siniestros Daños'!J47=\"\",\"\",'TD Siniestros Daños'!J47)","v":70207.554049999992},{"$f":"IF('TD Siniestros Daños'!K47=\"\",\"\",'TD Siniestros Daños'!K47)","v":41.680757237554886},{"$f":"IF('TD Siniestros Daños'!L47=\"\",\"\",'TD Siniestros Daños'!L47)","v":15.308171329179073},{"$f":"IF('TD Siniestros Daños'!M47=\"\",\"\",'TD Siniestros Daños'!M47)","v":10.316580965129134}]
[null,{"$f":"IF('TD Siniestros Daños'!A48=\"\",\"\",'TD Siniestros Daños'!A48)","v":40},{"$f":"IF('TD Siniestros Daños'!B48=\"\",\"\",'TD Siniestros Daños'!B48)","v":"Assurant Daños"},{"$f":"IF('TD Siniestros Daños'!C48=\"\",\"\",'TD Siniestros Daños'!C48)","v":19552.652689999999},{"$f":"IF('TD Siniestros Daños'!D48=\"\",\"\",'TD Siniestros Daños'!D48)","v":74.355335599841951},{"$f":"IF('TD Siniestros Daños'!E48=\"\",\"\",'TD Siniestros Daños'!E48)","v":148.32820999999998},{"$f":"IF('TD Siniestros Daños'!F48=\"\",\"\",'TD Siniestros Daños'!F48)","v":29.893176037336477},{"$f":"IF('TD Siniestros Daños'!G48=\"\",\"\",'TD Siniestros Daños'!G48)","v":18.073105804496009},6.2937727204169985E-2,null,{"$f":"IF('TD Siniestros Daños'!H48=\"\",\"\",'TD Siniestros Daños'!H48)","v":4762.7736299999997},{"$f":"IF('TD Siniestros Daños'!I48=\"\",\"\",'TD Siniestros Daños'!I48)","v":37.301043048024376},{"$f":"IF('TD Siniestros Daños'!J48=\"\",\"\",'TD Siniestros Daños'!J48)","v":11364.31833},{"$f":"IF('TD Siniestros Daños'!K48=\"\",\"\",'TD Siniestros Daños'!K48)","v":-28.316922739717533},{"$f":"IF('TD Siniestros Daños'!L48=\"\",\"\",'TD Siniestros Daños'!L48)","v":41.909892803926759},{"$f":"IF('TD Siniestros Daños'!M48=\"\",\"\",'TD Siniestros Daños'!M48)","v":21.880606418869199}]
[null,{"$f":"IF('TD Siniestros Daños'!A49=\"\",\"\",'TD Siniestros Daños'!A49)","v":41},{"$f":"IF('TD Siniestros Daños'!B49=\"\",\"\",'TD Siniestros Daños'!B49)","v":"Virginia Surety"},{"$f":"IF('TD Siniestros Daños'!C49=\"\",\"\",'TD Siniestros Daños'!C49)","v":9368.6654699999999},{"$f":"IF('TD Siniestros Daños'!D49=\"\",\"\",'TD Siniestros Daños'!D49)","v":85.054433377431636},{"$f":"IF('TD Siniestros Daños'!E49=\"\",\"\",'TD Siniestros Daños'!E49)","v":0},{"$f":"IF('TD Siniestros Daños'!F49=\"\",\"\",'TD Siniestros Daños'!F49)","v":26.251605284560565},{"$f":"IF('TD Siniestros Daños'!G49=\"\",\"\",'TD Siniestros Daños'!G49)","v":23.048020447350904},3.0156650402712544E-2,null,{"$f":"IF('TD Siniestros Daños'!H49=\"\",\"\",'TD Siniestros Daños'!H49)","v":5605.11139},{"$f":"IF('TD Siniestros Daños'!I49=\"\",\"\",'TD Siniestros Daños'!I49)","v":38.503948187238905},{"$f":"IF('TD Siniestros Daños'!J49=\"\",\"\",'TD Siniestros Daños'!J49)","v":14317.684130000001},{"$f":"IF('TD Siniestros Daños'!K49=\"\",\"\",'TD Siniestros Daños'!K49)","v":76.797567087337228},{"$f":"IF('TD Siniestros Daños'!L49=\"\",\"\",'TD Siniestros Daños'!L49)","v":39.148170466029129},{"$f":"IF('TD Siniestros Daños'!M49=\"\",\"\",'TD Siniestros Daños'!M49)","v":49.971870007327304}]
[null,{"$f":"IF('TD Siniestros Daños'!A50=\"\",\"\",'TD Siniestros Daños'!A50)","v":42},{"$f":"IF('TD Siniestros Daños'!B50=\"\",\"\",'TD Siniestros Daños'!B50)","v":"Genworth Seg. de Crédito"},{"$f":"IF('TD Siniestros Daños'!C50=\"\",\"\",'TD Siniestros Daños'!C50)","v":-272.83399000000003},{"$f":"IF('TD Siniestros Daños'!D50=\"\",\"\",'TD Siniestros Daños'!D50)","v":-103.14481076892315},{"$f":"IF('TD Siniestros Daños'!E50=\"\",\"\",'TD Siniestros Daños'!E50)","v":0},{"$f":"IF('TD Siniestros Daños'!F50=\"\",\"\",'TD Siniestros Daños'!F50)","v":-1.0779532884981573},{"$f":"IF('TD Siniestros Daños'!G50=\"\",\"\",'TD Siniestros Daños'!G50)","v":50.11262378880383},-8.7822105301484002E-4,null,{"$f":"IF('TD Siniestros Daños'!H50=\"\",\"\",'TD Siniestros Daños'!H50)","v":-7497.06286},{"$f":"IF('TD Siniestros Daños'!I50=\"\",\"\",'TD Siniestros Daños'!I50)","v":-491.95711476162893},{"$f":"IF('TD Siniestros Daños'!J50=\"\",\"\",'TD Siniestros Daños'!J50)","v":37646.082750000001},{"$f":"IF('TD Siniestros Daños'!K50=\"\",\"\",'TD Siniestros Daños'!K50)","v":-8.9343384169398696},{"$f":"IF('TD Siniestros Daños'!L50=\"\",\"\",'TD Siniestros Daños'!L50)","v":-19.914589546504676},{"$f":"IF('TD Siniestros Daños'!M50=\"\",\"\",'TD Siniestros Daños'!M50)","v":4.6268716752608361}]
[null,{"$f":"IF('TD Siniestros Daños'!A51=\"\",\"\",'TD Siniestros Daños'!A51)","v":43},{"$f":"IF('TD Siniestros Daños'!B51=\"\",\"\",'TD Siniestros Daños'!B51)","v":"Crabi"},{"$f":"IF('TD Siniestros Daños'!C51=\"\",\"\",'TD Siniestros Daños'!C51)","v":9879.7429499999998},{"$f":"IF('TD Siniestros Daños'!D51=\"\",\"\",'TD Siniestros Daños'!D51)","v":26.712764601749207},{"$f":"IF('TD Siniestros Daños'!E51=\"\",\"\",'TD Siniestros Daños'!E51)","v":0},{"$f":"IF('TD Siniestros Daños'!F51=\"\",\"\",'TD Siniestros Daños'!F51)","v":49.924582307419222},{"$f":"IF('TD Siniestros Daños'!G51=\"\",\"\",'TD Siniestros Daños'!G51)","v":84.728345479228835},3.180174969059002E-2,null,{"$f":"IF('TD Siniestros Daños'!H51=\"\",\"\",'TD Siniestros Daños'!H51)","v":3272.07431},{"$f":"IF('TD Siniestros Daños'!I51=\"\",\"\",'TD Siniestros Daños'!I51)","v":90.13171796166786},{"$f":"IF('TD Siniestros Daños'!J51=\"\",\"\",'TD Siniestros Daños'!J51)","v":4248.4987199999996},{"$f":"IF('TD Siniestros Daños'!K51=\"\",\"\",'TD Siniestros Daños'!K51)","v":82.973432572594447},{"$f":"IF('TD Siniestros Daños'!L51=\"\",\"\",'TD Siniestros Daños'!L51)","v":77.017189497941061},{"$f":"IF('TD Siniestros Daños'!M51=\"\",\"\",'TD Siniestros Daños'!M51)","v":74.117562711831866}]
[null,{"$f":"IF('TD Siniestros Daños'!A52=\"\",\"\",'TD Siniestros Daños'!A52)","v":44},{"$f":"IF('TD Siniestros Daños'!B52=\"\",\"\",'TD Siniestros Daños'!B52)","v":"Citibanamex Seguros"},{"$f":"IF('TD Siniestros Daños'!C52=\"\",\"\",'TD Siniestros Daños'!C52)","v":-2293.6310299999996},{"$f":"IF('TD Siniestros Daños'!D52=\"\",\"\",'TD Siniestros Daños'!D52)","v":-120.71184357402855},{"$f":"IF('TD Siniestros Daños'!E52=\"\",\"\",'TD Siniestros Daños'!E52)","v":0},{"$f":"IF('TD Siniestros Daños'!F52=\"\",\"\",'TD Siniestros Daños'!F52)","v":-15.828607252644117},{"$f":"IF('TD Siniestros Daños'!G52=\"\",\"\",'TD Siniestros Daños'!G52)","v":34.213079324094352},-7.3829329637194819E-3,null,{"$f":"IF('TD Siniestros Daños'!H52=\"\",\"\",'TD Siniestros Daños'!H52)","v":-86.947270000000003},{"$f":"IF('TD Siniestros Daños'!I52=\"\",\"\",'TD Siniestros Daños'!I52)","v":-100.94820110993984},{"$f":"IF('TD Siniestros Daños'!J52=\"\",\"\",'TD Siniestros Daños'!J52)","v":546.08054000000004},{"$f":"IF('TD Siniestros Daños'!K52=\"\",\"\",'TD Siniestros Daños'!K52)","v":521.12138186176765},{"$f":"IF('TD Siniestros Daños'!L52=\"\",\"\",'TD Siniestros Daños'!L52)","v":-15.922059775285161},{"$f":"IF('TD Siniestros Daños'!M52=\"\",\"\",'TD Siniestros Daños'!M52)","v":10429.782950093888}]
[null,{"$f":"IF('TD Siniestros Daños'!A53=\"\",\"\",'TD Siniestros Daños'!A53)","v":45},{"$f":"IF('TD Siniestros Daños'!B53=\"\",\"\",'TD Siniestros Daños'!B53)","v":"SPT"},{"$f":"IF('TD Siniestros Daños'!C53=\"\",\"\",'TD Siniestros Daños'!C53)","v":5304.1057499999997},{"$f":"IF('TD Siniestros Daños'!D53=\"\",\"\",'TD Siniestros Daños'!D53)","v":37.358399139250274},{"$f":"IF('TD Siniestros Daños'!E53=\"\",\"\",'TD Siniestros Daños'!E53)","v":0},{"$f":"IF('TD Siniestros Daños'!F53=\"\",\"\",'TD Siniestros Daños'!F53)","v":51.644129250604884},{"$f":"IF('TD Siniestros Daños'!G53=\"\",\"\",'TD Siniestros Daños'!G53)","v":50.207401051750978},1.7073302842754552E-2,null,{"$f":"IF('TD Siniestros Daños'!H53=\"\",\"\",'TD Siniestros Daños'!H53)","v":5304.1057499999997},{"$f":"IF('TD Siniestros Daños'!I53=\"\",\"\",'TD Siniestros Daños'!I53)","v":37.358399139250274},{"$f":"IF('TD Siniestros Daños'!J53=\"\",\"\",'TD Siniestros Daños'!J53)","v":7499.2788},{"$f":"IF('TD Siniestros Daños'!K53=\"\",\"\",'TD Siniestros Daños'!K53)","v":-8.2090469058285986},{"$f":"IF('TD Siniestros Daños'!L53=\"\",\"\",'TD Siniestros Daños'!L53)","v":70.728211224791366},{"$f":"IF('TD Siniestros Daños'!M53=\"\",\"\",'TD Siniestros Daños'!M53)","v":47.264746529171781}]
[null,{"$f":"IF('TD Siniestros Daños'!A54=\"\",\"\",'TD Siniestros Daños'!A54)","v":46},{"$f":"IF('TD Siniestros Daños'!B54=\"\",\"\",'TD Siniestros Daños'!B54)","v":"Zurich Daños"},{"$f":"IF('TD Siniestros Daños'!C54=\"\",\"\",'TD Siniestros Daños'!C54)","v":0},{"$f":"IF('TD Siniestros Daños'!D54=\"\",\"\",'TD Siniestros Daños'!D54)","v":0},{"$f":"IF('TD Siniestros Daños'!E54=\"\",\"\",'TD Siniestros Daños'!E54)","v":0},{"$f":"IF('TD Siniestros Daños'!F54=\"\",\"\",'TD Siniestros Daños'!F54)","v":0},{"$f":"IF('TD Siniestros Daños'!G54=\"\",\"\",'TD Siniestros Daños'!G54)","v":0},0,null,{"$f":"IF('TD Siniestros Daños'!H54=\"\",\"\",'TD Siniestros Daños'!H54)","v":0},{"$f":"IF('TD Siniestros Daños'!I54=\"\",\"\",'TD Siniestros Daños'!I54)","v":-100},{"$f":"IF('TD Siniestros Daños'!J54=\"\",\"\",'TD Siniestros Daños'!J54)","v":0},{"$f":"IF('TD Siniestros Daños'!K54=\"\",\"\",'TD Siniestros Daños'!K54)","v":-100},{"$f":"IF('TD Siniestros Daños'!L54=\"\",\"\",'TD Siniestros Daños'!L54)","v":0},{"$f":"IF('TD Siniestros Daños'!M54=\"\",\"\",'TD Siniestros Daños'!M54)","v":52.653637726434589}]
[null,{"$f":"IF('TD Siniestros Daños'!A55=\"\",\"\",'TD Siniestros Daños'!A55)","v":145},{"$f":"IF('TD Siniestros Daños'!B55=\"\",\"\",'TD Siniestros Daños'!B55)","v":"HSBC Seguros"},{"$f":"IF('TD Siniestros Daños'!C55=\"\",\"\",'TD Siniestros Daños'!C55)","v":0},{"$f":"IF('TD Siniestros Daños'!D55=\"\",\"\",'TD Siniestros Daños'!D55)","v":0},{"$f":"IF('TD Siniestros Daños'!E55=\"\",\"\",'TD Siniestros Daños'!E55)","v":0},{"$f":"IF('TD Siniestros Daños'!F55=\"\",\"\",'TD Siniestros Daños'!F55)","v":0},{"$f":"IF('TD Siniestros Daños'!G55=\"\",\"\",'TD Siniestros Daños'!G55)","v":0},0,null,{"$f":"IF('TD Siniestros Daños'!H55=\"\",\"\",'TD Siniestros Daños'!H55)","v":0},{"$f":"IF('TD Siniestros Daños'!I55=\"\",\"\",'TD Siniestros Daños'!I55)","v":0},{"$f":"IF('TD Siniestros Daños'!J55=\"\",\"\",'TD Siniestros Daños'!J55)","v":0},{"$f":"IF('TD Siniestros Daños'!K55=\"\",\"\",'TD Siniestros Daños'!K55)","v":0},{"$f":"IF('TD Siniestros Daños'!L55=\"\",\"\",'TD Siniestros Daños'!L55)","v":0},{"$f":"IF('TD Siniestros Daños'!M55=\"\",\"\",'TD Siniestros Daños'!M55)","v":0}]
[null,{"$f":"IF('TD Siniestros Daños'!A56=\"\",\"\",'TD Siniestros Daños'!A56)","v":150.1},{"$f":"IF('TD Siniestros Daños'!B56=\"\",\"\",'TD Siniestros Daños'!B56)","v":"TOTAL RESTO"},{"$f":"IF('TD Siniestros Daños'!C56=\"\",\"\",'TD Siniestros Daños'!C56)","v":3347161.6488000001},{"$f":"IF('TD Siniestros Daños'!D56=\"\",\"\",'TD Siniestros Daños'!D56)","v":-21.590293819859706},{"$f":"IF('TD Siniestros Daños'!E56=\"\",\"\",'TD Siniestros Daños'!E56)","v":16008.486989999999},{"$f":"IF('TD Siniestros Daños'!F56=\"\",\"\",'TD Siniestros Daños'!F56)","v":28.731468642657326},{"$f":"IF('TD Siniestros Daños'!G56=\"\",\"\",'TD Siniestros Daños'!G56)","v":32.773120843009721},10.774126155689121,null,{"$f":"IF('TD Siniestros Daños'!H56=\"\",\"\",'TD Siniestros Daños'!H56)","v":1988823.2303300002},{"$f":"IF('TD Siniestros Daños'!I56=\"\",\"\",'TD Siniestros Daños'!I56)","v":-17.106139119234363},{"$f":"IF('TD Siniestros Daños'!J56=\"\",\"\",'TD Siniestros Daños'!J56)","v":4373245.1066200007},{"$f":"IF('TD Siniestros Daños'!K56=\"\",\"\",'TD Siniestros Daños'!K56)","v":-17.105361256847385},{"$f":"IF('TD Siniestros Daños'!L56=\"\",\"\",'TD Siniestros Daños'!L56)","v":45.477058382102079},{"$f":"IF('TD Siniestros Daños'!M56=\"\",\"\",'TD Siniestros Daños'!M56)","v":45.477485131354797}]
[null,{"$f":"IF('TD Siniestros Daños'!A57=\"\",\"\",'TD Siniestros Daños'!A57)","v":151.1},{"$f":"IF('TD Siniestros Daños'!B57=\"\",\"\",'TD Siniestros Daños'!B57)","v":"TOTAL"},{"$f":"IF('TD Siniestros Daños'!C57=\"\",\"\",'TD Siniestros Daños'!C57)","v":31066664.715380006},{"$f":"IF('TD Siniestros Daños'!D57=\"\",\"\",'TD Siniestros Daños'!D57)","v":27.750707056773027},{"$f":"IF('TD Siniestros Daños'!E57=\"\",\"\",'TD Siniestros Daños'!E57)","v":303264.45369999995},{"$f":"IF('TD Siniestros Daños'!F57=\"\",\"\",'TD Siniestros Daños'!F57)","v":38.013228884748067},{"$f":"IF('TD Siniestros Daños'!G57=\"\",\"\",'TD Siniestros Daños'!G57)","v":37.512053494307665},100,null,{"$f":"IF('TD Siniestros Daños'!H57=\"\",\"\",'TD Siniestros Daños'!H57)","v":25102110.511209998},{"$f":"IF('TD Siniestros Daños'!I57=\"\",\"\",'TD Siniestros Daños'!I57)","v":32.568359568857062},{"$f":"IF('TD Siniestros Daños'!J57=\"\",\"\",'TD Siniestros Daños'!J57)","v":40558888.10193},{"$f":"IF('TD Siniestros Daños'!K57=\"\",\"\",'TD Siniestros Daños'!K57)","v":15.521549790959543},{"$f":"IF('TD Siniestros Daños'!L57=\"\",\"\",'TD Siniestros Daños'!L57)","v":61.890529267284109},{"$f":"IF('TD Siniestros Daños'!M57=\"\",\"\",'TD Siniestros Daños'!M57)","v":53.932098742051608}]
[null,{"$f":"IF('TD Siniestros Daños'!A58=\"\",\"\",'TD Siniestros Daños'!A58)","v":200},{"$f":"IF('TD Siniestros Daños'!B58=\"\",\"\",'TD Siniestros Daños'!B58)","v":"Patria"},{"$f":"IF('TD Siniestros Daños'!C58=\"\",\"\",'TD Siniestros Daños'!C58)","v":0},{"$f":"IF('TD Siniestros Daños'!D58=\"\",\"\",'TD Siniestros Daños'!D58)","v":0},{"$f":"IF('TD Siniestros Daños'!E58=\"\",\"\",'TD Siniestros Daños'!E58)","v":0},{"$f":"IF('TD Siniestros Daños'!F58=\"\",\"\",'TD Siniestros Daños'!F58)","v":0},{"$f":"IF('TD Siniestros Daños'!G58=\"\",\"\",'TD Siniestros Daños'!G58)","v":0},0,null,{"$f":"IF('TD Siniestros Daños'!H58=\"\",\"\",'TD Siniestros Daños'!H58)","v":772187.78844999999},{"$f":"IF('TD Siniestros Daños'!I58=\"\",\"\",'TD Siniestros Daños'!I58)","v":33.950736317475801},{"$f":"IF('TD Siniestros Daños'!J58=\"\",\"\",'TD Siniestros Daños'!J58)","v":1919373.5815999999},{"$f":"IF('TD Siniestros Daños'!K58=\"\",\"\",'TD Siniestros Daños'!K58)","v":10.313318966376283},{"$f":"IF('TD Siniestros Daños'!L58=\"\",\"\",'TD Siniestros Daños'!L58)","v":40.231239809308001},{"$f":"IF('TD Siniestros Daños'!M58=\"\",\"\",'TD Siniestros Daños'!M58)","v":33.131893944788736}]
[null,{"$f":"IF('TD Siniestros Daños'!A59=\"\",\"\",'TD Siniestros Daños'!A59)","v":""},{"$f":"IF('TD Siniestros Daños'!B59=\"\",\"\",'TD Siniestros Daños'!B59)","v":""},{"$f":"IF('TD Siniestros Daños'!C59=\"\",\"\",'TD Siniestros Daños'!C59)","v":""},{"$f":"IF('TD Siniestros Daños'!D59=\"\",\"\",'TD Siniestros Daños'!D59)","v":""},{"$f":"IF('TD Siniestros Daños'!E59=\"\",\"\",'TD Siniestros Daños'!E59)","v":""},{"$f":"IF('TD Siniestros Daños'!F59=\"\",\"\",'TD Siniestros Daños'!F59)","v":""},{"$f":"IF('TD Siniestros Daños'!G59=\"\",\"\",'TD Siniestros Daños'!G59)","v":""},"",null,{"$f":"IF('TD Siniestros Daños'!H59=\"\",\"\",'TD Siniestros Daños'!H59)","v":""},{"$f":"IF('TD Siniestros Daños'!I59=\"\",\"\",'TD Siniestros Daños'!I59)","v":""},{"$f":"IF('TD Siniestros Daños'!J59=\"\",\"\",'TD Siniestros Daños'!J59)","v":""},{"$f":"IF('TD Siniestros Daños'!K59=\"\",\"\",'TD Siniestros Daños'!K59)","v":""},{"$f":"IF('TD Siniestros Daños'!L59=\"\",\"\",'TD Siniestros Daños'!L59)","v":""},{"$f":"IF('TD Siniestros Daños'!M59=\"\",\"\",'TD Siniestros Daños'!M59)","v":""}]
[null,{"$f":"IF('TD Siniestros Daños'!A60=\"\",\"\",'TD Siniestros Daños'!A60)","v":""},{"$f":"IF('TD Siniestros Daños'!B60=\"\",\"\",'TD Siniestros Daños'!B60)","v":""},{"$f":"IF('TD Siniestros Daños'!C60=\"\",\"\",'TD Siniestros Daños'!C60)","v":""},{"$f":"IF('TD Siniestros Daños'!D60=\"\",\"\",'TD Siniestros Daños'!D60)","v":""},{"$f":"IF('TD Siniestros Daños'!E60=\"\",\"\",'TD Siniestros Daños'!E60)","v":""},{"$f":"IF('TD Siniestros Daños'!F60=\"\",\"\",'TD Siniestros Daños'!F60)","v":""},{"$f":"IF('TD Siniestros Daños'!G60=\"\",\"\",'TD Siniestros Daños'!G60)","v":""},"",null,{"$f":"IF('TD Siniestros Daños'!H60=\"\",\"\",'TD Siniestros Daños'!H60)","v":""},{"$f":"IF('TD Siniestros Daños'!I60=\"\",\"\",'TD Siniestros Daños'!I60)","v":""},{"$f":"IF('TD Siniestros Daños'!J60=\"\",\"\",'TD Siniestros Daños'!J60)","v":""},{"$f":"IF('TD Siniestros Daños'!K60=\"\",\"\",'TD Siniestros Daños'!K60)","v":""},{"$f":"IF('TD Siniestros Daños'!L60=\"\",\"\",'TD Siniestros Daños'!L60)","v":""},{"$f":"IF('TD Siniestros Daños'!M60=\"\",\"\",'TD Siniestros Daños'!M60)","v":""}]
[null,{"$f":"IF('TD Siniestros Daños'!A61=\"\",\"\",'TD Siniestros Daños'!A61)","v":""},{"$f":"IF('TD Siniestros Daños'!B61=\"\",\"\",'TD Siniestros Daños'!B61)","v":""},{"$f":"IF('TD Siniestros Daños'!C61=\"\",\"\",'TD Siniestros Daños'!C61)","v":""},{"$f":"IF('TD Siniestros Daños'!D61=\"\",\"\",'TD Siniestros Daños'!D61)","v":""},{"$f":"IF('TD Siniestros Daños'!E61=\"\",\"\",'TD Siniestros Daños'!E61)","v":""},{"$f":"IF('TD Siniestros Daños'!F61=\"\",\"\",'TD Siniestros Daños'!F61)","v":""},{"$f":"IF('TD Siniestros Daños'!G61=\"\",\"\",'TD Siniestros Daños'!G61)","v":""},"",null,{"$f":"IF('TD Siniestros Daños'!H61=\"\",\"\",'TD Siniestros Daños'!H61)","v":""},{"$f":"IF('TD Siniestros Daños'!I61=\"\",\"\",'TD Siniestros Daños'!I61)","v":""},{"$f":"IF('TD Siniestros Daños'!J61=\"\",\"\",'TD Siniestros Daños'!J61)","v":""},{"$f":"IF('TD Siniestros Daños'!K61=\"\",\"\",'TD Siniestros Daños'!K61)","v":""},{"$f":"IF('TD Siniestros Daños'!L61=\"\",\"\",'TD Siniestros Daños'!L61)","v":""},{"$f":"IF('TD Siniestros Daños'!M61=\"\",\"\",'TD Siniestros Daños'!M61)","v":""}]
[null,{"$f":"IF('TD Siniestros Daños'!A62=\"\",\"\",'TD Siniestros Daños'!A62)","v":""},{"$f":"IF('TD Siniestros Daños'!B62=\"\",\"\",'TD Siniestros Daños'!B62)","v":""},{"$f":"IF('TD Siniestros Daños'!C62=\"\",\"\",'TD Siniestros Daños'!C62)","v":""},{"$f":"IF('TD Siniestros Daños'!D62=\"\",\"\",'TD Siniestros Daños'!D62)","v":""},{"$f":"IF('TD Siniestros Daños'!E62=\"\",\"\",'TD Siniestros Daños'!E62)","v":""},{"$f":"IF('TD Siniestros Daños'!F62=\"\",\"\",'TD Siniestros Daños'!F62)","v":""},{"$f":"IF('TD Siniestros Daños'!G62=\"\",\"\",'TD Siniestros Daños'!G62)","v":""},"",null,{"$f":"IF('TD Siniestros Daños'!H62=\"\",\"\",'TD Siniestros Daños'!H62)","v":""},{"$f":"IF('TD Siniestros Daños'!I62=\"\",\"\",'TD Siniestros Daños'!I62)","v":""},{"$f":"IF('TD Siniestros Daños'!J62=\"\",\"\",'TD Siniestros Daños'!J62)","v":""},{"$f":"IF('TD Siniestros Daños'!K62=\"\",\"\",'TD Siniestros Daños'!K62)","v":""},{"$f":"IF('TD Siniestros Daños'!L62=\"\",\"\",'TD Siniestros Daños'!L62)","v":""},{"$f":"IF('TD Siniestros Daños'!M62=\"\",\"\",'TD Siniestros Daños'!M62)","v":""}]
[null,{"$f":"IF('TD Siniestros Daños'!A63=\"\",\"\",'TD Siniestros Daños'!A63)","v":""},{"$f":"IF('TD Siniestros Daños'!B63=\"\",\"\",'TD Siniestros Daños'!B63)","v":""},{"$f":"IF('TD Siniestros Daños'!C63=\"\",\"\",'TD Siniestros Daños'!C63)","v":""},{"$f":"IF('TD Siniestros Daños'!D63=\"\",\"\",'TD Siniestros Daños'!D63)","v":""},{"$f":"IF('TD Siniestros Daños'!E63=\"\",\"\",'TD Siniestros Daños'!E63)","v":""},{"$f":"IF('TD Siniestros Daños'!F63=\"\",\"\",'TD Siniestros Daños'!F63)","v":""},{"$f":"IF('TD Siniestros Daños'!G63=\"\",\"\",'TD Siniestros Daños'!G63)","v":""},"",null,{"$f":"IF('TD Siniestros Daños'!H63=\"\",\"\",'TD Siniestros Daños'!H63)","v":""},{"$f":"IF('TD Siniestros Daños'!I63=\"\",\"\",'TD Siniestros Daños'!I63)","v":""},{"$f":"IF('TD Siniestros Daños'!J63=\"\",\"\",'TD Siniestros Daños'!J63)","v":""},{"$f":"IF('TD Siniestros Daños'!K63=\"\",\"\",'TD Siniestros Daños'!K63)","v":""},{"$f":"IF('TD Siniestros Daños'!L63=\"\",\"\",'TD Siniestros Daños'!L63)","v":""},{"$f":"IF('TD Siniestros Daños'!M63=\"\",\"\",'TD Siniestros Daños'!M63)","v":""}]
[null,{"$f":"IF('TD Siniestros Daños'!A64=\"\",\"\",'TD Siniestros Daños'!A64)","v":""},{"$f":"IF('TD Siniestros Daños'!B64=\"\",\"\",'TD Siniestros Daños'!B64)","v":""},{"$f":"IF('TD Siniestros Daños'!C64=\"\",\"\",'TD Siniestros Daños'!C64)","v":""},{"$f":"IF('TD Siniestros Daños'!D64=\"\",\"\",'TD Siniestros Daños'!D64)","v":""},{"$f":"IF('TD Siniestros Daños'!E64=\"\",\"\",'TD Siniestros Daños'!E64)","v":""},{"$f":"IF('TD Siniestros Daños'!F64=\"\",\"\",'TD Siniestros Daños'!F64)","v":""},{"$f":"IF('TD Siniestros Daños'!G64=\"\",\"\",'TD Siniestros Daños'!G64)","v":""},"",null,{"$f":"IF('TD Siniestros Daños'!H64=\"\",\"\",'TD Siniestros Daños'!H64)","v":""},{"$f":"IF('TD Siniestros Daños'!I64=\"\",\"\",'TD Siniestros Daños'!I64)","v":""},{"$f":"IF('TD Siniestros Daños'!J64=\"\",\"\",'TD Siniestros Daños'!J64)","v":""},{"$f":"IF('TD Siniestros Daños'!K64=\"\",\"\",'TD Siniestros Daños'!K64)","v":""},{"$f":"IF('TD Siniestros Daños'!L64=\"\",\"\",'TD Siniestros Daños'!L64)","v":""},{"$f":"IF('TD Siniestros Daños'!M64=\"\",\"\",'TD Siniestros Daños'!M64)","v":""}]
[null,{"$f":"IF('TD Siniestros Daños'!A65=\"\",\"\",'TD Siniestros Daños'!A65)","v":""},{"$f":"IF('TD Siniestros Daños'!B65=\"\",\"\",'TD Siniestros Daños'!B65)","v":""},{"$f":"IF('TD Siniestros Daños'!C65=\"\",\"\",'TD Siniestros Daños'!C65)","v":""},{"$f":"IF('TD Siniestros Daños'!D65=\"\",\"\",'TD Siniestros Daños'!D65)","v":""},{"$f":"IF('TD Siniestros Daños'!E65=\"\",\"\",'TD Siniestros Daños'!E65)","v":""},{"$f":"IF('TD Siniestros Daños'!F65=\"\",\"\",'TD Siniestros Daños'!F65)","v":""},{"$f":"IF('TD Siniestros Daños'!G65=\"\",\"\",'TD Siniestros Daños'!G65)","v":""},"",null,{"$f":"IF('TD Siniestros Daños'!H65=\"\",\"\",'TD Siniestros Daños'!H65)","v":""},{"$f":"IF('TD Siniestros Daños'!I65=\"\",\"\",'TD Siniestros Daños'!I65)","v":""},{"$f":"IF('TD Siniestros Daños'!J65=\"\",\"\",'TD Siniestros Daños'!J65)","v":""},{"$f":"IF('TD Siniestros Daños'!K65=\"\",\"\",'TD Siniestros Daños'!K65)","v":""},{"$f":"IF('TD Siniestros Daños'!L65=\"\",\"\",'TD Siniestros Daños'!L65)","v":""},{"$f":"IF('TD Siniestros Daños'!M65=\"\",\"\",'TD Siniestros Daños'!M65)","v":""}]
[null,{"$f":"IF('TD Siniestros Daños'!A66=\"\",\"\",'TD Siniestros Daños'!A66)","v":""},{"$f":"IF('TD Siniestros Daños'!B66=\"\",\"\",'TD Siniestros Daños'!B66)","v":""},{"$f":"IF('TD Siniestros Daños'!C66=\"\",\"\",'TD Siniestros Daños'!C66)","v":""},{"$f":"IF('TD Siniestros Daños'!D66=\"\",\"\",'TD Siniestros Daños'!D66)","v":""},{"$f":"IF('TD Siniestros Daños'!E66=\"\",\"\",'TD Siniestros Daños'!E66)","v":""},{"$f":"IF('TD Siniestros Daños'!F66=\"\",\"\",'TD Siniestros Daños'!F66)","v":""},{"$f":"IF('TD Siniestros Daños'!G66=\"\",\"\",'TD Siniestros Daños'!G66)","v":""},"",null,{"$f":"IF('TD Siniestros Daños'!H66=\"\",\"\",'TD Siniestros Daños'!H66)","v":""},{"$f":"IF('TD Siniestros Daños'!I66=\"\",\"\",'TD Siniestros Daños'!I66)","v":""},{"$f":"IF('TD Siniestros Daños'!J66=\"\",\"\",'TD Siniestros Daños'!J66)","v":""},{"$f":"IF('TD Siniestros Daños'!K66=\"\",\"\",'TD Siniestros Daños'!K66)","v":""},{"$f":"IF('TD Siniestros Daños'!L66=\"\",\"\",'TD Siniestros Daños'!L66)","v":""},{"$f":"IF('TD Siniestros Daños'!M66=\"\",\"\",'TD Siniestros Daños'!M66)","v":""}]
[null,{"$f":"IF('TD Siniestros Daños'!A67=\"\",\"\",'TD Siniestros Daños'!A67)","v":""},{"$f":"IF('TD Siniestros Daños'!B67=\"\",\"\",'TD Siniestros Daños'!B67)","v":""},{"$f":"IF('TD Siniestros Daños'!C67=\"\",\"\",'TD Siniestros Daños'!C67)","v":""},{"$f":"IF('TD Siniestros Daños'!D67=\"\",\"\",'TD Siniestros Daños'!D67)","v":""},{"$f":"IF('TD Siniestros Daños'!E67=\"\",\"\",'TD Siniestros Daños'!E67)","v":""},{"$f":"IF('TD Siniestros Daños'!F67=\"\",\"\",'TD Siniestros Daños'!F67)","v":""},{"$f":"IF('TD Siniestros Daños'!G67=\"\",\"\",'TD Siniestros Daños'!G67)","v":""},"",null,{"$f":"IF('TD Siniestros Daños'!H67=\"\",\"\",'TD Siniestros Daños'!H67)","v":""},{"$f":"IF('TD Siniestros Daños'!I67=\"\",\"\",'TD Siniestros Daños'!I67)","v":""},{"$f":"IF('TD Siniestros Daños'!J67=\"\",\"\",'TD Siniestros Daños'!J67)","v":""},{"$f":"IF('TD Siniestros Daños'!K67=\"\",\"\",'TD Siniestros Daños'!K67)","v":""},{"$f":"IF('TD Siniestros Daños'!L67=\"\",\"\",'TD Siniestros Daños'!L67)","v":""},{"$f":"IF('TD Siniestros Daños'!M67=\"\",\"\",'TD Siniestros Daños'!M67)","v":""}]
[null,{"$f":"IF('TD Siniestros Daños'!A68=\"\",\"\",'TD Siniestros Daños'!A68)","v":""},{"$f":"IF('TD Siniestros Daños'!B68=\"\",\"\",'TD Siniestros Daños'!B68)","v":""},{"$f":"IF('TD Siniestros Daños'!C68=\"\",\"\",'TD Siniestros Daños'!C68)","v":""},{"$f":"IF('TD Siniestros Daños'!D68=\"\",\"\",'TD Siniestros Daños'!D68)","v":""},{"$f":"IF('TD Siniestros Daños'!E68=\"\",\"\",'TD Siniestros Daños'!E68)","v":""},{"$f":"IF('TD Siniestros Daños'!F68=\"\",\"\",'TD Siniestros Daños'!F68)","v":""},{"$f":"IF('TD Siniestros Daños'!G68=\"\",\"\",'TD Siniestros Daños'!G68)","v":""},"",null,{"$f":"IF('TD Siniestros Daños'!H68=\"\",\"\",'TD Siniestros Daños'!H68)","v":""},{"$f":"IF('TD Siniestros Daños'!I68=\"\",\"\",'TD Siniestros Daños'!I68)","v":""},{"$f":"IF('TD Siniestros Daños'!J68=\"\",\"\",'TD Siniestros Daños'!J68)","v":""},{"$f":"IF('TD Siniestros Daños'!K68=\"\",\"\",'TD Siniestros Daños'!K68)","v":""},{"$f":"IF('TD Siniestros Daños'!L68=\"\",\"\",'TD Siniestros Daños'!L68)","v":""},{"$f":"IF('TD Siniestros Daños'!M68=\"\",\"\",'TD Siniestros Daños'!M68)","v":""}]
[null,{"$f":"IF('TD Siniestros Daños'!A69=\"\",\"\",'TD Siniestros Daños'!A69)","v":""},{"$f":"IF('TD Siniestros Daños'!B69=\"\",\"\",'TD Siniestros Daños'!B69)","v":""},{"$f":"IF('TD Siniestros Daños'!C69=\"\",\"\",'TD Siniestros Daños'!C69)","v":""},{"$f":"IF('TD Siniestros Daños'!D69=\"\",\"\",'TD Siniestros Daños'!D69)","v":""},{"$f":"IF('TD Siniestros Daños'!E69=\"\",\"\",'TD Siniestros Daños'!E69)","v":""},{"$f":"IF('TD Siniestros Daños'!F69=\"\",\"\",'TD Siniestros Daños'!F69)","v":""},{"$f":"IF('TD Siniestros Daños'!G69=\"\",\"\",'TD Siniestros Daños'!G69)","v":""},"",null,{"$f":"IF('TD Siniestros Daños'!H69=\"\",\"\",'TD Siniestros Daños'!H69)","v":""},{"$f":"IF('TD Siniestros Daños'!I69=\"\",\"\",'TD Siniestros Daños'!I69)","v":""},{"$f":"IF('TD Siniestros Daños'!J69=\"\",\"\",'TD Siniestros Daños'!J69)","v":""},{"$f":"IF('TD Siniestros Daños'!K69=\"\",\"\",'TD Siniestros Daños'!K69)","v":""},{"$f":"IF('TD Siniestros Daños'!L69=\"\",\"\",'TD Siniestros Daños'!L69)","v":""},{"$f":"IF('TD Siniestros Daños'!M69=\"\",\"\",'TD Siniestros Daños'!M69)","v":""}]
[null,{"$f":"IF('TD Siniestros Daños'!A70=\"\",\"\",'TD Siniestros Daños'!A70)","v":""},{"$f":"IF('TD Siniestros Daños'!B70=\"\",\"\",'TD Siniestros Daños'!B70)","v":""},{"$f":"IF('TD Siniestros Daños'!C70=\"\",\"\",'TD Siniestros Daños'!C70)","v":""},{"$f":"IF('TD Siniestros Daños'!D70=\"\",\"\",'TD Siniestros Daños'!D70)","v":""},{"$f":"IF('TD Siniestros Daños'!E70=\"\",\"\",'TD Siniestros Daños'!E70)","v":""},{"$f":"IF('TD Siniestros Daños'!F70=\"\",\"\",'TD Siniestros Daños'!F70)","v":""},{"$f":"IF('TD Siniestros Daños'!G70=\"\",\"\",'TD Siniestros Daños'!G70)","v":""},"",null,{"$f":"IF('TD Siniestros Daños'!H70=\"\",\"\",'TD Siniestros Daños'!H70)","v":""},{"$f":"IF('TD Siniestros Daños'!I70=\"\",\"\",'TD Siniestros Daños'!I70)","v":""},{"$f":"IF('TD Siniestros Daños'!J70=\"\",\"\",'TD Siniestros Daños'!J70)","v":""},{"$f":"IF('TD Siniestros Daños'!K70=\"\",\"\",'TD Siniestros Daños'!K70)","v":""},{"$f":"IF('TD Siniestros Daños'!L70=\"\",\"\",'TD Siniestros Daños'!L70)","v":""},{"$f":"IF('TD Siniestros Daños'!M70=\"\",\"\",'TD Siniestros Daños'!M70)","v":""}]
[null,{"$f":"IF('TD Siniestros Daños'!A71=\"\",\"\",'TD Siniestros Daños'!A71)","v":""},{"$f":"IF('TD Siniestros Daños'!B71=\"\",\"\",'TD Siniestros Daños'!B71)","v":""},{"$f":"IF('TD Siniestros Daños'!C71=\"\",\"\",'TD Siniestros Daños'!C71)","v":""},{"$f":"IF('TD Siniestros Daños'!D71=\"\",\"\",'TD Siniestros Daños'!D71)","v":""},{"$f":"IF('TD Siniestros Daños'!E71=\"\",\"\",'TD Siniestros Daños'!E71)","v":""},{"$f":"IF('TD Siniestros Daños'!F71=\"\",\"\",'TD Siniestros Daños'!F71)","v":""},{"$f":"IF('TD Siniestros Daños'!G71=\"\",\"\",'TD Siniestros Daños'!G71)","v":""},"",null,{"$f":"IF('TD Siniestros Daños'!H71=\"\",\"\",'TD Siniestros Daños'!H71)","v":""},{"$f":"IF('TD Siniestros Daños'!I71=\"\",\"\",'TD Siniestros Daños'!I71)","v":""},{"$f":"IF('TD Siniestros Daños'!J71=\"\",\"\",'TD Siniestros Daños'!J71)","v":""},{"$f":"IF('TD Siniestros Daños'!K71=\"\",\"\",'TD Siniestros Daños'!K71)","v":""},{"$f":"IF('TD Siniestros Daños'!L71=\"\",\"\",'TD Siniestros Daños'!L71)","v":""},{"$f":"IF('TD Siniestros Daños'!M71=\"\",\"\",'TD Siniestros Daños'!M71)","v":""}]
[null,{"$f":"IF('TD Siniestros Daños'!A72=\"\",\"\",'TD Siniestros Daños'!A72)","v":""},{"$f":"IF('TD Siniestros Daños'!B72=\"\",\"\",'TD Siniestros Daños'!B72)","v":""},{"$f":"IF('TD Siniestros Daños'!C72=\"\",\"\",'TD Siniestros Daños'!C72)","v":""},{"$f":"IF('TD Siniestros Daños'!D72=\"\",\"\",'TD Siniestros Daños'!D72)","v":""},{"$f":"IF('TD Siniestros Daños'!E72=\"\",\"\",'TD Siniestros Daños'!E72)","v":""},{"$f":"IF('TD Siniestros Daños'!F72=\"\",\"\",'TD Siniestros Daños'!F72)","v":""},{"$f":"IF('TD Siniestros Daños'!G72=\"\",\"\",'TD Siniestros Daños'!G72)","v":""},{"$f":"IFERROR(D73/VLOOKUP(\"TOTAL\",$C$8:$D$124,2,0)*100,\"\")","v":""},null,{"$f":"IF('TD Siniestros Daños'!H72=\"\",\"\",'TD Siniestros Daños'!H72)","v":""},{"$f":"IF('TD Siniestros Daños'!I72=\"\",\"\",'TD Siniestros Daños'!I72)","v":""},{"$f":"IF('TD Siniestros Daños'!J72=\"\",\"\",'TD Siniestros Daños'!J72)","v":""},{"$f":"IF('TD Siniestros Daños'!K72=\"\",\"\",'TD Siniestros Daños'!K72)","v":""},{"$f":"IF('TD Siniestros Daños'!L72=\"\",\"\",'TD Siniestros Daños'!L72)","v":""},{"$f":"IF('TD Siniestros Daños'!M72=\"\",\"\",'TD Siniestros Daños'!M72)","v":""}]
[null,{"$f":"IF('TD Siniestros Daños'!A73=\"\",\"\",'TD Siniestros Daños'!A73)","v":""},{"$f":"IF('TD Siniestros Daños'!B73=\"\",\"\",'TD Siniestros Daños'!B73)","v":""},{"$f":"IF('TD Siniestros Daños'!C73=\"\",\"\",'TD Siniestros Daños'!C73)","v":""},{"$f":"IF('TD Siniestros Daños'!D73=\"\",\"\",'TD Siniestros Daños'!D73)","v":""},{"$f":"IF('TD Siniestros Daños'!E73=\"\",\"\",'TD Siniestros Daños'!E73)","v":""},{"$f":"IF('TD Siniestros Daños'!F73=\"\",\"\",'TD Siniestros Daños'!F73)","v":""},{"$f":"IF('TD Siniestros Daños'!G73=\"\",\"\",'TD Siniestros Daños'!G73)","v":""},"",null,{"$f":"IF('TD Siniestros Daños'!H73=\"\",\"\",'TD Siniestros Daños'!H73)","v":""},{"$f":"IF('TD Siniestros Daños'!I73=\"\",\"\",'TD Siniestros Daños'!I73)","v":""},{"$f":"IF('TD Siniestros Daños'!J73=\"\",\"\",'TD Siniestros Daños'!J73)","v":""},{"$f":"IF('TD Siniestros Daños'!K73=\"\",\"\",'TD Siniestros Daños'!K73)","v":""},{"$f":"IF('TD Siniestros Daños'!L73=\"\",\"\",'TD Siniestros Daños'!L73)","v":""},{"$f":"IF('TD Siniestros Daños'!M73=\"\",\"\",'TD Siniestros Daños'!M73)","v":""}]
[null,{"$f":"IF('TD Siniestros Daños'!A74=\"\",\"\",'TD Siniestros Daños'!A74)","v":""},{"$f":"IF('TD Siniestros Daños'!B74=\"\",\"\",'TD Siniestros Daños'!B74)","v":""},{"$f":"IF('TD Siniestros Daños'!C74=\"\",\"\",'TD Siniestros Daños'!C74)","v":""},{"$f":"IF('TD Siniestros Daños'!D74=\"\",\"\",'TD Siniestros Daños'!D74)","v":""},{"$f":"IF('TD Siniestros Daños'!E74=\"\",\"\",'TD Siniestros Daños'!E74)","v":""},{"$f":"IF('TD Siniestros Daños'!F74=\"\",\"\",'TD Siniestros Daños'!F74)","v":""},{"$f":"IF('TD Siniestros Daños'!G74=\"\",\"\",'TD Siniestros Daños'!G74)","v":""},"",null,{"$f":"IF('TD Siniestros Daños'!H74=\"\",\"\",'TD Siniestros Daños'!H74)","v":""},{"$f":"IF('TD Siniestros Daños'!I74=\"\",\"\",'TD Siniestros Daños'!I74)","v":""},{"$f":"IF('TD Siniestros Daños'!J74=\"\",\"\",'TD Siniestros Daños'!J74)","v":""},{"$f":"IF('TD Siniestros Daños'!K74=\"\",\"\",'TD Siniestros Daños'!K74)","v":""},{"$f":"IF('TD Siniestros Daños'!L74=\"\",\"\",'TD Siniestros Daños'!L74)","v":""},{"$f":"IF('TD Siniestros Daños'!M74=\"\",\"\",'TD Siniestros Daños'!M74)","v":""}]
[null,{"$f":"IF('TD Siniestros Daños'!A75=\"\",\"\",'TD Siniestros Daños'!A75)","v":""},{"$f":"IF('TD Siniestros Daños'!B75=\"\",\"\",'TD Siniestros Daños'!B75)","v":""},{"$f":"IF('TD Siniestros Daños'!C75=\"\",\"\",'TD Siniestros Daños'!C75)","v":""},{"$f":"IF('TD Siniestros Daños'!D75=\"\",\"\",'TD Siniestros Daños'!D75)","v":""},{"$f":"IF('TD Siniestros Daños'!E75=\"\",\"\",'TD Siniestros Daños'!E75)","v":""},{"$f":"IF('TD Siniestros Daños'!F75=\"\",\"\",'TD Siniestros Daños'!F75)","v":""},{"$f":"IF('TD Siniestros Daños'!G75=\"\",\"\",'TD Siniestros Daños'!G75)","v":""},"",null,{"$f":"IF('TD Siniestros Daños'!H75=\"\",\"\",'TD Siniestros Daños'!H75)","v":""},{"$f":"IF('TD Siniestros Daños'!I75=\"\",\"\",'TD Siniestros Daños'!I75)","v":""},{"$f":"IF('TD Siniestros Daños'!J75=\"\",\"\",'TD Siniestros Daños'!J75)","v":""},{"$f":"IF('TD Siniestros Daños'!K75=\"\",\"\",'TD Siniestros Daños'!K75)","v":""},{"$f":"IF('TD Siniestros Daños'!L75=\"\",\"\",'TD Siniestros Daños'!L75)","v":""},{"$f":"IF('TD Siniestros Daños'!M75=\"\",\"\",'TD Siniestros Daños'!M75)","v":""}]
[null,{"$f":"IF('TD Siniestros Daños'!A76=\"\",\"\",'TD Siniestros Daños'!A76)","v":""},{"$f":"IF('TD Siniestros Daños'!B76=\"\",\"\",'TD Siniestros Daños'!B76)","v":""},{"$f":"IF('TD Siniestros Daños'!C76=\"\",\"\",'TD Siniestros Daños'!C76)","v":""},{"$f":"IF('TD Siniestros Daños'!D76=\"\",\"\",'TD Siniestros Daños'!D76)","v":""},{"$f":"IF('TD Siniestros Daños'!E76=\"\",\"\",'TD Siniestros Daños'!E76)","v":""},{"$f":"IF('TD Siniestros Daños'!F76=\"\",\"\",'TD Siniestros Daños'!F76)","v":""},{"$f":"IF('TD Siniestros Daños'!G76=\"\",\"\",'TD Siniestros Daños'!G76)","v":""},"",null,{"$f":"IF('TD Siniestros Daños'!H76=\"\",\"\",'TD Siniestros Daños'!H76)","v":""},{"$f":"IF('TD Siniestros Daños'!I76=\"\",\"\",'TD Siniestros Daños'!I76)","v":""},{"$f":"IF('TD Siniestros Daños'!J76=\"\",\"\",'TD Siniestros Daños'!J76)","v":""},{"$f":"IF('TD Siniestros Daños'!K76=\"\",\"\",'TD Siniestros Daños'!K76)","v":""},{"$f":"IF('TD Siniestros Daños'!L76=\"\",\"\",'TD Siniestros Daños'!L76)","v":""},{"$f":"IF('TD Siniestros Daños'!M76=\"\",\"\",'TD Siniestros Daños'!M76)","v":""}]
[null,{"$f":"IF('TD Siniestros Daños'!A77=\"\",\"\",'TD Siniestros Daños'!A77)","v":""},{"$f":"IF('TD Siniestros Daños'!B77=\"\",\"\",'TD Siniestros Daños'!B77)","v":""},{"$f":"IF('TD Siniestros Daños'!C77=\"\",\"\",'TD Siniestros Daños'!C77)","v":""},{"$f":"IF('TD Siniestros Daños'!D77=\"\",\"\",'TD Siniestros Daños'!D77)","v":""},{"$f":"IF('TD Siniestros Daños'!E77=\"\",\"\",'TD Siniestros Daños'!E77)","v":""},{"$f":"IF('TD Siniestros Daños'!F77=\"\",\"\",'TD Siniestros Daños'!F77)","v":""},{"$f":"IF('TD Siniestros Daños'!G77=\"\",\"\",'TD Siniestros Daños'!G77)","v":""},"",null,{"$f":"IF('TD Siniestros Daños'!H77=\"\",\"\",'TD Siniestros Daños'!H77)","v":""},{"$f":"IF('TD Siniestros Daños'!I77=\"\",\"\",'TD Siniestros Daños'!I77)","v":""},{"$f":"IF('TD Siniestros Daños'!J77=\"\",\"\",'TD Siniestros Daños'!J77)","v":""},{"$f":"IF('TD Siniestros Daños'!K77=\"\",\"\",'TD Siniestros Daños'!K77)","v":""},{"$f":"IF('TD Siniestros Daños'!L77=\"\",\"\",'TD Siniestros Daños'!L77)","v":""},{"$f":"IF('TD Siniestros Daños'!M77=\"\",\"\",'TD Siniestros Daños'!M77)","v":""}]
[null,{"$f":"IF('TD Siniestros Daños'!A78=\"\",\"\",'TD Siniestros Daños'!A78)","v":""},{"$f":"IF('TD Siniestros Daños'!B78=\"\",\"\",'TD Siniestros Daños'!B78)","v":""},{"$f":"IF('TD Siniestros Daños'!C78=\"\",\"\",'TD Siniestros Daños'!C78)","v":""},{"$f":"IF('TD Siniestros Daños'!D78=\"\",\"\",'TD Siniestros Daños'!D78)","v":""},{"$f":"IF('TD Siniestros Daños'!E78=\"\",\"\",'TD Siniestros Daños'!E78)","v":""},{"$f":"IF('TD Siniestros Daños'!F78=\"\",\"\",'TD Siniestros Daños'!F78)","v":""},{"$f":"IF('TD Siniestros Daños'!G78=\"\",\"\",'TD Siniestros Daños'!G78)","v":""},"",null,{"$f":"IF('TD Siniestros Daños'!H78=\"\",\"\",'TD Siniestros Daños'!H78)","v":""},{"$f":"IF('TD Siniestros Daños'!I78=\"\",\"\",'TD Siniestros Daños'!I78)","v":""},{"$f":"IF('TD Siniestros Daños'!J78=\"\",\"\",'TD Siniestros Daños'!J78)","v":""},{"$f":"IF('TD Siniestros Daños'!K78=\"\",\"\",'TD Siniestros Daños'!K78)","v":""},{"$f":"IF('TD Siniestros Daños'!L78=\"\",\"\",'TD Siniestros Daños'!L78)","v":""},{"$f":"IF('TD Siniestros Daños'!M78=\"\",\"\",'TD Siniestros Daños'!M78)","v":""}]
[null,{"$f":"IF('TD Siniestros Daños'!A79=\"\",\"\",'TD Siniestros Daños'!A79)","v":""},{"$f":"IF('TD Siniestros Daños'!B79=\"\",\"\",'TD Siniestros Daños'!B79)","v":""},{"$f":"IF('TD Siniestros Daños'!C79=\"\",\"\",'TD Siniestros Daños'!C79)","v":""},{"$f":"IF('TD Siniestros Daños'!D79=\"\",\"\",'TD Siniestros Daños'!D79)","v":""},{"$f":"IF('TD Siniestros Daños'!E79=\"\",\"\",'TD Siniestros Daños'!E79)","v":""},{"$f":"IF('TD Siniestros Daños'!F79=\"\",\"\",'TD Siniestros Daños'!F79)","v":""},{"$f":"IF('TD Siniestros Daños'!G79=\"\",\"\",'TD Siniestros Daños'!G79)","v":""},"",null,{"$f":"IF('TD Siniestros Daños'!H79=\"\",\"\",'TD Siniestros Daños'!H79)","v":""},{"$f":"IF('TD Siniestros Daños'!I79=\"\",\"\",'TD Siniestros Daños'!I79)","v":""},{"$f":"IF('TD Siniestros Daños'!J79=\"\",\"\",'TD Siniestros Daños'!J79)","v":""},{"$f":"IF('TD Siniestros Daños'!K79=\"\",\"\",'TD Siniestros Daños'!K79)","v":""},{"$f":"IF('TD Siniestros Daños'!L79=\"\",\"\",'TD Siniestros Daños'!L79)","v":""},{"$f":"IF('TD Siniestros Daños'!M79=\"\",\"\",'TD Siniestros Daños'!M79)","v":""}]
[null,{"$f":"IF('TD Siniestros Daños'!A80=\"\",\"\",'TD Siniestros Daños'!A80)","v":""},{"$f":"IF('TD Siniestros Daños'!B80=\"\",\"\",'TD Siniestros Daños'!B80)","v":""},{"$f":"IF('TD Siniestros Daños'!C80=\"\",\"\",'TD Siniestros Daños'!C80)","v":""},{"$f":"IF('TD Siniestros Daños'!D80=\"\",\"\",'TD Siniestros Daños'!D80)","v":""},{"$f":"IF('TD Siniestros Daños'!E80=\"\",\"\",'TD Siniestros Daños'!E80)","v":""},{"$f":"IF('TD Siniestros Daños'!F80=\"\",\"\",'TD Siniestros Daños'!F80)","v":""},{"$f":"IF('TD Siniestros Daños'!G80=\"\",\"\",'TD Siniestros Daños'!G80)","v":""},"",null,{"$f":"IF('TD Siniestros Daños'!H80=\"\",\"\",'TD Siniestros Daños'!H80)","v":""},{"$f":"IF('TD Siniestros Daños'!I80=\"\",\"\",'TD Siniestros Daños'!I80)","v":""},{"$f":"IF('TD Siniestros Daños'!J80=\"\",\"\",'TD Siniestros Daños'!J80)","v":""},{"$f":"IF('TD Siniestros Daños'!K80=\"\",\"\",'TD Siniestros Daños'!K80)","v":""},{"$f":"IF('TD Siniestros Daños'!L80=\"\",\"\",'TD Siniestros Daños'!L80)","v":""},{"$f":"IF('TD Siniestros Daños'!M80=\"\",\"\",'TD Siniestros Daños'!M80)","v":""}]
[null,{"$f":"IF('TD Siniestros Daños'!A81=\"\",\"\",'TD Siniestros Daños'!A81)","v":""},{"$f":"IF('TD Siniestros Daños'!B81=\"\",\"\",'TD Siniestros Daños'!B81)","v":""},{"$f":"IF('TD Siniestros Daños'!C81=\"\",\"\",'TD Siniestros Daños'!C81)","v":""},{"$f":"IF('TD Siniestros Daños'!D81=\"\",\"\",'TD Siniestros Daños'!D81)","v":""},{"$f":"IF('TD Siniestros Daños'!E81=\"\",\"\",'TD Siniestros Daños'!E81)","v":""},{"$f":"IF('TD Siniestros Daños'!F81=\"\",\"\",'TD Siniestros Daños'!F81)","v":""},{"$f":"IF('TD Siniestros Daños'!G81=\"\",\"\",'TD Siniestros Daños'!G81)","v":""},"",null,{"$f":"IF('TD Siniestros Daños'!H81=\"\",\"\",'TD Siniestros Daños'!H81)","v":""},{"$f":"IF('TD Siniestros Daños'!I81=\"\",\"\",'TD Siniestros Daños'!I81)","v":""},{"$f":"IF('TD Siniestros Daños'!J81=\"\",\"\",'TD Siniestros Daños'!J81)","v":""},{"$f":"IF('TD Siniestros Daños'!K81=\"\",\"\",'TD Siniestros Daños'!K81)","v":""},{"$f":"IF('TD Siniestros Daños'!L81=\"\",\"\",'TD Siniestros Daños'!L81)","v":""},{"$f":"IF('TD Siniestros Daños'!M81=\"\",\"\",'TD Siniestros Daños'!M81)","v":""}]
[null,{"$f":"IF('TD Siniestros Daños'!A82=\"\",\"\",'TD Siniestros Daños'!A82)","v":""},{"$f":"IF('TD Siniestros Daños'!B82=\"\",\"\",'TD Siniestros Daños'!B82)","v":""},{"$f":"IF('TD Siniestros Daños'!C82=\"\",\"\",'TD Siniestros Daños'!C82)","v":""},{"$f":"IF('TD Siniestros Daños'!D82=\"\",\"\",'TD Siniestros Daños'!D82)","v":""},{"$f":"IF('TD Siniestros Daños'!E82=\"\",\"\",'TD Siniestros Daños'!E82)","v":""},{"$f":"IF('TD Siniestros Daños'!F82=\"\",\"\",'TD Siniestros Daños'!F82)","v":""},{"$f":"IF('TD Siniestros Daños'!G82=\"\",\"\",'TD Siniestros Daños'!G82)","v":""},"",null,{"$f":"IF('TD Siniestros Daños'!H82=\"\",\"\",'TD Siniestros Daños'!H82)","v":""},{"$f":"IF('TD Siniestros Daños'!I82=\"\",\"\",'TD Siniestros Daños'!I82)","v":""},{"$f":"IF('TD Siniestros Daños'!J82=\"\",\"\",'TD Siniestros Daños'!J82)","v":""},{"$f":"IF('TD Siniestros Daños'!K82=\"\",\"\",'TD Siniestros Daños'!K82)","v":""},{"$f":"IF('TD Siniestros Daños'!L82=\"\",\"\",'TD Siniestros Daños'!L82)","v":""},{"$f":"IF('TD Siniestros Daños'!M82=\"\",\"\",'TD Siniestros Daños'!M82)","v":""}]
[null,{"$f":"IF('TD Siniestros Daños'!A83=\"\",\"\",'TD Siniestros Daños'!A83)","v":""},{"$f":"IF('TD Siniestros Daños'!B83=\"\",\"\",'TD Siniestros Daños'!B83)","v":""},{"$f":"IF('TD Siniestros Daños'!C83=\"\",\"\",'TD Siniestros Daños'!C83)","v":""},{"$f":"IF('TD Siniestros Daños'!D83=\"\",\"\",'TD Siniestros Daños'!D83)","v":""},{"$f":"IF('TD Siniestros Daños'!E83=\"\",\"\",'TD Siniestros Daños'!E83)","v":""},{"$f":"IF('TD Siniestros Daños'!F83=\"\",\"\",'TD Siniestros Daños'!F83)","v":""},{"$f":"IF('TD Siniestros Daños'!G83=\"\",\"\",'TD Siniestros Daños'!G83)","v":""},"",null,{"$f":"IF('TD Siniestros Daños'!H83=\"\",\"\",'TD Siniestros Daños'!H83)","v":""},{"$f":"IF('TD Siniestros Daños'!I83=\"\",\"\",'TD Siniestros Daños'!I83)","v":""},{"$f":"IF('TD Siniestros Daños'!J83=\"\",\"\",'TD Siniestros Daños'!J83)","v":""},{"$f":"IF('TD Siniestros Daños'!K83=\"\",\"\",'TD Siniestros Daños'!K83)","v":""},{"$f":"IF('TD Siniestros Daños'!L83=\"\",\"\",'TD Siniestros Daños'!L83)","v":""},{"$f":"IF('TD Siniestros Daños'!M83=\"\",\"\",'TD Siniestros Daños'!M83)","v":""}]
[null,{"$f":"IF('TD Siniestros Daños'!A84=\"\",\"\",'TD Siniestros Daños'!A84)","v":""},{"$f":"IF('TD Siniestros Daños'!B84=\"\",\"\",'TD Siniestros Daños'!B84)","v":""},{"$f":"IF('TD Siniestros Daños'!C84=\"\",\"\",'TD Siniestros Daños'!C84)","v":""},{"$f":"IF('TD Siniestros Daños'!D84=\"\",\"\",'TD Siniestros Daños'!D84)","v":""},{"$f":"IF('TD Siniestros Daños'!E84=\"\",\"\",'TD Siniestros Daños'!E84)","v":""},{"$f":"IF('TD Siniestros Daños'!F84=\"\",\"\",'TD Siniestros Daños'!F84)","v":""},{"$f":"IF('TD Siniestros Daños'!G84=\"\",\"\",'TD Siniestros Daños'!G84)","v":""},"",null,{"$f":"IF('TD Siniestros Daños'!H84=\"\",\"\",'TD Siniestros Daños'!H84)","v":""},{"$f":"IF('TD Siniestros Daños'!I84=\"\",\"\",'TD Siniestros Daños'!I84)","v":""},{"$f":"IF('TD Siniestros Daños'!J84=\"\",\"\",'TD Siniestros Daños'!J84)","v":""},{"$f":"IF('TD Siniestros Daños'!K84=\"\",\"\",'TD Siniestros Daños'!K84)","v":""},{"$f":"IF('TD Siniestros Daños'!L84=\"\",\"\",'TD Siniestros Daños'!L84)","v":""},{"$f":"IF('TD Siniestros Daños'!M84=\"\",\"\",'TD Siniestros Daños'!M84)","v":""}]
[null,{"$f":"IF('TD Siniestros Daños'!A85=\"\",\"\",'TD Siniestros Daños'!A85)","v":""},{"$f":"IF('TD Siniestros Daños'!B85=\"\",\"\",'TD Siniestros Daños'!B85)","v":""},{"$f":"IF('TD Siniestros Daños'!C85=\"\",\"\",'TD Siniestros Daños'!C85)","v":""},{"$f":"IF('TD Siniestros Daños'!D85=\"\",\"\",'TD Siniestros Daños'!D85)","v":""},{"$f":"IF('TD Siniestros Daños'!E85=\"\",\"\",'TD Siniestros Daños'!E85)","v":""},{"$f":"IF('TD Siniestros Daños'!F85=\"\",\"\",'TD Siniestros Daños'!F85)","v":""},{"$f":"IF('TD Siniestros Daños'!G85=\"\",\"\",'TD Siniestros Daños'!G85)","v":""},"",null,{"$f":"IF('TD Siniestros Daños'!H85=\"\",\"\",'TD Siniestros Daños'!H85)","v":""},{"$f":"IF('TD Siniestros Daños'!I85=\"\",\"\",'TD Siniestros Daños'!I85)","v":""},{"$f":"IF('TD Siniestros Daños'!J85=\"\",\"\",'TD Siniestros Daños'!J85)","v":""},{"$f":"IF('TD Siniestros Daños'!K85=\"\",\"\",'TD Siniestros Daños'!K85)","v":""},{"$f":"IF('TD Siniestros Daños'!L85=\"\",\"\",'TD Siniestros Daños'!L85)","v":""},{"$f":"IF('TD Siniestros Daños'!M85=\"\",\"\",'TD Siniestros Daños'!M85)","v":""}]
[null,{"$f":"IF('TD Siniestros Daños'!A86=\"\",\"\",'TD Siniestros Daños'!A86)","v":""},{"$f":"IF('TD Siniestros Daños'!B86=\"\",\"\",'TD Siniestros Daños'!B86)","v":""},{"$f":"IF('TD Siniestros Daños'!C86=\"\",\"\",'TD Siniestros Daños'!C86)","v":""},{"$f":"IF('TD Siniestros Daños'!D86=\"\",\"\",'TD Siniestros Daños'!D86)","v":""},{"$f":"IF('TD Siniestros Daños'!E86=\"\",\"\",'TD Siniestros Daños'!E86)","v":""},{"$f":"IF('TD Siniestros Daños'!F86=\"\",\"\",'TD Siniestros Daños'!F86)","v":""},{"$f":"IF('TD Siniestros Daños'!G86=\"\",\"\",'TD Siniestros Daños'!G86)","v":""},"",null,{"$f":"IF('TD Siniestros Daños'!H86=\"\",\"\",'TD Siniestros Daños'!H86)","v":""},{"$f":"IF('TD Siniestros Daños'!I86=\"\",\"\",'TD Siniestros Daños'!I86)","v":""},{"$f":"IF('TD Siniestros Daños'!J86=\"\",\"\",'TD Siniestros Daños'!J86)","v":""},{"$f":"IF('TD Siniestros Daños'!K86=\"\",\"\",'TD Siniestros Daños'!K86)","v":""},{"$f":"IF('TD Siniestros Daños'!L86=\"\",\"\",'TD Siniestros Daños'!L86)","v":""},{"$f":"IF('TD Siniestros Daños'!M86=\"\",\"\",'TD Siniestros Daños'!M86)","v":""}]
[null,{"$f":"IF('TD Siniestros Daños'!A87=\"\",\"\",'TD Siniestros Daños'!A87)","v":""},{"$f":"IF('TD Siniestros Daños'!B87=\"\",\"\",'TD Siniestros Daños'!B87)","v":""},{"$f":"IF('TD Siniestros Daños'!C87=\"\",\"\",'TD Siniestros Daños'!C87)","v":""},{"$f":"IF('TD Siniestros Daños'!D87=\"\",\"\",'TD Siniestros Daños'!D87)","v":""},{"$f":"IF('TD Siniestros Daños'!E87=\"\",\"\",'TD Siniestros Daños'!E87)","v":""},{"$f":"IF('TD Siniestros Daños'!F87=\"\",\"\",'TD Siniestros Daños'!F87)","v":""},{"$f":"IF('TD Siniestros Daños'!G87=\"\",\"\",'TD Siniestros Daños'!G87)","v":""},"",null,{"$f":"IF('TD Siniestros Daños'!H87=\"\",\"\",'TD Siniestros Daños'!H87)","v":""},{"$f":"IF('TD Siniestros Daños'!I87=\"\",\"\",'TD Siniestros Daños'!I87)","v":""},{"$f":"IF('TD Siniestros Daños'!J87=\"\",\"\",'TD Siniestros Daños'!J87)","v":""},{"$f":"IF('TD Siniestros Daños'!K87=\"\",\"\",'TD Siniestros Daños'!K87)","v":""},{"$f":"IF('TD Siniestros Daños'!L87=\"\",\"\",'TD Siniestros Daños'!L87)","v":""},{"$f":"IF('TD Siniestros Daños'!M87=\"\",\"\",'TD Siniestros Daños'!M87)","v":""}]
[null,{"$f":"IF('TD Siniestros Daños'!A88=\"\",\"\",'TD Siniestros Daños'!A88)","v":""},{"$f":"IF('TD Siniestros Daños'!B88=\"\",\"\",'TD Siniestros Daños'!B88)","v":""},{"$f":"IF('TD Siniestros Daños'!C88=\"\",\"\",'TD Siniestros Daños'!C88)","v":""},{"$f":"IF('TD Siniestros Daños'!D88=\"\",\"\",'TD Siniestros Daños'!D88)","v":""},{"$f":"IF('TD Siniestros Daños'!E88=\"\",\"\",'TD Siniestros Daños'!E88)","v":""},{"$f":"IF('TD Siniestros Daños'!F88=\"\",\"\",'TD Siniestros Daños'!F88)","v":""},{"$f":"IF('TD Siniestros Daños'!G88=\"\",\"\",'TD Siniestros Daños'!G88)","v":""},"",null,{"$f":"IF('TD Siniestros Daños'!H88=\"\",\"\",'TD Siniestros Daños'!H88)","v":""},{"$f":"IF('TD Siniestros Daños'!I88=\"\",\"\",'TD Siniestros Daños'!I88)","v":""},{"$f":"IF('TD Siniestros Daños'!J88=\"\",\"\",'TD Siniestros Daños'!J88)","v":""},{"$f":"IF('TD Siniestros Daños'!K88=\"\",\"\",'TD Siniestros Daños'!K88)","v":""},{"$f":"IF('TD Siniestros Daños'!L88=\"\",\"\",'TD Siniestros Daños'!L88)","v":""},{"$f":"IF('TD Siniestros Daños'!M88=\"\",\"\",'TD Siniestros Daños'!M88)","v":""}]
[null,{"$f":"IF('TD Siniestros Daños'!A89=\"\",\"\",'TD Siniestros Daños'!A89)","v":""},{"$f":"IF('TD Siniestros Daños'!B89=\"\",\"\",'TD Siniestros Daños'!B89)","v":""},{"$f":"IF('TD Siniestros Daños'!C89=\"\",\"\",'TD Siniestros Daños'!C89)","v":""},{"$f":"IF('TD Siniestros Daños'!D89=\"\",\"\",'TD Siniestros Daños'!D89)","v":""},{"$f":"IF('TD Siniestros Daños'!E89=\"\",\"\",'TD Siniestros Daños'!E89)","v":""},{"$f":"IF('TD Siniestros Daños'!F89=\"\",\"\",'TD Siniestros Daños'!F89)","v":""},{"$f":"IF('TD Siniestros Daños'!G89=\"\",\"\",'TD Siniestros Daños'!G89)","v":""},"",null,{"$f":"IF('TD Siniestros Daños'!H89=\"\",\"\",'TD Siniestros Daños'!H89)","v":""},{"$f":"IF('TD Siniestros Daños'!I89=\"\",\"\",'TD Siniestros Daños'!I89)","v":""},{"$f":"IF('TD Siniestros Daños'!J89=\"\",\"\",'TD Siniestros Daños'!J89)","v":""},{"$f":"IF('TD Siniestros Daños'!K89=\"\",\"\",'TD Siniestros Daños'!K89)","v":""},{"$f":"IF('TD Siniestros Daños'!L89=\"\",\"\",'TD Siniestros Daños'!L89)","v":""},{"$f":"IF('TD Siniestros Daños'!M89=\"\",\"\",'TD Siniestros Daños'!M89)","v":""}]
[null,{"$f":"IF('TD Siniestros Daños'!A90=\"\",\"\",'TD Siniestros Daños'!A90)","v":""},{"$f":"IF('TD Siniestros Daños'!B90=\"\",\"\",'TD Siniestros Daños'!B90)","v":""},{"$f":"IF('TD Siniestros Daños'!C90=\"\",\"\",'TD Siniestros Daños'!C90)","v":""},{"$f":"IF('TD Siniestros Daños'!D90=\"\",\"\",'TD Siniestros Daños'!D90)","v":""},{"$f":"IF('TD Siniestros Daños'!E90=\"\",\"\",'TD Siniestros Daños'!E90)","v":""},{"$f":"IF('TD Siniestros Daños'!F90=\"\",\"\",'TD Siniestros Daños'!F90)","v":""},{"$f":"IF('TD Siniestros Daños'!G90=\"\",\"\",'TD Siniestros Daños'!G90)","v":""},"",null,{"$f":"IF('TD Siniestros Daños'!H90=\"\",\"\",'TD Siniestros Daños'!H90)","v":""},{"$f":"IF('TD Siniestros Daños'!I90=\"\",\"\",'TD Siniestros Daños'!I90)","v":""},{"$f":"IF('TD Siniestros Daños'!J90=\"\",\"\",'TD Siniestros Daños'!J90)","v":""},{"$f":"IF('TD Siniestros Daños'!K90=\"\",\"\",'TD Siniestros Daños'!K90)","v":""},{"$f":"IF('TD Siniestros Daños'!L90=\"\",\"\",'TD Siniestros Daños'!L90)","v":""},{"$f":"IF('TD Siniestros Daños'!M90=\"\",\"\",'TD Siniestros Daños'!M90)","v":""}]
[null,{"$f":"IF('TD Siniestros Daños'!A91=\"\",\"\",'TD Siniestros Daños'!A91)","v":""},{"$f":"IF('TD Siniestros Daños'!B91=\"\",\"\",'TD Siniestros Daños'!B91)","v":""},{"$f":"IF('TD Siniestros Daños'!C91=\"\",\"\",'TD Siniestros Daños'!C91)","v":""},{"$f":"IF('TD Siniestros Daños'!D91=\"\",\"\",'TD Siniestros Daños'!D91)","v":""},{"$f":"IF('TD Siniestros Daños'!E91=\"\",\"\",'TD Siniestros Daños'!E91)","v":""},{"$f":"IF('TD Siniestros Daños'!F91=\"\",\"\",'TD Siniestros Daños'!F91)","v":""},{"$f":"IF('TD Siniestros Daños'!G91=\"\",\"\",'TD Siniestros Daños'!G91)","v":""},"",null,{"$f":"IF('TD Siniestros Daños'!H91=\"\",\"\",'TD Siniestros Daños'!H91)","v":""},{"$f":"IF('TD Siniestros Daños'!I91=\"\",\"\",'TD Siniestros Daños'!I91)","v":""},{"$f":"IF('TD Siniestros Daños'!J91=\"\",\"\",'TD Siniestros Daños'!J91)","v":""},{"$f":"IF('TD Siniestros Daños'!K91=\"\",\"\",'TD Siniestros Daños'!K91)","v":""},{"$f":"IF('TD Siniestros Daños'!L91=\"\",\"\",'TD Siniestros Daños'!L91)","v":""},{"$f":"IF('TD Siniestros Daños'!M91=\"\",\"\",'TD Siniestros Daños'!M91)","v":""}]
[null,{"$f":"IF('TD Siniestros Daños'!A92=\"\",\"\",'TD Siniestros Daños'!A92)","v":""},{"$f":"IF('TD Siniestros Daños'!B92=\"\",\"\",'TD Siniestros Daños'!B92)","v":""},{"$f":"IF('TD Siniestros Daños'!C92=\"\",\"\",'TD Siniestros Daños'!C92)","v":""},{"$f":"IF('TD Siniestros Daños'!D92=\"\",\"\",'TD Siniestros Daños'!D92)","v":""},{"$f":"IF('TD Siniestros Daños'!E92=\"\",\"\",'TD Siniestros Daños'!E92)","v":""},{"$f":"IF('TD Siniestros Daños'!F92=\"\",\"\",'TD Siniestros Daños'!F92)","v":""},{"$f":"IF('TD Siniestros Daños'!G92=\"\",\"\",'TD Siniestros Daños'!G92)","v":""},"",null,{"$f":"IF('TD Siniestros Daños'!H92=\"\",\"\",'TD Siniestros Daños'!H92)","v":""},{"$f":"IF('TD Siniestros Daños'!I92=\"\",\"\",'TD Siniestros Daños'!I92)","v":""},{"$f":"IF('TD Siniestros Daños'!J92=\"\",\"\",'TD Siniestros Daños'!J92)","v":""},{"$f":"IF('TD Siniestros Daños'!K92=\"\",\"\",'TD Siniestros Daños'!K92)","v":""},{"$f":"IF('TD Siniestros Daños'!L92=\"\",\"\",'TD Siniestros Daños'!L92)","v":""},{"$f":"IF('TD Siniestros Daños'!M92=\"\",\"\",'TD Siniestros Daños'!M92)","v":""}]
[null,{"$f":"IF('TD Siniestros Daños'!A93=\"\",\"\",'TD Siniestros Daños'!A93)","v":""},{"$f":"IF('TD Siniestros Daños'!B93=\"\",\"\",'TD Siniestros Daños'!B93)","v":""},{"$f":"IF('TD Siniestros Daños'!C93=\"\",\"\",'TD Siniestros Daños'!C93)","v":""},{"$f":"IF('TD Siniestros Daños'!D93=\"\",\"\",'TD Siniestros Daños'!D93)","v":""},{"$f":"IF('TD Siniestros Daños'!E93=\"\",\"\",'TD Siniestros Daños'!E93)","v":""},{"$f":"IF('TD Siniestros Daños'!F93=\"\",\"\",'TD Siniestros Daños'!F93)","v":""},{"$f":"IF('TD Siniestros Daños'!G93=\"\",\"\",'TD Siniestros Daños'!G93)","v":""},"",null,{"$f":"IF('TD Siniestros Daños'!H93=\"\",\"\",'TD Siniestros Daños'!H93)","v":""},{"$f":"IF('TD Siniestros Daños'!I93=\"\",\"\",'TD Siniestros Daños'!I93)","v":""},{"$f":"IF('TD Siniestros Daños'!J93=\"\",\"\",'TD Siniestros Daños'!J93)","v":""},{"$f":"IF('TD Siniestros Daños'!K93=\"\",\"\",'TD Siniestros Daños'!K93)","v":""},{"$f":"IF('TD Siniestros Daños'!L93=\"\",\"\",'TD Siniestros Daños'!L93)","v":""},{"$f":"IF('TD Siniestros Daños'!M93=\"\",\"\",'TD Siniestros Daños'!M93)","v":""}]
[null,{"$f":"IF('TD Siniestros Daños'!A94=\"\",\"\",'TD Siniestros Daños'!A94)","v":""},{"$f":"IF('TD Siniestros Daños'!B94=\"\",\"\",'TD Siniestros Daños'!B94)","v":""},{"$f":"IF('TD Siniestros Daños'!C94=\"\",\"\",'TD Siniestros Daños'!C94)","v":""},{"$f":"IF('TD Siniestros Daños'!D94=\"\",\"\",'TD Siniestros Daños'!D94)","v":""},{"$f":"IF('TD Siniestros Daños'!E94=\"\",\"\",'TD Siniestros Daños'!E94)","v":""},{"$f":"IF('TD Siniestros Daños'!F94=\"\",\"\",'TD Siniestros Daños'!F94)","v":""},{"$f":"IF('TD Siniestros Daños'!G94=\"\",\"\",'TD Siniestros Daños'!G94)","v":""},"",null,{"$f":"IF('TD Siniestros Daños'!H94=\"\",\"\",'TD Siniestros Daños'!H94)","v":""},{"$f":"IF('TD Siniestros Daños'!I94=\"\",\"\",'TD Siniestros Daños'!I94)","v":""},{"$f":"IF('TD Siniestros Daños'!J94=\"\",\"\",'TD Siniestros Daños'!J94)","v":""},{"$f":"IF('TD Siniestros Daños'!K94=\"\",\"\",'TD Siniestros Daños'!K94)","v":""},{"$f":"IF('TD Siniestros Daños'!L94=\"\",\"\",'TD Siniestros Daños'!L94)","v":""},{"$f":"IF('TD Siniestros Daños'!M94=\"\",\"\",'TD Siniestros Daños'!M94)","v":""}]
[null,{"$f":"IF('TD Siniestros Daños'!A95=\"\",\"\",'TD Siniestros Daños'!A95)","v":""},{"$f":"IF('TD Siniestros Daños'!B95=\"\",\"\",'TD Siniestros Daños'!B95)","v":""},{"$f":"IF('TD Siniestros Daños'!C95=\"\",\"\",'TD Siniestros Daños'!C95)","v":""},{"$f":"IF('TD Siniestros Daños'!D95=\"\",\"\",'TD Siniestros Daños'!D95)","v":""},{"$f":"IF('TD Siniestros Daños'!E95=\"\",\"\",'TD Siniestros Daños'!E95)","v":""},{"$f":"IF('TD Siniestros Daños'!F95=\"\",\"\",'TD Siniestros Daños'!F95)","v":""},{"$f":"IF('TD Siniestros Daños'!G95=\"\",\"\",'TD Siniestros Daños'!G95)","v":""},"",null,{"$f":"IF('TD Siniestros Daños'!H95=\"\",\"\",'TD Siniestros Daños'!H95)","v":""},{"$f":"IF('TD Siniestros Daños'!I95=\"\",\"\",'TD Siniestros Daños'!I95)","v":""},{"$f":"IF('TD Siniestros Daños'!J95=\"\",\"\",'TD Siniestros Daños'!J95)","v":""},{"$f":"IF('TD Siniestros Daños'!K95=\"\",\"\",'TD Siniestros Daños'!K95)","v":""},{"$f":"IF('TD Siniestros Daños'!L95=\"\",\"\",'TD Siniestros Daños'!L95)","v":""},{"$f":"IF('TD Siniestros Daños'!M95=\"\",\"\",'TD Siniestros Daños'!M95)","v":""}]
[null,{"$f":"IF('TD Siniestros Daños'!A96=\"\",\"\",'TD Siniestros Daños'!A96)","v":""},{"$f":"IF('TD Siniestros Daños'!B96=\"\",\"\",'TD Siniestros Daños'!B96)","v":""},{"$f":"IF('TD Siniestros Daños'!C96=\"\",\"\",'TD Siniestros Daños'!C96)","v":""},{"$f":"IF('TD Siniestros Daños'!D96=\"\",\"\",'TD Siniestros Daños'!D96)","v":""},{"$f":"IF('TD Siniestros Daños'!E96=\"\",\"\",'TD Siniestros Daños'!E96)","v":""},{"$f":"IF('TD Siniestros Daños'!F96=\"\",\"\",'TD Siniestros Daños'!F96)","v":""},{"$f":"IF('TD Siniestros Daños'!G96=\"\",\"\",'TD Siniestros Daños'!G96)","v":""},"",null,{"$f":"IF('TD Siniestros Daños'!H96=\"\",\"\",'TD Siniestros Daños'!H96)","v":""},{"$f":"IF('TD Siniestros Daños'!I96=\"\",\"\",'TD Siniestros Daños'!I96)","v":""},{"$f":"IF('TD Siniestros Daños'!J96=\"\",\"\",'TD Siniestros Daños'!J96)","v":""},{"$f":"IF('TD Siniestros Daños'!K96=\"\",\"\",'TD Siniestros Daños'!K96)","v":""},{"$f":"IF('TD Siniestros Daños'!L96=\"\",\"\",'TD Siniestros Daños'!L96)","v":""},{"$f":"IF('TD Siniestros Daños'!M96=\"\",\"\",'TD Siniestros Daños'!M96)","v":""}]
[null,{"$f":"IF('TD Siniestros Daños'!A97=\"\",\"\",'TD Siniestros Daños'!A97)","v":""},{"$f":"IF('TD Siniestros Daños'!B97=\"\",\"\",'TD Siniestros Daños'!B97)","v":""},{"$f":"IF('TD Siniestros Daños'!C97=\"\",\"\",'TD Siniestros Daños'!C97)","v":""},{"$f":"IF('TD Siniestros Daños'!D97=\"\",\"\",'TD Siniestros Daños'!D97)","v":""},{"$f":"IF('TD Siniestros Daños'!E97=\"\",\"\",'TD Siniestros Daños'!E97)","v":""},{"$f":"IF('TD Siniestros Daños'!F97=\"\",\"\",'TD Siniestros Daños'!F97)","v":""},{"$f":"IF('TD Siniestros Daños'!G97=\"\",\"\",'TD Siniestros Daños'!G97)","v":""},"",null,{"$f":"IF('TD Siniestros Daños'!H97=\"\",\"\",'TD Siniestros Daños'!H97)","v":""},{"$f":"IF('TD Siniestros Daños'!I97=\"\",\"\",'TD Siniestros Daños'!I97)","v":""},{"$f":"IF('TD Siniestros Daños'!J97=\"\",\"\",'TD Siniestros Daños'!J97)","v":""},{"$f":"IF('TD Siniestros Daños'!K97=\"\",\"\",'TD Siniestros Daños'!K97)","v":""},{"$f":"IF('TD Siniestros Daños'!L97=\"\",\"\",'TD Siniestros Daños'!L97)","v":""},{"$f":"IF('TD Siniestros Daños'!M97=\"\",\"\",'TD Siniestros Daños'!M97)","v":""}]
[null,{"$f":"IF('TD Siniestros Daños'!A98=\"\",\"\",'TD Siniestros Daños'!A98)","v":""},{"$f":"IF('TD Siniestros Daños'!B98=\"\",\"\",'TD Siniestros Daños'!B98)","v":""},{"$f":"IF('TD Siniestros Daños'!C98=\"\",\"\",'TD Siniestros Daños'!C98)","v":""},{"$f":"IF('TD Siniestros Daños'!D98=\"\",\"\",'TD Siniestros Daños'!D98)","v":""},{"$f":"IF('TD Siniestros Daños'!E98=\"\",\"\",'TD Siniestros Daños'!E98)","v":""},{"$f":"IF('TD Siniestros Daños'!F98=\"\",\"\",'TD Siniestros Daños'!F98)","v":""},{"$f":"IF('TD Siniestros Daños'!G98=\"\",\"\",'TD Siniestros Daños'!G98)","v":""},"",null,{"$f":"IF('TD Siniestros Daños'!H98=\"\",\"\",'TD Siniestros Daños'!H98)","v":""},{"$f":"IF('TD Siniestros Daños'!I98=\"\",\"\",'TD Siniestros Daños'!I98)","v":""},{"$f":"IF('TD Siniestros Daños'!J98=\"\",\"\",'TD Siniestros Daños'!J98)","v":""},{"$f":"IF('TD Siniestros Daños'!K98=\"\",\"\",'TD Siniestros Daños'!K98)","v":""},{"$f":"IF('TD Siniestros Daños'!L98=\"\",\"\",'TD Siniestros Daños'!L98)","v":""},{"$f":"IF('TD Siniestros Daños'!M98=\"\",\"\",'TD Siniestros Daños'!M98)","v":""}]
[null,{"$f":"IF('TD Siniestros Daños'!A99=\"\",\"\",'TD Siniestros Daños'!A99)","v":""},{"$f":"IF('TD Siniestros Daños'!B99=\"\",\"\",'TD Siniestros Daños'!B99)","v":""},{"$f":"IF('TD Siniestros Daños'!C99=\"\",\"\",'TD Siniestros Daños'!C99)","v":""},{"$f":"IF('TD Siniestros Daños'!D99=\"\",\"\",'TD Siniestros Daños'!D99)","v":""},{"$f":"IF('TD Siniestros Daños'!E99=\"\",\"\",'TD Siniestros Daños'!E99)","v":""},{"$f":"IF('TD Siniestros Daños'!F99=\"\",\"\",'TD Siniestros Daños'!F99)","v":""},{"$f":"IF('TD Siniestros Daños'!G99=\"\",\"\",'TD Siniestros Daños'!G99)","v":""},"",null,{"$f":"IF('TD Siniestros Daños'!H99=\"\",\"\",'TD Siniestros Daños'!H99)","v":""},{"$f":"IF('TD Siniestros Daños'!I99=\"\",\"\",'TD Siniestros Daños'!I99)","v":""},{"$f":"IF('TD Siniestros Daños'!J99=\"\",\"\",'TD Siniestros Daños'!J99)","v":""},{"$f":"IF('TD Siniestros Daños'!K99=\"\",\"\",'TD Siniestros Daños'!K99)","v":""},{"$f":"IF('TD Siniestros Daños'!L99=\"\",\"\",'TD Siniestros Daños'!L99)","v":""},{"$f":"IF('TD Siniestros Daños'!M99=\"\",\"\",'TD Siniestros Daños'!M99)","v":""}]
[null,{"$f":"IF('TD Siniestros Daños'!A100=\"\",\"\",'TD Siniestros Daños'!A100)","v":""},{"$f":"IF('TD Siniestros Daños'!B100=\"\",\"\",'TD Siniestros Daños'!B100)","v":""},{"$f":"IF('TD Siniestros Daños'!C100=\"\",\"\",'TD Siniestros Daños'!C100)","v":""},{"$f":"IF('TD Siniestros Daños'!D100=\"\",\"\",'TD Siniestros Daños'!D100)","v":""},{"$f":"IF('TD Siniestros Daños'!E100=\"\",\"\",'TD Siniestros Daños'!E100)","v":""},{"$f":"IF('TD Siniestros Daños'!F100=\"\",\"\",'TD Siniestros Daños'!F100)","v":""},{"$f":"IF('TD Siniestros Daños'!G100=\"\",\"\",'TD Siniestros Daños'!G100)","v":""},"",null,{"$f":"IF('TD Siniestros Daños'!H100=\"\",\"\",'TD Siniestros Daños'!H100)","v":""},{"$f":"IF('TD Siniestros Daños'!I100=\"\",\"\",'TD Siniestros Daños'!I100)","v":""},{"$f":"IF('TD Siniestros Daños'!J100=\"\",\"\",'TD Siniestros Daños'!J100)","v":""},{"$f":"IF('TD Siniestros Daños'!K100=\"\",\"\",'TD Siniestros Daños'!K100)","v":""},{"$f":"IF('TD Siniestros Daños'!L100=\"\",\"\",'TD Siniestros Daños'!L100)","v":""},{"$f":"IF('TD Siniestros Daños'!M100=\"\",\"\",'TD Siniestros Daños'!M100)","v":""}]
[null,{"$f":"IF('TD Siniestros Daños'!A101=\"\",\"\",'TD Siniestros Daños'!A101)","v":""},{"$f":"IF('TD Siniestros Daños'!B101=\"\",\"\",'TD Siniestros Daños'!B101)","v":""},{"$f":"IF('TD Siniestros Daños'!C101=\"\",\"\",'TD Siniestros Daños'!C101)","v":""},{"$f":"IF('TD Siniestros Daños'!D101=\"\",\"\",'TD Siniestros Daños'!D101)","v":""},{"$f":"IF('TD Siniestros Daños'!E101=\"\",\"\",'TD Siniestros Daños'!E101)","v":""},{"$f":"IF('TD Siniestros Daños'!F101=\"\",\"\",'TD Siniestros Daños'!F101)","v":""},{"$f":"IF('TD Siniestros Daños'!G101=\"\",\"\",'TD Siniestros Daños'!G101)","v":""},"",null,{"$f":"IF('TD Siniestros Daños'!H101=\"\",\"\",'TD Siniestros Daños'!H101)","v":""},{"$f":"IF('TD Siniestros Daños'!I101=\"\",\"\",'TD Siniestros Daños'!I101)","v":""},{"$f":"IF('TD Siniestros Daños'!J101=\"\",\"\",'TD Siniestros Daños'!J101)","v":""},{"$f":"IF('TD Siniestros Daños'!K101=\"\",\"\",'TD Siniestros Daños'!K101)","v":""},{"$f":"IF('TD Siniestros Daños'!L101=\"\",\"\",'TD Siniestros Daños'!L101)","v":""},{"$f":"IF('TD Siniestros Daños'!M101=\"\",\"\",'TD Siniestros Daños'!M101)","v":""}]
[null,{"$f":"IF('TD Siniestros Daños'!A102=\"\",\"\",'TD Siniestros Daños'!A102)","v":""},{"$f":"IF('TD Siniestros Daños'!B102=\"\",\"\",'TD Siniestros Daños'!B102)","v":""},{"$f":"IF('TD Siniestros Daños'!C102=\"\",\"\",'TD Siniestros Daños'!C102)","v":""},{"$f":"IF('TD Siniestros Daños'!D102=\"\",\"\",'TD Siniestros Daños'!D102)","v":""},{"$f":"IF('TD Siniestros Daños'!E102=\"\",\"\",'TD Siniestros Daños'!E102)","v":""},{"$f":"IF('TD Siniestros Daños'!F102=\"\",\"\",'TD Siniestros Daños'!F102)","v":""},{"$f":"IF('TD Siniestros Daños'!G102=\"\",\"\",'TD Siniestros Daños'!G102)","v":""},"",null,{"$f":"IF('TD Siniestros Daños'!H102=\"\",\"\",'TD Siniestros Daños'!H102)","v":""},{"$f":"IF('TD Siniestros Daños'!I102=\"\",\"\",'TD Siniestros Daños'!I102)","v":""},{"$f":"IF('TD Siniestros Daños'!J102=\"\",\"\",'TD Siniestros Daños'!J102)","v":""},{"$f":"IF('TD Siniestros Daños'!K102=\"\",\"\",'TD Siniestros Daños'!K102)","v":""},{"$f":"IF('TD Siniestros Daños'!L102=\"\",\"\",'TD Siniestros Daños'!L102)","v":""},{"$f":"IF('TD Siniestros Daños'!M102=\"\",\"\",'TD Siniestros Daños'!M102)","v":""}]
[null,{"$f":"IF('TD Siniestros Daños'!A103=\"\",\"\",'TD Siniestros Daños'!A103)","v":""},{"$f":"IF('TD Siniestros Daños'!B103=\"\",\"\",'TD Siniestros Daños'!B103)","v":""},{"$f":"IF('TD Siniestros Daños'!C103=\"\",\"\",'TD Siniestros Daños'!C103)","v":""},{"$f":"IF('TD Siniestros Daños'!D103=\"\",\"\",'TD Siniestros Daños'!D103)","v":""},{"$f":"IF('TD Siniestros Daños'!E103=\"\",\"\",'TD Siniestros Daños'!E103)","v":""},{"$f":"IF('TD Siniestros Daños'!F103=\"\",\"\",'TD Siniestros Daños'!F103)","v":""},{"$f":"IF('TD Siniestros Daños'!G103=\"\",\"\",'TD Siniestros Daños'!G103)","v":""},"",null,{"$f":"IF('TD Siniestros Daños'!H103=\"\",\"\",'TD Siniestros Daños'!H103)","v":""},{"$f":"IF('TD Siniestros Daños'!I103=\"\",\"\",'TD Siniestros Daños'!I103)","v":""},{"$f":"IF('TD Siniestros Daños'!J103=\"\",\"\",'TD Siniestros Daños'!J103)","v":""},{"$f":"IF('TD Siniestros Daños'!K103=\"\",\"\",'TD Siniestros Daños'!K103)","v":""},{"$f":"IF('TD Siniestros Daños'!L103=\"\",\"\",'TD Siniestros Daños'!L103)","v":""},{"$f":"IF('TD Siniestros Daños'!M103=\"\",\"\",'TD Siniestros Daños'!M103)","v":""}]
[null,{"$f":"IF('TD Siniestros Daños'!A104=\"\",\"\",'TD Siniestros Daños'!A104)","v":""},{"$f":"IF('TD Siniestros Daños'!B104=\"\",\"\",'TD Siniestros Daños'!B104)","v":""},{"$f":"IF('TD Siniestros Daños'!C104=\"\",\"\",'TD Siniestros Daños'!C104)","v":""},{"$f":"IF('TD Siniestros Daños'!D104=\"\",\"\",'TD Siniestros Daños'!D104)","v":""},{"$f":"IF('TD Siniestros Daños'!E104=\"\",\"\",'TD Siniestros Daños'!E104)","v":""},{"$f":"IF('TD Siniestros Daños'!F104=\"\",\"\",'TD Siniestros Daños'!F104)","v":""},{"$f":"IF('TD Siniestros Daños'!G104=\"\",\"\",'TD Siniestros Daños'!G104)","v":""},"",null,{"$f":"IF('TD Siniestros Daños'!H104=\"\",\"\",'TD Siniestros Daños'!H104)","v":""},{"$f":"IF('TD Siniestros Daños'!I104=\"\",\"\",'TD Siniestros Daños'!I104)","v":""},{"$f":"IF('TD Siniestros Daños'!J104=\"\",\"\",'TD Siniestros Daños'!J104)","v":""},{"$f":"IF('TD Siniestros Daños'!K104=\"\",\"\",'TD Siniestros Daños'!K104)","v":""},{"$f":"IF('TD Siniestros Daños'!L104=\"\",\"\",'TD Siniestros Daños'!L104)","v":""},{"$f":"IF('TD Siniestros Daños'!M104=\"\",\"\",'TD Siniestros Daños'!M104)","v":""}]
[null,{"$f":"IF('TD Siniestros Daños'!A105=\"\",\"\",'TD Siniestros Daños'!A105)","v":""},{"$f":"IF('TD Siniestros Daños'!B105=\"\",\"\",'TD Siniestros Daños'!B105)","v":""},{"$f":"IF('TD Siniestros Daños'!C105=\"\",\"\",'TD Siniestros Daños'!C105)","v":""},{"$f":"IF('TD Siniestros Daños'!D105=\"\",\"\",'TD Siniestros Daños'!D105)","v":""},{"$f":"IF('TD Siniestros Daños'!E105=\"\",\"\",'TD Siniestros Daños'!E105)","v":""},{"$f":"IF('TD Siniestros Daños'!F105=\"\",\"\",'TD Siniestros Daños'!F105)","v":""},{"$f":"IF('TD Siniestros Daños'!G105=\"\",\"\",'TD Siniestros Daños'!G105)","v":""},"",null,{"$f":"IF('TD Siniestros Daños'!H105=\"\",\"\",'TD Siniestros Daños'!H105)","v":""},{"$f":"IF('TD Siniestros Daños'!I105=\"\",\"\",'TD Siniestros Daños'!I105)","v":""},{"$f":"IF('TD Siniestros Daños'!J105=\"\",\"\",'TD Siniestros Daños'!J105)","v":""},{"$f":"IF('TD Siniestros Daños'!K105=\"\",\"\",'TD Siniestros Daños'!K105)","v":""},{"$f":"IF('TD Siniestros Daños'!L105=\"\",\"\",'TD Siniestros Daños'!L105)","v":""},{"$f":"IF('TD Siniestros Daños'!M105=\"\",\"\",'TD Siniestros Daños'!M105)","v":""}]
[null,{"$f":"IF('TD Siniestros Daños'!A106=\"\",\"\",'TD Siniestros Daños'!A106)","v":""},{"$f":"IF('TD Siniestros Daños'!B106=\"\",\"\",'TD Siniestros Daños'!B106)","v":""},{"$f":"IF('TD Siniestros Daños'!C106=\"\",\"\",'TD Siniestros Daños'!C106)","v":""},{"$f":"IF('TD Siniestros Daños'!D106=\"\",\"\",'TD Siniestros Daños'!D106)","v":""},{"$f":"IF('TD Siniestros Daños'!E106=\"\",\"\",'TD Siniestros Daños'!E106)","v":""},{"$f":"IF('TD Siniestros Daños'!F106=\"\",\"\",'TD Siniestros Daños'!F106)","v":""},{"$f":"IF('TD Siniestros Daños'!G106=\"\",\"\",'TD Siniestros Daños'!G106)","v":""},"",null,{"$f":"IF('TD Siniestros Daños'!H106=\"\",\"\",'TD Siniestros Daños'!H106)","v":""},{"$f":"IF('TD Siniestros Daños'!I106=\"\",\"\",'TD Siniestros Daños'!I106)","v":""},{"$f":"IF('TD Siniestros Daños'!J106=\"\",\"\",'TD Siniestros Daños'!J106)","v":""},{"$f":"IF('TD Siniestros Daños'!K106=\"\",\"\",'TD Siniestros Daños'!K106)","v":""},{"$f":"IF('TD Siniestros Daños'!L106=\"\",\"\",'TD Siniestros Daños'!L106)","v":""},{"$f":"IF('TD Siniestros Daños'!M106=\"\",\"\",'TD Siniestros Daños'!M106)","v":""}]
[null,{"$f":"IF('TD Siniestros Daños'!A107=\"\",\"\",'TD Siniestros Daños'!A107)","v":""},{"$f":"IF('TD Siniestros Daños'!B107=\"\",\"\",'TD Siniestros Daños'!B107)","v":""},{"$f":"IF('TD Siniestros Daños'!C107=\"\",\"\",'TD Siniestros Daños'!C107)","v":""},{"$f":"IF('TD Siniestros Daños'!D107=\"\",\"\",'TD Siniestros Daños'!D107)","v":""},{"$f":"IF('TD Siniestros Daños'!E107=\"\",\"\",'TD Siniestros Daños'!E107)","v":""},{"$f":"IF('TD Siniestros Daños'!F107=\"\",\"\",'TD Siniestros Daños'!F107)","v":""},{"$f":"IF('TD Siniestros Daños'!G107=\"\",\"\",'TD Siniestros Daños'!G107)","v":""},"",null,{"$f":"IF('TD Siniestros Daños'!H107=\"\",\"\",'TD Siniestros Daños'!H107)","v":""},{"$f":"IF('TD Siniestros Daños'!I107=\"\",\"\",'TD Siniestros Daños'!I107)","v":""},{"$f":"IF('TD Siniestros Daños'!J107=\"\",\"\",'TD Siniestros Daños'!J107)","v":""},{"$f":"IF('TD Siniestros Daños'!K107=\"\",\"\",'TD Siniestros Daños'!K107)","v":""},{"$f":"IF('TD Siniestros Daños'!L107=\"\",\"\",'TD Siniestros Daños'!L107)","v":""},{"$f":"IF('TD Siniestros Daños'!M107=\"\",\"\",'TD Siniestros Daños'!M107)","v":""}]
[null,{"$f":"IF('TD Siniestros Daños'!A108=\"\",\"\",'TD Siniestros Daños'!A108)","v":""},{"$f":"IF('TD Siniestros Daños'!B108=\"\",\"\",'TD Siniestros Daños'!B108)","v":""},{"$f":"IF('TD Siniestros Daños'!C108=\"\",\"\",'TD Siniestros Daños'!C108)","v":""},{"$f":"IF('TD Siniestros Daños'!D108=\"\",\"\",'TD Siniestros Daños'!D108)","v":""},{"$f":"IF('TD Siniestros Daños'!E108=\"\",\"\",'TD Siniestros Daños'!E108)","v":""},{"$f":"IF('TD Siniestros Daños'!F108=\"\",\"\",'TD Siniestros Daños'!F108)","v":""},{"$f":"IF('TD Siniestros Daños'!G108=\"\",\"\",'TD Siniestros Daños'!G108)","v":""},"",null,{"$f":"IF('TD Siniestros Daños'!H108=\"\",\"\",'TD Siniestros Daños'!H108)","v":""},{"$f":"IF('TD Siniestros Daños'!I108=\"\",\"\",'TD Siniestros Daños'!I108)","v":""},{"$f":"IF('TD Siniestros Daños'!J108=\"\",\"\",'TD Siniestros Daños'!J108)","v":""},{"$f":"IF('TD Siniestros Daños'!K108=\"\",\"\",'TD Siniestros Daños'!K108)","v":""},{"$f":"IF('TD Siniestros Daños'!L108=\"\",\"\",'TD Siniestros Daños'!L108)","v":""},{"$f":"IF('TD Siniestros Daños'!M108=\"\",\"\",'TD Siniestros Daños'!M108)","v":""}]
[null,{"$f":"IF('TD Siniestros Daños'!A109=\"\",\"\",'TD Siniestros Daños'!A109)","v":""},{"$f":"IF('TD Siniestros Daños'!B109=\"\",\"\",'TD Siniestros Daños'!B109)","v":""},{"$f":"IF('TD Siniestros Daños'!C109=\"\",\"\",'TD Siniestros Daños'!C109)","v":""},{"$f":"IF('TD Siniestros Daños'!D109=\"\",\"\",'TD Siniestros Daños'!D109)","v":""},{"$f":"IF('TD Siniestros Daños'!E109=\"\",\"\",'TD Siniestros Daños'!E109)","v":""},{"$f":"IF('TD Siniestros Daños'!F109=\"\",\"\",'TD Siniestros Daños'!F109)","v":""},{"$f":"IF('TD Siniestros Daños'!G109=\"\",\"\",'TD Siniestros Daños'!G109)","v":""},"",null,{"$f":"IF('TD Siniestros Daños'!H109=\"\",\"\",'TD Siniestros Daños'!H109)","v":""},{"$f":"IF('TD Siniestros Daños'!I109=\"\",\"\",'TD Siniestros Daños'!I109)","v":""},{"$f":"IF('TD Siniestros Daños'!J109=\"\",\"\",'TD Siniestros Daños'!J109)","v":""},{"$f":"IF('TD Siniestros Daños'!K109=\"\",\"\",'TD Siniestros Daños'!K109)","v":""},{"$f":"IF('TD Siniestros Daños'!L109=\"\",\"\",'TD Siniestros Daños'!L109)","v":""},{"$f":"IF('TD Siniestros Daños'!M109=\"\",\"\",'TD Siniestros Daños'!M109)","v":""}]
[null,{"$f":"IF('TD Siniestros Daños'!A110=\"\",\"\",'TD Siniestros Daños'!A110)","v":""},{"$f":"IF('TD Siniestros Daños'!B110=\"\",\"\",'TD Siniestros Daños'!B110)","v":""},{"$f":"IF('TD Siniestros Daños'!C110=\"\",\"\",'TD Siniestros Daños'!C110)","v":""},{"$f":"IF('TD Siniestros Daños'!D110=\"\",\"\",'TD Siniestros Daños'!D110)","v":""},{"$f":"IF('TD Siniestros Daños'!E110=\"\",\"\",'TD Siniestros Daños'!E110)","v":""},{"$f":"IF('TD Siniestros Daños'!F110=\"\",\"\",'TD Siniestros Daños'!F110)","v":""},{"$f":"IF('TD Siniestros Daños'!G110=\"\",\"\",'TD Siniestros Daños'!G110)","v":""},"",null,{"$f":"IF('TD Siniestros Daños'!H110=\"\",\"\",'TD Siniestros Daños'!H110)","v":""},{"$f":"IF('TD Siniestros Daños'!I110=\"\",\"\",'TD Siniestros Daños'!I110)","v":""},{"$f":"IF('TD Siniestros Daños'!J110=\"\",\"\",'TD Siniestros Daños'!J110)","v":""},{"$f":"IF('TD Siniestros Daños'!K110=\"\",\"\",'TD Siniestros Daños'!K110)","v":""},{"$f":"IF('TD Siniestros Daños'!L110=\"\",\"\",'TD Siniestros Daños'!L110)","v":""},{"$f":"IF('TD Siniestros Daños'!M110=\"\",\"\",'TD Siniestros Daños'!M110)","v":""}]
[null,{"$f":"IF('TD Siniestros Daños'!A111=\"\",\"\",'TD Siniestros Daños'!A111)","v":""},{"$f":"IF('TD Siniestros Daños'!B111=\"\",\"\",'TD Siniestros Daños'!B111)","v":""},{"$f":"IF('TD Siniestros Daños'!C111=\"\",\"\",'TD Siniestros Daños'!C111)","v":""},{"$f":"IF('TD Siniestros Daños'!D111=\"\",\"\",'TD Siniestros Daños'!D111)","v":""},{"$f":"IF('TD Siniestros Daños'!E111=\"\",\"\",'TD Siniestros Daños'!E111)","v":""},{"$f":"IF('TD Siniestros Daños'!F111=\"\",\"\",'TD Siniestros Daños'!F111)","v":""},{"$f":"IF('TD Siniestros Daños'!G111=\"\",\"\",'TD Siniestros Daños'!G111)","v":""},"",null,{"$f":"IF('TD Siniestros Daños'!H111=\"\",\"\",'TD Siniestros Daños'!H111)","v":""},{"$f":"IF('TD Siniestros Daños'!I111=\"\",\"\",'TD Siniestros Daños'!I111)","v":""},{"$f":"IF('TD Siniestros Daños'!J111=\"\",\"\",'TD Siniestros Daños'!J111)","v":""},{"$f":"IF('TD Siniestros Daños'!K111=\"\",\"\",'TD Siniestros Daños'!K111)","v":""},{"$f":"IF('TD Siniestros Daños'!L111=\"\",\"\",'TD Siniestros Daños'!L111)","v":""},{"$f":"IF('TD Siniestros Daños'!M111=\"\",\"\",'TD Siniestros Daños'!M111)","v":""}]
[null,{"$f":"IF('TD Siniestros Daños'!A112=\"\",\"\",'TD Siniestros Daños'!A112)","v":""},{"$f":"IF('TD Siniestros Daños'!B112=\"\",\"\",'TD Siniestros Daños'!B112)","v":""},{"$f":"IF('TD Siniestros Daños'!C112=\"\",\"\",'TD Siniestros Daños'!C112)","v":""},{"$f":"IF('TD Siniestros Daños'!D112=\"\",\"\",'TD Siniestros Daños'!D112)","v":""},{"$f":"IF('TD Siniestros Daños'!E112=\"\",\"\",'TD Siniestros Daños'!E112)","v":""},{"$f":"IF('TD Siniestros Daños'!F112=\"\",\"\",'TD Siniestros Daños'!F112)","v":""},{"$f":"IF('TD Siniestros Daños'!G112=\"\",\"\",'TD Siniestros Daños'!G112)","v":""},"",null,{"$f":"IF('TD Siniestros Daños'!H112=\"\",\"\",'TD Siniestros Daños'!H112)","v":""},{"$f":"IF('TD Siniestros Daños'!I112=\"\",\"\",'TD Siniestros Daños'!I112)","v":""},{"$f":"IF('TD Siniestros Daños'!J112=\"\",\"\",'TD Siniestros Daños'!J112)","v":""},{"$f":"IF('TD Siniestros Daños'!K112=\"\",\"\",'TD Siniestros Daños'!K112)","v":""},{"$f":"IF('TD Siniestros Daños'!L112=\"\",\"\",'TD Siniestros Daños'!L112)","v":""},{"$f":"IF('TD Siniestros Daños'!M112=\"\",\"\",'TD Siniestros Daños'!M112)","v":""}]
[null,{"$f":"IF('TD Siniestros Daños'!A113=\"\",\"\",'TD Siniestros Daños'!A113)","v":""},{"$f":"IF('TD Siniestros Daños'!B113=\"\",\"\",'TD Siniestros Daños'!B113)","v":""},{"$f":"IF('TD Siniestros Daños'!C113=\"\",\"\",'TD Siniestros Daños'!C113)","v":""},{"$f":"IF('TD Siniestros Daños'!D113=\"\",\"\",'TD Siniestros Daños'!D113)","v":""},{"$f":"IF('TD Siniestros Daños'!E113=\"\",\"\",'TD Siniestros Daños'!E113)","v":""},{"$f":"IF('TD Siniestros Daños'!F113=\"\",\"\",'TD Siniestros Daños'!F113)","v":""},{"$f":"IF('TD Siniestros Daños'!G113=\"\",\"\",'TD Siniestros Daños'!G113)","v":""},"",null,{"$f":"IF('TD Siniestros Daños'!H113=\"\",\"\",'TD Siniestros Daños'!H113)","v":""},{"$f":"IF('TD Siniestros Daños'!I113=\"\",\"\",'TD Siniestros Daños'!I113)","v":""},{"$f":"IF('TD Siniestros Daños'!J113=\"\",\"\",'TD Siniestros Daños'!J113)","v":""},{"$f":"IF('TD Siniestros Daños'!K113=\"\",\"\",'TD Siniestros Daños'!K113)","v":""},{"$f":"IF('TD Siniestros Daños'!L113=\"\",\"\",'TD Siniestros Daños'!L113)","v":""},{"$f":"IF('TD Siniestros Daños'!M113=\"\",\"\",'TD Siniestros Daños'!M113)","v":""}]
[null,{"$f":"IF('TD Siniestros Daños'!A114=\"\",\"\",'TD Siniestros Daños'!A114)","v":""},{"$f":"IF('TD Siniestros Daños'!B114=\"\",\"\",'TD Siniestros Daños'!B114)","v":""},{"$f":"IF('TD Siniestros Daños'!C114=\"\",\"\",'TD Siniestros Daños'!C114)","v":""},{"$f":"IF('TD Siniestros Daños'!D114=\"\",\"\",'TD Siniestros Daños'!D114)","v":""},{"$f":"IF('TD Siniestros Daños'!E114=\"\",\"\",'TD Siniestros Daños'!E114)","v":""},{"$f":"IF('TD Siniestros Daños'!F114=\"\",\"\",'TD Siniestros Daños'!F114)","v":""},{"$f":"IF('TD Siniestros Daños'!G114=\"\",\"\",'TD Siniestros Daños'!G114)","v":""},"",null,{"$f":"IF('TD Siniestros Daños'!H114=\"\",\"\",'TD Siniestros Daños'!H114)","v":""},{"$f":"IF('TD Siniestros Daños'!I114=\"\",\"\",'TD Siniestros Daños'!I114)","v":""},{"$f":"IF('TD Siniestros Daños'!J114=\"\",\"\",'TD Siniestros Daños'!J114)","v":""},{"$f":"IF('TD Siniestros Daños'!K114=\"\",\"\",'TD Siniestros Daños'!K114)","v":""},{"$f":"IF('TD Siniestros Daños'!L114=\"\",\"\",'TD Siniestros Daños'!L114)","v":""},{"$f":"IF('TD Siniestros Daños'!M114=\"\",\"\",'TD Siniestros Daños'!M114)","v":""}]
[null,{"$f":"IF('TD Siniestros Daños'!A115=\"\",\"\",'TD Siniestros Daños'!A115)","v":""},{"$f":"IF('TD Siniestros Daños'!B115=\"\",\"\",'TD Siniestros Daños'!B115)","v":""},{"$f":"IF('TD Siniestros Daños'!C115=\"\",\"\",'TD Siniestros Daños'!C115)","v":""},{"$f":"IF('TD Siniestros Daños'!D115=\"\",\"\",'TD Siniestros Daños'!D115)","v":""},{"$f":"IF('TD Siniestros Daños'!E115=\"\",\"\",'TD Siniestros Daños'!E115)","v":""},{"$f":"IF('TD Siniestros Daños'!F115=\"\",\"\",'TD Siniestros Daños'!F115)","v":""},{"$f":"IF('TD Siniestros Daños'!G115=\"\",\"\",'TD Siniestros Daños'!G115)","v":""},"",null,{"$f":"IF('TD Siniestros Daños'!H115=\"\",\"\",'TD Siniestros Daños'!H115)","v":""},{"$f":"IF('TD Siniestros Daños'!I115=\"\",\"\",'TD Siniestros Daños'!I115)","v":""},{"$f":"IF('TD Siniestros Daños'!J115=\"\",\"\",'TD Siniestros Daños'!J115)","v":""},{"$f":"IF('TD Siniestros Daños'!K115=\"\",\"\",'TD Siniestros Daños'!K115)","v":""},{"$f":"IF('TD Siniestros Daños'!L115=\"\",\"\",'TD Siniestros Daños'!L115)","v":""},{"$f":"IF('TD Siniestros Daños'!M115=\"\",\"\",'TD Siniestros Daños'!M115)","v":""}]
[null,{"$f":"IF('TD Siniestros Daños'!A116=\"\",\"\",'TD Siniestros Daños'!A116)","v":""},{"$f":"IF('TD Siniestros Daños'!B116=\"\",\"\",'TD Siniestros Daños'!B116)","v":""},{"$f":"IF('TD Siniestros Daños'!C116=\"\",\"\",'TD Siniestros Daños'!C116)","v":""},{"$f":"IF('TD Siniestros Daños'!D116=\"\",\"\",'TD Siniestros Daños'!D116)","v":""},{"$f":"IF('TD Siniestros Daños'!E116=\"\",\"\",'TD Siniestros Daños'!E116)","v":""},{"$f":"IF('TD Siniestros Daños'!F116=\"\",\"\",'TD Siniestros Daños'!F116)","v":""},{"$f":"IF('TD Siniestros Daños'!G116=\"\",\"\",'TD Siniestros Daños'!G116)","v":""},"",null,{"$f":"IF('TD Siniestros Daños'!H116=\"\",\"\",'TD Siniestros Daños'!H116)","v":""},{"$f":"IF('TD Siniestros Daños'!I116=\"\",\"\",'TD Siniestros Daños'!I116)","v":""},{"$f":"IF('TD Siniestros Daños'!J116=\"\",\"\",'TD Siniestros Daños'!J116)","v":""},{"$f":"IF('TD Siniestros Daños'!K116=\"\",\"\",'TD Siniestros Daños'!K116)","v":""},{"$f":"IF('TD Siniestros Daños'!L116=\"\",\"\",'TD Siniestros Daños'!L116)","v":""},{"$f":"IF('TD Siniestros Daños'!M116=\"\",\"\",'TD Siniestros Daños'!M116)","v":""}]
[null,{"$f":"IF('TD Siniestros Daños'!A117=\"\",\"\",'TD Siniestros Daños'!A117)","v":""},{"$f":"IF('TD Siniestros Daños'!B117=\"\",\"\",'TD Siniestros Daños'!B117)","v":""},{"$f":"IF('TD Siniestros Daños'!C117=\"\",\"\",'TD Siniestros Daños'!C117)","v":""},{"$f":"IF('TD Siniestros Daños'!D117=\"\",\"\",'TD Siniestros Daños'!D117)","v":""},{"$f":"IF('TD Siniestros Daños'!E117=\"\",\"\",'TD Siniestros Daños'!E117)","v":""},{"$f":"IF('TD Siniestros Daños'!F117=\"\",\"\",'TD Siniestros Daños'!F117)","v":""},{"$f":"IF('TD Siniestros Daños'!G117=\"\",\"\",'TD Siniestros Daños'!G117)","v":""},"",null,{"$f":"IF('TD Siniestros Daños'!H117=\"\",\"\",'TD Siniestros Daños'!H117)","v":""},{"$f":"IF('TD Siniestros Daños'!I117=\"\",\"\",'TD Siniestros Daños'!I117)","v":""},{"$f":"IF('TD Siniestros Daños'!J117=\"\",\"\",'TD Siniestros Daños'!J117)","v":""},{"$f":"IF('TD Siniestros Daños'!K117=\"\",\"\",'TD Siniestros Daños'!K117)","v":""},{"$f":"IF('TD Siniestros Daños'!L117=\"\",\"\",'TD Siniestros Daños'!L117)","v":""},{"$f":"IF('TD Siniestros Daños'!M117=\"\",\"\",'TD Siniestros Daños'!M117)","v":""}]
[null,{"$f":"IF('TD Siniestros Daños'!A118=\"\",\"\",'TD Siniestros Daños'!A118)","v":""},{"$f":"IF('TD Siniestros Daños'!B118=\"\",\"\",'TD Siniestros Daños'!B118)","v":""},{"$f":"IF('TD Siniestros Daños'!C118=\"\",\"\",'TD Siniestros Daños'!C118)","v":""},{"$f":"IF('TD Siniestros Daños'!D118=\"\",\"\",'TD Siniestros Daños'!D118)","v":""},{"$f":"IF('TD Siniestros Daños'!E118=\"\",\"\",'TD Siniestros Daños'!E118)","v":""},{"$f":"IF('TD Siniestros Daños'!F118=\"\",\"\",'TD Siniestros Daños'!F118)","v":""},{"$f":"IF('TD Siniestros Daños'!G118=\"\",\"\",'TD Siniestros Daños'!G118)","v":""},"",null,{"$f":"IF('TD Siniestros Daños'!H118=\"\",\"\",'TD Siniestros Daños'!H118)","v":""},{"$f":"IF('TD Siniestros Daños'!I118=\"\",\"\",'TD Siniestros Daños'!I118)","v":""},{"$f":"IF('TD Siniestros Daños'!J118=\"\",\"\",'TD Siniestros Daños'!J118)","v":""},{"$f":"IF('TD Siniestros Daños'!K118=\"\",\"\",'TD Siniestros Daños'!K118)","v":""},{"$f":"IF('TD Siniestros Daños'!L118=\"\",\"\",'TD Siniestros Daños'!L118)","v":""},{"$f":"IF('TD Siniestros Daños'!M118=\"\",\"\",'TD Siniestros Daños'!M118)","v":""}]
[null,{"$f":"IF('TD Siniestros Daños'!A119=\"\",\"\",'TD Siniestros Daños'!A119)","v":""},{"$f":"IF('TD Siniestros Daños'!B119=\"\",\"\",'TD Siniestros Daños'!B119)","v":""},{"$f":"IF('TD Siniestros Daños'!C119=\"\",\"\",'TD Siniestros Daños'!C119)","v":""},{"$f":"IF('TD Siniestros Daños'!D119=\"\",\"\",'TD Siniestros Daños'!D119)","v":""},{"$f":"IF('TD Siniestros Daños'!E119=\"\",\"\",'TD Siniestros Daños'!E119)","v":""},{"$f":"IF('TD Siniestros Daños'!F119=\"\",\"\",'TD Siniestros Daños'!F119)","v":""},{"$f":"IF('TD Siniestros Daños'!G119=\"\",\"\",'TD Siniestros Daños'!G119)","v":""},"",null,{"$f":"IF('TD Siniestros Daños'!H119=\"\",\"\",'TD Siniestros Daños'!H119)","v":""},{"$f":"IF('TD Siniestros Daños'!I119=\"\",\"\",'TD Siniestros Daños'!I119)","v":""},{"$f":"IF('TD Siniestros Daños'!J119=\"\",\"\",'TD Siniestros Daños'!J119)","v":""},{"$f":"IF('TD Siniestros Daños'!K119=\"\",\"\",'TD Siniestros Daños'!K119)","v":""},{"$f":"IF('TD Siniestros Daños'!L119=\"\",\"\",'TD Siniestros Daños'!L119)","v":""},{"$f":"IF('TD Siniestros Daños'!M119=\"\",\"\",'TD Siniestros Daños'!M119)","v":""}]
[null,{"$f":"IF('TD Siniestros Daños'!A120=\"\",\"\",'TD Siniestros Daños'!A120)","v":""},{"$f":"IF('TD Siniestros Daños'!B120=\"\",\"\",'TD Siniestros Daños'!B120)","v":""},{"$f":"IF('TD Siniestros Daños'!C120=\"\",\"\",'TD Siniestros Daños'!C120)","v":""},{"$f":"IF('TD Siniestros Daños'!D120=\"\",\"\",'TD Siniestros Daños'!D120)","v":""},{"$f":"IF('TD Siniestros Daños'!E120=\"\",\"\",'TD Siniestros Daños'!E120)","v":""},{"$f":"IF('TD Siniestros Daños'!F120=\"\",\"\",'TD Siniestros Daños'!F120)","v":""},{"$f":"IF('TD Siniestros Daños'!G120=\"\",\"\",'TD Siniestros Daños'!G120)","v":""},"",null,{"$f":"IF('TD Siniestros Daños'!H120=\"\",\"\",'TD Siniestros Daños'!H120)","v":""},{"$f":"IF('TD Siniestros Daños'!I120=\"\",\"\",'TD Siniestros Daños'!I120)","v":""},{"$f":"IF('TD Siniestros Daños'!J120=\"\",\"\",'TD Siniestros Daños'!J120)","v":""},{"$f":"IF('TD Siniestros Daños'!K120=\"\",\"\",'TD Siniestros Daños'!K120)","v":""},{"$f":"IF('TD Siniestros Daños'!L120=\"\",\"\",'TD Siniestros Daños'!L120)","v":""},{"$f":"IF('TD Siniestros Daños'!M120=\"\",\"\",'TD Siniestros Daños'!M120)","v":""}]
[null,{"$f":"IF('TD Siniestros Daños'!A121=\"\",\"\",'TD Siniestros Daños'!A121)","v":""},{"$f":"IF('TD Siniestros Daños'!B121=\"\",\"\",'TD Siniestros Daños'!B121)","v":""},{"$f":"IF('TD Siniestros Daños'!C121=\"\",\"\",'TD Siniestros Daños'!C121)","v":""},{"$f":"IF('TD Siniestros Daños'!D121=\"\",\"\",'TD Siniestros Daños'!D121)","v":""},{"$f":"IF('TD Siniestros Daños'!E121=\"\",\"\",'TD Siniestros Daños'!E121)","v":""},{"$f":"IF('TD Siniestros Daños'!F121=\"\",\"\",'TD Siniestros Daños'!F121)","v":""},{"$f":"IF('TD Siniestros Daños'!G121=\"\",\"\",'TD Siniestros Daños'!G121)","v":""},"",null,{"$f":"IF('TD Siniestros Daños'!H121=\"\",\"\",'TD Siniestros Daños'!H121)","v":""},{"$f":"IF('TD Siniestros Daños'!I121=\"\",\"\",'TD Siniestros Daños'!I121)","v":""},{"$f":"IF('TD Siniestros Daños'!J121=\"\",\"\",'TD Siniestros Daños'!J121)","v":""},{"$f":"IF('TD Siniestros Daños'!K121=\"\",\"\",'TD Siniestros Daños'!K121)","v":""},{"$f":"IF('TD Siniestros Daños'!L121=\"\",\"\",'TD Siniestros Daños'!L121)","v":""},{"$f":"IF('TD Siniestros Daños'!M121=\"\",\"\",'TD Siniestros Daños'!M121)","v":""}]
[null,{"$f":"IF('TD Siniestros Daños'!A122=\"\",\"\",'TD Siniestros Daños'!A122)","v":""},{"$f":"IF('TD Siniestros Daños'!B122=\"\",\"\",'TD Siniestros Daños'!B122)","v":""},{"$f":"IF('TD Siniestros Daños'!C122=\"\",\"\",'TD Siniestros Daños'!C122)","v":""},{"$f":"IF('TD Siniestros Daños'!D122=\"\",\"\",'TD Siniestros Daños'!D122)","v":""},{"$f":"IF('TD Siniestros Daños'!E122=\"\",\"\",'TD Siniestros Daños'!E122)","v":""},{"$f":"IF('TD Siniestros Daños'!F122=\"\",\"\",'TD Siniestros Daños'!F122)","v":""},{"$f":"IF('TD Siniestros Daños'!G122=\"\",\"\",'TD Siniestros Daños'!G122)","v":""},"",null,{"$f":"IF('TD Siniestros Daños'!H122=\"\",\"\",'TD Siniestros Daños'!H122)","v":""},{"$f":"IF('TD Siniestros Daños'!I122=\"\",\"\",'TD Siniestros Daños'!I122)","v":""},{"$f":"IF('TD Siniestros Daños'!J122=\"\",\"\",'TD Siniestros Daños'!J122)","v":""},{"$f":"IF('TD Siniestros Daños'!K122=\"\",\"\",'TD Siniestros Daños'!K122)","v":""},{"$f":"IF('TD Siniestros Daños'!L122=\"\",\"\",'TD Siniestros Daños'!L122)","v":""},{"$f":"IF('TD Siniestros Daños'!M122=\"\",\"\",'TD Siniestros Daños'!M122)","v":""}]
[null,{"$f":"IF('TD Siniestros Daños'!A123=\"\",\"\",'TD Siniestros Daños'!A123)","v":""},{"$f":"IF('TD Siniestros Daños'!B123=\"\",\"\",'TD Siniestros Daños'!B123)","v":""},{"$f":"IF('TD Siniestros Daños'!C123=\"\",\"\",'TD Siniestros Daños'!C123)","v":""},{"$f":"IF('TD Siniestros Daños'!D123=\"\",\"\",'TD Siniestros Daños'!D123)","v":""},{"$f":"IF('TD Siniestros Daños'!E123=\"\",\"\",'TD Siniestros Daños'!E123)","v":""},{"$f":"IF('TD Siniestros Daños'!F123=\"\",\"\",'TD Siniestros Daños'!F123)","v":""},{"$f":"IF('TD Siniestros Daños'!G123=\"\",\"\",'TD Siniestros Daños'!G123)","v":""},"",null,{"$f":"IF('TD Siniestros Daños'!H123=\"\",\"\",'TD Siniestros Daños'!H123)","v":""},{"$f":"IF('TD Siniestros Daños'!I123=\"\",\"\",'TD Siniestros Daños'!I123)","v":""},{"$f":"IF('TD Siniestros Daños'!J123=\"\",\"\",'TD Siniestros Daños'!J123)","v":""},{"$f":"IF('TD Siniestros Daños'!K123=\"\",\"\",'TD Siniestros Daños'!K123)","v":""},{"$f":"IF('TD Siniestros Daños'!L123=\"\",\"\",'TD Siniestros Daños'!L123)","v":""},{"$f":"IF('TD Siniestros Daños'!M123=\"\",\"\",'TD Siniestros Daños'!M123)","v":""}]