{"text_format":"1","workbook":"xlsx","n_sheets":71,"sheets":["Portada","Directorio","Introduccion","Índice","Hoja15","1 Total","1 T.N.","1 T.E.","1T.I.","2 Ind","2A","2B","2 Grupo","2A (G)","2B (G)","3 Ind","3A","3B","3 Grupo","3A (G)","3B (G)","4Total Ind EPP","4VI 4_1 EPP.3","4VI 4_1 EPP.6","4VI 4_1 EPP.9","4Total Ind PSA","4V 4_1 PSA.3","4V 4_1 PSA.6","4V 4_1 PSA.9","4Total Ind RPI","4V 4_1 RPI.3","4V 4_1 RPI.6","4Total Ind ITP","4VI 4_1 ITP.3","4VI 4_1 ITP.6","4VI 4_1 ITP.9","4Total GPO EPP","4VG EPP.3","4VG EPP.6","4Total GPO PSA","4VG PSA.3","4VG PSA.6","4Total GPO RPI","4VG RPI.3","4VG RPI.6","4Total GPO ITP","4VG ITP.3","4VG ITP.6","5INDIVIDUAL","5GRUPO","6Individual","6Grupo","Hoja1","7 Individual","7 Grupo","8Individual","8M.N.","8M.E.","8M.T.","8GRUPO","8GM.N.","8GM.E.","8GM.T.","9Individual","9M.N.","9M.E.","9M.I.","9Grupo","9GM.N.","9GM.E.","9GM.I."],"not_rendered":{"charts":0,"images":38,"macros":0,"external_links":0,"defined_names":307,"comments":0,"pivot_tables":0},"unopened":[],"bounds":{"document_bytes":16777216,"sheet_cells":100000,"rows_first":2000,"rows_last":500,"rows_between":2000,"halvings":0,"cell_chars":16384,"cell_head_chars":4096},"cells_cut":0,"cells_raw":0,"read":"whole","date_system":"1900"}

{"sheet":"Portada","index":0,"n_rows":0,"n_cols":0,"rows_kept":0,"cut":false,"hidden":false,"merged":[]}

{"sheet":"Directorio","index":1,"n_rows":0,"n_cols":0,"rows_kept":0,"cut":false,"hidden":false,"merged":[]}

{"sheet":"Introduccion","index":2,"n_rows":0,"n_cols":0,"rows_kept":0,"cut":false,"hidden":false,"merged":[]}

{"sheet":"Índice","index":3,"n_rows":0,"n_cols":0,"rows_kept":0,"cut":false,"hidden":false,"merged":[]}

{"sheet":"Hoja15","index":4,"n_rows":7,"n_cols":13,"rows_kept":7,"cut":false,"hidden":true,"merged":[[0,1,0,2],[1,5,1,7],[0,5,0,10]]}
[null,"certificados",null,null,null,"sa muerte"]
[null,"ind","vgr",null,null,"ind",null,null,null,"vgr"]
["sesa1",{"$f":"'1 Total'!F14","v":10902884},{"$f":"'1 Total'!F52","v":89375345},null,null,"total","na","ex","i","total","na","ex","i"]
["sesa2",{"$f":"'2 Ind'!U115","v":10902884},{"$f":"'2 Grupo'!U101","v":89375345},null,"sesa1",{"$f":"'1 Total'!G14","v":4509326461362},{"$f":"'1 T.N.'!G14","v":2876607417023},{"$f":"'1 T.E.'!G14","v":872372706113},{"$f":"'1T.I.'!G14","v":760346338226}]
["sesa 8",{"$f":"'8Individual'!B52","v":10902884},{"$f":"'8GRUPO'!B52","v":89375345},null,"sesa8",{"$f":"'8Individual'!D52","v":4509326461362},{"$f":"'8M.N.'!D52","v":2876607417023},{"$f":"'8M.E.'!D52","v":872372706113}]
[null,null,null,null,"sesa9",{"$f":"'9Individual'!B101","v":4509326461362},{"$f":"'9M.N.'!B100","v":2876607417023},{"$f":"'9M.E.'!B100","v":872372706113}]
["dif",{"$f":"B3-B4","v":0},{"$f":"C3-C4","v":0}]

{"sheet":"1 Total","index":5,"n_rows":99,"n_cols":14,"rows_kept":99,"cut":false,"hidden":false,"merged":[[94,1,95,13],[1,0,1,13],[3,0,3,13],[5,0,5,13],[7,0,7,13],[8,4,11,4],[8,5,11,5],[8,6,11,6],[8,7,11,7],[8,8,11,8],[8,9,11,9],[8,10,11,10],[8,11,11,11],[8,12,11,12],[8,13,11,13]]}
[]
["1. SEGURO DIRECTO EN LA OPERACIÓN DE VIDA "]
[null,"DICIEMBRE DE 2021"]
["DICIEMBRE DE 2021"]
[" "]
["TOTAL"]
[]
[]
[null,null,null,null,"PÓLIZAS EN VIGOR","CERTIFICADOS O PARTICIPANTES EN VIGOR","SUMA ASEGURADA EN VIGOR POR MUERTE","SUMA ASEGURADA EN VIGOR POR SOBREVIVENCIA","PRIMA EMITIDA DIRECTA","NÚMERO DE SINIESTROS","SINIESTROS DIRECTOS","RESCATES","VENCIMIENTOS","COSTO DE DIVIDENDOS"]
[null,null,"TIPO DE SEGURO",null,null,null,null,null,null,null," DIRECTOS",null," DIRECTOS"]
[]
[]
["TOTAL",null,null,null,{"$f":"E14+E52","v":10744958},100278229,15192008771998,539145137535,242693924488.58212,502508,84206307230.74234,126327553230,30566331356.079956,562745637]
[null,"TOTAL INDIVIDUAL",null,null,{"$f":"E15+E19+E23+E27+E31+E35+E39+E43+E47+E51","v":10639509},10902884,4509326461362,538933078425,179845784299.07297,128589,43336645331.060593,122708684024,29748280356.849953,12478966]
[null,"TRADICIONAL",null,null,{"$f":"SUM(E16:E18)","v":6288974},{"$f":"SUM(F16:F18)","v":6402898},2497960960171,302665296788,57317316711.532722,65745,15076092717.279961,23552818508,12248798023.089952,17967516]
[null,null,"Renovación",null,3145578,3178429,1319891356049,65491162422,24093587318.070618,44884,10392886377.199959,10700439170,5762327645.9399481,4020788]
[null,null,"Primer año",null,3066175,3138376,1116343006863,210476931808,31070071656.832108,18348,3368219232.1300001,11950366988,5519315399.0000038,14002938]
[null,null,"Otro",null,77221,86093,61726597259,26697202558,2153657736.6299992,2513,1314987107.9500003,902012350,967154978.15000021,-56210]
[null,"RETIRO",null,null,{"$f":"SUM(E20:E22)","v":3388},{"$f":"SUM(F20:F22)","v":3390},834042286,80217486,138957421.71999997,474,143755974.03999978,21190265,138647564.97999978,17436]
[null,null,"Renovación",null,1156,1158,762723850,8899050,5928967.9099999983,101,38295003.420000002,2587208,37494807.420000002,0]
[null,null,"Primer año",null,447,447,71318436,71318436,17001132.100000001,4,210442.61,0,210442.61,0]
[null,null,"Otro",null,1785,1785,null,0,116027321.70999998,369,105250528.0099998,18603057,100942314.94999978,17436]
[null,"MICROSEGURO",null,null,{"$f":"SUM(E24:E26)","v":53268},{"$f":"SUM(F24:F26)","v":53268},12200938000,0,58987630.460000001,88,17066778,0,0,0]
[null,null,"Renovación",null,19165,19165,5259878000,null,39290055.74000001,49,13434270,0,0,0]
[null,null,"Primer año",null,34103,34103,6941060000,null,19697574.719999991,38,3557508,0,0,0]
[null,null,"Otro",null,null,null,null,null,0,1,75000,0,0,0]
[null,"MANCOMUNADO",null,null,{"$f":"SUM(E28:E30)","v":9306},{"$f":"SUM(F28:F30)","v":9306},15857966588,589838,67063049.859999992,82,63905735.810000002,536352535,39538078.800000004,0]
[null,null,"Renovación",null,6491,6491,9619718470,589838,63079317.129999995,74,60527061.93,313494452,38759404.920000002,0]
[null,null,"Primer año",null,2815,2815,6238248118,null,3983732.7299999995,8,3378673.88,222858083,778673.87999999989,0]
[null,null,"Otro"]
[null,"FLEXIBLE SIN TASA GARANTIZADA",null,null,{"$f":"SUM(E32:E34)","v":2338497},{"$f":"SUM(F32:F34)","v":2344045},1074078309469,0,75961718111.140259,33222,11471773279.750635,67403921573,194654520.84999999,-11257013]
[null,null,"Renovación",null,346962,352480,262649460139,null,16215858444.660023,2295,3323595318.7600012,19746869016,83015425.700000018,-11257018]
[null,null,"Primer año",null,1863801,1863831,805995531790,null,56955973420.860245,30449,7765265633.200633,41991832896,4933200,5]
[null,null,"Otro",null,127734,127734,5433317540,0,2789886245.6199989,478,382912327.7900005,5665219661,106705895.14999998,0]
[null,"FLEXIBLE CON TASA GARANTIZADA",null,null,{"$f":"SUM(E36:E38)","v":672435},{"$f":"SUM(F36:F38)","v":675104},264110486756,60892269575,35090586622.249954,11829,8440591384.869998,28046166282,7724220142.3400021,0]
[null,null,"Renovación",null,92327,93080,25562081279,3979601,2850391174.5,781,510266980.58999997,1315547429,47634397.029999994,0]
[null,null,"Primer año",null,556021,557937,235360965624,60888289974,27224118666.129951,10850,7824714012.9699974,21556420744,7644848597.8400021,0]
[null,null,"Otro",null,24087,24087,3187439853,null,5016076781.6200056,198,105610391.31,5174198109,31737147.470000003,0]
[null,"EDUCATIVO",null,null,{"$f":"SUM(E40:E42)","v":188219},{"$f":"SUM(F40:F42)","v":329451},238224706824,175294704738,6272460690.3000059,9402,4390556704.4799995,2725120787,7889822526.4799995,5751027]
[null,null,"Renovación",null,105229,163899,67785651925,6717293561,3504563933.130003,7794,3768311307.9799991,789157346,3594372965.7999992,36961]
[null,null,"Primer año",null,79697,159022,169739017774,166145083705,2624903462.8900027,1390,501007886.09000033,1910843029,4183499225.3499999,5714066]
[null,null,"Otro",null,3293,6530,700037125,2432327472,142993294.27999997,218,121237510.41,25120412,111950335.33,0]
[null,"DEUDORES",null,null,{"$f":"SUM(E44:E46)","v":1083081},{"$f":"SUM(F44:F46)","v":1083081},405745551268,0,2364177809.0799809,3749,458137871.67999947,423114074,0,0]
[null,null,"Renovación",null,43088,43088,55293992228,null,394141636.80999982,237,74413692.240000024,0,0,0]
[null,null,"Primer año",null,295474,295474,265154804580,null,577208539.79998028,740,127412377.82999952,0,0,0]
[null,null,"Otro",null,744519,744519,85296754460,null,1392827632.4700005,2772,256311801.6099999,423114074,0,0]
[null,null,"OTROS",null,{"$f":"SUM(E48:E50)","v":1196},1196,0,0,335765,109,30270664.02999999,0,30270666,0]
[null,null,"Renovación"]
[null,null,"Primer año",null,582,582,null,0,335765,109,30270664.02999999,0,30270666,0]
[null,null,"Otro",null,614,614,null,null,0,null,null,0,null,0]
[null,"No Especificado",null,null,1145,1145,313500000,null,2574180487.7300024,3889,3244494221.1200066,0,1482328834.3099999,0]
[null,"TOTAL GRUPO",null,null,{"$f":"E53+E57+E61+E65+E69+E73+E77+E81+E85+E89","v":105449},{"$f":"F53+F57+F61+F65+F69+F73+F77+F81+F85+F89","v":89375345},10682682310636,212059110,62848140189.509148,373919,40869661899.68174,3618869206,818050999.23000467,550266671]
[null,"TRADICIONAL",null,null,{"$f":"SUM(E54:E56)","v":94025},{"$f":"SUM(F54:F56)","v":25389967},4993762550805,0,22502616604.839447,93495,16455090045.790043,0,0,61496009]
[null,null,"Renovación",null,15983,14041775,3053333407583,null,16274490391.869125,41468,11065839378.100054,0,0,41781248]
[null,null,"Primer año",null,78042,11348192,1940429143222,null,6228126212.9703217,52018,5388650667.68999,0,0,19714761]
[null,null,"Otro",null,null,null,null,null,null,9,600000,null,0]
[null,"TRABAJADORES DEL ESTADO",null,null,{"$f":"SUM(E58:E60)","v":865},{"$f":"SUM(F58:F60)","v":2635828},929411524715,212059110,9096065463.0401039,32431,8752000503.5999832,1685454655,0,-9759793]
[null,null,"Renovación",null,596,1387866,835485427467,null,7756415528.0201054,23847,7377889406.1299849,1685454655,0,-3187719]
[null,null,"Primer año",null,269,1247962,93926097248,212059110,1339649935.0199986,8584,1374111097.4699984,0,0,-6572074]
[null,null,"Otro"]
[null,"RETIRO",null,null,{"$f":"SUM(E62:E64)","v":650},{"$f":"SUM(F62:F64)","v":521924},0,0,339315478.85999751,8758,820646558.25000334,0,818050999.23000467,0]
[null,null,"Renovación",null,2,518629,null,null,309693695.03999752,5370,171245579.51000002,0,170816105.60000002,0]
[null,null,"Primer año",null,580,580,null,0,-50985.009999999995,571,10400812.900000002,0,10325812.900000002,0]
[null,null,"Otro",null,68,2715,null,0,29672768.829999998,2817,639000165.84000337,0,636909080.73000467,0]
[null,"ORFANDAD",null,null,{"$f":"SUM(E66:E68)","v":6},{"$f":"SUM(F66:F68)","v":82391},3512967030,0,103349953.83999941,235,4733993.25,0,0,16806048]
[null,null,"Renovación",null,6,82391,3512967030,null,103349953.83999941,235,4733993.25,0,0,16794408]
[null,null,"Primer año",null,null,null,null,null,0,null,null,0,null,11640]
[null,null,"Otro"]
[null,"MICROSEGURO",null,null,{"$f":"SUM(E70:E72)","v":35},{"$f":"SUM(F70:F72)","v":591240},27091198000,0,37485909.150000155,1086,50613401.980000004,0,0,0]
[null,null,"Renovación",null,1,22,1320000,null,139998.24,null,null,0,null,0]
[null,null,"Primer año",null,34,591218,27089878000,null,37345910.910000153,1086,50613401.980000004,0,0,0]
[null,null,"Otro"]
[null,"FLEXIBLE SIN TASA GARANTIZADA",null,null,{"$f":"SUM(E74:E76)","v":334},{"$f":"SUM(F74:F76)","v":126130},78517314,0,4985381996.3799925,12870,4752574268.7012091,1933414551,0,0]
[null,null,"Renovación",null,105,7371,33529211,null,0,null,null,0,null,0]
[null,null,"Primer año",null,229,118759,44988103,null,4985381996.3799925,12870,4752574268.7012091,1933414551,0,0]
[null,null,"Otro"]
[null,"FLEXIBLE CON TASA GARANTIZADA",null,null,{"$f":"SUM(E78:E80)","v":770},{"$f":"SUM(F78:F80)","v":772},27867870,0,186683.51999999999,0,0,0,0,0]
[null,null,"Renovación",null,1,3,6140160,null,186683.51999999999,null,null,0,null,0]
[null,null,"Primer año",null,769,769,21727710,null,0,null,null,0,null,0]
[null,null,"Otro"]
[null,"DEUDORES",null,null,{"$f":"SUM(E82:E84)","v":7241},{"$f":"SUM(F82:F84)","v":17517226},3240570164102,0,13512257174.949612,80153,6225599136.6799812,0,0,22376706]
[null,null,"Renovación",null,732,3598086,564116162516,null,5391694777.609436,25529,2942966691.4599633,0,0,5415099]
[null,null,"Primer año",null,4316,13211068,2644931604843,null,7780321067.8301754,52971,3131714044.7900181,0,0,16961607]
[null,null,"Otro",null,2193,708072,31522396743,null,340241329.51000017,1653,150918400.42999998,0,0,0]
[null,"OTROS",null,null,{"$f":"SUM(E86:E88)","v":1133},{"$f":"SUM(F86:F88)","v":688689},177457892800,0,1794975954.8000038,11287,1916330209.9000001,0,0,489023717]
[null,null,"Renovación",null,null,null,null,null,0,null,null,0,null,0]
[null,null,"Primer año",null,1127,688589,177440192800,null,1794975954.8000038,11287,1916330209.9000001,0,0,489023717]
[null,null,"Otro",null,6,100,17700000,null,0,null,null,0,null,0]
[null,"PÓLIZAS CONCENTRADAS*",null,null,390,41821178,1310769628000,null,10476504970.129997,133604,1892073781.5305161,0,0,-29676016]
[]
[]
[]
[]
[]
[null,"* PARA AQUELLAS PÓLIZAS QUE POR RAZONES ADMINISTRATIVAS, COMERCIALES O DE CUALQUIER OTRA ÍNDOLE, PERO QUE SE ENCUENTRE DOCUMENTADA EN SUS NOTAS TÉCNICAS CORRESPONDIENTES, Y LA INSTITUCIÓN NO TENGA A SU DISPOSICIÓN EL DETALLE DE LA INFORMACION DE CADA ASEGURADO, SE REPORTARÉ EN ESTE APARTADO LA INFORMACIÓN. CABE MENCIONAR QUE LAS PÓLIZAS AUTO-ADMINISTRADAS NO DEBERÁN SER CONSIDERADAS EN ESTE CAMPO."]
[]
[]
[]
[null,"GRUPO PÓLIZA NO CONCENTRADA",null,null,{"$f":"E52-E89","v":105059},{"$f":"F52-F89","v":47554167},9371912682636,{"$f":"H52-H89","v":212059110},52371635219.37915,240315,38977588118.151222,3618869206,818050999.23000467,579942687]

{"sheet":"1 T.N.","index":6,"n_rows":99,"n_cols":14,"rows_kept":99,"cut":false,"hidden":false,"merged":[[94,1,95,13],[1,0,1,13],[3,0,3,13],[5,0,5,13],[7,0,7,13],[8,4,11,4],[8,5,11,5],[8,6,11,6],[8,7,11,7],[8,8,11,8],[8,9,11,9],[8,10,11,10],[8,11,11,11],[8,12,11,12],[8,13,11,13]]}
[]
["1. SEGURO DIRECTO EN LA OPERACIÓN DE VIDA "]
[]
["DICIEMBRE DE 2021"]
[" "]
["MONEDA NACIONAL"]
[]
[]
[null,null,null,null,"PÓLIZAS EN VIGOR","CERTIFICADOS O PARTICIPANTES EN VIGOR","SUMA ASEGURADA EN VIGOR POR MUERTE","SUMA ASEGURADA EN VIGOR POR SOBREVIVENCIA","PRIMA EMITIDA DIRECTA","NÚMERO DE SINIESTROS","SINIESTROS DIRECTOS","RESCATES","VENCIMIENTOS","COSTO DE DIVIDENDOS"]
[null,null,"TIPO DE SEGURO",null,null,null,null,null,null,null," DIRECTOS",null," DIRECTOS"]
[]
[]
["TOTAL",null,null,null,{"$f":"E14+E52","v":9265469},98610509,13559118377504,30648249786,174748917559.42206,442791,61772332377.212372,84332169882,7388091911.0100098,552480219]
[null,"TOTAL INDIVIDUAL",null,null,{"$f":"E15+E19+E23+E27+E31+E35+E39+E43+E47+E51","v":9160679},9238624,2876607417023,30436190676,112216947450.9729,72109,21516135029.290634,80713300676,7181409611.6700096,2213548]
[null,"TRADICIONAL",null,null,{"$f":"SUM(E16:E18)","v":5406678},{"$f":"SUM(F16:F18)","v":5477888},1575182385272,30095422576,17361761985.072701,32122,4951284559.6100035,2193207144,1651564594.6199999,1821321]
[null,null,"Renovación",null,2674469,2686552,990948332779,271081103,8451689335.3506145,15060,2738284888.4900026,885505425,179941154.30000004,1679788]
[null,null,"Primer año",null,2701646,2759277,545766021635,9771936862,7496665655.4520874,16499,1683291291.7400005,984495326,1032347743.3,197772]
[null,null,"Otro",null,30563,32059,38468030858,20052404611,1413406994.269999,563,529708379.38000011,323206393,439275697.01999998,-56239]
[null,"RETIRO",null,null,{"$f":"SUM(E20:E22)","v":1159},{"$f":"SUM(F20:F22)","v":1159},0,0,24327511.760000002,298,78269790.699999794,5430763,76572869.079999775,17436]
[null,null,"Renovación"]
[null,null,"Primer año",null,153,153,null,0,4244510.3000000017,3,195400,0,195400,0]
[null,null,"Otro",null,1006,1006,null,0,20083001.460000001,295,78074390.699999794,5430763,76377469.079999775,17436]
[null,"MICROSEGURO",null,null,{"$f":"SUM(E24:E26)","v":53268},{"$f":"SUM(F24:F26)","v":53268},12200938000,0,58987630.460000001,88,17066778,0,0,0]
[null,null,"Renovación",null,19165,19165,5259878000,null,39290055.74000001,49,13434270,0,0,0]
[null,null,"Primer año",null,34103,34103,6941060000,null,19697574.719999991,38,3557508,0,0,0]
[null,null,"Otro",null,null,null,null,null,0,1,75000,0,0,0]
[null,"MANCOMUNADO",null,null,{"$f":"SUM(E28:E30)","v":8548},{"$f":"SUM(F28:F30)","v":8548},14312101857,589838,16252043.039999997,36,13050555.860000001,487082309,1905992,0]
[null,null,"Renovación",null,5785,5785,8149377295,589838,15568794.949999997,31,10450555.860000001,264224226,1905992,0]
[null,null,"Primer año",null,2763,2763,6162724562,null,683248.09000000008,5,2600000,222858083,0,0]
[null,null,"Otro"]
[null,"FLEXIBLE SIN TASA GARANTIZADA",null,null,{"$f":"SUM(E32:E34)","v":2227659},{"$f":"SUM(F32:F34)","v":2233022},858077723397,0,68677174829.020271,32467,10603118099.570635,57889093399,135525960.90999997,374743]
[null,null,"Renovación",null,253783,259118,60892600135,null,13410125536.260023,1602,2595057355.0200014,13959437320,31906570.040000007,374738]
[null,null,"Primer año",null,1848629,1848657,792189242111,null,52533226718.940247,30415,7727280678.2906332,39929304895,0,5]
[null,null,"Otro",null,125247,125247,4995881151,0,2733822573.8199987,450,280780066.26000053,4000351184,103619390.86999997,0]
[null,"FLEXIBLE CON TASA GARANTIZADA",null,null,{"$f":"SUM(E36:E38)","v":378238},{"$f":"SUM(F36:F38)","v":378241},55284422932,20900000,23640709933.459953,3070,5296268439.9799967,19677960910,5219000144.8400097,0]
[null,null,"Renovación",null,38927,38930,1615406507,null,30432919.440000005,354,49410868.349999994,132214674,46400303.349999994,0]
[null,null,"Primer año",null,319204,319204,52458489649,20900000,18883796660.359951,2560,5224873149.409996,14946818422,5140862694.020009,0]
[null,null,"Otro",null,20107,20107,1210526776,null,4726480353.6600056,156,21984422.220000003,4598927814,31737147.470000003,0]
[null,"EDUCATIVO",null,null,{"$f":"SUM(E40:E42)","v":2148},{"$f":"SUM(F40:F42)","v":3517},1715257169,319278262,85125660.840000018,269,99034257.270000011,37412077,95577906.220000014,48]
[null,null,"Renovación",null,1548,2528,1677016231,2540498,62996102.460000008,252,92641015.010000005,31066538,87354659.320000008,0]
[null,null,"Primer año",null,207,208,38240938,103731075,4621217.620000002,4,395420.36,5991288,2225425,48]
[null,null,"Otro",null,393,781,null,213006689,17508340.760000002,13,5997821.9000000004,354251,5997821.9000000004,0]
[null,"DEUDORES",null,null,{"$f":"SUM(E44:E46)","v":1081187},{"$f":"SUM(F44:F46)","v":1081187},359521088396,0,2351803827.3499804,3746,455380404.35999942,423114074,0,0]
[null,null,"Renovación",null,43088,43088,55293992228,null,394141636.80999982,237,74413692.240000024,0,0,0]
[null,null,"Primer año",null,293580,293580,218930341708,null,564834558.06998026,737,124654910.50999953,0,0,0]
[null,null,"Otro",null,744519,744519,85296754460,null,1392827632.4700005,2772,256311801.6099999,423114074,0,0]
[null,null,"OTROS",null,{"$f":"SUM(E48:E50)","v":649},649,0,0,0,8,1262143.94,0,1262144,0]
[null,null,"Renovación"]
[null,null,"Primer año",null,35,35,null,0,0,8,1262143.94,0,1262144,0]
[null,null,"Otro",null,614,614,null,null,0,null,null,0,null,0]
[null,"No Especificado",null,null,1145,1145,313500000,null,804029.97000000009,5,1400000,0,0,0]
[null,"TOTAL GRUPO",null,null,{"$f":"E53+E57+E61+E65+E69+E73+E77+E81+E85+E89","v":104790},{"$f":"F53+F57+F61+F65+F69+F73+F77+F81+F85+F89","v":89371885},10682510960481,212059110,62531970108.449158,370682,40256197347.921738,3618869206,206682299.33999997,550266671]
[null,"TRADICIONAL",null,null,{"$f":"SUM(E54:E56)","v":94025},{"$f":"SUM(F54:F56)","v":25389967},4993762550805,0,22502616604.839447,93495,16455090045.790043,0,0,61496009]
[null,null,"Renovación",null,15983,14041775,3053333407583,null,16274490391.869125,41468,11065839378.100054,0,0,41781248]
[null,null,"Primer año",null,78042,11348192,1940429143222,null,6228126212.9703217,52018,5388650667.68999,0,0,19714761]
[null,null,"Otro",null,null,null,null,null,null,9,600000,null,0]
[null,"TRABAJADORES DEL ESTADO",null,null,{"$f":"SUM(E58:E60)","v":865},{"$f":"SUM(F58:F60)","v":2635828},929411524715,212059110,9096065463.0401039,32431,8752000503.5999832,1685454655,0,-9759793]
[null,null,"Renovación",null,596,1387866,835485427467,null,7756415528.0201054,23847,7377889406.1299849,1685454655,0,-3187719]
[null,null,"Primer año",null,269,1247962,93926097248,212059110,1339649935.0199986,8584,1374111097.4699984,0,0,-6572074]
[null,null,"Otro"]
[null,"RETIRO",null,null,{"$f":"SUM(E62:E64)","v":4},{"$f":"SUM(F62:F64)","v":518773},0,0,309642710.02999753,5521,207182006.49000001,0,206682299.33999997,0]
[null,null,"Renovación",null,1,518472,null,null,309693695.03999752,5207,125827158.87,0,125402451.72,0]
[null,null,"Primer año",null,null,null,null,null,-50985.009999999995,0,null,0,-75000,0]
[null,null,"Otro",null,3,301,null,0,0,314,81354847.61999999,0,81354847.61999999,0]
[null,"ORFANDAD",null,null,{"$f":"SUM(E66:E68)","v":6},{"$f":"SUM(F66:F68)","v":82391},3512967030,0,103349953.83999941,235,4733993.25,0,0,16806048]
[null,null,"Renovación",null,6,82391,3512967030,null,103349953.83999941,235,4733993.25,0,0,16794408]
[null,null,"Primer año",null,null,null,null,null,0,null,null,0,null,11640]
[null,null,"Otro"]
[null,"MICROSEGURO",null,null,{"$f":"SUM(E70:E72)","v":35},{"$f":"SUM(F70:F72)","v":591240},27091198000,0,37485909.150000155,1086,50613401.980000004,0,0,0]
[null,null,"Renovación",null,1,22,1320000,null,139998.24,null,null,0,null,0]
[null,null,"Primer año",null,34,591218,27089878000,null,37345910.910000153,1086,50613401.980000004,0,0,0]
[null,null,"Otro"]
[null,"FLEXIBLE SIN TASA GARANTIZADA",null,null,{"$f":"SUM(E74:E76)","v":334},{"$f":"SUM(F74:F76)","v":126130},78517314,0,4985381996.3799925,12870,4752574268.7012091,1933414551,0,0]
[null,null,"Renovación",null,105,7371,33529211,null,0,null,null,0,null,0]
[null,null,"Primer año",null,229,118759,44988103,null,4985381996.3799925,12870,4752574268.7012091,1933414551,0,0]
[null,null,"Otro"]
[null,"FLEXIBLE CON TASA GARANTIZADA",null,null,{"$f":"SUM(E78:E80)","v":769},{"$f":"SUM(F78:F80)","v":769},21727710,0,0,0,0,0,0,0]
[null,null,"Renovación"]
[null,null,"Primer año",null,769,769,21727710,null,0,null,null,0,null,0]
[null,null,"Otro"]
[null,"DEUDORES",null,null,{"$f":"SUM(E82:E84)","v":7240},{"$f":"SUM(F82:F84)","v":17517214},3240569168510,0,13512203306.619612,80153,6225599136.6799812,0,0,22376706]
[null,null,"Renovación",null,731,3598074,564115166924,null,5391640909.2794361,25529,2942966691.4599633,0,0,5415099]
[null,null,"Primer año",null,4316,13211068,2644931604843,null,7780321067.8301754,52971,3131714044.7900181,0,0,16961607]
[null,null,"Otro",null,2193,708072,31522396743,null,340241329.51000017,1653,150918400.42999998,0,0,0]
[null,"OTROS",null,null,{"$f":"SUM(E86:E88)","v":1132},{"$f":"SUM(F86:F88)","v":688474},177455369277,0,1794553455.3100038,11287,1916330209.9000001,0,0,489023717]
[null,null,"Renovación",null,null,null,null,null,0,null,null,0,null,0]
[null,null,"Primer año",null,1126,688374,177437669277,null,1794553455.3100038,11287,1916330209.9000001,0,0,489023717]
[null,null,"Otro",null,6,100,17700000,null,0,null,null,0,null,0]
[null,"PÓLIZAS CONCENTRADAS*",null,null,380,41821099,1310607937120,null,10190670709.239998,133604,1892073781.5305161,0,0,-29676016]
[]
[]
[]
[]
[]
[null,"* PARA AQUELLAS PÓLIZAS QUE POR RAZONES ADMINISTRATIVAS, COMERCIALES O DE CUALQUIER OTRA ÍNDOLE, PERO QUE SE ENCUENTRE DOCUMENTADA EN SUS NOTAS TÉCNICAS CORRESPONDIENTES, Y LA INSTITUCIÓN NO TENGA A SU DISPOSICIÓN EL DETALLE DE LA INFORMACION DE CADA ASEGURADO, SE REPORTARÉ EN ESTE APARTADO LA INFORMACIÓN. CABE MENCIONAR QUE LAS PÓLIZAS AUTO-ADMINISTRADAS NO DEBERÁN SER CONSIDERADAS EN ESTE CAMPO."]
[]
[]
[]
[null,"GRUPO PÓLIZA NO CONCENTRADA",null,null,{"$f":"E52-E89","v":104410},{"$f":"F52-F89","v":47550786},9371903023361,212059110,52341299399.20916,237078,38364123566.39122,3618869206,206682299.33999997,579942687]

{"sheet":"1 T.E.","index":7,"n_rows":99,"n_cols":14,"rows_kept":99,"cut":false,"hidden":false,"merged":[[94,1,95,13],[1,0,1,13],[3,0,3,13],[5,0,5,13],[7,0,7,13],[8,4,11,4],[8,5,11,5],[8,6,11,6],[8,7,11,7],[8,8,11,8],[8,9,11,9],[8,10,11,10],[8,11,11,11],[8,12,11,12],[8,13,11,13]]}
[]
["1. SEGURO DIRECTO EN LA OPERACIÓN DE VIDA "]
[]
["DICIEMBRE DE 2021"]
[" "]
["MONEDA EXTRANJERA"]
[]
[]
[null,null,null,null,"PÓLIZAS EN VIGOR","CERTIFICADOS O PARTICIPANTES EN VIGOR","SUMA ASEGURADA EN VIGOR POR MUERTE","SUMA ASEGURADA EN VIGOR POR SOBREVIVENCIA","PRIMA EMITIDA DIRECTA","NÚMERO DE SINIESTROS","SINIESTROS DIRECTOS","RESCATES","VENCIMIENTOS","COSTO DE DIVIDENDOS"]
[null,null,"TIPO DE SEGURO",null,null,null,null,null,null,null," DIRECTOS",null," DIRECTOS"]
[]
[]
["TOTAL",null,null,null,{"$f":"E14+E52","v":521948},605772,872544056268,288117255281,35599693189.150047,32113,14073642254.959953,24947852097,17114211371.109936,-9160467]
[null,"TOTAL INDIVIDUAL",null,null,{"$f":"E15+E19+E23+E27+E31+E35+E39+E43+E47+E51","v":521935},605463,872372706113,288117255281,35313195876.920044,32113,14073642254.959953,24947852097,17114211371.109936,-9160467]
[null,"TRADICIONAL",null,null,{"$f":"SUM(E16:E18)","v":359481},{"$f":"SUM(F16:F18)","v":380822},557182293368,183633085130,23859990576.620037,19468,8042449325.7999525,15662003273,8882317408.099947,2417087]
[null,null,"Renovación",null,197349,206286,205916231565,37335133999,8759433979.8500042,17670,6216644342.7199535,5968443936,4735758900.5799427,2335362]
[null,null,"Primer año",null,143121,149068,341178298981,141326160796,14708022304.660032,765,1184482502.2099993,9277328471,3713893134.9300046,81696]
[null,null,"Otro",null,19011,25468,10087762822,4971790335,392534292.10999995,1033,641322480.87000024,416230866,432665372.59000003,29]
[null,"RETIRO",null,null,{"$f":"SUM(E20:E22)","v":1078},{"$f":"SUM(F20:F22)","v":1078},753824800,0,88586185.439999983,49,24627193.34,14893559,21215706.210000001,0]
[null,null,"Renovación",null,459,459,753824800,0,5104769.7299999986,20,5909798.5899999999,1721265,5109602.59,0]
[null,null,"Primer año",null,52,52,null,0,1925680.8599999996,null,null,0,null,0]
[null,null,"Otro",null,567,567,null,0,81555734.849999979,29,18717394.75,13172294,16106103.620000001,0]
[null,"MICROSEGURO",null,null,{"$f":"SUM(E24:E26)","v":0},{"$f":"SUM(F24:F26)","v":0},0,0,0,0,0,0,0,0]
[null,null,"Renovación"]
[null,null,"Primer año"]
[null,null,"Otro"]
[null,"MANCOMUNADO",null,null,{"$f":"SUM(E28:E30)","v":580},{"$f":"SUM(F28:F30)","v":580},1320257359,0,40788162.490000002,36,48866996.210000001,48583173,36221112.560000002,0]
[null,null,"Renovación",null,576,576,1306275170,null,40665382.210000001,36,48866996.210000001,48583173,36221112.560000002,0]
[null,null,"Primer año",null,4,4,13982189,null,122780.28000000001,null,null,0,null,0]
[null,null,"Otro"]
[null,"FLEXIBLE SIN TASA GARANTIZADA",null,null,{"$f":"SUM(E32:E34)","v":35765},{"$f":"SUM(F32:F34)","v":35826},70720275090,0,4416955867.8599997,243,386482674.71999997,4856771167,3174835.48,-11631756]
[null,null,"Renovación",null,28104,28165,67291018302,null,972857378.34000015,217,299268517.25999999,2471146374,88331.199999999997,-11631756]
[null,null,"Primer año",null,5673,5673,3305733040,null,3408938758.5199995,18,10432304.819999998,965306072,0,0]
[null,null,"Otro",null,1988,1988,123523748,null,35159731,8,76781852.639999986,1420318721,3086504.28,0]
[null,"FLEXIBLE CON TASA GARANTIZADA",null,null,{"$f":"SUM(E36:E38)","v":47746},{"$f":"SUM(F36:F38)","v":48166},58501415901,100615858,3957616298.6499996,5825,2263777134.7100019,2556910071,2321466953.4999924,0]
[null,null,"Renovación",null,10866,11134,6053478051,3979601,702323865.25,218,219199602.67999998,361324015,1234093.68,0]
[null,null,"Primer año",null,35684,35836,51824340644,96636257,3174564276.9899998,5592,2017931945.7000022,1992413945,2320232859.8199925,0]
[null,null,"Otro",null,1196,1196,623597206,null,80728156.410000056,15,26645586.329999998,203172111,0,0]
[null,"EDUCATIVO",null,null,{"$f":"SUM(E40:E42)","v":75056},{"$f":"SUM(F40:F42)","v":136762},137670176723,104383554293,2936883376.1300025,6477,3297113649.0699983,1808690854,5842247540.2599993,54202]
[null,null,"Renovación",null,37604,59827,35843005147,2768435239,1400398350.3399994,5389,2814130125.2299981,442171495,2713920631.769999,32958]
[null,null,"Primer año",null,35054,72187,101127134451,99729354758,1434197107.580003,894,369931772.47000033,1343274283,3024562332.1999998,21244]
[null,null,"Otro",null,2398,4748,700037125,1885764296,102287918.20999998,194,113051751.36999999,23245076,103764576.28999999,0]
[null,"DEUDORES",null,null,{"$f":"SUM(E44:E46)","v":1894},{"$f":"SUM(F44:F46)","v":1894},46224462872,0,12373981.73,3,2757467.32,0,0,0]
[null,null,"Renovación"]
[null,null,"Primer año",null,1894,1894,46224462872,null,12373981.73,3,2757467.32,0,0,0]
[null,null,"Otro"]
[null,null,"OTROS",null,{"$f":"SUM(E48:E50)","v":335},335,0,0,1427.9999999999995,12,7567813.790000001,0,7567815,0]
[null,null,"Renovación"]
[null,null,"Primer año",null,335,335,null,0,1427.9999999999995,12,7567813.790000001,0,7567815,0]
[null,null,"Otro"]
[null,"No Especificado"]
[null,"TOTAL GRUPO",null,null,{"$f":"E53+E57+E61+E65+E69+E73+E77+E81+E85+E89","v":13},{"$f":"F53+F57+F61+F65+F69+F73+F77+F81+F85+F89","v":309},171350155,0,286497312.23000002,0,0,0,0,0]
[null,"TRADICIONAL",null,null,{"$f":"SUM(E54:E56)","v":0},{"$f":"SUM(F54:F56)","v":0},0,0,0,0,0,0,0,0]
[null,null,"Renovación"]
[null,null,"Primer año"]
[null,null,"Otro"]
[null,"TRABAJADORES DEL ESTADO",null,null,{"$f":"SUM(E58:E60)","v":0},{"$f":"SUM(F58:F60)","v":0},0,0,0,0,0,0,0,0]
[null,null,"Renovación"]
[null,null,"Primer año"]
[null,null,"Otro"]
[null,"RETIRO",null,null,{"$f":"SUM(E62:E64)","v":0},{"$f":"SUM(F62:F64)","v":0},0,0,0,0,0,0,0,0]
[null,null,"Renovación"]
[null,null,"Primer año"]
[null,null,"Otro"]
[null,"ORFANDAD",null,null,{"$f":"SUM(E66:E68)","v":0},{"$f":"SUM(F66:F68)","v":0},0,0,0,0,0,0,0,0]
[null,null,"Renovación"]
[null,null,"Primer año"]
[null,null,"Otro"]
[null,"MICROSEGURO",null,null,{"$f":"SUM(E70:E72)","v":0},{"$f":"SUM(F70:F72)","v":0},0,0,0,0,0,0,0,0]
[null,null,"Renovación"]
[null,null,"Primer año"]
[null,null,"Otro"]
[null,"FLEXIBLE SIN TASA GARANTIZADA",null,null,{"$f":"SUM(E74:E76)","v":0},{"$f":"SUM(F74:F76)","v":0},0,0,0,0,0,0,0,0]
[null,null,"Renovación"]
[null,null,"Primer año"]
[null,null,"Otro"]
[null,"FLEXIBLE CON TASA GARANTIZADA",null,null,{"$f":"SUM(E78:E80)","v":1},{"$f":"SUM(F78:F80)","v":3},6140160,0,186683.51999999999,0,0,0,0,0]
[null,null,"Renovación",null,1,3,6140160,null,186683.51999999999,null,null,0,null,0]
[null,null,"Primer año"]
[null,null,"Otro"]
[null,"DEUDORES",null,null,{"$f":"SUM(E82:E84)","v":1},{"$f":"SUM(F82:F84)","v":12},995592,0,53868.33,0,0,0,0,0]
[null,null,"Renovación",null,1,12,995592,null,53868.33,null,null,0,null,0]
[null,null,"Primer año"]
[null,null,"Otro"]
[null,"OTROS",null,null,{"$f":"SUM(E86:E88)","v":1},{"$f":"SUM(F86:F88)","v":215},2523523,0,422499.48999999947,0,0,0,0,0]
[null,null,"Renovación"]
[null,null,"Primer año",null,1,215,2523523,null,422499.48999999947,null,null,0,null,0]
[null,null,"Otro"]
[null,"PÓLIZAS CONCENTRADAS*",null,null,10,79,161690880,null,285834260.89000005,null,null,0,null,0]
[]
[]
[]
[]
[]
[null,"* PARA AQUELLAS PÓLIZAS QUE POR RAZONES ADMINISTRATIVAS, COMERCIALES O DE CUALQUIER OTRA ÍNDOLE, PERO QUE SE ENCUENTRE DOCUMENTADA EN SUS NOTAS TÉCNICAS CORRESPONDIENTES, Y LA INSTITUCIÓN NO TENGA A SU DISPOSICIÓN EL DETALLE DE LA INFORMACION DE CADA ASEGURADO, SE REPORTARÉ EN ESTE APARTADO LA INFORMACIÓN. CABE MENCIONAR QUE LAS PÓLIZAS AUTO-ADMINISTRADAS NO DEBERÁN SER CONSIDERADAS EN ESTE CAMPO."]
[]
[]
[]
[null,"GRUPO PÓLIZA NO CONCENTRADA",null,null,{"$f":"E52-E89","v":3},{"$f":"F52-F89","v":230},9659275,0,663051.33999997377,0,0,0,0,0]

{"sheet":"1T.I.","index":8,"n_rows":99,"n_cols":14,"rows_kept":99,"cut":false,"hidden":false,"merged":[[94,1,95,13],[1,0,1,13],[3,0,3,13],[5,0,5,13],[7,0,7,13],[8,4,11,4],[8,5,11,5],[8,6,11,6],[8,7,11,7],[8,8,11,8],[8,9,11,9],[8,10,11,10],[8,11,11,11],[8,12,11,12],[8,13,11,13]]}
[]
["1. SEGURO DIRECTO EN LA OPERACIÓN DE VIDA "]
[]
["DICIEMBRE DE 2021"]
[" "]
["TITULOS INDIZADOS"]
[]
[]
[null,null,null,null,"PÓLIZAS EN VIGOR","CERTIFICADOS O PARTICIPANTES EN VIGOR","SUMA ASEGURADA EN VIGOR POR MUERTE","SUMA ASEGURADA EN VIGOR POR SOBREVIVENCIA","PRIMA EMITIDA DIRECTA","NÚMERO DE SINIESTROS","SINIESTROS DIRECTOS","RESCATES","VENCIMIENTOS","COSTO DE DIVIDENDOS"]
[null,null,"TIPO DE SEGURO",null,null,null,null,null,null,null," DIRECTOS",null," DIRECTOS"]
[]
[]
["TOTAL",null,null,null,{"$f":"E14+E52","v":957541},1061948,760346338226,220379632468,29771937282.249992,23720,5117238377.4500074,17047531251,4581699239.6500101,19425885]
[null,"TOTAL INDIVIDUAL",null,null,{"$f":"E15+E19+E23+E27+E31+E35+E39+E43+E47+E51","v":956895},1058797,760346338226,220379632468,29742264513.419991,20483,4503773825.6900043,17047531251,3970330539.7600055,19425885]
[null,"TRADICIONAL",null,null,{"$f":"SUM(E16:E18)","v":522815},{"$f":"SUM(F16:F18)","v":544188},365596281531,88936789082,16095564149.839985,14155,2082358831.8700042,5697608091,1714916020.3700051,13729108]
[null,null,"Renovación",null,273760,285591,123026791705,27884947320,6882464002.869998,12154,1437957145.9900041,3846489809,846627591.06000531,5638]
[null,null,"Primer año",null,221408,230031,229398686247,59378834150,8865383696.7199879,1084,500445438.18000001,1688543191,773074520.76999962,13723470]
[null,null,"Otro",null,27647,28566,13170803579,1673007612,347716450.24999988,917,143956247.70000008,162575091,95213908.540000185,0]
[null,"RETIRO",null,null,{"$f":"SUM(E20:E22)","v":1151},{"$f":"SUM(F20:F22)","v":1153},80217486,80217486,26043724.520000003,127,40858990.000000007,865943,40858989.690000005,0]
[null,null,"Renovación",null,697,699,8899050,8899050,824198.17999999993,81,32385204.830000006,865943,32385204.830000006,0]
[null,null,"Primer año",null,242,242,71318436,71318436,10830940.940000001,1,15042.61,0,15042.61,0]
[null,null,"Otro",null,212,212,null,0,14388585.400000004,45,8458742.5600000005,0,8458742.25,0]
[null,"MICROSEGURO",null,null,{"$f":"SUM(E24:E26)","v":0},{"$f":"SUM(F24:F26)","v":0},0,0,0,0,0,0,0,0]
[null,null,"Renovación"]
[null,null,"Primer año"]
[null,null,"Otro"]
[null,"MANCOMUNADO",null,null,{"$f":"SUM(E28:E30)","v":178},{"$f":"SUM(F28:F30)","v":178},225607372,0,10022844.329999998,10,1988183.7399999998,687053,1410974.2399999998,0]
[null,null,"Renovación",null,130,130,164066005,null,6845139.9699999988,7,1209509.8599999999,687053,632300.36,0]
[null,null,"Primer año",null,48,48,61541367,null,3177704.3599999994,3,778673.87999999989,0,778673.87999999989,0]
[null,null,"Otro"]
[null,"FLEXIBLE SIN TASA GARANTIZADA",null,null,{"$f":"SUM(E32:E34)","v":75073},{"$f":"SUM(F32:F34)","v":75197},145280310982,0,2867587414.2600002,512,482172505.4599998,4658057007,55953724.460000016,0]
[null,null,"Renovación",null,65075,65197,134465841702,null,1832875530.0600004,476,429269446.47999984,3316285322,51020524.460000016,0]
[null,null,"Primer año",null,9499,9501,10500556639,null,1013807943.3999999,16,27552650.090000004,1097221929,4933200,0]
[null,null,"Otro",null,499,499,313912641,null,20903940.800000001,20,25350408.890000004,244549756,0,0]
[null,"FLEXIBLE CON TASA GARANTIZADA",null,null,{"$f":"SUM(E36:E38)","v":246451},{"$f":"SUM(F36:F38)","v":248697},150324647923,60770753717,7492260390.1400023,2934,880545810.18000007,5811295301,183753044,0]
[null,null,"Renovación",null,42534,43016,17893196721,null,2117634389.8099999,209,241656509.56,822008740,0,0]
[null,null,"Primer año",null,201133,202897,131078135331,60770753717,5165757728.7800016,2698,581908917.86000001,4617188377,183753044,0]
[null,null,"Otro",null,2784,2784,1353315871,null,208868271.54999995,27,56980382.760000005,372098184,0,0]
[null,"EDUCATIVO",null,null,{"$f":"SUM(E40:E42)","v":111015},{"$f":"SUM(F40:F42)","v":189172},98839272932,70591872183,3250451653.3300033,2656,994408798.14000058,879017856,1951997080.0000002,5696777]
[null,null,"Renovación",null,66077,101544,30265630547,3946317824,2041169480.3300033,2153,861540167.74000061,315919313,793097674.70999992,4003]
[null,null,"Primer año",null,44436,86627,68573642385,66311997872,1186085137.6899998,492,130680693.25999998,561577458,1156711468.1500001,5692774]
[null,null,"Otro",null,502,1001,null,333556487,23197035.309999999,11,2187937.14,1521085,2187937.14,0]
[null,"DEUDORES",null,null,{"$f":"SUM(E44:E46)","v":0},{"$f":"SUM(F44:F46)","v":0},0,0,0,0,0,0,0,0]
[null,null,"Renovación"]
[null,null,"Primer año"]
[null,null,"Otro"]
[null,null,"OTROS",null,{"$f":"SUM(E48:E50)","v":212},212,0,0,334337,89,21440706.29999999,0,21440707,0]
[null,null,"Renovación"]
[null,null,"Primer año",null,212,212,null,0,334337,89,21440706.29999999,0,21440707,0]
[null,null,"Otro"]
[null,"No Especificado"]
[null,"TOTAL GRUPO",null,null,{"$f":"E53+E57+E61+E65+E69+E73+E77+E81+E85+E89","v":646},{"$f":"F53+F57+F61+F65+F69+F73+F77+F81+F85+F89","v":3151},0,0,29672768.829999998,3237,613464551.76000333,0,611368699.89000463,0]
[null,"TRADICIONAL",null,null,{"$f":"SUM(E54:E56)","v":0},{"$f":"SUM(F54:F56)","v":0},0,0,0,0,0,0,0,0]
[null,null,"Renovación"]
[null,null,"Primer año"]
[null,null,"Otro"]
[null,"TRABAJADORES DEL ESTADO",null,null,{"$f":"SUM(E58:E60)","v":0},{"$f":"SUM(F58:F60)","v":0},0,0,0,0,0,0,0,0]
[null,null,"Renovación"]
[null,null,"Primer año"]
[null,null,"Otro"]
[null,"RETIRO",null,null,{"$f":"SUM(E62:E64)","v":646},{"$f":"SUM(F62:F64)","v":3151},0,0,29672768.829999998,3237,613464551.76000333,0,611368699.89000463,0]
[null,null,"Renovación",null,1,157,null,null,null,163,45418420.640000015,null,45413653.880000018]
[null,null,"Primer año",null,580,580,null,0,0,571,10400812.900000002,0,10400812.900000002,0]
[null,null,"Otro",null,65,2414,null,0,29672768.829999998,2503,557645318.22000337,0,555554233.11000466,0]
[null,"ORFANDAD",null,null,{"$f":"SUM(E66:E68)","v":0},{"$f":"SUM(F66:F68)","v":0},0,0,0,0,0,0,0,0]
[null,null,"Renovación"]
[null,null,"Primer año"]
[null,null,"Otro"]
[null,"MICROSEGURO",null,null,{"$f":"SUM(E70:E72)","v":0},{"$f":"SUM(F70:F72)","v":0},0,0,0,0,0,0,0,0]
[null,null,"Renovación"]
[null,null,"Primer año"]
[null,null,"Otro"]
[null,"FLEXIBLE SIN TASA GARANTIZADA",null,null,{"$f":"SUM(E74:E76)","v":0},{"$f":"SUM(F74:F76)","v":0},0,0,0,0,0,0,0,0]
[null,null,"Renovación"]
[null,null,"Primer año"]
[null,null,"Otro"]
[null,"FLEXIBLE CON TASA GARANTIZADA",null,null,{"$f":"SUM(E78:E80)","v":0},{"$f":"SUM(F78:F80)","v":0},0,0,0,0,0,0,0,0]
[null,null,"Renovación"]
[null,null,"Primer año"]
[null,null,"Otro"]
[null,"DEUDORES",null,null,{"$f":"SUM(E82:E84)","v":0},{"$f":"SUM(F82:F84)","v":0},0,0,0,0,0,0,0,0]
[null,null,"Renovación"]
[null,null,"Primer año"]
[null,null,"Otro"]
[null,"OTROS",null,null,{"$f":"SUM(E86:E88)","v":0},{"$f":"SUM(F86:F88)","v":0},0,0,0,0,0,0,0,0]
[null,null,"Renovación"]
[null,null,"Primer año"]
[null,null,"Otro"]
[null,"PÓLIZAS CONCENTRADAS*"]
[]
[]
[]
[]
[]
[null,"* PARA AQUELLAS PÓLIZAS QUE POR RAZONES ADMINISTRATIVAS, COMERCIALES O DE CUALQUIER OTRA ÍNDOLE, PERO QUE SE ENCUENTRE DOCUMENTADA EN SUS NOTAS TÉCNICAS CORRESPONDIENTES, Y LA INSTITUCIÓN NO TENGA A SU DISPOSICIÓN EL DETALLE DE LA INFORMACION DE CADA ASEGURADO, SE REPORTARÉ EN ESTE APARTADO LA INFORMACIÓN. CABE MENCIONAR QUE LAS PÓLIZAS AUTO-ADMINISTRADAS NO DEBERÁN SER CONSIDERADAS EN ESTE CAMPO."]
[]
[]
[]
[null,"GRUPO PÓLIZA NO CONCENTRADA",null,null,{"$f":"E52-E89","v":646},{"$f":"F52-F89","v":3151},0,0,29672768.829999998,3237,613464551.76000333,0,611368699.89000463,0]

{"sheet":"2 Ind","index":9,"n_rows":115,"n_cols":21,"rows_kept":115,"cut":false,"hidden":false,"merged":[[6,0,6,20],[1,0,1,20],[2,0,2,20],[3,0,3,20],[4,0,4,20],[5,0,5,20],[7,0,7,20],[8,0,8,20],[9,0,9,20],[10,0,10,3],[10,4,10,5],[10,6,10,19],[11,14,11,15],[11,16,11,17],[11,0,11,3],[11,4,11,5],[11,6,11,7],[11,8,11,9],[11,10,11,11],[11,12,11,13]]}
[]
["2. EXPUESTOS EN LA OPERACIÓN DE VIDA POR TIPO DE SEGURO,"]
[" AÑOS DE ANTIGÜEDAD Y EDAD ALCANZADA"]
[]
[{"$f":"'1 Total'!A4","v":"DICIEMBRE DE 2021"}]
[]
["VIDA INDIVIDUAL "]
[]
["TOTAL"]
[]
["EDAD  ",null,null,null,"SALDADO Y",null,"PÓLIZAS O CERTIFICADOS EN VIGOR CON ANTIGÜEDAD MENOR O IGUAL A:"]
["ALCANZADA",null,null,null,"PRORROGADO",null,"1 año",null,"2 años",null,"3 años",null,"4 años",null,"5 años",null,"6 años",null," más de 6 años",null,"TOTAL"]
[null,null,null,null,"H","M","H","M","H","M","H","M","H","M","H","M","H","M","H","M"]
["De",0,"años",null,0,0,731,694,null,null,null,null,null,null,null,null,null,null,null,null,{"$f":"SUM(E14:T14)","v":1425}]
[null,1,null,null,3,1,1848,1675,1,0,null,null,null,null,null,null,null,null,null,null,{"$f":"SUM(E15:T15)","v":3528}]
[null,2,null,null,15,15,1977,1849,724,732,1,1,null,null,0,1,null,null,null,null,5315]
[null,3,null,null,58,63,1779,1513,1083,938,729,700,4,0,null,null,null,null,null,null,6867]
[null,4,null,null,160,186,1721,1412,857,786,1033,922,673,609,2,0,null,null,null,null,8361]
[null,5,null,null,206,240,1681,1393,912,704,861,722,855,830,599,560,0,1,null,null,9564]
[null,6,null,null,335,322,1603,1386,951,630,819,592,650,689,772,777,527,492,null,null,10545]
[null,7,null,null,358,357,1582,1227,931,580,749,483,485,516,569,515,1188,1158,1,0,10699]
[null,8,null,null,443,386,1443,1159,813,508,654,429,448,438,464,425,1132,1092,433,462,10729]
[null,9,null,null,467,432,1353,1020,776,454,590,366,400,402,358,342,823,727,1106,974,10590]
[null,10,null,null,479,490,1271,965,676,365,517,340,321,337,306,317,710,675,1348,1402,10519]
[null,11,null,null,511,521,1158,881,617,306,451,290,309,284,273,244,641,604,1825,1663,10578]
[null,12,null,null,553,506,1293,843,449,238,353,228,240,236,224,227,492,489,1901,1875,10147]
[null,13,null,null,545,562,1315,923,385,193,281,176,192,182,201,201,467,418,2175,2081,10297]
[null,14,null,null,605,554,7609,6161,389,189,271,141,134,154,205,177,428,386,2456,2232,22091]
[null,15,null,null,633,584,31617,26001,311,152,233,118,132,134,133,143,311,323,2531,2409,65765]
[null,16,null,null,617,598,1173,980,257,130,190,97,95,104,110,112,296,261,2628,2445,10093]
[null,17,null,null,589,573,1344,1083,279,173,143,85,100,104,86,103,219,206,2452,2314,9853]
[null,18,null,null,294,287,6763,4723,297,201,160,115,63,73,67,72,140,123,1129,1203,15710]
[null,19,null,null,55,46,17293,11582,336,257,188,156,102,76,63,45,94,68,151,134,30646]
[null,20,null,null,62,53,25815,16752,608,506,232,213,126,134,91,67,85,67,203,138,45152]
[null,21,null,null,76,101,32241,20601,895,782,454,398,174,147,117,98,112,111,204,160,56671]
[null,22,null,null,164,129,37334,25257,1098,869,717,595,374,361,133,132,139,113,113,101,67629]
[null,23,null,null,136,152,42736,29260,1569,1099,829,591,612,540,273,273,182,149,77,62,78540]
[null,24,null,null,164,176,47965,34466,1927,1740,1046,831,737,596,461,421,351,306,115,93,91395]
[null,25,null,null,152,171,53940,39694,2782,2876,1508,1301,978,760,471,409,595,524,127,106,106394]
[null,26,null,null,117,157,61926,46896,3690,4220,2046,2517,1274,1147,627,537,841,737,291,258,127281]
[null,27,null,null,177,263,69106,53545,4524,5724,2739,3906,1793,2559,856,944,1064,860,544,434,149038]
[null,28,null,null,231,265,72083,56270,5204,6493,3280,4903,2498,3640,1351,2119,1465,1346,737,628,162513]
[null,29,null,null,259,363,78063,61196,5691,7087,3855,5434,2900,4270,1849,2922,2023,2564,1164,992,180632]
[null,30,null,null,338,446,80599,63195,6138,7555,4248,5728,3241,4586,2275,3458,2771,4162,1657,1609,192006]
[null,31,null,null,398,533,86317,68783,6760,8062,4574,6222,3623,5222,2615,3929,3553,5562,2489,2983,211625]
[null,32,null,null,481,594,86408,69164,7202,8596,4873,6638,3751,5702,2764,4146,4162,6317,3716,5118,219632]
[null,33,null,null,549,710,87966,70797,7497,9011,5157,7011,4261,6019,3060,4724,4517,7000,5160,7451,230890]
[null,34,null,null,647,899,89407,72576,7995,9276,5609,7305,4467,6313,3245,4732,4980,7295,7017,10381,242144]
[null,35,null,null,890,1023,91308,73633,8415,9387,5958,7646,4991,6506,3657,5033,5710,7884,9166,13210,254417]
[null,36,null,null,1031,1140,91658,73493,8480,9525,6411,7663,5295,6986,3994,5282,6088,8440,10986,16301,262773]
[null,37,null,null,1067,1328,91545,74632,8565,9521,6467,7990,5659,7057,4194,5535,6395,9029,12911,18638,270533]
[null,38,null,null,1225,1475,91321,74126,8700,9703,6596,7970,5806,7007,4480,5552,7086,9229,14565,20669,275510]
[null,39,null,null,1404,1508,94315,75057,8584,9257,6778,7955,5864,7047,4491,5672,7400,9115,15843,22467,282757]
[null,40,null,null,1519,1575,89637,72855,8323,8945,6586,7824,5805,6866,4554,5474,7383,8964,17507,24007,277824]
[null,41,null,null,1799,1767,92396,74450,8388,8726,6624,7710,5890,6890,4500,5459,7520,9112,19356,25895,286482]
[null,42,null,null,1807,1730,88065,70632,7865,8156,6232,7005,5450,6476,4130,5075,7422,8412,20479,26538,275474]
[null,43,null,null,1983,1889,87986,70436,7608,8131,6029,6822,5399,6197,4197,4813,7249,8498,22127,28286,277650]
[null,44,null,null,2097,2029,87756,70257,7658,7686,5849,6500,5451,6096,4097,4624,7304,7992,23441,29544,278381]
[null,45,null,null,2117,1945,88560,69628,7420,7471,5708,6116,5221,6022,4089,4561,7019,7838,24699,30322,278736]
[null,46,null,null,2385,2183,89928,71054,7066,7405,5732,6066,4984,5667,3855,4421,7037,7796,26203,32001,283783]
[null,47,null,null,2456,2251,91780,72214,7163,7386,5437,6168,4927,5541,3784,4375,6851,7614,28042,34076,290065]
[null,48,null,null,2527,2210,90986,71528,7090,7038,5227,5897,4824,5498,3527,4166,6642,7220,28057,34562,286999]
[null,49,null,null,2420,2386,88855,70747,6710,6536,5115,5914,4755,5227,3378,4123,6127,6953,27605,34662,281513]
[null,50,null,null,2602,2342,82530,65073,6447,6428,5073,5898,4378,4910,3076,3817,5815,6607,27444,34671,267111]
[null,51,null,null,2479,2271,81216,67212,6038,6132,4673,5586,4328,4668,2932,3482,5365,6151,26614,33551,262698]
[null,52,null,null,2321,2195,72966,58285,5617,6063,4492,5494,3878,4370,2761,3510,5020,5985,25618,34253,242828]
[null,53,null,null,2378,2299,70291,57186,5392,5798,4261,5413,3609,4522,2592,3426,4529,5836,25327,35823,238682]
[null,54,null,null,2281,2468,67205,54793,4911,5700,4111,5439,3508,4375,2461,3432,4336,5684,24520,35963,231187]
[null,55,null,null,2328,2627,65032,53205,4789,5044,3740,4562,3311,4014,2470,3051,4255,5247,24778,34444,222897]
[null,56,null,null,2407,2351,61620,51093,4685,5110,3680,4822,3201,3642,2423,2918,4009,4855,24895,34406,216117]
[null,57,null,null,2369,2069,59894,48840,4399,4674,3406,4239,2843,3877,2109,3035,3685,4702,24076,34698,208915]
[null,58,null,null,2367,1976,57727,47328,4335,4400,3353,3867,2637,3565,1954,2823,3406,4752,23827,34410,202727]
[null,59,null,null,2265,1861,55785,45364,4033,4050,2902,3360,2704,3192,2042,2508,3153,4551,23077,34415,195262]
[null,60,null,null,2225,1711,53391,43695,3732,3723,2773,3136,2480,2785,1826,2276,3241,4028,22064,33353,186439]
[null,61,null,null,2169,1755,51728,41987,3534,3320,2514,2814,2321,2497,1737,2095,3056,3569,22675,32871,180642]
[null,62,null,null,2229,1557,48344,37818,3344,3149,2327,2509,2076,2226,1632,1866,2740,3209,21998,30733,167757]
[null,63,null,null,2115,1563,44432,34523,2920,2497,2140,2159,1880,1980,1348,1623,2541,2811,20860,28092,153484]
[null,64,null,null,2206,1606,42554,32564,2433,2046,1785,1690,1751,1827,1310,1498,2216,2508,20579,26283,144856]
[null,65,null,null,2114,1451,38632,29656,2226,1801,1422,1335,1424,1425,1018,1169,1949,2014,18822,23508,{"$f":"SUM(E79:T79)","v":129966}]
[null,66,null,null,2144,1394,36205,26478,2029,1703,1234,1239,1097,1106,828,962,1797,1844,17462,21546,119068]
[null,67,null,null,2149,1384,31549,23076,1917,1520,1109,976,1037,1061,715,772,1344,1539,16218,19811,106177]
[null,68,null,null,2208,1241,27773,20071,1706,1395,1029,913,881,875,576,591,1260,1258,14657,17396,93830]
[null,69,null,null,2135,1193,24489,18071,1395,1148,882,817,816,751,541,523,986,1116,13314,15671,83848]
[null,70,null,null,2213,1171,20802,15086,1221,1006,750,626,761,649,471,505,940,971,12345,13987,73504]
[null,71,null,null,8984,1211,48404,39466,1157,910,667,622,561,594,413,398,775,847,11462,12365,128836]
[null,72,null,null,2133,1087,11238,9635,977,741,615,544,542,503,355,336,697,683,10615,11322,52023]
[null,73,null,null,2110,1079,9701,8534,476,394,467,450,426,443,292,298,616,669,9275,9967,45197]
[null,74,null,null,2228,940,9036,8015,312,213,219,231,395,392,268,273,539,595,8568,9021,41245]
[null,75,null,null,2133,874,8020,7223,262,206,72,67,160,185,195,235,439,469,7590,7829,35959]
[null,76,null,null,2100,838,7437,6548,215,156,63,61,68,54,106,85,430,454,7028,6899,32542]
[null,77,null,null,2125,748,6731,5964,160,114,63,63,59,63,22,21,261,272,6240,5867,28773]
[null,78,null,null,2110,681,5925,5282,112,107,47,47,44,54,23,15,107,106,5552,5378,25590]
[null,79,null,null,1983,649,5232,4713,101,85,35,32,39,38,21,13,28,37,4933,4669,22608]
[null,80,null,null,1837,510,4631,4091,83,70,29,42,42,33,25,9,27,35,4061,3719,19244]
[null,81,null,null,1812,488,4175,3744,83,67,31,30,31,22,12,8,33,29,3405,3172,17142]
[null,82,null,null,1760,419,3624,3395,77,62,27,35,25,23,5,6,15,18,2813,2627,14931]
[null,83,null,null,1710,438,3095,2748,51,38,26,27,21,21,1,8,21,14,2319,2158,12696]
[null,84,null,null,1636,397,2726,2400,39,33,27,17,19,21,9,6,13,19,2080,1848,11290]
[null,85,null,null,1556,300,2486,2223,44,31,19,29,24,26,6,6,18,7,1791,1587,10153]
[null,86,null,null,1557,305,2334,1999,43,31,17,13,20,12,7,6,9,6,1460,1277,9096]
[null,87,null,null,1337,230,2143,1851,21,19,8,12,8,11,5,1,5,3,1093,1024,7771]
[null,88,null,null,1420,245,2053,1734,20,13,11,11,12,14,4,3,6,3,925,884,7358]
[null,89,null,null,1375,189,1885,1593,19,11,6,8,12,9,1,2,4,2,833,752,6701]
[null,90,null,null,1383,167,1964,1569,15,10,8,10,7,10,1,1,2,0,725,642,6514]
[null,91,null,null,1384,187,1829,1578,8,10,6,2,9,7,4,1,2,0,601,601,6229]
[null,92,null,null,1142,136,1760,1394,8,9,2,1,4,9,0,1,0,1,555,508,5530]
[null,93,null,null,1132,102,1720,1484,2,1,1,2,2,2,0,1,0,3,461,430,5343]
[null,94,null,null,1059,92,1669,1416,0,0,0,0,0,0,0,1,2,0,385,363,4987]
[null,95,null,null,1069,89,1809,1410,0,1,null,null,0,1,0,1,3,0,366,286,5035]
[null,96,null,null,858,59,1755,1460,0,0,0,0,null,null,0,0,3,0,289,304,4728]
[null,97,null,null,542,40,1658,1352,4,0,3,0,null,null,0,1,1,0,245,244,4090]
[null,98,null,null,485,36,1696,1356,null,null,null,null,null,null,null,null,0,1,191,188,3953]
[null,99,null,null,254,25,19,15,0,0,null,null,1,0,null,null,1,0,122,190,627]
["De",100,"años y más",null,103,20,16,11,13,0,8,0,0,0,0,0,0,0,325,441,937]
["TOTAL",null,null,null,{"$f":"SUM(E14:E114)","v":136625},{"$f":"SUM(F14:F114)","v":89240},3645492,2886271,274064,286344,200272,234050,169785,203111,124144,154955,207241,251742,892215,1147333,{"$f":"SUM(E115:T115)","v":10902884}]

{"sheet":"2A","index":10,"n_rows":117,"n_cols":21,"rows_kept":117,"cut":false,"hidden":true,"merged":[[6,0,6,20],[1,0,1,20],[2,0,2,20],[3,0,3,20],[4,0,4,20],[5,0,5,20],[7,0,7,20],[8,0,8,20],[10,0,10,3],[10,4,10,5],[10,6,10,19],[11,14,11,15],[11,16,11,17],[11,0,11,3],[11,4,11,5],[11,6,11,7],[11,8,11,9],[11,10,11,11],[11,12,11,13]]}
[]
["2 a. EXPUESTOS EN LA OPERACIÓN DE VIDA POR TIPO DE SEGURO,"]
[" AÑOS DE ANTIGÜEDAD Y EDAD ALCANZADA"]
[]
[{"$f":"#REF!","v":{"$error":"#REF!"}}]
[]
["VIDA INDIVIDUAL "]
[]
[]
[null,null,null,null,2,3,4,5,6,7,8,9,10,11,12,13,14,15,16,17]
["EDAD  ",null,null,null,"SALDADO Y",null,"PÓLIZAS O CERTIFICADOS EN VIGOR CON ANTIGÜEDAD MENOR O IGUAL A:"]
["ALCANZADA",null,null,null,"PRORROGADO",null,"1 año",null,"2 años",null,"3 años",null,"4 años",null,"5 años",null,"6 años",null," más de 6 años",null,"TOTAL"]
[null,null,null,null,"H","M","H","M","H","M","H","M","H","M","H","M","H","M","H","M"]
["De",0,"años",null,0,0,728,670,0,0,0,0,0,0,0,0,0,0,0,0,{"$f":"SUM(E14:T14)","v":1398}]
[null,1,null,null,3,1,1176,1112,774,795,0,0,0,0,0,0,0,0,0,0,{"$f":"SUM(E15:T15)","v":3861}]
[null,2,null,null,12,21,1145,984,1146,999,777,748,0,0,0,0,0,0,0,0,5832]
[null,3,null,null,85,82,1196,1051,970,867,1098,990,732,662,0,0,0,0,0,0,7733]
[null,4,null,null,115,132,1255,1006,1126,778,998,748,908,904,635,607,0,0,0,0,9212]
[null,5,null,null,214,225,1374,1097,1308,699,1085,616,741,742,823,833,564,523,0,0,10844]
[null,6,null,null,252,253,1540,1091,1293,658,1013,512,661,615,604,556,748,729,446,535,11506]
[null,7,null,null,299,268,1586,1033,1146,558,885,464,631,525,490,466,527,478,1016,1267,11639]
[null,8,null,null,362,329,1533,1028,1107,524,813,392,544,473,391,376,408,396,1451,1597,11724]
[null,9,null,null,359,394,1471,939,995,412,721,348,474,403,346,337,369,354,1552,2107,11581]
[null,10,null,null,385,414,1418,929,903,358,640,306,425,357,288,257,342,315,1885,2424,11646]
[null,11,null,null,427,409,1286,824,676,267,497,236,362,265,235,243,279,252,1943,2549,10750]
[null,12,null,null,438,471,1216,878,592,218,422,184,281,223,218,214,242,238,2110,2770,10715]
[null,13,null,null,486,478,1293,828,623,233,426,134,229,187,214,196,221,206,2389,2912,11055]
[null,14,null,null,516,506,1136,828,474,179,316,114,185,144,155,154,164,164,2408,3126,10569]
[null,15,null,null,529,511,1090,783,408,155,286,97,150,140,120,118,150,131,2408,3160,10236]
[null,16,null,null,554,544,1187,895,416,179,221,71,162,117,88,102,109,101,2556,3309,10611]
[null,17,null,null,479,504,1157,867,422,225,221,99,106,94,84,91,95,83,2294,3134,9955]
[null,18,null,null,230,223,8156,3932,468,282,274,150,132,97,53,53,72,73,1126,1546,16867]
[null,19,null,null,43,39,32691,14659,822,624,284,199,158,136,86,61,41,39,170,253,50305]
[null,20,null,null,44,72,50260,21341,1196,945,516,418,194,149,114,99,71,82,177,290,75968]
[null,21,null,null,119,100,59022,22766,1594,1114,762,612,405,368,125,118,93,73,193,263,87727]
[null,22,null,null,107,136,64481,25682,2248,1506,943,675,714,601,340,316,100,83,179,215,98326]
[null,23,null,null,135,143,68671,29376,2786,2226,1308,926,887,677,566,518,236,251,214,167,109087]
[null,24,null,null,153,185,74103,32412,3785,3488,1786,1470,1167,856,627,552,359,362,305,293,121903]
[null,25,null,null,118,136,80760,37505,4871,5027,2380,2866,1569,1329,912,733,478,416,578,564,140242]
[null,26,null,null,115,169,85599,41043,5856,6776,3241,4367,2206,2908,1224,1179,610,517,919,817,157546]
[null,27,null,null,154,168,88407,43292,6831,7668,3823,5411,2973,4088,1845,2568,893,923,1273,1145,171462]
[null,28,null,null,178,235,91634,45798,7331,8322,4444,6044,3418,4822,2514,3496,1341,1907,1898,1849,185231]
[null,29,null,null,218,285,91838,46658,7882,8853,4844,6291,4005,5278,2988,4166,1678,2796,2839,3331,193950]
[null,30,null,null,270,357,97093,48863,8443,9370,5221,6823,4402,5939,3465,4766,2156,3574,4166,5499,210407]
[null,31,null,null,302,437,94494,48793,8839,9865,5591,7286,4577,6278,3723,5034,2532,3789,5632,8280,215452]
[null,32,null,null,422,554,94824,49911,9188,10385,5928,7787,5118,6777,4037,5699,2695,4256,7250,10929,225760]
[null,33,null,null,453,686,93977,50364,9628,10673,6293,8164,5313,6964,4318,5828,2968,4499,8865,13493,232486]
[null,34,null,null,621,761,96425,50998,10056,10822,6674,8502,5958,7181,4839,6192,3393,4736,10820,16156,244134]
[null,35,null,null,738,924,94491,50647,10258,10910,7173,8519,6307,7537,5144,6422,3607,5090,12395,18931,249093]
[null,36,null,null,836,1103,95234,51744,10221,10998,7277,8938,6523,7621,5407,6735,3840,5489,14057,21476,257499]
[null,37,null,null,927,1216,94355,51639,10310,11097,7390,9068,6662,7569,5806,6885,4141,5577,16006,23561,262209]
[null,38,null,null,1080,1389,93365,51210,10187,10524,7396,8706,6761,7461,5831,7005,4203,5409,17494,25481,263502]
[null,39,null,null,1232,1421,93719,51917,9810,10373,7271,8559,6556,7301,5858,6772,4157,5336,19023,26760,266065]
[null,40,null,null,1429,1684,91558,51384,9864,10000,7363,8620,6826,7235,5863,6697,4159,5408,21172,28822,268084]
[null,41,null,null,1448,1665,87467,49780,9361,9444,7014,8000,6318,6763,5566,6385,4144,5035,22228,29280,259898]
[null,42,null,null,1603,1835,86896,49315,9096,9436,6887,7934,6144,6625,5605,6092,4065,5063,23857,31054,261507]
[null,43,null,null,1755,1923,87366,49680,9212,8931,6778,7701,6239,6425,5545,6013,4101,4848,25155,32151,263823]
[null,44,null,null,1809,1927,86018,49031,8911,8694,6553,7258,6052,6447,5569,5919,3889,4729,26453,33015,262274]
[null,45,null,null,2055,2169,87733,50118,8536,8613,6669,7204,5874,6004,5401,5847,3929,4670,28175,34728,267725]
[null,46,null,null,2219,2229,88087,51002,8714,8638,6375,7393,5801,5908,5415,5843,3807,4514,30356,37015,273316]
[null,47,null,null,2300,2300,87005,50653,8570,8347,6087,7004,5735,5941,5120,5551,3767,4276,30517,37544,270717]
[null,48,null,null,2315,2522,84477,50412,8234,7679,5895,6917,5611,5670,4863,5562,3483,4139,30017,37639,265435]
[null,49,null,null,2419,2560,81430,48768,7951,7588,5890,6662,5294,5276,4635,5214,3268,4061,30245,37623,258884]
[null,50,null,null,2419,2431,79667,48882,7435,7243,5405,6301,5200,5063,4460,4870,3153,3807,29226,36523,252085]
[null,51,null,null,2305,2547,72801,45096,6943,7131,5154,6184,4643,4799,4218,4888,2944,3728,28199,36979,238559]
[null,52,null,null,2477,2646,68118,42733,6579,6880,4897,6114,4338,4984,3928,4838,2686,3737,27506,38032,230493]
[null,53,null,null,2424,2818,64620,41029,6121,6750,4794,6275,4232,4938,3842,4779,2569,3625,26516,38425,223757]
[null,54,null,null,2557,2983,62407,40570,5915,5981,4426,5491,4080,4555,3729,4391,2607,3418,26839,36619,216568]
[null,55,null,null,2672,2888,60240,39869,5850,6007,4388,5516,3864,4094,3700,4033,2477,3143,26603,35014,210358]
[null,56,null,null,2598,2502,56814,37870,5467,5539,4100,4804,3553,4239,3391,4108,2261,3006,25383,34526,200161]
[null,57,null,null,2528,2339,53893,36207,5362,5160,3980,4388,3318,3935,3126,3941,2050,2917,24282,33689,191115]
[null,58,null,null,2292,2278,51255,34853,5073,4873,3424,3807,3314,3506,3073,3562,1941,2858,22589,32919,181617]
[null,59,null,null,2075,2004,48184,33136,4683,4418,3241,3609,2983,3073,2746,3095,2007,2569,21221,31231,170275]
[null,60,null,null,1990,1821,45199,32827,4385,3994,2986,3222,2790,2766,2471,2678,1869,2252,20343,29169,160762]
[null,61,null,null,1813,1673,40598,29816,4176,3692,2758,2872,2457,2465,2280,2424,1705,1982,19062,27091,146864]
[null,62,null,null,1585,1507,36857,26505,3663,3012,2543,2467,2207,2163,1917,2101,1525,1770,17379,24328,131529]
[null,63,null,null,1450,1404,34867,25168,3113,2493,2120,1948,2087,2008,1871,1887,1309,1550,16829,22556,122660]
[null,64,null,null,1275,1271,31824,23061,2839,2218,1773,1549,1754,1547,1554,1608,1286,1382,15278,19698,109917]
[null,65,null,null,1118,1127,30898,21686,2577,2044,1510,1403,1369,1217,1341,1356,1114,1215,13781,17865,{"$f":"SUM(E79:T79)","v":101621}]
[null,66,null,null,1036,1040,24571,16667,2482,1799,1341,1132,1237,1169,1108,1108,809,942,12185,15981,84607]
[null,67,null,null,930,896,19625,12091,2193,1644,1240,1040,1068,976,946,884,721,723,10743,13723,69443]
[null,68,null,null,845,849,16945,10982,1780,1377,1078,954,999,822,893,767,584,626,9460,12296,61257]
[null,69,null,null,886,786,14941,9398,1579,1194,929,733,927,716,758,737,537,572,8525,10805,54023]
[null,70,null,null,885,815,11838,8232,1447,1066,787,704,695,624,727,637,463,512,7644,9374,46450]
[null,71,null,null,779,682,7715,6191,1177,878,701,598,657,529,586,507,424,403,6811,8348,36986]
[null,72,null,null,759,706,5790,4807,603,466,540,496,508,474,503,425,350,395,6045,7351,30218]
[null,73,null,null,729,625,5275,4491,371,246,271,256,462,424,461,413,305,341,5546,6737,26953]
[null,74,null,null,664,535,4677,3842,331,233,105,78,186,205,318,336,266,309,4876,5705,22666]
[null,75,null,null,648,525,4154,3536,265,173,79,79,89,61,174,139,245,271,4381,5150,19969]
[null,76,null,null,589,440,3627,3118,183,123,82,81,78,57,60,60,118,122,3764,4341,16843]
[null,77,null,null,628,380,3126,2761,130,111,52,54,59,63,60,41,43,44,3298,3833,14683]
[null,78,null,null,541,366,2586,2385,118,82,48,37,47,43,50,44,33,41,2832,3064,12317]
[null,79,null,null,474,262,2217,1998,89,74,34,47,47,29,55,26,20,31,2223,2382,10008]
[null,80,null,null,414,238,1941,1734,95,71,36,29,35,25,37,29,25,34,1726,2004,8473]
[null,81,null,null,361,201,1493,1485,85,66,32,37,30,28,32,24,11,23,1272,1511,6691]
[null,82,null,null,298,214,987,951,58,36,32,30,33,24,30,27,18,18,980,1111,4847]
[null,83,null,null,264,163,767,717,43,35,31,20,23,24,32,34,17,21,835,951,3977]
[null,84,null,null,241,126,625,552,53,31,22,30,26,33,19,18,13,16,649,656,3110]
[null,85,null,null,251,116,491,485,45,32,20,13,22,13,21,19,9,6,423,518,2484]
[null,86,null,null,205,87,369,357,25,23,10,13,11,15,18,14,5,12,287,358,1809]
[null,87,null,null,196,74,305,281,20,13,12,12,15,20,17,22,6,13,218,330,1554]
[null,88,null,null,173,65,230,237,25,8,8,8,14,12,8,12,5,7,177,248,1237]
[null,89,null,null,137,49,221,169,18,11,14,9,12,11,1,8,4,5,130,210,1009]
[null,90,null,null,175,57,171,183,8,9,8,2,10,9,10,6,6,2,116,178,950]
[null,91,null,null,130,40,98,88,9,9,3,1,4,11,2,6,1,5,90,136,633]
[null,92,null,null,80,30,67,62,1,1,1,2,2,2,6,7,2,3,74,107,447]
[null,93,null,null,68,18,55,65,1,0,1,0,0,1,4,4,2,2,67,76,364]
[null,94,null,null,58,18,46,36,0,1,0,0,0,2,4,2,3,3,51,66,290]
[null,95,null,null,62,18,41,37,0,1,0,0,0,0,1,2,0,1,45,81,289]
[null,96,null,null,32,12,25,32,5,0,4,0,0,0,0,1,1,3,40,56,211]
[null,97,null,null,29,4,33,19,0,0,0,1,0,0,0,0,0,3,30,39,158]
[null,98,null,null,22,6,12,13,0,0,0,0,1,0,0,0,2,1,18,30,105]
[null,99,null,null,23,5,12,15,0,0,0,0,0,0,1,0,0,1,20,18,95]
["De","100 o mas","años y más",null,11,1,43,22,24,1,15,1,3,1,0,0,0,0,29,39,190]
["TOTAL",null,null,null,{"$f":"SUM(E14:E114)","v":80563},{"$f":"SUM(F14:F114)","v":81783},3607784,2044883,338882,334571,231784,264980,201979,221857,172684,199788,121045,{"$f":"SUM(R14:R114)","v":154460},872858,1161537,{"$f":"SUM(E115:T115)","v":10091438}]
[]
["NOTA:  ESTE FORMATO ES PARA PÓLIZAS DEL SEGURO INDIVIDUAL EMITIDAS A PARTIR DEL 1° DE ENERO DE 1994."]

{"sheet":"2B","index":11,"n_rows":117,"n_cols":21,"rows_kept":117,"cut":false,"hidden":true,"merged":[[7,0,7,20],[1,0,1,20],[2,0,2,20],[4,0,4,20],[5,0,5,20],[6,0,6,20],[11,12,11,13],[11,14,11,15],[11,16,11,17],[8,0,8,20],[10,0,10,3],[10,4,10,5],[10,6,10,19],[11,0,11,3],[11,4,11,5],[11,6,11,7],[11,8,11,9],[11,10,11,11]]}
[]
["2 b. EXPUESTOS EN LA OPERACIÓN DE VIDA POR TIPO DE SEGURO,"]
[" AÑOS DE ANTIGÜEDAD Y EDAD ALCANZADA"]
[]
[{"$f":"#REF!","v":{"$error":"#REF!"}}]
[]
["VIDA INDIVIDUAL "]
[]
[]
[null,null,null,null,2,3,4,5,6,7,8,9,10,11,12,13,14,15,16,17]
["EDAD  ",null,null,null,"SALDADO Y",null,"PÓLIZAS O CERTIFICADOS EN VIGOR CON ANTIGÜEDAD MENOR O IGUAL A:"]
["ALCANZADA",null,null,null,"PRORROGADO",null,"1 año",null,"2 años",null,"3 años",null,"4 años",null,"5 años",null,"6 años",null," más de 6 años",null,"TOTAL"]
[null,null,null,null,"H","M","H","M","H","M","H","M","H","M","H","M","H","M","H","M"]
["De",0,"años",null,0,0,0,0,0,0,0,0,0,0,0,0,0,0,0,0,{"$f":"SUM(E14:T14)","v":0}]
[null,1,null,null,0,0,0,0,0,0,0,0,0,0,0,0,0,0,0,0,{"$f":"SUM(E15:T15)","v":0}]
[null,2,null,null,0,0,0,0,0,0,0,0,0,0,0,0,0,0,0,0,0]
[null,3,null,null,0,0,0,0,0,0,0,0,0,0,0,0,0,0,0,0,0]
[null,4,null,null,0,0,0,0,0,0,0,0,0,0,0,0,0,0,0,0,0]
[null,5,null,null,0,0,0,0,0,0,0,0,0,0,0,0,0,0,0,0,0]
[null,6,null,null,0,0,0,0,0,0,0,0,0,0,0,0,0,0,0,0,0]
[null,7,null,null,0,0,0,0,0,0,0,0,0,0,0,0,0,0,0,0,0]
[null,8,null,null,0,0,0,0,0,0,0,0,0,0,0,0,0,0,0,0,0]
[null,9,null,null,0,0,0,0,0,0,0,0,0,0,0,0,0,0,0,0,0]
[null,10,null,null,0,0,0,0,0,0,0,0,0,0,0,0,0,0,0,0,0]
[null,11,null,null,0,0,0,0,0,0,0,0,0,0,0,0,0,0,0,0,0]
[null,12,null,null,0,0,0,0,0,0,0,0,0,0,0,0,0,0,0,0,0]
[null,13,null,null,0,0,0,0,0,0,0,0,0,0,0,0,0,0,0,0,0]
[null,14,null,null,0,0,0,0,0,0,0,0,0,0,0,0,0,0,0,0,0]
[null,15,null,null,0,0,0,0,0,0,0,0,0,0,0,0,0,0,0,0,0]
[null,16,null,null,0,0,0,0,0,0,0,0,0,0,0,0,0,0,0,0,0]
[null,17,null,null,0,0,0,0,0,0,0,0,0,0,0,0,0,0,0,0,0]
[null,18,null,null,0,0,0,0,0,0,0,0,0,0,0,0,0,0,0,0,0]
[null,19,null,null,0,0,0,0,0,0,0,0,0,0,0,0,0,0,0,0,0]
[null,20,null,null,0,0,0,0,0,0,0,0,0,0,0,0,0,0,0,0,0]
[null,21,null,null,0,0,0,0,0,0,0,0,0,0,0,0,0,0,0,0,0]
[null,22,null,null,0,0,0,0,0,0,0,0,0,0,0,0,0,0,0,0,0]
[null,23,null,null,0,0,0,0,0,0,0,0,0,0,0,0,0,0,0,0,0]
[null,24,null,null,0,0,0,0,0,0,0,0,0,0,0,0,0,0,0,0,0]
[null,25,null,null,0,0,0,0,0,0,0,0,0,0,0,0,0,0,0,0,0]
[null,26,null,null,0,0,0,0,0,0,0,0,0,0,0,0,0,0,0,0,0]
[null,27,null,null,0,0,0,0,0,0,0,0,0,0,0,0,0,0,3,0,3]
[null,28,null,null,1,0,0,0,0,0,0,0,0,0,0,0,0,0,0,4,5]
[null,29,null,null,1,0,0,0,0,0,0,0,0,0,0,0,0,0,17,19,37]
[null,30,null,null,2,1,0,0,0,0,0,0,0,0,0,0,0,0,33,35,71]
[null,31,null,null,5,1,0,0,0,0,0,0,0,0,0,0,0,0,136,108,250]
[null,32,null,null,18,8,0,0,0,0,0,0,0,0,0,0,0,0,287,238,551]
[null,33,null,null,32,37,0,0,0,0,0,0,0,0,0,0,0,0,873,815,1757]
[null,34,null,null,72,69,0,0,0,0,0,0,0,0,0,0,0,0,1542,1569,3252]
[null,35,null,null,95,84,0,0,0,0,0,0,0,0,0,0,0,0,2068,2084,4331]
[null,36,null,null,104,97,0,0,0,0,0,0,0,0,0,0,0,0,2453,2299,4953]
[null,37,null,null,81,83,0,0,0,0,0,0,0,0,0,0,0,0,2578,2374,5116]
[null,38,null,null,102,85,0,0,0,0,0,0,0,0,0,0,0,0,2538,2272,4997]
[null,39,null,null,103,89,0,0,0,0,0,0,0,0,0,0,0,0,2536,2345,5073]
[null,40,null,null,102,93,0,0,0,0,0,0,0,0,0,0,0,0,2526,2272,4993]
[null,41,null,null,79,64,0,0,0,0,0,0,0,0,0,0,0,0,2354,2047,4544]
[null,42,null,null,121,68,0,0,0,0,0,0,0,0,0,0,0,0,2312,2066,4567]
[null,43,null,null,113,83,0,0,0,0,0,0,0,0,0,0,0,0,2267,1959,4422]
[null,44,null,null,107,69,0,0,0,0,0,0,0,0,0,0,0,0,2193,1885,4254]
[null,45,null,null,87,83,0,0,0,0,0,0,0,0,0,0,0,0,2229,1859,4258]
[null,46,null,null,108,85,0,0,0,0,0,0,0,0,0,0,0,0,1925,1750,3868]
[null,47,null,null,136,85,0,0,0,0,0,0,0,0,0,0,0,0,1830,1768,3819]
[null,48,null,null,105,105,0,0,0,0,0,0,0,0,0,0,0,0,1703,1751,3664]
[null,49,null,null,146,88,0,0,0,0,0,0,0,0,0,0,0,0,1529,1667,3430]
[null,50,null,null,156,104,0,0,0,0,0,0,0,0,0,0,0,0,1650,1643,3553]
[null,51,null,null,203,108,0,0,0,0,0,0,0,0,0,0,0,0,1655,1797,3763]
[null,52,null,null,197,103,0,0,0,0,0,0,0,0,0,0,0,0,1838,2345,4483]
[null,53,null,null,191,112,0,0,0,0,0,0,0,0,0,0,0,0,2063,2847,5213]
[null,54,null,null,203,120,0,0,0,0,0,0,0,0,0,0,0,0,2453,3343,6119]
[null,55,null,null,274,155,0,0,0,0,0,0,0,0,0,0,0,0,3085,4061,7575]
[null,56,null,null,356,242,0,0,0,0,0,0,0,0,0,0,0,0,3486,4814,8898]
[null,57,null,null,434,326,0,0,0,0,0,0,0,0,0,0,0,0,4068,5404,10232]
[null,58,null,null,519,559,0,0,0,0,0,0,0,0,0,0,0,0,4651,5943,11672]
[null,59,null,null,705,695,0,0,0,0,0,0,0,0,0,0,0,0,4930,5999,12329]
[null,60,null,null,848,887,0,0,0,0,0,0,0,0,0,0,0,0,5780,6451,13966]
[null,61,null,null,1006,894,0,0,0,0,0,0,0,0,0,0,0,0,5961,6089,13950]
[null,62,null,null,1161,956,0,0,0,0,0,0,0,0,0,0,0,0,6226,5995,14338]
[null,63,null,null,1295,932,0,0,0,0,0,0,0,0,0,0,0,0,6328,5917,14472]
[null,64,null,null,1389,934,0,0,0,0,0,0,0,0,0,0,0,0,6355,5656,14334]
[null,65,null,null,1416,865,0,0,0,0,0,0,0,0,0,0,0,0,6316,5422,{"$f":"SUM(E79:T79)","v":14019}]
[null,66,null,null,1502,913,0,0,0,0,0,0,0,0,0,0,0,0,6169,5167,13751]
[null,67,null,null,1591,799,0,0,0,0,0,0,0,0,0,0,0,0,5706,4863,12959]
[null,68,null,null,1552,777,0,0,0,0,0,0,0,0,0,0,0,0,5358,4493,12180]
[null,69,null,null,1645,801,0,0,0,0,0,0,0,0,0,0,0,0,5214,4157,11817]
[null,70,null,null,8561,742,0,0,0,0,0,0,0,0,0,0,0,0,4924,3868,18095]
[null,71,null,null,1626,659,0,0,0,0,0,0,0,0,0,0,0,0,4824,3658,10767]
[null,72,null,null,1588,650,0,0,0,0,0,0,0,0,0,0,0,0,4122,3221,9581]
[null,73,null,null,1712,548,0,0,0,0,0,0,0,0,0,0,0,0,3881,2888,9029]
[null,74,null,null,1652,547,0,0,0,0,0,0,0,0,0,0,0,0,3523,2559,8281]
[null,75,null,null,1595,493,0,0,0,0,0,0,0,0,0,0,0,0,3392,2229,7709]
[null,76,null,null,1687,448,0,0,0,0,0,0,0,0,0,0,0,0,3060,1937,7132]
[null,77,null,null,1603,431,0,0,0,0,0,0,0,0,0,0,0,0,2737,1803,6574]
[null,78,null,null,1559,424,0,0,0,0,0,0,0,0,0,0,0,0,2413,1798,6194]
[null,79,null,null,1451,356,0,0,0,0,0,0,0,0,0,0,0,0,2171,1499,5477]
[null,80,null,null,1524,283,0,0,0,0,0,0,0,0,0,0,0,0,1895,1326,5028]
[null,81,null,null,1476,282,0,0,0,0,0,0,0,0,0,0,0,0,1722,1209,4689]
[null,82,null,null,1472,264,0,0,0,0,0,0,0,0,0,0,0,0,1494,1106,4336]
[null,83,null,null,1427,252,0,0,0,0,0,0,0,0,0,0,0,0,1334,959,3972]
[null,84,null,null,1361,209,0,0,0,0,0,0,0,0,0,0,0,0,1245,972,3787]
[null,85,null,null,1379,212,0,0,0,0,0,0,0,0,0,0,0,0,1070,792,3453]
[null,86,null,null,1163,157,0,0,0,0,0,0,0,0,0,0,0,0,870,671,2861]
[null,87,null,null,1255,168,0,0,0,0,0,0,0,0,0,0,0,0,742,567,2732]
[null,88,null,null,1237,147,0,0,0,0,0,0,0,0,0,0,0,0,689,500,2573]
[null,89,null,null,1267,131,0,0,0,0,0,0,0,0,0,0,0,0,622,443,2463]
[null,90,null,null,1225,143,0,0,0,0,0,0,0,0,0,0,0,0,506,430,2304]
[null,91,null,null,1040,93,0,0,0,0,0,0,0,0,0,0,0,0,469,376,1978]
[null,92,null,null,1061,87,0,0,0,0,0,0,0,0,0,0,0,0,392,317,1857]
[null,93,null,null,988,74,0,0,0,0,0,0,0,0,0,0,0,0,342,286,1690]
[null,94,null,null,1033,73,0,0,0,0,0,0,0,0,0,0,0,0,329,218,1653]
[null,95,null,null,890,60,0,0,0,0,0,0,0,0,0,0,0,0,270,219,1439]
[null,96,null,null,528,46,0,0,0,0,0,0,0,0,0,0,0,0,209,180,963]
[null,97,null,null,469,42,0,0,0,0,0,0,0,0,0,0,0,0,172,148,831]
[null,98,null,null,415,44,0,0,0,0,0,0,0,0,0,0,0,0,152,172,783]
[null,99,null,null,212,4,0,0,0,0,0,0,0,0,0,0,0,0,74,76,366]
["De","100 o mas","años y más",null,30,10,0,0,0,0,0,0,0,0,0,0,0,0,214,316,570]
["TOTAL",null,null,null,{"$f":"SUM(E14:E114)","v":62849},{"$f":"SUM(F14:F114)","v":20738},0,0,0,0,0,0,0,0,0,0,0,{"$f":"SUM(R14:R114)","v":0},175083,162335,421005]
[]
["NOTA:  ESTE FORMATO ES PARA PÓLIZAS DEL SEGURO INDIVIDUAL EMITIDAS ANTES DEL 1° DE ENERO DE 1994"]

{"sheet":"2 Grupo","index":12,"n_rows":104,"n_cols":21,"rows_kept":104,"cut":false,"hidden":false,"merged":[[11,4,11,5],[11,6,11,7],[11,8,11,9],[11,10,11,11],[101,0,102,20],[11,12,11,13],[11,14,11,15],[11,16,11,17],[11,0,11,3],[6,0,6,20],[1,0,1,20],[2,0,2,20],[3,0,3,20],[4,0,4,20],[5,0,5,20],[7,0,7,20],[8,0,8,20],[10,0,10,3],[10,4,10,5],[10,6,10,19]]}
[]
["2. EXPUESTOS EN LA OPERACIÓN DE VIDA POR TIPO DE SEGURO,"]
[" AÑOS DE ANTIGÜEDAD Y EDAD ALCANZADA"]
[]
[{"$f":"'2 Ind'!A5","v":"DICIEMBRE DE 2021"}]
[]
["VIDA GRUPO"]
[]
[]
[null,null,null,null,2,3,4,5,6,7,8,9,10,11,12,13,14,15,16,17]
["EDAD  ",null,null,null,"SALDADO Y",null,"PÓLIZAS O CERTIFICADOS EN VIGOR CON ANTIGÜEDAD MENOR O IGUAL A:"]
["ALCANZADA",null,null,null,"PRORROGADO",null,"1 año",null,"2 años",null,"3 años",null,"4 años",null,"5 años",null,"6 años",null," más de 6 años",null,"TOTAL"]
[null,null,null,null,"H","M","H","M","H","M","H","M","H","M","H","M","H","M","H","M"]
[null,"0 a 15",null,null,{"$f":"+'2A (G)'!E14+'2B (G)'!E14","v":0},{"$f":"+'2A (G)'!F14+'2B (G)'!F14","v":0},122592,115575,null,null,1,null,null,null,null,null,null,null,null,null,238168]
[null,16,null,null,{"$f":"+'2A (G)'!E15+'2B (G)'!E15","v":0},{"$f":"+'2A (G)'!F15+'2B (G)'!F15","v":0},21531,17539,null,null,null,null,null,null,null,null,null,null,null,1,39071]
[null,17,null,null,{"$f":"+'2A (G)'!E16+'2B (G)'!E16","v":0},{"$f":"+'2A (G)'!F16+'2B (G)'!F16","v":0},26543,21670,null,null,1,1,null,null,null,null,null,null,null,1,48216]
[null,18,null,null,{"$f":"+'2A (G)'!E17+'2B (G)'!E17","v":0},{"$f":"+'2A (G)'!F17+'2B (G)'!F17","v":0},72908,40427,295,2,null,null,93567,null,null,null,null,null,1,1,207201]
[null,19,null,null,{"$f":"+'2A (G)'!E18+'2B (G)'!E18","v":0},{"$f":"+'2A (G)'!F18+'2B (G)'!F18","v":0},124385,106108,7716,3797,null,null,251288,null,null,null,null,null,null,1,493295]
[null,20,null,null,{"$f":"+'2A (G)'!E19+'2B (G)'!E19","v":0},{"$f":"+'2A (G)'!F19+'2B (G)'!F19","v":0},170814,146707,14811,9943,2692,329,223142,2,null,null,null,null,null,1,568441]
[null,21,null,null,{"$f":"+'2A (G)'!E20+'2B (G)'!E20","v":0},{"$f":"+'2A (G)'!F20+'2B (G)'!F20","v":0},215397,187177,19815,14866,2629,698,191401,5,null,null,null,null,2,2,631992]
[null,22,null,null,{"$f":"+'2A (G)'!E21+'2B (G)'!E21","v":0},{"$f":"+'2A (G)'!F21+'2B (G)'!F21","v":0},241833,213030,23563,17206,3840,1446,159819,90,6,2,null,null,2,1,660838]
[null,23,null,null,{"$f":"+'2A (G)'!E22+'2B (G)'!E22","v":0},{"$f":"+'2A (G)'!F22+'2B (G)'!F22","v":0},279899,248526,28190,19525,6007,2305,143592,233,79,43,2,null,1,1,728403]
[null,24,null,null,{"$f":"+'2A (G)'!E23+'2B (G)'!E23","v":0},{"$f":"+'2A (G)'!F23+'2B (G)'!F23","v":0},305262,276501,30320,21008,8400,3003,127041,477,225,110,8,11,null,null,772366]
[null,25,null,null,{"$f":"+'2A (G)'!E24+'2B (G)'!E24","v":0},{"$f":"+'2A (G)'!F24+'2B (G)'!F24","v":0},346582,314464,33445,23146,9813,3899,113257,787,784,515,28,30,5,8,846763]
[null,26,null,null,{"$f":"+'2A (G)'!E25+'2B (G)'!E25","v":0},{"$f":"+'2A (G)'!F25+'2B (G)'!F25","v":0},385919,350603,38300,26861,12551,5702,109027,1277,1189,858,67,53,5,4,932416]
[null,27,null,null,{"$f":"+'2A (G)'!E26+'2B (G)'!E26","v":0},{"$f":"+'2A (G)'!F26+'2B (G)'!F26","v":0},423008,380902,41656,28935,15534,7164,103955,1923,1492,1272,84,68,7,38,1006038]
[null,28,null,null,{"$f":"+'2A (G)'!E27+'2B (G)'!E27","v":0},{"$f":"+'2A (G)'!F27+'2B (G)'!F27","v":0},441750,403856,43277,30374,17918,8568,99184,2734,1781,1582,125,127,14,253,1051543]
[null,29,null,null,{"$f":"+'2A (G)'!E28+'2B (G)'!E28","v":0},{"$f":"+'2A (G)'!F28+'2B (G)'!F28","v":0},461017,420589,45568,31778,19617,9448,95182,3261,2297,1939,191,168,28,101,1091184]
[null,30,null,null,{"$f":"+'2A (G)'!E29+'2B (G)'!E29","v":0},{"$f":"+'2A (G)'!F29+'2B (G)'!F29","v":0},465272,423675,45469,32019,20542,9954,91430,3689,2762,2220,227,205,30,18,1097512]
[null,31,null,null,{"$f":"+'2A (G)'!E30+'2B (G)'!E30","v":0},{"$f":"+'2A (G)'!F30+'2B (G)'!F30","v":0},515352,467751,47617,33600,21340,10469,90855,4177,2888,2463,279,266,32,42,1197131]
[null,32,null,null,{"$f":"+'2A (G)'!E31+'2B (G)'!E31","v":0},{"$f":"+'2A (G)'!F31+'2B (G)'!F31","v":0},483284,448568,46477,33707,21214,10722,85927,4417,3200,2722,339,311,64,57,1141009]
[null,33,null,null,{"$f":"+'2A (G)'!E32+'2B (G)'!E32","v":0},{"$f":"+'2A (G)'!F32+'2B (G)'!F32","v":0},478524,449061,46061,33557,21205,10974,84008,4568,3370,2698,357,296,141,190,1135010]
[null,34,null,null,{"$f":"+'2A (G)'!E33+'2B (G)'!E33","v":0},{"$f":"+'2A (G)'!F33+'2B (G)'!F33","v":0},474251,451464,45591,33967,21016,10896,81307,4687,3336,2818,345,318,304,282,1130582]
[null,35,null,null,{"$f":"+'2A (G)'!E34+'2B (G)'!E34","v":0},{"$f":"+'2A (G)'!F34+'2B (G)'!F34","v":0},474848,458426,45678,34229,21062,11272,80161,4628,3603,3015,371,351,523,739,1138906]
[null,36,null,null,{"$f":"+'2A (G)'!E35+'2B (G)'!E35","v":0},{"$f":"+'2A (G)'!F35+'2B (G)'!F35","v":0},471593,456143,44995,34092,20838,11187,77599,4918,3583,2884,403,335,553,558,1129681]
[null,37,null,null,{"$f":"+'2A (G)'!E36+'2B (G)'!E36","v":0},{"$f":"+'2A (G)'!F36+'2B (G)'!F36","v":0},474566,464922,45450,34626,21259,11260,77044,4857,3789,3050,383,341,601,871,1143019]
[null,38,null,null,{"$f":"+'2A (G)'!E37+'2B (G)'!E37","v":0},{"$f":"+'2A (G)'!F37+'2B (G)'!F37","v":0},474133,467077,45246,35134,20922,11310,74943,4877,3917,2948,420,346,658,760,1142691]
[null,39,null,null,{"$f":"+'2A (G)'!E38+'2B (G)'!E38","v":0},{"$f":"+'2A (G)'!F38+'2B (G)'!F38","v":0},473102,462322,44647,34310,20720,10990,74676,4881,3794,2940,405,321,588,644,1134340]
[null,40,null,null,{"$f":"+'2A (G)'!E39+'2B (G)'!E39","v":0},{"$f":"+'2A (G)'!F39+'2B (G)'!F39","v":0},646944,524717,43557,33576,19917,10877,70979,4532,3723,3033,377,313,696,1024,1364265]
[null,41,null,null,{"$f":"+'2A (G)'!E40+'2B (G)'!E40","v":0},{"$f":"+'2A (G)'!F40+'2B (G)'!F40","v":0},476679,465424,43449,34092,19885,10828,70708,4659,3781,2908,460,341,657,941,1134812]
[null,42,null,null,{"$f":"+'2A (G)'!E41+'2B (G)'!E41","v":0},{"$f":"+'2A (G)'!F41+'2B (G)'!F41","v":0},445650,439994,42537,33414,20606,11784,68469,4445,3970,3283,49023,31787,10868,11310,1177140]
[null,43,null,null,{"$f":"+'2A (G)'!E42+'2B (G)'!E42","v":0},{"$f":"+'2A (G)'!F42+'2B (G)'!F42","v":0},443654,441669,42292,33429,18541,10468,67068,4421,3544,2955,413,293,502,592,1069841]
[null,44,null,null,{"$f":"+'2A (G)'!E43+'2B (G)'!E43","v":0},{"$f":"+'2A (G)'!F43+'2B (G)'!F43","v":0},444372,440810,46440,33672,18951,10659,66571,5310,3668,2997,373,265,406,807,1075301]
[null,45,null,null,{"$f":"+'2A (G)'!E44+'2B (G)'!E44","v":0},{"$f":"+'2A (G)'!F44+'2B (G)'!F44","v":0},438438,437331,42289,33216,18332,10462,64478,4312,3666,2994,318,275,368,487,1056966]
[null,46,null,null,{"$f":"+'2A (G)'!E45+'2B (G)'!E45","v":0},{"$f":"+'2A (G)'!F45+'2B (G)'!F45","v":0},440110,440191,42109,33631,18606,10425,61945,4264,3668,3059,354,265,332,485,1059444]
[null,47,null,null,{"$f":"+'2A (G)'!E46+'2B (G)'!E46","v":0},{"$f":"+'2A (G)'!F46+'2B (G)'!F46","v":0},447596,451021,42648,34087,18539,10860,59526,4345,3774,3017,368,298,362,516,1076957]
[null,48,null,null,{"$f":"+'2A (G)'!E47+'2B (G)'!E47","v":0},{"$f":"+'2A (G)'!F47+'2B (G)'!F47","v":0},444975,450717,42594,34027,18447,10569,56497,4390,3657,2960,317,235,368,526,1070279]
[null,49,null,null,{"$f":"+'2A (G)'!E48+'2B (G)'!E48","v":0},{"$f":"+'2A (G)'!F48+'2B (G)'!F48","v":0},431262,439798,41275,33626,17946,10532,54987,4155,3605,2861,319,303,342,496,1041507]
[null,50,null,null,{"$f":"+'2A (G)'!E49+'2B (G)'!E49","v":0},{"$f":"+'2A (G)'!F49+'2B (G)'!F49","v":0},411394,418886,39385,39600,17403,10158,50871,4143,3355,2849,324,273,326,466,999433]
[null,51,null,null,{"$f":"+'2A (G)'!E50+'2B (G)'!E50","v":0},{"$f":"+'2A (G)'!F50+'2B (G)'!F50","v":0},397247,401926,39495,32732,16742,9966,47608,3873,3294,2699,263,270,268,471,956854]
[null,52,null,null,{"$f":"+'2A (G)'!E51+'2B (G)'!E51","v":0},{"$f":"+'2A (G)'!F51+'2B (G)'!F51","v":0},387032,395949,37050,31100,15827,9593,44959,3843,3274,2635,269,211,1243,2516,935501]
[null,53,null,null,{"$f":"+'2A (G)'!E52+'2B (G)'!E52","v":0},{"$f":"+'2A (G)'!F52+'2B (G)'!F52","v":0},366145,384930,35530,30183,15000,9295,42217,3827,3016,2595,263,220,364,446,894031]
[null,54,null,null,{"$f":"+'2A (G)'!E53+'2B (G)'!E53","v":0},{"$f":"+'2A (G)'!F53+'2B (G)'!F53","v":0},353964,376777,34256,29345,14370,8958,39502,3554,2905,2436,233,224,398,502,867424]
[null,55,null,null,{"$f":"+'2A (G)'!E54+'2B (G)'!E54","v":0},{"$f":"+'2A (G)'!F54+'2B (G)'!F54","v":0},340905,352498,32862,27989,13864,8585,35983,3476,2829,2272,216,212,387,449,822527]
[null,56,null,null,{"$f":"+'2A (G)'!E55+'2B (G)'!E55","v":0},{"$f":"+'2A (G)'!F55+'2B (G)'!F55","v":0},329300,338886,32033,27851,13556,8554,31967,3472,2763,2340,249,187,459,518,792135]
[null,57,null,null,{"$f":"+'2A (G)'!E56+'2B (G)'!E56","v":0},{"$f":"+'2A (G)'!F56+'2B (G)'!F56","v":0},312578,323230,30867,26409,13398,8348,29595,3474,2737,2289,206,204,483,500,754318]
[null,58,null,null,{"$f":"+'2A (G)'!E57+'2B (G)'!E57","v":0},{"$f":"+'2A (G)'!F57+'2B (G)'!F57","v":0},307420,325203,29581,25163,12900,8087,27072,3446,2611,2261,222,191,502,548,745207]
[null,59,null,null,{"$f":"+'2A (G)'!E58+'2B (G)'!E58","v":0},{"$f":"+'2A (G)'!F58+'2B (G)'!F58","v":0},290513,303015,28169,23864,12444,7819,24960,3255,2583,2209,186,212,510,591,700330]
[null,60,null,null,{"$f":"+'2A (G)'!E59+'2B (G)'!E59","v":0},{"$f":"+'2A (G)'!F59+'2B (G)'!F59","v":0},267825,275705,26713,21896,11361,7315,24632,3162,2353,2113,190,178,542,583,644568]
[null,61,null,null,{"$f":"+'2A (G)'!E60+'2B (G)'!E60","v":0},{"$f":"+'2A (G)'!F60+'2B (G)'!F60","v":0},277535,271720,27318,21362,10988,7138,22361,3028,2224,2012,196,189,571,608,647250]
[null,62,null,null,{"$f":"+'2A (G)'!E61+'2B (G)'!E61","v":0},{"$f":"+'2A (G)'!F61+'2B (G)'!F61","v":0},262677,250371,25292,19751,10917,6925,17258,2851,2096,1836,179,158,523,561,601395]
[null,63,null,null,{"$f":"+'2A (G)'!E62+'2B (G)'!E62","v":0},{"$f":"+'2A (G)'!F62+'2B (G)'!F62","v":0},253926,230758,23601,17467,11080,6412,14684,2604,1956,1708,169,150,512,562,565589]
[null,64,null,null,{"$f":"+'2A (G)'!E63+'2B (G)'!E63","v":0},{"$f":"+'2A (G)'!F63+'2B (G)'!F63","v":0},245816,217740,22591,16650,10755,6421,14210,2769,2153,1616,156,141,531,610,542159]
[null,65,null,null,{"$f":"+'2A (G)'!E64+'2B (G)'!E64","v":0},{"$f":"+'2A (G)'!F64+'2B (G)'!F64","v":0},233928,194613,20298,14741,10091,5810,13104,2689,2127,1599,225,126,538,558,500447]
[null,66,null,null,{"$f":"+'2A (G)'!E65+'2B (G)'!E65","v":0},{"$f":"+'2A (G)'!F65+'2B (G)'!F65","v":0},223510,184658,19242,13727,9429,5573,9757,2527,1977,1523,225,119,528,643,473438]
[null,67,null,null,{"$f":"+'2A (G)'!E66+'2B (G)'!E66","v":0},{"$f":"+'2A (G)'!F66+'2B (G)'!F66","v":0},213416,172712,17210,12334,8722,5057,5132,2348,1731,1283,134,118,581,562,441340]
[null,68,null,null,{"$f":"+'2A (G)'!E67+'2B (G)'!E67","v":0},{"$f":"+'2A (G)'!F67+'2B (G)'!F67","v":0},192737,153040,15552,10429,7868,4555,3952,2157,1595,1227,107,107,515,546,394387]
[null,69,null,null,{"$f":"+'2A (G)'!E68+'2B (G)'!E68","v":0},{"$f":"+'2A (G)'!F68+'2B (G)'!F68","v":0},175910,139083,14184,9506,7376,4189,3374,1988,1588,1020,109,89,529,505,359450]
[null,70,null,null,{"$f":"+'2A (G)'!E69+'2B (G)'!E69","v":0},{"$f":"+'2A (G)'!F69+'2B (G)'!F69","v":0},160081,127830,12935,8514,7257,3783,2986,1844,1405,988,103,74,496,544,328840]
[null,71,null,null,{"$f":"+'2A (G)'!E70+'2B (G)'!E70","v":0},{"$f":"+'2A (G)'!F70+'2B (G)'!F70","v":0},142175,114165,11433,7506,6682,3648,3026,1835,1410,923,78,58,446,540,293925]
[null,72,null,null,{"$f":"+'2A (G)'!E71+'2B (G)'!E71","v":0},{"$f":"+'2A (G)'!F71+'2B (G)'!F71","v":0},123214,97685,9614,5936,6394,3520,2869,1634,1312,849,66,73,402,464,254032]
[null,73,null,null,{"$f":"+'2A (G)'!E72+'2B (G)'!E72","v":0},{"$f":"+'2A (G)'!F72+'2B (G)'!F72","v":0},108133,86853,7494,4674,5285,2669,2133,1323,1034,715,71,55,448,466,221353]
[null,74,null,null,{"$f":"+'2A (G)'!E73+'2B (G)'!E73","v":0},{"$f":"+'2A (G)'!F73+'2B (G)'!F73","v":0},98775,78647,6137,3860,3389,1665,1317,766,700,506,57,49,464,477,196809]
[null,75,null,null,{"$f":"+'2A (G)'!E74+'2B (G)'!E74","v":0},{"$f":"+'2A (G)'!F74+'2B (G)'!F74","v":0},82444,65138,4706,3266,1960,891,598,348,299,161,49,41,454,433,160788]
[null,76,null,null,{"$f":"+'2A (G)'!E75+'2B (G)'!E75","v":0},{"$f":"+'2A (G)'!F75+'2B (G)'!F75","v":0},62590,48853,3878,2665,1398,747,392,170,42,21,49,42,392,384,121623]
[null,77,null,null,{"$f":"+'2A (G)'!E76+'2B (G)'!E76","v":0},{"$f":"+'2A (G)'!F76+'2B (G)'!F76","v":0},51475,39989,2016,1252,1173,693,359,184,46,13,47,17,416,414,98094]
[null,78,null,null,{"$f":"+'2A (G)'!E77+'2B (G)'!E77","v":0},{"$f":"+'2A (G)'!F77+'2B (G)'!F77","v":0},43110,35022,873,359,711,366,322,173,31,10,11,10,443,410,81851]
[null,79,null,null,{"$f":"+'2A (G)'!E78+'2B (G)'!E78","v":0},{"$f":"+'2A (G)'!F78+'2B (G)'!F78","v":0},36307,29556,688,315,542,244,331,137,30,11,9,9,438,380,68997]
[null,80,null,null,{"$f":"+'2A (G)'!E79+'2B (G)'!E79","v":0},{"$f":"+'2A (G)'!F79+'2B (G)'!F79","v":0},26252,23181,590,313,450,217,245,121,27,10,6,8,361,321,52102]
[null,81,null,null,{"$f":"+'2A (G)'!E80+'2B (G)'!E80","v":0},{"$f":"+'2A (G)'!F80+'2B (G)'!F80","v":0},18471,18239,484,273,391,216,253,106,22,8,null,4,311,263,39041]
[null,82,null,null,{"$f":"+'2A (G)'!E81+'2B (G)'!E81","v":0},{"$f":"+'2A (G)'!F81+'2B (G)'!F81","v":0},12955,13245,313,134,302,200,253,156,22,3,4,2,299,252,28140]
[null,83,null,null,{"$f":"+'2A (G)'!E82+'2B (G)'!E82","v":0},{"$f":"+'2A (G)'!F82+'2B (G)'!F82","v":0},11382,11546,132,56,221,147,222,144,23,13,6,3,144,149,24188]
[null,84,null,null,{"$f":"+'2A (G)'!E83+'2B (G)'!E83","v":0},{"$f":"+'2A (G)'!F83+'2B (G)'!F83","v":0},9378,9748,64,13,55,31,176,105,21,11,5,2,140,145,19894]
[null,85,null,null,{"$f":"+'2A (G)'!E84+'2B (G)'!E84","v":0},{"$f":"+'2A (G)'!F84+'2B (G)'!F84","v":0},8492,8819,53,8,2,null,23,17,11,7,3,1,142,118,17696]
[null,86,null,null,{"$f":"+'2A (G)'!E85+'2B (G)'!E85","v":0},{"$f":"+'2A (G)'!F85+'2B (G)'!F85","v":0},7229,7436,55,9,null,null,3,1,1,null,null,1,127,107,14969]
[null,87,null,null,{"$f":"+'2A (G)'!E86+'2B (G)'!E86","v":0},{"$f":"+'2A (G)'!F86+'2B (G)'!F86","v":0},5793,5976,33,4,1,null,1,null,null,null,2,1,103,83,11997]
[null,88,null,null,{"$f":"+'2A (G)'!E87+'2B (G)'!E87","v":0},{"$f":"+'2A (G)'!F87+'2B (G)'!F87","v":0},4656,5144,22,1,null,null,null,null,null,null,null,null,82,91,9996]
[null,89,null,null,{"$f":"+'2A (G)'!E88+'2B (G)'!E88","v":0},{"$f":"+'2A (G)'!F88+'2B (G)'!F88","v":0},3887,4199,18,1,null,null,null,null,null,1,3,null,83,62,8254]
[null,90,null,null,{"$f":"+'2A (G)'!E89+'2B (G)'!E89","v":0},{"$f":"+'2A (G)'!F89+'2B (G)'!F89","v":0},3357,3310,16,1,1,null,null,null,null,null,3,1,63,55,6807]
[null,91,null,null,{"$f":"+'2A (G)'!E90+'2B (G)'!E90","v":0},{"$f":"+'2A (G)'!F90+'2B (G)'!F90","v":0},2918,3022,18,1,null,null,1,null,null,null,null,null,63,54,6077]
[null,92,null,null,{"$f":"+'2A (G)'!E91+'2B (G)'!E91","v":0},{"$f":"+'2A (G)'!F91+'2B (G)'!F91","v":0},2030,2132,8,1,null,null,null,null,null,null,null,1,52,58,4282]
[null,93,null,null,{"$f":"+'2A (G)'!E92+'2B (G)'!E92","v":0},{"$f":"+'2A (G)'!F92+'2B (G)'!F92","v":0},1522,1657,8,null,null,null,null,null,null,null,null,1,52,41,3281]
[null,94,null,null,{"$f":"+'2A (G)'!E93+'2B (G)'!E93","v":0},{"$f":"+'2A (G)'!F93+'2B (G)'!F93","v":0},1334,1404,5,null,null,null,null,null,null,null,null,null,33,29,2805]
[null,95,null,null,{"$f":"+'2A (G)'!E94+'2B (G)'!E94","v":0},{"$f":"+'2A (G)'!F94+'2B (G)'!F94","v":0},1044,1142,4,1,null,null,1,null,null,null,1,null,39,30,2262]
[null,96,null,null,{"$f":"+'2A (G)'!E95+'2B (G)'!E95","v":0},{"$f":"+'2A (G)'!F95+'2B (G)'!F95","v":0},1048,823,4,null,null,null,null,null,null,null,null,null,38,24,1937]
[null,97,null,null,{"$f":"+'2A (G)'!E96+'2B (G)'!E96","v":0},{"$f":"+'2A (G)'!F96+'2B (G)'!F96","v":0},513,518,1,null,null,null,null,null,null,null,1,null,22,24,1079]
[null,98,null,null,{"$f":"+'2A (G)'!E97+'2B (G)'!E97","v":0},{"$f":"+'2A (G)'!F97+'2B (G)'!F97","v":0},516,332,2,null,null,null,null,null,null,null,null,null,22,22,894]
[null,99,null,null,{"$f":"+'2A (G)'!E98+'2B (G)'!E98","v":0},{"$f":"+'2A (G)'!F98+'2B (G)'!F98","v":0},567,598,null,null,null,null,null,null,null,null,null,null,19,18,1202]
["De","100 o mas","años y más",null,{"$f":"+'2A (G)'!E99+'2B (G)'!E99","v":0},{"$f":"+'2A (G)'!F99+'2B (G)'!F99","v":0},439,326,null,null,null,null,null,null,null,null,null,null,35,41,841]
["PÓLIZA CONCENTRADA*",null,null,null,{"$f":"+'2A (G)'!E100+'2B (G)'!E100","v":0},{"$f":"+'2A (G)'!F100+'2B (G)'!F100","v":0},25604942,16216236,null,null,null,null,null,null,null,null,null,null,null,null,41821178]
[null,null,"TOTAL",null,{"$f":"SUM(E14:E99)","v":0},0,{"$f":"SUM(G14:G100)","v":45564852},{"$f":"SUM(H14:H100)","v":35099226},{"$f":"SUM(I14:I100)","v":1826210},1394714,779196,426856,3688342,172871,134754,108918,61051,41954,35399,41002,89375345]
["* PARA AQUELLAS PÓLIZAS QUE POR RAZONES ADMINISTRATIVAS, COMERCIALES O DE CUALQUIER OTRA ÍNDOLE, PERO QUE SE ENCUENTRE DOCUMENTADA EN SUS NOTAS TÉCNICAS CORRESPONDIENTES, Y LA INSTITUCIÓN NO TENGA A SU DISPOSICIÓN EL DETALLE DE LA INFORMACION DE CADA ASEGURADO, SE REPORTARÉ EN ESTE APARTADO LA INFORMACIÓN. CABE MENCIONAR QUE LAS PÓLIZAS AUTO-ADMINISTRADAS NO DEBERÁN SER CONSIDERADAS EN ESTE CAMPO."]
[]
["PÓLIZA NO CONCENTRADA",null,null,null,{"$f":"E101-E100","v":0},{"$f":"F101-F100","v":0},19959910,18882990,1826210,1394714,779196,426856,3688342,172871,134754,108918,61051,41954,35399,41002,47554167]

{"sheet":"2A (G)","index":13,"n_rows":104,"n_cols":21,"rows_kept":104,"cut":false,"hidden":true,"merged":[[11,12,11,13],[11,14,11,15],[11,16,11,17],[7,0,7,20],[8,0,8,20],[10,0,10,3],[10,4,10,5],[10,6,10,19],[11,0,11,3],[11,4,11,5],[11,6,11,7],[11,8,11,9],[11,10,11,11],[6,0,6,20],[1,0,1,20],[2,0,2,20],[3,0,3,20],[4,0,4,20],[5,0,5,20]]}
[]
["2 a. EXPUESTOS EN LA OPERACIÓN DE VIDA POR TIPO DE SEGURO,"]
[" AÑOS DE ANTIGÜEDAD Y EDAD ALCANZADA"]
[]
["DICIEMBRE DE 2017"]
[]
["VIDA INDIVIDUAL "]
[]
[]
[null,null,null,null,2,3,4,5,6,7,8,9,10,11,12,13,14,15,16,17]
["EDAD  ",null,null,null,"SALDADO Y",null,"PÓLIZAS O CERTIFICADOS EN VIGOR CON ANTIGÜEDAD MENOR O IGUAL A:"]
["ALCANZADA",null,null,null,"PRORROGADO",null,"1 año",null,"2 años",null,"3 años",null,"4 años",null,"5 años",null,"6 años",null," más de 6 años",null,"TOTAL"]
[null,null,null,null,"H","M","H","M","H","M","H","M","H","M","H","M","H","M","H","M"]
[null,"0 a 15",null,null,0,0,29817,28265,57,37,0,0,130,0,0,0,0,0,0,0,{"$f":"SUM(E14:T14)","v":58306}]
[null,16,null,null,0,0,11050,10406,457,2,0,0,0,0,0,0,0,0,0,0,{"$f":"SUM(E15:T15)","v":21915}]
[null,17,null,null,0,0,19478,16640,24,5,0,0,0,0,0,0,0,0,0,0,36147]
[null,18,null,null,0,0,52395,29668,50165,34,0,0,0,0,0,0,0,0,0,1,132263]
[null,19,null,null,0,0,110653,94406,201725,5439,3,3,0,0,0,0,0,0,11,6,412246]
[null,20,null,null,0,0,174622,150983,213422,10118,59,27,0,0,0,0,0,0,32,23,549286]
[null,21,null,null,0,0,199287,167028,198212,12655,748,436,16,11,0,0,0,0,90,42,578525]
[null,22,null,null,0,0,242162,201205,193710,14273,2132,1213,238,125,13,6,0,0,142,90,655309]
[null,23,null,null,0,0,254325,211421,195547,15841,3684,2022,708,352,153,86,0,1,249,179,684568]
[null,24,null,null,0,0,286246,240424,208177,17972,4899,2702,1766,964,458,246,3,7,488,280,764632]
[null,25,null,null,0,0,327496,278307,210510,21277,6626,3853,2799,1535,836,412,22,19,722,419,854833]
[null,26,null,null,0,0,359622,307787,220364,23973,8253,5084,3714,2383,1283,623,25,23,872,639,934645]
[null,27,null,null,0,0,379712,327422,227124,26173,9830,6486,4804,3338,1827,950,50,57,1340,1087,990200]
[null,28,null,null,0,0,403568,347133,234421,27715,11106,7393,6154,4220,2275,1399,63,73,1369,1080,1047969]
[null,29,null,null,0,0,409205,352459,236099,28530,12049,8121,7483,5064,2825,1810,99,104,1415,1016,1066279]
[null,30,null,null,0,0,424907,369016,248420,29310,12931,8841,8446,5926,3393,2276,107,124,1645,1088,1116430]
[null,31,null,null,0,0,423903,373493,240807,29548,13152,9283,9369,6571,3580,2618,137,154,1795,1156,1115566]
[null,32,null,null,0,0,425859,379788,241195,29491,13376,9172,9850,6788,3900,2709,135,190,1812,1329,1125594]
[null,33,null,null,0,0,422002,381309,238084,29299,13279,9445,10057,7138,4078,2783,142,185,1845,1180,1120826]
[null,34,null,null,0,0,429141,390295,239383,29976,13466,9381,10464,7592,4356,2948,160,205,2102,1602,1141071]
[null,35,null,null,0,0,428864,390828,240277,29484,13661,9564,10719,7449,4573,2943,189,209,2055,1311,1142126]
[null,36,null,null,0,0,431644,396088,236879,29590,13895,9530,11105,7530,4561,3061,212,204,2174,1677,1148150]
[null,37,null,null,0,0,433239,400301,234667,29846,13655,9653,11232,7465,4728,3090,220,227,2107,1339,1151769]
[null,38,null,null,0,0,433876,395986,231275,29605,13766,9588,11265,7388,4720,3039,183,197,2060,1386,1144334]
[null,39,null,null,0,0,431425,393505,224612,28885,12923,9252,10947,7373,4576,2995,180,193,2162,1568,1130596]
[null,40,null,null,0,0,626919,1496441,228339,28904,12964,9325,11073,7143,4640,2912,278,214,2041,1660,2432853]
[null,41,null,null,0,0,411575,375249,218339,30415,12682,8787,10633,7280,4485,2876,52773,34099,13012,13236,1195441]
[null,42,null,null,0,0,409641,374955,213863,28344,12321,8832,9903,6827,4277,2822,207,191,2076,1292,1075551]
[null,43,null,null,0,0,413926,375920,214869,28462,11993,9681,10094,6877,4307,2717,175,144,2035,1537,1082737]
[null,44,null,null,0,0,408697,370587,210054,28059,12276,8622,10030,6683,4039,2717,164,164,1945,1270,1065307]
[null,45,null,null,0,0,411842,376037,211479,28171,11845,8586,10286,6792,4319,2708,116,115,2064,1362,1075722]
[null,46,null,null,0,0,420588,382360,212880,28689,11982,8601,10287,6756,4267,2840,172,145,2189,1498,1093254]
[null,47,null,null,0,0,414812,375131,207137,28225,11866,8785,9929,6711,4182,2577,139,125,2198,1446,1073263]
[null,48,null,null,0,0,408604,370256,206235,28172,11698,8522,9616,6330,3861,2689,143,163,2013,1371,1059673]
[null,49,null,null,0,0,391258,394543,194324,26852,11074,8313,9088,6276,3896,2686,142,124,2134,1317,1052027]
[null,50,null,null,0,0,377622,342661,191052,26554,10740,8034,8745,6049,3535,2493,134,134,1971,1411,981135]
[null,51,null,null,0,0,363856,333820,177654,25128,10020,7777,8412,5890,3432,2428,127,119,1839,1298,941800]
[null,52,null,null,0,0,346473,327465,169405,24250,9643,7658,7889,5594,3416,2176,123,129,1911,1281,907413]
[null,53,null,null,0,0,331752,321221,162395,23293,8982,7184,7483,5388,3146,2297,117,120,1728,1312,876418]
[null,54,null,null,0,0,326090,308952,156724,22621,8636,7062,7289,5066,3075,2228,106,95,1730,1198,850872]
[null,55,null,null,0,0,320881,296168,151097,22187,8658,6924,7170,5171,2966,2093,114,119,1764,1214,826526]
[null,56,null,null,0,0,302730,285047,145093,21416,8158,7006,7067,4999,2921,2017,100,102,1765,1241,789662]
[null,57,null,null,0,0,291145,274802,137749,20405,8198,6900,6771,4903,2737,1948,93,102,1722,1234,758709]
[null,58,null,null,0,0,276261,257496,131365,19464,7658,6343,6498,4655,2748,1932,88,90,1598,1252,717448]
[null,59,null,null,0,0,260225,240189,124067,18571,7471,6074,5934,4477,2602,1879,87,102,1582,1244,674504]
[null,60,null,null,0,0,249903,227907,119716,17577,7082,6050,5756,4263,2401,1897,77,104,1617,1102,645452]
[null,61,null,null,0,0,271505,275637,110814,16389,6707,5543,5485,3746,2366,1788,90,72,1565,1108,702815]
[null,62,null,null,0,0,212172,183731,100662,15030,6645,5154,5012,3565,1991,1557,90,74,1519,1031,538233]
[null,63,null,null,0,0,202877,172270,95788,14802,7074,5332,5114,3392,2007,1454,88,71,1545,1012,512826]
[null,64,null,null,0,0,185699,152085,88219,13111,7045,4921,4823,3163,1975,1341,78,74,1416,866,464816]
[null,65,null,null,0,0,176339,140751,91229,12524,6708,4754,4484,3027,1670,1262,124,64,1334,921,{"$f":"SUM(E64:T64)","v":445191}]
[null,66,null,null,0,0,161387,126068,73619,11364,6385,4281,3933,2579,1591,1189,67,64,1407,867,394801]
[null,67,null,null,0,0,143886,110461,63339,10207,5835,3957,3631,2389,1549,1050,46,52,1190,803,348395]
[null,68,null,null,0,0,128939,98294,57583,9333,5377,3663,3442,2098,1395,951,52,29,1090,733,312979]
[null,69,null,null,0,0,116847,87209,52009,8348,5023,3415,3105,1962,1313,896,45,38,955,697,281862]
[null,70,null,null,0,0,105692,76349,46901,7756,4894,3234,2901,1787,1207,801,31,31,905,642,253131]
[null,71,null,null,0,0,87100,60816,37972,6922,4678,2831,2654,1616,1042,740,28,28,734,554,207715]
[null,72,null,null,0,0,74083,51675,31351,5528,4020,2540,2293,1351,1120,740,31,24,666,508,175930]
[null,73,null,null,0,0,66267,45559,26062,4365,2640,1638,1922,1183,1083,741,27,15,542,438,152482]
[null,74,null,null,0,0,54686,38275,20234,3016,1674,1096,1197,679,698,422,18,11,453,365,122824]
[null,75,null,null,0,0,46627,33146,15689,2224,1082,691,546,293,229,160,49,31,322,283,101372]
[null,76,null,null,0,0,36676,26068,12867,1816,721,458,320,134,18,9,45,20,322,261,79735]
[null,77,null,null,0,0,30711,22147,9708,960,752,494,279,136,13,7,10,8,328,251,65804]
[null,78,null,null,0,0,25861,19215,6984,356,492,238,239,106,14,8,7,8,346,277,54151]
[null,79,null,null,0,0,21026,15856,5062,295,332,158,227,72,13,3,6,9,237,224,43520]
[null,80,null,null,0,0,17146,13847,4020,284,311,141,171,72,5,3,0,2,196,170,36368]
[null,81,null,null,0,0,13531,11566,3069,264,315,185,153,65,4,6,4,1,171,157,29491]
[null,82,null,null,0,0,11562,9830,2523,189,282,180,169,99,7,4,2,2,129,133,25111]
[null,83,null,null,0,0,9725,8349,1662,59,243,155,176,114,5,4,4,2,119,120,20737]
[null,84,null,null,0,0,8745,7342,1292,12,75,41,77,46,7,4,2,1,115,105,17864]
[null,85,null,null,0,0,7405,6379,1034,11,3,1,11,5,0,0,0,1,102,91,15043]
[null,86,null,null,0,0,6082,5104,790,11,1,0,1,1,0,0,2,1,86,77,12156]
[null,87,null,null,0,0,4995,4176,585,10,0,0,1,0,0,0,0,0,71,83,9921]
[null,88,null,null,0,0,4055,3509,478,5,0,0,1,1,0,0,4,0,77,55,8185]
[null,89,null,null,0,0,3485,2891,367,3,0,0,1,0,1,1,1,0,59,52,6861]
[null,90,null,null,0,0,2927,2538,325,7,1,0,0,0,0,0,0,0,57,45,5900]
[null,91,null,null,0,0,2120,1835,226,4,0,0,0,0,0,0,0,1,42,55,4283]
[null,92,null,null,0,0,1604,1355,170,1,0,0,0,0,0,0,0,1,43,37,3211]
[null,93,null,null,0,0,1273,1157,16,0,0,0,0,0,0,0,0,0,26,26,2498]
[null,94,null,null,0,0,1028,910,18,1,1,0,0,0,1,0,0,0,32,28,2019]
[null,95,null,null,0,0,818,680,12,1,0,0,0,0,0,0,0,0,27,20,1558]
[null,96,null,null,0,0,558,528,10,1,0,0,0,0,0,0,1,0,17,13,1128]
[null,97,null,null,0,0,551,370,5,0,0,0,0,0,0,0,0,0,19,22,967]
[null,98,null,null,0,0,471,433,7,0,0,0,0,0,0,0,0,0,16,18,945]
[null,99,null,null,0,0,476,505,2,0,0,0,0,0,0,0,0,0,8,5,996]
["De","100 o mas","años y más",null,0,0,571,427,139,3,0,0,0,0,0,0,0,0,24,38,{"$f":"SUM(E99:T99)","v":1202}]
["PÓLIZA CONCENTRADA",null,null,null,0,0,14168268,2802679,1514370,231404,627648,0,0,0,4252492,8990018,0,0,0,2,{"$f":"SUM(E100:T100)","v":32586881}]
["TOTAL",null,null,null,{"$f":"SUM(E14:E99)","v":0},0,{"$f":"SUM(G14:G100)","v":31725074},{"$f":"SUM(H14:H100)","v":19363392},{"$f":"SUM(I14:I100)","v":11026661},1401453,1116404,351216,363587,247023,4401203,9090085,58354,39607,95733,71467,{"$f":"SUM(E101:T101)","v":79351259}]
[]
["NOTA:  ESTE FORMATO ES PARA PÓLIZAS DEL SEGURO INDIVIDUAL EMITIDAS A PARTIR DEL 1° DE ENERO DE 1994."]
["PÓLIZA NO CONCENTRADA",null,null,null,{"$f":"E101-E100","v":0},{"$f":"F101-F100","v":0},17556806,16560713,9512291,1170049,488756,351216,363587,247023,148711,100067,58354,39607,95733,71465,46764378]

{"sheet":"2B (G)","index":14,"n_rows":104,"n_cols":21,"rows_kept":104,"cut":false,"hidden":true,"merged":[[11,12,11,13],[11,14,11,15],[11,16,11,17],[7,0,7,20],[8,0,8,20],[10,0,10,3],[10,4,10,5],[10,6,10,19],[11,0,11,3],[11,4,11,5],[11,6,11,7],[11,8,11,9],[11,10,11,11],[6,0,6,20],[1,0,1,20],[2,0,2,20],[3,0,3,20],[4,0,4,20],[5,0,5,20]]}
[]
["2 a. EXPUESTOS EN LA OPERACIÓN DE VIDA POR TIPO DE SEGURO,"]
[" AÑOS DE ANTIGÜEDAD Y EDAD ALCANZADA"]
[]
["DICIEMBRE DE 2017"]
[]
["VIDA INDIVIDUAL "]
[]
[]
[null,null,null,null,2,3,4,5,6,7,8,9,10,11,12,13,14,15,16,17]
["EDAD  ",null,null,null,"SALDADO Y",null,"PÓLIZAS O CERTIFICADOS EN VIGOR CON ANTIGÜEDAD MENOR O IGUAL A:"]
["ALCANZADA",null,null,null,"PRORROGADO",null,"1 año",null,"2 años",null,"3 años",null,"4 años",null,"5 años",null,"6 años",null," más de 6 años",null,"TOTAL"]
[null,null,null,null,"H","M","H","M","H","M","H","M","H","M","H","M","H","M","H","M"]
[null,"0 a 15",null,null,0,0,0,0,0,0,0,0,0,0,0,0,0,0,0,0,{"$f":"SUM(E14:T14)","v":0}]
[null,16,null,null,0,0,0,0,0,0,0,0,0,0,0,0,0,0,0,0,{"$f":"SUM(E15:T15)","v":0}]
[null,17,null,null,0,0,0,0,0,0,0,0,0,0,0,0,0,0,0,0,0]
[null,18,null,null,0,0,0,0,0,0,0,0,0,0,0,0,0,0,0,0,0]
[null,19,null,null,0,0,0,0,0,0,0,0,0,0,0,0,0,0,0,0,0]
[null,20,null,null,0,0,0,0,0,0,0,0,0,0,0,0,0,0,0,0,0]
[null,21,null,null,0,0,0,0,0,0,0,0,0,0,0,0,0,0,0,0,0]
[null,22,null,null,0,0,0,0,0,0,0,0,0,0,0,0,0,0,0,0,0]
[null,23,null,null,0,0,0,0,0,0,0,0,0,0,0,0,0,0,0,0,0]
[null,24,null,null,0,0,0,0,0,0,0,0,0,0,0,0,0,0,0,0,0]
[null,25,null,null,0,0,0,0,0,0,0,0,0,0,0,0,0,0,0,0,0]
[null,26,null,null,0,0,0,0,0,0,0,0,0,0,0,0,0,0,0,0,0]
[null,27,null,null,0,0,0,0,0,0,0,0,0,0,0,0,0,0,0,0,0]
[null,28,null,null,0,0,0,0,0,0,0,0,0,0,0,0,0,0,0,0,0]
[null,29,null,null,0,0,0,0,0,0,0,0,0,0,0,0,0,0,0,0,0]
[null,30,null,null,0,0,0,0,0,0,0,0,0,0,0,0,0,0,0,0,0]
[null,31,null,null,0,0,0,0,0,0,0,0,0,0,0,0,0,0,23,15,38]
[null,32,null,null,0,0,0,0,0,0,0,0,0,0,0,0,0,0,87,53,140]
[null,33,null,null,0,0,0,0,0,0,0,0,0,0,0,0,0,0,272,225,497]
[null,34,null,null,0,0,0,0,0,0,0,0,0,0,0,0,0,0,459,420,879]
[null,35,null,null,0,0,0,0,0,0,0,0,0,0,0,0,0,0,488,440,928]
[null,36,null,null,0,0,0,0,0,0,0,0,0,0,0,0,0,0,523,491,1014]
[null,37,null,null,0,0,0,0,0,0,0,0,0,0,0,0,0,0,557,619,1176]
[null,38,null,null,0,0,0,0,0,0,0,0,0,0,0,0,0,0,513,489,1002]
[null,39,null,null,0,0,0,0,0,0,0,0,0,0,0,0,0,0,558,644,1202]
[null,40,null,null,0,0,0,0,0,0,0,0,0,0,0,0,0,0,533,460,993]
[null,41,null,null,0,0,0,0,0,0,0,0,0,0,0,0,0,0,448,438,886]
[null,42,null,null,0,0,0,0,0,0,0,0,0,0,0,0,0,0,383,361,744]
[null,43,null,null,0,0,0,0,0,0,0,0,0,0,0,0,0,0,250,346,596]
[null,44,null,null,0,0,0,0,0,0,0,0,0,0,0,0,0,0,227,181,408]
[null,45,null,null,0,0,0,0,0,0,0,0,0,0,0,0,0,0,170,196,366]
[null,46,null,null,0,0,0,0,0,0,0,0,0,0,0,0,0,0,185,179,364]
[null,47,null,null,0,0,0,0,0,0,0,0,0,0,0,0,0,0,173,146,319]
[null,48,null,null,0,0,0,0,0,0,0,0,0,0,0,0,0,0,157,141,298]
[null,49,null,null,0,0,0,0,0,0,0,0,0,0,0,0,0,0,136,118,254]
[null,50,null,null,0,0,0,0,0,0,0,0,0,0,0,0,0,0,96,92,188]
[null,51,null,null,0,0,0,0,0,0,0,0,0,0,0,0,0,0,1054,2166,3220]
[null,52,null,null,0,0,0,0,0,0,0,0,0,0,0,0,0,0,187,114,301]
[null,53,null,null,0,0,0,0,0,0,0,0,0,0,0,0,0,0,221,159,380]
[null,54,null,null,0,0,0,0,0,0,0,0,0,0,0,0,0,0,230,151,381]
[null,55,null,null,0,0,0,0,0,0,0,0,0,0,0,0,0,0,268,208,476]
[null,56,null,null,0,0,0,0,0,0,0,0,0,0,0,0,0,0,297,168,465]
[null,57,null,null,0,0,0,0,0,0,0,0,0,0,0,0,0,0,342,225,567]
[null,58,null,null,0,0,0,0,0,0,0,0,0,0,0,0,0,0,351,211,562]
[null,59,null,null,0,0,0,0,0,0,0,0,0,0,0,0,0,0,350,203,553]
[null,60,null,null,0,0,0,0,0,0,0,0,0,0,0,0,0,0,381,265,646]
[null,61,null,null,0,0,0,0,0,0,0,0,0,0,0,0,0,0,348,191,539]
[null,62,null,null,0,0,0,0,0,0,0,0,0,0,0,0,0,0,344,187,531]
[null,63,null,null,0,0,0,0,0,0,0,0,0,0,0,0,0,0,348,223,571]
[null,64,null,null,0,0,0,0,0,0,0,0,0,0,0,0,0,0,329,217,546]
[null,65,null,null,0,0,0,0,0,0,0,0,0,0,0,0,0,0,325,256,{"$f":"SUM(E64:T64)","v":581}]
[null,66,null,null,0,0,0,0,0,0,0,0,0,0,0,0,0,0,298,167,465]
[null,67,null,null,0,0,0,0,0,0,0,0,0,0,0,0,0,0,249,153,402]
[null,68,null,null,0,0,0,0,0,0,0,0,0,0,0,0,0,0,291,150,441]
[null,69,null,null,0,0,0,0,0,0,0,0,0,0,0,0,0,0,287,190,477]
[null,70,null,null,0,0,0,0,0,0,0,0,0,0,0,0,0,0,214,163,377]
[null,71,null,null,0,0,0,0,0,0,0,0,0,0,0,0,0,0,194,120,314]
[null,72,null,null,0,0,0,0,0,0,0,0,0,0,0,0,0,0,210,116,326]
[null,73,null,null,0,0,0,0,0,0,0,0,0,0,0,0,0,0,233,164,397]
[null,74,null,null,0,0,0,0,0,0,0,0,0,0,0,0,0,0,201,113,314]
[null,75,null,null,0,0,0,0,0,0,0,0,0,0,0,0,0,0,189,110,299]
[null,76,null,null,0,0,0,0,0,0,0,0,0,0,0,0,0,0,179,155,334]
[null,77,null,null,0,0,0,0,0,0,0,0,0,0,0,0,0,0,193,161,354]
[null,78,null,null,0,0,0,0,0,0,0,0,0,0,0,0,0,0,180,106,286]
[null,79,null,null,0,0,0,0,0,0,0,0,0,0,0,0,0,0,153,100,253]
[null,80,null,null,0,0,0,0,0,0,0,0,0,0,0,0,0,0,137,89,226]
[null,81,null,null,0,0,0,0,0,0,0,0,0,0,0,0,0,0,143,96,239]
[null,82,null,null,0,0,0,0,0,0,0,0,0,0,0,0,0,0,24,16,40]
[null,83,null,null,0,0,0,0,0,0,0,0,0,0,0,0,0,0,20,28,48]
[null,84,null,null,0,0,0,0,0,0,0,0,0,0,0,0,0,0,33,13,46]
[null,85,null,null,0,0,0,0,0,0,0,0,0,0,0,0,0,0,21,17,38]
[null,86,null,null,0,0,0,0,0,0,0,0,0,0,0,0,0,0,25,8,33]
[null,87,null,null,0,0,0,0,0,0,0,0,0,0,0,0,0,0,12,10,22]
[null,88,null,null,0,0,0,0,0,0,0,0,0,0,0,0,0,0,9,7,16]
[null,89,null,null,0,0,0,0,0,0,0,0,0,0,0,0,0,0,7,3,10]
[null,90,null,null,0,0,0,0,0,0,0,0,0,0,0,0,0,0,9,8,17]
[null,91,null,null,0,0,0,0,0,0,0,0,0,0,0,0,0,0,11,2,13]
[null,92,null,null,0,0,0,0,0,0,0,0,0,0,0,0,0,0,9,4,13]
[null,93,null,null,0,0,0,0,0,0,0,0,0,0,0,0,0,0,8,4,12]
[null,94,null,null,0,0,0,0,0,0,0,0,0,0,0,0,0,0,10,2,12]
[null,95,null,null,0,0,0,0,0,0,0,0,0,0,0,0,0,0,10,4,14]
[null,96,null,null,0,0,0,0,0,0,0,0,0,0,0,0,0,0,7,10,17]
[null,97,null,null,0,0,0,0,0,0,0,0,0,0,0,0,0,0,5,0,5]
[null,98,null,null,0,0,0,0,0,0,0,0,0,0,0,0,0,0,3,1,4]
[null,99,null,null,0,0,0,0,0,0,0,0,0,0,0,0,0,0,4,0,4]
["De","100 o mas","años y más",null,0,0,0,0,0,0,0,0,0,0,0,0,0,0,8,2,{"$f":"SUM(E99:T99)","v":10}]
["PÓLIZA CONCENTRADA",null,null,null,0,0,0,0,0,0,0,0,0,0,0,0,0,0,21745,0,{"$f":"SUM(E100:T100)","v":21745}]
["TOTAL",null,null,null,{"$f":"SUM(E14:E99)","v":0},0,{"$f":"SUM(G14:G100)","v":0},{"$f":"SUM(H14:H100)","v":0},{"$f":"SUM(I14:I100)","v":0},0,0,0,0,0,0,0,0,0,36944,{"$f":"SUM(T14:T100)","v":13290},{"$f":"SUM(U14:U100)","v":50234}]
[]
["NOTA:  ESTE FORMATO ES PARA PÓLIZAS DEL SEGURO INDIVIDUAL EMITIDAS A PARTIR DEL 1° DE ENERO DE 1994."]
["PÓLIZA NO CONCENTRADA",null,null,null,{"$f":"E101-E100","v":0},{"$f":"F101-F100","v":0},0,0,0,0,0,0,0,0,0,0,0,0,15199,13290,28489]

{"sheet":"3 Ind","index":15,"n_rows":118,"n_cols":19,"rows_kept":118,"cut":false,"hidden":false,"merged":[[6,0,6,18],[1,0,1,18],[2,0,2,18],[3,0,3,18],[4,0,4,18],[5,0,5,18],[11,12,11,13],[11,14,11,15],[11,16,11,17],[7,0,7,18],[8,0,8,18],[9,0,9,18],[10,0,10,3],[10,4,10,17],[11,0,11,3],[11,4,11,5],[11,6,11,7],[11,8,11,9],[11,10,11,11]]}
[]
["3. SINIESTROS PROCEDENTES POR MUERTE EN LA OPERACIÓN DE VIDA POR TIPO DE SEGURO,"]
[" AÑOS DE ANTIGÜEDAD Y EDAD ALCANZADA"]
[]
[{"$f":"'1 Total'!B3","v":"DICIEMBRE DE 2021"}]
[]
["VIDA INDIVIDUAL "]
[]
["TOTAL"]
[]
["EDAD  ",null,null,null,"SINIESTROS PROCEDENTES POR MUERTE DE LAS PÓLIZAS CON ANTIGÜEDAD MENOR O IGUAL A:"]
["ALCANZADA",null,null,null,"1 año",null,"2 años",null,"3 años",null,"4 años",null,"5 años",null,"6 años",null," más de 6 años",null,"TOTAL"]
[null,null,null,null,"H","M","H","M","H","M","H","M","H","M","H","M","H","M"]
["De",0,"años",null,{"$f":"'3A'!E14+'3B'!E14","v":0},{"$f":"'3A'!F14+'3B'!F14","v":0},{"$f":"'3A'!G14+'3B'!G14","v":0},{"$f":"'3A'!H14+'3B'!H14","v":0},{"$f":"'3A'!I14+'3B'!I14","v":0},{"$f":"'3A'!J14+'3B'!J14","v":0},{"$f":"'3A'!K14+'3B'!K14","v":0},{"$f":"'3A'!L14+'3B'!L14","v":0},{"$f":"'3A'!M14+'3B'!M14","v":0},{"$f":"'3A'!N14+'3B'!N14","v":0},{"$f":"'3A'!O14+'3B'!O14","v":0},{"$f":"'3A'!P14+'3B'!P14","v":0},{"$f":"'3A'!Q14+'3B'!Q14","v":0},{"$f":"'3A'!R14+'3B'!R14","v":0},{"$f":"SUM(E14:R14)","v":0}]
[null,1,null,null,2,0,0,1,null,null,null,null,null,null,null,null,null,null,{"$f":"SUM(E15:R15)","v":3}]
[null,2,null,null,null,null,0,0,null,null,null,null,null,null,null,null,null,null,0]
[null,3,null,null,null,null,0,0,0,1,1,0,null,null,null,null,null,null,2]
[null,4,null,null,null,null,2,1,0,2,0,0,0,0,null,null,null,null,5]
[null,5,null,null,1,0,0,1,1,0,0,0,0,0,null,null,null,null,3]
[null,6,null,null,1,1,0,1,null,null,0,0,0,0,3,2,null,null,8]
[null,7,null,null,0,1,5,2,0,1,0,0,null,null,0,1,1,1,12]
[null,8,null,null,0,1,0,1,1,0,0,0,0,0,0,0,1,1,5]
[null,9,null,null,0,2,0,1,2,0,0,0,null,null,0,0,0,1,6]
[null,10,null,null,1,0,2,0,2,0,0,0,null,null,0,0,2,0,7]
[null,11,null,null,1,0,3,0,1,3,0,0,0,0,0,0,0,1,9]
[null,12,null,null,1,0,3,1,5,0,0,0,0,0,0,0,1,1,12]
[null,13,null,null,0,0,4,2,5,0,null,null,null,null,0,0,1,0,12]
[null,14,null,null,1,0,5,0,1,0,0,0,0,0,0,0,2,0,9]
[null,15,null,null,373,325,2,0,1,0,0,0,0,0,0,1,1,0,703]
[null,16,null,null,3,0,2,0,1,0,0,0,null,null,0,0,1,1,8]
[null,17,null,null,0,1,0,1,0,0,0,0,0,0,0,0,0,4,6]
[null,18,null,null,0,2,1,0,1,0,0,0,0,0,0,0,0,0,4]
[null,19,null,null,7,6,1,0,1,0,0,0,0,0,0,0,3,1,19]
[null,20,null,null,9,5,7,2,1,0,0,0,0,0,0,0,0,1,25]
[null,21,null,null,12,14,9,2,0,1,0,0,0,1,0,1,0,1,41]
[null,22,null,null,16,6,11,1,5,0,1,0,0,0,0,0,1,0,41]
[null,23,null,null,10,8,8,1,2,1,0,1,0,0,0,0,0,1,32]
[null,24,null,null,16,9,10,5,1,1,1,1,0,1,0,0,2,2,49]
[null,25,null,null,15,11,10,9,2,2,4,0,1,0,2,0,0,0,56]
[null,26,null,null,21,12,17,5,3,1,0,2,2,0,1,0,0,0,64]
[null,27,null,null,18,12,16,7,8,2,0,3,1,1,5,1,1,1,76]
[null,28,null,null,26,7,24,8,6,3,1,2,1,1,2,2,2,2,87]
[null,29,null,null,23,14,29,9,3,0,2,3,2,2,6,2,2,2,99]
[null,30,null,null,37,16,21,8,5,2,1,1,2,2,4,1,5,2,107]
[null,31,null,null,17,13,31,4,6,0,9,4,5,0,4,3,4,2,102]
[null,32,null,null,26,16,30,14,10,4,14,1,3,5,6,7,6,3,145]
[null,33,null,null,42,7,32,14,12,1,7,1,5,4,8,3,16,6,158]
[null,34,null,null,32,7,34,10,6,0,11,0,5,3,12,7,22,8,157]
[null,35,null,null,31,23,49,15,12,4,7,10,10,4,12,10,28,14,229]
[null,36,null,null,48,19,38,12,13,3,10,7,11,5,12,12,29,15,234]
[null,37,null,null,31,16,43,7,23,2,5,5,6,6,19,6,34,21,224]
[null,38,null,null,31,27,56,13,16,7,13,11,17,7,13,14,37,18,280]
[null,39,null,null,20,19,49,19,21,2,14,6,11,5,25,13,52,21,277]
[null,40,null,null,41,23,55,17,14,10,11,9,12,6,18,18,53,34,321]
[null,41,null,null,42,19,57,17,14,2,24,2,19,5,17,4,64,26,312]
[null,42,null,null,39,15,81,22,28,9,12,3,10,8,20,17,60,43,367]
[null,43,null,null,45,11,67,17,12,7,20,9,15,11,30,13,81,53,391]
[null,44,null,null,50,29,92,29,20,5,13,7,20,4,33,12,95,75,484]
[null,45,null,null,43,26,85,19,28,9,22,13,19,4,25,15,114,65,487]
[null,46,null,null,53,31,331,704,23,7,18,16,23,9,23,19,123,81,1461]
[null,47,null,null,58,33,370,650,19,6,19,10,21,10,42,20,144,70,1472]
[null,48,null,null,51,35,343,663,23,11,30,19,14,13,42,14,177,128,1563]
[null,49,null,null,50,46,95,42,30,9,23,18,22,14,32,21,171,111,684]
[null,50,null,null,48,21,159,39,34,12,43,15,24,3,40,22,207,128,795]
[null,51,null,null,42,21,147,55,28,12,32,17,37,8,38,20,190,133,780]
[null,52,null,null,42,38,118,54,26,21,34,10,20,14,45,20,173,123,738]
[null,53,null,null,48,19,123,36,21,15,20,10,20,13,45,12,236,154,772]
[null,54,null,null,54,21,156,47,38,10,32,11,41,15,45,31,218,176,895]
[null,55,null,null,46,22,172,57,35,18,44,21,48,18,50,26,334,215,1106]
[null,56,null,null,57,36,167,64,24,12,25,19,29,12,60,25,315,214,1059]
[null,57,null,null,58,27,170,73,38,20,34,14,33,27,69,32,296,228,1119]
[null,58,null,null,72,31,168,67,35,23,57,28,48,22,60,34,375,237,1257]
[null,59,null,null,69,32,155,78,46,22,41,25,23,24,50,40,341,310,1256]
[null,60,null,null,67,15,177,81,45,16,42,22,41,29,78,45,381,295,1334]
[null,61,null,null,62,33,186,85,36,21,51,15,37,31,62,40,410,300,1369]
[null,62,null,null,60,21,199,82,35,13,43,16,33,16,67,40,380,294,1299]
[null,63,null,null,59,27,174,59,31,17,41,14,34,15,78,31,370,294,1244]
[null,64,null,null,66,31,193,86,28,9,31,14,26,16,54,29,387,301,1271]
[null,65,null,null,47,35,160,60,31,8,40,12,25,14,65,30,434,261,{"$f":"SUM(E79:R79)","v":1222}]
[null,66,null,null,65,27,194,49,25,12,25,12,22,9,56,29,422,260,1207]
[null,67,null,null,40,24,165,54,39,6,17,12,28,17,41,36,434,256,1169]
[null,68,null,null,47,19,143,39,23,9,18,10,29,15,33,25,365,252,1027]
[null,69,null,null,48,17,125,61,26,9,26,11,34,11,37,23,407,234,1069]
[null,70,null,null,53,17,119,30,34,14,38,8,31,8,24,21,352,247,996]
[null,71,null,null,201,154,99,41,16,11,9,5,20,4,33,18,328,248,1187]
[null,72,null,null,26,10,60,29,14,7,9,8,19,12,39,17,318,195,763]
[null,73,null,null,16,17,41,15,13,6,17,10,21,6,31,19,300,231,743]
[null,74,null,null,20,14,33,16,5,0,2,3,15,6,37,15,330,189,685]
[null,75,null,null,22,14,23,15,6,2,3,1,8,3,23,11,323,162,616]
[null,76,null,null,20,13,45,12,5,3,2,0,1,0,20,9,285,209,624]
[null,77,null,null,11,9,32,14,5,1,1,2,3,0,9,2,234,150,473]
[null,78,null,null,12,12,13,7,3,2,0,1,0,2,3,0,205,146,406]
[null,79,null,null,16,6,26,11,4,1,2,1,0,1,3,3,181,138,393]
[null,80,null,null,11,16,17,19,2,3,2,0,0,0,4,1,193,95,363]
[null,81,null,null,14,10,20,11,3,1,3,0,1,1,0,3,153,100,320]
[null,82,null,null,18,9,18,12,3,2,2,0,3,2,3,4,134,83,293]
[null,83,null,null,12,11,21,6,1,0,1,1,2,1,1,0,115,45,217]
[null,84,null,null,11,9,23,10,2,1,0,0,0,0,1,1,69,52,179]
[null,85,null,null,10,8,10,5,2,0,2,0,0,1,3,0,78,30,149]
[null,86,null,null,9,13,12,3,2,0,1,1,0,0,1,0,40,45,127]
[null,87,null,null,16,6,9,5,0,1,0,1,1,0,0,1,30,14,84]
[null,88,null,null,16,7,19,6,1,2,1,0,1,2,5,1,19,19,99]
[null,89,null,null,11,13,9,5,1,2,0,0,0,1,2,2,8,9,63]
[null,90,null,null,7,10,3,6,2,0,1,0,0,0,0,0,12,13,54]
[null,91,null,null,10,6,3,3,null,null,1,0,0,1,1,0,7,11,43]
[null,92,null,null,16,17,5,4,0,0,null,null,null,null,1,1,6,7,57]
[null,93,null,null,10,10,7,0,1,1,null,null,null,null,1,1,5,2,38]
[null,94,null,null,9,9,3,4,null,null,null,null,0,0,1,2,2,1,31]
[null,95,null,null,8,6,2,2,null,null,null,null,null,null,0,0,5,0,23]
[null,96,null,null,6,7,6,0,0,0,null,null,null,null,0,0,1,0,20]
[null,97,null,null,7,12,2,0,0,1,null,null,null,null,0,0,2,3,27]
[null,98,null,null,9,10,0,3,null,null,null,null,null,null,null,null,0,1,23]
[null,99,null,null,null,null,1,0,null,null,null,null,null,null,null,null,1,0,2]
["De",100,"años y más",null,0,0,0,2,1,0,0,0,0,0,0,0,0,0,3]
["No especificado",null,null,null,null,null,null,null,null,null,null,null,null,null,null,null,null,null,2382]
[null,"TOTAL",null,null,{"$f":"SUM(E14:E114)","v":3048},{"$f":"SUM(F14:F114)","v":1840},6062,3879,1158,464,1086,514,1015,511,1735,961,11747,7927,{"$f":"SUM(E116:R116)+S115","v":44329}]
[]
["CIFRAS EN PESOS, ESTIMADAS AL 100%."]

{"sheet":"3A","index":16,"n_rows":117,"n_cols":19,"rows_kept":117,"cut":false,"hidden":true,"merged":[[6,0,6,18],[1,0,1,18],[2,0,2,18],[3,0,3,18],[4,0,4,18],[5,0,5,18],[11,12,11,13],[11,14,11,15],[11,16,11,17],[7,0,7,18],[8,0,8,18],[10,0,10,3],[10,4,10,17],[11,0,11,3],[11,4,11,5],[11,6,11,7],[11,8,11,9],[11,10,11,11]]}
[]
["3 a. SINIESTROS PROCEDENTES POR MUERTE EN LA OPERACIÓN DE VIDA POR TIPO DE SEGURO,"]
[" AÑOS DE ANTIGÜEDAD Y EDAD ALCANZADA"]
[]
["DICIEMBRE DE 2017"]
[]
["VIDA INDIVIDUAL "]
[]
[]
[null,null,null,null,2,3,4,5,6,7,8,9,10,11,12,13,14,15]
["EDAD  ",null,null,null,"SINIESTROS PROCEDENTES POR MUERTE DE LAS PÓLIZAS CON ANTIGÜEDAD MENOR O IGUAL A:"]
["ALCANZADA",null,null,null,"1 año",null,"2 años",null,"3 años",null,"4 años",null,"5 años",null,"6 años",null," más de 6 años",null,"TOTAL"]
[null,null,null,null,"H","M","H","M","H","M","H","M","H","M","H","M","H","M"]
["De",0,"años",null,0,0,0,0,0,0,0,0,0,0,0,0,0,0,{"$f":"SUM(E14:R14)","v":0}]
[null,1,null,null,0,1,0,0,0,0,0,0,0,0,0,0,0,0,1]
[null,2,null,null,0,0,0,0,0,0,0,0,0,0,0,0,0,0,0]
[null,3,null,null,1,1,0,1,0,1,0,0,0,0,0,0,0,0,4]
[null,4,null,null,1,1,0,1,0,0,0,0,1,0,0,0,0,0,4]
[null,5,null,null,0,2,0,1,0,0,0,0,0,0,0,1,0,0,4]
[null,6,null,null,0,0,1,0,0,0,0,0,0,0,0,0,0,0,1]
[null,7,null,null,1,0,2,0,0,0,0,0,0,0,0,1,0,0,4]
[null,8,null,null,0,0,0,0,0,0,0,0,0,0,0,0,0,1,1]
[null,9,null,null,2,1,0,0,0,0,0,0,0,0,0,0,0,1,4]
[null,10,null,null,2,0,0,1,0,0,0,0,0,0,0,0,0,0,3]
[null,11,null,null,0,1,0,1,0,0,0,0,0,0,0,0,0,0,2]
[null,12,null,null,0,1,0,1,0,0,0,1,0,0,0,0,0,0,3]
[null,13,null,null,0,1,1,0,0,0,0,0,0,0,0,0,0,1,3]
[null,14,null,null,0,0,0,0,0,0,0,0,0,0,0,0,0,2,2]
[null,15,null,null,0,0,0,2,0,0,0,0,0,0,0,0,0,1,3]
[null,16,null,null,0,0,1,0,0,0,0,0,0,0,0,0,0,1,2]
[null,17,null,null,2,0,0,1,0,0,0,0,0,0,0,0,0,1,4]
[null,18,null,null,5,0,0,6,1,0,0,0,0,0,0,0,0,0,12]
[null,19,null,null,6,2,8,6,0,0,0,0,0,0,0,0,1,0,23]
[null,20,null,null,14,3,19,1,0,1,1,0,0,0,0,0,0,1,40]
[null,21,null,null,9,12,19,11,0,0,2,0,0,0,0,0,0,2,55]
[null,22,null,null,5,8,25,7,3,0,0,1,0,0,0,0,0,0,49]
[null,23,null,null,14,12,25,15,3,0,3,0,1,1,0,0,0,0,74]
[null,24,null,null,28,13,38,9,1,2,3,1,2,0,0,0,0,0,97]
[null,25,null,null,25,13,44,15,2,2,0,0,2,1,0,0,0,1,105]
[null,26,null,null,31,26,36,18,3,1,4,3,4,0,2,0,1,0,129]
[null,27,null,null,40,22,49,25,5,1,0,2,1,0,4,1,4,0,154]
[null,28,null,null,49,24,50,19,4,2,7,4,4,1,3,1,10,1,179]
[null,29,null,null,45,27,38,22,5,5,10,1,8,0,4,0,9,3,177]
[null,30,null,null,39,28,56,19,9,1,4,1,2,3,3,2,5,5,177]
[null,31,null,null,46,21,54,33,1,4,7,5,4,3,5,3,12,9,207]
[null,32,null,null,43,43,49,27,8,3,7,4,3,5,5,4,13,11,{"$f":"SUM(E46:R46)","v":225}]
[null,33,null,null,52,34,52,34,7,7,9,4,10,3,4,3,13,18,250]
[null,34,null,null,48,33,69,31,8,1,4,2,13,1,4,4,29,14,261]
[null,35,null,null,43,27,58,29,6,5,8,4,8,2,9,6,13,15,233]
[null,36,null,null,67,25,65,45,11,7,11,6,10,5,3,1,35,13,304]
[null,37,null,null,53,19,79,50,17,2,12,3,9,5,10,4,44,14,321]
[null,38,null,null,53,29,81,48,9,10,9,6,12,6,11,2,44,15,335]
[null,39,null,null,56,47,96,43,14,2,12,6,7,8,7,3,50,21,372]
[null,40,null,null,48,25,82,59,13,5,8,9,19,9,8,6,56,16,363]
[null,41,null,null,65,32,78,49,12,6,12,9,14,4,13,5,69,21,389]
[null,42,null,null,68,35,88,50,18,8,29,8,13,3,7,2,82,36,447]
[null,43,null,null,79,41,107,43,17,7,14,4,21,10,11,6,81,60,501]
[null,44,null,null,80,41,122,53,26,9,22,14,9,5,11,5,95,63,555]
[null,45,null,null,102,43,138,55,17,6,13,6,10,6,14,6,114,59,589]
[null,46,null,null,124,36,133,85,19,9,25,11,21,8,17,9,130,63,690]
[null,47,null,null,80,42,147,83,21,13,22,11,8,8,12,6,134,77,664]
[null,48,null,null,103,31,156,95,23,8,33,7,31,8,18,7,161,108,789]
[null,49,null,null,96,55,143,78,30,11,25,15,18,8,23,9,167,79,757]
[null,50,null,null,103,59,162,94,26,7,29,18,21,10,19,5,169,136,858]
[null,51,null,null,136,67,167,106,35,20,29,10,23,10,26,9,211,135,984]
[null,52,null,null,118,58,151,89,37,14,27,11,29,14,16,7,218,144,933]
[null,53,null,null,115,95,189,116,29,9,35,11,41,18,18,8,234,165,1083]
[null,54,null,null,118,86,179,106,33,17,30,10,18,7,21,8,237,177,1047]
[null,55,null,null,120,72,155,105,36,17,35,21,21,19,26,11,275,188,1101]
[null,56,null,null,138,68,176,105,37,12,31,13,30,12,34,20,291,178,1145]
[null,57,null,null,151,74,183,110,24,18,31,17,37,15,26,16,270,205,1177]
[null,58,null,null,158,70,197,104,31,15,43,21,28,21,35,15,308,224,1270]
[null,59,null,null,172,84,177,127,43,14,31,20,28,12,27,16,359,209,1319]
[null,60,null,null,148,79,209,120,33,14,42,13,33,16,31,12,337,242,1329]
[null,61,null,null,119,74,179,101,41,25,32,11,36,25,24,20,297,229,1213]
[null,62,null,null,151,86,197,106,31,14,42,9,43,11,32,7,318,204,1251]
[null,63,null,null,152,74,176,114,30,10,35,16,26,13,28,17,317,193,1201]
[null,64,null,null,157,65,179,118,37,10,28,16,31,11,35,16,382,229,{"$f":"SUM(E78:R78)","v":1314}]
[null,65,null,null,110,71,153,102,26,8,21,7,27,16,20,15,295,191,1062]
[null,66,null,null,103,37,124,72,23,10,26,10,22,10,19,9,299,182,946]
[null,67,null,null,80,41,108,65,19,9,21,14,18,16,27,16,239,165,838]
[null,68,null,null,66,30,100,41,16,6,21,8,19,14,16,9,244,147,737]
[null,69,null,null,60,22,73,42,20,8,26,4,16,8,21,8,254,151,713]
[null,70,null,null,33,26,67,29,17,5,12,8,19,7,15,9,224,122,593]
[null,71,null,null,32,10,51,19,12,7,19,10,12,10,17,19,263,144,625]
[null,72,null,null,15,8,32,11,6,8,17,12,17,13,11,7,197,141,495]
[null,73,null,null,19,15,21,13,1,0,3,4,7,3,14,7,178,113,398]
[null,74,null,null,15,4,32,10,3,1,2,2,4,0,7,10,185,108,383]
[null,75,null,null,22,2,23,12,2,2,1,0,3,1,2,4,175,99,348]
[null,76,null,null,10,7,20,12,0,1,0,1,0,1,0,2,197,83,334]
[null,77,null,null,12,4,18,8,0,0,1,1,0,0,1,1,164,74,284]
[null,78,null,null,12,6,19,10,3,0,1,1,1,1,1,1,124,71,251]
[null,79,null,null,10,6,13,8,0,0,0,0,1,1,0,0,87,56,182]
[null,80,null,null,5,2,12,9,0,0,0,1,1,3,0,0,74,45,152]
[null,81,null,null,5,4,6,9,0,0,1,0,1,0,0,1,61,42,130]
[null,82,null,null,7,4,5,5,0,0,3,1,0,1,0,0,42,34,102]
[null,83,null,null,5,3,11,5,0,0,1,3,2,0,0,0,54,24,108]
[null,84,null,null,4,4,8,2,0,0,1,1,0,0,0,1,22,21,64]
[null,85,null,null,5,3,8,5,1,0,1,0,0,0,2,0,21,18,64]
[null,86,null,null,5,5,4,7,2,1,1,0,0,0,0,0,14,14,53]
[null,87,null,null,3,5,10,5,0,0,0,0,0,1,1,2,8,6,41]
[null,88,null,null,4,1,9,5,0,0,0,0,1,0,1,0,10,6,37]
[null,89,null,null,1,1,6,3,1,0,0,1,2,1,0,0,5,12,33]
[null,90,null,null,2,3,1,1,0,1,0,0,1,0,1,0,7,7,24]
[null,91,null,null,0,0,1,3,0,1,0,0,0,0,0,0,4,2,11]
[null,92,null,null,1,4,2,0,0,0,0,0,0,0,0,1,1,3,12]
[null,93,null,null,0,2,5,4,0,0,1,1,0,0,2,0,0,0,15]
[null,94,null,null,1,6,2,6,0,0,0,0,0,0,0,0,3,2,20]
[null,95,null,null,1,0,2,0,0,0,0,0,0,0,0,0,0,1,4]
[null,96,null,null,0,1,3,4,0,0,0,0,0,0,0,0,2,0,10]
[null,97,null,null,0,0,0,1,0,0,0,0,0,0,1,0,0,1,3]
[null,98,null,null,2,0,0,0,0,0,0,0,0,0,1,0,0,0,3]
[null,99,null,null,0,0,0,0,0,0,0,0,0,0,0,0,1,0,1]
["De","100 o mas","años y más",null,0,0,0,1,0,0,0,0,0,0,0,0,0,0,1]
["TOTAL",null,null,null,{"$f":"SUM(E14:E114)","v":4331},{"$f":"SUM(F14:F114)","v":2306},5834,3322,968,423,996,455,884,434,786,406,9049,5676,35870]
[]
["NOTA:  ESTE FORMATO ES PARA PÓLIZAS DEL SEGURO INDIVIDUAL EMITIDAS A PARTIR DEL 1° DE ENERO DE 1994."]

{"sheet":"3B","index":17,"n_rows":117,"n_cols":19,"rows_kept":117,"cut":false,"hidden":true,"merged":[[8,0,8,18],[1,0,1,18],[2,0,2,18],[4,0,4,18],[6,0,6,18],[7,0,7,18],[11,16,11,17],[10,0,10,3],[10,4,10,17],[11,0,11,3],[11,4,11,5],[11,6,11,7],[11,8,11,9],[11,10,11,11],[11,12,11,13],[11,14,11,15]]}
[]
["3 b. SINIESTROS PROCEDENTES POR MUERTE EN LA OPERACIÓN DE VIDA POR TIPO DE SEGURO,"]
[" AÑOS DE ANTIGÜEDAD Y EDAD ALCANZADA"]
[]
["DICIEMBRE DE 2017"]
[]
[]
["VIDA INDIVIDUAL "]
[]
[null,null,null,null,2,3,4,5,6,7,8,9,10,11,12,13,14,15]
["EDAD  ",null,null,null,"SINIESTROS PROCEDENTES POR MUERTE DE LAS PÓLIZAS CON ANTIGÜEDAD MENOR O IGUAL A:"]
["ALCANZADA",null,null,null,"1 año",null,"2 años",null,"3 años",null,"4 años",null,"5 años",null,"6 años",null," más de 6 años",null,"TOTAL"]
[null,null,null,null,"H","M","H","M","H","M","H","M","H","M","H","M","H","M"]
["De",0,"años",null,0,0,0,0,0,0,0,0,0,0,0,0,0,0,{"$f":"SUM(E14:R14)","v":0}]
[null,1,null,null,0,0,0,0,0,0,0,0,0,0,0,0,0,0,0]
[null,2,null,null,0,0,0,0,0,0,0,0,0,0,0,0,0,0,0]
[null,3,null,null,0,0,0,0,0,0,0,0,0,0,0,0,1,0,1]
[null,4,null,null,0,0,0,0,0,0,0,0,0,0,0,0,0,0,0]
[null,5,null,null,0,0,0,0,0,0,0,0,0,0,0,0,0,0,0]
[null,6,null,null,0,0,0,0,0,0,0,0,0,0,0,0,0,0,0]
[null,7,null,null,0,0,0,0,0,0,0,0,0,0,0,0,0,0,0]
[null,8,null,null,0,0,0,0,0,0,0,0,0,0,0,0,0,0,0]
[null,9,null,null,0,0,0,0,0,0,0,0,0,0,0,0,0,0,0]
[null,10,null,null,0,0,0,0,0,0,0,0,0,0,0,0,0,0,0]
[null,11,null,null,0,0,0,0,0,0,0,0,0,0,0,0,0,0,0]
[null,12,null,null,0,0,0,0,0,0,0,0,0,0,0,0,0,0,0]
[null,13,null,null,0,0,0,0,0,0,0,0,0,0,0,0,0,0,0]
[null,14,null,null,0,0,0,0,0,0,0,0,0,0,0,0,0,0,0]
[null,15,null,null,0,0,0,0,0,0,0,0,0,0,0,0,0,0,0]
[null,16,null,null,0,0,0,0,0,0,0,0,0,0,0,0,0,0,0]
[null,17,null,null,0,0,0,0,0,0,0,0,0,0,0,0,0,0,0]
[null,18,null,null,0,0,0,0,0,0,0,0,0,0,0,0,0,0,0]
[null,19,null,null,0,0,0,0,0,0,0,0,0,0,0,0,5,1,6]
[null,20,null,null,0,0,0,0,0,0,0,0,0,0,0,0,1,1,2]
[null,21,null,null,0,0,0,0,0,0,0,0,0,0,0,0,3,1,4]
[null,22,null,null,0,0,0,0,0,0,0,0,0,0,0,0,3,0,3]
[null,23,null,null,0,0,0,0,0,0,0,0,0,0,0,0,8,5,13]
[null,24,null,null,0,0,0,0,0,0,0,0,0,0,0,0,5,1,6]
[null,25,null,null,0,0,0,0,0,0,0,0,0,0,0,0,12,3,15]
[null,26,null,null,0,0,0,0,0,0,0,0,0,0,0,0,9,4,13]
[null,27,null,null,0,0,0,0,0,0,0,0,0,0,0,0,6,1,7]
[null,28,null,null,0,0,0,0,0,0,0,0,0,0,0,0,10,3,13]
[null,29,null,null,0,0,0,0,0,0,0,0,0,0,0,0,20,5,25]
[null,30,null,null,0,0,0,0,0,0,0,0,0,0,0,0,23,2,25]
[null,31,null,null,0,0,0,0,0,0,0,0,0,0,0,0,18,5,23]
[null,32,null,null,0,0,0,0,0,0,0,0,0,0,0,0,11,4,{"$f":"SUM(E46:R46)","v":15}]
[null,33,null,null,0,0,0,0,0,0,0,0,0,0,0,0,29,1,30]
[null,34,null,null,0,0,0,0,0,0,0,0,0,0,0,0,22,2,24]
[null,35,null,null,0,0,0,0,0,0,0,0,0,0,0,0,13,4,17]
[null,36,null,null,0,0,0,0,0,0,0,0,0,0,0,0,25,2,27]
[null,37,null,null,0,0,0,0,0,0,0,0,0,0,0,0,19,6,25]
[null,38,null,null,0,0,0,0,0,0,0,0,0,0,0,0,13,7,20]
[null,39,null,null,0,0,0,0,0,0,0,0,0,0,0,0,16,5,21]
[null,40,null,null,0,0,0,0,0,0,0,0,0,0,0,0,13,3,16]
[null,41,null,null,0,0,0,0,0,0,0,0,0,0,0,0,20,4,24]
[null,42,null,null,0,0,0,0,0,0,0,0,0,0,0,0,12,4,16]
[null,43,null,null,0,0,0,0,0,0,0,0,0,0,0,0,25,3,28]
[null,44,null,null,0,0,0,0,0,0,0,0,0,0,0,0,12,3,15]
[null,45,null,null,0,0,0,0,0,0,0,0,0,0,0,0,27,10,37]
[null,46,null,null,0,0,0,0,0,0,0,0,0,0,0,0,30,6,36]
[null,47,null,null,0,0,0,0,0,0,0,0,0,0,0,0,25,7,32]
[null,48,null,null,0,0,0,0,0,0,0,0,0,0,0,0,19,9,28]
[null,49,null,null,0,0,0,0,0,0,0,0,0,0,0,0,27,7,34]
[null,50,null,null,0,0,0,0,0,0,0,0,0,0,0,0,31,13,44]
[null,51,null,null,0,0,0,0,0,0,0,0,0,0,0,0,26,13,39]
[null,52,null,null,0,0,0,0,0,0,0,0,0,0,0,0,29,9,38]
[null,53,null,null,0,0,0,0,0,0,0,0,0,0,0,0,38,15,53]
[null,54,null,null,0,0,0,0,0,0,0,0,0,0,0,0,40,22,62]
[null,55,null,null,0,0,0,0,0,0,0,0,0,0,0,0,36,26,62]
[null,56,null,null,0,0,0,0,0,0,0,0,0,0,0,0,60,27,87]
[null,57,null,null,0,0,0,0,0,0,0,0,0,0,0,0,66,45,111]
[null,58,null,null,0,0,0,0,0,0,0,0,0,0,0,0,65,31,96]
[null,59,null,null,0,0,0,0,0,0,0,0,0,0,0,0,43,26,69]
[null,60,null,null,0,0,0,0,0,0,0,0,0,0,0,0,72,38,110]
[null,61,null,null,0,0,0,0,0,0,0,0,0,0,0,0,86,56,142]
[null,62,null,null,0,0,0,0,0,0,0,0,0,0,0,0,86,43,129]
[null,63,null,null,0,0,0,0,0,0,0,0,0,0,0,0,108,38,146]
[null,64,null,null,0,0,0,0,0,0,0,0,0,0,0,0,84,58,{"$f":"SUM(E78:R78)","v":142}]
[null,65,null,null,0,0,0,0,0,0,0,0,0,0,0,0,84,41,125]
[null,66,null,null,0,0,0,0,0,0,0,0,0,0,0,0,98,51,149]
[null,67,null,null,0,0,0,0,0,0,0,0,0,0,0,0,83,64,147]
[null,68,null,null,0,0,0,0,0,0,0,0,0,0,0,0,83,54,137]
[null,69,null,null,0,0,0,0,0,0,0,0,0,0,0,0,78,43,121]
[null,70,null,null,0,0,0,0,0,0,0,0,0,0,0,0,66,38,104]
[null,71,null,null,0,0,0,0,0,0,0,0,0,0,0,0,58,44,102]
[null,72,null,null,0,0,0,0,0,0,0,0,0,0,0,0,53,24,77]
[null,73,null,null,0,0,0,0,0,0,0,0,0,0,0,0,52,34,86]
[null,74,null,null,0,0,0,0,0,0,0,0,0,0,0,0,50,24,74]
[null,75,null,null,0,0,0,0,0,0,0,0,0,0,0,0,41,16,57]
[null,76,null,null,0,0,0,0,0,0,0,0,0,0,0,0,32,26,58]
[null,77,null,null,0,0,0,0,0,0,0,0,0,0,0,0,41,17,58]
[null,78,null,null,0,0,0,0,0,0,0,0,0,0,0,0,27,15,42]
[null,79,null,null,0,0,0,0,0,0,0,0,0,0,0,0,19,18,37]
[null,80,null,null,0,0,0,0,0,0,0,0,0,0,0,0,12,14,26]
[null,81,null,null,0,0,0,0,0,0,0,0,0,0,0,0,18,10,28]
[null,82,null,null,0,0,0,0,0,0,0,0,0,0,0,0,11,6,17]
[null,83,null,null,0,0,0,0,0,0,0,0,0,0,0,0,22,12,34]
[null,84,null,null,0,0,0,0,0,0,0,0,0,0,0,0,10,5,15]
[null,85,null,null,0,0,0,0,0,0,0,0,0,0,0,0,7,4,11]
[null,86,null,null,0,0,0,0,0,0,0,0,0,0,0,0,6,5,11]
[null,87,null,null,0,0,0,0,0,0,0,0,0,0,0,0,8,2,10]
[null,88,null,null,0,0,0,0,0,0,0,0,0,0,0,0,3,2,5]
[null,89,null,null,0,0,0,0,0,0,0,0,0,0,0,0,7,7,14]
[null,90,null,null,0,0,0,0,0,0,0,0,0,0,0,0,5,2,7]
[null,91,null,null,0,0,0,0,0,0,0,0,0,0,0,0,0,3,3]
[null,92,null,null,0,0,0,0,0,0,0,0,0,0,0,0,7,1,8]
[null,93,null,null,0,0,0,0,0,0,0,0,0,0,0,0,5,0,5]
[null,94,null,null,0,0,0,0,0,0,0,0,0,0,0,0,6,2,8]
[null,95,null,null,0,0,0,0,0,0,0,0,0,0,0,0,0,0,0]
[null,96,null,null,0,0,0,0,0,0,0,0,0,0,0,0,0,0,0]
[null,97,null,null,0,0,0,0,0,0,0,0,0,0,0,0,1,1,2]
[null,98,null,null,0,0,0,0,0,0,0,0,0,0,0,0,0,0,0]
[null,99,null,null,0,0,0,0,0,0,0,0,0,0,0,0,0,0,0]
["De","100 o mas","años y más",null,0,0,0,0,0,0,0,0,0,0,0,0,1,0,1]
["TOTAL",null,null,null,{"$f":"SUM(E14:E114)","v":0},{"$f":"SUM(F14:F114)","v":0},0,0,0,0,0,0,0,0,0,0,2346,1164,3510]
[]
["NOTA:  ESTE FORMATO ES PARA PÓLIZAS DEL SEGURO INDIVIDUAL EMITIDAS ANTES DEL 1° DE ENERO DE 1994 "]

{"sheet":"3 Grupo","index":18,"n_rows":101,"n_cols":19,"rows_kept":101,"cut":false,"hidden":false,"merged":[[11,14,11,15],[11,16,11,17],[7,0,7,18],[8,0,8,18],[10,0,10,3],[10,4,10,17],[11,0,11,3],[11,4,11,5],[11,6,11,7],[11,8,11,9],[11,10,11,11],[11,12,11,13],[6,0,6,18],[1,0,1,18],[2,0,2,18],[3,0,3,18],[4,0,4,18],[5,0,5,18]]}
[]
["3. SINIESTROS PROCEDENTES POR MUERTE EN LA OPERACIÓN DE VIDA POR TIPO DE SEGURO,"]
[" AÑOS DE ANTIGÜEDAD Y EDAD ALCANZADA"]
[]
[{"$f":"'1 Total'!B3","v":"DICIEMBRE DE 2021"}]
[]
["VIDA GRUPO"]
[]
[]
[null,null,null,null,2,3,4,5,6,7,8,9,10,11,12,13,14,15]
["EDAD  ",null,null,null,"SINIESTROS PROCEDENTES POR MUERTE DE LAS PÓLIZAS CON ANTIGÜEDAD MENOR O IGUAL A:"]
["ALCANZADA",null,null,null,"1 año",null,"2 años",null,"3 años",null,"4 años",null,"5 años",null,"6 años",null," más de 6 años",null,"TOTAL"]
[null,null,null,null,"H","M","H","M","H","M","H","M","H","M","H","M","H","M"]
[null,"0 a 15",null,null,95,58,86,29,2,0,null,null,null,null,null,null,null,null,{"$f":"SUM(E14:R14)","v":270}]
[null,16,null,null,12,6,3,5,0,1,null,null,null,null,0,0,null,null,{"$f":"SUM(E15:R15)","v":27}]
[null,17,null,null,9,11,18,10,3,0,null,null,null,null,null,null,null,null,51]
[null,18,null,null,13,8,7,1,0,1,0,1,null,null,0,1,null,null,32]
[null,19,null,null,57,43,33,9,5,1,2,0,null,null,0,29,null,null,179]
[null,20,null,null,96,52,91,48,10,1,2,0,0,0,4,45,0,0,349]
[null,21,null,null,831,332,137,62,12,3,1,0,null,null,6,96,0,0,1480]
[null,22,null,null,144,71,100,59,12,7,1,0,null,null,20,67,0,0,481]
[null,23,null,null,171,93,156,76,11,5,1,2,null,null,11,73,null,null,599]
[null,24,null,null,166,102,291,95,12,11,1,1,0,0,13,93,0,0,785]
[null,25,null,null,182,99,360,100,25,8,1,0,0,0,15,114,0,0,904]
[null,26,null,null,365,141,242,132,18,11,7,1,0,0,16,110,null,null,1043]
[null,27,null,null,323,158,259,152,26,8,1,1,0,0,25,133,0,0,1086]
[null,28,null,null,321,180,252,185,17,10,3,3,0,0,21,142,0,0,1134]
[null,29,null,null,430,301,10357,1216,21,9,9,1,2,1,35,164,0,0,12546]
[null,30,null,null,469,209,294,208,32,16,7,0,2,0,27,161,0,0,1425]
[null,31,null,null,511,212,377,198,37,21,2,6,4,2,43,163,0,0,1576]
[null,32,null,null,491,217,420,228,34,11,10,2,2,0,30,156,0,0,1601]
[null,33,null,null,586,289,432,247,38,13,10,4,1,2,36,181,0,0,1839]
[null,34,null,null,502,273,362,229,33,13,14,5,7,4,48,179,0,0,1669]
[null,35,null,null,821,380,485,245,34,14,7,2,5,1,38,206,1,0,2239]
[null,36,null,null,677,345,494,333,44,17,7,5,8,2,21,227,1,0,2181]
[null,37,null,null,970,353,635,329,45,23,10,4,10,1,45,265,0,0,2690]
[null,38,null,null,856,380,699,344,67,18,12,6,6,1,53,262,1,0,2705]
[null,39,null,null,848,408,591,355,51,21,20,4,6,1,55,261,3,0,2624]
[null,40,null,null,855,415,632,315,55,23,18,3,10,3,57,248,0,0,2634]
[null,41,null,null,1110,873,1932,1675,51,26,12,8,7,3,46,299,0,0,6042]
[null,42,null,null,972,500,694,350,60,35,10,4,13,4,55,355,1,0,3053]
[null,43,null,null,14485,3802,703,358,69,33,12,4,7,5,59,333,0,1,19871]
[null,44,null,null,1384,607,918,419,84,39,14,3,16,4,78,416,2,0,3984]
[null,45,null,null,1344,622,844,429,121,39,21,5,8,5,94,410,2,0,3944]
[null,46,null,null,1442,682,969,470,114,54,27,6,18,8,104,540,0,0,4434]
[null,47,null,null,1656,778,1162,516,115,63,31,12,22,7,122,517,1,0,5002]
[null,48,null,null,1671,811,1002,556,125,34,23,15,10,6,99,596,0,2,4950]
[null,49,null,null,1695,874,1118,563,116,59,20,20,19,5,115,605,1,1,5211]
[null,50,null,null,1781,902,1229,543,121,71,24,13,12,4,115,574,1,1,5391]
[null,51,null,null,2097,913,2106,618,169,74,34,18,31,8,143,614,0,1,6826]
[null,52,null,null,2047,1016,1193,601,154,62,39,13,28,9,123,636,1,0,5922]
[null,53,null,null,2222,1065,1331,618,164,77,43,15,33,1,133,674,1,0,6377]
[null,54,null,null,2254,1100,1335,637,165,70,43,18,23,10,149,793,0,0,6597]
[null,55,null,null,2317,1244,1410,658,168,84,46,23,35,9,144,810,2,2,6952]
[null,56,null,null,2444,1295,1449,691,199,83,55,7,27,16,174,947,1,1,7389]
[null,57,null,null,2754,1449,1660,802,176,135,42,25,26,12,157,906,2,1,8147]
[null,58,null,null,2868,1413,1687,799,233,93,62,19,30,8,142,972,1,0,8327]
[null,59,null,null,2767,1616,1659,837,213,125,46,29,30,10,197,961,1,1,8492]
[null,60,null,null,3131,1516,1746,801,242,123,52,23,30,12,170,977,1,2,8826]
[null,61,null,null,3987,1792,1806,847,262,148,57,30,38,9,184,1019,2,2,10183]
[null,62,null,null,3496,1763,1744,820,260,147,53,28,27,13,160,1029,1,6,9547]
[null,63,null,null,3348,1481,1648,676,241,127,44,35,32,13,134,988,6,1,8774]
[null,64,null,null,3780,1607,1792,797,250,136,77,32,49,16,146,957,2,3,9644]
[null,65,null,null,3651,1705,1740,810,274,152,100,40,67,7,172,908,1,1,9628]
[null,66,null,null,3878,1698,1805,741,289,159,89,41,53,10,134,867,1,1,9766]
[null,67,null,null,3949,1545,1815,701,305,164,112,32,53,22,147,891,0,2,9738]
[null,68,null,null,3712,1584,1653,725,271,137,93,41,50,18,144,886,5,3,9322]
[null,69,null,null,3606,1418,1603,664,292,143,110,39,46,32,146,794,3,3,8899]
[null,70,null,null,3528,1364,1548,603,304,127,95,27,45,25,124,612,3,5,8410]
[null,71,null,null,3357,1257,1327,597,295,142,113,41,33,18,104,450,3,5,7742]
[null,72,null,null,3138,1084,1318,475,298,112,99,28,47,14,73,364,4,2,7056]
[null,73,null,null,2937,1170,1189,487,223,110,83,28,34,23,103,352,5,1,6745]
[null,74,null,null,2744,1052,1043,378,220,79,74,28,29,8,93,324,6,4,6082]
[null,75,null,null,2500,951,1021,375,162,48,46,12,16,11,57,286,4,3,5492]
[null,76,null,null,2400,877,854,359,106,55,8,6,8,1,43,299,6,8,5030]
[null,77,null,null,2009,836,726,265,110,45,9,6,1,0,49,214,3,2,4275]
[null,78,null,null,1934,761,657,223,89,33,12,7,0,0,36,206,3,2,3963]
[null,79,null,null,1718,683,629,198,54,27,5,1,0,4,24,199,4,4,{"$f":"SUM(E78:R78)","v":3550}]
[null,80,null,null,1501,627,513,185,46,17,6,1,1,0,29,147,2,2,3077]
[null,81,null,null,1375,579,475,146,54,22,5,1,2,0,10,193,3,1,2866]
[null,82,null,null,1173,485,430,147,56,19,5,0,0,1,9,131,4,2,2462]
[null,83,null,null,985,476,402,146,45,24,5,3,3,1,11,122,2,1,2226]
[null,84,null,null,841,361,367,144,39,19,2,0,1,2,6,114,1,0,1897]
[null,85,null,null,803,307,339,126,43,18,1,0,2,0,10,110,3,1,1763]
[null,86,null,null,779,289,296,109,25,16,1,1,0,1,3,79,0,1,1600]
[null,87,null,null,618,241,287,98,26,16,2,0,0,0,6,79,1,1,1375]
[null,88,null,null,464,187,232,95,25,21,0,0,2,0,2,62,1,2,1093]
[null,89,null,null,432,189,206,51,30,3,0,1,0,0,1,73,1,1,988]
[null,90,null,null,390,158,178,49,15,13,1,0,null,null,4,53,1,0,862]
[null,91,null,null,318,171,163,66,29,13,1,1,1,0,5,64,0,2,834]
[null,92,null,null,250,120,130,48,14,6,1,0,null,null,1,31,1,1,603]
[null,93,null,null,180,96,120,33,16,3,1,0,0,1,2,20,1,0,473]
[null,94,null,null,166,92,82,35,10,15,1,0,null,null,0,25,1,1,428]
[null,95,null,null,148,70,53,36,9,7,1,2,null,null,0,10,0,0,336]
[null,96,null,null,128,48,59,23,10,8,null,null,null,null,0,17,0,0,293]
[null,97,null,null,67,43,37,12,4,0,1,0,null,null,2,14,0,0,180]
[null,98,null,null,81,34,33,12,5,4,null,null,null,null,0,4,0,0,173]
[null,99,null,null,66,39,26,9,5,2,null,null,null,null,0,2,0,0,149]
["De","100 o mas","años y más",null,103,46,123,16,15,5,null,null,null,null,0,1,0,0,309]
[null,null,"TOTAL",null,{"$f":"SUM(E14:E99)","v":133782},{"$f":"SUM(F14:F99)","v":57500},74429,30478,8329,3987,2115,843,1128,414,5212,29307,108,87,{"$f":"SUM(E100:R100)","v":347719}]
["CIFRAS EN PESOS, ESTIMADAS AL 100%."]

{"sheet":"3A (G)","index":19,"n_rows":102,"n_cols":19,"rows_kept":102,"cut":false,"hidden":true,"merged":[[11,14,11,15],[11,16,11,17],[7,0,7,18],[8,0,8,18],[10,0,10,3],[10,4,10,17],[11,0,11,3],[11,4,11,5],[11,6,11,7],[11,8,11,9],[11,10,11,11],[11,12,11,13],[6,0,6,18],[1,0,1,18],[2,0,2,18],[3,0,3,18],[4,0,4,18],[5,0,5,18]]}
[]
["3 a. SINIESTROS PROCEDENTES POR MUERTE EN LA OPERACIÓN DE VIDA POR TIPO DE SEGURO,"]
[" AÑOS DE ANTIGÜEDAD Y EDAD ALCANZADA"]
[]
["DICIEMBRE DE 2017"]
[]
["VIDA GRUPO"]
[]
[]
[null,null,null,null,2,3,4,5,6,7,8,9,10,11,12,13,14,15]
["EDAD  ",null,null,null,"SINIESTROS PROCEDENTES POR MUERTE DE LAS PÓLIZAS CON ANTIGÜEDAD MENOR O IGUAL A:"]
["ALCANZADA",null,null,null,"1 año",null,"2 años",null,"3 años",null,"4 años",null,"5 años",null,"6 años",null," más de 6 años",null,"TOTAL"]
[null,null,null,null,"H","M","H","M","H","M","H","M","H","M","H","M","H","M"]
[null,"0 a 15",null,null,30,15,27,17,1,2,0,0,0,0,0,0,0,0,{"$f":"SUM(E14:R14)","v":92}]
[null,16,null,null,6,2,10,0,0,0,0,0,0,0,0,0,0,0,18]
[null,17,null,null,4,3,4,0,3,0,0,0,0,0,0,0,0,0,14]
[null,18,null,null,4,1,6,3,0,1,0,0,0,0,0,0,0,0,15]
[null,19,null,null,37,10,53,9,3,0,0,0,1,0,0,0,0,0,113]
[null,20,null,null,58,17,85,19,3,0,0,0,0,0,0,0,0,0,182]
[null,21,null,null,49,15,105,37,5,1,0,0,0,0,0,0,0,0,212]
[null,22,null,null,72,31,125,42,7,1,1,0,0,0,0,0,0,0,279]
[null,23,null,null,91,33,130,56,12,4,0,0,0,0,0,0,0,0,326]
[null,24,null,null,108,42,154,54,8,3,1,0,1,0,0,0,0,0,371]
[null,25,null,null,125,60,173,70,15,11,1,0,0,0,0,0,0,0,455]
[null,26,null,null,163,78,198,87,26,8,1,0,2,0,1,0,0,0,564]
[null,27,null,null,160,90,178,92,26,5,1,0,0,1,0,0,0,0,553]
[null,28,null,null,187,105,208,5847,25,4,3,1,3,0,1,0,1,1,6386]
[null,29,null,null,210,120,265,84,17,4,7,0,4,1,0,1,2,2,717]
[null,30,null,null,406,158,731,107,17,9,5,5,4,1,1,0,2,1,1447]
[null,31,null,null,283,171,292,102,25,9,8,2,4,1,2,0,0,0,899]
[null,32,null,null,268,169,239,122,28,8,7,1,4,0,1,0,1,0,{"$f":"SUM(E31:R31)","v":848}]
[null,33,null,null,321,164,287,131,25,10,6,2,2,1,0,0,1,0,950]
[null,34,null,null,330,190,337,133,29,17,10,2,5,1,3,0,1,0,1058]
[null,35,null,null,357,12393,335,131,34,11,5,5,6,2,0,0,4,1,13284]
[null,36,null,null,407,204,375,164,28,19,6,2,3,0,1,0,3,1,1213]
[null,37,null,null,462,280,412,149,34,10,10,3,5,1,2,0,2,0,1370]
[null,38,null,null,457,235,407,179,35,8,13,3,6,2,2,0,3,1,1351]
[null,39,null,null,504,226,425,206,56,12,5,1,4,1,2,1,2,3,1448]
[null,40,null,null,699,2373,532,179,28,29,11,6,0,3,0,0,5,1,3866]
[null,41,null,null,505,259,732,399,49,15,15,6,4,3,1,1,6,0,1995]
[null,42,null,null,568,830,535,194,42,28,9,5,6,1,2,0,3,0,2223]
[null,43,null,null,2332,500,928,218,37,23,10,9,7,1,3,0,9,3,4080]
[null,44,null,null,646,262,624,272,49,36,14,0,5,0,0,0,1,2,1911]
[null,45,null,null,696,332,589,279,62,27,14,5,5,1,0,1,1,3,2015]
[null,46,null,null,886,373,657,451,78,31,22,10,8,1,3,0,4,1,2525]
[null,47,null,null,879,345,770,301,68,38,23,8,8,2,0,0,7,3,2452]
[null,48,null,null,921,370,791,306,88,43,21,9,10,1,6,0,17,3,2586]
[null,49,null,null,960,401,796,326,79,35,19,15,6,3,1,0,8,2,2651]
[null,50,null,null,1290,3128,1210,511,122,56,22,8,6,6,8,1,4,3,6375]
[null,51,null,null,1145,407,825,369,79,43,24,4,10,5,7,1,6,4,2929]
[null,52,null,null,1272,457,930,362,91,54,26,18,8,5,1,0,4,2,3230]
[null,53,null,null,1211,466,876,438,108,61,31,14,12,2,2,1,8,4,3234]
[null,54,null,null,1243,513,1003,434,106,50,38,11,14,5,2,5,8,6,3438]
[null,55,null,null,1403,640,1017,475,102,62,36,17,18,5,2,2,9,3,3791]
[null,56,null,null,1490,659,1196,519,145,67,37,8,12,7,6,5,12,4,4167]
[null,57,null,null,1495,654,1086,479,120,70,33,15,21,8,3,3,8,5,4000]
[null,58,null,null,1507,701,1111,528,132,65,38,17,22,15,6,1,9,2,4154]
[null,59,null,null,1689,707,1238,554,148,73,42,10,24,11,5,2,10,6,4519]
[null,60,null,null,3363,723,1575,577,197,85,72,16,42,8,10,4,18,6,6696]
[null,61,null,null,1732,775,1182,597,126,76,44,21,27,6,4,2,11,5,4608]
[null,62,null,null,1594,883,1249,584,137,73,38,25,14,3,6,5,22,5,4638]
[null,63,null,null,5984,1155,1317,549,212,78,49,9,22,6,11,1,19,6,9418]
[null,64,null,null,1789,697,1317,627,200,90,56,23,19,10,2,1,21,8,{"$f":"SUM(E63:R63)","v":4860}]
[null,65,null,null,1885,641,1401,554,192,82,61,26,23,16,4,3,13,4,4905]
[null,66,null,null,1758,680,1373,621,206,79,48,21,18,11,8,3,18,5,4849]
[null,67,null,null,1714,603,1452,559,211,77,63,16,21,6,3,1,15,3,4744]
[null,68,null,null,1666,618,1309,549,191,84,49,19,19,8,5,3,18,5,4543]
[null,69,null,null,1616,668,1371,521,156,87,38,20,20,6,2,2,15,5,4527]
[null,70,null,null,1666,508,1310,499,172,73,66,24,11,12,8,5,7,6,4367]
[null,71,null,null,1460,531,1212,439,169,68,47,22,29,8,4,2,16,2,4009]
[null,72,null,null,1398,500,1104,483,167,67,51,19,15,13,4,1,6,9,3837]
[null,73,null,null,1263,510,1040,454,130,39,56,18,31,13,7,3,10,3,3577]
[null,74,null,null,1223,401,911,373,105,47,23,19,26,6,5,3,9,5,3156]
[null,75,null,null,1108,386,873,328,99,32,25,20,5,8,4,3,2,3,2896]
[null,76,null,null,961,280,751,283,77,31,6,2,5,2,1,0,11,3,2413]
[null,77,null,null,799,285,694,236,71,24,9,5,1,2,1,0,6,2,2135]
[null,78,null,null,787,213,602,229,63,22,8,5,2,1,0,1,6,1,1940]
[null,79,null,null,641,229,452,209,34,13,5,1,1,0,2,0,3,4,1594]
[null,80,null,null,595,211,527,206,42,12,2,2,1,1,1,0,5,1,1606]
[null,81,null,null,490,178,428,172,23,9,5,2,770,0,0,0,3,2,2082]
[null,82,null,null,499,176,375,153,29,12,3,1,1245,1,1,0,5,2,2502]
[null,83,null,null,401,142,319,159,35,13,5,4,2,0,1,0,4,1,1086]
[null,84,null,null,410,144,295,115,14,4,2,2,1,3,0,1,5,2,998]
[null,85,null,null,407,115,269,108,18,8,3,3,1,0,0,0,4,2,938]
[null,86,null,null,272,115,230,114,20,6,0,1,1,0,1,0,2,1,763]
[null,87,null,null,249,92,157,96,14,11,0,1,0,0,1,0,6,0,627]
[null,88,null,null,250,98,161,82,12,8,2,0,2,0,0,1,2,2,620]
[null,89,null,null,197,70,149,78,16,6,0,2,0,0,0,0,2,1,521]
[null,90,null,null,205,95,114,61,14,2,0,0,0,0,2,0,5,1,499]
[null,91,null,null,149,59,111,52,11,0,1,1,0,4,0,1,4,2,395]
[null,92,null,null,122,48,96,48,5,4,1,0,1,1,0,1,3,0,330]
[null,93,null,null,118,46,83,55,8,3,0,1,0,2,0,0,4,0,320]
[null,94,null,null,80,27,84,35,9,7,1,1,0,0,0,0,2,0,246]
[null,95,null,null,66,20,59,40,1,2,1,0,0,0,2,0,2,0,193]
[null,96,null,null,52,26,37,28,0,2,0,0,0,0,0,0,3,0,148]
[null,97,null,null,37,14,34,19,3,2,1,0,0,0,2,1,0,1,114]
[null,98,null,null,37,23,29,26,6,0,1,0,3180,0,0,0,0,0,3302]
[null,99,null,null,18,8,19,8,4,0,0,0,4680,0,0,0,0,0,4737]
["De","100 o mas","años y más",null,20,4,35,18,2,3,0,0,0,16753,0,1,3,0,16839]
["TOTAL",null,null,null,{"$f":"SUM(E14:E99)","v":67017},{"$f":"SUM(F14:F99)","v":42186},49113,26379,5396,2404,1417,574,10495,17007,176,74,471,175,{"$f":"SUM(E100:R100)","v":222884}]
[]
["NOTA:  ESTE FORMATO ES PARA PÓLIZAS DEL SEGURO INDIVIDUAL EMITIDAS A PARTIR DEL 1° DE ENERO DE 1994."]

{"sheet":"3B (G)","index":20,"n_rows":110,"n_cols":21,"rows_kept":110,"cut":false,"hidden":true,"merged":[[10,0,10,3],[10,4,10,17],[11,0,11,3],[11,4,11,5],[11,6,11,7],[11,8,11,9],[11,10,11,11],[11,12,11,13],[11,14,11,15],[11,16,11,17],[8,0,8,18],[1,0,1,18],[2,0,2,18],[4,0,4,18],[6,0,6,18],[7,0,7,18]]}
[]
["3 b. SINIESTROS PROCEDENTES POR MUERTE EN LA OPERACIÓN DE VIDA POR TIPO DE SEGURO,"]
[" AÑOS DE ANTIGÜEDAD Y EDAD ALCANZADA"]
[]
["DICIEMBRE DE 2017"]
[]
[]
["VIDA INDIVIDUAL "]
[]
[null,null,null,null,2,3,4,5,6,7,8,9,10,11,12,13,14,15]
["EDAD  ",null,null,null,"SINIESTROS PROCEDENTES POR MUERTE DE LAS PÓLIZAS CON ANTIGÜEDAD MENOR O IGUAL A:"]
["ALCANZADA",null,null,null,"1 año",null,"2 años",null,"3 años",null,"4 años",null,"5 años",null,"6 años",null," más de 6 años",null,"TOTAL"]
[null,null,null,null,"H","M","H","M","H","M","H","M","H","M","H","M","H","M"]
[null,"0 a 15",null,null,0,0,0,0,0,0,0,0,0,0,0,0,47,16,{"$f":"SUM(E14:R14)","v":63}]
[null,16,null,null,0,0,0,0,0,0,0,0,0,0,0,0,2,2,4]
[null,17,null,null,0,0,0,0,0,0,0,0,0,0,0,0,7,1,8]
[null,18,null,null,0,0,0,0,0,0,0,0,0,0,0,0,325,2,327]
[null,19,null,null,0,0,0,0,0,0,0,0,0,0,0,0,40,4,44]
[null,20,null,null,0,0,0,0,0,0,0,0,0,0,0,0,29,8,37]
[null,21,null,null,0,0,0,0,0,0,0,0,0,0,0,0,61,6,67]
[null,22,null,null,0,0,0,0,0,0,0,0,0,0,0,0,85,12,97]
[null,23,null,null,0,0,0,0,0,0,0,0,0,0,0,0,183,13,196]
[null,24,null,null,0,0,0,0,0,0,0,0,0,0,0,0,72,17,89]
[null,25,null,null,0,0,0,0,0,0,0,0,0,0,0,0,105,37,142]
[null,26,null,null,0,0,0,0,0,0,0,0,0,0,0,0,114,28,142]
[null,27,null,null,0,0,0,0,0,0,0,0,0,0,0,0,1329,49,1378]
[null,28,null,null,0,0,0,0,0,0,0,0,0,0,0,0,158,52,210]
[null,29,null,null,0,0,0,0,0,0,0,0,0,0,0,0,192,69,261]
[null,30,null,null,0,0,0,0,0,0,0,0,0,0,0,0,209,63,272]
[null,31,null,null,0,0,0,0,0,0,0,0,0,0,0,0,165,65,230]
[null,32,null,null,0,0,0,0,0,0,0,0,0,0,0,0,161,91,{"$f":"SUM(E31:R31)","v":252}]
[null,33,null,null,0,0,0,0,0,0,0,0,0,0,0,0,184,87,271]
[null,34,null,null,0,0,0,0,0,0,0,0,0,0,0,0,192,78,270]
[null,35,null,null,0,0,0,0,0,0,0,0,0,0,0,0,370,79,449]
[null,36,null,null,0,0,0,0,0,0,0,0,0,0,0,0,249,101,350]
[null,37,null,null,0,0,0,0,0,0,0,0,0,0,0,0,234,91,325]
[null,38,null,null,0,0,0,0,0,0,0,0,0,0,0,0,237,101,338]
[null,39,null,null,0,0,0,0,0,0,0,0,0,0,0,0,223,108,331]
[null,40,null,null,0,0,0,0,0,0,0,0,0,0,0,0,230,92,322]
[null,41,null,null,0,0,0,0,0,0,0,0,0,0,0,0,291,110,401]
[null,42,null,null,0,0,0,0,0,0,0,0,0,0,0,0,294,111,405]
[null,43,null,null,0,0,0,0,0,0,0,0,0,0,0,0,309,109,418]
[null,44,null,null,0,0,0,0,0,0,0,0,0,0,0,0,327,107,434]
[null,45,null,null,0,0,0,0,0,0,0,0,0,0,0,0,357,135,492]
[null,46,null,null,0,0,0,0,0,0,0,0,0,0,0,0,433,143,576]
[null,47,null,null,0,0,0,0,0,0,0,0,0,0,0,0,425,135,560]
[null,48,null,null,0,0,0,0,0,0,0,0,0,0,0,0,431,152,583]
[null,49,null,null,0,0,0,0,0,0,0,0,0,0,0,0,596,171,767]
[null,50,null,null,0,0,0,0,0,0,0,0,0,0,0,0,443,161,604]
[null,51,null,null,0,0,0,0,0,0,0,0,0,0,0,0,495,157,652]
[null,52,null,null,0,0,0,0,0,0,0,0,0,0,0,0,555,188,743]
[null,53,null,null,0,0,0,0,0,0,0,0,0,0,0,0,610,204,814]
[null,54,null,null,0,0,0,0,0,0,0,0,0,0,0,0,606,186,792]
[null,55,null,null,0,0,0,0,0,0,0,0,0,0,0,0,677,208,885]
[null,56,null,null,0,0,0,0,0,0,0,0,0,0,0,0,654,187,841]
[null,57,null,null,0,0,0,0,0,0,0,0,0,0,0,0,693,237,930]
[null,58,null,null,0,0,0,0,0,0,0,0,0,0,0,0,661,199,860]
[null,59,null,null,0,0,0,0,0,0,0,0,0,0,0,0,779,223,1002]
[null,60,null,null,0,0,0,0,0,0,0,0,0,0,0,0,715,218,933]
[null,61,null,null,0,0,0,0,0,0,0,0,0,0,0,0,757,232,989]
[null,62,null,null,0,0,0,0,0,0,0,0,0,0,0,0,1375,240,1615]
[null,63,null,null,0,0,0,0,0,0,0,0,0,0,0,0,722,188,910]
[null,64,null,null,0,0,0,0,0,0,0,0,0,0,0,0,759,187,{"$f":"SUM(E63:R63)","v":946}]
[null,65,null,null,0,0,0,0,0,0,0,0,0,0,0,0,788,182,970]
[null,66,null,null,0,0,0,0,0,0,0,0,0,0,0,0,697,185,882]
[null,67,null,null,0,0,0,0,0,0,0,0,0,0,0,0,690,204,894]
[null,68,null,null,0,0,0,0,0,0,0,0,0,0,0,0,721,166,887]
[null,69,null,null,0,0,0,0,0,0,0,0,0,0,0,0,664,140,804]
[null,70,null,null,0,0,0,0,0,0,0,0,0,0,0,0,594,149,743]
[null,71,null,null,0,0,0,0,0,0,0,0,0,0,0,0,543,130,673]
[null,72,null,null,0,0,0,0,0,0,0,0,0,0,0,0,485,158,643]
[null,73,null,null,0,0,0,0,0,0,0,0,0,0,0,0,405,106,511]
[null,74,null,null,0,0,0,0,0,0,0,0,0,0,0,0,420,122,542]
[null,75,null,null,0,0,0,0,0,0,0,0,0,0,0,0,384,95,479]
[null,76,null,null,0,0,0,0,0,0,0,0,0,0,0,0,305,84,389]
[null,77,null,null,0,0,0,0,0,0,0,0,0,0,0,0,293,91,384]
[null,78,null,null,0,0,0,0,0,0,0,0,0,0,0,0,217,70,287]
[null,79,null,null,0,0,0,0,0,0,0,0,0,0,0,0,196,60,256]
[null,80,null,null,0,0,0,0,0,0,0,0,0,0,0,0,171,71,242]
[null,81,null,null,0,0,0,0,0,0,0,0,0,0,0,0,135,60,195]
[null,82,null,null,0,0,0,0,0,0,0,0,0,0,0,0,119,54,173]
[null,83,null,null,0,0,0,0,0,0,0,0,0,0,0,0,108,40,148]
[null,84,null,null,0,0,0,0,0,0,0,0,0,0,0,0,94,44,138]
[null,85,null,null,0,0,0,0,0,0,0,0,0,0,0,0,80,38,118]
[null,86,null,null,0,0,0,0,0,0,0,0,0,0,0,0,71,41,112]
[null,87,null,null,0,0,0,0,0,0,0,0,0,0,0,0,51,17,68]
[null,88,null,null,0,0,0,0,0,0,0,0,0,0,0,0,56,20,76]
[null,89,null,null,0,0,0,0,0,0,0,0,0,0,0,0,46,35,81]
[null,90,null,null,0,0,0,0,0,0,0,0,0,0,0,0,45,19,64]
[null,91,null,null,0,0,0,0,0,0,0,0,0,0,0,0,33,15,48]
[null,92,null,null,0,0,0,0,0,0,0,0,0,0,0,0,19,16,35]
[null,93,null,null,0,0,0,0,0,0,0,0,0,0,0,0,24,9,33]
[null,94,null,null,0,0,0,0,0,0,0,0,0,0,0,0,15,12,27]
[null,95,null,null,0,0,0,0,0,0,0,0,0,0,0,0,21,6,27]
[null,96,null,null,0,0,0,0,0,0,0,0,0,0,0,0,16,1,17]
[null,97,null,null,0,0,0,0,0,0,0,0,0,0,0,0,13,3,16]
[null,98,null,null,0,0,0,0,0,0,0,0,0,0,0,0,4,6,10]
[null,99,null,null,0,0,0,0,0,0,0,0,0,0,0,0,1,2,3]
["De","100 o mas","años y más",null,0,0,0,0,0,0,0,0,0,0,0,0,54,8,62]
["TOTAL",null,null,null,{"$f":"SUM(E14:E99)","v":0},{"$f":"SUM(F14:F99)","v":0},0,0,0,0,0,0,0,0,0,0,27745,7919,35664]
[]
["NOTA:  ESTE FORMATO ES PARA PÓLIZAS DEL SEGURO INDIVIDUAL EMITIDAS ANTES DEL 1° DE ENERO DE 1994 "]
[]
[]
[]
[]
[]
[]
[]
[null,null,null,null,null,null,null,null,null,null,null,null,null,null,null,null,null,null,null,null,"b"]

{"sheet":"4Total Ind EPP","index":21,"n_rows":68,"n_cols":5,"rows_kept":68,"cut":false,"hidden":false,"merged":[[13,1,13,2],[13,3,13,4],[13,6,13,7],[13,8,13,9],[2,0,2,4],[3,0,3,4],[5,0,5,4],[6,0,6,4],[7,0,7,4],[9,0,9,4]]}
[]
[]
["4. INVALIDEZ TOTAL Y PERMANENTE EN LA OPERACION DE VIDA  POR TIPO"]
[" DE SEGURO CONTRATADO, EDAD ALCANZADA Y PERIODOS DE ESPERA"]
[]
[{"$f":"'1 Total'!B3","v":"DICIEMBRE DE 2021"}]
[]
["VIDA INDIVIDUAL "]
[]
["EXENCION DE PAGO DE PRIMAS POR INVALIDEZ"]
[]
[null,null,"TOTAL"]
[]
["EDAD","PÓLIZAS O CERTIFICADOS AL FINAL DEL EJERCICIO",null,"INVALIDADOS EN EL EJERCICIO"]
["ALCANZADA","Hombres","Mujeres","Hombres","Mujeres"]
[" Hasta15 años",{"$f":"'4VI 4_1 EPP.3'!B16+'4VI 4_1 EPP.6'!B16+'4VI 4_1 EPP.9'!B16","v":6237},{"$f":"'4VI 4_1 EPP.3'!C16+'4VI 4_1 EPP.6'!C16+'4VI 4_1 EPP.9'!C16","v":6030},{"$f":"'4VI 4_1 EPP.3'!D16+'4VI 4_1 EPP.6'!D16+'4VI 4_1 EPP.9'!D16","v":4},{"$f":"'4VI 4_1 EPP.3'!E16+'4VI 4_1 EPP.6'!E16+'4VI 4_1 EPP.9'!E16","v":0}]
["16",{"$f":"'4VI 4_1 EPP.3'!B17+'4VI 4_1 EPP.6'!B17+'4VI 4_1 EPP.9'!B17","v":809},{"$f":"'4VI 4_1 EPP.3'!C17+'4VI 4_1 EPP.6'!C17+'4VI 4_1 EPP.9'!C17","v":744},{"$f":"'4VI 4_1 EPP.3'!D17+'4VI 4_1 EPP.6'!D17+'4VI 4_1 EPP.9'!D17","v":0},{"$f":"'4VI 4_1 EPP.3'!E17+'4VI 4_1 EPP.6'!E17+'4VI 4_1 EPP.9'!E17","v":0}]
["17",{"$f":"'4VI 4_1 EPP.3'!B18+'4VI 4_1 EPP.6'!B18+'4VI 4_1 EPP.9'!B18","v":817},{"$f":"'4VI 4_1 EPP.3'!C18+'4VI 4_1 EPP.6'!C18+'4VI 4_1 EPP.9'!C18","v":829},{"$f":"'4VI 4_1 EPP.3'!D18+'4VI 4_1 EPP.6'!D18+'4VI 4_1 EPP.9'!D18","v":0},{"$f":"'4VI 4_1 EPP.3'!E18+'4VI 4_1 EPP.6'!E18+'4VI 4_1 EPP.9'!E18","v":0}]
["18",{"$f":"'4VI 4_1 EPP.3'!B19+'4VI 4_1 EPP.6'!B19+'4VI 4_1 EPP.9'!B19","v":864},{"$f":"'4VI 4_1 EPP.3'!C19+'4VI 4_1 EPP.6'!C19+'4VI 4_1 EPP.9'!C19","v":845},{"$f":"'4VI 4_1 EPP.3'!D19+'4VI 4_1 EPP.6'!D19+'4VI 4_1 EPP.9'!D19","v":0},{"$f":"'4VI 4_1 EPP.3'!E19+'4VI 4_1 EPP.6'!E19+'4VI 4_1 EPP.9'!E19","v":0}]
["19",{"$f":"'4VI 4_1 EPP.3'!B20+'4VI 4_1 EPP.6'!B20+'4VI 4_1 EPP.9'!B20","v":1128},{"$f":"'4VI 4_1 EPP.3'!C20+'4VI 4_1 EPP.6'!C20+'4VI 4_1 EPP.9'!C20","v":987},{"$f":"'4VI 4_1 EPP.3'!D20+'4VI 4_1 EPP.6'!D20+'4VI 4_1 EPP.9'!D20","v":0},{"$f":"'4VI 4_1 EPP.3'!E20+'4VI 4_1 EPP.6'!E20+'4VI 4_1 EPP.9'!E20","v":0}]
["20",{"$f":"'4VI 4_1 EPP.3'!B21+'4VI 4_1 EPP.6'!B21+'4VI 4_1 EPP.9'!B21","v":2260},{"$f":"'4VI 4_1 EPP.3'!C21+'4VI 4_1 EPP.6'!C21+'4VI 4_1 EPP.9'!C21","v":1635},{"$f":"'4VI 4_1 EPP.3'!D21+'4VI 4_1 EPP.6'!D21+'4VI 4_1 EPP.9'!D21","v":0},{"$f":"'4VI 4_1 EPP.3'!E21+'4VI 4_1 EPP.6'!E21+'4VI 4_1 EPP.9'!E21","v":0}]
["21",{"$f":"'4VI 4_1 EPP.3'!B22+'4VI 4_1 EPP.6'!B22+'4VI 4_1 EPP.9'!B22","v":3499},{"$f":"'4VI 4_1 EPP.3'!C22+'4VI 4_1 EPP.6'!C22+'4VI 4_1 EPP.9'!C22","v":2382},{"$f":"'4VI 4_1 EPP.3'!D22+'4VI 4_1 EPP.6'!D22+'4VI 4_1 EPP.9'!D22","v":0},{"$f":"'4VI 4_1 EPP.3'!E22+'4VI 4_1 EPP.6'!E22+'4VI 4_1 EPP.9'!E22","v":0}]
["22",{"$f":"'4VI 4_1 EPP.3'!B23+'4VI 4_1 EPP.6'!B23+'4VI 4_1 EPP.9'!B23","v":4364},{"$f":"'4VI 4_1 EPP.3'!C23+'4VI 4_1 EPP.6'!C23+'4VI 4_1 EPP.9'!C23","v":3237},{"$f":"'4VI 4_1 EPP.3'!D23+'4VI 4_1 EPP.6'!D23+'4VI 4_1 EPP.9'!D23","v":0},{"$f":"'4VI 4_1 EPP.3'!E23+'4VI 4_1 EPP.6'!E23+'4VI 4_1 EPP.9'!E23","v":0}]
["23",{"$f":"'4VI 4_1 EPP.3'!B24+'4VI 4_1 EPP.6'!B24+'4VI 4_1 EPP.9'!B24","v":5571},{"$f":"'4VI 4_1 EPP.3'!C24+'4VI 4_1 EPP.6'!C24+'4VI 4_1 EPP.9'!C24","v":4171},{"$f":"'4VI 4_1 EPP.3'!D24+'4VI 4_1 EPP.6'!D24+'4VI 4_1 EPP.9'!D24","v":2},{"$f":"'4VI 4_1 EPP.3'!E24+'4VI 4_1 EPP.6'!E24+'4VI 4_1 EPP.9'!E24","v":0}]
["24",{"$f":"'4VI 4_1 EPP.3'!B25+'4VI 4_1 EPP.6'!B25+'4VI 4_1 EPP.9'!B25","v":6908},{"$f":"'4VI 4_1 EPP.3'!C25+'4VI 4_1 EPP.6'!C25+'4VI 4_1 EPP.9'!C25","v":6475},{"$f":"'4VI 4_1 EPP.3'!D25+'4VI 4_1 EPP.6'!D25+'4VI 4_1 EPP.9'!D25","v":0},{"$f":"'4VI 4_1 EPP.3'!E25+'4VI 4_1 EPP.6'!E25+'4VI 4_1 EPP.9'!E25","v":4}]
["25",{"$f":"'4VI 4_1 EPP.3'!B26+'4VI 4_1 EPP.6'!B26+'4VI 4_1 EPP.9'!B26","v":9009},{"$f":"'4VI 4_1 EPP.3'!C26+'4VI 4_1 EPP.6'!C26+'4VI 4_1 EPP.9'!C26","v":9101},{"$f":"'4VI 4_1 EPP.3'!D26+'4VI 4_1 EPP.6'!D26+'4VI 4_1 EPP.9'!D26","v":0},{"$f":"'4VI 4_1 EPP.3'!E26+'4VI 4_1 EPP.6'!E26+'4VI 4_1 EPP.9'!E26","v":0}]
["26",{"$f":"'4VI 4_1 EPP.3'!B27+'4VI 4_1 EPP.6'!B27+'4VI 4_1 EPP.9'!B27","v":11502},{"$f":"'4VI 4_1 EPP.3'!C27+'4VI 4_1 EPP.6'!C27+'4VI 4_1 EPP.9'!C27","v":13321},{"$f":"'4VI 4_1 EPP.3'!D27+'4VI 4_1 EPP.6'!D27+'4VI 4_1 EPP.9'!D27","v":0},{"$f":"'4VI 4_1 EPP.3'!E27+'4VI 4_1 EPP.6'!E27+'4VI 4_1 EPP.9'!E27","v":0}]
["27",{"$f":"'4VI 4_1 EPP.3'!B28+'4VI 4_1 EPP.6'!B28+'4VI 4_1 EPP.9'!B28","v":14052},{"$f":"'4VI 4_1 EPP.3'!C28+'4VI 4_1 EPP.6'!C28+'4VI 4_1 EPP.9'!C28","v":18005},{"$f":"'4VI 4_1 EPP.3'!D28+'4VI 4_1 EPP.6'!D28+'4VI 4_1 EPP.9'!D28","v":4},{"$f":"'4VI 4_1 EPP.3'!E28+'4VI 4_1 EPP.6'!E28+'4VI 4_1 EPP.9'!E28","v":0}]
["28",{"$f":"'4VI 4_1 EPP.3'!B29+'4VI 4_1 EPP.6'!B29+'4VI 4_1 EPP.9'!B29","v":16623},{"$f":"'4VI 4_1 EPP.3'!C29+'4VI 4_1 EPP.6'!C29+'4VI 4_1 EPP.9'!C29","v":22224},{"$f":"'4VI 4_1 EPP.3'!D29+'4VI 4_1 EPP.6'!D29+'4VI 4_1 EPP.9'!D29","v":10},{"$f":"'4VI 4_1 EPP.3'!E29+'4VI 4_1 EPP.6'!E29+'4VI 4_1 EPP.9'!E29","v":8}]
["29",{"$f":"'4VI 4_1 EPP.3'!B30+'4VI 4_1 EPP.6'!B30+'4VI 4_1 EPP.9'!B30","v":18567},{"$f":"'4VI 4_1 EPP.3'!C30+'4VI 4_1 EPP.6'!C30+'4VI 4_1 EPP.9'!C30","v":25501},{"$f":"'4VI 4_1 EPP.3'!D30+'4VI 4_1 EPP.6'!D30+'4VI 4_1 EPP.9'!D30","v":6},{"$f":"'4VI 4_1 EPP.3'!E30+'4VI 4_1 EPP.6'!E30+'4VI 4_1 EPP.9'!E30","v":0}]
["30",{"$f":"'4VI 4_1 EPP.3'!B31+'4VI 4_1 EPP.6'!B31+'4VI 4_1 EPP.9'!B31","v":20525},{"$f":"'4VI 4_1 EPP.3'!C31+'4VI 4_1 EPP.6'!C31+'4VI 4_1 EPP.9'!C31","v":28186},{"$f":"'4VI 4_1 EPP.3'!D31+'4VI 4_1 EPP.6'!D31+'4VI 4_1 EPP.9'!D31","v":0},{"$f":"'4VI 4_1 EPP.3'!E31+'4VI 4_1 EPP.6'!E31+'4VI 4_1 EPP.9'!E31","v":0}]
["31",{"$f":"'4VI 4_1 EPP.3'!B32+'4VI 4_1 EPP.6'!B32+'4VI 4_1 EPP.9'!B32","v":23066},{"$f":"'4VI 4_1 EPP.3'!C32+'4VI 4_1 EPP.6'!C32+'4VI 4_1 EPP.9'!C32","v":32084},{"$f":"'4VI 4_1 EPP.3'!D32+'4VI 4_1 EPP.6'!D32+'4VI 4_1 EPP.9'!D32","v":14},{"$f":"'4VI 4_1 EPP.3'!E32+'4VI 4_1 EPP.6'!E32+'4VI 4_1 EPP.9'!E32","v":6}]
["32",{"$f":"'4VI 4_1 EPP.3'!B33+'4VI 4_1 EPP.6'!B33+'4VI 4_1 EPP.9'!B33","v":25062},{"$f":"'4VI 4_1 EPP.3'!C33+'4VI 4_1 EPP.6'!C33+'4VI 4_1 EPP.9'!C33","v":35691},{"$f":"'4VI 4_1 EPP.3'!D33+'4VI 4_1 EPP.6'!D33+'4VI 4_1 EPP.9'!D33","v":6},{"$f":"'4VI 4_1 EPP.3'!E33+'4VI 4_1 EPP.6'!E33+'4VI 4_1 EPP.9'!E33","v":6}]
["33",{"$f":"'4VI 4_1 EPP.3'!B34+'4VI 4_1 EPP.6'!B34+'4VI 4_1 EPP.9'!B34","v":27247},{"$f":"'4VI 4_1 EPP.3'!C34+'4VI 4_1 EPP.6'!C34+'4VI 4_1 EPP.9'!C34","v":38786},{"$f":"'4VI 4_1 EPP.3'!D34+'4VI 4_1 EPP.6'!D34+'4VI 4_1 EPP.9'!D34","v":14},{"$f":"'4VI 4_1 EPP.3'!E34+'4VI 4_1 EPP.6'!E34+'4VI 4_1 EPP.9'!E34","v":12}]
["34",{"$f":"'4VI 4_1 EPP.3'!B35+'4VI 4_1 EPP.6'!B35+'4VI 4_1 EPP.9'!B35","v":29029},{"$f":"'4VI 4_1 EPP.3'!C35+'4VI 4_1 EPP.6'!C35+'4VI 4_1 EPP.9'!C35","v":41273},{"$f":"'4VI 4_1 EPP.3'!D35+'4VI 4_1 EPP.6'!D35+'4VI 4_1 EPP.9'!D35","v":30},{"$f":"'4VI 4_1 EPP.3'!E35+'4VI 4_1 EPP.6'!E35+'4VI 4_1 EPP.9'!E35","v":4}]
["35",{"$f":"'4VI 4_1 EPP.3'!B36+'4VI 4_1 EPP.6'!B36+'4VI 4_1 EPP.9'!B36","v":31386},{"$f":"'4VI 4_1 EPP.3'!C36+'4VI 4_1 EPP.6'!C36+'4VI 4_1 EPP.9'!C36","v":44053},{"$f":"'4VI 4_1 EPP.3'!D36+'4VI 4_1 EPP.6'!D36+'4VI 4_1 EPP.9'!D36","v":24},{"$f":"'4VI 4_1 EPP.3'!E36+'4VI 4_1 EPP.6'!E36+'4VI 4_1 EPP.9'!E36","v":8}]
["36",{"$f":"'4VI 4_1 EPP.3'!B37+'4VI 4_1 EPP.6'!B37+'4VI 4_1 EPP.9'!B37","v":33188},{"$f":"'4VI 4_1 EPP.3'!C37+'4VI 4_1 EPP.6'!C37+'4VI 4_1 EPP.9'!C37","v":46758},{"$f":"'4VI 4_1 EPP.3'!D37+'4VI 4_1 EPP.6'!D37+'4VI 4_1 EPP.9'!D37","v":28},{"$f":"'4VI 4_1 EPP.3'!E37+'4VI 4_1 EPP.6'!E37+'4VI 4_1 EPP.9'!E37","v":4}]
["37",{"$f":"'4VI 4_1 EPP.3'!B38+'4VI 4_1 EPP.6'!B38+'4VI 4_1 EPP.9'!B38","v":34864},{"$f":"'4VI 4_1 EPP.3'!C38+'4VI 4_1 EPP.6'!C38+'4VI 4_1 EPP.9'!C38","v":49399},{"$f":"'4VI 4_1 EPP.3'!D38+'4VI 4_1 EPP.6'!D38+'4VI 4_1 EPP.9'!D38","v":34},{"$f":"'4VI 4_1 EPP.3'!E38+'4VI 4_1 EPP.6'!E38+'4VI 4_1 EPP.9'!E38","v":18}]
["38",{"$f":"'4VI 4_1 EPP.3'!B39+'4VI 4_1 EPP.6'!B39+'4VI 4_1 EPP.9'!B39","v":36149},{"$f":"'4VI 4_1 EPP.3'!C39+'4VI 4_1 EPP.6'!C39+'4VI 4_1 EPP.9'!C39","v":50515},{"$f":"'4VI 4_1 EPP.3'!D39+'4VI 4_1 EPP.6'!D39+'4VI 4_1 EPP.9'!D39","v":58},{"$f":"'4VI 4_1 EPP.3'!E39+'4VI 4_1 EPP.6'!E39+'4VI 4_1 EPP.9'!E39","v":30}]
["39",{"$f":"'4VI 4_1 EPP.3'!B40+'4VI 4_1 EPP.6'!B40+'4VI 4_1 EPP.9'!B40","v":36591},{"$f":"'4VI 4_1 EPP.3'!C40+'4VI 4_1 EPP.6'!C40+'4VI 4_1 EPP.9'!C40","v":50928},{"$f":"'4VI 4_1 EPP.3'!D40+'4VI 4_1 EPP.6'!D40+'4VI 4_1 EPP.9'!D40","v":56},{"$f":"'4VI 4_1 EPP.3'!E40+'4VI 4_1 EPP.6'!E40+'4VI 4_1 EPP.9'!E40","v":22}]
["40",{"$f":"'4VI 4_1 EPP.3'!B41+'4VI 4_1 EPP.6'!B41+'4VI 4_1 EPP.9'!B41","v":36744},{"$f":"'4VI 4_1 EPP.3'!C41+'4VI 4_1 EPP.6'!C41+'4VI 4_1 EPP.9'!C41","v":50566},{"$f":"'4VI 4_1 EPP.3'!D41+'4VI 4_1 EPP.6'!D41+'4VI 4_1 EPP.9'!D41","v":78},{"$f":"'4VI 4_1 EPP.3'!E41+'4VI 4_1 EPP.6'!E41+'4VI 4_1 EPP.9'!E41","v":24}]
[41,{"$f":"'4VI 4_1 EPP.3'!B42+'4VI 4_1 EPP.6'!B42+'4VI 4_1 EPP.9'!B42","v":37742},{"$f":"'4VI 4_1 EPP.3'!C42+'4VI 4_1 EPP.6'!C42+'4VI 4_1 EPP.9'!C42","v":51542},{"$f":"'4VI 4_1 EPP.3'!D42+'4VI 4_1 EPP.6'!D42+'4VI 4_1 EPP.9'!D42","v":104},{"$f":"'4VI 4_1 EPP.3'!E42+'4VI 4_1 EPP.6'!E42+'4VI 4_1 EPP.9'!E42","v":34}]
["42",{"$f":"'4VI 4_1 EPP.3'!B43+'4VI 4_1 EPP.6'!B43+'4VI 4_1 EPP.9'!B43","v":37301},{"$f":"'4VI 4_1 EPP.3'!C43+'4VI 4_1 EPP.6'!C43+'4VI 4_1 EPP.9'!C43","v":49870},{"$f":"'4VI 4_1 EPP.3'!D43+'4VI 4_1 EPP.6'!D43+'4VI 4_1 EPP.9'!D43","v":86},{"$f":"'4VI 4_1 EPP.3'!E43+'4VI 4_1 EPP.6'!E43+'4VI 4_1 EPP.9'!E43","v":52}]
["43",{"$f":"'4VI 4_1 EPP.3'!B44+'4VI 4_1 EPP.6'!B44+'4VI 4_1 EPP.9'!B44","v":37372},{"$f":"'4VI 4_1 EPP.3'!C44+'4VI 4_1 EPP.6'!C44+'4VI 4_1 EPP.9'!C44","v":50099},{"$f":"'4VI 4_1 EPP.3'!D44+'4VI 4_1 EPP.6'!D44+'4VI 4_1 EPP.9'!D44","v":126},{"$f":"'4VI 4_1 EPP.3'!E44+'4VI 4_1 EPP.6'!E44+'4VI 4_1 EPP.9'!E44","v":42}]
["44",{"$f":"'4VI 4_1 EPP.3'!B45+'4VI 4_1 EPP.6'!B45+'4VI 4_1 EPP.9'!B45","v":38051},{"$f":"'4VI 4_1 EPP.3'!C45+'4VI 4_1 EPP.6'!C45+'4VI 4_1 EPP.9'!C45","v":49913},{"$f":"'4VI 4_1 EPP.3'!D45+'4VI 4_1 EPP.6'!D45+'4VI 4_1 EPP.9'!D45","v":106},{"$f":"'4VI 4_1 EPP.3'!E45+'4VI 4_1 EPP.6'!E45+'4VI 4_1 EPP.9'!E45","v":46}]
["45",{"$f":"'4VI 4_1 EPP.3'!B46+'4VI 4_1 EPP.6'!B46+'4VI 4_1 EPP.9'!B46","v":37627},{"$f":"'4VI 4_1 EPP.3'!C46+'4VI 4_1 EPP.6'!C46+'4VI 4_1 EPP.9'!C46","v":49842},{"$f":"'4VI 4_1 EPP.3'!D46+'4VI 4_1 EPP.6'!D46+'4VI 4_1 EPP.9'!D46","v":154},{"$f":"'4VI 4_1 EPP.3'!E46+'4VI 4_1 EPP.6'!E46+'4VI 4_1 EPP.9'!E46","v":60}]
["46",{"$f":"'4VI 4_1 EPP.3'!B47+'4VI 4_1 EPP.6'!B47+'4VI 4_1 EPP.9'!B47","v":38358},{"$f":"'4VI 4_1 EPP.3'!C47+'4VI 4_1 EPP.6'!C47+'4VI 4_1 EPP.9'!C47","v":50564},{"$f":"'4VI 4_1 EPP.3'!D47+'4VI 4_1 EPP.6'!D47+'4VI 4_1 EPP.9'!D47","v":114},{"$f":"'4VI 4_1 EPP.3'!E47+'4VI 4_1 EPP.6'!E47+'4VI 4_1 EPP.9'!E47","v":56}]
["47",{"$f":"'4VI 4_1 EPP.3'!B48+'4VI 4_1 EPP.6'!B48+'4VI 4_1 EPP.9'!B48","v":39057},{"$f":"'4VI 4_1 EPP.3'!C48+'4VI 4_1 EPP.6'!C48+'4VI 4_1 EPP.9'!C48","v":52158},{"$f":"'4VI 4_1 EPP.3'!D48+'4VI 4_1 EPP.6'!D48+'4VI 4_1 EPP.9'!D48","v":194},{"$f":"'4VI 4_1 EPP.3'!E48+'4VI 4_1 EPP.6'!E48+'4VI 4_1 EPP.9'!E48","v":64}]
["48",{"$f":"'4VI 4_1 EPP.3'!B49+'4VI 4_1 EPP.6'!B49+'4VI 4_1 EPP.9'!B49","v":38355},{"$f":"'4VI 4_1 EPP.3'!C49+'4VI 4_1 EPP.6'!C49+'4VI 4_1 EPP.9'!C49","v":51487},{"$f":"'4VI 4_1 EPP.3'!D49+'4VI 4_1 EPP.6'!D49+'4VI 4_1 EPP.9'!D49","v":142},{"$f":"'4VI 4_1 EPP.3'!E49+'4VI 4_1 EPP.6'!E49+'4VI 4_1 EPP.9'!E49","v":50}]
["49",{"$f":"'4VI 4_1 EPP.3'!B50+'4VI 4_1 EPP.6'!B50+'4VI 4_1 EPP.9'!B50","v":37168},{"$f":"'4VI 4_1 EPP.3'!C50+'4VI 4_1 EPP.6'!C50+'4VI 4_1 EPP.9'!C50","v":51066},{"$f":"'4VI 4_1 EPP.3'!D50+'4VI 4_1 EPP.6'!D50+'4VI 4_1 EPP.9'!D50","v":174},{"$f":"'4VI 4_1 EPP.3'!E50+'4VI 4_1 EPP.6'!E50+'4VI 4_1 EPP.9'!E50","v":54}]
["50",{"$f":"'4VI 4_1 EPP.3'!B51+'4VI 4_1 EPP.6'!B51+'4VI 4_1 EPP.9'!B51","v":36583},{"$f":"'4VI 4_1 EPP.3'!C51+'4VI 4_1 EPP.6'!C51+'4VI 4_1 EPP.9'!C51","v":49863},{"$f":"'4VI 4_1 EPP.3'!D51+'4VI 4_1 EPP.6'!D51+'4VI 4_1 EPP.9'!D51","v":300},{"$f":"'4VI 4_1 EPP.3'!E51+'4VI 4_1 EPP.6'!E51+'4VI 4_1 EPP.9'!E51","v":120}]
["51",{"$f":"'4VI 4_1 EPP.3'!B52+'4VI 4_1 EPP.6'!B52+'4VI 4_1 EPP.9'!B52","v":34591},{"$f":"'4VI 4_1 EPP.3'!C52+'4VI 4_1 EPP.6'!C52+'4VI 4_1 EPP.9'!C52","v":47572},{"$f":"'4VI 4_1 EPP.3'!D52+'4VI 4_1 EPP.6'!D52+'4VI 4_1 EPP.9'!D52","v":174},{"$f":"'4VI 4_1 EPP.3'!E52+'4VI 4_1 EPP.6'!E52+'4VI 4_1 EPP.9'!E52","v":92}]
["52",{"$f":"'4VI 4_1 EPP.3'!B53+'4VI 4_1 EPP.6'!B53+'4VI 4_1 EPP.9'!B53","v":33241},{"$f":"'4VI 4_1 EPP.3'!C53+'4VI 4_1 EPP.6'!C53+'4VI 4_1 EPP.9'!C53","v":47299},{"$f":"'4VI 4_1 EPP.3'!D53+'4VI 4_1 EPP.6'!D53+'4VI 4_1 EPP.9'!D53","v":152},{"$f":"'4VI 4_1 EPP.3'!E53+'4VI 4_1 EPP.6'!E53+'4VI 4_1 EPP.9'!E53","v":80}]
["53",{"$f":"'4VI 4_1 EPP.3'!B54+'4VI 4_1 EPP.6'!B54+'4VI 4_1 EPP.9'!B54","v":32055},{"$f":"'4VI 4_1 EPP.3'!C54+'4VI 4_1 EPP.6'!C54+'4VI 4_1 EPP.9'!C54","v":48233},{"$f":"'4VI 4_1 EPP.3'!D54+'4VI 4_1 EPP.6'!D54+'4VI 4_1 EPP.9'!D54","v":184},{"$f":"'4VI 4_1 EPP.3'!E54+'4VI 4_1 EPP.6'!E54+'4VI 4_1 EPP.9'!E54","v":74}]
["54",{"$f":"'4VI 4_1 EPP.3'!B55+'4VI 4_1 EPP.6'!B55+'4VI 4_1 EPP.9'!B55","v":30874},{"$f":"'4VI 4_1 EPP.3'!C55+'4VI 4_1 EPP.6'!C55+'4VI 4_1 EPP.9'!C55","v":48834},{"$f":"'4VI 4_1 EPP.3'!D55+'4VI 4_1 EPP.6'!D55+'4VI 4_1 EPP.9'!D55","v":164},{"$f":"'4VI 4_1 EPP.3'!E55+'4VI 4_1 EPP.6'!E55+'4VI 4_1 EPP.9'!E55","v":72}]
["55",{"$f":"'4VI 4_1 EPP.3'!B56+'4VI 4_1 EPP.6'!B56+'4VI 4_1 EPP.9'!B56","v":30797},{"$f":"'4VI 4_1 EPP.3'!C56+'4VI 4_1 EPP.6'!C56+'4VI 4_1 EPP.9'!C56","v":43485},{"$f":"'4VI 4_1 EPP.3'!D56+'4VI 4_1 EPP.6'!D56+'4VI 4_1 EPP.9'!D56","v":126},{"$f":"'4VI 4_1 EPP.3'!E56+'4VI 4_1 EPP.6'!E56+'4VI 4_1 EPP.9'!E56","v":62}]
["56",{"$f":"'4VI 4_1 EPP.3'!B57+'4VI 4_1 EPP.6'!B57+'4VI 4_1 EPP.9'!B57","v":29862},{"$f":"'4VI 4_1 EPP.3'!C57+'4VI 4_1 EPP.6'!C57+'4VI 4_1 EPP.9'!C57","v":39219},{"$f":"'4VI 4_1 EPP.3'!D57+'4VI 4_1 EPP.6'!D57+'4VI 4_1 EPP.9'!D57","v":276},{"$f":"'4VI 4_1 EPP.3'!E57+'4VI 4_1 EPP.6'!E57+'4VI 4_1 EPP.9'!E57","v":93}]
["57",{"$f":"'4VI 4_1 EPP.3'!B58+'4VI 4_1 EPP.6'!B58+'4VI 4_1 EPP.9'!B58","v":26493},{"$f":"'4VI 4_1 EPP.3'!C58+'4VI 4_1 EPP.6'!C58+'4VI 4_1 EPP.9'!C58","v":36021},{"$f":"'4VI 4_1 EPP.3'!D58+'4VI 4_1 EPP.6'!D58+'4VI 4_1 EPP.9'!D58","v":124},{"$f":"'4VI 4_1 EPP.3'!E58+'4VI 4_1 EPP.6'!E58+'4VI 4_1 EPP.9'!E58","v":64}]
["58",{"$f":"'4VI 4_1 EPP.3'!B59+'4VI 4_1 EPP.6'!B59+'4VI 4_1 EPP.9'!B59","v":23510},{"$f":"'4VI 4_1 EPP.3'!C59+'4VI 4_1 EPP.6'!C59+'4VI 4_1 EPP.9'!C59","v":32987},{"$f":"'4VI 4_1 EPP.3'!D59+'4VI 4_1 EPP.6'!D59+'4VI 4_1 EPP.9'!D59","v":200},{"$f":"'4VI 4_1 EPP.3'!E59+'4VI 4_1 EPP.6'!E59+'4VI 4_1 EPP.9'!E59","v":80}]
["59",{"$f":"'4VI 4_1 EPP.3'!B60+'4VI 4_1 EPP.6'!B60+'4VI 4_1 EPP.9'!B60","v":20808},{"$f":"'4VI 4_1 EPP.3'!C60+'4VI 4_1 EPP.6'!C60+'4VI 4_1 EPP.9'!C60","v":30128},{"$f":"'4VI 4_1 EPP.3'!D60+'4VI 4_1 EPP.6'!D60+'4VI 4_1 EPP.9'!D60","v":138},{"$f":"'4VI 4_1 EPP.3'!E60+'4VI 4_1 EPP.6'!E60+'4VI 4_1 EPP.9'!E60","v":48}]
["60",{"$f":"'4VI 4_1 EPP.3'!B61+'4VI 4_1 EPP.6'!B61+'4VI 4_1 EPP.9'!B61","v":17823},{"$f":"'4VI 4_1 EPP.3'!C61+'4VI 4_1 EPP.6'!C61+'4VI 4_1 EPP.9'!C61","v":25889},{"$f":"'4VI 4_1 EPP.3'!D61+'4VI 4_1 EPP.6'!D61+'4VI 4_1 EPP.9'!D61","v":166},{"$f":"'4VI 4_1 EPP.3'!E61+'4VI 4_1 EPP.6'!E61+'4VI 4_1 EPP.9'!E61","v":40}]
["61",{"$f":"'4VI 4_1 EPP.3'!B62+'4VI 4_1 EPP.6'!B62+'4VI 4_1 EPP.9'!B62","v":11780},{"$f":"'4VI 4_1 EPP.3'!C62+'4VI 4_1 EPP.6'!C62+'4VI 4_1 EPP.9'!C62","v":16434},{"$f":"'4VI 4_1 EPP.3'!D62+'4VI 4_1 EPP.6'!D62+'4VI 4_1 EPP.9'!D62","v":174},{"$f":"'4VI 4_1 EPP.3'!E62+'4VI 4_1 EPP.6'!E62+'4VI 4_1 EPP.9'!E62","v":42}]
["62",{"$f":"'4VI 4_1 EPP.3'!B63+'4VI 4_1 EPP.6'!B63+'4VI 4_1 EPP.9'!B63","v":4566},{"$f":"'4VI 4_1 EPP.3'!C63+'4VI 4_1 EPP.6'!C63+'4VI 4_1 EPP.9'!C63","v":5144},{"$f":"'4VI 4_1 EPP.3'!D63+'4VI 4_1 EPP.6'!D63+'4VI 4_1 EPP.9'!D63","v":202},{"$f":"'4VI 4_1 EPP.3'!E63+'4VI 4_1 EPP.6'!E63+'4VI 4_1 EPP.9'!E63","v":36}]
["63",{"$f":"'4VI 4_1 EPP.3'!B64+'4VI 4_1 EPP.6'!B64+'4VI 4_1 EPP.9'!B64","v":2990},{"$f":"'4VI 4_1 EPP.3'!C64+'4VI 4_1 EPP.6'!C64+'4VI 4_1 EPP.9'!C64","v":3138},{"$f":"'4VI 4_1 EPP.3'!D64+'4VI 4_1 EPP.6'!D64+'4VI 4_1 EPP.9'!D64","v":150},{"$f":"'4VI 4_1 EPP.3'!E64+'4VI 4_1 EPP.6'!E64+'4VI 4_1 EPP.9'!E64","v":48}]
["64",{"$f":"'4VI 4_1 EPP.3'!B65+'4VI 4_1 EPP.6'!B65+'4VI 4_1 EPP.9'!B65","v":2333},{"$f":"'4VI 4_1 EPP.3'!C65+'4VI 4_1 EPP.6'!C65+'4VI 4_1 EPP.9'!C65","v":2379},{"$f":"'4VI 4_1 EPP.3'!D65+'4VI 4_1 EPP.6'!D65+'4VI 4_1 EPP.9'!D65","v":128},{"$f":"'4VI 4_1 EPP.3'!E65+'4VI 4_1 EPP.6'!E65+'4VI 4_1 EPP.9'!E65","v":24}]
[65,{"$f":"'4VI 4_1 EPP.3'!B66+'4VI 4_1 EPP.6'!B66+'4VI 4_1 EPP.9'!B66","v":1847},{"$f":"'4VI 4_1 EPP.3'!C66+'4VI 4_1 EPP.6'!C66+'4VI 4_1 EPP.9'!C66","v":1868},{"$f":"'4VI 4_1 EPP.3'!D66+'4VI 4_1 EPP.6'!D66+'4VI 4_1 EPP.9'!D66","v":118},{"$f":"'4VI 4_1 EPP.3'!E66+'4VI 4_1 EPP.6'!E66+'4VI 4_1 EPP.9'!E66","v":20}]
["66 o más",{"$f":"'4VI 4_1 EPP.3'!B67+'4VI 4_1 EPP.6'!B67+'4VI 4_1 EPP.9'!B67","v":6725},{"$f":"'4VI 4_1 EPP.3'!C67+'4VI 4_1 EPP.6'!C67+'4VI 4_1 EPP.9'!C67","v":6293},{"$f":"'4VI 4_1 EPP.3'!D67+'4VI 4_1 EPP.6'!D67+'4VI 4_1 EPP.9'!D67","v":830},{"$f":"'4VI 4_1 EPP.3'!E67+'4VI 4_1 EPP.6'!E67+'4VI 4_1 EPP.9'!E67","v":54}]
["Total",{"$f":"SUM(B16:B67)","v":1123970},{"$f":"SUM(C16:C67)","v":1525053},5174,1653]

{"sheet":"4VI 4_1 EPP.3","index":22,"n_rows":68,"n_cols":5,"rows_kept":68,"cut":false,"hidden":false,"merged":[[13,1,13,2],[13,3,13,4],[13,6,13,7],[13,8,13,9],[2,0,2,4],[3,0,3,4],[5,0,5,4],[6,0,6,4],[7,0,7,4],[9,0,9,4]]}
[]
[]
["4. INVALIDEZ TOTAL Y PERMANENTE EN LA OPERACION DE VIDA  POR TIPO"]
[" DE SEGURO CONTRATADO, EDAD ALCANZADA Y PERIODOS DE ESPERA"]
[]
[{"$f":"'1 Total'!B3","v":"DICIEMBRE DE 2021"}]
[]
["VIDA INDIVIDUAL "]
[]
["EXENCION DE PAGO DE PRIMAS POR INVALIDEZ"]
[]
[" ",null,"PERIODO DE ESPERA DE (0-3] MESES"]
[null,2,3,4,5]
["EDAD","PÓLIZAS O CERTIFICADOS AL FINAL DEL EJERCICIO",null,"INVALIDADOS EN EL EJERCICIO"]
["ALCANZADA","Hombres","Mujeres","Hombres","Mujeres"]
[" Hasta15 años",5666,5444,2,0]
[16,793,721]
[17,803,817,0,0]
[18,851,831,0,0]
[19,1088,968]
[20,2225,1600]
[21,3446,2330]
[22,4298,3167]
[23,5471,4085,1,0]
[24,6756,6331,0,2]
[25,8826,8924]
[26,11279,13031]
[27,13739,17682,2,0]
[28,16281,21798,5,4]
[29,18156,25077,3,0]
[30,20036,27690]
[31,22485,31514,7,3]
[32,24408,35071,3,3]
[33,26463,38119,7,6]
[34,28205,40542,15,2]
[35,30454,43295,12,4]
[36,32170,45910,14,2]
[37,33710,48480,17,9]
[38,35031,49640,29,15]
[39,35485,50054,28,11]
[40,35614,49713,39,12]
[41,36604,50700,52,17]
[42,36251,49122,43,26]
[43,36324,49367,63,21]
[44,36971,49211,53,23]
[45,36619,49171,77,30]
[46,37422,49923,57,28]
[47,38058,51562,97,32]
[48,37436,50895,71,25]
[49,36316,50481,87,27]
[50,35769,49336,100,40]
[51,33811,47132,87,46]
[52,32598,46874,76,40]
[53,31405,47820,92,37]
[54,30371,48496,82,36]
[55,30321,43142,63,31]
[56,29487,38978,92,31]
[57,26189,35830,62,32]
[58,23238,32843,100,40]
[59,20624,30021,69,24]
[60,17684,25796,83,20]
[61,11711,16400,87,21]
[62,4517,5123,101,18]
[63,2949,3120,75,24]
[64,2304,2370,64,12]
[65,1824,1856,59,10]
["66 o mas",6651,6262,416,28]
["Total",{"$f":"SUM(B16:B67)","v":1097193},{"$f":"SUM(C16:C67)","v":1504665},{"$f":"SUM(D16:D67)","v":2492},792]

{"sheet":"4VI 4_1 EPP.6","index":23,"n_rows":68,"n_cols":5,"rows_kept":68,"cut":false,"hidden":false,"merged":[[13,1,13,2],[13,3,13,4],[13,6,13,7],[13,8,13,9],[2,0,2,4],[3,0,3,4],[5,0,5,4],[6,0,6,4],[7,0,7,4],[9,0,9,4]]}
[]
[]
["4. INVALIDEZ TOTAL Y PERMANENTE EN LA OPERACION DE VIDA  POR TIPO"]
[" DE SEGURO CONTRATADO, EDAD ALCANZADA Y PERIODOS DE ESPERA"]
[]
[{"$f":"'1 Total'!B3","v":"DICIEMBRE DE 2021"}]
[]
["VIDA INDIVIDUAL "]
[]
["EXENCION DE PAGO DE PRIMAS POR INVALIDEZ"]
[]
[null,null,"PERIODO DE ESPERA DE (3- 6] MESES"]
[null,2,3,4,5]
["EDAD","PÓLIZAS O CERTIFICADOS AL FINAL DEL EJERCICIO",null,"INVALIDADOS EN EL EJERCICIO"]
["ALCANZADA","Hombres","Mujeres","Hombres","Mujeres"]
[" Hasta15 años",571,586,2,0]
[16,16,23]
[17,14,12,0,0]
[18,13,14,0,0]
[19,40,19]
[20,35,35]
[21,53,52]
[22,66,70]
[23,100,86,1,0]
[24,152,144,0,2]
[25,183,177]
[26,223,290]
[27,313,323,2,0]
[28,342,426,5,4]
[29,411,424,3,0]
[30,489,496]
[31,581,570,7,3]
[32,654,620,3,3]
[33,784,667,7,6]
[34,824,731,15,2]
[35,932,758,12,4]
[36,1018,848,14,2]
[37,1154,919,17,9]
[38,1118,875,29,15]
[39,1106,874,28,11]
[40,1130,853,39,12]
[41,1138,842,52,17]
[42,1050,748,43,26]
[43,1048,732,63,21]
[44,1080,702,53,23]
[45,1008,671,77,30]
[46,936,641,57,28]
[47,999,596,97,32]
[48,919,592,71,25]
[49,852,585,87,27]
[50,814,527,200,80]
[51,780,440,87,46]
[52,643,425,76,40]
[53,650,413,92,37]
[54,503,338,82,36]
[55,476,343,63,31]
[56,375,241,184,62]
[57,304,191,62,32]
[58,272,144,100,40]
[59,184,107,69,24]
[60,139,93,83,20]
[61,69,34,87,21]
[62,49,21,101,18]
[63,41,18,75,24]
[64,29,9,64,12]
[65,23,12,59,10]
["66 o mas",74,31,414,26]
["Total",{"$f":"SUM(B16:B67)","v":26777},{"$f":"SUM(C16:C67)","v":20388},2682,861]

{"sheet":"4VI 4_1 EPP.9","index":24,"n_rows":68,"n_cols":5,"rows_kept":68,"cut":false,"hidden":false,"merged":[[13,1,13,2],[13,3,13,4],[13,6,13,7],[13,8,13,9],[2,0,2,4],[3,0,3,4],[5,0,5,4],[6,0,6,4],[7,0,7,4],[9,0,9,4]]}
[]
[]
["4. INVALIDEZ TOTAL Y PERMANENTE EN LA OPERACION DE VIDA  POR TIPO"]
[" DE SEGURO CONTRATADO, EDAD ALCANZADA Y PERIODOS DE ESPERA"]
[]
[{"$f":"'1 Total'!B3","v":"DICIEMBRE DE 2021"}]
[]
["VIDA INDIVIDUAL "]
[]
["EXENCION DE PAGO DE PRIMAS POR INVALIDEZ"]
[]
[null,null,"PERIODO DE ESPERA DE (6- 9] MESES"]
[null,2,3,4,5]
["EDAD","PÓLIZAS O CERTIFICADOS AL FINAL DEL EJERCICIO",null,"INVALIDADOS EN EL EJERCICIO"]
["ALCANZADA","Hombres","Mujeres","Hombres","Mujeres"]
[" Hasta15 años",0,0,0,0]
[16,0,0,0,0]
[17,0,0,0,0]
[18,0,0,0,0]
[19,0,0,0,0]
[20,0,0,0,0]
[21,0,0,0,0]
[22,0,0,0,0]
[23,0,0,0,0]
[24,0,0,0,0]
[25,0,0,0,0]
[26,0,0,0,0]
[27,0,0,0,0]
[28,0,0,0,0]
[29,0,0,0,0]
[30,0,0,0,0]
[31,0,0,0,0]
[32,0,0,0,0]
[33,0,0,0,0]
[34,0,0,0,0]
[35,0,0,0,0]
[36,0,0,0,0]
[37,0,0,0,0]
[38,0,0,0,0]
[39,0,0,0,0]
[40,0,0,0,0]
[41,0,0,0,0]
[42,0,0,0,0]
[43,0,0,0,0]
[44,0,0,0,0]
[45,0,0,0,0]
[46,0,0,0,0]
[47,0,0,0,0]
[48,0,0,0,0]
[49,0,0,0,0]
[50,0,0,0,0]
[51,0,0,0,0]
[52,0,0,0,0]
[53,0,0,0,0]
[54,0,0,0,0]
[55,0,0,0,0]
[56,0,0,0,0]
[57,0,0,0,0]
[58,0,0,0,0]
[59,0,0,0,0]
[60,0,0,0,0]
[61,0,0,0,0]
[62,0,0,0,0]
[63,0,0,0,0]
[64,0,0,0,0]
[65,0,0,0,0]
["66 o mas",0,0,0,0]
["Total",{"$f":"SUM(B16:B67)","v":0},{"$f":"SUM(C16:C67)","v":0},0,0]

{"sheet":"4Total Ind PSA","index":25,"n_rows":69,"n_cols":5,"rows_kept":69,"cut":false,"hidden":true,"merged":[[13,1,13,2],[13,3,13,4],[13,6,13,7],[13,8,13,9],[2,0,2,4],[3,0,3,4],[5,0,5,4],[6,0,6,4],[7,0,7,4],[9,0,9,4]]}
[]
[]
["4. INVALIDEZ TOTAL Y PERMANENTE EN LA OPERACION DE VIDA  POR TIPO"]
[" DE SEGURO CONTRATADO, EDAD ALCANZADA Y PERIODOS DE ESPERA"]
[]
[{"$f":"#REF!","v":{"$error":"#REF!"}}]
[]
["VIDA INDIVIDUAL "]
[]
["PAGO DE LA SUMA ASEGURADA POR INVALIDEZ"]
[]
[null,null,"TOTAL"]
[]
["EDAD","PÓLIZAS O CERTIFICADOS AL FINAL DEL EJERCICIO",null,"INVALIDADOS EN EL EJERCICIO"]
["ALCANZADA","Hombres","Mujeres","Hombres","Mujeres"]
[" Hasta15 años",{"$f":"'4V 4_1 PSA.3'!B16+'4V 4_1 PSA.6'!B16+'4V 4_1 PSA.9'!B16","v":2673},{"$f":"'4V 4_1 PSA.3'!C16+'4V 4_1 PSA.6'!C16+'4V 4_1 PSA.9'!C16","v":7618},{"$f":"'4V 4_1 PSA.3'!D16+'4V 4_1 PSA.6'!D16+'4V 4_1 PSA.9'!D16","v":0},{"$f":"'4V 4_1 PSA.3'!E16+'4V 4_1 PSA.6'!E16+'4V 4_1 PSA.9'!E16","v":1}]
["16",{"$f":"'4V 4_1 PSA.3'!B17+'4V 4_1 PSA.6'!B17+'4V 4_1 PSA.9'!B17","v":246},{"$f":"'4V 4_1 PSA.3'!C17+'4V 4_1 PSA.6'!C17+'4V 4_1 PSA.9'!C17","v":1039},{"$f":"'4V 4_1 PSA.3'!D17+'4V 4_1 PSA.6'!D17+'4V 4_1 PSA.9'!D17","v":0},{"$f":"'4V 4_1 PSA.3'!E17+'4V 4_1 PSA.6'!E17+'4V 4_1 PSA.9'!E17","v":1}]
["17",{"$f":"'4V 4_1 PSA.3'!B18+'4V 4_1 PSA.6'!B18+'4V 4_1 PSA.9'!B18","v":296},{"$f":"'4V 4_1 PSA.3'!C18+'4V 4_1 PSA.6'!C18+'4V 4_1 PSA.9'!C18","v":1083},{"$f":"'4V 4_1 PSA.3'!D18+'4V 4_1 PSA.6'!D18+'4V 4_1 PSA.9'!D18","v":0},{"$f":"'4V 4_1 PSA.3'!E18+'4V 4_1 PSA.6'!E18+'4V 4_1 PSA.9'!E18","v":1}]
["18",{"$f":"'4V 4_1 PSA.3'!B19+'4V 4_1 PSA.6'!B19+'4V 4_1 PSA.9'!B19","v":772},{"$f":"'4V 4_1 PSA.3'!C19+'4V 4_1 PSA.6'!C19+'4V 4_1 PSA.9'!C19","v":813},{"$f":"'4V 4_1 PSA.3'!D19+'4V 4_1 PSA.6'!D19+'4V 4_1 PSA.9'!D19","v":0},{"$f":"'4V 4_1 PSA.3'!E19+'4V 4_1 PSA.6'!E19+'4V 4_1 PSA.9'!E19","v":1}]
["19",{"$f":"'4V 4_1 PSA.3'!B20+'4V 4_1 PSA.6'!B20+'4V 4_1 PSA.9'!B20","v":1630},{"$f":"'4V 4_1 PSA.3'!C20+'4V 4_1 PSA.6'!C20+'4V 4_1 PSA.9'!C20","v":1167},{"$f":"'4V 4_1 PSA.3'!D20+'4V 4_1 PSA.6'!D20+'4V 4_1 PSA.9'!D20","v":0},{"$f":"'4V 4_1 PSA.3'!E20+'4V 4_1 PSA.6'!E20+'4V 4_1 PSA.9'!E20","v":0}]
["20",{"$f":"'4V 4_1 PSA.3'!B21+'4V 4_1 PSA.6'!B21+'4V 4_1 PSA.9'!B21","v":2956},{"$f":"'4V 4_1 PSA.3'!C21+'4V 4_1 PSA.6'!C21+'4V 4_1 PSA.9'!C21","v":2048},{"$f":"'4V 4_1 PSA.3'!D21+'4V 4_1 PSA.6'!D21+'4V 4_1 PSA.9'!D21","v":0},{"$f":"'4V 4_1 PSA.3'!E21+'4V 4_1 PSA.6'!E21+'4V 4_1 PSA.9'!E21","v":1}]
["21",{"$f":"'4V 4_1 PSA.3'!B22+'4V 4_1 PSA.6'!B22+'4V 4_1 PSA.9'!B22","v":4800},{"$f":"'4V 4_1 PSA.3'!C22+'4V 4_1 PSA.6'!C22+'4V 4_1 PSA.9'!C22","v":3226},{"$f":"'4V 4_1 PSA.3'!D22+'4V 4_1 PSA.6'!D22+'4V 4_1 PSA.9'!D22","v":1},{"$f":"'4V 4_1 PSA.3'!E22+'4V 4_1 PSA.6'!E22+'4V 4_1 PSA.9'!E22","v":0}]
["22",{"$f":"'4V 4_1 PSA.3'!B23+'4V 4_1 PSA.6'!B23+'4V 4_1 PSA.9'!B23","v":6610},{"$f":"'4V 4_1 PSA.3'!C23+'4V 4_1 PSA.6'!C23+'4V 4_1 PSA.9'!C23","v":4748},{"$f":"'4V 4_1 PSA.3'!D23+'4V 4_1 PSA.6'!D23+'4V 4_1 PSA.9'!D23","v":2},{"$f":"'4V 4_1 PSA.3'!E23+'4V 4_1 PSA.6'!E23+'4V 4_1 PSA.9'!E23","v":1}]
["23",{"$f":"'4V 4_1 PSA.3'!B24+'4V 4_1 PSA.6'!B24+'4V 4_1 PSA.9'!B24","v":8709},{"$f":"'4V 4_1 PSA.3'!C24+'4V 4_1 PSA.6'!C24+'4V 4_1 PSA.9'!C24","v":7252},{"$f":"'4V 4_1 PSA.3'!D24+'4V 4_1 PSA.6'!D24+'4V 4_1 PSA.9'!D24","v":1},{"$f":"'4V 4_1 PSA.3'!E24+'4V 4_1 PSA.6'!E24+'4V 4_1 PSA.9'!E24","v":2}]
["24",{"$f":"'4V 4_1 PSA.3'!B25+'4V 4_1 PSA.6'!B25+'4V 4_1 PSA.9'!B25","v":11526},{"$f":"'4V 4_1 PSA.3'!C25+'4V 4_1 PSA.6'!C25+'4V 4_1 PSA.9'!C25","v":10293},{"$f":"'4V 4_1 PSA.3'!D25+'4V 4_1 PSA.6'!D25+'4V 4_1 PSA.9'!D25","v":0},{"$f":"'4V 4_1 PSA.3'!E25+'4V 4_1 PSA.6'!E25+'4V 4_1 PSA.9'!E25","v":1}]
["25",{"$f":"'4V 4_1 PSA.3'!B26+'4V 4_1 PSA.6'!B26+'4V 4_1 PSA.9'!B26","v":15135},{"$f":"'4V 4_1 PSA.3'!C26+'4V 4_1 PSA.6'!C26+'4V 4_1 PSA.9'!C26","v":15249},{"$f":"'4V 4_1 PSA.3'!D26+'4V 4_1 PSA.6'!D26+'4V 4_1 PSA.9'!D26","v":1},{"$f":"'4V 4_1 PSA.3'!E26+'4V 4_1 PSA.6'!E26+'4V 4_1 PSA.9'!E26","v":1}]
["26",{"$f":"'4V 4_1 PSA.3'!B27+'4V 4_1 PSA.6'!B27+'4V 4_1 PSA.9'!B27","v":18805},{"$f":"'4V 4_1 PSA.3'!C27+'4V 4_1 PSA.6'!C27+'4V 4_1 PSA.9'!C27","v":21304},{"$f":"'4V 4_1 PSA.3'!D27+'4V 4_1 PSA.6'!D27+'4V 4_1 PSA.9'!D27","v":2},{"$f":"'4V 4_1 PSA.3'!E27+'4V 4_1 PSA.6'!E27+'4V 4_1 PSA.9'!E27","v":1}]
["27",{"$f":"'4V 4_1 PSA.3'!B28+'4V 4_1 PSA.6'!B28+'4V 4_1 PSA.9'!B28","v":22636},{"$f":"'4V 4_1 PSA.3'!C28+'4V 4_1 PSA.6'!C28+'4V 4_1 PSA.9'!C28","v":26758},{"$f":"'4V 4_1 PSA.3'!D28+'4V 4_1 PSA.6'!D28+'4V 4_1 PSA.9'!D28","v":4},{"$f":"'4V 4_1 PSA.3'!E28+'4V 4_1 PSA.6'!E28+'4V 4_1 PSA.9'!E28","v":1}]
["28",{"$f":"'4V 4_1 PSA.3'!B29+'4V 4_1 PSA.6'!B29+'4V 4_1 PSA.9'!B29","v":25720},{"$f":"'4V 4_1 PSA.3'!C29+'4V 4_1 PSA.6'!C29+'4V 4_1 PSA.9'!C29","v":30916},{"$f":"'4V 4_1 PSA.3'!D29+'4V 4_1 PSA.6'!D29+'4V 4_1 PSA.9'!D29","v":1},{"$f":"'4V 4_1 PSA.3'!E29+'4V 4_1 PSA.6'!E29+'4V 4_1 PSA.9'!E29","v":0}]
["29",{"$f":"'4V 4_1 PSA.3'!B30+'4V 4_1 PSA.6'!B30+'4V 4_1 PSA.9'!B30","v":28488},{"$f":"'4V 4_1 PSA.3'!C30+'4V 4_1 PSA.6'!C30+'4V 4_1 PSA.9'!C30","v":34529},{"$f":"'4V 4_1 PSA.3'!D30+'4V 4_1 PSA.6'!D30+'4V 4_1 PSA.9'!D30","v":1},{"$f":"'4V 4_1 PSA.3'!E30+'4V 4_1 PSA.6'!E30+'4V 4_1 PSA.9'!E30","v":2}]
["30",{"$f":"'4V 4_1 PSA.3'!B31+'4V 4_1 PSA.6'!B31+'4V 4_1 PSA.9'!B31","v":31853},{"$f":"'4V 4_1 PSA.3'!C31+'4V 4_1 PSA.6'!C31+'4V 4_1 PSA.9'!C31","v":39429},{"$f":"'4V 4_1 PSA.3'!D31+'4V 4_1 PSA.6'!D31+'4V 4_1 PSA.9'!D31","v":2},{"$f":"'4V 4_1 PSA.3'!E31+'4V 4_1 PSA.6'!E31+'4V 4_1 PSA.9'!E31","v":3}]
["31",{"$f":"'4V 4_1 PSA.3'!B32+'4V 4_1 PSA.6'!B32+'4V 4_1 PSA.9'!B32","v":34311},{"$f":"'4V 4_1 PSA.3'!C32+'4V 4_1 PSA.6'!C32+'4V 4_1 PSA.9'!C32","v":43280},{"$f":"'4V 4_1 PSA.3'!D32+'4V 4_1 PSA.6'!D32+'4V 4_1 PSA.9'!D32","v":1},{"$f":"'4V 4_1 PSA.3'!E32+'4V 4_1 PSA.6'!E32+'4V 4_1 PSA.9'!E32","v":5}]
["32",{"$f":"'4V 4_1 PSA.3'!B33+'4V 4_1 PSA.6'!B33+'4V 4_1 PSA.9'!B33","v":37047},{"$f":"'4V 4_1 PSA.3'!C33+'4V 4_1 PSA.6'!C33+'4V 4_1 PSA.9'!C33","v":47329},{"$f":"'4V 4_1 PSA.3'!D33+'4V 4_1 PSA.6'!D33+'4V 4_1 PSA.9'!D33","v":10},{"$f":"'4V 4_1 PSA.3'!E33+'4V 4_1 PSA.6'!E33+'4V 4_1 PSA.9'!E33","v":10}]
["33",{"$f":"'4V 4_1 PSA.3'!B34+'4V 4_1 PSA.6'!B34+'4V 4_1 PSA.9'!B34","v":38974},{"$f":"'4V 4_1 PSA.3'!C34+'4V 4_1 PSA.6'!C34+'4V 4_1 PSA.9'!C34","v":50152},{"$f":"'4V 4_1 PSA.3'!D34+'4V 4_1 PSA.6'!D34+'4V 4_1 PSA.9'!D34","v":4},{"$f":"'4V 4_1 PSA.3'!E34+'4V 4_1 PSA.6'!E34+'4V 4_1 PSA.9'!E34","v":5}]
["34",{"$f":"'4V 4_1 PSA.3'!B35+'4V 4_1 PSA.6'!B35+'4V 4_1 PSA.9'!B35","v":42413},{"$f":"'4V 4_1 PSA.3'!C35+'4V 4_1 PSA.6'!C35+'4V 4_1 PSA.9'!C35","v":53098},{"$f":"'4V 4_1 PSA.3'!D35+'4V 4_1 PSA.6'!D35+'4V 4_1 PSA.9'!D35","v":4},{"$f":"'4V 4_1 PSA.3'!E35+'4V 4_1 PSA.6'!E35+'4V 4_1 PSA.9'!E35","v":10}]
["35",{"$f":"'4V 4_1 PSA.3'!B36+'4V 4_1 PSA.6'!B36+'4V 4_1 PSA.9'!B36","v":44357},{"$f":"'4V 4_1 PSA.3'!C36+'4V 4_1 PSA.6'!C36+'4V 4_1 PSA.9'!C36","v":56098},{"$f":"'4V 4_1 PSA.3'!D36+'4V 4_1 PSA.6'!D36+'4V 4_1 PSA.9'!D36","v":2},{"$f":"'4V 4_1 PSA.3'!E36+'4V 4_1 PSA.6'!E36+'4V 4_1 PSA.9'!E36","v":2}]
["36",{"$f":"'4V 4_1 PSA.3'!B37+'4V 4_1 PSA.6'!B37+'4V 4_1 PSA.9'!B37","v":46496},{"$f":"'4V 4_1 PSA.3'!C37+'4V 4_1 PSA.6'!C37+'4V 4_1 PSA.9'!C37","v":58697},{"$f":"'4V 4_1 PSA.3'!D37+'4V 4_1 PSA.6'!D37+'4V 4_1 PSA.9'!D37","v":15},{"$f":"'4V 4_1 PSA.3'!E37+'4V 4_1 PSA.6'!E37+'4V 4_1 PSA.9'!E37","v":9}]
["37",{"$f":"'4V 4_1 PSA.3'!B38+'4V 4_1 PSA.6'!B38+'4V 4_1 PSA.9'!B38","v":48279},{"$f":"'4V 4_1 PSA.3'!C38+'4V 4_1 PSA.6'!C38+'4V 4_1 PSA.9'!C38","v":60339},{"$f":"'4V 4_1 PSA.3'!D38+'4V 4_1 PSA.6'!D38+'4V 4_1 PSA.9'!D38","v":11},{"$f":"'4V 4_1 PSA.3'!E38+'4V 4_1 PSA.6'!E38+'4V 4_1 PSA.9'!E38","v":12}]
["38",{"$f":"'4V 4_1 PSA.3'!B39+'4V 4_1 PSA.6'!B39+'4V 4_1 PSA.9'!B39","v":48922},{"$f":"'4V 4_1 PSA.3'!C39+'4V 4_1 PSA.6'!C39+'4V 4_1 PSA.9'!C39","v":60481},{"$f":"'4V 4_1 PSA.3'!D39+'4V 4_1 PSA.6'!D39+'4V 4_1 PSA.9'!D39","v":9},{"$f":"'4V 4_1 PSA.3'!E39+'4V 4_1 PSA.6'!E39+'4V 4_1 PSA.9'!E39","v":8}]
["39",{"$f":"'4V 4_1 PSA.3'!B40+'4V 4_1 PSA.6'!B40+'4V 4_1 PSA.9'!B40","v":51393},{"$f":"'4V 4_1 PSA.3'!C40+'4V 4_1 PSA.6'!C40+'4V 4_1 PSA.9'!C40","v":61319},{"$f":"'4V 4_1 PSA.3'!D40+'4V 4_1 PSA.6'!D40+'4V 4_1 PSA.9'!D40","v":15},{"$f":"'4V 4_1 PSA.3'!E40+'4V 4_1 PSA.6'!E40+'4V 4_1 PSA.9'!E40","v":13}]
["40",{"$f":"'4V 4_1 PSA.3'!B41+'4V 4_1 PSA.6'!B41+'4V 4_1 PSA.9'!B41","v":50293},{"$f":"'4V 4_1 PSA.3'!C41+'4V 4_1 PSA.6'!C41+'4V 4_1 PSA.9'!C41","v":60717},{"$f":"'4V 4_1 PSA.3'!D41+'4V 4_1 PSA.6'!D41+'4V 4_1 PSA.9'!D41","v":15},{"$f":"'4V 4_1 PSA.3'!E41+'4V 4_1 PSA.6'!E41+'4V 4_1 PSA.9'!E41","v":14}]
[41,{"$f":"'4V 4_1 PSA.3'!B42+'4V 4_1 PSA.6'!B42+'4V 4_1 PSA.9'!B42","v":49242},{"$f":"'4V 4_1 PSA.3'!C42+'4V 4_1 PSA.6'!C42+'4V 4_1 PSA.9'!C42","v":58424},{"$f":"'4V 4_1 PSA.3'!D42+'4V 4_1 PSA.6'!D42+'4V 4_1 PSA.9'!D42","v":21},{"$f":"'4V 4_1 PSA.3'!E42+'4V 4_1 PSA.6'!E42+'4V 4_1 PSA.9'!E42","v":10}]
["42",{"$f":"'4V 4_1 PSA.3'!B43+'4V 4_1 PSA.6'!B43+'4V 4_1 PSA.9'!B43","v":49517},{"$f":"'4V 4_1 PSA.3'!C43+'4V 4_1 PSA.6'!C43+'4V 4_1 PSA.9'!C43","v":58375},{"$f":"'4V 4_1 PSA.3'!D43+'4V 4_1 PSA.6'!D43+'4V 4_1 PSA.9'!D43","v":14},{"$f":"'4V 4_1 PSA.3'!E43+'4V 4_1 PSA.6'!E43+'4V 4_1 PSA.9'!E43","v":26}]
["43",{"$f":"'4V 4_1 PSA.3'!B44+'4V 4_1 PSA.6'!B44+'4V 4_1 PSA.9'!B44","v":50118},{"$f":"'4V 4_1 PSA.3'!C44+'4V 4_1 PSA.6'!C44+'4V 4_1 PSA.9'!C44","v":57636},{"$f":"'4V 4_1 PSA.3'!D44+'4V 4_1 PSA.6'!D44+'4V 4_1 PSA.9'!D44","v":10},{"$f":"'4V 4_1 PSA.3'!E44+'4V 4_1 PSA.6'!E44+'4V 4_1 PSA.9'!E44","v":19}]
["44",{"$f":"'4V 4_1 PSA.3'!B45+'4V 4_1 PSA.6'!B45+'4V 4_1 PSA.9'!B45","v":49700},{"$f":"'4V 4_1 PSA.3'!C45+'4V 4_1 PSA.6'!C45+'4V 4_1 PSA.9'!C45","v":57154},{"$f":"'4V 4_1 PSA.3'!D45+'4V 4_1 PSA.6'!D45+'4V 4_1 PSA.9'!D45","v":15},{"$f":"'4V 4_1 PSA.3'!E45+'4V 4_1 PSA.6'!E45+'4V 4_1 PSA.9'!E45","v":26}]
["45",{"$f":"'4V 4_1 PSA.3'!B46+'4V 4_1 PSA.6'!B46+'4V 4_1 PSA.9'!B46","v":50106},{"$f":"'4V 4_1 PSA.3'!C46+'4V 4_1 PSA.6'!C46+'4V 4_1 PSA.9'!C46","v":57740},{"$f":"'4V 4_1 PSA.3'!D46+'4V 4_1 PSA.6'!D46+'4V 4_1 PSA.9'!D46","v":26},{"$f":"'4V 4_1 PSA.3'!E46+'4V 4_1 PSA.6'!E46+'4V 4_1 PSA.9'!E46","v":29}]
["46",{"$f":"'4V 4_1 PSA.3'!B47+'4V 4_1 PSA.6'!B47+'4V 4_1 PSA.9'!B47","v":50982},{"$f":"'4V 4_1 PSA.3'!C47+'4V 4_1 PSA.6'!C47+'4V 4_1 PSA.9'!C47","v":59187},{"$f":"'4V 4_1 PSA.3'!D47+'4V 4_1 PSA.6'!D47+'4V 4_1 PSA.9'!D47","v":28},{"$f":"'4V 4_1 PSA.3'!E47+'4V 4_1 PSA.6'!E47+'4V 4_1 PSA.9'!E47","v":34}]
["47",{"$f":"'4V 4_1 PSA.3'!B48+'4V 4_1 PSA.6'!B48+'4V 4_1 PSA.9'!B48","v":49971},{"$f":"'4V 4_1 PSA.3'!C48+'4V 4_1 PSA.6'!C48+'4V 4_1 PSA.9'!C48","v":57901},{"$f":"'4V 4_1 PSA.3'!D48+'4V 4_1 PSA.6'!D48+'4V 4_1 PSA.9'!D48","v":21},{"$f":"'4V 4_1 PSA.3'!E48+'4V 4_1 PSA.6'!E48+'4V 4_1 PSA.9'!E48","v":35}]
["48",{"$f":"'4V 4_1 PSA.3'!B49+'4V 4_1 PSA.6'!B49+'4V 4_1 PSA.9'!B49","v":48055},{"$f":"'4V 4_1 PSA.3'!C49+'4V 4_1 PSA.6'!C49+'4V 4_1 PSA.9'!C49","v":56999},{"$f":"'4V 4_1 PSA.3'!D49+'4V 4_1 PSA.6'!D49+'4V 4_1 PSA.9'!D49","v":39},{"$f":"'4V 4_1 PSA.3'!E49+'4V 4_1 PSA.6'!E49+'4V 4_1 PSA.9'!E49","v":40}]
["49",{"$f":"'4V 4_1 PSA.3'!B50+'4V 4_1 PSA.6'!B50+'4V 4_1 PSA.9'!B50","v":46552},{"$f":"'4V 4_1 PSA.3'!C50+'4V 4_1 PSA.6'!C50+'4V 4_1 PSA.9'!C50","v":55518},{"$f":"'4V 4_1 PSA.3'!D50+'4V 4_1 PSA.6'!D50+'4V 4_1 PSA.9'!D50","v":35},{"$f":"'4V 4_1 PSA.3'!E50+'4V 4_1 PSA.6'!E50+'4V 4_1 PSA.9'!E50","v":44}]
["50",{"$f":"'4V 4_1 PSA.3'!B51+'4V 4_1 PSA.6'!B51+'4V 4_1 PSA.9'!B51","v":44122},{"$f":"'4V 4_1 PSA.3'!C51+'4V 4_1 PSA.6'!C51+'4V 4_1 PSA.9'!C51","v":52549},{"$f":"'4V 4_1 PSA.3'!D51+'4V 4_1 PSA.6'!D51+'4V 4_1 PSA.9'!D51","v":40},{"$f":"'4V 4_1 PSA.3'!E51+'4V 4_1 PSA.6'!E51+'4V 4_1 PSA.9'!E51","v":53}]
["51",{"$f":"'4V 4_1 PSA.3'!B52+'4V 4_1 PSA.6'!B52+'4V 4_1 PSA.9'!B52","v":41703},{"$f":"'4V 4_1 PSA.3'!C52+'4V 4_1 PSA.6'!C52+'4V 4_1 PSA.9'!C52","v":51758},{"$f":"'4V 4_1 PSA.3'!D52+'4V 4_1 PSA.6'!D52+'4V 4_1 PSA.9'!D52","v":28},{"$f":"'4V 4_1 PSA.3'!E52+'4V 4_1 PSA.6'!E52+'4V 4_1 PSA.9'!E52","v":68}]
["52",{"$f":"'4V 4_1 PSA.3'!B53+'4V 4_1 PSA.6'!B53+'4V 4_1 PSA.9'!B53","v":39900},{"$f":"'4V 4_1 PSA.3'!C53+'4V 4_1 PSA.6'!C53+'4V 4_1 PSA.9'!C53","v":52320},{"$f":"'4V 4_1 PSA.3'!D53+'4V 4_1 PSA.6'!D53+'4V 4_1 PSA.9'!D53","v":55},{"$f":"'4V 4_1 PSA.3'!E53+'4V 4_1 PSA.6'!E53+'4V 4_1 PSA.9'!E53","v":53}]
["53",{"$f":"'4V 4_1 PSA.3'!B54+'4V 4_1 PSA.6'!B54+'4V 4_1 PSA.9'!B54","v":38053},{"$f":"'4V 4_1 PSA.3'!C54+'4V 4_1 PSA.6'!C54+'4V 4_1 PSA.9'!C54","v":52379},{"$f":"'4V 4_1 PSA.3'!D54+'4V 4_1 PSA.6'!D54+'4V 4_1 PSA.9'!D54","v":46},{"$f":"'4V 4_1 PSA.3'!E54+'4V 4_1 PSA.6'!E54+'4V 4_1 PSA.9'!E54","v":54}]
["54",{"$f":"'4V 4_1 PSA.3'!B55+'4V 4_1 PSA.6'!B55+'4V 4_1 PSA.9'!B55","v":37320},{"$f":"'4V 4_1 PSA.3'!C55+'4V 4_1 PSA.6'!C55+'4V 4_1 PSA.9'!C55","v":47920},{"$f":"'4V 4_1 PSA.3'!D55+'4V 4_1 PSA.6'!D55+'4V 4_1 PSA.9'!D55","v":50},{"$f":"'4V 4_1 PSA.3'!E55+'4V 4_1 PSA.6'!E55+'4V 4_1 PSA.9'!E55","v":65}]
["55",{"$f":"'4V 4_1 PSA.3'!B56+'4V 4_1 PSA.6'!B56+'4V 4_1 PSA.9'!B56","v":36404},{"$f":"'4V 4_1 PSA.3'!C56+'4V 4_1 PSA.6'!C56+'4V 4_1 PSA.9'!C56","v":43544},{"$f":"'4V 4_1 PSA.3'!D56+'4V 4_1 PSA.6'!D56+'4V 4_1 PSA.9'!D56","v":55},{"$f":"'4V 4_1 PSA.3'!E56+'4V 4_1 PSA.6'!E56+'4V 4_1 PSA.9'!E56","v":76}]
["56",{"$f":"'4V 4_1 PSA.3'!B57+'4V 4_1 PSA.6'!B57+'4V 4_1 PSA.9'!B57","v":33096},{"$f":"'4V 4_1 PSA.3'!C57+'4V 4_1 PSA.6'!C57+'4V 4_1 PSA.9'!C57","v":39773},{"$f":"'4V 4_1 PSA.3'!D57+'4V 4_1 PSA.6'!D57+'4V 4_1 PSA.9'!D57","v":42},{"$f":"'4V 4_1 PSA.3'!E57+'4V 4_1 PSA.6'!E57+'4V 4_1 PSA.9'!E57","v":47}]
["57",{"$f":"'4V 4_1 PSA.3'!B58+'4V 4_1 PSA.6'!B58+'4V 4_1 PSA.9'!B58","v":28869},{"$f":"'4V 4_1 PSA.3'!C58+'4V 4_1 PSA.6'!C58+'4V 4_1 PSA.9'!C58","v":35669},{"$f":"'4V 4_1 PSA.3'!D58+'4V 4_1 PSA.6'!D58+'4V 4_1 PSA.9'!D58","v":53},{"$f":"'4V 4_1 PSA.3'!E58+'4V 4_1 PSA.6'!E58+'4V 4_1 PSA.9'!E58","v":47}]
["58",{"$f":"'4V 4_1 PSA.3'!B59+'4V 4_1 PSA.6'!B59+'4V 4_1 PSA.9'!B59","v":25324},{"$f":"'4V 4_1 PSA.3'!C59+'4V 4_1 PSA.6'!C59+'4V 4_1 PSA.9'!C59","v":31740},{"$f":"'4V 4_1 PSA.3'!D59+'4V 4_1 PSA.6'!D59+'4V 4_1 PSA.9'!D59","v":46},{"$f":"'4V 4_1 PSA.3'!E59+'4V 4_1 PSA.6'!E59+'4V 4_1 PSA.9'!E59","v":43}]
["59",{"$f":"'4V 4_1 PSA.3'!B60+'4V 4_1 PSA.6'!B60+'4V 4_1 PSA.9'!B60","v":21851},{"$f":"'4V 4_1 PSA.3'!C60+'4V 4_1 PSA.6'!C60+'4V 4_1 PSA.9'!C60","v":27112},{"$f":"'4V 4_1 PSA.3'!D60+'4V 4_1 PSA.6'!D60+'4V 4_1 PSA.9'!D60","v":54},{"$f":"'4V 4_1 PSA.3'!E60+'4V 4_1 PSA.6'!E60+'4V 4_1 PSA.9'!E60","v":49}]
["60",{"$f":"'4V 4_1 PSA.3'!B61+'4V 4_1 PSA.6'!B61+'4V 4_1 PSA.9'!B61","v":15423},{"$f":"'4V 4_1 PSA.3'!C61+'4V 4_1 PSA.6'!C61+'4V 4_1 PSA.9'!C61","v":16630},{"$f":"'4V 4_1 PSA.3'!D61+'4V 4_1 PSA.6'!D61+'4V 4_1 PSA.9'!D61","v":38},{"$f":"'4V 4_1 PSA.3'!E61+'4V 4_1 PSA.6'!E61+'4V 4_1 PSA.9'!E61","v":53}]
["61",{"$f":"'4V 4_1 PSA.3'!B62+'4V 4_1 PSA.6'!B62+'4V 4_1 PSA.9'!B62","v":8773},{"$f":"'4V 4_1 PSA.3'!C62+'4V 4_1 PSA.6'!C62+'4V 4_1 PSA.9'!C62","v":7381},{"$f":"'4V 4_1 PSA.3'!D62+'4V 4_1 PSA.6'!D62+'4V 4_1 PSA.9'!D62","v":20},{"$f":"'4V 4_1 PSA.3'!E62+'4V 4_1 PSA.6'!E62+'4V 4_1 PSA.9'!E62","v":14}]
["62",{"$f":"'4V 4_1 PSA.3'!B63+'4V 4_1 PSA.6'!B63+'4V 4_1 PSA.9'!B63","v":6971},{"$f":"'4V 4_1 PSA.3'!C63+'4V 4_1 PSA.6'!C63+'4V 4_1 PSA.9'!C63","v":5609},{"$f":"'4V 4_1 PSA.3'!D63+'4V 4_1 PSA.6'!D63+'4V 4_1 PSA.9'!D63","v":6},{"$f":"'4V 4_1 PSA.3'!E63+'4V 4_1 PSA.6'!E63+'4V 4_1 PSA.9'!E63","v":11}]
["63",{"$f":"'4V 4_1 PSA.3'!B64+'4V 4_1 PSA.6'!B64+'4V 4_1 PSA.9'!B64","v":6192},{"$f":"'4V 4_1 PSA.3'!C64+'4V 4_1 PSA.6'!C64+'4V 4_1 PSA.9'!C64","v":4790},{"$f":"'4V 4_1 PSA.3'!D64+'4V 4_1 PSA.6'!D64+'4V 4_1 PSA.9'!D64","v":4},{"$f":"'4V 4_1 PSA.3'!E64+'4V 4_1 PSA.6'!E64+'4V 4_1 PSA.9'!E64","v":10}]
["64",{"$f":"'4V 4_1 PSA.3'!B65+'4V 4_1 PSA.6'!B65+'4V 4_1 PSA.9'!B65","v":5371},{"$f":"'4V 4_1 PSA.3'!C65+'4V 4_1 PSA.6'!C65+'4V 4_1 PSA.9'!C65","v":3968},{"$f":"'4V 4_1 PSA.3'!D65+'4V 4_1 PSA.6'!D65+'4V 4_1 PSA.9'!D65","v":4},{"$f":"'4V 4_1 PSA.3'!E65+'4V 4_1 PSA.6'!E65+'4V 4_1 PSA.9'!E65","v":3}]
[65,{"$f":"'4V 4_1 PSA.3'!B66+'4V 4_1 PSA.6'!B66+'4V 4_1 PSA.9'!B66","v":4558},{"$f":"'4V 4_1 PSA.3'!C66+'4V 4_1 PSA.6'!C66+'4V 4_1 PSA.9'!C66","v":3094},{"$f":"'4V 4_1 PSA.3'!D66+'4V 4_1 PSA.6'!D66+'4V 4_1 PSA.9'!D66","v":8},{"$f":"'4V 4_1 PSA.3'!E66+'4V 4_1 PSA.6'!E66+'4V 4_1 PSA.9'!E66","v":3}]
["66 o más",{"$f":"'4V 4_1 PSA.3'!B67+'4V 4_1 PSA.6'!B67+'4V 4_1 PSA.9'!B67","v":25745},{"$f":"'4V 4_1 PSA.3'!C67+'4V 4_1 PSA.6'!C67+'4V 4_1 PSA.9'!C67","v":18157},{"$f":"'4V 4_1 PSA.3'!D67+'4V 4_1 PSA.6'!D67+'4V 4_1 PSA.9'!D67","v":20},{"$f":"'4V 4_1 PSA.3'!E67+'4V 4_1 PSA.6'!E67+'4V 4_1 PSA.9'!E67","v":16}]
["Total",{"$f":"SUM(B16:B67)","v":1489258},{"$f":"SUM(C16:C67)","v":1772309},{"$f":"SUM(D16:D67)","v":879},1033]
["CIFRAS EN PESOS, ESTIMADAS AL 100%."]

{"sheet":"4V 4_1 PSA.3","index":26,"n_rows":69,"n_cols":5,"rows_kept":69,"cut":false,"hidden":true,"merged":[[13,1,13,2],[13,3,13,4],[13,6,13,7],[13,8,13,9],[2,0,2,4],[3,0,3,4],[5,0,5,4],[6,0,6,4],[7,0,7,4],[9,0,9,4]]}
[]
[]
["4. INVALIDEZ TOTAL Y PERMANENTE EN LA OPERACION DE VIDA  POR TIPO"]
[" DE SEGURO CONTRATADO, EDAD ALCANZADA Y PERIODOS DE ESPERA"]
[]
[{"$f":"#REF!","v":{"$error":"#REF!"}}]
[]
["VIDA INDIVIDUAL "]
[]
["PAGO DE LA SUMA ASEGURADA POR INVALIDEZ"]
[]
[null,null,"PERIODO DE ESPERA DE (0-3] MESES"]
[null,2,3,4,5]
["EDAD","PÓLIZAS O CERTIFICADOS AL FINAL DEL EJERCICIO",null,"INVALIDADOS EN EL EJERCICIO"]
["ALCANZADA","Hombres","Mujeres","Hombres","Mujeres"]
[" Hasta15 años",8,11,0,0]
[16,13,19,0,0]
[17,19,33,0,0]
[18,424,79,0,0]
[19,876,334,0,0]
[20,1434,677,0,1]
[21,2163,1075,0,0]
[22,2912,1523,1,1]
[23,3665,2138,0,2]
[24,4417,2807,0,0]
[25,5741,4090,0,0]
[26,6908,5243,1,1]
[27,8020,6307,3,1]
[28,8819,7067,0,0]
[29,9261,7512,1,1]
[30,9962,8257,0,1]
[31,10066,8489,1,2]
[32,10294,9125,6,6]
[33,10420,9039,0,2]
[34,10778,9335,3,3]
[35,10542,9487,1,1]
[36,10741,9608,10,3]
[37,10749,9592,5,5]
[38,10597,9658,6,4]
[39,10199,9571,8,5]
[40,10463,9568,11,7]
[41,10257,9205,12,5]
[42,10153,8982,10,12]
[43,10269,8855,6,16]
[44,10226,8922,11,15]
[45,10193,9027,16,13]
[46,10332,9104,14,15]
[47,10345,8858,15,21]
[48,9890,8552,25,20]
[49,9464,8327,18,29]
[50,8803,7774,20,30]
[51,8552,7494,16,42]
[52,8300,7439,33,33]
[53,7815,7241,31,24]
[54,7653,7546,36,36]
[55,7529,7634,37,49]
[56,7304,7167,31,24]
[57,6744,6739,36,32]
[58,6288,6244,34,24]
[59,5602,5476,37,31]
[60,5459,4882,30,44]
[61,5137,4390,19,13]
[62,4655,3528,5,8]
[63,4427,3288,3,8]
[64,3928,2840,3,3]
[65,3811,2505,8,1]
["66 o mas",24502,17313,19,16]
["Total",{"$f":"SUM(B16:B67)","v":387129},{"$f":"SUM(C16:C67)","v":329976},582,610]
["CIFRAS EN PESOS, ESTIMADAS AL 100%."]

{"sheet":"4V 4_1 PSA.6","index":27,"n_rows":69,"n_cols":5,"rows_kept":69,"cut":false,"hidden":true,"merged":[[13,1,13,2],[13,3,13,4],[13,6,13,7],[13,8,13,9],[2,0,2,4],[3,0,3,4],[5,0,5,4],[6,0,6,4],[7,0,7,4],[9,0,9,4]]}
[]
[]
["4. INVALIDEZ TOTAL Y PERMANENTE EN LA OPERACION DE VIDA  POR TIPO"]
[" DE SEGURO CONTRATADO, EDAD ALCANZADA Y PERIODOS DE ESPERA"]
[]
[{"$f":"#REF!","v":{"$error":"#REF!"}}]
[]
["VIDA INDIVIDUAL "]
[]
["PAGO DE LA SUMA ASEGURADA POR INVALIDEZ"]
[]
[null,null,"PERIODO DE ESPERA DE (3- 6] MESES"]
[null,2,3,4,5]
["EDAD","PÓLIZAS O CERTIFICADOS AL FINAL DEL EJERCICIO",null,"INVALIDADOS EN EL EJERCICIO"]
["ALCANZADA","Hombres","Mujeres","Hombres","Mujeres"]
[" Hasta15 años",2664,7603,0,1]
[16,232,1020,0,1]
[17,277,1049,0,1]
[18,348,734,0,1]
[19,754,833,0,0]
[20,1522,1371,0,0]
[21,2637,2151,1,0]
[22,3697,3225,1,0]
[23,5044,5114,1,0]
[24,7109,7486,0,1]
[25,9394,11159,1,1]
[26,11897,16061,1,0]
[27,14616,20451,1,0]
[28,16901,23849,1,0]
[29,19227,27017,0,1]
[30,21891,31172,2,2]
[31,24245,34791,0,3]
[32,26753,38204,4,4]
[33,28554,41113,4,3]
[34,31635,43763,1,7]
[35,33815,46611,1,1]
[36,35755,49089,5,6]
[37,37530,50747,6,7]
[38,38325,50823,3,4]
[39,41194,51748,7,8]
[40,39830,51149,4,7]
[41,38985,49219,9,5]
[42,39363,49393,4,14]
[43,39849,48781,4,3]
[44,39473,48232,4,11]
[45,39913,48712,10,16]
[46,40650,50083,14,19]
[47,39626,49043,6,14]
[48,38165,48447,14,20]
[49,37088,47191,17,15]
[50,35319,44775,20,23]
[51,33151,44264,12,26]
[52,31600,44881,22,20]
[53,30238,45138,15,30]
[54,29667,40374,14,29]
[55,28875,35910,18,27]
[56,25792,32606,11,23]
[57,22125,28930,17,15]
[58,19036,25496,12,19]
[59,16248,21635,17,18]
[60,9963,11748,8,9]
[61,3636,2991,1,1]
[62,2316,2081,1,3]
[63,1765,1502,1,2]
[64,1443,1128,1,0]
[65,747,589,0,2]
["66 o mas",1243,844,1,0]
["Total",{"$f":"SUM(B16:B67)","v":1102122},{"$f":"SUM(C16:C67)","v":1442326},297,423]
["CIFRAS EN PESOS, ESTIMADAS AL 100%."]

{"sheet":"4V 4_1 PSA.9","index":28,"n_rows":69,"n_cols":5,"rows_kept":69,"cut":false,"hidden":true,"merged":[[13,1,13,2],[13,3,13,4],[13,6,13,7],[13,8,13,9],[2,0,2,4],[3,0,3,4],[5,0,5,4],[6,0,6,4],[7,0,7,4],[9,0,9,4]]}
[]
[]
["4. INVALIDEZ TOTAL Y PERMANENTE EN LA OPERACION DE VIDA  POR TIPO"]
[" DE SEGURO CONTRATADO, EDAD ALCANZADA Y PERIODOS DE ESPERA"]
[]
[{"$f":"#REF!","v":{"$error":"#REF!"}}]
[]
["VIDA INDIVIDUAL "]
[]
["PAGO DE LA SUMA ASEGURADA POR INVALIDEZ"]
[]
[null,null,"PERIODO DE ESPERA DE (6- 9] MESES"]
[null,2,3,4,5]
["EDAD","PÓLIZAS O CERTIFICADOS AL FINAL DEL EJERCICIO",null,"INVALIDADOS EN EL EJERCICIO"]
["ALCANZADA","Hombres","Mujeres","Hombres","Mujeres"]
[" Hasta15 años",1,4,0,0]
[16,1,0,0,0]
[17,0,1,0,0]
[18,0,0,0,0]
[19,0,0,0,0]
[20,0,0,0,0]
[21,0,0,0,0]
[22,1,0,0,0]
[23,0,0,0,0]
[24,0,0,0,0]
[25,0,0,0,0]
[26,0,0,0,0]
[27,0,0,0,0]
[28,0,0,0,0]
[29,0,0,0,0]
[30,0,0,0,0]
[31,0,0,0,0]
[32,0,0,0,0]
[33,0,0,0,0]
[34,0,0,0,0]
[35,0,0,0,0]
[36,0,0,0,0]
[37,0,0,0,0]
[38,0,0,0,0]
[39,0,0,0,0]
[40,0,0,0,0]
[41,0,0,0,0]
[42,1,0,0,0]
[43,0,0,0,0]
[44,1,0,0,0]
[45,0,1,0,0]
[46,0,0,0,0]
[47,0,0,0,0]
[48,0,0,0,0]
[49,0,0,0,0]
[50,0,0,0,0]
[51,0,0,0,0]
[52,0,0,0,0]
[53,0,0,0,0]
[54,0,0,0,0]
[55,0,0,0,0]
[56,0,0,0,0]
[57,0,0,0,0]
[58,0,0,0,0]
[59,1,1,0,0]
[60,1,0,0,0]
[61,0,0,0,0]
[62,0,0,0,0]
[63,0,0,0,0]
[64,0,0,0,0]
[65,0,0,0,0]
["66 o mas",0,0,0,0]
["Total",{"$f":"SUM(B16:B67)","v":7},{"$f":"SUM(C16:C67)","v":7},0,0]
["CIFRAS EN PESOS, ESTIMADAS AL 100%."]

{"sheet":"4Total Ind RPI","index":29,"n_rows":70,"n_cols":5,"rows_kept":70,"cut":false,"hidden":true,"merged":[[13,1,13,2],[13,3,13,4],[13,6,13,7],[13,8,13,9],[2,0,2,4],[3,0,3,4],[5,0,5,4],[6,0,6,4],[7,0,7,4],[9,0,9,4]]}
[]
[]
["4. INVALIDEZ TOTAL Y PERMANENTE EN LA OPERACION DE VIDA  POR TIPO"]
[" DE SEGURO CONTRATADO, EDAD ALCANZADA Y PERIODOS DE ESPERA"]
[]
[{"$f":"#REF!","v":{"$error":"#REF!"}}]
[]
["VIDA INDIVIDUAL "]
[]
["RENTA POR INVALIDEZ"]
[]
[null,null,"TOTAL"]
[]
["EDAD","PÓLIZAS O CERTIFICADOS AL FINAL DEL EJERCICIO",null,"INVALIDADOS EN EL EJERCICIO"]
["ALCANZADA","Hombres","Mujeres","Hombres","Mujeres"]
[" Hasta15 años",{"$f":"'4V 4_1 RPI.3'!B16+'4V 4_1 RPI.6'!B16","v":0},{"$f":"'4V 4_1 RPI.3'!C16+'4V 4_1 RPI.6'!C16","v":0},{"$f":"'4V 4_1 RPI.3'!D16+'4V 4_1 RPI.6'!D16","v":1},{"$f":"'4V 4_1 RPI.3'!E16+'4V 4_1 RPI.6'!E16","v":17}]
["16",{"$f":"'4V 4_1 RPI.3'!B17+'4V 4_1 RPI.6'!B17","v":0},{"$f":"'4V 4_1 RPI.3'!C17+'4V 4_1 RPI.6'!C17","v":0},{"$f":"'4V 4_1 RPI.3'!D17+'4V 4_1 RPI.6'!D17","v":1},{"$f":"'4V 4_1 RPI.3'!E17+'4V 4_1 RPI.6'!E17","v":4}]
["17",{"$f":"'4V 4_1 RPI.3'!B18+'4V 4_1 RPI.6'!B18","v":0},{"$f":"'4V 4_1 RPI.3'!C18+'4V 4_1 RPI.6'!C18","v":0},{"$f":"'4V 4_1 RPI.3'!D18+'4V 4_1 RPI.6'!D18","v":0},{"$f":"'4V 4_1 RPI.3'!E18+'4V 4_1 RPI.6'!E18","v":5}]
["18",{"$f":"'4V 4_1 RPI.3'!B19+'4V 4_1 RPI.6'!B19","v":0},{"$f":"'4V 4_1 RPI.3'!C19+'4V 4_1 RPI.6'!C19","v":6},{"$f":"'4V 4_1 RPI.3'!D19+'4V 4_1 RPI.6'!D19","v":0},{"$f":"'4V 4_1 RPI.3'!E19+'4V 4_1 RPI.6'!E19","v":2}]
["19",{"$f":"'4V 4_1 RPI.3'!B20+'4V 4_1 RPI.6'!B20","v":2},{"$f":"'4V 4_1 RPI.3'!C20+'4V 4_1 RPI.6'!C20","v":10},{"$f":"'4V 4_1 RPI.3'!D20+'4V 4_1 RPI.6'!D20","v":0},{"$f":"'4V 4_1 RPI.3'!E20+'4V 4_1 RPI.6'!E20","v":1}]
["20",{"$f":"'4V 4_1 RPI.3'!B21+'4V 4_1 RPI.6'!B21","v":2},{"$f":"'4V 4_1 RPI.3'!C21+'4V 4_1 RPI.6'!C21","v":6},{"$f":"'4V 4_1 RPI.3'!D21+'4V 4_1 RPI.6'!D21","v":1},{"$f":"'4V 4_1 RPI.3'!E21+'4V 4_1 RPI.6'!E21","v":1}]
["21",{"$f":"'4V 4_1 RPI.3'!B22+'4V 4_1 RPI.6'!B22","v":5},{"$f":"'4V 4_1 RPI.3'!C22+'4V 4_1 RPI.6'!C22","v":7},{"$f":"'4V 4_1 RPI.3'!D22+'4V 4_1 RPI.6'!D22","v":1},{"$f":"'4V 4_1 RPI.3'!E22+'4V 4_1 RPI.6'!E22","v":0}]
["22",{"$f":"'4V 4_1 RPI.3'!B23+'4V 4_1 RPI.6'!B23","v":1},{"$f":"'4V 4_1 RPI.3'!C23+'4V 4_1 RPI.6'!C23","v":13},{"$f":"'4V 4_1 RPI.3'!D23+'4V 4_1 RPI.6'!D23","v":0},{"$f":"'4V 4_1 RPI.3'!E23+'4V 4_1 RPI.6'!E23","v":0}]
["23",{"$f":"'4V 4_1 RPI.3'!B24+'4V 4_1 RPI.6'!B24","v":2},{"$f":"'4V 4_1 RPI.3'!C24+'4V 4_1 RPI.6'!C24","v":9},{"$f":"'4V 4_1 RPI.3'!D24+'4V 4_1 RPI.6'!D24","v":0},{"$f":"'4V 4_1 RPI.3'!E24+'4V 4_1 RPI.6'!E24","v":1}]
["24",{"$f":"'4V 4_1 RPI.3'!B25+'4V 4_1 RPI.6'!B25","v":10},{"$f":"'4V 4_1 RPI.3'!C25+'4V 4_1 RPI.6'!C25","v":19},{"$f":"'4V 4_1 RPI.3'!D25+'4V 4_1 RPI.6'!D25","v":0},{"$f":"'4V 4_1 RPI.3'!E25+'4V 4_1 RPI.6'!E25","v":0}]
["25",{"$f":"'4V 4_1 RPI.3'!B26+'4V 4_1 RPI.6'!B26","v":6},{"$f":"'4V 4_1 RPI.3'!C26+'4V 4_1 RPI.6'!C26","v":34},{"$f":"'4V 4_1 RPI.3'!D26+'4V 4_1 RPI.6'!D26","v":0},{"$f":"'4V 4_1 RPI.3'!E26+'4V 4_1 RPI.6'!E26","v":0}]
["26",{"$f":"'4V 4_1 RPI.3'!B27+'4V 4_1 RPI.6'!B27","v":10},{"$f":"'4V 4_1 RPI.3'!C27+'4V 4_1 RPI.6'!C27","v":40},{"$f":"'4V 4_1 RPI.3'!D27+'4V 4_1 RPI.6'!D27","v":0},{"$f":"'4V 4_1 RPI.3'!E27+'4V 4_1 RPI.6'!E27","v":0}]
["27",{"$f":"'4V 4_1 RPI.3'!B28+'4V 4_1 RPI.6'!B28","v":19},{"$f":"'4V 4_1 RPI.3'!C28+'4V 4_1 RPI.6'!C28","v":53},{"$f":"'4V 4_1 RPI.3'!D28+'4V 4_1 RPI.6'!D28","v":0},{"$f":"'4V 4_1 RPI.3'!E28+'4V 4_1 RPI.6'!E28","v":0}]
["28",{"$f":"'4V 4_1 RPI.3'!B29+'4V 4_1 RPI.6'!B29","v":20},{"$f":"'4V 4_1 RPI.3'!C29+'4V 4_1 RPI.6'!C29","v":51},{"$f":"'4V 4_1 RPI.3'!D29+'4V 4_1 RPI.6'!D29","v":1},{"$f":"'4V 4_1 RPI.3'!E29+'4V 4_1 RPI.6'!E29","v":0}]
["29",{"$f":"'4V 4_1 RPI.3'!B30+'4V 4_1 RPI.6'!B30","v":31},{"$f":"'4V 4_1 RPI.3'!C30+'4V 4_1 RPI.6'!C30","v":64},{"$f":"'4V 4_1 RPI.3'!D30+'4V 4_1 RPI.6'!D30","v":0},{"$f":"'4V 4_1 RPI.3'!E30+'4V 4_1 RPI.6'!E30","v":0}]
["30",{"$f":"'4V 4_1 RPI.3'!B31+'4V 4_1 RPI.6'!B31","v":44},{"$f":"'4V 4_1 RPI.3'!C31+'4V 4_1 RPI.6'!C31","v":85},{"$f":"'4V 4_1 RPI.3'!D31+'4V 4_1 RPI.6'!D31","v":0},{"$f":"'4V 4_1 RPI.3'!E31+'4V 4_1 RPI.6'!E31","v":0}]
["31",{"$f":"'4V 4_1 RPI.3'!B32+'4V 4_1 RPI.6'!B32","v":44},{"$f":"'4V 4_1 RPI.3'!C32+'4V 4_1 RPI.6'!C32","v":103},{"$f":"'4V 4_1 RPI.3'!D32+'4V 4_1 RPI.6'!D32","v":0},{"$f":"'4V 4_1 RPI.3'!E32+'4V 4_1 RPI.6'!E32","v":1}]
["32",{"$f":"'4V 4_1 RPI.3'!B33+'4V 4_1 RPI.6'!B33","v":59},{"$f":"'4V 4_1 RPI.3'!C33+'4V 4_1 RPI.6'!C33","v":106},{"$f":"'4V 4_1 RPI.3'!D33+'4V 4_1 RPI.6'!D33","v":1},{"$f":"'4V 4_1 RPI.3'!E33+'4V 4_1 RPI.6'!E33","v":1}]
["33",{"$f":"'4V 4_1 RPI.3'!B34+'4V 4_1 RPI.6'!B34","v":83},{"$f":"'4V 4_1 RPI.3'!C34+'4V 4_1 RPI.6'!C34","v":116},{"$f":"'4V 4_1 RPI.3'!D34+'4V 4_1 RPI.6'!D34","v":0},{"$f":"'4V 4_1 RPI.3'!E34+'4V 4_1 RPI.6'!E34","v":3}]
["34",{"$f":"'4V 4_1 RPI.3'!B35+'4V 4_1 RPI.6'!B35","v":92},{"$f":"'4V 4_1 RPI.3'!C35+'4V 4_1 RPI.6'!C35","v":129},{"$f":"'4V 4_1 RPI.3'!D35+'4V 4_1 RPI.6'!D35","v":0},{"$f":"'4V 4_1 RPI.3'!E35+'4V 4_1 RPI.6'!E35","v":0}]
["35",{"$f":"'4V 4_1 RPI.3'!B36+'4V 4_1 RPI.6'!B36","v":98},{"$f":"'4V 4_1 RPI.3'!C36+'4V 4_1 RPI.6'!C36","v":119},{"$f":"'4V 4_1 RPI.3'!D36+'4V 4_1 RPI.6'!D36","v":0},{"$f":"'4V 4_1 RPI.3'!E36+'4V 4_1 RPI.6'!E36","v":0}]
["36",{"$f":"'4V 4_1 RPI.3'!B37+'4V 4_1 RPI.6'!B37","v":109},{"$f":"'4V 4_1 RPI.3'!C37+'4V 4_1 RPI.6'!C37","v":139},{"$f":"'4V 4_1 RPI.3'!D37+'4V 4_1 RPI.6'!D37","v":1},{"$f":"'4V 4_1 RPI.3'!E37+'4V 4_1 RPI.6'!E37","v":2}]
["37",{"$f":"'4V 4_1 RPI.3'!B38+'4V 4_1 RPI.6'!B38","v":136},{"$f":"'4V 4_1 RPI.3'!C38+'4V 4_1 RPI.6'!C38","v":171},{"$f":"'4V 4_1 RPI.3'!D38+'4V 4_1 RPI.6'!D38","v":2},{"$f":"'4V 4_1 RPI.3'!E38+'4V 4_1 RPI.6'!E38","v":0}]
["38",{"$f":"'4V 4_1 RPI.3'!B39+'4V 4_1 RPI.6'!B39","v":154},{"$f":"'4V 4_1 RPI.3'!C39+'4V 4_1 RPI.6'!C39","v":183},{"$f":"'4V 4_1 RPI.3'!D39+'4V 4_1 RPI.6'!D39","v":1},{"$f":"'4V 4_1 RPI.3'!E39+'4V 4_1 RPI.6'!E39","v":1}]
["39",{"$f":"'4V 4_1 RPI.3'!B40+'4V 4_1 RPI.6'!B40","v":183},{"$f":"'4V 4_1 RPI.3'!C40+'4V 4_1 RPI.6'!C40","v":153},{"$f":"'4V 4_1 RPI.3'!D40+'4V 4_1 RPI.6'!D40","v":3},{"$f":"'4V 4_1 RPI.3'!E40+'4V 4_1 RPI.6'!E40","v":5}]
["40",{"$f":"'4V 4_1 RPI.3'!B41+'4V 4_1 RPI.6'!B41","v":201},{"$f":"'4V 4_1 RPI.3'!C41+'4V 4_1 RPI.6'!C41","v":143},{"$f":"'4V 4_1 RPI.3'!D41+'4V 4_1 RPI.6'!D41","v":0},{"$f":"'4V 4_1 RPI.3'!E41+'4V 4_1 RPI.6'!E41","v":2}]
[41,{"$f":"'4V 4_1 RPI.3'!B42+'4V 4_1 RPI.6'!B42","v":201},{"$f":"'4V 4_1 RPI.3'!C42+'4V 4_1 RPI.6'!C42","v":124},{"$f":"'4V 4_1 RPI.3'!D42+'4V 4_1 RPI.6'!D42","v":2},{"$f":"'4V 4_1 RPI.3'!E42+'4V 4_1 RPI.6'!E42","v":1}]
["42",{"$f":"'4V 4_1 RPI.3'!B43+'4V 4_1 RPI.6'!B43","v":176},{"$f":"'4V 4_1 RPI.3'!C43+'4V 4_1 RPI.6'!C43","v":126},{"$f":"'4V 4_1 RPI.3'!D43+'4V 4_1 RPI.6'!D43","v":5},{"$f":"'4V 4_1 RPI.3'!E43+'4V 4_1 RPI.6'!E43","v":2}]
["43",{"$f":"'4V 4_1 RPI.3'!B44+'4V 4_1 RPI.6'!B44","v":187},{"$f":"'4V 4_1 RPI.3'!C44+'4V 4_1 RPI.6'!C44","v":146},{"$f":"'4V 4_1 RPI.3'!D44+'4V 4_1 RPI.6'!D44","v":4},{"$f":"'4V 4_1 RPI.3'!E44+'4V 4_1 RPI.6'!E44","v":1}]
["44",{"$f":"'4V 4_1 RPI.3'!B45+'4V 4_1 RPI.6'!B45","v":217},{"$f":"'4V 4_1 RPI.3'!C45+'4V 4_1 RPI.6'!C45","v":131},{"$f":"'4V 4_1 RPI.3'!D45+'4V 4_1 RPI.6'!D45","v":3},{"$f":"'4V 4_1 RPI.3'!E45+'4V 4_1 RPI.6'!E45","v":2}]
["45",{"$f":"'4V 4_1 RPI.3'!B46+'4V 4_1 RPI.6'!B46","v":179},{"$f":"'4V 4_1 RPI.3'!C46+'4V 4_1 RPI.6'!C46","v":151},{"$f":"'4V 4_1 RPI.3'!D46+'4V 4_1 RPI.6'!D46","v":2},{"$f":"'4V 4_1 RPI.3'!E46+'4V 4_1 RPI.6'!E46","v":1}]
["46",{"$f":"'4V 4_1 RPI.3'!B47+'4V 4_1 RPI.6'!B47","v":195},{"$f":"'4V 4_1 RPI.3'!C47+'4V 4_1 RPI.6'!C47","v":123},{"$f":"'4V 4_1 RPI.3'!D47+'4V 4_1 RPI.6'!D47","v":1},{"$f":"'4V 4_1 RPI.3'!E47+'4V 4_1 RPI.6'!E47","v":0}]
["47",{"$f":"'4V 4_1 RPI.3'!B48+'4V 4_1 RPI.6'!B48","v":163},{"$f":"'4V 4_1 RPI.3'!C48+'4V 4_1 RPI.6'!C48","v":134},{"$f":"'4V 4_1 RPI.3'!D48+'4V 4_1 RPI.6'!D48","v":7},{"$f":"'4V 4_1 RPI.3'!E48+'4V 4_1 RPI.6'!E48","v":1}]
["48",{"$f":"'4V 4_1 RPI.3'!B49+'4V 4_1 RPI.6'!B49","v":153},{"$f":"'4V 4_1 RPI.3'!C49+'4V 4_1 RPI.6'!C49","v":113},{"$f":"'4V 4_1 RPI.3'!D49+'4V 4_1 RPI.6'!D49","v":3},{"$f":"'4V 4_1 RPI.3'!E49+'4V 4_1 RPI.6'!E49","v":1}]
["49",{"$f":"'4V 4_1 RPI.3'!B50+'4V 4_1 RPI.6'!B50","v":133},{"$f":"'4V 4_1 RPI.3'!C50+'4V 4_1 RPI.6'!C50","v":111},{"$f":"'4V 4_1 RPI.3'!D50+'4V 4_1 RPI.6'!D50","v":3},{"$f":"'4V 4_1 RPI.3'!E50+'4V 4_1 RPI.6'!E50","v":2}]
["50",{"$f":"'4V 4_1 RPI.3'!B51+'4V 4_1 RPI.6'!B51","v":125},{"$f":"'4V 4_1 RPI.3'!C51+'4V 4_1 RPI.6'!C51","v":85},{"$f":"'4V 4_1 RPI.3'!D51+'4V 4_1 RPI.6'!D51","v":2},{"$f":"'4V 4_1 RPI.3'!E51+'4V 4_1 RPI.6'!E51","v":2}]
["51",{"$f":"'4V 4_1 RPI.3'!B52+'4V 4_1 RPI.6'!B52","v":120},{"$f":"'4V 4_1 RPI.3'!C52+'4V 4_1 RPI.6'!C52","v":68},{"$f":"'4V 4_1 RPI.3'!D52+'4V 4_1 RPI.6'!D52","v":3},{"$f":"'4V 4_1 RPI.3'!E52+'4V 4_1 RPI.6'!E52","v":0}]
["52",{"$f":"'4V 4_1 RPI.3'!B53+'4V 4_1 RPI.6'!B53","v":106},{"$f":"'4V 4_1 RPI.3'!C53+'4V 4_1 RPI.6'!C53","v":54},{"$f":"'4V 4_1 RPI.3'!D53+'4V 4_1 RPI.6'!D53","v":2},{"$f":"'4V 4_1 RPI.3'!E53+'4V 4_1 RPI.6'!E53","v":0}]
["53",{"$f":"'4V 4_1 RPI.3'!B54+'4V 4_1 RPI.6'!B54","v":88},{"$f":"'4V 4_1 RPI.3'!C54+'4V 4_1 RPI.6'!C54","v":43},{"$f":"'4V 4_1 RPI.3'!D54+'4V 4_1 RPI.6'!D54","v":2},{"$f":"'4V 4_1 RPI.3'!E54+'4V 4_1 RPI.6'!E54","v":1}]
["54",{"$f":"'4V 4_1 RPI.3'!B55+'4V 4_1 RPI.6'!B55","v":75},{"$f":"'4V 4_1 RPI.3'!C55+'4V 4_1 RPI.6'!C55","v":54},{"$f":"'4V 4_1 RPI.3'!D55+'4V 4_1 RPI.6'!D55","v":1},{"$f":"'4V 4_1 RPI.3'!E55+'4V 4_1 RPI.6'!E55","v":2}]
["55",{"$f":"'4V 4_1 RPI.3'!B56+'4V 4_1 RPI.6'!B56","v":65},{"$f":"'4V 4_1 RPI.3'!C56+'4V 4_1 RPI.6'!C56","v":55},{"$f":"'4V 4_1 RPI.3'!D56+'4V 4_1 RPI.6'!D56","v":2},{"$f":"'4V 4_1 RPI.3'!E56+'4V 4_1 RPI.6'!E56","v":1}]
["56",{"$f":"'4V 4_1 RPI.3'!B57+'4V 4_1 RPI.6'!B57","v":67},{"$f":"'4V 4_1 RPI.3'!C57+'4V 4_1 RPI.6'!C57","v":43},{"$f":"'4V 4_1 RPI.3'!D57+'4V 4_1 RPI.6'!D57","v":2},{"$f":"'4V 4_1 RPI.3'!E57+'4V 4_1 RPI.6'!E57","v":1}]
["57",{"$f":"'4V 4_1 RPI.3'!B58+'4V 4_1 RPI.6'!B58","v":47},{"$f":"'4V 4_1 RPI.3'!C58+'4V 4_1 RPI.6'!C58","v":26},{"$f":"'4V 4_1 RPI.3'!D58+'4V 4_1 RPI.6'!D58","v":1},{"$f":"'4V 4_1 RPI.3'!E58+'4V 4_1 RPI.6'!E58","v":0}]
["58",{"$f":"'4V 4_1 RPI.3'!B59+'4V 4_1 RPI.6'!B59","v":52},{"$f":"'4V 4_1 RPI.3'!C59+'4V 4_1 RPI.6'!C59","v":26},{"$f":"'4V 4_1 RPI.3'!D59+'4V 4_1 RPI.6'!D59","v":5},{"$f":"'4V 4_1 RPI.3'!E59+'4V 4_1 RPI.6'!E59","v":1}]
["59",{"$f":"'4V 4_1 RPI.3'!B60+'4V 4_1 RPI.6'!B60","v":31},{"$f":"'4V 4_1 RPI.3'!C60+'4V 4_1 RPI.6'!C60","v":30},{"$f":"'4V 4_1 RPI.3'!D60+'4V 4_1 RPI.6'!D60","v":0},{"$f":"'4V 4_1 RPI.3'!E60+'4V 4_1 RPI.6'!E60","v":1}]
["60",{"$f":"'4V 4_1 RPI.3'!B61+'4V 4_1 RPI.6'!B61","v":37},{"$f":"'4V 4_1 RPI.3'!C61+'4V 4_1 RPI.6'!C61","v":17},{"$f":"'4V 4_1 RPI.3'!D61+'4V 4_1 RPI.6'!D61","v":3},{"$f":"'4V 4_1 RPI.3'!E61+'4V 4_1 RPI.6'!E61","v":1}]
["61",{"$f":"'4V 4_1 RPI.3'!B62+'4V 4_1 RPI.6'!B62","v":21},{"$f":"'4V 4_1 RPI.3'!C62+'4V 4_1 RPI.6'!C62","v":16},{"$f":"'4V 4_1 RPI.3'!D62+'4V 4_1 RPI.6'!D62","v":1},{"$f":"'4V 4_1 RPI.3'!E62+'4V 4_1 RPI.6'!E62","v":1}]
["62",{"$f":"'4V 4_1 RPI.3'!B63+'4V 4_1 RPI.6'!B63","v":20},{"$f":"'4V 4_1 RPI.3'!C63+'4V 4_1 RPI.6'!C63","v":11},{"$f":"'4V 4_1 RPI.3'!D63+'4V 4_1 RPI.6'!D63","v":1},{"$f":"'4V 4_1 RPI.3'!E63+'4V 4_1 RPI.6'!E63","v":2}]
["63",{"$f":"'4V 4_1 RPI.3'!B64+'4V 4_1 RPI.6'!B64","v":23},{"$f":"'4V 4_1 RPI.3'!C64+'4V 4_1 RPI.6'!C64","v":9},{"$f":"'4V 4_1 RPI.3'!D64+'4V 4_1 RPI.6'!D64","v":1},{"$f":"'4V 4_1 RPI.3'!E64+'4V 4_1 RPI.6'!E64","v":3}]
["64",{"$f":"'4V 4_1 RPI.3'!B65+'4V 4_1 RPI.6'!B65","v":16},{"$f":"'4V 4_1 RPI.3'!C65+'4V 4_1 RPI.6'!C65","v":11},{"$f":"'4V 4_1 RPI.3'!D65+'4V 4_1 RPI.6'!D65","v":5},{"$f":"'4V 4_1 RPI.3'!E65+'4V 4_1 RPI.6'!E65","v":0}]
[65,{"$f":"'4V 4_1 RPI.3'!B66+'4V 4_1 RPI.6'!B66","v":6},{"$f":"'4V 4_1 RPI.3'!C66+'4V 4_1 RPI.6'!C66","v":5},{"$f":"'4V 4_1 RPI.3'!D66+'4V 4_1 RPI.6'!D66","v":2},{"$f":"'4V 4_1 RPI.3'!E66+'4V 4_1 RPI.6'!E66","v":1}]
["66 o más",{"$f":"'4V 4_1 RPI.3'!B67+'4V 4_1 RPI.6'!B67","v":4},{"$f":"'4V 4_1 RPI.3'!C67+'4V 4_1 RPI.6'!C67","v":1},{"$f":"'4V 4_1 RPI.3'!D67+'4V 4_1 RPI.6'!D67","v":2},{"$f":"'4V 4_1 RPI.3'!E67+'4V 4_1 RPI.6'!E67","v":2}]
["Total",{"$f":"SUM(B16:B67)","v":3818},{"$f":"SUM(C16:C67)","v":3472},78,76]
[]
["CIFRAS EN PESOS, ESTIMADAS AL 100%."]

{"sheet":"4V 4_1 RPI.3","index":30,"n_rows":69,"n_cols":5,"rows_kept":69,"cut":false,"hidden":true,"merged":[[13,1,13,2],[13,3,13,4],[13,6,13,7],[13,8,13,9],[2,0,2,4],[3,0,3,4],[5,0,5,4],[6,0,6,4],[7,0,7,4],[9,0,9,4]]}
[]
[]
["4. INVALIDEZ TOTAL Y PERMANENTE EN LA OPERACION DE VIDA  POR TIPO"]
[" DE SEGURO CONTRATADO, EDAD ALCANZADA Y PERIODOS DE ESPERA"]
[]
[{"$f":"#REF!","v":{"$error":"#REF!"}}]
[]
["VIDA INDIVIDUAL "]
[]
["RENTA POR INVALIDEZ"]
[]
[null,null,"PERIODO DE ESPERA DE (0-3] MESES"]
[null,2,3,4,5]
["EDAD","PÓLIZAS O CERTIFICADOS AL FINAL DEL EJERCICIO",null,"INVALIDADOS EN EL EJERCICIO"]
["ALCANZADA","Hombres","Mujeres","Hombres","Mujeres"]
[" Hasta15 años",0,0,1,17]
[16,0,0,0,4]
[17,0,0,0,4]
[18,0,1,0,0]
[19,2,3,0,1]
[20,2,2,0,1]
[21,3,0,1,0]
[22,0,4,0,0]
[23,1,1,0,1]
[24,5,4,0,0]
[25,3,3,0,0]
[26,2,2,0,0]
[27,2,4,0,0]
[28,3,1,0,0]
[29,5,4,0,0]
[30,3,0,0,0]
[31,3,7,0,1]
[32,1,3,0,1]
[33,9,2,0,0]
[34,5,3,0,0]
[35,1,3,0,0]
[36,1,2,0,2]
[37,4,2,1,0]
[38,3,2,0,0]
[39,7,4,0,1]
[40,3,1,0,2]
[41,6,3,0,0]
[42,1,1,2,0]
[43,5,7,1,0]
[44,3,1,2,1]
[45,2,1,1,1]
[46,4,4,0,0]
[47,8,5,3,0]
[48,6,7,1,1]
[49,2,4,1,1]
[50,2,4,0,1]
[51,4,4,1,0]
[52,3,4,2,0]
[53,2,2,0,1]
[54,3,3,1,1]
[55,3,4,0,1]
[56,3,2,0,1]
[57,3,1,0,0]
[58,1,4,1,0]
[59,2,2,0,1]
[60,4,1,2,1]
[61,1,0,1,1]
[62,4,2,1,1]
[63,1,0,1,3]
[64,1,3,3,0]
[65,3,0,2,1]
["66 o mas ",0,0,0,0]
["Total",{"$f":"SUM(B16:B67)","v":145},{"$f":"SUM(C16:C67)","v":127},29,52]
["CIFRAS EN PESOS, ESTIMADAS AL 100%."]

{"sheet":"4V 4_1 RPI.6","index":31,"n_rows":69,"n_cols":5,"rows_kept":69,"cut":false,"hidden":true,"merged":[[13,1,13,2],[13,3,13,4],[13,6,13,7],[13,8,13,9],[2,0,2,4],[3,0,3,4],[5,0,5,4],[6,0,6,4],[7,0,7,4],[9,0,9,4]]}
[]
[]
["4. INVALIDEZ TOTAL Y PERMANENTE EN LA OPERACION DE VIDA  POR TIPO"]
[" DE SEGURO CONTRATADO, EDAD ALCANZADA Y PERIODOS DE ESPERA"]
[]
[{"$f":"#REF!","v":{"$error":"#REF!"}}]
[]
["VIDA INDIVIDUAL "]
[]
["RENTA POR INVALIDEZ"]
[]
[null,null,"PERIODO DE ESPERA DE (3- 6] MESES"]
[null,2,3,4,5]
["EDAD","PÓLIZAS O CERTIFICADOS AL FINAL DEL EJERCICIO",null,"INVALIDADOS EN EL EJERCICIO"]
["ALCANZADA","Hombres","Mujeres","Hombres","Mujeres"]
[" Hasta15 años",0,0,0,0]
[16,0,0,1,0]
[17,0,0,0,1]
[18,0,5,0,2]
[19,0,7,0,0]
[20,0,4,1,0]
[21,2,7,0,0]
[22,1,9,0,0]
[23,1,8,0,0]
[24,5,15,0,0]
[25,3,31,0,0]
[26,8,38,0,0]
[27,17,49,0,0]
[28,17,50,1,0]
[29,26,60,0,0]
[30,41,85,0,0]
[31,41,96,0,0]
[32,58,103,1,0]
[33,74,114,0,3]
[34,87,126,0,0]
[35,97,116,0,0]
[36,108,137,1,0]
[37,132,169,1,0]
[38,151,181,1,1]
[39,176,149,3,4]
[40,198,142,0,0]
[41,195,121,2,1]
[42,175,125,3,2]
[43,182,139,3,1]
[44,214,130,1,1]
[45,177,150,1,0]
[46,191,119,1,0]
[47,155,129,4,1]
[48,147,106,2,0]
[49,131,107,2,1]
[50,123,81,2,1]
[51,116,64,2,0]
[52,103,50,0,0]
[53,86,41,2,0]
[54,72,51,0,1]
[55,62,51,2,0]
[56,64,41,2,0]
[57,44,25,1,0]
[58,51,22,4,1]
[59,29,28,0,0]
[60,33,16,1,0]
[61,20,16,0,0]
[62,16,9,0,1]
[63,22,9,0,0]
[64,15,8,2,0]
[65,3,5,0,0]
["66 o mas",4,1,2,2]
["Total",{"$f":"SUM(B16:B67)","v":3673},{"$f":"SUM(C16:C67)","v":3345},49,24]
["CIFRAS EN PESOS, ESTIMADAS AL 100%."]

{"sheet":"4Total Ind ITP","index":32,"n_rows":68,"n_cols":5,"rows_kept":68,"cut":false,"hidden":false,"merged":[[13,1,13,2],[13,3,13,4],[13,6,13,7],[13,8,13,9],[2,0,2,4],[3,0,3,4],[5,0,5,4],[6,0,6,4],[7,0,7,4],[9,0,9,4]]}
[]
[]
["4. INVALIDEZ TOTAL Y PERMANENTE EN LA OPERACION DE VIDA  POR TIPO"]
[" DE SEGURO CONTRATADO, EDAD ALCANZADA Y PERIODOS DE ESPERA"]
[]
[{"$f":"'1 Total'!B3","v":"DICIEMBRE DE 2021"}]
[]
["VIDA INDIVIDUAL "]
[]
["INVALIDEZ TOTAL Y PERMANENTE"]
[]
[null,null,"TOTAL"]
[]
["EDAD","PÓLIZAS O CERTIFICADOS AL FINAL DEL EJERCICIO",null,"INVALIDADOS EN EL EJERCICIO"]
["ALCANZADA","Hombres","Mujeres","Hombres","Mujeres"]
[" Hasta15 años",2060,1907,0,4]
["16",524,512,0,2]
["17",597,622]
["18",1595,1386,0,6]
["19",3217,2798,0,4]
["20",6028,4776]
["21",9954,7369]
["22",12945,9938]
["23",16156,12902,0,4]
["24",19794,16710,0,0]
["25",24208,21200,0,0]
["26",29637,28141,0,0]
["27",34475,35729,0,0]
["28",39222,41562,4,0]
["29",43251,46407,12,4]
["30",46622,50147,12,0]
["31",50947,56047,16,8]
["32",53067,59984,4,4]
["33",55669,63508,0,8]
["34",57643,66197,25,5]
["35",61440,69444,20,12]
["36",62673,71648,20,16]
["37",64608,74247,20,12]
["38",66105,75571,20,16]
["39",69972,77493,24,28]
["40",65706,74516,32,20]
[41,66755,74561,28,32]
["42",65031,71152,50,25]
["43",64446,70655,32,72]
["44",65282,70151,40,56]
["45",64451,69479,64,40]
["46",64797,69637,60,85]
["47",65415,70986,50,95]
["48",63725,69530,72,80]
["49",60980,67982,108,124]
["50",58619,65867,125,175]
["51",55350,61960,130,140]
["52",52207,60441,145,180]
["53",49559,60048,128,120]
["54",46840,59500,108,160]
["55",45909,54275,160,128]
["56",43536,48448,232,140]
["57",38883,44304,100,144]
["58",34787,40095,68,148]
["59",30963,36377,190,135]
["60",27183,31412,224,200]
["61",21392,22521,125,135]
["62",13856,11841,50,25]
["63",11312,8961,0,8]
["64",10199,7752,5,5]
[65,8523,6432,80,50]
["66 o más",42874,30172,49,50]
["Total",{"$f":"SUM(B16:B67)","v":2070989},{"$f":"SUM(C16:C67)","v":2255300},2632,2705]

{"sheet":"4VI 4_1 ITP.3","index":33,"n_rows":68,"n_cols":5,"rows_kept":68,"cut":false,"hidden":false,"merged":[[13,1,13,2],[13,3,13,4],[13,6,13,7],[13,8,13,9],[2,0,2,4],[3,0,3,4],[5,0,5,4],[6,0,6,4],[7,0,7,4],[9,0,9,4]]}
[]
[]
["4. INVALIDEZ TOTAL Y PERMANENTE EN LA OPERACION DE VIDA  POR TIPO"]
[" DE SEGURO CONTRATADO, EDAD ALCANZADA Y PERIODOS DE ESPERA"]
[]
[{"$f":"'1 Total'!B3","v":"DICIEMBRE DE 2021"}]
[]
["VIDA INDIVIDUAL "]
[]
[{"$f":"'4Total Ind ITP'!A10","v":"INVALIDEZ TOTAL Y PERMANENTE"}]
[]
[" ",null,"PERIODO DE ESPERA DE (0-3] MESES"]
[null,2,3,4,5]
["EDAD","PÓLIZAS O CERTIFICADOS AL FINAL DEL EJERCICIO",null,"INVALIDADOS EN EL EJERCICIO"]
["ALCANZADA","Hombres","Mujeres","Hombres","Mujeres"]
[" Hasta15 años",142,128,0,2]
[16,145,186,0,1]
[17,241,264]
[18,1011,837,0,2]
[19,2182,1859,0,2]
[20,2884,2530]
[21,3688,3160]
[22,4051,3647]
[23,4635,4533,0,2]
[24,5533,5550,0,0]
[25,6844,6905,0,0]
[26,8495,8952,0,0]
[27,9950,11372,0,0]
[28,11438,13784,2,0]
[29,12654,15014,6,2]
[30,13675,15992,6,0]
[31,14846,17487,8,4]
[32,15849,18571,2,2]
[33,16400,19362,0,4]
[34,17208,19986,10,2]
[35,18515,20959,10,6]
[36,18829,21024,10,8]
[37,19311,21706,10,6]
[38,20031,22066,10,8]
[39,20547,22259,12,14]
[40,20067,21298,16,10]
[41,20652,21408,14,16]
[42,20006,20340,20,10]
[43,19804,19656,16,36]
[44,19767,19109,20,28]
[45,19427,18805,32,20]
[46,19732,18549,24,34]
[47,19690,18413,20,38]
[48,18723,17531,36,40]
[49,17762,17123,54,62]
[50,17054,16002,50,70]
[51,15863,14754,52,56]
[52,14557,13956,58,72]
[53,13379,13576,64,60]
[54,12270,13264,54,80]
[55,11687,11855,80,64]
[56,10712,10157,116,70]
[57,9195,8558,50,72]
[58,8007,7161,34,74]
[59,6821,6217,76,54]
[60,5940,5282,112,100]
[61,5204,4300,50,54]
[62,4329,3417,20,10]
[63,3447,2599,0,4]
[64,2885,2078,2,2]
[65,2295,1628,32,20]
["66 o mas",4034,2711,20,20]
["Total",{"$f":"SUM(B16:B67)","v":592413},{"$f":"SUM(C16:C67)","v":607880},{"$f":"SUM(D16:D67)","v":1208},1241]

{"sheet":"4VI 4_1 ITP.6","index":34,"n_rows":68,"n_cols":5,"rows_kept":68,"cut":false,"hidden":false,"merged":[[13,1,13,2],[13,3,13,4],[13,6,13,7],[13,8,13,9],[2,0,2,4],[3,0,3,4],[5,0,5,4],[6,0,6,4],[7,0,7,4],[9,0,9,4]]}
[]
[]
["4. INVALIDEZ TOTAL Y PERMANENTE EN LA OPERACION DE VIDA  POR TIPO"]
[" DE SEGURO CONTRATADO, EDAD ALCANZADA Y PERIODOS DE ESPERA"]
[]
[{"$f":"'1 Total'!B3","v":"DICIEMBRE DE 2021"}]
[]
["VIDA INDIVIDUAL "]
[]
[{"$f":"'4VI 4_1 ITP.3'!A10","v":"INVALIDEZ TOTAL Y PERMANENTE"}]
[]
[null,null,"PERIODO DE ESPERA DE (3- 6] MESES"]
[null,2,3,4,5]
["EDAD","PÓLIZAS O CERTIFICADOS AL FINAL DEL EJERCICIO",null,"INVALIDADOS EN EL EJERCICIO"]
["ALCANZADA","Hombres","Mujeres","Hombres","Mujeres"]
[" Hasta15 años",1918,1779,0,2]
[16,379,326,0,1]
[17,356,358]
[18,584,549,0,4]
[19,1035,939,0,2]
[20,3144,2246]
[21,6266,4209]
[22,8894,6291]
[23,11521,8369,0,2]
[24,14261,11160,0,0]
[25,17364,14295,0,0]
[26,21142,19189,0,0]
[27,24525,24357,0,0]
[28,27784,27778,2,0]
[29,30597,31393,6,2]
[30,32947,34155,6,0]
[31,36101,38560,8,4]
[32,37218,41413,2,2]
[33,39269,44146,0,4]
[34,40434,46211,10,2]
[35,42925,48485,10,6]
[36,43844,50624,10,8]
[37,45297,52541,10,6]
[38,46074,53505,10,8]
[39,49425,55234,12,14]
[40,45639,53218,16,10]
[41,46103,53153,14,16]
[42,45024,50812,20,10]
[43,44642,50999,16,36]
[44,45515,51042,20,28]
[45,45024,50674,32,20]
[46,45064,51088,24,34]
[47,45724,52573,20,38]
[48,45002,51999,36,40]
[49,43218,50859,54,62]
[50,41564,49865,50,70]
[51,39486,47206,52,56]
[52,37649,46485,58,72]
[53,36180,46472,64,60]
[54,34570,46236,54,80]
[55,34222,42420,80,64]
[56,32824,38291,116,70]
[57,29688,35746,50,72]
[58,26780,32934,34,74]
[59,24141,30160,76,54]
[60,21243,26130,112,100]
[61,16187,18221,50,54]
[62,9526,8424,20,10]
[63,7865,6362,0,4]
[64,7313,5674,2,2]
[65,6227,4804,32,20]
["66 o mas",38839,27461,20,20]
["Total",{"$f":"SUM(B16:B67)","v":1478563},{"$f":"SUM(C16:C67)","v":1647420},1208,1243]

{"sheet":"4VI 4_1 ITP.9","index":35,"n_rows":68,"n_cols":5,"rows_kept":68,"cut":false,"hidden":false,"merged":[[13,1,13,2],[13,3,13,4],[13,6,13,7],[13,8,13,9],[2,0,2,4],[3,0,3,4],[5,0,5,4],[6,0,6,4],[7,0,7,4],[9,0,9,4]]}
[]
[]
["4. INVALIDEZ TOTAL Y PERMANENTE EN LA OPERACION DE VIDA  POR TIPO"]
[" DE SEGURO CONTRATADO, EDAD ALCANZADA Y PERIODOS DE ESPERA"]
[]
[{"$f":"'1 Total'!B3","v":"DICIEMBRE DE 2021"}]
[]
["VIDA INDIVIDUAL "]
[]
[{"$f":"'4VI 4_1 ITP.6'!A10","v":"INVALIDEZ TOTAL Y PERMANENTE"}]
[]
[null,null,"PERIODO DE ESPERA DE (6- 9] MESES"]
[null,2,3,4,5]
["EDAD","PÓLIZAS O CERTIFICADOS AL FINAL DEL EJERCICIO",null,"INVALIDADOS EN EL EJERCICIO"]
["ALCANZADA","Hombres","Mujeres","Hombres","Mujeres"]
[" Hasta15 años",0,0,0,0]
[16,0,0,0,0]
[17,0,0,0,0]
[18,0,0,0,0]
[19,0,0,0,0]
[20,0,0,0,0]
[21,0,0,0,0]
[22,0,0,0,0]
[23,0,0,0,0]
[24,0,0,0,0]
[25,0,0,0,0]
[26,0,0,0,0]
[27,0,0,0,0]
[28,0,0,0,0]
[29,0,0,0,0]
[30,0,0,0,0]
[31,0,0,0,0]
[32,0,0,0,0]
[33,0,0,0,0]
[34,1,0,5,1]
[35,0,0,0,0]
[36,0,0,0,0]
[37,0,0,0,0]
[38,0,0,0,0]
[39,0,0,0,0]
[40,0,0,0,0]
[41,0,0,0,0]
[42,1,0,10,5]
[43,0,0,0,0]
[44,0,0,0,0]
[45,0,0,0,0]
[46,1,0,12,17]
[47,1,0,10,19]
[48,0,0,0,0]
[49,0,0,0,0]
[50,1,0,25,35]
[51,1,0,26,28]
[52,1,0,29,36]
[53,0,0,0,0]
[54,0,0,0,0]
[55,0,0,0,0]
[56,0,0,0,0]
[57,0,0,0,0]
[58,0,0,0,0]
[59,1,0,38,27]
[60,0,0,0,0]
[61,1,0,25,27]
[62,1,0,10,5]
[63,0,0,0,0]
[64,1,0,1,1]
[65,1,0,16,10]
["66 o mas",1,0,9,10]
["Total",{"$f":"SUM(B16:B67)","v":13},{"$f":"SUM(C16:C67)","v":0},216,221]

{"sheet":"4Total GPO EPP","index":36,"n_rows":72,"n_cols":5,"rows_kept":72,"cut":false,"hidden":false,"merged":[[70,0,70,4],[13,1,13,2],[13,3,13,4],[13,6,13,7],[13,8,13,9],[9,0,9,4],[2,0,2,4],[3,0,3,4],[5,0,5,4],[6,0,6,4],[7,0,7,4]]}
[]
[]
["4. INVALIDEZ TOTAL Y PERMANENTE EN LA OPERACION DE VIDA  POR TIPO"]
[" DE SEGURO CONTRATADO, EDAD ALCANZADA Y PERIODOS DE ESPERA"]
[]
[{"$f":"'1 Total'!B3","v":"DICIEMBRE DE 2021"}]
[]
["VIDA GRUPO"]
[]
["EXENCION DE PAGO DE PRIMAS POR INVALIDEZ"]
[]
[null,null,"TOTAL"]
[]
["EDAD","PÓLIZAS O CERTIFICADOS AL FINAL DEL EJERCICIO",null,"INVALIDADOS EN EL EJERCICIO"]
["ALCANZADA","Hombres","Mujeres","Hombres","Mujeres"]
[" Hasta15 años",{"$f":"'4VG EPP.3'!B16+'4VG EPP.6'!B16","v":123},{"$f":"'4VG EPP.3'!C16+'4VG EPP.6'!C16","v":23},{"$f":"'4VG EPP.3'!D16+'4VG EPP.6'!D16","v":0},{"$f":"'4VG EPP.3'!E16+'4VG EPP.6'!E16","v":0}]
["16",{"$f":"'4VG EPP.3'!B17+'4VG EPP.6'!B17","v":193},{"$f":"'4VG EPP.3'!C17+'4VG EPP.6'!C17","v":42},{"$f":"'4VG EPP.3'!D17+'4VG EPP.6'!D17","v":0},{"$f":"'4VG EPP.3'!E17+'4VG EPP.6'!E17","v":0}]
["17",{"$f":"'4VG EPP.3'!B18+'4VG EPP.6'!B18","v":476},{"$f":"'4VG EPP.3'!C18+'4VG EPP.6'!C18","v":212},{"$f":"'4VG EPP.3'!D18+'4VG EPP.6'!D18","v":0},{"$f":"'4VG EPP.3'!E18+'4VG EPP.6'!E18","v":0}]
["18",{"$f":"'4VG EPP.3'!B19+'4VG EPP.6'!B19","v":2437},{"$f":"'4VG EPP.3'!C19+'4VG EPP.6'!C19","v":1471},{"$f":"'4VG EPP.3'!D19+'4VG EPP.6'!D19","v":0},{"$f":"'4VG EPP.3'!E19+'4VG EPP.6'!E19","v":0}]
["19",{"$f":"'4VG EPP.3'!B20+'4VG EPP.6'!B20","v":8379},{"$f":"'4VG EPP.3'!C20+'4VG EPP.6'!C20","v":4915},{"$f":"'4VG EPP.3'!D20+'4VG EPP.6'!D20","v":0},{"$f":"'4VG EPP.3'!E20+'4VG EPP.6'!E20","v":0}]
["20",{"$f":"'4VG EPP.3'!B21+'4VG EPP.6'!B21","v":14603},{"$f":"'4VG EPP.3'!C21+'4VG EPP.6'!C21","v":8544},{"$f":"'4VG EPP.3'!D21+'4VG EPP.6'!D21","v":0},{"$f":"'4VG EPP.3'!E21+'4VG EPP.6'!E21","v":0}]
["21",{"$f":"'4VG EPP.3'!B22+'4VG EPP.6'!B22","v":19577},{"$f":"'4VG EPP.3'!C22+'4VG EPP.6'!C22","v":11355},{"$f":"'4VG EPP.3'!D22+'4VG EPP.6'!D22","v":0},{"$f":"'4VG EPP.3'!E22+'4VG EPP.6'!E22","v":0}]
["22",{"$f":"'4VG EPP.3'!B23+'4VG EPP.6'!B23","v":22807},{"$f":"'4VG EPP.3'!C23+'4VG EPP.6'!C23","v":13082},{"$f":"'4VG EPP.3'!D23+'4VG EPP.6'!D23","v":0},{"$f":"'4VG EPP.3'!E23+'4VG EPP.6'!E23","v":0}]
["23",{"$f":"'4VG EPP.3'!B24+'4VG EPP.6'!B24","v":27476},{"$f":"'4VG EPP.3'!C24+'4VG EPP.6'!C24","v":16555},{"$f":"'4VG EPP.3'!D24+'4VG EPP.6'!D24","v":3},{"$f":"'4VG EPP.3'!E24+'4VG EPP.6'!E24","v":0}]
["24",{"$f":"'4VG EPP.3'!B25+'4VG EPP.6'!B25","v":32206},{"$f":"'4VG EPP.3'!C25+'4VG EPP.6'!C25","v":19929},{"$f":"'4VG EPP.3'!D25+'4VG EPP.6'!D25","v":0},{"$f":"'4VG EPP.3'!E25+'4VG EPP.6'!E25","v":3}]
["25",{"$f":"'4VG EPP.3'!B26+'4VG EPP.6'!B26","v":38114},{"$f":"'4VG EPP.3'!C26+'4VG EPP.6'!C26","v":23532},{"$f":"'4VG EPP.3'!D26+'4VG EPP.6'!D26","v":0},{"$f":"'4VG EPP.3'!E26+'4VG EPP.6'!E26","v":0}]
["26",{"$f":"'4VG EPP.3'!B27+'4VG EPP.6'!B27","v":43078},{"$f":"'4VG EPP.3'!C27+'4VG EPP.6'!C27","v":26922},{"$f":"'4VG EPP.3'!D27+'4VG EPP.6'!D27","v":0},{"$f":"'4VG EPP.3'!E27+'4VG EPP.6'!E27","v":0}]
["27",{"$f":"'4VG EPP.3'!B28+'4VG EPP.6'!B28","v":47024},{"$f":"'4VG EPP.3'!C28+'4VG EPP.6'!C28","v":28149},{"$f":"'4VG EPP.3'!D28+'4VG EPP.6'!D28","v":0},{"$f":"'4VG EPP.3'!E28+'4VG EPP.6'!E28","v":3}]
["28",{"$f":"'4VG EPP.3'!B29+'4VG EPP.6'!B29","v":48603},{"$f":"'4VG EPP.3'!C29+'4VG EPP.6'!C29","v":29616},{"$f":"'4VG EPP.3'!D29+'4VG EPP.6'!D29","v":0},{"$f":"'4VG EPP.3'!E29+'4VG EPP.6'!E29","v":0}]
["29",{"$f":"'4VG EPP.3'!B30+'4VG EPP.6'!B30","v":51015},{"$f":"'4VG EPP.3'!C30+'4VG EPP.6'!C30","v":30312},{"$f":"'4VG EPP.3'!D30+'4VG EPP.6'!D30","v":0},{"$f":"'4VG EPP.3'!E30+'4VG EPP.6'!E30","v":0}]
["30",{"$f":"'4VG EPP.3'!B31+'4VG EPP.6'!B31","v":50334},{"$f":"'4VG EPP.3'!C31+'4VG EPP.6'!C31","v":29406},{"$f":"'4VG EPP.3'!D31+'4VG EPP.6'!D31","v":0},{"$f":"'4VG EPP.3'!E31+'4VG EPP.6'!E31","v":0}]
["31",{"$f":"'4VG EPP.3'!B32+'4VG EPP.6'!B32","v":50681},{"$f":"'4VG EPP.3'!C32+'4VG EPP.6'!C32","v":29838},{"$f":"'4VG EPP.3'!D32+'4VG EPP.6'!D32","v":3},{"$f":"'4VG EPP.3'!E32+'4VG EPP.6'!E32","v":3}]
["32",{"$f":"'4VG EPP.3'!B33+'4VG EPP.6'!B33","v":48415},{"$f":"'4VG EPP.3'!C33+'4VG EPP.6'!C33","v":28986},{"$f":"'4VG EPP.3'!D33+'4VG EPP.6'!D33","v":0},{"$f":"'4VG EPP.3'!E33+'4VG EPP.6'!E33","v":3}]
["33",{"$f":"'4VG EPP.3'!B34+'4VG EPP.6'!B34","v":47426},{"$f":"'4VG EPP.3'!C34+'4VG EPP.6'!C34","v":28390},{"$f":"'4VG EPP.3'!D34+'4VG EPP.6'!D34","v":0},{"$f":"'4VG EPP.3'!E34+'4VG EPP.6'!E34","v":6}]
["34",{"$f":"'4VG EPP.3'!B35+'4VG EPP.6'!B35","v":45915},{"$f":"'4VG EPP.3'!C35+'4VG EPP.6'!C35","v":27508},{"$f":"'4VG EPP.3'!D35+'4VG EPP.6'!D35","v":3},{"$f":"'4VG EPP.3'!E35+'4VG EPP.6'!E35","v":0}]
["35",{"$f":"'4VG EPP.3'!B36+'4VG EPP.6'!B36","v":44291},{"$f":"'4VG EPP.3'!C36+'4VG EPP.6'!C36","v":26974},{"$f":"'4VG EPP.3'!D36+'4VG EPP.6'!D36","v":0},{"$f":"'4VG EPP.3'!E36+'4VG EPP.6'!E36","v":0}]
["36",{"$f":"'4VG EPP.3'!B37+'4VG EPP.6'!B37","v":42778},{"$f":"'4VG EPP.3'!C37+'4VG EPP.6'!C37","v":25893},{"$f":"'4VG EPP.3'!D37+'4VG EPP.6'!D37","v":3},{"$f":"'4VG EPP.3'!E37+'4VG EPP.6'!E37","v":0}]
["37",{"$f":"'4VG EPP.3'!B38+'4VG EPP.6'!B38","v":42366},{"$f":"'4VG EPP.3'!C38+'4VG EPP.6'!C38","v":25843},{"$f":"'4VG EPP.3'!D38+'4VG EPP.6'!D38","v":3},{"$f":"'4VG EPP.3'!E38+'4VG EPP.6'!E38","v":0}]
["38",{"$f":"'4VG EPP.3'!B39+'4VG EPP.6'!B39","v":41576},{"$f":"'4VG EPP.3'!C39+'4VG EPP.6'!C39","v":25414},{"$f":"'4VG EPP.3'!D39+'4VG EPP.6'!D39","v":3},{"$f":"'4VG EPP.3'!E39+'4VG EPP.6'!E39","v":6}]
["39",{"$f":"'4VG EPP.3'!B40+'4VG EPP.6'!B40","v":40861},{"$f":"'4VG EPP.3'!C40+'4VG EPP.6'!C40","v":24553},{"$f":"'4VG EPP.3'!D40+'4VG EPP.6'!D40","v":0},{"$f":"'4VG EPP.3'!E40+'4VG EPP.6'!E40","v":0}]
["40",{"$f":"'4VG EPP.3'!B41+'4VG EPP.6'!B41","v":78851},{"$f":"'4VG EPP.3'!C41+'4VG EPP.6'!C41","v":33532},{"$f":"'4VG EPP.3'!D41+'4VG EPP.6'!D41","v":3},{"$f":"'4VG EPP.3'!E41+'4VG EPP.6'!E41","v":0}]
[41,{"$f":"'4VG EPP.3'!B42+'4VG EPP.6'!B42","v":37521},{"$f":"'4VG EPP.3'!C42+'4VG EPP.6'!C42","v":22234},{"$f":"'4VG EPP.3'!D42+'4VG EPP.6'!D42","v":57},{"$f":"'4VG EPP.3'!E42+'4VG EPP.6'!E42","v":12}]
["42",{"$f":"'4VG EPP.3'!B43+'4VG EPP.6'!B43","v":35462},{"$f":"'4VG EPP.3'!C43+'4VG EPP.6'!C43","v":20917},{"$f":"'4VG EPP.3'!D43+'4VG EPP.6'!D43","v":6},{"$f":"'4VG EPP.3'!E43+'4VG EPP.6'!E43","v":9}]
["43",{"$f":"'4VG EPP.3'!B44+'4VG EPP.6'!B44","v":34051},{"$f":"'4VG EPP.3'!C44+'4VG EPP.6'!C44","v":20312},{"$f":"'4VG EPP.3'!D44+'4VG EPP.6'!D44","v":3},{"$f":"'4VG EPP.3'!E44+'4VG EPP.6'!E44","v":0}]
["44",{"$f":"'4VG EPP.3'!B45+'4VG EPP.6'!B45","v":33125},{"$f":"'4VG EPP.3'!C45+'4VG EPP.6'!C45","v":19668},{"$f":"'4VG EPP.3'!D45+'4VG EPP.6'!D45","v":6},{"$f":"'4VG EPP.3'!E45+'4VG EPP.6'!E45","v":6}]
["45",{"$f":"'4VG EPP.3'!B46+'4VG EPP.6'!B46","v":31988},{"$f":"'4VG EPP.3'!C46+'4VG EPP.6'!C46","v":18376},{"$f":"'4VG EPP.3'!D46+'4VG EPP.6'!D46","v":3},{"$f":"'4VG EPP.3'!E46+'4VG EPP.6'!E46","v":3}]
["46",{"$f":"'4VG EPP.3'!B47+'4VG EPP.6'!B47","v":31181},{"$f":"'4VG EPP.3'!C47+'4VG EPP.6'!C47","v":18043},{"$f":"'4VG EPP.3'!D47+'4VG EPP.6'!D47","v":3},{"$f":"'4VG EPP.3'!E47+'4VG EPP.6'!E47","v":6}]
["47",{"$f":"'4VG EPP.3'!B48+'4VG EPP.6'!B48","v":31092},{"$f":"'4VG EPP.3'!C48+'4VG EPP.6'!C48","v":17956},{"$f":"'4VG EPP.3'!D48+'4VG EPP.6'!D48","v":9},{"$f":"'4VG EPP.3'!E48+'4VG EPP.6'!E48","v":0}]
["48",{"$f":"'4VG EPP.3'!B49+'4VG EPP.6'!B49","v":29639},{"$f":"'4VG EPP.3'!C49+'4VG EPP.6'!C49","v":16791},{"$f":"'4VG EPP.3'!D49+'4VG EPP.6'!D49","v":0},{"$f":"'4VG EPP.3'!E49+'4VG EPP.6'!E49","v":9}]
["49",{"$f":"'4VG EPP.3'!B50+'4VG EPP.6'!B50","v":28054},{"$f":"'4VG EPP.3'!C50+'4VG EPP.6'!C50","v":15797},{"$f":"'4VG EPP.3'!D50+'4VG EPP.6'!D50","v":3},{"$f":"'4VG EPP.3'!E50+'4VG EPP.6'!E50","v":6}]
["50",{"$f":"'4VG EPP.3'!B51+'4VG EPP.6'!B51","v":26526},{"$f":"'4VG EPP.3'!C51+'4VG EPP.6'!C51","v":14615},{"$f":"'4VG EPP.3'!D51+'4VG EPP.6'!D51","v":3},{"$f":"'4VG EPP.3'!E51+'4VG EPP.6'!E51","v":3}]
["51",{"$f":"'4VG EPP.3'!B52+'4VG EPP.6'!B52","v":24221},{"$f":"'4VG EPP.3'!C52+'4VG EPP.6'!C52","v":13525},{"$f":"'4VG EPP.3'!D52+'4VG EPP.6'!D52","v":6},{"$f":"'4VG EPP.3'!E52+'4VG EPP.6'!E52","v":3}]
["52",{"$f":"'4VG EPP.3'!B53+'4VG EPP.6'!B53","v":22892},{"$f":"'4VG EPP.3'!C53+'4VG EPP.6'!C53","v":12743},{"$f":"'4VG EPP.3'!D53+'4VG EPP.6'!D53","v":3},{"$f":"'4VG EPP.3'!E53+'4VG EPP.6'!E53","v":0}]
["53",{"$f":"'4VG EPP.3'!B54+'4VG EPP.6'!B54","v":21514},{"$f":"'4VG EPP.3'!C54+'4VG EPP.6'!C54","v":11683},{"$f":"'4VG EPP.3'!D54+'4VG EPP.6'!D54","v":6},{"$f":"'4VG EPP.3'!E54+'4VG EPP.6'!E54","v":0}]
["54",{"$f":"'4VG EPP.3'!B55+'4VG EPP.6'!B55","v":19831},{"$f":"'4VG EPP.3'!C55+'4VG EPP.6'!C55","v":10564},{"$f":"'4VG EPP.3'!D55+'4VG EPP.6'!D55","v":9},{"$f":"'4VG EPP.3'!E55+'4VG EPP.6'!E55","v":0}]
["55",{"$f":"'4VG EPP.3'!B56+'4VG EPP.6'!B56","v":18733},{"$f":"'4VG EPP.3'!C56+'4VG EPP.6'!C56","v":9897},{"$f":"'4VG EPP.3'!D56+'4VG EPP.6'!D56","v":3},{"$f":"'4VG EPP.3'!E56+'4VG EPP.6'!E56","v":3}]
["56",{"$f":"'4VG EPP.3'!B57+'4VG EPP.6'!B57","v":17312},{"$f":"'4VG EPP.3'!C57+'4VG EPP.6'!C57","v":8916},{"$f":"'4VG EPP.3'!D57+'4VG EPP.6'!D57","v":6},{"$f":"'4VG EPP.3'!E57+'4VG EPP.6'!E57","v":0}]
["57",{"$f":"'4VG EPP.3'!B58+'4VG EPP.6'!B58","v":16191},{"$f":"'4VG EPP.3'!C58+'4VG EPP.6'!C58","v":8040},{"$f":"'4VG EPP.3'!D58+'4VG EPP.6'!D58","v":3},{"$f":"'4VG EPP.3'!E58+'4VG EPP.6'!E58","v":6}]
["58",{"$f":"'4VG EPP.3'!B59+'4VG EPP.6'!B59","v":14625},{"$f":"'4VG EPP.3'!C59+'4VG EPP.6'!C59","v":7415},{"$f":"'4VG EPP.3'!D59+'4VG EPP.6'!D59","v":3},{"$f":"'4VG EPP.3'!E59+'4VG EPP.6'!E59","v":3}]
["59",{"$f":"'4VG EPP.3'!B60+'4VG EPP.6'!B60","v":13354},{"$f":"'4VG EPP.3'!C60+'4VG EPP.6'!C60","v":6696},{"$f":"'4VG EPP.3'!D60+'4VG EPP.6'!D60","v":9},{"$f":"'4VG EPP.3'!E60+'4VG EPP.6'!E60","v":6}]
["60",{"$f":"'4VG EPP.3'!B61+'4VG EPP.6'!B61","v":11434},{"$f":"'4VG EPP.3'!C61+'4VG EPP.6'!C61","v":5863},{"$f":"'4VG EPP.3'!D61+'4VG EPP.6'!D61","v":9},{"$f":"'4VG EPP.3'!E61+'4VG EPP.6'!E61","v":6}]
["61",{"$f":"'4VG EPP.3'!B62+'4VG EPP.6'!B62","v":8608},{"$f":"'4VG EPP.3'!C62+'4VG EPP.6'!C62","v":4515},{"$f":"'4VG EPP.3'!D62+'4VG EPP.6'!D62","v":6},{"$f":"'4VG EPP.3'!E62+'4VG EPP.6'!E62","v":0}]
["62",{"$f":"'4VG EPP.3'!B63+'4VG EPP.6'!B63","v":6856},{"$f":"'4VG EPP.3'!C63+'4VG EPP.6'!C63","v":3606},{"$f":"'4VG EPP.3'!D63+'4VG EPP.6'!D63","v":3},{"$f":"'4VG EPP.3'!E63+'4VG EPP.6'!E63","v":0}]
["63",{"$f":"'4VG EPP.3'!B64+'4VG EPP.6'!B64","v":5370},{"$f":"'4VG EPP.3'!C64+'4VG EPP.6'!C64","v":2883},{"$f":"'4VG EPP.3'!D64+'4VG EPP.6'!D64","v":6},{"$f":"'4VG EPP.3'!E64+'4VG EPP.6'!E64","v":0}]
["64",{"$f":"'4VG EPP.3'!B65+'4VG EPP.6'!B65","v":4682},{"$f":"'4VG EPP.3'!C65+'4VG EPP.6'!C65","v":2673},{"$f":"'4VG EPP.3'!D65+'4VG EPP.6'!D65","v":3},{"$f":"'4VG EPP.3'!E65+'4VG EPP.6'!E65","v":3}]
["65",{"$f":"'4VG EPP.3'!B66+'4VG EPP.6'!B66","v":3249},{"$f":"'4VG EPP.3'!C66+'4VG EPP.6'!C66","v":2002},{"$f":"'4VG EPP.3'!D66+'4VG EPP.6'!D66","v":0},{"$f":"'4VG EPP.3'!E66+'4VG EPP.6'!E66","v":0}]
["65 y más",{"$f":"'4VG EPP.3'!B67+'4VG EPP.6'!B67","v":16613},{"$f":"'4VG EPP.3'!C67+'4VG EPP.6'!C67","v":12522},{"$f":"'4VG EPP.3'!D67+'4VG EPP.6'!D67","v":6},{"$f":"'4VG EPP.3'!E67+'4VG EPP.6'!E67","v":6}]
["Póliza Concentrada*",{"$f":"'4VG EPP.3'!B68+'4VG EPP.6'!B68","v":224},{"$f":"'4VG EPP.3'!C68+'4VG EPP.6'!C68","v":22},{"$f":"'4VG EPP.3'!D68+'4VG EPP.6'!D68","v":3},{"$f":"'4VG EPP.3'!E68+'4VG EPP.6'!E68","v":0}]
["Total",{"$f":"SUM(B16:B68)","v":1433953},{"$f":"SUM(C16:C68)","v":829270},198,114]
[]
["* PARA AQUELLAS PÓLIZAS QUE POR RAZONES ADMINISTRATIVAS, COMERCIALES O DE CUALQUIER OTRA ÍNDOLE, PERO QUE SE ENCUENTRE DOCUMENTADA EN SUS NOTAS TÉCNICAS CORRESPONDIENTES, Y LA INSTITUCIÓN NO TENGA A SU DISPOSICIÓN EL DETALLE DE LA INFORMACION DE CADA ASEGURADO, SE REPORTARÉ EN ESTE APARTADO LA INFORMACIÓN. CABE MENCIONAR QUE LAS PÓLIZAS AUTO-ADMINISTRADAS NO DEBERÁN SER CONSIDERADAS EN ESTE CAMPO."]
["Póliza No Concentrada",{"$f":"B69-B68","v":1433729},{"$f":"C69-C68","v":829248},195,114]

{"sheet":"4VG EPP.3","index":37,"n_rows":72,"n_cols":5,"rows_kept":72,"cut":false,"hidden":false,"merged":[[70,0,70,4],[13,1,13,2],[13,3,13,4],[13,6,13,7],[13,8,13,9],[9,0,9,4],[2,0,2,4],[3,0,3,4],[5,0,5,4],[6,0,6,4],[7,0,7,4]]}
[]
[]
["4. INVALIDEZ TOTAL Y PERMANENTE EN LA OPERACION DE VIDA  POR TIPO"]
[" DE SEGURO CONTRATADO, EDAD ALCANZADA Y PERIODOS DE ESPERA"]
[]
[{"$f":"'1 Total'!B3","v":"DICIEMBRE DE 2021"}]
[]
["VIDA GRUPO"]
[]
["EXENCION DE PAGO DE PRIMAS POR INVALIDEZ"]
[]
[" ",null,"PERIODO DE ESPERA DE (0-3] MESES"]
[null,2,3,4,5]
["EDAD","PÓLIZAS O CERTIFICADOS AL FINAL DEL EJERCICIO",null,"INVALIDADOS EN EL EJERCICIO"]
["ALCANZADA","Hombres","Mujeres","Hombres","Mujeres"]
[" Hasta15 años",90,22]
[16,126,40]
[17,433,202]
[18,2362,1455]
[19,8160,4835]
[20,14253,8416]
[21,19066,11134]
[22,22139,12769]
[23,26661,16079,2,0]
[24,31343,19369,0,2]
[25,37081,22823]
[26,41867,26077]
[27,45703,27287,0,2]
[28,47145,28756]
[29,49463,29377]
[30,48833,28490]
[31,49108,28907,2,2]
[32,46981,28107,0,2]
[33,46020,27515,0,4]
[34,44632,26600,2,0]
[35,42932,26007]
[36,41457,25032,2,0]
[37,41196,25024,2,0]
[38,40192,24470,2,4]
[39,39594,23679,0,0]
[40,77660,32783,2,0]
[41,36269,21403,38,8]
[42,34345,20067,4,6]
[43,32904,19522,2,0]
[44,31978,18840,4,4]
[45,30811,17677,2,2]
[46,30035,17249,2,4]
[47,29992,17149,6,0]
[48,28509,16051,0,6]
[49,26951,15134,2,4]
[50,25469,13926,2,2]
[51,23278,12792,4,2]
[52,21962,12110,2,0]
[53,20697,11114,4,0]
[54,19032,10047,6,0]
[55,17925,9433,2,2]
[56,16518,8447,4,0]
[57,15503,7682,2,4]
[58,13992,7092,2,2]
[59,12791,6430,6,4]
[60,10912,5599,6,4]
[61,8109,4297,4,0]
[62,6430,3455,2,0]
[63,5086,2746,4,0]
[64,4382,2537,2,2]
[65,3056,1937]
["66 o mas",14661,10867,4,4]
["Póliza Concentrada*",140,21,2,0]
["Total",{"$f":"SUM(B16:B68)","v":1386234},{"$f":"SUM(C16:C68)","v":798879},{"$f":"SUM(D16:D68)","v":132},76]
[]
["* PARA AQUELLAS PÓLIZAS QUE POR RAZONES ADMINISTRATIVAS, COMERCIALES O DE CUALQUIER OTRA ÍNDOLE, PERO QUE SE ENCUENTRE DOCUMENTADA EN SUS NOTAS TÉCNICAS CORRESPONDIENTES, Y LA INSTITUCIÓN NO TENGA A SU DISPOSICIÓN EL DETALLE DE LA INFORMACION DE CADA ASEGURADO, SE REPORTARÉ EN ESTE APARTADO LA INFORMACIÓN. CABE MENCIONAR QUE LAS PÓLIZAS AUTO-ADMINISTRADAS NO DEBERÁN SER CONSIDERADAS EN ESTE CAMPO."]
["Póliza No Concentrada",{"$f":"B69-B68","v":1386094},{"$f":"C69-C68","v":798858},{"$f":"D69-D68","v":130},{"$f":"E69-E68","v":76}]

{"sheet":"4VG EPP.6","index":38,"n_rows":72,"n_cols":5,"rows_kept":72,"cut":false,"hidden":false,"merged":[[70,0,70,4],[13,1,13,2],[13,3,13,4],[13,6,13,7],[13,8,13,9],[9,0,9,4],[2,0,2,4],[3,0,3,4],[5,0,5,4],[6,0,6,4],[7,0,7,4]]}
[]
[]
["4. INVALIDEZ TOTAL Y PERMANENTE EN LA OPERACION DE VIDA  POR TIPO"]
[" DE SEGURO CONTRATADO, EDAD ALCANZADA Y PERIODOS DE ESPERA"]
[]
[{"$f":"'1 Total'!B3","v":"DICIEMBRE DE 2021"}]
[]
["VIDA GRUPO"]
[]
["EXENCION DE PAGO DE PRIMAS POR INVALIDEZ"]
[]
[" ",null,"PERIODO DE ESPERA DE (3-6] MESES"]
[null,2,3,4,5]
["EDAD","PÓLIZAS O CERTIFICADOS AL FINAL DEL EJERCICIO",null,"INVALIDADOS EN EL EJERCICIO"]
["ALCANZADA","Hombres","Mujeres","Hombres","Mujeres"]
[" Hasta15 años",33,1]
[16,67,2]
[17,43,10]
[18,75,16]
[19,219,80]
[20,350,128]
[21,511,221]
[22,668,313]
[23,815,476,1,0]
[24,863,560,0,1]
[25,1033,709]
[26,1211,845]
[27,1321,862,0,1]
[28,1458,860]
[29,1552,935]
[30,1501,916]
[31,1573,931,1,1]
[32,1434,879,0,1]
[33,1406,875,0,2]
[34,1283,908,1,0]
[35,1359,967]
[36,1321,861,1,0]
[37,1170,819,1,0]
[38,1384,944,1,2]
[39,1267,874,0,0]
[40,1191,749,1,0]
[41,1252,831,19,4]
[42,1117,850,2,3]
[43,1147,790,1,0]
[44,1147,828,2,2]
[45,1177,699,1,1]
[46,1146,794,1,2]
[47,1100,807,3,0]
[48,1130,740,0,3]
[49,1103,663,1,2]
[50,1057,689,1,1]
[51,943,733,2,1]
[52,930,633,1,0]
[53,817,569,2,0]
[54,799,517,3,0]
[55,808,464,1,1]
[56,794,469,2,0]
[57,688,358,1,2]
[58,633,323,1,1]
[59,563,266,3,2]
[60,522,264,3,2]
[61,499,218,2,0]
[62,426,151,1,0]
[63,284,137,2,0]
[64,300,136,1,1]
[65,193,65]
["66 o mas",1952,1655,2,2]
["Póliza Concentrada*",84,1,1,0]
["Total",{"$f":"SUM(B16:B68)","v":47719},{"$f":"SUM(C16:C68)","v":30391},{"$f":"SUM(D16:D68)","v":66},38]
[]
["* PARA AQUELLAS PÓLIZAS QUE POR RAZONES ADMINISTRATIVAS, COMERCIALES O DE CUALQUIER OTRA ÍNDOLE, PERO QUE SE ENCUENTRE DOCUMENTADA EN SUS NOTAS TÉCNICAS CORRESPONDIENTES, Y LA INSTITUCIÓN NO TENGA A SU DISPOSICIÓN EL DETALLE DE LA INFORMACION DE CADA ASEGURADO, SE REPORTARÉ EN ESTE APARTADO LA INFORMACIÓN. CABE MENCIONAR QUE LAS PÓLIZAS AUTO-ADMINISTRADAS NO DEBERÁN SER CONSIDERADAS EN ESTE CAMPO."]
["Póliza No Concentrada",{"$f":"B69-B68","v":47635},{"$f":"C69-C68","v":30390},{"$f":"D69-D68","v":65},{"$f":"E69-E68","v":38}]

{"sheet":"4Total GPO PSA","index":39,"n_rows":71,"n_cols":5,"rows_kept":71,"cut":false,"hidden":true,"merged":[[69,0,69,4],[13,1,13,2],[13,3,13,4],[13,6,13,7],[13,8,13,9],[9,0,9,4],[2,0,2,4],[3,0,3,4],[5,0,5,4],[6,0,6,4],[7,0,7,4]]}
[]
[]
["4. INVALIDEZ TOTAL Y PERMANENTE EN LA OPERACION DE VIDA  POR TIPO"]
[" DE SEGURO CONTRATADO, EDAD ALCANZADA Y PERIODOS DE ESPERA"]
[]
[{"$f":"#REF!","v":{"$error":"#REF!"}}]
[]
["VIDA GRUPO"]
[]
["PAGO DE LA SUMA ASEGURADA POR INVALIDEZ"]
[]
[null,null,"TOTAL"]
[]
["EDAD","PÓLIZAS O CERTIFICADOS AL FINAL DEL EJERCICIO",null,"INVALIDADOS EN EL EJERCICIO"]
["ALCANZADA","Hombres","Mujeres","Hombres","Mujeres"]
[" Hasta15 años",{"$f":"'4VG PSA.3'!B16+'4VG PSA.6'!B16","v":1146},{"$f":"'4VG PSA.3'!C16+'4VG PSA.6'!C16","v":1266},{"$f":"'4VG PSA.3'!D16+'4VG PSA.6'!D16","v":0},{"$f":"'4VG PSA.3'!E16+'4VG PSA.6'!E16","v":1}]
["16",{"$f":"'4VG PSA.3'!B17+'4VG PSA.6'!B17","v":885},{"$f":"'4VG PSA.3'!C17+'4VG PSA.6'!C17","v":812},{"$f":"'4VG PSA.3'!D17+'4VG PSA.6'!D17","v":0},{"$f":"'4VG PSA.3'!E17+'4VG PSA.6'!E17","v":0}]
["17",{"$f":"'4VG PSA.3'!B18+'4VG PSA.6'!B18","v":1803},{"$f":"'4VG PSA.3'!C18+'4VG PSA.6'!C18","v":1363},{"$f":"'4VG PSA.3'!D18+'4VG PSA.6'!D18","v":5},{"$f":"'4VG PSA.3'!E18+'4VG PSA.6'!E18","v":3}]
["18",{"$f":"'4VG PSA.3'!B19+'4VG PSA.6'!B19","v":5342},{"$f":"'4VG PSA.3'!C19+'4VG PSA.6'!C19","v":3319},{"$f":"'4VG PSA.3'!D19+'4VG PSA.6'!D19","v":8},{"$f":"'4VG PSA.3'!E19+'4VG PSA.6'!E19","v":4}]
["19",{"$f":"'4VG PSA.3'!B20+'4VG PSA.6'!B20","v":32394},{"$f":"'4VG PSA.3'!C20+'4VG PSA.6'!C20","v":21819},{"$f":"'4VG PSA.3'!D20+'4VG PSA.6'!D20","v":4},{"$f":"'4VG PSA.3'!E20+'4VG PSA.6'!E20","v":4}]
["20",{"$f":"'4VG PSA.3'!B21+'4VG PSA.6'!B21","v":53827},{"$f":"'4VG PSA.3'!C21+'4VG PSA.6'!C21","v":34734},{"$f":"'4VG PSA.3'!D21+'4VG PSA.6'!D21","v":10},{"$f":"'4VG PSA.3'!E21+'4VG PSA.6'!E21","v":4}]
["21",{"$f":"'4VG PSA.3'!B22+'4VG PSA.6'!B22","v":67108},{"$f":"'4VG PSA.3'!C22+'4VG PSA.6'!C22","v":40117},{"$f":"'4VG PSA.3'!D22+'4VG PSA.6'!D22","v":7},{"$f":"'4VG PSA.3'!E22+'4VG PSA.6'!E22","v":12}]
["22",{"$f":"'4VG PSA.3'!B23+'4VG PSA.6'!B23","v":81789},{"$f":"'4VG PSA.3'!C23+'4VG PSA.6'!C23","v":46432},{"$f":"'4VG PSA.3'!D23+'4VG PSA.6'!D23","v":11},{"$f":"'4VG PSA.3'!E23+'4VG PSA.6'!E23","v":10}]
["23",{"$f":"'4VG PSA.3'!B24+'4VG PSA.6'!B24","v":95514},{"$f":"'4VG PSA.3'!C24+'4VG PSA.6'!C24","v":57841},{"$f":"'4VG PSA.3'!D24+'4VG PSA.6'!D24","v":9},{"$f":"'4VG PSA.3'!E24+'4VG PSA.6'!E24","v":4}]
["24",{"$f":"'4VG PSA.3'!B25+'4VG PSA.6'!B25","v":116192},{"$f":"'4VG PSA.3'!C25+'4VG PSA.6'!C25","v":71877},{"$f":"'4VG PSA.3'!D25+'4VG PSA.6'!D25","v":8},{"$f":"'4VG PSA.3'!E25+'4VG PSA.6'!E25","v":5}]
["25",{"$f":"'4VG PSA.3'!B26+'4VG PSA.6'!B26","v":139824},{"$f":"'4VG PSA.3'!C26+'4VG PSA.6'!C26","v":87002},{"$f":"'4VG PSA.3'!D26+'4VG PSA.6'!D26","v":14},{"$f":"'4VG PSA.3'!E26+'4VG PSA.6'!E26","v":3}]
["26",{"$f":"'4VG PSA.3'!B27+'4VG PSA.6'!B27","v":160268},{"$f":"'4VG PSA.3'!C27+'4VG PSA.6'!C27","v":98665},{"$f":"'4VG PSA.3'!D27+'4VG PSA.6'!D27","v":21},{"$f":"'4VG PSA.3'!E27+'4VG PSA.6'!E27","v":9}]
["27",{"$f":"'4VG PSA.3'!B28+'4VG PSA.6'!B28","v":174752},{"$f":"'4VG PSA.3'!C28+'4VG PSA.6'!C28","v":107754},{"$f":"'4VG PSA.3'!D28+'4VG PSA.6'!D28","v":26},{"$f":"'4VG PSA.3'!E28+'4VG PSA.6'!E28","v":16}]
["28",{"$f":"'4VG PSA.3'!B29+'4VG PSA.6'!B29","v":188108},{"$f":"'4VG PSA.3'!C29+'4VG PSA.6'!C29","v":115393},{"$f":"'4VG PSA.3'!D29+'4VG PSA.6'!D29","v":17},{"$f":"'4VG PSA.3'!E29+'4VG PSA.6'!E29","v":11}]
["29",{"$f":"'4VG PSA.3'!B30+'4VG PSA.6'!B30","v":194404},{"$f":"'4VG PSA.3'!C30+'4VG PSA.6'!C30","v":118533},{"$f":"'4VG PSA.3'!D30+'4VG PSA.6'!D30","v":38},{"$f":"'4VG PSA.3'!E30+'4VG PSA.6'!E30","v":15}]
["30",{"$f":"'4VG PSA.3'!B31+'4VG PSA.6'!B31","v":204691},{"$f":"'4VG PSA.3'!C31+'4VG PSA.6'!C31","v":124423},{"$f":"'4VG PSA.3'!D31+'4VG PSA.6'!D31","v":28},{"$f":"'4VG PSA.3'!E31+'4VG PSA.6'!E31","v":20}]
["31",{"$f":"'4VG PSA.3'!B32+'4VG PSA.6'!B32","v":206721},{"$f":"'4VG PSA.3'!C32+'4VG PSA.6'!C32","v":126467},{"$f":"'4VG PSA.3'!D32+'4VG PSA.6'!D32","v":34},{"$f":"'4VG PSA.3'!E32+'4VG PSA.6'!E32","v":17}]
["32",{"$f":"'4VG PSA.3'!B33+'4VG PSA.6'!B33","v":208240},{"$f":"'4VG PSA.3'!C33+'4VG PSA.6'!C33","v":129466},{"$f":"'4VG PSA.3'!D33+'4VG PSA.6'!D33","v":33},{"$f":"'4VG PSA.3'!E33+'4VG PSA.6'!E33","v":15}]
["33",{"$f":"'4VG PSA.3'!B34+'4VG PSA.6'!B34","v":207406},{"$f":"'4VG PSA.3'!C34+'4VG PSA.6'!C34","v":130046},{"$f":"'4VG PSA.3'!D34+'4VG PSA.6'!D34","v":39},{"$f":"'4VG PSA.3'!E34+'4VG PSA.6'!E34","v":29}]
["34",{"$f":"'4VG PSA.3'!B35+'4VG PSA.6'!B35","v":209706},{"$f":"'4VG PSA.3'!C35+'4VG PSA.6'!C35","v":133000},{"$f":"'4VG PSA.3'!D35+'4VG PSA.6'!D35","v":34},{"$f":"'4VG PSA.3'!E35+'4VG PSA.6'!E35","v":21}]
["35",{"$f":"'4VG PSA.3'!B36+'4VG PSA.6'!B36","v":211831},{"$f":"'4VG PSA.3'!C36+'4VG PSA.6'!C36","v":133840},{"$f":"'4VG PSA.3'!D36+'4VG PSA.6'!D36","v":31},{"$f":"'4VG PSA.3'!E36+'4VG PSA.6'!E36","v":23}]
["36",{"$f":"'4VG PSA.3'!B37+'4VG PSA.6'!B37","v":212621},{"$f":"'4VG PSA.3'!C37+'4VG PSA.6'!C37","v":135826},{"$f":"'4VG PSA.3'!D37+'4VG PSA.6'!D37","v":63},{"$f":"'4VG PSA.3'!E37+'4VG PSA.6'!E37","v":36}]
["37",{"$f":"'4VG PSA.3'!B38+'4VG PSA.6'!B38","v":214925},{"$f":"'4VG PSA.3'!C38+'4VG PSA.6'!C38","v":136344},{"$f":"'4VG PSA.3'!D38+'4VG PSA.6'!D38","v":39},{"$f":"'4VG PSA.3'!E38+'4VG PSA.6'!E38","v":32}]
["38",{"$f":"'4VG PSA.3'!B39+'4VG PSA.6'!B39","v":213573},{"$f":"'4VG PSA.3'!C39+'4VG PSA.6'!C39","v":134674},{"$f":"'4VG PSA.3'!D39+'4VG PSA.6'!D39","v":54},{"$f":"'4VG PSA.3'!E39+'4VG PSA.6'!E39","v":45}]
["39",{"$f":"'4VG PSA.3'!B40+'4VG PSA.6'!B40","v":210639},{"$f":"'4VG PSA.3'!C40+'4VG PSA.6'!C40","v":131208},{"$f":"'4VG PSA.3'!D40+'4VG PSA.6'!D40","v":56},{"$f":"'4VG PSA.3'!E40+'4VG PSA.6'!E40","v":37}]
["40",{"$f":"'4VG PSA.3'!B41+'4VG PSA.6'!B41","v":210477},{"$f":"'4VG PSA.3'!C41+'4VG PSA.6'!C41","v":130117},{"$f":"'4VG PSA.3'!D41+'4VG PSA.6'!D41","v":50},{"$f":"'4VG PSA.3'!E41+'4VG PSA.6'!E41","v":35}]
["41",{"$f":"'4VG PSA.3'!B42+'4VG PSA.6'!B42","v":202565},{"$f":"'4VG PSA.3'!C42+'4VG PSA.6'!C42","v":123985},{"$f":"'4VG PSA.3'!D42+'4VG PSA.6'!D42","v":52},{"$f":"'4VG PSA.3'!E42+'4VG PSA.6'!E42","v":28}]
["42",{"$f":"'4VG PSA.3'!B43+'4VG PSA.6'!B43","v":201576},{"$f":"'4VG PSA.3'!C43+'4VG PSA.6'!C43","v":124445},{"$f":"'4VG PSA.3'!D43+'4VG PSA.6'!D43","v":78},{"$f":"'4VG PSA.3'!E43+'4VG PSA.6'!E43","v":41}]
["43",{"$f":"'4VG PSA.3'!B44+'4VG PSA.6'!B44","v":201425},{"$f":"'4VG PSA.3'!C44+'4VG PSA.6'!C44","v":122978},{"$f":"'4VG PSA.3'!D44+'4VG PSA.6'!D44","v":76},{"$f":"'4VG PSA.3'!E44+'4VG PSA.6'!E44","v":51}]
["44",{"$f":"'4VG PSA.3'!B45+'4VG PSA.6'!B45","v":196877},{"$f":"'4VG PSA.3'!C45+'4VG PSA.6'!C45","v":120734},{"$f":"'4VG PSA.3'!D45+'4VG PSA.6'!D45","v":68},{"$f":"'4VG PSA.3'!E45+'4VG PSA.6'!E45","v":56}]
["45",{"$f":"'4VG PSA.3'!B46+'4VG PSA.6'!B46","v":200776},{"$f":"'4VG PSA.3'!C46+'4VG PSA.6'!C46","v":121918},{"$f":"'4VG PSA.3'!D46+'4VG PSA.6'!D46","v":96},{"$f":"'4VG PSA.3'!E46+'4VG PSA.6'!E46","v":59}]
["46",{"$f":"'4VG PSA.3'!B47+'4VG PSA.6'!B47","v":203631},{"$f":"'4VG PSA.3'!C47+'4VG PSA.6'!C47","v":124224},{"$f":"'4VG PSA.3'!D47+'4VG PSA.6'!D47","v":111},{"$f":"'4VG PSA.3'!E47+'4VG PSA.6'!E47","v":55}]
["47",{"$f":"'4VG PSA.3'!B48+'4VG PSA.6'!B48","v":199243},{"$f":"'4VG PSA.3'!C48+'4VG PSA.6'!C48","v":121680},{"$f":"'4VG PSA.3'!D48+'4VG PSA.6'!D48","v":122},{"$f":"'4VG PSA.3'!E48+'4VG PSA.6'!E48","v":82}]
["48",{"$f":"'4VG PSA.3'!B49+'4VG PSA.6'!B49","v":198109},{"$f":"'4VG PSA.3'!C49+'4VG PSA.6'!C49","v":119260},{"$f":"'4VG PSA.3'!D49+'4VG PSA.6'!D49","v":145},{"$f":"'4VG PSA.3'!E49+'4VG PSA.6'!E49","v":66}]
["49",{"$f":"'4VG PSA.3'!B50+'4VG PSA.6'!B50","v":186987},{"$f":"'4VG PSA.3'!C50+'4VG PSA.6'!C50","v":114879},{"$f":"'4VG PSA.3'!D50+'4VG PSA.6'!D50","v":155},{"$f":"'4VG PSA.3'!E50+'4VG PSA.6'!E50","v":95}]
["50",{"$f":"'4VG PSA.3'!B51+'4VG PSA.6'!B51","v":177937},{"$f":"'4VG PSA.3'!C51+'4VG PSA.6'!C51","v":107844},{"$f":"'4VG PSA.3'!D51+'4VG PSA.6'!D51","v":115},{"$f":"'4VG PSA.3'!E51+'4VG PSA.6'!E51","v":95}]
["51",{"$f":"'4VG PSA.3'!B52+'4VG PSA.6'!B52","v":173054},{"$f":"'4VG PSA.3'!C52+'4VG PSA.6'!C52","v":105389},{"$f":"'4VG PSA.3'!D52+'4VG PSA.6'!D52","v":140},{"$f":"'4VG PSA.3'!E52+'4VG PSA.6'!E52","v":90}]
["52",{"$f":"'4VG PSA.3'!B53+'4VG PSA.6'!B53","v":162883},{"$f":"'4VG PSA.3'!C53+'4VG PSA.6'!C53","v":102040},{"$f":"'4VG PSA.3'!D53+'4VG PSA.6'!D53","v":138},{"$f":"'4VG PSA.3'!E53+'4VG PSA.6'!E53","v":106}]
["53",{"$f":"'4VG PSA.3'!B54+'4VG PSA.6'!B54","v":155376},{"$f":"'4VG PSA.3'!C54+'4VG PSA.6'!C54","v":99401},{"$f":"'4VG PSA.3'!D54+'4VG PSA.6'!D54","v":159},{"$f":"'4VG PSA.3'!E54+'4VG PSA.6'!E54","v":115}]
["54",{"$f":"'4VG PSA.3'!B55+'4VG PSA.6'!B55","v":151031},{"$f":"'4VG PSA.3'!C55+'4VG PSA.6'!C55","v":91079},{"$f":"'4VG PSA.3'!D55+'4VG PSA.6'!D55","v":158},{"$f":"'4VG PSA.3'!E55+'4VG PSA.6'!E55","v":122}]
["55",{"$f":"'4VG PSA.3'!B56+'4VG PSA.6'!B56","v":145426},{"$f":"'4VG PSA.3'!C56+'4VG PSA.6'!C56","v":79494},{"$f":"'4VG PSA.3'!D56+'4VG PSA.6'!D56","v":190},{"$f":"'4VG PSA.3'!E56+'4VG PSA.6'!E56","v":97}]
["56",{"$f":"'4VG PSA.3'!B57+'4VG PSA.6'!B57","v":138688},{"$f":"'4VG PSA.3'!C57+'4VG PSA.6'!C57","v":73555},{"$f":"'4VG PSA.3'!D57+'4VG PSA.6'!D57","v":203},{"$f":"'4VG PSA.3'!E57+'4VG PSA.6'!E57","v":111}]
["57",{"$f":"'4VG PSA.3'!B58+'4VG PSA.6'!B58","v":127002},{"$f":"'4VG PSA.3'!C58+'4VG PSA.6'!C58","v":68001},{"$f":"'4VG PSA.3'!D58+'4VG PSA.6'!D58","v":196},{"$f":"'4VG PSA.3'!E58+'4VG PSA.6'!E58","v":94}]
["58",{"$f":"'4VG PSA.3'!B59+'4VG PSA.6'!B59","v":117661},{"$f":"'4VG PSA.3'!C59+'4VG PSA.6'!C59","v":61392},{"$f":"'4VG PSA.3'!D59+'4VG PSA.6'!D59","v":202},{"$f":"'4VG PSA.3'!E59+'4VG PSA.6'!E59","v":99}]
["59",{"$f":"'4VG PSA.3'!B60+'4VG PSA.6'!B60","v":109108},{"$f":"'4VG PSA.3'!C60+'4VG PSA.6'!C60","v":55588},{"$f":"'4VG PSA.3'!D60+'4VG PSA.6'!D60","v":195},{"$f":"'4VG PSA.3'!E60+'4VG PSA.6'!E60","v":92}]
["60",{"$f":"'4VG PSA.3'!B61+'4VG PSA.6'!B61","v":100405},{"$f":"'4VG PSA.3'!C61+'4VG PSA.6'!C61","v":49747},{"$f":"'4VG PSA.3'!D61+'4VG PSA.6'!D61","v":228},{"$f":"'4VG PSA.3'!E61+'4VG PSA.6'!E61","v":74}]
["61",{"$f":"'4VG PSA.3'!B62+'4VG PSA.6'!B62","v":87516},{"$f":"'4VG PSA.3'!C62+'4VG PSA.6'!C62","v":42008},{"$f":"'4VG PSA.3'!D62+'4VG PSA.6'!D62","v":121},{"$f":"'4VG PSA.3'!E62+'4VG PSA.6'!E62","v":58}]
["62",{"$f":"'4VG PSA.3'!B63+'4VG PSA.6'!B63","v":77120},{"$f":"'4VG PSA.3'!C63+'4VG PSA.6'!C63","v":35370},{"$f":"'4VG PSA.3'!D63+'4VG PSA.6'!D63","v":141},{"$f":"'4VG PSA.3'!E63+'4VG PSA.6'!E63","v":85}]
["63",{"$f":"'4VG PSA.3'!B64+'4VG PSA.6'!B64","v":70481},{"$f":"'4VG PSA.3'!C64+'4VG PSA.6'!C64","v":31403},{"$f":"'4VG PSA.3'!D64+'4VG PSA.6'!D64","v":81},{"$f":"'4VG PSA.3'!E64+'4VG PSA.6'!E64","v":46}]
["64",{"$f":"'4VG PSA.3'!B65+'4VG PSA.6'!B65","v":62316},{"$f":"'4VG PSA.3'!C65+'4VG PSA.6'!C65","v":26013},{"$f":"'4VG PSA.3'!D65+'4VG PSA.6'!D65","v":63},{"$f":"'4VG PSA.3'!E65+'4VG PSA.6'!E65","v":43}]
["65 y más",{"$f":"+'4VG PSA.3'!B66+'4VG PSA.3'!B67+'4VG PSA.6'!B66+'4VG PSA.6'!B67","v":299822},{"$f":"+'4VG PSA.3'!C66+'4VG PSA.3'!C67+'4VG PSA.6'!C66+'4VG PSA.6'!C67","v":104352},{"$f":"+'4VG PSA.3'!D66+'4VG PSA.3'!D67+'4VG PSA.6'!D66+'4VG PSA.6'!D67","v":419},{"$f":"+'4VG PSA.3'!E66+'4VG PSA.3'!E67+'4VG PSA.6'!E66+'4VG PSA.6'!E67","v":192}]
["Póliza Concentrada*",{"$f":"+'4VG PSA.3'!B68+'4VG PSA.6'!B68","v":3083548},{"$f":"+'4VG PSA.3'!C68+'4VG PSA.6'!C68","v":666045},{"$f":"+'4VG PSA.3'!D68+'4VG PSA.6'!D68","v":14},{"$f":"+'4VG PSA.3'!E68+'4VG PSA.6'!E68","v":710}]
["Total",{"$f":"SUM(B16:B67)","v":10654749},{"$f":"SUM(C16:C67)","v":5145162},4305,3173]
["CIFRAS EN PESOS, ESTIMADAS AL 100%."]
["* PARA AQUELLAS PÓLIZAS QUE POR RAZONES ADMINISTRATIVAS, COMERCIALES O DE CUALQUIER OTRA ÍNDOLE, PERO QUE SE ENCUENTRE DOCUMENTADA EN SUS NOTAS TÉCNICAS CORRESPONDIENTES, Y LA INSTITUCIÓN NO TENGA A SU DISPOSICIÓN EL DETALLE DE LA INFORMACION DE CADA ASEGURADO, SE REPORTARÉ EN ESTE APARTADO LA INFORMACIÓN. CABE MENCIONAR QUE LAS PÓLIZAS AUTO-ADMINISTRADAS NO DEBERÁN SER CONSIDERADAS EN ESTE CAMPO."]
["Póliza No Concentrada",{"$f":"B68-B67","v":7571201},{"$f":"C68-C67","v":4479117},4291,2463]

{"sheet":"4VG PSA.3","index":40,"n_rows":72,"n_cols":5,"rows_kept":72,"cut":false,"hidden":true,"merged":[[70,0,70,4],[13,1,13,2],[13,3,13,4],[13,6,13,7],[13,8,13,9],[9,0,9,4],[2,0,2,4],[3,0,3,4],[5,0,5,4],[6,0,6,4],[7,0,7,4]]}
[]
[]
["4. INVALIDEZ TOTAL Y PERMANENTE EN LA OPERACION DE VIDA  POR TIPO"]
[" DE SEGURO CONTRATADO, EDAD ALCANZADA Y PERIODOS DE ESPERA"]
[]
[{"$f":"#REF!","v":{"$error":"#REF!"}}]
[]
["VIDA GRUPO"]
[]
["PAGO DE LA SUMA ASEGURADA POR INVALIDEZ"]
[]
[null,null,"PERIODO DE ESPERA DE (0-3] MESES"]
[null,2,3,4,5]
["EDAD","PÓLIZAS O CERTIFICADOS AL FINAL DEL EJERCICIO",null,"INVALIDADOS EN EL EJERCICIO"]
["ALCANZADA","Hombres","Mujeres","Hombres","Mujeres"]
[" Hasta15 años",1120,1236,0,1]
[16,830,768,0,0]
[17,1486,1162,1,1]
[18,3928,2521,2,1]
[19,24248,15439,0,2]
[20,39943,25367,2,2]
[21,49371,28989,2,0]
[22,57634,33322,5,2]
[23,66060,40752,6,3]
[24,79496,50844,5,2]
[25,95122,62078,12,1]
[26,107505,71310,18,8]
[27,116233,78511,16,13]
[28,125048,84532,14,8]
[29,128785,86850,35,12]
[30,135703,91358,25,19]
[31,136788,93232,28,14]
[32,137002,95323,31,14]
[33,136170,96262,30,25]
[34,137635,98575,26,18]
[35,139509,99269,28,19]
[36,139073,100749,48,33]
[37,140344,100863,30,28]
[38,139367,99635,50,41]
[39,137907,96779,44,31]
[40,138203,96614,37,32]
[41,132958,92357,37,22]
[42,133987,92881,59,33]
[43,133750,91978,60,49]
[44,130949,90629,54,54]
[45,134459,91266,84,52]
[46,136870,94147,90,48]
[47,134042,92685,105,72]
[48,131438,91315,119,56]
[49,126439,88489,131,86]
[50,120928,83143,95,84]
[51,116284,81755,123,82]
[52,112169,80179,122,91]
[53,107654,78710,134,103]
[54,105941,72231,128,116]
[55,102761,62194,163,84]
[56,97496,57345,174,105]
[57,89188,53029,157,86]
[58,82727,47863,171,87]
[59,76821,43389,165,85]
[60,70973,38780,198,63]
[61,62140,33247,98,51]
[62,55102,28033,79,54]
[63,51031,24861,64,37]
[64,44983,20498,54,38]
[65,48908,17288,63,34]
["66 o mas",188862,73161,248,120]
["Póliza Concentrada*",1266868,665972,12,710]
["Total",{"$f":"SUM(B16:B68)","v":6410238},{"$f":"SUM(C16:C68)","v":4039765},3482,2832]
["CIFRAS EN PESOS, ESTIMADAS AL 100%."]
["* PARA AQUELLAS PÓLIZAS QUE POR RAZONES ADMINISTRATIVAS, COMERCIALES O DE CUALQUIER OTRA ÍNDOLE, PERO QUE SE ENCUENTRE DOCUMENTADA EN SUS NOTAS TÉCNICAS CORRESPONDIENTES, Y LA INSTITUCIÓN NO TENGA A SU DISPOSICIÓN EL DETALLE DE LA INFORMACION DE CADA ASEGURADO, SE REPORTARÉ EN ESTE APARTADO LA INFORMACIÓN. CABE MENCIONAR QUE LAS PÓLIZAS AUTO-ADMINISTRADAS NO DEBERÁN SER CONSIDERADAS EN ESTE CAMPO."]
["Póliza No Concentrada",{"$f":"B69-B68","v":5143370},{"$f":"C69-C68","v":3373793},{"$f":"D69-D68","v":3470},{"$f":"E69-E68","v":2122}]

{"sheet":"4VG PSA.6","index":41,"n_rows":72,"n_cols":5,"rows_kept":72,"cut":false,"hidden":true,"merged":[[70,0,70,4],[13,1,13,2],[13,3,13,4],[13,6,13,7],[13,8,13,9],[9,0,9,4],[2,0,2,4],[3,0,3,4],[5,0,5,4],[6,0,6,4],[7,0,7,4]]}
[]
[]
["4. INVALIDEZ TOTAL Y PERMANENTE EN LA OPERACION DE VIDA  POR TIPO"]
[" DE SEGURO CONTRATADO, EDAD ALCANZADA Y PERIODOS DE ESPERA"]
[]
[{"$f":"#REF!","v":{"$error":"#REF!"}}]
[]
["VIDA GRUPO"]
[]
["PAGO DE LA SUMA ASEGURADA POR INVALIDEZ"]
[]
[null,null,"PERIODO DE ESPERA DE (3- 6] MESES"]
[null,2,3,4,5]
["EDAD","PÓLIZAS O CERTIFICADOS AL FINAL DEL EJERCICIO",null,"INVALIDADOS EN EL EJERCICIO"]
["ALCANZADA","Hombres","Mujeres","Hombres","Mujeres"]
[" Hasta15 años",26,30,0,0]
[16,55,44,0,0]
[17,317,201,4,2]
[18,1414,798,6,3]
[19,8146,6380,4,2]
[20,13884,9367,8,2]
[21,17737,11128,5,12]
[22,24155,13110,6,8]
[23,29454,17089,3,1]
[24,36696,21033,3,3]
[25,44702,24924,2,2]
[26,52763,27355,3,1]
[27,58519,29243,10,3]
[28,63060,30861,3,3]
[29,65619,31683,3,3]
[30,68988,33065,3,1]
[31,69933,33235,6,3]
[32,71238,34143,2,1]
[33,71236,33784,9,4]
[34,72071,34425,8,3]
[35,72322,34571,3,4]
[36,73548,35077,15,3]
[37,74581,35481,9,4]
[38,74206,35039,4,4]
[39,72732,34429,12,6]
[40,72274,33503,13,3]
[41,69607,31628,15,6]
[42,67589,31564,19,8]
[43,67675,31000,16,2]
[44,65928,30105,14,2]
[45,66317,30652,12,7]
[46,66761,30077,21,7]
[47,65201,28995,17,10]
[48,66671,27945,26,10]
[49,60548,26390,24,9]
[50,57009,24701,20,11]
[51,56770,23634,17,8]
[52,50714,21861,16,15]
[53,47722,20691,25,12]
[54,45090,18848,30,6]
[55,42665,17300,27,13]
[56,41192,16210,29,6]
[57,37814,14972,39,8]
[58,34934,13529,31,12]
[59,32287,12199,30,7]
[60,29432,10967,30,11]
[61,25376,8761,23,7]
[62,22018,7337,62,31]
[63,19450,6542,17,9]
[64,17333,5515,9,5]
[65,13760,4115,13,7]
["66 o mas",48292,9788,95,31]
["Póliza Concentrada*",1816680,73,2,0]
["Total",{"$f":"SUM(B16:B68)","v":4244511},{"$f":"SUM(C16:C68)","v":1105397},823,341]
["CIFRAS EN PESOS, ESTIMADAS AL 100%."]
["* PARA AQUELLAS PÓLIZAS QUE POR RAZONES ADMINISTRATIVAS, COMERCIALES O DE CUALQUIER OTRA ÍNDOLE, PERO QUE SE ENCUENTRE DOCUMENTADA EN SUS NOTAS TÉCNICAS CORRESPONDIENTES, Y LA INSTITUCIÓN NO TENGA A SU DISPOSICIÓN EL DETALLE DE LA INFORMACION DE CADA ASEGURADO, SE REPORTARÉ EN ESTE APARTADO LA INFORMACIÓN. CABE MENCIONAR QUE LAS PÓLIZAS AUTO-ADMINISTRADAS NO DEBERÁN SER CONSIDERADAS EN ESTE CAMPO."]
["Póliza No Concentrada",{"$f":"B69-B68","v":2427831},{"$f":"C69-C68","v":1105324},{"$f":"D69-D68","v":821},{"$f":"E69-E68","v":341}]

{"sheet":"4Total GPO RPI","index":42,"n_rows":71,"n_cols":5,"rows_kept":71,"cut":false,"hidden":true,"merged":[[69,0,69,4],[13,1,13,2],[13,3,13,4],[13,6,13,7],[13,8,13,9],[9,0,9,4],[2,0,2,4],[3,0,3,4],[5,0,5,4],[6,0,6,4],[7,0,7,4]]}
[]
[]
["4. INVALIDEZ TOTAL Y PERMANENTE EN LA OPERACION DE VIDA  POR TIPO"]
[" DE SEGURO CONTRATADO, EDAD ALCANZADA Y PERIODOS DE ESPERA"]
[]
[{"$f":"#REF!","v":{"$error":"#REF!"}}]
[]
["VIDA GRUPO"]
[]
["RENTA POR INVALIDEZ"]
[]
[null,null,"TOTAL"]
[]
["EDAD","PÓLIZAS O CERTIFICADOS AL FINAL DEL EJERCICIO",null,"INVALIDADOS EN EL EJERCICIO"]
["ALCANZADA","Hombres","Mujeres","Hombres","Mujeres"]
[" Hasta15 años",{"$f":"'4VG RPI.3'!B16+'4VG RPI.6'!B16","v":0},{"$f":"'4VG RPI.3'!C16+'4VG RPI.6'!C16","v":0},{"$f":"'4VG RPI.3'!D16+'4VG RPI.6'!D16","v":0},{"$f":"'4VG RPI.3'!E16+'4VG RPI.6'!E16","v":0}]
["16",{"$f":"'4VG RPI.3'!B17+'4VG RPI.6'!B17","v":0},{"$f":"'4VG RPI.3'!C17+'4VG RPI.6'!C17","v":0},{"$f":"'4VG RPI.3'!D17+'4VG RPI.6'!D17","v":0},{"$f":"'4VG RPI.3'!E17+'4VG RPI.6'!E17","v":0}]
["17",{"$f":"'4VG RPI.3'!B18+'4VG RPI.6'!B18","v":0},{"$f":"'4VG RPI.3'!C18+'4VG RPI.6'!C18","v":0},{"$f":"'4VG RPI.3'!D18+'4VG RPI.6'!D18","v":0},{"$f":"'4VG RPI.3'!E18+'4VG RPI.6'!E18","v":0}]
["18",{"$f":"'4VG RPI.3'!B19+'4VG RPI.6'!B19","v":0},{"$f":"'4VG RPI.3'!C19+'4VG RPI.6'!C19","v":0},{"$f":"'4VG RPI.3'!D19+'4VG RPI.6'!D19","v":0},{"$f":"'4VG RPI.3'!E19+'4VG RPI.6'!E19","v":0}]
["19",{"$f":"'4VG RPI.3'!B20+'4VG RPI.6'!B20","v":0},{"$f":"'4VG RPI.3'!C20+'4VG RPI.6'!C20","v":0},{"$f":"'4VG RPI.3'!D20+'4VG RPI.6'!D20","v":0},{"$f":"'4VG RPI.3'!E20+'4VG RPI.6'!E20","v":0}]
["20",{"$f":"'4VG RPI.3'!B21+'4VG RPI.6'!B21","v":0},{"$f":"'4VG RPI.3'!C21+'4VG RPI.6'!C21","v":0},{"$f":"'4VG RPI.3'!D21+'4VG RPI.6'!D21","v":0},{"$f":"'4VG RPI.3'!E21+'4VG RPI.6'!E21","v":0}]
["21",{"$f":"'4VG RPI.3'!B22+'4VG RPI.6'!B22","v":0},{"$f":"'4VG RPI.3'!C22+'4VG RPI.6'!C22","v":0},{"$f":"'4VG RPI.3'!D22+'4VG RPI.6'!D22","v":0},{"$f":"'4VG RPI.3'!E22+'4VG RPI.6'!E22","v":0}]
["22",{"$f":"'4VG RPI.3'!B23+'4VG RPI.6'!B23","v":0},{"$f":"'4VG RPI.3'!C23+'4VG RPI.6'!C23","v":0},{"$f":"'4VG RPI.3'!D23+'4VG RPI.6'!D23","v":0},{"$f":"'4VG RPI.3'!E23+'4VG RPI.6'!E23","v":0}]
["23",{"$f":"'4VG RPI.3'!B24+'4VG RPI.6'!B24","v":0},{"$f":"'4VG RPI.3'!C24+'4VG RPI.6'!C24","v":0},{"$f":"'4VG RPI.3'!D24+'4VG RPI.6'!D24","v":0},{"$f":"'4VG RPI.3'!E24+'4VG RPI.6'!E24","v":0}]
["24",{"$f":"'4VG RPI.3'!B25+'4VG RPI.6'!B25","v":0},{"$f":"'4VG RPI.3'!C25+'4VG RPI.6'!C25","v":0},{"$f":"'4VG RPI.3'!D25+'4VG RPI.6'!D25","v":0},{"$f":"'4VG RPI.3'!E25+'4VG RPI.6'!E25","v":0}]
["25",{"$f":"'4VG RPI.3'!B26+'4VG RPI.6'!B26","v":0},{"$f":"'4VG RPI.3'!C26+'4VG RPI.6'!C26","v":0},{"$f":"'4VG RPI.3'!D26+'4VG RPI.6'!D26","v":0},{"$f":"'4VG RPI.3'!E26+'4VG RPI.6'!E26","v":0}]
["26",{"$f":"'4VG RPI.3'!B27+'4VG RPI.6'!B27","v":0},{"$f":"'4VG RPI.3'!C27+'4VG RPI.6'!C27","v":0},{"$f":"'4VG RPI.3'!D27+'4VG RPI.6'!D27","v":0},{"$f":"'4VG RPI.3'!E27+'4VG RPI.6'!E27","v":0}]
["27",{"$f":"'4VG RPI.3'!B28+'4VG RPI.6'!B28","v":0},{"$f":"'4VG RPI.3'!C28+'4VG RPI.6'!C28","v":0},{"$f":"'4VG RPI.3'!D28+'4VG RPI.6'!D28","v":0},{"$f":"'4VG RPI.3'!E28+'4VG RPI.6'!E28","v":0}]
["28",{"$f":"'4VG RPI.3'!B29+'4VG RPI.6'!B29","v":0},{"$f":"'4VG RPI.3'!C29+'4VG RPI.6'!C29","v":0},{"$f":"'4VG RPI.3'!D29+'4VG RPI.6'!D29","v":0},{"$f":"'4VG RPI.3'!E29+'4VG RPI.6'!E29","v":0}]
["29",{"$f":"'4VG RPI.3'!B30+'4VG RPI.6'!B30","v":0},{"$f":"'4VG RPI.3'!C30+'4VG RPI.6'!C30","v":0},{"$f":"'4VG RPI.3'!D30+'4VG RPI.6'!D30","v":0},{"$f":"'4VG RPI.3'!E30+'4VG RPI.6'!E30","v":0}]
["30",{"$f":"'4VG RPI.3'!B31+'4VG RPI.6'!B31","v":0},{"$f":"'4VG RPI.3'!C31+'4VG RPI.6'!C31","v":0},{"$f":"'4VG RPI.3'!D31+'4VG RPI.6'!D31","v":0},{"$f":"'4VG RPI.3'!E31+'4VG RPI.6'!E31","v":0}]
["31",{"$f":"'4VG RPI.3'!B32+'4VG RPI.6'!B32","v":0},{"$f":"'4VG RPI.3'!C32+'4VG RPI.6'!C32","v":0},{"$f":"'4VG RPI.3'!D32+'4VG RPI.6'!D32","v":0},{"$f":"'4VG RPI.3'!E32+'4VG RPI.6'!E32","v":0}]
["32",{"$f":"'4VG RPI.3'!B33+'4VG RPI.6'!B33","v":0},{"$f":"'4VG RPI.3'!C33+'4VG RPI.6'!C33","v":0},{"$f":"'4VG RPI.3'!D33+'4VG RPI.6'!D33","v":0},{"$f":"'4VG RPI.3'!E33+'4VG RPI.6'!E33","v":0}]
["33",{"$f":"'4VG RPI.3'!B34+'4VG RPI.6'!B34","v":0},{"$f":"'4VG RPI.3'!C34+'4VG RPI.6'!C34","v":0},{"$f":"'4VG RPI.3'!D34+'4VG RPI.6'!D34","v":0},{"$f":"'4VG RPI.3'!E34+'4VG RPI.6'!E34","v":0}]
["34",{"$f":"'4VG RPI.3'!B35+'4VG RPI.6'!B35","v":0},{"$f":"'4VG RPI.3'!C35+'4VG RPI.6'!C35","v":0},{"$f":"'4VG RPI.3'!D35+'4VG RPI.6'!D35","v":0},{"$f":"'4VG RPI.3'!E35+'4VG RPI.6'!E35","v":0}]
["35",{"$f":"'4VG RPI.3'!B36+'4VG RPI.6'!B36","v":0},{"$f":"'4VG RPI.3'!C36+'4VG RPI.6'!C36","v":0},{"$f":"'4VG RPI.3'!D36+'4VG RPI.6'!D36","v":0},{"$f":"'4VG RPI.3'!E36+'4VG RPI.6'!E36","v":0}]
["36",{"$f":"'4VG RPI.3'!B37+'4VG RPI.6'!B37","v":0},{"$f":"'4VG RPI.3'!C37+'4VG RPI.6'!C37","v":0},{"$f":"'4VG RPI.3'!D37+'4VG RPI.6'!D37","v":0},{"$f":"'4VG RPI.3'!E37+'4VG RPI.6'!E37","v":0}]
["37",{"$f":"'4VG RPI.3'!B38+'4VG RPI.6'!B38","v":0},{"$f":"'4VG RPI.3'!C38+'4VG RPI.6'!C38","v":0},{"$f":"'4VG RPI.3'!D38+'4VG RPI.6'!D38","v":0},{"$f":"'4VG RPI.3'!E38+'4VG RPI.6'!E38","v":0}]
["38",{"$f":"'4VG RPI.3'!B39+'4VG RPI.6'!B39","v":0},{"$f":"'4VG RPI.3'!C39+'4VG RPI.6'!C39","v":0},{"$f":"'4VG RPI.3'!D39+'4VG RPI.6'!D39","v":0},{"$f":"'4VG RPI.3'!E39+'4VG RPI.6'!E39","v":0}]
["39",{"$f":"'4VG RPI.3'!B40+'4VG RPI.6'!B40","v":0},{"$f":"'4VG RPI.3'!C40+'4VG RPI.6'!C40","v":0},{"$f":"'4VG RPI.3'!D40+'4VG RPI.6'!D40","v":0},{"$f":"'4VG RPI.3'!E40+'4VG RPI.6'!E40","v":0}]
["40",{"$f":"'4VG RPI.3'!B41+'4VG RPI.6'!B41","v":0},{"$f":"'4VG RPI.3'!C41+'4VG RPI.6'!C41","v":0},{"$f":"'4VG RPI.3'!D41+'4VG RPI.6'!D41","v":0},{"$f":"'4VG RPI.3'!E41+'4VG RPI.6'!E41","v":0}]
[41,{"$f":"'4VG RPI.3'!B42+'4VG RPI.6'!B42","v":0},{"$f":"'4VG RPI.3'!C42+'4VG RPI.6'!C42","v":0},{"$f":"'4VG RPI.3'!D42+'4VG RPI.6'!D42","v":0},{"$f":"'4VG RPI.3'!E42+'4VG RPI.6'!E42","v":0}]
["42",{"$f":"'4VG RPI.3'!B43+'4VG RPI.6'!B43","v":0},{"$f":"'4VG RPI.3'!C43+'4VG RPI.6'!C43","v":0},{"$f":"'4VG RPI.3'!D43+'4VG RPI.6'!D43","v":0},{"$f":"'4VG RPI.3'!E43+'4VG RPI.6'!E43","v":0}]
["43",{"$f":"'4VG RPI.3'!B44+'4VG RPI.6'!B44","v":0},{"$f":"'4VG RPI.3'!C44+'4VG RPI.6'!C44","v":0},{"$f":"'4VG RPI.3'!D44+'4VG RPI.6'!D44","v":0},{"$f":"'4VG RPI.3'!E44+'4VG RPI.6'!E44","v":0}]
["44",{"$f":"'4VG RPI.3'!B45+'4VG RPI.6'!B45","v":0},{"$f":"'4VG RPI.3'!C45+'4VG RPI.6'!C45","v":0},{"$f":"'4VG RPI.3'!D45+'4VG RPI.6'!D45","v":0},{"$f":"'4VG RPI.3'!E45+'4VG RPI.6'!E45","v":0}]
["45",{"$f":"'4VG RPI.3'!B46+'4VG RPI.6'!B46","v":0},{"$f":"'4VG RPI.3'!C46+'4VG RPI.6'!C46","v":0},{"$f":"'4VG RPI.3'!D46+'4VG RPI.6'!D46","v":0},{"$f":"'4VG RPI.3'!E46+'4VG RPI.6'!E46","v":0}]
["46",{"$f":"'4VG RPI.3'!B47+'4VG RPI.6'!B47","v":0},{"$f":"'4VG RPI.3'!C47+'4VG RPI.6'!C47","v":0},{"$f":"'4VG RPI.3'!D47+'4VG RPI.6'!D47","v":0},{"$f":"'4VG RPI.3'!E47+'4VG RPI.6'!E47","v":0}]
["47",{"$f":"'4VG RPI.3'!B48+'4VG RPI.6'!B48","v":0},{"$f":"'4VG RPI.3'!C48+'4VG RPI.6'!C48","v":0},{"$f":"'4VG RPI.3'!D48+'4VG RPI.6'!D48","v":0},{"$f":"'4VG RPI.3'!E48+'4VG RPI.6'!E48","v":0}]
["48",{"$f":"'4VG RPI.3'!B49+'4VG RPI.6'!B49","v":0},{"$f":"'4VG RPI.3'!C49+'4VG RPI.6'!C49","v":0},{"$f":"'4VG RPI.3'!D49+'4VG RPI.6'!D49","v":0},{"$f":"'4VG RPI.3'!E49+'4VG RPI.6'!E49","v":0}]
["49",{"$f":"'4VG RPI.3'!B50+'4VG RPI.6'!B50","v":0},{"$f":"'4VG RPI.3'!C50+'4VG RPI.6'!C50","v":0},{"$f":"'4VG RPI.3'!D50+'4VG RPI.6'!D50","v":0},{"$f":"'4VG RPI.3'!E50+'4VG RPI.6'!E50","v":0}]
["50",{"$f":"'4VG RPI.3'!B51+'4VG RPI.6'!B51","v":0},{"$f":"'4VG RPI.3'!C51+'4VG RPI.6'!C51","v":0},{"$f":"'4VG RPI.3'!D51+'4VG RPI.6'!D51","v":0},{"$f":"'4VG RPI.3'!E51+'4VG RPI.6'!E51","v":0}]
["51",{"$f":"'4VG RPI.3'!B52+'4VG RPI.6'!B52","v":0},{"$f":"'4VG RPI.3'!C52+'4VG RPI.6'!C52","v":0},{"$f":"'4VG RPI.3'!D52+'4VG RPI.6'!D52","v":0},{"$f":"'4VG RPI.3'!E52+'4VG RPI.6'!E52","v":0}]
["52",{"$f":"'4VG RPI.3'!B53+'4VG RPI.6'!B53","v":0},{"$f":"'4VG RPI.3'!C53+'4VG RPI.6'!C53","v":0},{"$f":"'4VG RPI.3'!D53+'4VG RPI.6'!D53","v":0},{"$f":"'4VG RPI.3'!E53+'4VG RPI.6'!E53","v":0}]
["53",{"$f":"'4VG RPI.3'!B54+'4VG RPI.6'!B54","v":0},{"$f":"'4VG RPI.3'!C54+'4VG RPI.6'!C54","v":0},{"$f":"'4VG RPI.3'!D54+'4VG RPI.6'!D54","v":0},{"$f":"'4VG RPI.3'!E54+'4VG RPI.6'!E54","v":0}]
["54",{"$f":"'4VG RPI.3'!B55+'4VG RPI.6'!B55","v":0},{"$f":"'4VG RPI.3'!C55+'4VG RPI.6'!C55","v":0},{"$f":"'4VG RPI.3'!D55+'4VG RPI.6'!D55","v":0},{"$f":"'4VG RPI.3'!E55+'4VG RPI.6'!E55","v":0}]
["55",{"$f":"'4VG RPI.3'!B56+'4VG RPI.6'!B56","v":0},{"$f":"'4VG RPI.3'!C56+'4VG RPI.6'!C56","v":0},{"$f":"'4VG RPI.3'!D56+'4VG RPI.6'!D56","v":0},{"$f":"'4VG RPI.3'!E56+'4VG RPI.6'!E56","v":0}]
["56",{"$f":"'4VG RPI.3'!B57+'4VG RPI.6'!B57","v":0},{"$f":"'4VG RPI.3'!C57+'4VG RPI.6'!C57","v":0},{"$f":"'4VG RPI.3'!D57+'4VG RPI.6'!D57","v":0},{"$f":"'4VG RPI.3'!E57+'4VG RPI.6'!E57","v":0}]
["57",{"$f":"'4VG RPI.3'!B58+'4VG RPI.6'!B58","v":0},{"$f":"'4VG RPI.3'!C58+'4VG RPI.6'!C58","v":0},{"$f":"'4VG RPI.3'!D58+'4VG RPI.6'!D58","v":0},{"$f":"'4VG RPI.3'!E58+'4VG RPI.6'!E58","v":1}]
["58",{"$f":"'4VG RPI.3'!B59+'4VG RPI.6'!B59","v":0},{"$f":"'4VG RPI.3'!C59+'4VG RPI.6'!C59","v":0},{"$f":"'4VG RPI.3'!D59+'4VG RPI.6'!D59","v":0},{"$f":"'4VG RPI.3'!E59+'4VG RPI.6'!E59","v":0}]
["59",{"$f":"'4VG RPI.3'!B60+'4VG RPI.6'!B60","v":0},{"$f":"'4VG RPI.3'!C60+'4VG RPI.6'!C60","v":0},{"$f":"'4VG RPI.3'!D60+'4VG RPI.6'!D60","v":0},{"$f":"'4VG RPI.3'!E60+'4VG RPI.6'!E60","v":0}]
["60",{"$f":"'4VG RPI.3'!B61+'4VG RPI.6'!B61","v":0},{"$f":"'4VG RPI.3'!C61+'4VG RPI.6'!C61","v":0},{"$f":"'4VG RPI.3'!D61+'4VG RPI.6'!D61","v":0},{"$f":"'4VG RPI.3'!E61+'4VG RPI.6'!E61","v":0}]
["61",{"$f":"'4VG RPI.3'!B62+'4VG RPI.6'!B62","v":0},{"$f":"'4VG RPI.3'!C62+'4VG RPI.6'!C62","v":0},{"$f":"'4VG RPI.3'!D62+'4VG RPI.6'!D62","v":0},{"$f":"'4VG RPI.3'!E62+'4VG RPI.6'!E62","v":0}]
["62",{"$f":"'4VG RPI.3'!B63+'4VG RPI.6'!B63","v":0},{"$f":"'4VG RPI.3'!C63+'4VG RPI.6'!C63","v":0},{"$f":"'4VG RPI.3'!D63+'4VG RPI.6'!D63","v":0},{"$f":"'4VG RPI.3'!E63+'4VG RPI.6'!E63","v":0}]
["63",{"$f":"'4VG RPI.3'!B64+'4VG RPI.6'!B64","v":0},{"$f":"'4VG RPI.3'!C64+'4VG RPI.6'!C64","v":0},{"$f":"'4VG RPI.3'!D64+'4VG RPI.6'!D64","v":0},{"$f":"'4VG RPI.3'!E64+'4VG RPI.6'!E64","v":0}]
["64",{"$f":"'4VG RPI.3'!B65+'4VG RPI.6'!B65","v":0},{"$f":"'4VG RPI.3'!C65+'4VG RPI.6'!C65","v":0},{"$f":"'4VG RPI.3'!D65+'4VG RPI.6'!D65","v":0},{"$f":"'4VG RPI.3'!E65+'4VG RPI.6'!E65","v":0}]
["65 y más",{"$f":"'4VG RPI.3'!B66+'4VG RPI.6'!B66+'4VG RPI.3'!B67+'4VG RPI.6'!B67","v":0},{"$f":"'4VG RPI.3'!C66+'4VG RPI.6'!C66+'4VG RPI.3'!C67+'4VG RPI.6'!C67","v":0},{"$f":"'4VG RPI.3'!D66+'4VG RPI.6'!D66+'4VG RPI.3'!D67+'4VG RPI.6'!D67","v":0},{"$f":"'4VG RPI.3'!E66+'4VG RPI.6'!E66+'4VG RPI.3'!E67+'4VG RPI.6'!E67","v":1}]
["Póliza Concentrada*",{"$f":"'4VG RPI.3'!B68+'4VG RPI.6'!B68","v":0},{"$f":"'4VG RPI.3'!C68+'4VG RPI.6'!C68","v":0},{"$f":"'4VG RPI.3'!D68+'4VG RPI.6'!D68","v":0},{"$f":"'4VG RPI.3'!E68+'4VG RPI.6'!E68","v":0}]
["Total",{"$f":"SUM(B16:B67)","v":0},{"$f":"SUM(C16:C67)","v":0},0,2]
["CIFRAS EN PESOS, ESTIMADAS AL 100%."]
["* PARA AQUELLAS PÓLIZAS QUE POR RAZONES ADMINISTRATIVAS, COMERCIALES O DE CUALQUIER OTRA ÍNDOLE, PERO QUE SE ENCUENTRE DOCUMENTADA EN SUS NOTAS TÉCNICAS CORRESPONDIENTES, Y LA INSTITUCIÓN NO TENGA A SU DISPOSICIÓN EL DETALLE DE LA INFORMACION DE CADA ASEGURADO, SE REPORTARÉ EN ESTE APARTADO LA INFORMACIÓN. CABE MENCIONAR QUE LAS PÓLIZAS AUTO-ADMINISTRADAS NO DEBERÁN SER CONSIDERADAS EN ESTE CAMPO."]
["Póliza No Concentrada",{"$f":"B68-B67","v":0},{"$f":"C68-C67","v":0},0,2]

{"sheet":"4VG RPI.3","index":43,"n_rows":72,"n_cols":5,"rows_kept":72,"cut":false,"hidden":true,"merged":[[70,0,70,4],[13,1,13,2],[13,3,13,4],[13,6,13,7],[13,8,13,9],[9,0,9,4],[2,0,2,4],[3,0,3,4],[5,0,5,4],[6,0,6,4],[7,0,7,4]]}
[]
[]
["4. INVALIDEZ TOTAL Y PERMANENTE EN LA OPERACION DE VIDA  POR TIPO"]
[" DE SEGURO CONTRATADO, EDAD ALCANZADA Y PERIODOS DE ESPERA"]
[]
[{"$f":"#REF!","v":{"$error":"#REF!"}}]
[]
["VIDA GRUPO"]
[]
["PAGO DE LA SUMA ASEGURADA POR INVALIDEZ"]
[]
[null,null,"PERIODO DE ESPERA DE (0-3] MESES"]
[null,2,3,4,5]
["EDAD","PÓLIZAS O CERTIFICADOS AL FINAL DEL EJERCICIO",null,"INVALIDADOS EN EL EJERCICIO"]
["ALCANZADA","Hombres","Mujeres","Hombres","Mujeres"]
[" Hasta15 años",0,0,0,0]
[16,0,0,0,0]
[17,0,0,0,0]
[18,0,0,0,0]
[19,0,0,0,0]
[20,0,0,0,0]
[21,0,0,0,0]
[22,0,0,0,0]
[23,0,0,0,0]
[24,0,0,0,0]
[25,0,0,0,0]
[26,0,0,0,0]
[27,0,0,0,0]
[28,0,0,0,0]
[29,0,0,0,0]
[30,0,0,0,0]
[31,0,0,0,0]
[32,0,0,0,0]
[33,0,0,0,0]
[34,0,0,0,0]
[35,0,0,0,0]
[36,0,0,0,0]
[37,0,0,0,0]
[38,0,0,0,0]
[39,0,0,0,0]
[40,0,0,0,0]
[41,0,0,0,0]
[42,0,0,0,0]
[43,0,0,0,0]
[44,0,0,0,0]
[45,0,0,0,0]
[46,0,0,0,0]
[47,0,0,0,0]
[48,0,0,0,0]
[49,0,0,0,0]
[50,0,0,0,0]
[51,0,0,0,0]
[52,0,0,0,0]
[53,0,0,0,0]
[54,0,0,0,0]
[55,0,0,0,0]
[56,0,0,0,0]
[57,0,0,0,1]
[58,0,0,0,0]
[59,0,0,0,0]
[60,0,0,0,0]
[61,0,0,0,0]
[62,0,0,0,0]
[63,0,0,0,0]
[64,0,0,0,0]
[65,0,0,0,1]
["66 o mas",0,0,0,0]
["Póliza Concentrada*",0,0,0,0]
["Total",{"$f":"SUM(B16:B68)","v":0},{"$f":"SUM(C16:C68)","v":0},0,2]
["CIFRAS EN PESOS, ESTIMADAS AL 100%."]
["* PARA AQUELLAS PÓLIZAS QUE POR RAZONES ADMINISTRATIVAS, COMERCIALES O DE CUALQUIER OTRA ÍNDOLE, PERO QUE SE ENCUENTRE DOCUMENTADA EN SUS NOTAS TÉCNICAS CORRESPONDIENTES, Y LA INSTITUCIÓN NO TENGA A SU DISPOSICIÓN EL DETALLE DE LA INFORMACION DE CADA ASEGURADO, SE REPORTARÉ EN ESTE APARTADO LA INFORMACIÓN. CABE MENCIONAR QUE LAS PÓLIZAS AUTO-ADMINISTRADAS NO DEBERÁN SER CONSIDERADAS EN ESTE CAMPO."]
["Póliza No Concentrada",{"$f":"B69-B68","v":0},{"$f":"C69-C68","v":0},{"$f":"D69-D68","v":0},{"$f":"E69-E68","v":2}]

{"sheet":"4VG RPI.6","index":44,"n_rows":72,"n_cols":5,"rows_kept":72,"cut":false,"hidden":true,"merged":[[70,0,70,4],[13,1,13,2],[13,3,13,4],[13,6,13,7],[13,8,13,9],[9,0,9,4],[2,0,2,4],[3,0,3,4],[5,0,5,4],[6,0,6,4],[7,0,7,4]]}
[]
[]
["4. INVALIDEZ TOTAL Y PERMANENTE EN LA OPERACION DE VIDA  POR TIPO"]
[" DE SEGURO CONTRATADO, EDAD ALCANZADA Y PERIODOS DE ESPERA"]
[]
[{"$f":"#REF!","v":{"$error":"#REF!"}}]
[]
["VIDA GRUPO"]
[]
["PAGO DE LA SUMA ASEGURADA POR INVALIDEZ"]
[]
[null,null,"PERIODO DE ESPERA DE (3- 6] MESES"]
[null,2,3,4,5]
["EDAD","PÓLIZAS O CERTIFICADOS AL FINAL DEL EJERCICIO",null,"INVALIDADOS EN EL EJERCICIO"]
["ALCANZADA","Hombres","Mujeres","Hombres","Mujeres"]
[" Hasta15 años",0,0,0,0]
[16,0,0,0,0]
[17,0,0,0,0]
[18,0,0,0,0]
[19,0,0,0,0]
[20,0,0,0,0]
[21,0,0,0,0]
[22,0,0,0,0]
[23,0,0,0,0]
[24,0,0,0,0]
[25,0,0,0,0]
[26,0,0,0,0]
[27,0,0,0,0]
[28,0,0,0,0]
[29,0,0,0,0]
[30,0,0,0,0]
[31,0,0,0,0]
[32,0,0,0,0]
[33,0,0,0,0]
[34,0,0,0,0]
[35,0,0,0,0]
[36,0,0,0,0]
[37,0,0,0,0]
[38,0,0,0,0]
[39,0,0,0,0]
[40,0,0,0,0]
[41,0,0,0,0]
[42,0,0,0,0]
[43,0,0,0,0]
[44,0,0,0,0]
[45,0,0,0,0]
[46,0,0,0,0]
[47,0,0,0,0]
[48,0,0,0,0]
[49,0,0,0,0]
[50,0,0,0,0]
[51,0,0,0,0]
[52,0,0,0,0]
[53,0,0,0,0]
[54,0,0,0,0]
[55,0,0,0,0]
[56,0,0,0,0]
[57,0,0,0,0]
[58,0,0,0,0]
[59,0,0,0,0]
[60,0,0,0,0]
[61,0,0,0,0]
[62,0,0,0,0]
[63,0,0,0,0]
[64,0,0,0,0]
[65,0,0,0,0]
["66 o mas",0,0,0,0]
["Póliza Concentrada*",0,0,0,0]
["Total",{"$f":"SUM(B16:B68)","v":0},{"$f":"SUM(C16:C68)","v":0},0,0]
["CIFRAS EN PESOS, ESTIMADAS AL 100%."]
["* PARA AQUELLAS PÓLIZAS QUE POR RAZONES ADMINISTRATIVAS, COMERCIALES O DE CUALQUIER OTRA ÍNDOLE, PERO QUE SE ENCUENTRE DOCUMENTADA EN SUS NOTAS TÉCNICAS CORRESPONDIENTES, Y LA INSTITUCIÓN NO TENGA A SU DISPOSICIÓN EL DETALLE DE LA INFORMACION DE CADA ASEGURADO, SE REPORTARÉ EN ESTE APARTADO LA INFORMACIÓN. CABE MENCIONAR QUE LAS PÓLIZAS AUTO-ADMINISTRADAS NO DEBERÁN SER CONSIDERADAS EN ESTE CAMPO."]
["Póliza No Concentrada",{"$f":"B69-B68","v":0},{"$f":"C69-C68","v":0},{"$f":"D69-D68","v":0},{"$f":"E69-E68","v":0}]

{"sheet":"4Total GPO ITP","index":45,"n_rows":72,"n_cols":5,"rows_kept":72,"cut":false,"hidden":false,"merged":[[9,0,9,4],[2,0,2,4],[3,0,3,4],[5,0,5,4],[6,0,6,4],[7,0,7,4],[13,1,13,2],[13,3,13,4],[13,6,13,7],[13,8,13,9],[70,0,70,4]]}
[]
[]
["4. INVALIDEZ TOTAL Y PERMANENTE EN LA OPERACION DE VIDA  POR TIPO"]
[" DE SEGURO CONTRATADO, EDAD ALCANZADA Y PERIODOS DE ESPERA"]
[]
[{"$f":"'1 Total'!B3","v":"DICIEMBRE DE 2021"}]
[]
["VIDA GRUPO"]
[]
[{"$f":"'4Total Ind ITP'!A10","v":"INVALIDEZ TOTAL Y PERMANENTE"}]
[]
[null,null,"TOTAL"]
[]
["EDAD","PÓLIZAS O CERTIFICADOS AL FINAL DEL EJERCICIO",null,"INVALIDADOS EN EL EJERCICIO"]
["ALCANZADA","Hombres","Mujeres","Hombres","Mujeres"]
[" Hasta15 años",34213,29915,2,0]
["16",3635,3373]
["17",5271,4216]
["18",13394,10131]
["19",42487,28800]
["20",96162,66636]
["21",142772,102176,0,0]
["22",174948,133680,21,49]
["23",216292,163545,21,63]
["24",251439,187167,91,133]
["25",304432,224417,119,231]
["26",352469,257683,161,294]
["27",411145,281574,91,259]
["28",428183,308611,154,434]
["29",461124,328461,189,476]
["30",468216,333753,182,350]
["31",495496,353132,210,392]
["32",490962,356545,140,371]
["33",486440,359629,224,322]
["34",483534,361021,147,385]
["35",485164,365802,140,518]
["36",481467,364989,147,364]
["37",484710,369079,231,399]
["38",485470,368526,231,420]
["39",483301,364430,217,308]
["40",470949,354638,245,329]
[41,469257,353434,616,427]
["42",448354,337883,147,504]
["43",441012,338154,245,469]
["44",446594,336465,266,546]
["45",435295,334129,280,266]
["46",431548,335898,273,462]
["47",441936,341785,336,427]
["48",431273,334681,287,329]
["49",418817,330231,364,399]
["50",400153,349374,406,539]
["51",377015,297257,329,329]
["52",370166,291774,511,462]
["53",344320,276487,364,378]
["54",328683,266204,343,441]
["55",313510,243047,434,329]
["56",294592,223928,385,385]
["57",276472,210171,483,301]
["58",264001,199586,294,301]
["59",240131,179093,364,322]
["60",218842,162197,385,245]
["61",233779,151735,560,203]
["62",175043,127304,287,196]
["63",159812,113113,224,147]
["64",138444,96805,161,133]
["65",115265,74047,189,168]
["66 y más",542912,287682,1287,803]
["Póliza Concentrada*",813,128,270,39]
["Total",{"$f":"SUM(B16:B68)","v":17011714},{"$f":"SUM(C16:C68)","v":12674521},{"$f":"SUM(D16:D68)","v":13053},{"$f":"SUM(E16:E68)","v":15647}]
[]
["* PARA AQUELLAS PÓLIZAS QUE POR RAZONES ADMINISTRATIVAS, COMERCIALES O DE CUALQUIER OTRA ÍNDOLE, PERO QUE SE ENCUENTRE DOCUMENTADA EN SUS NOTAS TÉCNICAS CORRESPONDIENTES, Y LA INSTITUCIÓN NO TENGA A SU DISPOSICIÓN EL DETALLE DE LA INFORMACION DE CADA ASEGURADO, SE REPORTARÉ EN ESTE APARTADO LA INFORMACIÓN. CABE MENCIONAR QUE LAS PÓLIZAS AUTO-ADMINISTRADAS NO DEBERÁN SER CONSIDERADAS EN ESTE CAMPO."]
["Póliza No Concentrada",{"$f":"B69-B68","v":17010901},{"$f":"C69-C68","v":12674393},12783,15608]

{"sheet":"4VG ITP.3","index":46,"n_rows":72,"n_cols":5,"rows_kept":72,"cut":false,"hidden":false,"merged":[[9,0,9,4],[2,0,2,4],[3,0,3,4],[5,0,5,4],[6,0,6,4],[7,0,7,4],[13,1,13,2],[13,3,13,4],[13,6,13,7],[13,8,13,9],[70,0,70,4]]}
[]
[]
["4. INVALIDEZ TOTAL Y PERMANENTE EN LA OPERACION DE VIDA  POR TIPO"]
[" DE SEGURO CONTRATADO, EDAD ALCANZADA Y PERIODOS DE ESPERA"]
[]
[{"$f":"'1 Total'!B3","v":"DICIEMBRE DE 2021"}]
[]
["VIDA GRUPO"]
[]
[{"$f":"'4Total GPO ITP'!A10","v":"INVALIDEZ TOTAL Y PERMANENTE"}]
[]
[" ",null,"PERIODO DE ESPERA DE (0-3] MESES"]
[null,2,3,4,5]
["EDAD","PÓLIZAS O CERTIFICADOS AL FINAL DEL EJERCICIO",null,"INVALIDADOS EN EL EJERCICIO"]
["ALCANZADA","Hombres","Mujeres","Hombres","Mujeres"]
[" Hasta15 años",33255,29671,1,0]
[16,3372,3300]
[17,4809,3979]
[18,11312,8827]
[19,34260,23913]
[20,77745,55440]
[21,112742,81374,0,0]
[22,133129,93066,12,28]
[23,156079,109251,12,36]
[24,179739,126460,52,76]
[25,209421,147957,68,132]
[26,241521,169494,92,168]
[27,267439,184056,52,148]
[28,282491,195210,88,248]
[29,300545,205245,108,272]
[30,304970,208628,104,200]
[31,312730,215670,120,224]
[32,311878,216444,80,212]
[33,310516,218557,128,184]
[34,305831,218102,84,220]
[35,306183,221611,80,296]
[36,301763,221122,84,208]
[37,300123,220359,132,228]
[38,300860,219811,132,240]
[39,298953,216564,124,176]
[40,290125,209587,140,188]
[41,289794,208984,352,244]
[42,276425,200183,84,288]
[43,272633,200525,140,268]
[44,278260,198888,152,312]
[45,268160,196784,160,152]
[46,266870,198173,156,264]
[47,274148,202205,192,244]
[48,266710,198934,164,188]
[49,257491,196515,208,228]
[50,248156,223409,232,308]
[51,233068,177799,188,188]
[52,223972,173765,292,264]
[53,213038,167148,208,216]
[54,202037,160672,196,252]
[55,197614,147693,248,188]
[56,186131,134222,220,220]
[57,174854,125293,276,172]
[58,164108,116895,168,172]
[59,150716,105404,208,184]
[60,137925,95158,220,140]
[61,124363,83001,320,116]
[62,108616,73146,164,112]
[63,96794,63812,128,84]
[64,88086,57493,92,76]
[65,74577,46254,108,96]
["66 o mas",379056,174586,740,460]
["Póliza Concentrada*",331,57,180,26]
["Total",{"$f":"SUM(B16:B68)","v":10845724},{"$f":"SUM(C16:C68)","v":7750696},{"$f":"SUM(D16:D68)","v":7489},8946]
[]
["* PARA AQUELLAS PÓLIZAS QUE POR RAZONES ADMINISTRATIVAS, COMERCIALES O DE CUALQUIER OTRA ÍNDOLE, PERO QUE SE ENCUENTRE DOCUMENTADA EN SUS NOTAS TÉCNICAS CORRESPONDIENTES, Y LA INSTITUCIÓN NO TENGA A SU DISPOSICIÓN EL DETALLE DE LA INFORMACION DE CADA ASEGURADO, SE REPORTARÉ EN ESTE APARTADO LA INFORMACIÓN. CABE MENCIONAR QUE LAS PÓLIZAS AUTO-ADMINISTRADAS NO DEBERÁN SER CONSIDERADAS EN ESTE CAMPO."]
["Póliza No Concentrada",{"$f":"B69-B68","v":10845393},{"$f":"C69-C68","v":7750639},{"$f":"D69-D68","v":7309},{"$f":"E69-E68","v":8920}]

{"sheet":"4VG ITP.6","index":47,"n_rows":72,"n_cols":5,"rows_kept":72,"cut":false,"hidden":false,"merged":[[9,0,9,4],[2,0,2,4],[3,0,3,4],[5,0,5,4],[6,0,6,4],[7,0,7,4],[13,1,13,2],[13,3,13,4],[13,6,13,7],[13,8,13,9],[70,0,70,4]]}
[]
[]
["4. INVALIDEZ TOTAL Y PERMANENTE EN LA OPERACION DE VIDA  POR TIPO"]
[" DE SEGURO CONTRATADO, EDAD ALCANZADA Y PERIODOS DE ESPERA"]
[]
[{"$f":"'1 Total'!B3","v":"DICIEMBRE DE 2021"}]
[]
["VIDA GRUPO"]
[]
[{"$f":"'4VG ITP.3'!A10","v":"INVALIDEZ TOTAL Y PERMANENTE"}]
[]
[" ",null,"PERIODO DE ESPERA DE (3-6] MESES"]
[null,2,3,4,5]
["EDAD","PÓLIZAS O CERTIFICADOS AL FINAL DEL EJERCICIO",null,"INVALIDADOS EN EL EJERCICIO"]
["ALCANZADA","Hombres","Mujeres","Hombres","Mujeres"]
[" Hasta15 años",958,244,1,0]
[16,263,73]
[17,462,237]
[18,2082,1304]
[19,8227,4887]
[20,18417,11196]
[21,30030,20802,0,0]
[22,41819,40614,9,21]
[23,60213,54294,9,27]
[24,71700,60707,39,57]
[25,95011,76460,51,99]
[26,110948,88189,69,126]
[27,143706,97518,39,111]
[28,145692,113401,66,186]
[29,160579,123216,81,204]
[30,163246,125125,78,150]
[31,182766,137462,90,168]
[32,179084,140101,60,159]
[33,175924,141072,96,138]
[34,177703,142919,63,165]
[35,178981,144191,60,222]
[36,179704,143867,63,156]
[37,184587,148720,99,171]
[38,184610,148715,99,180]
[39,184348,147866,93,132]
[40,180824,145051,105,141]
[41,179463,144450,264,183]
[42,171929,137700,63,216]
[43,168379,137629,105,201]
[44,168334,137577,114,234]
[45,167135,137345,120,114]
[46,164678,137725,117,198]
[47,167788,139580,144,183]
[48,164563,135747,123,141]
[49,161326,133716,156,171]
[50,151997,125965,174,231]
[51,143947,119458,141,141]
[52,146194,118009,219,198]
[53,131282,109339,156,162]
[54,126646,105532,147,189]
[55,115896,95354,186,141]
[56,108461,89706,165,165]
[57,101618,84878,207,129]
[58,99893,82691,126,129]
[59,89415,73689,156,138]
[60,80917,67039,165,105]
[61,109416,68734,240,87]
[62,66427,54158,123,84]
[63,63018,49301,96,63]
[64,50358,39312,69,57]
[65,40688,27793,81,72]
["66 o mas",163856,113096,547,343]
["Póliza Concentrada*",482,71,90,13]
["Total",{"$f":"SUM(B16:B68)","v":6165990},{"$f":"SUM(C16:C68)","v":4923825},{"$f":"SUM(D16:D68)","v":5564},6701]
[]
["* PARA AQUELLAS PÓLIZAS QUE POR RAZONES ADMINISTRATIVAS, COMERCIALES O DE CUALQUIER OTRA ÍNDOLE, PERO QUE SE ENCUENTRE DOCUMENTADA EN SUS NOTAS TÉCNICAS CORRESPONDIENTES, Y LA INSTITUCIÓN NO TENGA A SU DISPOSICIÓN EL DETALLE DE LA INFORMACION DE CADA ASEGURADO, SE REPORTARÉ EN ESTE APARTADO LA INFORMACIÓN. CABE MENCIONAR QUE LAS PÓLIZAS AUTO-ADMINISTRADAS NO DEBERÁN SER CONSIDERADAS EN ESTE CAMPO."]
["Póliza No Concentrada",{"$f":"B69-B68","v":6165508},{"$f":"C69-C68","v":4923754},{"$f":"D69-D68","v":5474},{"$f":"E69-E68","v":6688}]

{"sheet":"5INDIVIDUAL","index":48,"n_rows":117,"n_cols":10,"rows_kept":117,"cut":false,"hidden":false,"merged":[[10,0,12,1],[10,2,10,5],[10,6,10,9],[1,0,1,9],[2,0,2,9],[4,0,4,9],[6,0,6,9],[7,0,7,9],[10,11,10,12],[10,13,10,14],[11,2,11,3],[11,4,11,5],[11,6,11,7],[11,8,11,9]]}
[]
["5. EXPUESTOS Y SINIESTROS DE LOS BENEFICIOS ADICIONALES "]
["DE MUERTE ACCIDENTAL Y MUERTE COLECTIVA"]
[]
[{"$f":"'1 Total'!B3","v":"DICIEMBRE DE 2021"}]
[]
[]
["VIDA INDIVIDUAL "]
[]
[null,null,2,3,4,5,2,3,4,5]
["EDAD \nALCANZADA",null,"MUERTE ACCIDENTAL",null,null,null,"MUERTE COLECTIVA"]
[null,null,"EXPUESTOS EN VIGOR ",null,"MUERTES OCURRIDAS",null,"EXPUESTOS EN VIGOR ",null,"MUERTES OCURRIDAS"]
[null,null,"Hombres","Mujeres","Hombres","Mujeres","Hombres","Mujeres","Hombres","Mujeres"]
["De","0 años",3,0,null,null,0,0,0]
[null,1,7,6,null,null,0,1]
[null,2,3,5,null,null,0,0]
[null,3,11,8,null,null,1,0]
[null,4,9,7,null,null,1,0,null,0]
[null,5,7,11,null,null,0,2,0]
[null,6,5,14,null,null,1,1,0,0]
[null,7,13,5,null,null,1,0,0,0]
[null,8,8,6,null,null,0,0,0]
[null,9,11,10,null,null,1,0,0]
[null,10,17,9,null,null,0,0,0]
[null,11,18,7,null,null,0,0,0,0]
[null,12,117,108,null,null,3,0,0,0]
[null,13,201,179,null,null,5,4,0,0]
[null,14,259,233,null,null,20,19,0,0]
[null,15,316,315,null,null,25,19,0,0]
[]
["Hasta 15 años",null,42321,35059,0,1,2,1]
[null,16,140,180,null,null,2,7]
[null,17,239,248,null,null,5,5]
[null,18,2207,1310,null,null,128,94]
[null,19,11789,7802,null,null,1255,525]
[null,20,21053,15259,2,0,5886,2045]
[null,21,27595,20082,4,0,11165,4155]
[null,22,37320,27917,4,0,14887,5836]
[null,23,41815,31836,4,0,18169,7258,0,1]
[null,24,46158,35743,4,2,20702,9614,2,0]
[null,25,50996,39524,2,0,23649,12191,0,0]
[null,26,58039,45683,8,4,27094,15991,0,2]
[null,27,62850,50911,16,2,30286,19753,0,0]
[null,28,66594,54002,16,6,32545,22388,4,0]
[null,29,71647,58367,8,0,35223,25322,2,0]
[null,30,73210,60294,12,2,36634,27498]
[null,31,78883,65204,16,0,38693,30754,0,4]
[null,32,78719,66091,8,0,39807,33002,4,2]
[null,33,80766,67784,12,6,41215,35236,8,2]
[null,34,83801,70260,20,4,41550,37288,6,0]
[null,35,85771,71490,16,0,43342,38932,8,2]
[null,36,86934,71976,26,8,44041,40967,6,0]
[null,37,87708,74025,20,4,44788,42712,2,2]
[null,38,88491,73250,10,2,45511,43048,0,2]
[null,39,88428,73039,32,4,45471,43441,2,8]
[null,40,86341,72320,24,2,45402,43603,6,4]
[null,41,89547,74296,20,4,46446,44552,4,2]
[null,42,85862,70108,22,2,45374,43044,4,2]
[null,43,85984,69964,26,6,45935,43719,4,2]
[null,44,86169,69876,34,6,46561,43662,6,2]
[null,45,86875,68920,10,2,45780,44087,2,2]
[null,46,88252,70688,20,12,47308,44800,2,2]
[null,47,90034,71823,28,8,48012,46229,0,2]
[null,48,89213,71038,28,8,47667,46171,4,2]
[null,49,87141,69967,24,14,46493,45938,10,2]
[null,50,80087,63733,30,4,45543,45258,4,2]
[null,51,75163,60159,24,6,43731,43678,2,2]
[null,52,71338,57524,14,6,42847,43801,8,4]
[null,53,68862,55766,24,2,41943,44498,2,0]
[null,54,64931,53207,6,8,41465,45573,2,4]
[null,55,62457,49743,40,4,42076,43199,16,6]
[null,56,58734,47152,10,8,41733,42236,16,4]
[null,57,55747,44747,6,4,40365,41429,6,2]
[null,58,53725,43242,22,14,38628,40619,2,6]
[null,59,50567,40930,6,4,36911,39678,8,0]
[null,60,47369,38619,26,18,35133,37457,8,0]
[null,61,44271,36195,28,8,34080,35273,6,0]
[null,62,40401,32081,10,0,32066,31746,0,0]
[null,63,36397,28839,6,0,29509,28184,4,2]
[null,64,33954,26183,18,2,28689,25755,10,0]
[null,65,30851,23857,18,4,25763,22698,6,0]
[null,66,28390,21761,24,14,24206,20362,2,2]
[null,67,24750,18473,2,4,21281,17705,2,4]
[null,68,21775,16106,0,1,18507,15036,1,0]
[null,69,18770,14269,0,1,16196,12839,1,1]
[null,70,15773,11679,1,0,13351,10291,1,0]
[null,71,57116,45990,3,4,8977,6376]
[null,72,10627,8083,2,0,2672,1594]
[null,73,9345,7287,1,1,1157,924]
[null,74,8683,6663,null,null,793,742]
[null,75,7573,5895,null,null,535,440]
[null,76,6859,5215,null,null,425,327]
[null,77,6332,4626,null,null,334,276]
[null,78,5614,4373,1,0,268,191]
[null,79,5034,3961,null,null,238,193]
[null,80,4528,3372,1,0,233,134]
[null,81,4148,3273,null,null,158,89]
[null,82,3738,3032,null,null,89,80]
[null,83,3466,2747,null,null,117,62]
[null,84,3180,2466,null,null,83,69]
[null,85,3044,2407,null,null,83,51]
[null,86,2869,2235,null,null,68,48]
[null,87,2700,2191,null,null,71,43]
[null,88,2587,2066,null,null,61,45]
[null,89,2468,1927,null,null,68,36]
[null,90,2476,1929,null,null,62,47]
[null,91,2351,1960,0,0,62,50]
[null,92,2366,1849,null,null,51,48]
[null,93,2313,1924,null,null,66,48]
[null,94,2272,1892,1,0,56,48]
[null,95,2416,1811,null,null,67,28]
[null,96,2347,1885,null,null,69,36]
[null,97,2216,1827,null,null,55,49]
[null,98,2226,1812,null,null,55,52]
[null,99,6,4,null,null,0,0,0,0]
[null,"100 y más",3,1,null,null,0,0,0,0]
[null,"Total",{"$f":"SUM(C31:C116)","v":3404107},{"$f":"SUM(D31:D116)","v":2745304},800,226,{"$f":"SUM(G31:G116)","v":1818024},{"$f":"SUM(H31:H116)","v":1643309},{"$f":"SUM(I31:I116)","v":193},{"$f":"SUM(J31:J116)","v":86}]

{"sheet":"5GRUPO","index":49,"n_rows":122,"n_cols":10,"rows_kept":122,"cut":false,"hidden":false,"merged":[[121,0,121,1],[1,0,1,9],[2,0,2,9],[4,0,4,9],[6,0,6,9],[7,0,7,9],[119,1,119,9],[10,0,12,1],[10,11,10,12],[10,13,10,14],[11,2,11,3],[11,4,11,5],[11,6,11,7],[11,8,11,9],[10,2,10,5],[10,6,10,9]]}
[]
["5. EXPUESTOS Y SINIESTROS DE LOS BENEFICIOS ADICIONALES "]
["DE MUERTE ACCIDENTAL Y MUERTE COLECTIVA"]
[]
[{"$f":"'1 Total'!B3","v":"DICIEMBRE DE 2021"}]
[]
[]
["VIDA GRUPO"]
[]
[null,null,2,3,4,5,2,3,4,5]
["EDAD \nALCANZADA",null,"MUERTE ACCIDENTAL",null,null,null,"MUERTE COLECTIVA"]
[null,null,"EXPUESTOS EN VIGOR ",null,"MUERTES OCURRIDAS",null,"EXPUESTOS EN VIGOR ",null,"MUERTES OCURRIDAS"]
[null,null,"Hombres","Mujeres","Hombres","Mujeres","Hombres","Mujeres","Hombres","Mujeres"]
["De","0 años",3,0,1,0,0,0,0,0]
[null,1,0,0,0,0,0,0,0,0]
[null,2,1,1,0,0,0,0,0,0]
[null,3,1,0,0,0,0,0,0,0]
[null,4,2,0,0,0,0,0,0,0]
[null,5,1,1,0,0,0,0,0,0]
[null,6,2,1,0,0,0,0,0,0]
[null,7,1,1,0,0,0,0,0,0]
[null,8,1,0,0,0,0,0,0,0]
[null,9,1,2,0,0,0,0,0,0]
[null,10,0,0,0,0,0,0,0,0]
[null,11,1,2,0,0,0,0,0,0]
[null,12,1,2,0,0,0,0,0,0]
[null,13,36,23,0,0,0,0,0,0]
[null,14,10,13,0,0,0,3,0,0]
[null,15,1379,1306,1,0,9,9,0,0]
[]
["Hasta 15 años",null,46491,40080,null,null,1222,1227]
[null,16,7902,7447,null,null,1235,1315]
[null,17,9492,7396,0,0,1309,1407]
[null,18,24293,20529,null,null,1203,871,0,1]
[null,19,74363,61399,4,0,3838,2662,1,0]
[null,20,150509,115103,6,4,8123,5313]
[null,21,204367,154378,10,5,11891,7171,0,0]
[null,22,233887,172326,7,4,14238,7904,1,0]
[null,23,265064,194714,22,5,17106,10213]
[null,24,292946,217379,17,5,20216,13025,3,0]
[null,25,325740,241705,18,7,24690,16247,1,0]
[null,26,364556,266113,22,6,28884,19404,3,2]
[null,27,392707,280876,30,14,32145,20975,2,1]
[null,28,402512,288796,20,9,34060,22408,2,0]
[null,29,417750,296911,10,9,36507,24236,2,0]
[null,30,417043,296465,10,5,37124,25491,3,0]
[null,31,422285,304700,19,9,38407,27098,0,1]
[null,32,408481,297650,26,14,38170,27415,0,1]
[null,33,401556,294637,16,8,38165,27279,2,0]
[null,34,391534,290549,28,8,38401,28224,3,0]
[null,35,388878,292881,21,6,38270,28796,2,0]
[null,36,381954,287368,38,18,38192,29489,3,1]
[null,37,379411,290399,11,13,38554,31150,2,0]
[null,38,377143,291375,17,1,39768,31348,1,0]
[null,39,373997,286343,11,8,39783,31528,1,1]
[null,40,473187,320467,13,3,68674,48504,0,1]
[null,41,356462,277399,20,3,37927,30515,3,0]
[null,42,340818,267440,12,3,36976,29805,1,0]
[null,43,335010,268157,95,51,36908,30574]
[null,44,338651,267690,23,6,36723,31659,0,0]
[null,45,323150,261271,14,9,36391,31657,0,0]
[null,46,320703,261455,12,11,36141,32935,3,1]
[null,47,321752,265577,11,5,36762,34479,1,0]
[null,48,318798,268308,6,5,36535,34745,2,1]
[null,49,302519,253824,32,8,35448,34374,1,0]
[null,50,287523,242310,20,6,34581,35058,2,0]
[null,51,274851,231740,14,18,34082,34208,1,0]
[null,52,259966,223380,17,2,34070,34934,3,0]
[null,53,243969,211970,9,2,33274,34963,3,0]
[null,54,229672,201056,13,8,32420,34556,1,0]
[null,55,217394,190540,7,8,31451,34358,0,0]
[null,56,228766,182845,15,4,30534,32065,1,0]
[null,57,194558,167590,8,1,30851,31178,0,1]
[null,58,181086,157206,8,6,29421,30443,1,0]
[null,59,167046,143341,4,3,28050,27836,1,0]
[null,60,155998,131159,9,2,26637,26156,2,0]
[null,61,173375,128499,8,2,25121,23572,2,0]
[null,62,118005,106428,1,3,23118,22313,0,0]
[null,63,102631,94101,5,0,20550,19786,0,0]
[null,64,97171,87128,2,3,20244,18374,2,0]
[null,65,93808,75316,3,2,17789,15384,0,0]
[null,66,78349,67631,5,1,15831,13357,1,0]
[null,67,68768,59077,0,2,13626,10842,1,1]
[null,68,57937,48741,2,2,10333,8138]
[null,69,52745,43690,2,0,8713,6873]
[null,70,43559,37230,2,0,7053,5412,0,0]
[null,71,34593,28892,0,0,5178,3945,0,0]
[null,72,27519,23407,1,2,3580,2736]
[null,73,23496,19994,2,0,2893,2233,0,0]
[null,74,19956,16880,1,0,2667,2028]
[null,75,12815,11710,1,1,2054,1818]
[null,76,9274,7863,1,1,1859,1300]
[null,77,6250,5308,0,0,1441,956]
[null,78,5706,3827,0,1,1368,834]
[null,79,4693,3157,1,1,1097,761]
[null,80,4081,2470,null,null,965,596]
[null,81,3516,2241,1,0,780,516]
[null,82,3125,1835,null,null,707,481]
[null,83,2694,1503,null,null,554,351]
[null,84,2080,1131,null,null,474,284]
[null,85,2133,1081,1,0,497,270,0,0]
[null,86,1531,700,null,null,341,205]
[null,87,1391,563,null,null,263,156,0,0]
[null,88,1019,437,1,0,228,135]
[null,89,908,395,null,null,192,70]
[null,90,820,313,null,null,140,99]
[null,91,710,344,null,null,132,102]
[null,92,539,212,null,null,100,65]
[null,93,419,173,null,null,52,50]
[null,94,402,182,null,null,89,74]
[null,95,325,152,null,null,48,52]
[null,96,275,125,null,null,49,38]
[null,97,167,90,null,null,33,12]
[null,98,145,70,null,null,17,9]
[null,99,244,114,null,null,14,11]
[null,"100 y más",222,23,1,0,22,16]
[null,"Póliza Concentrada*",404,95,8,0,1,1]
[null,"Total",{"$f":"SUM(C31:C117)","v":14084540},{"$f":"SUM(D31:D117)","v":10975372},{"$f":"SUM(E31:E117)","v":774},{"$f":"SUM(F31:F117)","v":343},{"$f":"SUM(G31:G117)","v":1555570},1301453,64,13]
[]
[null,"* PARA AQUELLAS PÓLIZAS QUE POR RAZONES ADMINISTRATIVAS, COMERCIALES O DE CUALQUIER OTRA ÍNDOLE, PERO QUE SE ENCUENTRE DOCUMENTADA EN SUS NOTAS TÉCNICAS CORRESPONDIENTES, Y LA INSTITUCIÓN NO TENGA A SU DISPOSICIÓN EL DETALLE DE LA INFORMACION DE CADA ASEGURADO, SE REPORTARÉ EN ESTE APARTADO LA INFORMACIÓN. CABE MENCIONAR QUE LAS PÓLIZAS AUTO-ADMINISTRADAS NO DEBERÁN SER CONSIDERADAS EN ESTE CAMPO."]
[]
["NO CONCENTRADAS",null,{"$f":"C118-C117","v":14084136},{"$f":"D118-D117","v":10975277},766,343,1555569,1301452,64,13]

{"sheet":"6Individual","index":50,"n_rows":43,"n_cols":21,"rows_kept":43,"cut":false,"hidden":false,"merged":[[9,0,11,0],[9,2,9,20],[10,20,11,20],[0,0,0,20],[1,0,1,20],[2,0,2,20],[4,0,4,20],[5,0,5,20],[7,0,7,20]]}
[]
["6. SINIESTROS PROCEDENTES POR MUERTE EN LA OPERACION DE VIDA "]
["POR TIPO DE SEGURO CONTRATADO Y CAUSA"]
[]
[{"$f":"'1 Total'!B3","v":"DICIEMBRE DE 2021"}]
[]
[]
["VIDA INDIVIDUAL"]
[null,null,3,14,4,5,6,7,8,9,10,11,12,13,15,16,17,18,19,20]
["CAUSA",null,"SINIESTROS PROCEDENTES POR MUERTE A EDAD ALCANZADA"]
[null,null,"De 0","De 6","De 11","De 16","De 21","De 26","De 31","De 36","De 41","De 46","De 51","De 56","De 61","De 66","De 71","De 76","De 81","De 86","TOTAL"]
[null,null,"a 5 años","a 10","a 15","a 20","a 25","a 30","a 35","a 40","a 45","a 50","a 55","a 60","a 65","a 70","a 75","a 80","a 85","o más"]
["ENFERMEDADES INFECCIOSAS Y PARASITARIAS",null,94,4,231,5,29,41,65,98,171,1069,347,403,341,262,235,94,87,63,3639]
["    SIDA","1.1 - ENFERMEDADES INFECCIOSAS Y PARASITARIAS (SIDA)",7,0,0,0,1,3,5,8,3,5,14,2,1,1,0,0,0,0,50]
["     OTRAS ENFERMEDADES INFECCIOSAS Y PARASITARIAS","1.2 - ENFERMEDADES INFECCIOSAS Y PARASITARIAS (OTRAS ENFERMEDADES INFECCIOSAS Y PARASITARIAS)",87,4,231,5,28,38,60,90,168,1064,333,401,340,261,235,94,87,63,3589]
["TUMORES (NEOPLASIAS)","2 - TUMORES (NEOPLASIAS)",228,1,51,5,9,23,52,84,129,459,288,451,477,371,318,162,93,41,3242]
["ENFERMEDADES DE LAS GLANDULAS ENDOCRINAS, DE  LA NUTRICION Y DEL METABOLISMO","3 - ENFERMEDADES DE LAS GLANDULAS ENDOCRINAS, DE  LA NUTRICION Y DEL METABOLISMO",142,0,35,2,11,20,23,39,69,312,214,325,391,370,280,139,107,29,2508]
["DE LA SANGRE Y DE LOS ORGANOS HEMATOPOYETICOS","4 - DE LA SANGRE Y DE LOS ORGANOS HEMATOPOYETICOS",3,0,2,0,0,2,2,2,9,20,22,22,34,30,23,11,6,3,191]
["TRASTORNOS MENTALES",null,2,0,0,0,0,0,0,1,1,1,1,2,3,2,0,0,2,0,15]
["    ALCOHOLISMO","5.1 - TRASTORNOS MENTALES (ALCOHOLISMO)",0,0,0,0,0,0,0,1,1,1,0,1,0,1,0,0,0,0,5]
["    OTRAS CAUSAS","5.2 - TRASTORNOS MENTALES (OTRAS CAUSAS)",2,0,0,0,0,0,0,0,0,0,1,1,3,1,0,0,2,0,10]
["ENFERMEDADES DEL SISTEMA NERVIOSO Y ORGANOS DE LOS SENTIDOS","6 - ENFERMEDADES DEL SISTEMA NERVIOSO Y ORGANOS DE LOS SENTIDOS",16,0,4,1,3,5,9,15,23,52,32,44,50,34,46,20,11,8,373]
["ENFERMEDADES DEL APARATO CIRCULATORIO","7 - ENFERMEDADES DEL APARATO CIRCULATORIO",509,3,254,9,38,55,99,145,287,1211,620,941,1080,1058,860,546,358,214,8287]
["ENFERMEDADES DEL APARATO RESPIRATORIO","8 - ENFERMEDADES DEL APARATO RESPIRATORIO",269,2,92,7,15,47,53,130,201,836,388,574,641,516,384,241,131,84,4611]
["COVID 19",null,481,9,19,7,17,60,224,445,704,1246,1629,2359,2433,2016,1306,701,310,68,14034]
["ENFERMEDADES DEL APARATO DIGESTIVO","9 - ENFERMEDADES DEL APARATO DIGESTIVO",83,1,2,0,2,5,17,28,51,85,141,170,181,129,74,55,23,7,1054]
["ENFERMEDADES DEL APARATO GENITO-URINARIO","10 - ENFERMEDADES DEL APARATO GENITO-URINARIO",71,0,17,1,4,6,14,17,35,160,117,174,205,212,135,79,49,12,1308]
["ENFERMEDADES DEL EMBARAZO, DEL PARTO Y DEL PUERPERIO","11 - ENFERMEDADES DEL EMBARAZO, DEL PARTO Y DEL PUERPERIO",8,0,4,0,3,0,1,5,4,16,1,3,7,3,3,5,0,1,64]
["ENFERMEDADES DE LA PIEL Y TEJIDO CELULAR SUBCUTANEO","12 - ENFERMEDADES DE LA PIEL Y TEJIDO CELULAR SUBCUTANEO",1,0,0,0,0,3,0,2,1,3,2,7,1,1,2,1,0,0,24]
["ENFERMEDADES DEL SISTEMA OSTEOMUSCULAR Y DEL TEJIDO CONJUNTIVO","13 - ENFERMEDADES DEL SISTEMA OSTEOMUSCULAR Y DEL TEJIDO CONJUNTIVO",1,0,0,0,0,1,4,3,5,21,5,10,8,3,2,1,1,0,65]
["ANOMALIAS CONGENITAS","14 - ANOMALIAS CONGENITAS",2,0,0,0,0,0,0,1,3,0,0,1,0,0,3,0,0,2,12]
["CIERTAS CAUSAS DE LA MORBILIDAD Y DE LA MORTALIDAD PERINATALES","15 - CIERTAS CAUSAS DE LA MORBILIDAD Y DE LA MORTALIDAD PERINATALES",5,0,0,0,0,0,1,0,3,6,4,6,4,3,2,1,0,0,35]
["SINTOMAS Y ESTADOS MORBOSOS MALDEFINIDOS","16 - SINTOMAS Y ESTADOS MORBOSOS MALDEFINIDOS",99,1,3,1,12,16,31,61,74,131,189,230,291,244,219,136,75,21,1834]
["ACCIDENTES, ENVENENAMIENTOS Y VIOLENTOS",null,126,3,11,5,22,65,76,105,96,113,78,67,35,27,13,2,2,9,855]
["    ACCIDENTES DE TRANSITO","17.1 - ACCIDENTES, ENVENENAMIENTOS Y VIOLENTOS (ACCIDENTES DE TRANSITO)",6,0,1,0,1,7,8,12,12,6,18,5,3,0,0,0,0,0,79]
["     ENVENENAMIENTOS","17.2 - ACCIDENTES, ENVENENAMIENTOS Y VIOLENTOS (ENVENENAMIENTOS)",1,0,0,0,0,0,0,0,0,0,0,1,0,0,0,0,0,0,2]
["    PROVOCADAS POR ACTOS DE VIOLENCIA","17.3 - ACCIDENTES, ENVENENAMIENTOS Y VIOLENTOS (PROVOCADAS POR ACTOS DE VIOLENCIA)",19,0,2,0,4,24,22,27,21,30,12,18,11,5,2,0,0,0,197]
["    SUICIDIO","17.4 - ACCIDENTES, ENVENENAMIENTOS Y VIOLENTOS (SUICIDIO)",3,0,4,0,0,2,1,2,3,8,7,3,1,1,4,1,0,0,40]
["    OTROS ACCIDENTES, ENVENENAMIENTO Y VIOLENTOS","17.5 - ACCIDENTES, ENVENENAMIENTOS Y VIOLENTOS (OTROS ACCIDENTES, ENVENENAMIENTO Y VIOLENTOS)",97,3,4,5,17,32,45,64,60,69,41,40,20,21,7,1,2,4,532]
["HOMICIDIOS","18 - HOMICIDIO",188,0,1,8,39,52,81,97,64,96,78,82,91,96,37,16,13,6,1045]
["CAUSAS INDETERMINADAS DE DEFUNCION","19 - CAUSAS INDETERMINADAS DE DEFUNCION",67,14,19,11,13,32,35,42,69,89,103,123,122,85,46,48,17,4,939]
["No Especificado",null,null,null,null,null,null,null,null,null,null,null,null,null,null,null,null,null,null,null,199]
["TOTAL DE SINIESTROS",null,2395,38,745,62,217,433,787,1320,1999,5926,4259,5994,6395,5462,3988,2258,1285,572,{"$f":"44130+U42","v":44329}]

{"sheet":"6Grupo","index":51,"n_rows":42,"n_cols":21,"rows_kept":42,"cut":false,"hidden":false,"merged":[[9,0,11,0],[9,2,9,20],[10,20,11,20],[0,0,0,20],[1,0,1,20],[2,0,2,20],[4,0,4,20],[5,0,5,20],[7,0,7,20]]}
[]
["6. SINIESTROS PROCEDENTES POR MUERTE EN LA OPERACION DE VIDA "]
["POR TIPO DE SEGURO CONTRATADO Y CAUSA"]
[]
[{"$f":"'1 Total'!B3","v":"DICIEMBRE DE 2021"}]
[]
[]
["VIDA GRUPO"]
[null,null,3,14,4,5,6,7,8,9,10,11,12,13,15,16,17,18,19,20]
["CAUSA",null,"SINIESTROS PROCEDENTES POR MUERTE A EDAD ALCANZADA"]
[null,null,"De 0","De 6","De 11","De 16","De 21","De 26","De 31","De 36","De 41","De 46","De 51","De 56","De 61","De 66","De 71","De 76","De 81","De 86","TOTAL"]
[null,null,"a 5 años","a 10","a 15","a 20","a 25","a 30","a 35","a 40","a 45","a 50","a 55","a 60","a 65","a 70","a 75","a 80","a 85","o más"]
["ENFERMEDADES INFECCIOSAS Y PARASITARIAS",null,7,1,2,29,530,3622,605,713,1065,1480,2036,2360,2280,1967,1005,642,412,248,{"$f":"SUM(U14,U15)","v":19004}]
["   SIDA","1.1 - ENFERMEDADES INFECCIOSAS Y PARASITARIAS (SIDA)",0,0,0,0,14,64,70,68,69,52,46,39,32,15,8,3,2,0,{"$f":"SUM(C14:T14)","v":482}]
["   OTRAS ENFERMEDADES INFECCIOSAS Y PARASITARIAS","1.2 - ENFERMEDADES INFECCIOSAS Y PARASITARIAS (OTRAS ENFERMEDADES INFECCIOSAS Y PARASITARIAS)",7,1,2,29,516,3558,535,645,996,1428,1990,2321,2248,1952,997,639,410,248,18522]
["TUMORES (NEOPLASIAS)","2 - TUMORES (NEOPLASIAS)",8,2,11,27,218,803,466,751,1317,1467,1915,2572,2950,3095,2282,1494,861,449,20688]
["ENFERMEDADES DE LAS GLANDULAS ENDOCRINAS, DE  LA NUTRICION Y DEL METABOLISMO","3 - ENFERMEDADES DE LAS GLANDULAS ENDOCRINAS, DE  LA NUTRICION Y DEL METABOLISMO",10,6,8,21,156,507,305,509,1009,1335,1958,2580,3246,3548,2574,1471,932,474,20649]
["DE LA SANGRE Y DE LOS ORGANOS HEMATOPOYETICOS","4 - DE LA SANGRE Y DE LOS ORGANOS HEMATOPOYETICOS",0,0,0,1,17,99,59,66,133,105,127,161,198,164,95,60,48,42,1375]
["TRASTORNOS MENTALES",null,0,0,0,1,2,3,3,8,21,6,14,22,15,11,20,14,16,20,176]
["ALCOHOLISMO","5.1 - TRASTORNOS MENTALES (ALCOHOLISMO)",0,0,0,0,1,0,0,0,1,1,2,9,2,2,3,1,4,0,26]
["OTRAS CAUSAS","5.2 - TRASTORNOS MENTALES (OTRAS CAUSAS)",0,0,0,1,1,3,3,8,20,5,12,13,13,9,17,13,12,20,{"$f":"SUM(C21:T21)","v":150}]
["ENFERMEDADES DEL SISTEMA NERVIOSO Y ORGANOS DE LOS SENTIDOS","6 - ENFERMEDADES DEL SISTEMA NERVIOSO Y ORGANOS DE LOS SENTIDOS",3,1,2,10,47,144,87,118,164,180,197,212,267,255,212,141,104,77,2221]
["ENFERMEDADES DEL APARATO CIRCULATORIO","7 - ENFERMEDADES DEL APARATO CIRCULATORIO",28,12,23,69,606,3217,1240,2009,3581,4472,6178,8386,10242,10498,8405,5932,4427,3453,72778]
["ENFERMEDADES DEL APARATO RESPIRATORIO","8 - ENFERMEDADES DEL APARATO RESPIRATORIO",22,6,20,65,488,3177,1303,1949,3193,4197,5463,6624,7987,7228,5198,3142,1953,1223,53238]
["COVID 19",null,14,4,14,63,478,1037,1913,3290,10454,6723,8601,10704,11669,11523,8090,4084,2094,797,81552]
["ENFERMEDADES DEL APARATO DIGESTIVO","9 - ENFERMEDADES DEL APARATO DIGESTIVO",6,0,2,14,96,481,202,272,595,662,930,1190,1519,1384,926,507,335,167,9288]
["ENFERMEDADES DEL APARATO GENITO-URINARIO","10 - ENFERMEDADES DEL APARATO GENITO-URINARIO",7,0,2,8,137,598,247,352,533,777,1128,1635,1975,1978,1375,827,551,381,12511]
["ENFERMEDADES DEL EMBARAZO, DEL PARTO Y DEL PUERPERIO","11 - ENFERMEDADES DEL EMBARAZO, DEL PARTO Y DEL PUERPERIO",1,0,1,0,3,15,34,30,111,34,54,62,59,74,83,73,53,30,717]
["ENFERMEDADES DE LA PIEL Y TEJIDO CELULAR SUBCUTANEO","12 - ENFERMEDADES DE LA PIEL Y TEJIDO CELULAR SUBCUTANEO",1,0,0,0,3,8,4,6,16,20,25,35,19,22,24,13,9,12,217]
["ENFERMEDADES DEL SISTEMA OSTEOMUSCULAR Y DEL TEJIDO CONJUNTIVO","13 - ENFERMEDADES DEL SISTEMA OSTEOMUSCULAR Y DEL TEJIDO CONJUNTIVO",0,0,1,1,8,16,16,20,47,42,45,68,67,69,43,27,20,16,506]
["ANOMALIAS CONGENITAS","14 - ANOMALIAS CONGENITAS",1,0,0,1,5,9,8,12,14,10,15,13,13,19,14,19,6,4,163]
["CIERTAS CAUSAS DE LA MORBILIDAD Y DE LA MORTALIDAD PERINATALES","15 - CIERTAS CAUSAS DE LA MORBILIDAD Y DE LA MORTALIDAD PERINATALES",7,0,0,3,8,14,11,13,34,18,32,42,41,30,22,16,10,9,310]
["SINTOMAS Y ESTADOS MORBOSOS MALDEFINIDOS","16 - SINTOMAS Y ESTADOS MORBOSOS MALDEFINIDOS",8,2,7,48,220,844,472,632,2863,1066,1507,1827,2139,2163,1575,998,722,551,{"$f":"SUM(C33:T33)","v":17644}]
["ACCIDENTES, ENVENENAMIENTOS Y VIOLENTOS",null,4,2,0,80,427,922,737,758,6504,902,888,851,849,626,208,51,25,32,13866]
["   ACCIDENTES DE TRANSITO","17.1 - ACCIDENTES, ENVENENAMIENTOS Y VIOLENTOS (ACCIDENTES DE TRANSITO)",0,0,0,8,69,95,80,79,63,61,63,26,33,18,10,1,1,4,611]
["   ENVENENAMIENTOS","17.2 - ACCIDENTES, ENVENENAMIENTOS Y VIOLENTOS (ENVENENAMIENTOS)",0,0,0,1,1,3,1,0,1,2,1,0,0,0,0,0,0,0,10]
["   PROVOCADAS POR ACTOS DE VIOLENCIA","17.3 - ACCIDENTES, ENVENENAMIENTOS Y VIOLENTOS (PROVOCADAS POR ACTOS DE VIOLENCIA)",1,0,0,18,90,222,214,240,224,217,150,147,86,72,31,13,4,3,1732]
["   SUICIDIO","17.4 - ACCIDENTES, ENVENENAMIENTOS Y VIOLENTOS (SUICIDIO)",0,0,0,4,9,11,12,14,11,8,12,8,11,1,1,0,1,1,{"$f":"SUM(C38:T38)","v":104}]
["   OTROS ACCIDENTES, ENVENENAMIENTO Y VIOLENTOS","17.5 - ACCIDENTES, ENVENENAMIENTOS Y VIOLENTOS (OTROS ACCIDENTES, ENVENENAMIENTO Y VIOLENTOS)",3,2,0,49,258,591,430,425,6205,614,662,670,719,535,166,37,19,24,{"$f":"SUM(C39:T39)","v":11409}]
["HOMICIDIOS","18 - HOMICIDIO",8,2,3,112,539,1290,761,782,3517,731,686,647,539,505,331,157,72,49,{"$f":"SUM(C40:T40)","v":10731}]
["CAUSAS INDETERMINADAS DE DEFUNCION","19 - CAUSAS INDETERMINADAS DE DEFUNCION",1,0,0,85,261,428,451,544,1723,761,875,1190,1702,976,635,227,164,62,{"$f":"SUM(C41:T41)","v":10085}]
["TOTAL DE SINIESTROS",null,{"$f":"SUM(C13:C41)-C34-C19-C13","v":136},38,96,638,4249,17234,8924,12834,36894,24988,32674,41181,47776,46135,33117,19895,12814,8096,{"$f":"SUM(U13:U41)-U34-U19-U13","v":347719}]

{"sheet":"Hoja1","index":52,"n_rows":0,"n_cols":0,"rows_kept":0,"cut":false,"hidden":true,"merged":[]}

{"sheet":"7 Individual","index":53,"n_rows":42,"n_cols":21,"rows_kept":42,"cut":false,"hidden":false,"merged":[[10,22,11,22],[9,0,11,0],[9,2,9,20],[0,0,0,20],[1,0,1,20],[2,0,2,20],[4,0,4,20],[5,0,5,20],[7,0,7,20]]}
[]
["7. SINIESTROS PROCEDENTES POR INVALIDEZ EN LA OPERACION DE VIDA "]
["POR TIPO DE SEGURO CONTRATADO Y CAUSA"]
[]
[{"$f":"'1 Total'!B3","v":"DICIEMBRE DE 2021"}]
[]
[]
["VIDA INDIVIDUAL"]
[null,null,3,14,4,5,6,7,8,9,10,11,12,13,15,16,17,18,19,20]
["CAUSA",null,"SINIESTROS PROCEDENTES POR MUERTE A EDAD ALCANZADA"]
[null,null,"De 0","De 6","De 11","De 16","De 21","De 26","De 31","De 36","De 41","De 46","De 51","De 56","De 61","De 66","De 71","De 76","De 81","De 86","TOTAL"]
[null,null,"a 5 años","a 10","a 15","a 20","a 25","a 30","a 35","a 40","a 45","a 50","a 55","a 60","a 65","a 70","a 75","a 80","a 85","o más"]
["ENFERMEDADES INFECCIOSAS Y PARASITARIAS",null,{"$f":"SUM(C14,C15)","v":0},{"$f":"SUM(D14,D15)","v":0},0,0,0,0,1,2,9,11,11,9,5,1,0,0,0,1,50]
["SIDA","1.1 - ENFERMEDADES INFECCIOSAS Y PARASITARIAS (SIDA)",0,0,0,0,0,0,0,0,0,4,3,1,0,0,0,0,0,0,8]
["OTRAS ENFERMEDADES INFECCIOSAS Y PARASITARIAS","1.2 - ENFERMEDADES INFECCIOSAS Y PARASITARIAS (OTRAS ENFERMEDADES INFECCIOSAS Y PARASITARIAS)",0,0,0,0,0,0,1,2,9,7,8,8,5,1,0,0,0,1,42]
["TUMORES (NEOPLASIAS)","2 - TUMORES (NEOPLASIAS)",0,2,5,1,0,0,6,21,65,109,139,125,44,12,0,0,0,0,527]
["ENFERMEDADES DE LAS GLANDULAS ENDOCRINAS, DE  LA NUTRICION Y DEL METABOLISMO","3 - ENFERMEDADES DE LAS GLANDULAS ENDOCRINAS, DE  LA NUTRICION Y DEL METABOLISMO",0,0,2,0,0,0,0,1,5,25,40,38,14,2,0,0,0,0,127]
["DE LA SANGRE Y DE LOS ORGANOS HEMATOPOYETICOS","4 - DE LA SANGRE Y DE LOS ORGANOS HEMATOPOYETICOS",0,0,0,0,0,0,0,2,4,1,3,1,2,0,0,0,0,0,13]
["TRASTORNOS MENTALES",null,{"$f":"SUM(C20:C21)","v":0},{"$f":"SUM(D20:D21)","v":0},1,0,0,0,2,5,6,21,24,20,6,1,0,0,0,0,86]
["ALCOHOLISMO","5.1 - TRASTORNOS MENTALES (ALCOHOLISMO)",0,0,0,0,0,0,0,0,0,0,0,1,0,0,0,0,0,0,1]
["OTRAS CAUSAS","5.2 - TRASTORNOS MENTALES (OTRAS CAUSAS)",0,0,1,0,0,0,2,5,6,21,24,19,6,1,0,0,0,0,85]
["ENFERMEDADES DEL SISTEMA NERVIOSO Y ORGANOS DE LOS SENTIDOS","6 - ENFERMEDADES DEL SISTEMA NERVIOSO Y ORGANOS DE LOS SENTIDOS",1,0,5,0,0,4,23,14,41,62,123,133,50,12,2,1,0,0,470]
["ENFERMEDADES DEL APARATO CIRCULATORIO","7 - ENFERMEDADES DEL APARATO CIRCULATORIO",0,1,2,0,1,2,10,26,47,90,104,90,43,16,6,1,1,1,440]
["COVID 19",null,null,null,1,0,0,0,0,3,8,15,12,9,6,2,0,0,0,0,56]
["ENFERMEDADES DEL APARATO RESPIRATORIO","8 - ENFERMEDADES DEL APARATO RESPIRATORIO",0,0,3,1,0,0,2,20,22,37,14,27,9,3,0,0,0,0,138]
["ENFERMEDADES DEL APARATO DIGESTIVO","9 - ENFERMEDADES DEL APARATO DIGESTIVO",0,0,0,0,2,0,2,4,4,7,13,10,6,2,0,0,0,0,50]
["ENFERMEDADES DEL APARATO GENITO-URINARIO","10 - ENFERMEDADES DEL APARATO GENITO-URINARIO",0,0,0,0,0,0,0,2,6,21,11,20,9,3,1,1,0,0,74]
["ENFERMEDADES DEL EMBARAZO, DEL PARTO Y DEL PUERPERIO","11 - ENFERMEDADES DEL EMBARAZO, DEL PARTO Y DEL PUERPERIO",0,0,0,0,0,0,0,0,0,0,0,0,2,0,0,0,0,0,2]
["ENFERMEDADES DE LA PIEL Y TEJIDO CELULAR SUBCUTANEO","12 - ENFERMEDADES DE LA PIEL Y TEJIDO CELULAR SUBCUTANEO",0,0,0,0,0,0,0,0,1,2,3,1,0,0,0,0,0,0,7]
["ENFERMEDADES DEL SISTEMA OSTEOMUSCULAR Y DEL TEJIDO CONJUNTIVO","13 - ENFERMEDADES DEL SISTEMA OSTEOMUSCULAR Y DEL TEJIDO CONJUNTIVO",0,0,4,1,0,0,4,17,36,72,128,126,51,14,8,5,3,6,475]
["ANOMALIAS CONGENITAS","14 - ANOMALIAS CONGENITAS",0,0,0,0,0,0,0,1,0,2,2,3,0,0,0,0,0,0,8]
["CIERTAS CAUSAS DE LA MORBILIDAD Y DE LA MORTALIDAD PERINATALES","15 - CIERTAS CAUSAS DE LA MORBILIDAD Y DE LA MORTALIDAD PERINATALES",0,0,0,0,0,0,0,0,0,0,0,0,0,0,0,0,0,0,0]
["SINTOMAS Y ESTADOS MORBOSOS MALDEFINIDOS","16 - SINTOMAS Y ESTADOS MORBOSOS MALDEFINIDOS",0,0,0,1,0,0,3,9,9,11,13,4,4,0,1,0,0,0,55]
["ACCIDENTES, ENVENENAMIENTOS Y VIOLENTOS",null,{"$f":"SUM(C35:C39)","v":0},{"$f":"SUM(D35:D39)","v":0},0,0,0,4,9,18,62,63,30,20,10,0,0,0,0,0,216]
["ACCIDENTES DE TRANSITO","17.1 - ACCIDENTES, ENVENENAMIENTOS Y VIOLENTOS (ACCIDENTES DE TRANSITO)",0,0,0,0,0,2,5,1,16,12,2,1,3,0,0,0,0,0,42]
["ENVENENAMIENTOS","17.2 - ACCIDENTES, ENVENENAMIENTOS Y VIOLENTOS (ENVENENAMIENTOS)",0,0,0,0,0,0,0,0,0,0,0,0,0,0,0,0,0,0,0]
["PROVOCADAS POR ACTOS DE VIOLENCIA","17.3 - ACCIDENTES, ENVENENAMIENTOS Y VIOLENTOS (PROVOCADAS POR ACTOS DE VIOLENCIA)",0,0,0,0,0,1,1,8,28,25,10,9,4,0,0,0,0,0,86]
["SUICIDIO","17.4 - ACCIDENTES, ENVENENAMIENTOS Y VIOLENTOS (SUICIDIO)",0,0,0,0,0,0,0,0,1,0,4,2,1,0,0,0,0,0,8]
["OTROS ACCIDENTES, ENVENENAMIENTO Y VIOLENTOS","17.5 - ACCIDENTES, ENVENENAMIENTOS Y VIOLENTOS (OTROS ACCIDENTES, ENVENENAMIENTO Y VIOLENTOS)",0,0,0,0,0,1,3,9,17,26,14,8,2,0,0,0,0,0,80]
["HOMICIDIOS","18 - HOMICIDIO",0,0,2,0,1,5,14,38,56,61,70,206,261,280,75,2,0,0,1071]
["CAUSAS INDETERMINADAS DE DEFUNCION","19 - CAUSAS INDETERMINADAS DE DEFUNCION",0,0,0,0,0,0,0,4,10,7,25,20,7,1,0,1,0,0,75]
["TOTAL DE SINIESTROS",null,{"$f":"SUM(C13:C41)-C34-C19-C13","v":1},{"$f":"SUM(D13:D41)-D34-D19-D13","v":3},25,4,4,15,76,187,391,617,765,862,529,349,93,11,4,8,3940]

{"sheet":"7 Grupo","index":54,"n_rows":42,"n_cols":21,"rows_kept":42,"cut":false,"hidden":false,"merged":[[9,0,11,0],[9,2,9,20],[10,20,11,20],[0,0,0,20],[1,0,1,20],[2,0,2,20],[4,0,4,20],[5,0,5,20],[7,0,7,20]]}
[]
["7. SINIESTROS PROCEDENTES POR INVALIDEZ EN LA OPERACION DE VIDA "]
["POR TIPO DE SEGURO CONTRATADO Y CAUSA"]
[]
[{"$f":"'1 Total'!B3","v":"DICIEMBRE DE 2021"}]
[]
[]
["VIDA GRUPO"]
[null,null,3,14,4,5,6,7,8,9,10,11,12,13,15,16,17,18,19,20]
["CAUSA",null,"SINIESTROS PROCEDENTES POR MUERTE A EDAD ALCANZADA"]
[null,null,"De 0","De 6","De 11","De 16","De 21","De 26","De 31","De 36","De 41","De 46","De 51","De 56","De 61","De 66","De 71","De 76","De 81","De 86","TOTAL"]
[null,null,"a 5 años","a 10","a 15","a 20","a 25","a 30","a 35","a 40","a 45","a 50","a 55","a 60","a 65","a 70","a 75","a 80","a 85","o más"]
["ENFERMEDADES INFECCIOSAS Y PARASITARIAS",null,{"$f":"SUM(C14,C15)","v":0},{"$f":"SUM(D14,D15)","v":0},0,0,0,1,3,6,5,5,4,7,3,0,0,0,0,0,{"$f":"SUM(E13:T13)","v":34}]
["SIDA","1.1 - ENFERMEDADES INFECCIOSAS Y PARASITARIAS (SIDA)",0,0,0,0,0,1,1,1,0,1,3,3,1,0,0,0,0,0,{"$f":"SUM(E14:T14)","v":11}]
["OTRAS ENFERMEDADES INFECCIOSAS Y PARASITARIAS","1.2 - ENFERMEDADES INFECCIOSAS Y PARASITARIAS (OTRAS ENFERMEDADES INFECCIOSAS Y PARASITARIAS)",0,0,0,0,0,0,2,5,5,4,1,4,2,0,0,0,0,0,{"$f":"SUM(E15:T15)","v":23}]
["TUMORES (NEOPLASIAS)","2 - TUMORES (NEOPLASIAS)",0,2,0,0,3,6,5,12,36,44,70,64,29,22,10,0,0,0,{"$f":"SUM(E16:T16)","v":301}]
["ENFERMEDADES DE LAS GLANDULAS ENDOCRINAS, DE  LA NUTRICION Y DEL METABOLISMO","3 - ENFERMEDADES DE LAS GLANDULAS ENDOCRINAS, DE  LA NUTRICION Y DEL METABOLISMO",0,0,0,0,1,7,9,15,32,52,96,95,37,21,1,2,0,0,{"$f":"SUM(E17:T17)","v":368}]
["DE LA SANGRE Y DE LOS ORGANOS HEMATOPOYETICOS","4 - DE LA SANGRE Y DE LOS ORGANOS HEMATOPOYETICOS",0,0,0,0,0,0,0,1,1,1,1,0,1,0,0,0,0,0,5]
["TRASTORNOS MENTALES",null,{"$f":"SUM(C20:C21)","v":0},{"$f":"SUM(D20:D21)","v":0},0,0,0,1,3,5,12,32,32,22,8,6,2,0,0,0,123]
["ALCOHOLISMO","5.1 - TRASTORNOS MENTALES (ALCOHOLISMO)",0,0,0,0,0,0,0,0,0,0,0,0,0,0,0,0,0,0,0]
["OTRAS CAUSAS","5.2 - TRASTORNOS MENTALES (OTRAS CAUSAS)",0,0,0,0,0,1,3,5,12,32,32,22,8,6,2,0,0,0,123]
["ENFERMEDADES DEL SISTEMA NERVIOSO Y ORGANOS DE LOS SENTIDOS","6 - ENFERMEDADES DEL SISTEMA NERVIOSO Y ORGANOS DE LOS SENTIDOS",1,0,0,1,1,4,18,39,62,72,106,101,62,34,19,3,1,0,523]
["ENFERMEDADES DEL APARATO CIRCULATORIO","7 - ENFERMEDADES DEL APARATO CIRCULATORIO",0,1,0,1,2,2,3,11,30,59,80,96,46,29,10,5,1,2,377]
["COVID 19",null,null,null,0,0,0,0,1,2,5,4,4,11,6,4,3,4,0,0,44]
["ENFERMEDADES DEL APARATO RESPIRATORIO","8 - ENFERMEDADES DEL APARATO RESPIRATORIO",0,0,0,0,0,0,0,0,1,2,2,1,4,0,0,0,0,0,10]
["ENFERMEDADES DEL APARATO DIGESTIVO","9 - ENFERMEDADES DEL APARATO DIGESTIVO",0,0,0,0,0,0,1,3,4,6,19,6,3,1,0,0,0,0,43]
["ENFERMEDADES DEL APARATO GENITO-URINARIO","10 - ENFERMEDADES DEL APARATO GENITO-URINARIO",0,0,0,1,0,1,6,8,14,13,24,20,3,9,7,0,0,0,106]
["ENFERMEDADES DEL EMBARAZO, DEL PARTO Y DEL PUERPERIO","11 - ENFERMEDADES DEL EMBARAZO, DEL PARTO Y DEL PUERPERIO",0,0,0,0,0,0,0,0,1,1,0,0,0,0,0,0,1,0,3]
["ENFERMEDADES DE LA PIEL Y TEJIDO CELULAR SUBCUTANEO","12 - ENFERMEDADES DE LA PIEL Y TEJIDO CELULAR SUBCUTANEO",0,0,0,0,0,0,1,2,0,3,3,1,1,0,0,0,0,0,11]
["ENFERMEDADES DEL SISTEMA OSTEOMUSCULAR Y DEL TEJIDO CONJUNTIVO","13 - ENFERMEDADES DEL SISTEMA OSTEOMUSCULAR Y DEL TEJIDO CONJUNTIVO",0,0,0,3,3,4,23,59,111,132,183,176,119,47,25,12,1,0,898]
["ANOMALIAS CONGENITAS","14 - ANOMALIAS CONGENITAS",0,0,0,0,1,1,1,0,3,3,1,2,1,2,2,1,1,0,19]
["CIERTAS CAUSAS DE LA MORBILIDAD Y DE LA MORTALIDAD PERINATALES","15 - CIERTAS CAUSAS DE LA MORBILIDAD Y DE LA MORTALIDAD PERINATALES",0,0,0,0,0,0,0,0,0,0,0,0,0,0,0,0,0,0,0]
["SINTOMAS Y ESTADOS MORBOSOS MALDEFINIDOS","16 - SINTOMAS Y ESTADOS MORBOSOS MALDEFINIDOS",0,0,0,0,0,0,2,1,2,5,7,7,3,3,0,0,0,0,30]
["ACCIDENTES, ENVENENAMIENTOS Y VIOLENTOS",null,{"$f":"SUM(C35:C39)","v":0},{"$f":"SUM(D35:D39)","v":0},0,0,0,2,3,4,7,3,6,3,1,0,1,0,0,0,30]
["ACCIDENTES DE TRANSITO","17.1 - ACCIDENTES, ENVENENAMIENTOS Y VIOLENTOS (ACCIDENTES DE TRANSITO)",0,0,0,0,0,1,2,1,0,2,0,0,0,0,1,0,0,0,7]
["ENVENENAMIENTOS","17.2 - ACCIDENTES, ENVENENAMIENTOS Y VIOLENTOS (ENVENENAMIENTOS)",0,0,0,0,0,0,0,0,0,0,0,0,0,0,0,0,0,0,0]
["PROVOCADAS POR ACTOS DE VIOLENCIA","17.3 - ACCIDENTES, ENVENENAMIENTOS Y VIOLENTOS (PROVOCADAS POR ACTOS DE VIOLENCIA)",0,0,0,0,0,1,0,0,3,0,0,2,0,0,0,0,0,0,6]
["SUICIDIO","17.4 - ACCIDENTES, ENVENENAMIENTOS Y VIOLENTOS (SUICIDIO)",0,0,0,0,0,0,0,0,0,0,0,0,0,0,0,0,0,0,0]
["OTROS ACCIDENTES, ENVENENAMIENTO Y VIOLENTOS","17.5 - ACCIDENTES, ENVENENAMIENTOS Y VIOLENTOS (OTROS ACCIDENTES, ENVENENAMIENTO Y VIOLENTOS)",0,0,0,0,0,0,1,3,4,1,6,1,1,0,0,0,0,0,17]
["HOMICIDIOS","18 - HOMICIDIO",0,0,0,5,9,10,22,19,25,51,54,43,32,9,8,2,3,0,292]
["CAUSAS INDETERMINADAS DE DEFUNCION","19 - CAUSAS INDETERMINADAS DE DEFUNCION",0,0,1,1,19,45,49,52,58,64,51,37,35,25,15,0,1,0,{"$f":"SUM(E41:T41)","v":453}]
["TOTAL DE SINIESTROS",null,{"$f":"SUM(C13:C41)-C34-C19-C13","v":1},{"$f":"SUM(D13:D41)-D34-D19-D13","v":3},1,12,39,84,150,239,409,552,743,692,394,212,103,29,9,2,{"$f":"SUM(E42:T42)","v":3670}]

{"sheet":"8Individual","index":55,"n_rows":53,"n_cols":19,"rows_kept":53,"cut":false,"hidden":false,"merged":[[7,0,7,14],[8,0,8,14],[9,0,9,14],[10,0,10,14],[11,0,14,0],[11,1,14,1],[11,2,14,2],[11,3,11,6],[11,7,11,14],[6,0,6,14],[1,0,1,14],[2,0,2,14],[3,0,3,14],[4,0,4,14],[5,0,5,14],[12,3,14,3],[12,13,13,14],[12,4,14,4],[12,5,14,5],[12,6,14,6],[12,7,13,8],[12,9,13,10],[12,11,13,12]]}
[]
["8. SEGURO DIRECTO EMITIDO Y SINIESTROS EN LA OPERACION DE VIDA "]
["POR TIPO DE SEGURO CONTRATADO Y ENTIDAD"]
[]
[{"$f":"'1 Total'!B3","v":"DICIEMBRE DE 2021"}]
[]
[]
["VIDA INDIVIDUAL"]
[]
["TOTAL"]
[]
["ENTIDAD","PÓLIZAS\nO\nCERTIFICADOS","PRIMA\nEMITIDA DIRECTA","SUMA  ASEGURADA",null,null,null,"SINIESTROS  DIRECTOS"]
[null,null,null,"MUERTE","SOBREVIVENCIA","MUERTE\nACCIDENTAL*","INVALIDEZ","MUERTE ",null,"SOBREVIVENCIA",null,"MUERTE\nACCIDENTAL*",null,"INVALIDEZ"]
[]
[null,null,null,null,null,null,null,"NÚMERO","MONTO","NÚMERO","MONTO","NÚMERO","MONTO","NÚMERO","MONTO"]
["AGUASCALIENTES",{"$f":"'8M.N.'!B16+'8M.E.'!B16+'8M.T.'!B16","v":114563},{"$f":"'8M.N.'!C16+'8M.E.'!C16+'8M.T.'!C16","v":1960741646.2199993},{"$f":"'8M.N.'!D16+'8M.E.'!D16+'8M.T.'!D16","v":48628142538},{"$f":"'8M.N.'!E16+'8M.E.'!E16+'8M.T.'!E16","v":4821272811},{"$f":"'8M.N.'!F16+'8M.E.'!F16+'8M.T.'!F16","v":34896963217},{"$f":"'8M.N.'!G16+'8M.E.'!G16+'8M.T.'!G16","v":27467340016},{"$f":"'8M.N.'!H16+'8M.E.'!H16+'8M.T.'!H16","v":394},{"$f":"'8M.N.'!I16+'8M.E.'!I16+'8M.T.'!I16","v":118754387.10999995},{"$f":"'8M.N.'!J16+'8M.E.'!J16+'8M.T.'!J16","v":321},{"$f":"'8M.N.'!K16+'8M.E.'!K16+'8M.T.'!K16","v":92960040.599999994},{"$f":"'8M.N.'!L16+'8M.E.'!L16+'8M.T.'!L16","v":4},{"$f":"'8M.N.'!M16+'8M.E.'!M16+'8M.T.'!M16","v":2112079.7999999998},{"$f":"'8M.N.'!N16+'8M.E.'!N16+'8M.T.'!N16","v":45},{"$f":"'8M.N.'!O16+'8M.E.'!O16+'8M.T.'!O16","v":23197556.43},null,{"$f":"B16/$B$52","v":1.0507586799969623E-2}]
["BAJA CALIFORNIA NORTE",{"$f":"'8M.N.'!B17+'8M.E.'!B17+'8M.T.'!B17","v":292272},{"$f":"'8M.N.'!C17+'8M.E.'!C17+'8M.T.'!C17","v":4056813028.2599888},{"$f":"'8M.N.'!D17+'8M.E.'!D17+'8M.T.'!D17","v":137434202555},{"$f":"'8M.N.'!E17+'8M.E.'!E17+'8M.T.'!E17","v":22468268487},{"$f":"'8M.N.'!F17+'8M.E.'!F17+'8M.T.'!F17","v":79793550996},{"$f":"'8M.N.'!G17+'8M.E.'!G17+'8M.T.'!G17","v":72711683977},{"$f":"'8M.N.'!H17+'8M.E.'!H17+'8M.T.'!H17","v":773},{"$f":"'8M.N.'!I17+'8M.E.'!I17+'8M.T.'!I17","v":379564646.42000037},{"$f":"'8M.N.'!J17+'8M.E.'!J17+'8M.T.'!J17","v":777},{"$f":"'8M.N.'!K17+'8M.E.'!K17+'8M.T.'!K17","v":243120866.13999996},{"$f":"'8M.N.'!L17+'8M.E.'!L17+'8M.T.'!L17","v":22},{"$f":"'8M.N.'!M17+'8M.E.'!M17+'8M.T.'!M17","v":17834141.949999999},{"$f":"'8M.N.'!N17+'8M.E.'!N17+'8M.T.'!N17","v":164},{"$f":"'8M.N.'!O17+'8M.E.'!O17+'8M.T.'!O17","v":44169711.870000005},null,{"$f":"B17/$B$52","v":2.6806852205343099E-2}]
["BAJA CALIFORNIA SUR",{"$f":"'8M.N.'!B18+'8M.E.'!B18+'8M.T.'!B18","v":70914},{"$f":"'8M.N.'!C18+'8M.E.'!C18+'8M.T.'!C18","v":818562877.61000109},{"$f":"'8M.N.'!D18+'8M.E.'!D18+'8M.T.'!D18","v":33744520724},{"$f":"'8M.N.'!E18+'8M.E.'!E18+'8M.T.'!E18","v":2698469375},{"$f":"'8M.N.'!F18+'8M.E.'!F18+'8M.T.'!F18","v":21078560547},{"$f":"'8M.N.'!G18+'8M.E.'!G18+'8M.T.'!G18","v":16492670998},{"$f":"'8M.N.'!H18+'8M.E.'!H18+'8M.T.'!H18","v":280},{"$f":"'8M.N.'!I18+'8M.E.'!I18+'8M.T.'!I18","v":151776816.18000007},{"$f":"'8M.N.'!J18+'8M.E.'!J18+'8M.T.'!J18","v":118},{"$f":"'8M.N.'!K18+'8M.E.'!K18+'8M.T.'!K18","v":40719563.00999999},{"$f":"'8M.N.'!L18+'8M.E.'!L18+'8M.T.'!L18","v":5},{"$f":"'8M.N.'!M18+'8M.E.'!M18+'8M.T.'!M18","v":1272987.3},{"$f":"'8M.N.'!N18+'8M.E.'!N18+'8M.T.'!N18","v":16},{"$f":"'8M.N.'!O18+'8M.E.'!O18+'8M.T.'!O18","v":2205612.41},null,6.5041506449119331E-3]
["CAMPECHE",{"$f":"'8M.N.'!B19+'8M.E.'!B19+'8M.T.'!B19","v":76703},{"$f":"'8M.N.'!C19+'8M.E.'!C19+'8M.T.'!C19","v":953940737.85000062},{"$f":"'8M.N.'!D19+'8M.E.'!D19+'8M.T.'!D19","v":34206801070},{"$f":"'8M.N.'!E19+'8M.E.'!E19+'8M.T.'!E19","v":2083603435},{"$f":"'8M.N.'!F19+'8M.E.'!F19+'8M.T.'!F19","v":19217259071},{"$f":"'8M.N.'!G19+'8M.E.'!G19+'8M.T.'!G19","v":15146228780},{"$f":"'8M.N.'!H19+'8M.E.'!H19+'8M.T.'!H19","v":253},{"$f":"'8M.N.'!I19+'8M.E.'!I19+'8M.T.'!I19","v":94574773.050000027},{"$f":"'8M.N.'!J19+'8M.E.'!J19+'8M.T.'!J19","v":186},{"$f":"'8M.N.'!K19+'8M.E.'!K19+'8M.T.'!K19","v":40995821.259999998},{"$f":"'8M.N.'!L19+'8M.E.'!L19+'8M.T.'!L19","v":8},{"$f":"'8M.N.'!M19+'8M.E.'!M19+'8M.T.'!M19","v":4283746.84},{"$f":"'8M.N.'!N19+'8M.E.'!N19+'8M.T.'!N19","v":31},{"$f":"'8M.N.'!O19+'8M.E.'!O19+'8M.T.'!O19","v":7205543.4100000001},null,7.0351110770324621E-3]
["CHIAPAS",{"$f":"'8M.N.'!B20+'8M.E.'!B20+'8M.T.'!B20","v":181800},{"$f":"'8M.N.'!C20+'8M.E.'!C20+'8M.T.'!C20","v":2328456864.960001},{"$f":"'8M.N.'!D20+'8M.E.'!D20+'8M.T.'!D20","v":69657602901},{"$f":"'8M.N.'!E20+'8M.E.'!E20+'8M.T.'!E20","v":7059785718},{"$f":"'8M.N.'!F20+'8M.E.'!F20+'8M.T.'!F20","v":50240087792},{"$f":"'8M.N.'!G20+'8M.E.'!G20+'8M.T.'!G20","v":32111111114},{"$f":"'8M.N.'!H20+'8M.E.'!H20+'8M.T.'!H20","v":767},{"$f":"'8M.N.'!I20+'8M.E.'!I20+'8M.T.'!I20","v":218084746.28000021},{"$f":"'8M.N.'!J20+'8M.E.'!J20+'8M.T.'!J20","v":197},{"$f":"'8M.N.'!K20+'8M.E.'!K20+'8M.T.'!K20","v":61682091.909999989},{"$f":"'8M.N.'!L20+'8M.E.'!L20+'8M.T.'!L20","v":8},{"$f":"'8M.N.'!M20+'8M.E.'!M20+'8M.T.'!M20","v":3348075.4},{"$f":"'8M.N.'!N20+'8M.E.'!N20+'8M.T.'!N20","v":39},{"$f":"'8M.N.'!O20+'8M.E.'!O20+'8M.T.'!O20","v":4629309.0199999996},null,1.6674487227416161E-2]
["CHIHUAHUA",{"$f":"'8M.N.'!B21+'8M.E.'!B21+'8M.T.'!B21","v":340089},{"$f":"'8M.N.'!C21+'8M.E.'!C21+'8M.T.'!C21","v":4343687404.2099934},{"$f":"'8M.N.'!D21+'8M.E.'!D21+'8M.T.'!D21","v":152284508659},{"$f":"'8M.N.'!E21+'8M.E.'!E21+'8M.T.'!E21","v":10845439243},{"$f":"'8M.N.'!F21+'8M.E.'!F21+'8M.T.'!F21","v":89205834716},{"$f":"'8M.N.'!G21+'8M.E.'!G21+'8M.T.'!G21","v":64216390083},{"$f":"'8M.N.'!H21+'8M.E.'!H21+'8M.T.'!H21","v":816},{"$f":"'8M.N.'!I21+'8M.E.'!I21+'8M.T.'!I21","v":328738720.89000016},{"$f":"'8M.N.'!J21+'8M.E.'!J21+'8M.T.'!J21","v":1034},{"$f":"'8M.N.'!K21+'8M.E.'!K21+'8M.T.'!K21","v":294907042.74000013},{"$f":"'8M.N.'!L21+'8M.E.'!L21+'8M.T.'!L21","v":29},{"$f":"'8M.N.'!M21+'8M.E.'!M21+'8M.T.'!M21","v":18028454.920000002},{"$f":"'8M.N.'!N21+'8M.E.'!N21+'8M.T.'!N21","v":156},{"$f":"'8M.N.'!O21+'8M.E.'!O21+'8M.T.'!O21","v":30817498.52},null,3.1192572534019438E-2]
["CIUDAD DE MEXICO",{"$f":"'8M.N.'!B22+'8M.E.'!B22+'8M.T.'!B22","v":3255204},{"$f":"'8M.N.'!C22+'8M.E.'!C22+'8M.T.'!C22","v":45046995650.816628},{"$f":"'8M.N.'!D22+'8M.E.'!D22+'8M.T.'!D22","v":1032211205021},{"$f":"'8M.N.'!E22+'8M.E.'!E22+'8M.T.'!E22","v":157863768985},{"$f":"'8M.N.'!F22+'8M.E.'!F22+'8M.T.'!F22","v":541218450154},{"$f":"'8M.N.'!G22+'8M.E.'!G22+'8M.T.'!G22","v":446195894401},{"$f":"'8M.N.'!H22+'8M.E.'!H22+'8M.T.'!H22","v":14340},{"$f":"'8M.N.'!I22+'8M.E.'!I22+'8M.T.'!I22","v":3740854781.8699865},{"$f":"'8M.N.'!J22+'8M.E.'!J22+'8M.T.'!J22","v":9420},{"$f":"'8M.N.'!K22+'8M.E.'!K22+'8M.T.'!K22","v":2869985466.7800055},{"$f":"'8M.N.'!L22+'8M.E.'!L22+'8M.T.'!L22","v":110},{"$f":"'8M.N.'!M22+'8M.E.'!M22+'8M.T.'!M22","v":51357530.549999997},{"$f":"'8M.N.'!N22+'8M.E.'!N22+'8M.T.'!N22","v":745},{"$f":"'8M.N.'!O22+'8M.E.'!O22+'8M.T.'!O22","v":199248001.90000004},null,0.29856357272075901]
["COAHUILA",{"$f":"'8M.N.'!B23+'8M.E.'!B23+'8M.T.'!B23","v":289483},{"$f":"'8M.N.'!C23+'8M.E.'!C23+'8M.T.'!C23","v":4966911906.319994},{"$f":"'8M.N.'!D23+'8M.E.'!D23+'8M.T.'!D23","v":133978673468},{"$f":"'8M.N.'!E23+'8M.E.'!E23+'8M.T.'!E23","v":12335950345},{"$f":"'8M.N.'!F23+'8M.E.'!F23+'8M.T.'!F23","v":101613976592},{"$f":"'8M.N.'!G23+'8M.E.'!G23+'8M.T.'!G23","v":68694886509},{"$f":"'8M.N.'!H23+'8M.E.'!H23+'8M.T.'!H23","v":1002},{"$f":"'8M.N.'!I23+'8M.E.'!I23+'8M.T.'!I23","v":432665646.68000001},{"$f":"'8M.N.'!J23+'8M.E.'!J23+'8M.T.'!J23","v":1383},{"$f":"'8M.N.'!K23+'8M.E.'!K23+'8M.T.'!K23","v":400111748.82000017},{"$f":"'8M.N.'!L23+'8M.E.'!L23+'8M.T.'!L23","v":19},{"$f":"'8M.N.'!M23+'8M.E.'!M23+'8M.T.'!M23","v":17966825.75},{"$f":"'8M.N.'!N23+'8M.E.'!N23+'8M.T.'!N23","v":186},{"$f":"'8M.N.'!O23+'8M.E.'!O23+'8M.T.'!O23","v":38764495.520000003},null,2.655104832813043E-2]
["COLIMA",{"$f":"'8M.N.'!B24+'8M.E.'!B24+'8M.T.'!B24","v":50791},{"$f":"'8M.N.'!C24+'8M.E.'!C24+'8M.T.'!C24","v":885611382.95000017},{"$f":"'8M.N.'!D24+'8M.E.'!D24+'8M.T.'!D24","v":21517463267},{"$f":"'8M.N.'!E24+'8M.E.'!E24+'8M.T.'!E24","v":1571269744},{"$f":"'8M.N.'!F24+'8M.E.'!F24+'8M.T.'!F24","v":15032866820},{"$f":"'8M.N.'!G24+'8M.E.'!G24+'8M.T.'!G24","v":12129236605},{"$f":"'8M.N.'!H24+'8M.E.'!H24+'8M.T.'!H24","v":248},{"$f":"'8M.N.'!I24+'8M.E.'!I24+'8M.T.'!I24","v":87178621.849999994},{"$f":"'8M.N.'!J24+'8M.E.'!J24+'8M.T.'!J24","v":178},{"$f":"'8M.N.'!K24+'8M.E.'!K24+'8M.T.'!K24","v":29692693.640000001},{"$f":"'8M.N.'!L24+'8M.E.'!L24+'8M.T.'!L24","v":11},{"$f":"'8M.N.'!M24+'8M.E.'!M24+'8M.T.'!M24","v":6399138.6899999995},{"$f":"'8M.N.'!N24+'8M.E.'!N24+'8M.T.'!N24","v":16},{"$f":"'8M.N.'!O24+'8M.E.'!O24+'8M.T.'!O24","v":3996639.8499999996},null,4.6584921934416622E-3]
["DURANGO",{"$f":"'8M.N.'!B25+'8M.E.'!B25+'8M.T.'!B25","v":127743},{"$f":"'8M.N.'!C25+'8M.E.'!C25+'8M.T.'!C25","v":1887171628.8699999},{"$f":"'8M.N.'!D25+'8M.E.'!D25+'8M.T.'!D25","v":48020274343},{"$f":"'8M.N.'!E25+'8M.E.'!E25+'8M.T.'!E25","v":3898943983},{"$f":"'8M.N.'!F25+'8M.E.'!F25+'8M.T.'!F25","v":35572127823},{"$f":"'8M.N.'!G25+'8M.E.'!G25+'8M.T.'!G25","v":23968547765},{"$f":"'8M.N.'!H25+'8M.E.'!H25+'8M.T.'!H25","v":593},{"$f":"'8M.N.'!I25+'8M.E.'!I25+'8M.T.'!I25","v":170615828.30000001},{"$f":"'8M.N.'!J25+'8M.E.'!J25+'8M.T.'!J25","v":309},{"$f":"'8M.N.'!K25+'8M.E.'!K25+'8M.T.'!K25","v":89471927.170000002},{"$f":"'8M.N.'!L25+'8M.E.'!L25+'8M.T.'!L25","v":19},{"$f":"'8M.N.'!M25+'8M.E.'!M25+'8M.T.'!M25","v":7133442.1000000006},{"$f":"'8M.N.'!N25+'8M.E.'!N25+'8M.T.'!N25","v":52},{"$f":"'8M.N.'!O25+'8M.E.'!O25+'8M.T.'!O25","v":9689446.2400000002},null,1.1716441264531476E-2]
["ESTADO DE MEXICO",{"$f":"'8M.N.'!B26+'8M.E.'!B26+'8M.T.'!B26","v":1020025},{"$f":"'8M.N.'!C26+'8M.E.'!C26+'8M.T.'!C26","v":17697456146.160027},{"$f":"'8M.N.'!D26+'8M.E.'!D26+'8M.T.'!D26","v":473028337721},{"$f":"'8M.N.'!E26+'8M.E.'!E26+'8M.T.'!E26","v":52040910703},{"$f":"'8M.N.'!F26+'8M.E.'!F26+'8M.T.'!F26","v":237448921545},{"$f":"'8M.N.'!G26+'8M.E.'!G26+'8M.T.'!G26","v":221813890960},{"$f":"'8M.N.'!H26+'8M.E.'!H26+'8M.T.'!H26","v":4119},{"$f":"'8M.N.'!I26+'8M.E.'!I26+'8M.T.'!I26","v":1741607694.5199976},{"$f":"'8M.N.'!J26+'8M.E.'!J26+'8M.T.'!J26","v":4104},{"$f":"'8M.N.'!K26+'8M.E.'!K26+'8M.T.'!K26","v":1133320801.0299995},{"$f":"'8M.N.'!L26+'8M.E.'!L26+'8M.T.'!L26","v":50},{"$f":"'8M.N.'!M26+'8M.E.'!M26+'8M.T.'!M26","v":28155981.73},{"$f":"'8M.N.'!N26+'8M.E.'!N26+'8M.T.'!N26","v":355},{"$f":"'8M.N.'!O26+'8M.E.'!O26+'8M.T.'!O26","v":114213357.24000002},null,9.3555521639962419E-2]
["GUANAJUATO",{"$f":"'8M.N.'!B27+'8M.E.'!B27+'8M.T.'!B27","v":384268},{"$f":"'8M.N.'!C27+'8M.E.'!C27+'8M.T.'!C27","v":8194087418.8099947},{"$f":"'8M.N.'!D27+'8M.E.'!D27+'8M.T.'!D27","v":172411634910},{"$f":"'8M.N.'!E27+'8M.E.'!E27+'8M.T.'!E27","v":23148478623},{"$f":"'8M.N.'!F27+'8M.E.'!F27+'8M.T.'!F27","v":102165990321},{"$f":"'8M.N.'!G27+'8M.E.'!G27+'8M.T.'!G27","v":101465425518},{"$f":"'8M.N.'!H27+'8M.E.'!H27+'8M.T.'!H27","v":1321},{"$f":"'8M.N.'!I27+'8M.E.'!I27+'8M.T.'!I27","v":724070447.63999987},{"$f":"'8M.N.'!J27+'8M.E.'!J27+'8M.T.'!J27","v":1618},{"$f":"'8M.N.'!K27+'8M.E.'!K27+'8M.T.'!K27","v":427007861.89999998},{"$f":"'8M.N.'!L27+'8M.E.'!L27+'8M.T.'!L27","v":30},{"$f":"'8M.N.'!M27+'8M.E.'!M27+'8M.T.'!M27","v":21712465.489999998},{"$f":"'8M.N.'!N27+'8M.E.'!N27+'8M.T.'!N27","v":236},{"$f":"'8M.N.'!O27+'8M.E.'!O27+'8M.T.'!O27","v":66905154.440000013},null,3.5244619680444185E-2]
["GUERRERO",{"$f":"'8M.N.'!B28+'8M.E.'!B28+'8M.T.'!B28","v":126842},{"$f":"'8M.N.'!C28+'8M.E.'!C28+'8M.T.'!C28","v":1677746233.4499989},{"$f":"'8M.N.'!D28+'8M.E.'!D28+'8M.T.'!D28","v":58493197462},{"$f":"'8M.N.'!E28+'8M.E.'!E28+'8M.T.'!E28","v":1959489853},{"$f":"'8M.N.'!F28+'8M.E.'!F28+'8M.T.'!F28","v":30608940684},{"$f":"'8M.N.'!G28+'8M.E.'!G28+'8M.T.'!G28","v":18556981937},{"$f":"'8M.N.'!H28+'8M.E.'!H28+'8M.T.'!H28","v":665},{"$f":"'8M.N.'!I28+'8M.E.'!I28+'8M.T.'!I28","v":229618955.16},{"$f":"'8M.N.'!J28+'8M.E.'!J28+'8M.T.'!J28","v":276},{"$f":"'8M.N.'!K28+'8M.E.'!K28+'8M.T.'!K28","v":57967586.920000017},{"$f":"'8M.N.'!L28+'8M.E.'!L28+'8M.T.'!L28","v":20},{"$f":"'8M.N.'!M28+'8M.E.'!M28+'8M.T.'!M28","v":15800683},{"$f":"'8M.N.'!N28+'8M.E.'!N28+'8M.T.'!N28","v":48},{"$f":"'8M.N.'!O28+'8M.E.'!O28+'8M.T.'!O28","v":14327833.149999999},null,1.1633802579207483E-2]
["HIDALGO",{"$f":"'8M.N.'!B29+'8M.E.'!B29+'8M.T.'!B29","v":145196},{"$f":"'8M.N.'!C29+'8M.E.'!C29+'8M.T.'!C29","v":2145479412.1699994},{"$f":"'8M.N.'!D29+'8M.E.'!D29+'8M.T.'!D29","v":56359592679},{"$f":"'8M.N.'!E29+'8M.E.'!E29+'8M.T.'!E29","v":3985349676},{"$f":"'8M.N.'!F29+'8M.E.'!F29+'8M.T.'!F29","v":37508185434},{"$f":"'8M.N.'!G29+'8M.E.'!G29+'8M.T.'!G29","v":26409552409},{"$f":"'8M.N.'!H29+'8M.E.'!H29+'8M.T.'!H29","v":687},{"$f":"'8M.N.'!I29+'8M.E.'!I29+'8M.T.'!I29","v":202722756.89999995},{"$f":"'8M.N.'!J29+'8M.E.'!J29+'8M.T.'!J29","v":400},{"$f":"'8M.N.'!K29+'8M.E.'!K29+'8M.T.'!K29","v":302551174.49999994},{"$f":"'8M.N.'!L29+'8M.E.'!L29+'8M.T.'!L29","v":16},{"$f":"'8M.N.'!M29+'8M.E.'!M29+'8M.T.'!M29","v":10732846},{"$f":"'8M.N.'!N29+'8M.E.'!N29+'8M.T.'!N29","v":44},{"$f":"'8M.N.'!O29+'8M.E.'!O29+'8M.T.'!O29","v":19315532.869999997},null,1.3317210382133755E-2,null,{"$f":"Q30+Q23+Q40+Q24+Q27+Q45+Q43","v":0.21188329619942761}]
["JALISCO",{"$f":"'8M.N.'!B30+'8M.E.'!B30+'8M.T.'!B30","v":622177},{"$f":"'8M.N.'!C30+'8M.E.'!C30+'8M.T.'!C30","v":16035366410.250084},{"$f":"'8M.N.'!D30+'8M.E.'!D30+'8M.T.'!D30","v":340103729476},{"$f":"'8M.N.'!E30+'8M.E.'!E30+'8M.T.'!E30","v":44569131262},{"$f":"'8M.N.'!F30+'8M.E.'!F30+'8M.T.'!F30","v":192175062387},{"$f":"'8M.N.'!G30+'8M.E.'!G30+'8M.T.'!G30","v":192306743646},{"$f":"'8M.N.'!H30+'8M.E.'!H30+'8M.T.'!H30","v":1698},{"$f":"'8M.N.'!I30+'8M.E.'!I30+'8M.T.'!I30","v":825587763.80999994},{"$f":"'8M.N.'!J30+'8M.E.'!J30+'8M.T.'!J30","v":5853},{"$f":"'8M.N.'!K30+'8M.E.'!K30+'8M.T.'!K30","v":1335990082.0599997},{"$f":"'8M.N.'!L30+'8M.E.'!L30+'8M.T.'!L30","v":52},{"$f":"'8M.N.'!M30+'8M.E.'!M30+'8M.T.'!M30","v":51667071.960000001},{"$f":"'8M.N.'!N30+'8M.E.'!N30+'8M.T.'!N30","v":412},{"$f":"'8M.N.'!O30+'8M.E.'!O30+'8M.T.'!O30","v":116386245.5},null,5.7065359954302002E-2]
["MICHOACAN",{"$f":"'8M.N.'!B31+'8M.E.'!B31+'8M.T.'!B31","v":247936},{"$f":"'8M.N.'!C31+'8M.E.'!C31+'8M.T.'!C31","v":5588075539.4599895},{"$f":"'8M.N.'!D31+'8M.E.'!D31+'8M.T.'!D31","v":118405329026},{"$f":"'8M.N.'!E31+'8M.E.'!E31+'8M.T.'!E31","v":7290197639},{"$f":"'8M.N.'!F31+'8M.E.'!F31+'8M.T.'!F31","v":67402770949},{"$f":"'8M.N.'!G31+'8M.E.'!G31+'8M.T.'!G31","v":46113524849},{"$f":"'8M.N.'!H31+'8M.E.'!H31+'8M.T.'!H31","v":1087},{"$f":"'8M.N.'!I31+'8M.E.'!I31+'8M.T.'!I31","v":411159587.05999994},{"$f":"'8M.N.'!J31+'8M.E.'!J31+'8M.T.'!J31","v":1263},{"$f":"'8M.N.'!K31+'8M.E.'!K31+'8M.T.'!K31","v":316281996.2099998},{"$f":"'8M.N.'!L31+'8M.E.'!L31+'8M.T.'!L31","v":31},{"$f":"'8M.N.'!M31+'8M.E.'!M31+'8M.T.'!M31","v":21151636.689999998},{"$f":"'8M.N.'!N31+'8M.E.'!N31+'8M.T.'!N31","v":88},{"$f":"'8M.N.'!O31+'8M.E.'!O31+'8M.T.'!O31","v":31084986.98},null,2.274040519921151E-2]
["MORELOS",{"$f":"'8M.N.'!B32+'8M.E.'!B32+'8M.T.'!B32","v":124658},{"$f":"'8M.N.'!C32+'8M.E.'!C32+'8M.T.'!C32","v":2338988757.6299977},{"$f":"'8M.N.'!D32+'8M.E.'!D32+'8M.T.'!D32","v":59584287089},{"$f":"'8M.N.'!E32+'8M.E.'!E32+'8M.T.'!E32","v":5068225988},{"$f":"'8M.N.'!F32+'8M.E.'!F32+'8M.T.'!F32","v":34008507050},{"$f":"'8M.N.'!G32+'8M.E.'!G32+'8M.T.'!G32","v":25513383645},{"$f":"'8M.N.'!H32+'8M.E.'!H32+'8M.T.'!H32","v":666},{"$f":"'8M.N.'!I32+'8M.E.'!I32+'8M.T.'!I32","v":223880870.93000016},{"$f":"'8M.N.'!J32+'8M.E.'!J32+'8M.T.'!J32","v":524},{"$f":"'8M.N.'!K32+'8M.E.'!K32+'8M.T.'!K32","v":138312334.03999999},{"$f":"'8M.N.'!L32+'8M.E.'!L32+'8M.T.'!L32","v":10},{"$f":"'8M.N.'!M32+'8M.E.'!M32+'8M.T.'!M32","v":7526363.8099999996},{"$f":"'8M.N.'!N32+'8M.E.'!N32+'8M.T.'!N32","v":60},{"$f":"'8M.N.'!O32+'8M.E.'!O32+'8M.T.'!O32","v":17161099.770000003},null,1.1433488607234563E-2]
["NAYARIT",{"$f":"'8M.N.'!B33+'8M.E.'!B33+'8M.T.'!B33","v":86864},{"$f":"'8M.N.'!C33+'8M.E.'!C33+'8M.T.'!C33","v":1110618561.190001},{"$f":"'8M.N.'!D33+'8M.E.'!D33+'8M.T.'!D33","v":29782579458},{"$f":"'8M.N.'!E33+'8M.E.'!E33+'8M.T.'!E33","v":1756510200},{"$f":"'8M.N.'!F33+'8M.E.'!F33+'8M.T.'!F33","v":22666142244},{"$f":"'8M.N.'!G33+'8M.E.'!G33+'8M.T.'!G33","v":15026311215},{"$f":"'8M.N.'!H33+'8M.E.'!H33+'8M.T.'!H33","v":309},{"$f":"'8M.N.'!I33+'8M.E.'!I33+'8M.T.'!I33","v":102819170.48000003},{"$f":"'8M.N.'!J33+'8M.E.'!J33+'8M.T.'!J33","v":295},{"$f":"'8M.N.'!K33+'8M.E.'!K33+'8M.T.'!K33","v":86080897.320000008},{"$f":"'8M.N.'!L33+'8M.E.'!L33+'8M.T.'!L33","v":7},{"$f":"'8M.N.'!M33+'8M.E.'!M33+'8M.T.'!M33","v":6975714.7199999997},{"$f":"'8M.N.'!N33+'8M.E.'!N33+'8M.T.'!N33","v":33},{"$f":"'8M.N.'!O33+'8M.E.'!O33+'8M.T.'!O33","v":8891002.1900000013},null,7.9670663285053758E-3]
["NUEVO LEON",{"$f":"'8M.N.'!B34+'8M.E.'!B34+'8M.T.'!B34","v":548645},{"$f":"'8M.N.'!C34+'8M.E.'!C34+'8M.T.'!C34","v":14073707841.930058},{"$f":"'8M.N.'!D34+'8M.E.'!D34+'8M.T.'!D34","v":363919768775},{"$f":"'8M.N.'!E34+'8M.E.'!E34+'8M.T.'!E34","v":56225807006},{"$f":"'8M.N.'!F34+'8M.E.'!F34+'8M.T.'!F34","v":178682485295},{"$f":"'8M.N.'!G34+'8M.E.'!G34+'8M.T.'!G34","v":197776519241},{"$f":"'8M.N.'!H34+'8M.E.'!H34+'8M.T.'!H34","v":1453},{"$f":"'8M.N.'!I34+'8M.E.'!I34+'8M.T.'!I34","v":1024216084.8300002},{"$f":"'8M.N.'!J34+'8M.E.'!J34+'8M.T.'!J34","v":2404},{"$f":"'8M.N.'!K34+'8M.E.'!K34+'8M.T.'!K34","v":807246321.82999969},{"$f":"'8M.N.'!L34+'8M.E.'!L34+'8M.T.'!L34","v":34},{"$f":"'8M.N.'!M34+'8M.E.'!M34+'8M.T.'!M34","v":49541013.200000003},{"$f":"'8M.N.'!N34+'8M.E.'!N34+'8M.T.'!N34","v":309},{"$f":"'8M.N.'!O34+'8M.E.'!O34+'8M.T.'!O34","v":90175393.950000018},null,5.032108935580714E-2]
["OAXACA",{"$f":"'8M.N.'!B35+'8M.E.'!B35+'8M.T.'!B35","v":170318},{"$f":"'8M.N.'!C35+'8M.E.'!C35+'8M.T.'!C35","v":1875861962.2899976},{"$f":"'8M.N.'!D35+'8M.E.'!D35+'8M.T.'!D35","v":59200625188},{"$f":"'8M.N.'!E35+'8M.E.'!E35+'8M.T.'!E35","v":2305080295},{"$f":"'8M.N.'!F35+'8M.E.'!F35+'8M.T.'!F35","v":43062284061},{"$f":"'8M.N.'!G35+'8M.E.'!G35+'8M.T.'!G35","v":30023624528},{"$f":"'8M.N.'!H35+'8M.E.'!H35+'8M.T.'!H35","v":778},{"$f":"'8M.N.'!I35+'8M.E.'!I35+'8M.T.'!I35","v":238290086.80999997},{"$f":"'8M.N.'!J35+'8M.E.'!J35+'8M.T.'!J35","v":977},{"$f":"'8M.N.'!K35+'8M.E.'!K35+'8M.T.'!K35","v":138531507.20000005},{"$f":"'8M.N.'!L35+'8M.E.'!L35+'8M.T.'!L35","v":13},{"$f":"'8M.N.'!M35+'8M.E.'!M35+'8M.T.'!M35","v":5145454.38},{"$f":"'8M.N.'!N35+'8M.E.'!N35+'8M.T.'!N35","v":35},{"$f":"'8M.N.'!O35+'8M.E.'!O35+'8M.T.'!O35","v":8731222.5599999987},null,1.5621371372932152E-2]
["PUEBLA",{"$f":"'8M.N.'!B36+'8M.E.'!B36+'8M.T.'!B36","v":265051},{"$f":"'8M.N.'!C36+'8M.E.'!C36+'8M.T.'!C36","v":5198324421.9499922},{"$f":"'8M.N.'!D36+'8M.E.'!D36+'8M.T.'!D36","v":116441118844},{"$f":"'8M.N.'!E36+'8M.E.'!E36+'8M.T.'!E36","v":18989141859},{"$f":"'8M.N.'!F36+'8M.E.'!F36+'8M.T.'!F36","v":70648289502},{"$f":"'8M.N.'!G36+'8M.E.'!G36+'8M.T.'!G36","v":62002039643},{"$f":"'8M.N.'!H36+'8M.E.'!H36+'8M.T.'!H36","v":1022},{"$f":"'8M.N.'!I36+'8M.E.'!I36+'8M.T.'!I36","v":453354058.96999979},{"$f":"'8M.N.'!J36+'8M.E.'!J36+'8M.T.'!J36","v":1736},{"$f":"'8M.N.'!K36+'8M.E.'!K36+'8M.T.'!K36","v":404357529.11999977},{"$f":"'8M.N.'!L36+'8M.E.'!L36+'8M.T.'!L36","v":15},{"$f":"'8M.N.'!M36+'8M.E.'!M36+'8M.T.'!M36","v":11728952.27},{"$f":"'8M.N.'!N36+'8M.E.'!N36+'8M.T.'!N36","v":162},{"$f":"'8M.N.'!O36+'8M.E.'!O36+'8M.T.'!O36","v":46465248.299999997},null,2.4310173344960839E-2]
["QUERETARO",{"$f":"'8M.N.'!B37+'8M.E.'!B37+'8M.T.'!B37","v":204989},{"$f":"'8M.N.'!C37+'8M.E.'!C37+'8M.T.'!C37","v":3614487004.7799907},{"$f":"'8M.N.'!D37+'8M.E.'!D37+'8M.T.'!D37","v":89160211999},{"$f":"'8M.N.'!E37+'8M.E.'!E37+'8M.T.'!E37","v":12492428665},{"$f":"'8M.N.'!F37+'8M.E.'!F37+'8M.T.'!F37","v":52217708062},{"$f":"'8M.N.'!G37+'8M.E.'!G37+'8M.T.'!G37","v":53336464984},{"$f":"'8M.N.'!H37+'8M.E.'!H37+'8M.T.'!H37","v":506},{"$f":"'8M.N.'!I37+'8M.E.'!I37+'8M.T.'!I37","v":237608400.39000005},{"$f":"'8M.N.'!J37+'8M.E.'!J37+'8M.T.'!J37","v":790},{"$f":"'8M.N.'!K37+'8M.E.'!K37+'8M.T.'!K37","v":242791850.80000004},{"$f":"'8M.N.'!L37+'8M.E.'!L37+'8M.T.'!L37","v":10},{"$f":"'8M.N.'!M37+'8M.E.'!M37+'8M.T.'!M37","v":9952501.9100000001},{"$f":"'8M.N.'!N37+'8M.E.'!N37+'8M.T.'!N37","v":91},{"$f":"'8M.N.'!O37+'8M.E.'!O37+'8M.T.'!O37","v":22917691.129999995},null,1.8801355678002261E-2]
["QUINTANA ROO",{"$f":"'8M.N.'!B38+'8M.E.'!B38+'8M.T.'!B38","v":128678},{"$f":"'8M.N.'!C38+'8M.E.'!C38+'8M.T.'!C38","v":2116570858.6499982},{"$f":"'8M.N.'!D38+'8M.E.'!D38+'8M.T.'!D38","v":59577236058},{"$f":"'8M.N.'!E38+'8M.E.'!E38+'8M.T.'!E38","v":5620406613},{"$f":"'8M.N.'!F38+'8M.E.'!F38+'8M.T.'!F38","v":36160004236},{"$f":"'8M.N.'!G38+'8M.E.'!G38+'8M.T.'!G38","v":31097001468},{"$f":"'8M.N.'!H38+'8M.E.'!H38+'8M.T.'!H38","v":337},{"$f":"'8M.N.'!I38+'8M.E.'!I38+'8M.T.'!I38","v":122526487.69},{"$f":"'8M.N.'!J38+'8M.E.'!J38+'8M.T.'!J38","v":264},{"$f":"'8M.N.'!K38+'8M.E.'!K38+'8M.T.'!K38","v":54931107.659999989},{"$f":"'8M.N.'!L38+'8M.E.'!L38+'8M.T.'!L38","v":11},{"$f":"'8M.N.'!M38+'8M.E.'!M38+'8M.T.'!M38","v":5358000},{"$f":"'8M.N.'!N38+'8M.E.'!N38+'8M.T.'!N38","v":37},{"$f":"'8M.N.'!O38+'8M.E.'!O38+'8M.T.'!O38","v":11326848.75},null,1.1802198390811092E-2]
["SAN LUIS POTOSI",{"$f":"'8M.N.'!B39+'8M.E.'!B39+'8M.T.'!B39","v":289362},{"$f":"'8M.N.'!C39+'8M.E.'!C39+'8M.T.'!C39","v":2810030567.7799902},{"$f":"'8M.N.'!D39+'8M.E.'!D39+'8M.T.'!D39","v":87472352432},{"$f":"'8M.N.'!E39+'8M.E.'!E39+'8M.T.'!E39","v":6522948193},{"$f":"'8M.N.'!F39+'8M.E.'!F39+'8M.T.'!F39","v":60172194650},{"$f":"'8M.N.'!G39+'8M.E.'!G39+'8M.T.'!G39","v":47277874392},{"$f":"'8M.N.'!H39+'8M.E.'!H39+'8M.T.'!H39","v":984},{"$f":"'8M.N.'!I39+'8M.E.'!I39+'8M.T.'!I39","v":242683312.7200003},{"$f":"'8M.N.'!J39+'8M.E.'!J39+'8M.T.'!J39","v":853},{"$f":"'8M.N.'!K39+'8M.E.'!K39+'8M.T.'!K39","v":166631961.31999996},{"$f":"'8M.N.'!L39+'8M.E.'!L39+'8M.T.'!L39","v":14},{"$f":"'8M.N.'!M39+'8M.E.'!M39+'8M.T.'!M39","v":14500719.689999999},{"$f":"'8M.N.'!N39+'8M.E.'!N39+'8M.T.'!N39","v":132},{"$f":"'8M.N.'!O39+'8M.E.'!O39+'8M.T.'!O39","v":19221950.689999998},null,2.6539950347082477E-2]
["SINALOA",{"$f":"'8M.N.'!B40+'8M.E.'!B40+'8M.T.'!B40","v":242764},{"$f":"'8M.N.'!C40+'8M.E.'!C40+'8M.T.'!C40","v":4899404278.8299923},{"$f":"'8M.N.'!D40+'8M.E.'!D40+'8M.T.'!D40","v":120402635065},{"$f":"'8M.N.'!E40+'8M.E.'!E40+'8M.T.'!E40","v":21037089041},{"$f":"'8M.N.'!F40+'8M.E.'!F40+'8M.T.'!F40","v":69383592098},{"$f":"'8M.N.'!G40+'8M.E.'!G40+'8M.T.'!G40","v":68833606931},{"$f":"'8M.N.'!H40+'8M.E.'!H40+'8M.T.'!H40","v":851},{"$f":"'8M.N.'!I40+'8M.E.'!I40+'8M.T.'!I40","v":402693714.82000005},{"$f":"'8M.N.'!J40+'8M.E.'!J40+'8M.T.'!J40","v":1227},{"$f":"'8M.N.'!K40+'8M.E.'!K40+'8M.T.'!K40","v":378600165.60000002},{"$f":"'8M.N.'!L40+'8M.E.'!L40+'8M.T.'!L40","v":25},{"$f":"'8M.N.'!M40+'8M.E.'!M40+'8M.T.'!M40","v":17665790.98},{"$f":"'8M.N.'!N40+'8M.E.'!N40+'8M.T.'!N40","v":248},{"$f":"'8M.N.'!O40+'8M.E.'!O40+'8M.T.'!O40","v":41416706.259999998},null,2.2266035298550365E-2]
["SONORA",{"$f":"'8M.N.'!B41+'8M.E.'!B41+'8M.T.'!B41","v":287171},{"$f":"'8M.N.'!C41+'8M.E.'!C41+'8M.T.'!C41","v":4682244851.4599867},{"$f":"'8M.N.'!D41+'8M.E.'!D41+'8M.T.'!D41","v":121374792108},{"$f":"'8M.N.'!E41+'8M.E.'!E41+'8M.T.'!E41","v":14785051709},{"$f":"'8M.N.'!F41+'8M.E.'!F41+'8M.T.'!F41","v":70299010199},{"$f":"'8M.N.'!G41+'8M.E.'!G41+'8M.T.'!G41","v":64749289737},{"$f":"'8M.N.'!H41+'8M.E.'!H41+'8M.T.'!H41","v":993},{"$f":"'8M.N.'!I41+'8M.E.'!I41+'8M.T.'!I41","v":324457295.17000014},{"$f":"'8M.N.'!J41+'8M.E.'!J41+'8M.T.'!J41","v":836},{"$f":"'8M.N.'!K41+'8M.E.'!K41+'8M.T.'!K41","v":371445157.38},{"$f":"'8M.N.'!L41+'8M.E.'!L41+'8M.T.'!L41","v":26},{"$f":"'8M.N.'!M41+'8M.E.'!M41+'8M.T.'!M41","v":19485384.759999998},{"$f":"'8M.N.'!N41+'8M.E.'!N41+'8M.T.'!N41","v":237},{"$f":"'8M.N.'!O41+'8M.E.'!O41+'8M.T.'!O41","v":39253079.38000001},null,2.6338994343148108E-2]
["TABASCO",{"$f":"'8M.N.'!B42+'8M.E.'!B42+'8M.T.'!B42","v":163914},{"$f":"'8M.N.'!C42+'8M.E.'!C42+'8M.T.'!C42","v":2268241347.3999972},{"$f":"'8M.N.'!D42+'8M.E.'!D42+'8M.T.'!D42","v":70132408273},{"$f":"'8M.N.'!E42+'8M.E.'!E42+'8M.T.'!E42","v":5853466894},{"$f":"'8M.N.'!F42+'8M.E.'!F42+'8M.T.'!F42","v":46235590522},{"$f":"'8M.N.'!G42+'8M.E.'!G42+'8M.T.'!G42","v":36584333699},{"$f":"'8M.N.'!H42+'8M.E.'!H42+'8M.T.'!H42","v":782},{"$f":"'8M.N.'!I42+'8M.E.'!I42+'8M.T.'!I42","v":293521766.49000019},{"$f":"'8M.N.'!J42+'8M.E.'!J42+'8M.T.'!J42","v":1038},{"$f":"'8M.N.'!K42+'8M.E.'!K42+'8M.T.'!K42","v":200927883.63999999},{"$f":"'8M.N.'!L42+'8M.E.'!L42+'8M.T.'!L42","v":12},{"$f":"'8M.N.'!M42+'8M.E.'!M42+'8M.T.'!M42","v":4743871.8599999994},{"$f":"'8M.N.'!N42+'8M.E.'!N42+'8M.T.'!N42","v":127},{"$f":"'8M.N.'!O42+'8M.E.'!O42+'8M.T.'!O42","v":30003418.25},null,1.5034003847055513E-2]
["TAMAULIPAS",{"$f":"'8M.N.'!B43+'8M.E.'!B43+'8M.T.'!B43","v":309597},{"$f":"'8M.N.'!C43+'8M.E.'!C43+'8M.T.'!C43","v":3899539469.9999952},{"$f":"'8M.N.'!D43+'8M.E.'!D43+'8M.T.'!D43","v":119988474139},{"$f":"'8M.N.'!E43+'8M.E.'!E43+'8M.T.'!E43","v":10943821219},{"$f":"'8M.N.'!F43+'8M.E.'!F43+'8M.T.'!F43","v":92958371391},{"$f":"'8M.N.'!G43+'8M.E.'!G43+'8M.T.'!G43","v":60742292857},{"$f":"'8M.N.'!H43+'8M.E.'!H43+'8M.T.'!H43","v":1189},{"$f":"'8M.N.'!I43+'8M.E.'!I43+'8M.T.'!I43","v":459837540.29000002},{"$f":"'8M.N.'!J43+'8M.E.'!J43+'8M.T.'!J43","v":1052},{"$f":"'8M.N.'!K43+'8M.E.'!K43+'8M.T.'!K43","v":267342965.13000014},{"$f":"'8M.N.'!L43+'8M.E.'!L43+'8M.T.'!L43","v":20},{"$f":"'8M.N.'!M43+'8M.E.'!M43+'8M.T.'!M43","v":11983591.58},{"$f":"'8M.N.'!N43+'8M.E.'!N43+'8M.T.'!N43","v":154},{"$f":"'8M.N.'!O43+'8M.E.'!O43+'8M.T.'!O43","v":43780382.299999997},null,2.8395881309935977E-2]
["TLAXCALA",{"$f":"'8M.N.'!B44+'8M.E.'!B44+'8M.T.'!B44","v":56811},{"$f":"'8M.N.'!C44+'8M.E.'!C44+'8M.T.'!C44","v":661330151.69000053},{"$f":"'8M.N.'!D44+'8M.E.'!D44+'8M.T.'!D44","v":19812746816},{"$f":"'8M.N.'!E44+'8M.E.'!E44+'8M.T.'!E44","v":1091514446},{"$f":"'8M.N.'!F44+'8M.E.'!F44+'8M.T.'!F44","v":14543774327},{"$f":"'8M.N.'!G44+'8M.E.'!G44+'8M.T.'!G44","v":9874661233},{"$f":"'8M.N.'!H44+'8M.E.'!H44+'8M.T.'!H44","v":299},{"$f":"'8M.N.'!I44+'8M.E.'!I44+'8M.T.'!I44","v":98801121.419999957},{"$f":"'8M.N.'!J44+'8M.E.'!J44+'8M.T.'!J44","v":221},{"$f":"'8M.N.'!K44+'8M.E.'!K44+'8M.T.'!K44","v":56082261.499999993},{"$f":"'8M.N.'!L44+'8M.E.'!L44+'8M.T.'!L44","v":8},{"$f":"'8M.N.'!M44+'8M.E.'!M44+'8M.T.'!M44","v":4802389.75},{"$f":"'8M.N.'!N44+'8M.E.'!N44+'8M.T.'!N44","v":5},{"$f":"'8M.N.'!O44+'8M.E.'!O44+'8M.T.'!O44","v":1116455.97},null,5.2106396802900955E-3]
["VERACRUZ",{"$f":"'8M.N.'!B45+'8M.E.'!B45+'8M.T.'!B45","v":411059},{"$f":"'8M.N.'!C45+'8M.E.'!C45+'8M.T.'!C45","v":5556973801.9399881},{"$f":"'8M.N.'!D45+'8M.E.'!D45+'8M.T.'!D45","v":156928436121},{"$f":"'8M.N.'!E45+'8M.E.'!E45+'8M.T.'!E45","v":9818995351},{"$f":"'8M.N.'!F45+'8M.E.'!F45+'8M.T.'!F45","v":95686284980},{"$f":"'8M.N.'!G45+'8M.E.'!G45+'8M.T.'!G45","v":66208256813},{"$f":"'8M.N.'!H45+'8M.E.'!H45+'8M.T.'!H45","v":1921},{"$f":"'8M.N.'!I45+'8M.E.'!I45+'8M.T.'!I45","v":576801953.38999951},{"$f":"'8M.N.'!J45+'8M.E.'!J45+'8M.T.'!J45","v":1234},{"$f":"'8M.N.'!K45+'8M.E.'!K45+'8M.T.'!K45","v":322854463.76999998},{"$f":"'8M.N.'!L45+'8M.E.'!L45+'8M.T.'!L45","v":33},{"$f":"'8M.N.'!M45+'8M.E.'!M45+'8M.T.'!M45","v":9777661.0399999991},{"$f":"'8M.N.'!N45+'8M.E.'!N45+'8M.T.'!N45","v":190},{"$f":"'8M.N.'!O45+'8M.E.'!O45+'8M.T.'!O45","v":37545240.610000007},null,3.7701859434622988E-2]
["YUCATAN",{"$f":"'8M.N.'!B46+'8M.E.'!B46+'8M.T.'!B46","v":159970},{"$f":"'8M.N.'!C46+'8M.E.'!C46+'8M.T.'!C46","v":2633434461.0199986},{"$f":"'8M.N.'!D46+'8M.E.'!D46+'8M.T.'!D46","v":73303048819},{"$f":"'8M.N.'!E46+'8M.E.'!E46+'8M.T.'!E46","v":6080863927},{"$f":"'8M.N.'!F46+'8M.E.'!F46+'8M.T.'!F46","v":40823080020},{"$f":"'8M.N.'!G46+'8M.E.'!G46+'8M.T.'!G46","v":44155921066},{"$f":"'8M.N.'!H46+'8M.E.'!H46+'8M.T.'!H46","v":475},{"$f":"'8M.N.'!I46+'8M.E.'!I46+'8M.T.'!I46","v":205420271.85999995},{"$f":"'8M.N.'!J46+'8M.E.'!J46+'8M.T.'!J46","v":605},{"$f":"'8M.N.'!K46+'8M.E.'!K46+'8M.T.'!K46","v":151840776.23000005},{"$f":"'8M.N.'!L46+'8M.E.'!L46+'8M.T.'!L46","v":3},{"$f":"'8M.N.'!M46+'8M.E.'!M46+'8M.T.'!M46","v":1896140.48},{"$f":"'8M.N.'!N46+'8M.E.'!N46+'8M.T.'!N46","v":41},{"$f":"'8M.N.'!O46+'8M.E.'!O46+'8M.T.'!O46","v":13151501.740000002},null,1.4672264696203316E-2]
["ZACATECAS",{"$f":"'8M.N.'!B47+'8M.E.'!B47+'8M.T.'!B47","v":104765},{"$f":"'8M.N.'!C47+'8M.E.'!C47+'8M.T.'!C47","v":897417077.7100004},{"$f":"'8M.N.'!D47+'8M.E.'!D47+'8M.T.'!D47","v":30213191705},{"$f":"'8M.N.'!E47+'8M.E.'!E47+'8M.T.'!E47","v":1533260288},{"$f":"'8M.N.'!F47+'8M.E.'!F47+'8M.T.'!F47","v":27307398162},{"$f":"'8M.N.'!G47+'8M.E.'!G47+'8M.T.'!G47","v":15599990061},{"$f":"'8M.N.'!H47+'8M.E.'!H47+'8M.T.'!H47","v":320},{"$f":"'8M.N.'!I47+'8M.E.'!I47+'8M.T.'!I47","v":82266506.470000014},{"$f":"'8M.N.'!J47+'8M.E.'!J47+'8M.T.'!J47","v":194},{"$f":"'8M.N.'!K47+'8M.E.'!K47+'8M.T.'!K47","v":34539907.420000002},{"$f":"'8M.N.'!L47+'8M.E.'!L47+'8M.T.'!L47","v":5},{"$f":"'8M.N.'!M47+'8M.E.'!M47+'8M.T.'!M47","v":1535000},{"$f":"'8M.N.'!N47+'8M.E.'!N47+'8M.T.'!N47","v":22},{"$f":"'8M.N.'!O47+'8M.E.'!O47+'8M.T.'!O47","v":7818536.0799999991},null,9.6089254916405607E-3]
["EXTRANJERO",{"$f":"'8M.N.'!B48+'8M.E.'!B48+'8M.T.'!B48","v":393},{"$f":"'8M.N.'!C48+'8M.E.'!C48+'8M.T.'!C48","v":41736667.829999983},{"$f":"'8M.N.'!D48+'8M.E.'!D48+'8M.T.'!D48","v":1275902796},{"$f":"'8M.N.'!E48+'8M.E.'!E48+'8M.T.'!E48","v":107284694},{"$f":"'8M.N.'!F48+'8M.E.'!F48+'8M.T.'!F48","v":60670807},{"$f":"'8M.N.'!G48+'8M.E.'!G48+'8M.T.'!G48","v":404175521},{"$f":"'8M.N.'!H48+'8M.E.'!H48+'8M.T.'!H48","v":0},{"$f":"'8M.N.'!I48+'8M.E.'!I48+'8M.T.'!I48","v":0},{"$f":"'8M.N.'!J48+'8M.E.'!J48+'8M.T.'!J48","v":4},{"$f":"'8M.N.'!K48+'8M.E.'!K48+'8M.T.'!K48","v":3297254.63},{"$f":"'8M.N.'!L48+'8M.E.'!L48+'8M.T.'!L48","v":0},{"$f":"'8M.N.'!M48+'8M.E.'!M48+'8M.T.'!M48","v":0},{"$f":"'8M.N.'!N48+'8M.E.'!N48+'8M.T.'!N48","v":0},{"$f":"'8M.N.'!O48+'8M.E.'!O48+'8M.T.'!O48","v":0},null,3.6045508692929324E-5]
["DESCONOCIDA",{"$f":"'8M.N.'!B49+'8M.E.'!B49+'8M.T.'!B49","v":1792},{"$f":"'8M.N.'!C49+'8M.E.'!C49+'8M.T.'!C49","v":5574893.9000000004},{"$f":"'8M.N.'!D49+'8M.E.'!D49+'8M.T.'!D49","v":234579731},{"$f":"'8M.N.'!E49+'8M.E.'!E49+'8M.T.'!E49","v":2019631},{"$f":"'8M.N.'!F49+'8M.E.'!F49+'8M.T.'!F49","v":72760264},{"$f":"'8M.N.'!G49+'8M.E.'!G49+'8M.T.'!G49","v":70561755},{"$f":"'8M.N.'!H49+'8M.E.'!H49+'8M.T.'!H49","v":19},{"$f":"'8M.N.'!I49+'8M.E.'!I49+'8M.T.'!I49","v":5943300},{"$f":"'8M.N.'!J49+'8M.E.'!J49+'8M.T.'!J49","v":0},{"$f":"'8M.N.'!K49+'8M.E.'!K49+'8M.T.'!K49","v":0},{"$f":"'8M.N.'!L49+'8M.E.'!L49+'8M.T.'!L49","v":0},{"$f":"'8M.N.'!M49+'8M.E.'!M49+'8M.T.'!M49","v":0},{"$f":"'8M.N.'!N49+'8M.E.'!N49+'8M.T.'!N49","v":0},{"$f":"'8M.N.'!O49+'8M.E.'!O49+'8M.T.'!O49","v":0},null,1.6436018213162682E-4]
["NO APLICA",{"$f":"'8M.N.'!B50+'8M.E.'!B50+'8M.T.'!B50","v":77},{"$f":"'8M.N.'!C50+'8M.E.'!C50+'8M.T.'!C50","v":816575.00999999989},{"$f":"'8M.N.'!D50+'8M.E.'!D50+'8M.T.'!D50","v":36850126},{"$f":"'8M.N.'!E50+'8M.E.'!E50+'8M.T.'!E50","v":58832524},{"$f":"'8M.N.'!F50+'8M.E.'!F50+'8M.T.'!F50","v":12087570},{"$f":"'8M.N.'!G50+'8M.E.'!G50+'8M.T.'!G50","v":11146803},{"$f":"'8M.N.'!H50+'8M.E.'!H50+'8M.T.'!H50","v":0},{"$f":"'8M.N.'!I50+'8M.E.'!I50+'8M.T.'!I50","v":0},{"$f":"'8M.N.'!J50+'8M.E.'!J50+'8M.T.'!J50","v":0},{"$f":"'8M.N.'!K50+'8M.E.'!K50+'8M.T.'!K50","v":0},{"$f":"'8M.N.'!L50+'8M.E.'!L50+'8M.T.'!L50","v":0},{"$f":"'8M.N.'!M50+'8M.E.'!M50+'8M.T.'!M50","v":0},{"$f":"'8M.N.'!N50+'8M.E.'!N50+'8M.T.'!N50","v":0},{"$f":"'8M.N.'!O50+'8M.E.'!O50+'8M.T.'!O50","v":0}]
["No Especificado",null,2573376457.7600036,null,null,null,null,2382,778754240.93000031,54,19342488.479999997,126,58145386,21,5986905.8199999994]
["      TOTAL",{"$f":"SUM(B16:B51)","v":10902884},{"$f":"SUM(C16:C51)","v":179845784299.1167},{"$f":"SUM(D16:D51)","v":4509326461362},538933078425,2610179784488,2215087565159,44329,15731452357.379984,41745,11581923597.76,806,519721044.60000002,4537,1171119609.0999999]
["*Incluye pérdidas orgánicas, muerte accidental y muerte colectiva"]

{"sheet":"8M.N.","index":56,"n_rows":53,"n_cols":15,"rows_kept":53,"cut":false,"hidden":false,"merged":[[7,0,7,14],[1,0,1,14],[2,0,2,14],[3,0,3,14],[5,0,5,14],[6,0,6,14],[12,13,13,14],[8,0,8,14],[9,0,9,14],[11,0,14,0],[11,1,14,1],[11,2,14,2],[11,3,11,6],[11,7,11,14],[12,3,14,3],[12,4,14,4],[12,5,14,5],[12,6,14,6],[12,7,13,8],[12,9,13,10],[12,11,13,12]]}
[]
["8. SEGURO DIRECTO EMITIDO Y SINIESTROS EN LA OPERACION DE VIDA "]
["POR TIPO DE SEGURO CONTRATADO Y ENTIDAD"]
[]
[]
[{"$f":"'1 Total'!B3","v":"DICIEMBRE DE 2021"}]
[]
["VIDA INDIVIDUAL"]
[]
["MONEDA NACIONAL"]
[null,3,4,5,6,7,8,3,4,5,6,7,8,9,10]
["ENTIDAD","PÓLIZAS\nO\nCERTIFICADOS","PRIMA\nEMITIDA DIRECTA","SUMA  ASEGURADA",null,null,null,"SINIESTROS  DIRECTOS"]
[null,null,null,"MUERTE","SOBREVIVENCIA","MUERTE\nACCIDENTAL*","INVALIDEZ","MUERTE ",null,"SOBREVIVENCIA",null,"MUERTE\nACCIDENTAL*",null,"INVALIDEZ"]
[]
[null,null,null,null,null,null,null,"NÚMERO","MONTO","NÚMERO","MONTO","NÚMERO","MONTO","NÚMERO","MONTO"]
["AGUASCALIENTES",97426,1338206631.6199992,33419452882,258718707,28091183066,16511996809,365,96623102.269999966,56,12359206.219999999,3,1977405,12,6153803.5700000003]
["BAJA CALIFORNIA NORTE",252002,2174597878.8599882,88563253803,838044174,63380729250,38182187758,676,203149769.71000034,195,38879434.579999998,12,5580662.5,66,23470118.070000004]
["BAJA CALIFORNIA SUR",63821,534531223.87000108,26215944851,130930813,17961136232,10990072176,257,87971053.220000073,39,12830977.129999999,5,1272987.3,4,550000]
["CAMPECHE",69711,730417717.30000067,29218761046,106607878,16595722297,10276800990,233,82170864.930000022,40,7178681,5,1290000,11,3393582.1]
["CHIAPAS",167189,1867615516.5600011,56644820372,154959490,44475433896,22053462180,730,206806172.15000018,47,9303234.2699999996,5,2316487,12,2524664.0099999998]
["CHIHUAHUA",300262,2973207791.4499936,114291693416,277582620,67542620764,36228031722,705,230524934.11000016,160,29533455.699999999,15,7921908.2599999998,47,14605415.9]
["CIUDAD DE MEXICO",2822547,28430365582.666645,605300194111,8334154801,377430737529,151499516110,12921,2438970828.3899875,1935,421223751.15999949,83,14667352.709999999,122,41363545.170000009]
["COAHUILA",243418,3108687820.6799941,78174084993,450259926,69717528717,36390451756,899,305131104.97000003,136,24209366.610000007,11,3273991.09,59,18909738.530000001]
["COLIMA",43097,621073370.13000023,16474408623,135212981,12015562247,7119071056,223,67764670.299999997,45,4614811.3499999996,11,6399138.6899999995,7,1947165.95]
["DURANGO",112064,1409161982.3599999,35846620527,128892421,29570071265,15733438413,549,145157805.52000001,56,24430274.859999999,14,4671961.8100000005,22,6959019.0700000003]
["ESTADO DE MEXICO",843317,11315426457.170027,316039815349,4502907476,164502112274,93686121971,3502,1162997363.7399974,737,134041033.89000009,28,9996134.120000001,35,11626674.92]
["GUANAJUATO",309022,4356782216.6699944,105716088942,795090310,71539987300,44757972295,1153,369448289.06999981,206,60866201.090000004,21,8041608.0099999998,47,13719258.360000003]
["GUERRERO",117707,1430506127.2299988,52784696370,259599252,27694091773,14733941891,632,214310511.79000002,117,14553702.030000001,17,7780000,10,6841000]
["HIDALGO",128186,1578135490.2199993,45530431634,193221277,31578781712,17763078315,645,185007953.86999995,74,16057503.959999999,9,4151375,17,6669754.7199999997]
["JALISCO",461171,9251467892.9600811,169333689849,5188479470,104964824090,63403974263,1374,430825121.77000004,610,175650246.45999986,27,13391100.899999999,66,21425432.849999998]
["MICHOACAN",205076,4083425308.9399896,93281489021,561696082,53478346009,26711861261,1017,353278056.36999995,136,27989939.989999998,26,12115814.75,13,4325631.0999999996]
["MORELOS",108954,1779921475.3199978,45447201752,408294492,27567327493,15542955543,620,173387415.74000016,127,18198497.329999998,6,3685000,14,8033752.8300000001]
["NAYARIT",75612,701438087.34000111,22914682391,152338807,17811662030,8869097874,292,78948042.130000025,46,4315662.07,3,560000,7,2040000]
["NUEVO LEON",428398,7418288088.6700583,154712565949,1205738472,102001662492,70016645694,1123,467375670.6000002,345,90583064.830000013,12,6891726.5999999987,26,6514526.5099999998]
["OAXACA",147123,1277013343.9199979,48251312386,407881065,31821421438,18649999643,720,207089532.30999997,127,32581589.589999996,8,1967086,5,1039321.16]
["PUEBLA",212184,2924386547.7399921,70043036454,1072075188,46876281436,24415392656,857,240199090.96999976,395,60524230.469999999,3,2050000,10,6029123.1400000006]
["QUERETARO",161466,2296356841.1199913,54486732290,578357796,32323715744,22614139398,435,138740414.48000005,101,28344239.59,3,346948.11,21,3372763.6499999994]
["QUINTANA ROO",115239,1495138607.2099981,43304347788,436677659,30136796225,19423934646,313,105289132.30999999,105,18398464.950000003,11,5358000,12,4406890]
["SAN LUIS POTOSI",236595,1842307610.0499899,61855970683,327591236,48415418677,31267744105,881,184381411.41000029,90,17631156.139999997,9,3552680.4799999995,72,6920589.9799999986]
["SINALOA",191022,2848941506.7099919,66343436894,584318401,41539197540,29284712999,714,216981780.19000009,175,30680570.760000005,14,3728851.46,37,12271097.560000001]
["SONORA",249911,2788197851.3699865,73432764590,645558734,52507713704,36090086894,898,220008891.50000015,182,25412606.690000001,17,6000100,92,21076689.770000003]
["TABASCO",143623,1621151046.8199971,56187172921,385184639,38055906274,24017653665,732,249727147.93000022,85,25611790.120000001,10,3182953.8,57,19396819.120000001]
["TAMAULIPAS",271300,2663061998.1199956,88032965494,452631970,72256332496,36874616451,1064,285962968.86000007,158,39333368.939999998,13,3941486.08,38,14433420.34]
["TLAXCALA",51992,517220755.80000061,16908988864,112902402,12628452531,7080948103,281,86880811.349999964,61,7451890.6500000004,5,2505652.75,2,886000]
["VERACRUZ",377473,4277851408.0199885,132695546264,586040229,82140239043,48046947968,1819,518625408.44999957,280,56372612.710000001,30,8430156.379999999,89,20957319.740000006]
["YUCATAN",132061,1840249765.2099988,48880635250,607704691,27908241487,19618857539,416,129979120.16999997,132,56361174.74000001,2,600000,10,3093552.62]
["ZACATECAS",97776,718822833.0600003,26066148582,156537217,25056919143,12556667017,306,71235371.040000021,43,7017019,5,1535000,5,2254434.9500000002]
["EXTRANJERO",118,176039.71999999997,19333918,null,7842388,7459596]
["DESCONOCIDA",1719,2547030.9300000002,161603599,null,40388233,18138362,19,5943300,0,null,0,null,0]
["NO APLICA",42,267605.19999999995,27525165,null,11472099,7113701]
["No Especificado"]
["      TOTAL",{"$f":"SUM(B16:B50)","v":9238624},{"$f":"SUM(C16:C50)","v":112216947451.01665},2876607417023,30436190676,1869645858894,1030445090820,37371,9960893111.6199894,7041,1532539758.8799996,443,159183568.80000004,1047,317211105.68999994]
["*Incluye pérdidas orgánicas, muerte accidental y muerte colectiva"]

{"sheet":"8M.E.","index":57,"n_rows":53,"n_cols":15,"rows_kept":53,"cut":false,"hidden":false,"merged":[[7,0,7,14],[1,0,1,14],[2,0,2,14],[3,0,3,14],[5,0,5,14],[6,0,6,14],[12,13,13,14],[8,0,8,14],[9,0,9,14],[11,0,14,0],[11,1,14,1],[11,2,14,2],[11,3,11,6],[11,7,11,14],[12,3,14,3],[12,4,14,4],[12,5,14,5],[12,6,14,6],[12,7,13,8],[12,9,13,10],[12,11,13,12]]}
[]
["8. SEGURO DIRECTO EMITIDO Y SINIESTROS EN LA OPERACION DE VIDA "]
["POR TIPO DE SEGURO CONTRATADO Y ENTIDAD"]
[]
[]
[{"$f":"'1 Total'!B3","v":"DICIEMBRE DE 2021"}]
[]
["VIDA INDIVIDUAL"]
[]
["MONEDA EXTRANJERA"]
[null,3,4,5,6,7,8,3,4,5,6,7,8,9,10]
["ENTIDAD","PÓLIZAS\nO\nCERTIFICADOS","PRIMA\nEMITIDA DIRECTA","SUMA  ASEGURADA",null,null,null,"SINIESTROS  DIRECTOS"]
[null,null,null,"MUERTE","SOBREVIVENCIA","MUERTE\nACCIDENTAL*","INVALIDEZ","MUERTE ",null,"SOBREVIVENCIA",null,"MUERTE\nACCIDENTAL*",null,"INVALIDEZ"]
[]
[null,null,null,null,null,null,null,"NÚMERO","MONTO","NÚMERO","MONTO","NÚMERO","MONTO","NÚMERO","MONTO"]
["AGUASCALIENTES",6633,396649259.41000015,8421425228,3050711342,3783550451,5062956654,7,8959049.8499999996,231,76648082.969999999,0,null,20,15388030.199999999]
["BAJA CALIFORNIA NORTE",25011,1416312046.2300007,34218936486,15909547986,12124011002,22314960822,58,144042809.73000002,535,200132046.20999998,6,9251844.5700000003,72,14635867.609999999]
["BAJA CALIFORNIA SUR",2944,160040269.30000001,3926314111,1401821014,1794243357,2657599779,13,46849287.210000001,74,27629351.439999998,0,null,7,1552865.03]
["CAMPECHE",2488,109033653.68999998,2274528469,998039572,1200778369,1711547206,5,2642484,117,28175542.280000005,1,816762.2,11,2008829.14]
["CHIAPAS",5682,267445868.69000009,6454932501,3887307725,2623322035,4110349016,9,4726279.99,120,42439002.099999994,0,null,9,965590.53]
["CHIHUAHUA",20041,789758553.15999973,23084894535,6891915212,12938471956,14718980916,49,49024469.000000007,722,249234177.67000011,4,4233291.88,57,7150290.29]
["CIUDAD DE MEXICO",133573,9007556601.5800037,216283430639,69959816831,71770949351,93390849241,457,694018075.06000018,4468,1837611958.0300052,10,20851953.970000003,343,107265631.45999998]
["COAHUILA",19959,1062523176.2199998,36465262443,7965753862,17900617591,15604133551,54,86050305.159999996,795,335605391.97000015,4,10270793.68,101,18762614.600000001]
["COLIMA",2139,93236856.500000015,1871246770,587023377,955370474,1203925527,6,2519841.6,79,21824329.300000001,0,null,5,1357021.7200000002]
["DURANGO",5865,256277523.95999995,6680049568,2875777659,2799666408,3642532904,20,18266241.649999999,188,59850283.290000007,1,1156632.05,14,2042750.31]
["ESTADO DE MEXICO",61703,3221477526.190001,68059317446,22497433979,27114360844,34999497074,218,275450082.23000002,2205,789083023.95999956,6,5878451.54,177,68556663.850000024]
["GUANAJUATO",23545,1584282201.9300001,31720779623,13917998213,12156160209,19872873322,71,259091630.86000004,847,312246166.26999998,5,6950215.1099999994,135,38714365.610000007]
["GUERRERO",4021,149940595.29999998,2785386036,1142185761,963687055,1077035222,13,7130368.6400000006,124,38837846.110000014,1,7422217,5,286507.26]
["HIDALGO",6309,358826414.73000002,4791468001,2399144728,2164062590,2449154432,13,5299290.4399999995,281,277312357.88999999,4,5764068,15,12306216.82]
["JALISCO",64125,3796588714.9000015,95235077429,21452537446,45083423380,48892245674,158,249500006.00999999,2711,974721717.61000001,12,28722868.600000001,244,70851071.100000009]
["MICHOACAN",14998,793728439.29999995,12433882034,4618809083,6757995979,6743277650,32,30752993.640000001,808,257882829.83999982,2,5898062.6899999995,46,22782616.040000003]
["MORELOS",5840,262954016.53,5990340345,2372820404,2268881535,2729988999,19,15197573.759999998,299,105522454.25,1,2056532.27,34,4973404.370000001]
["NAYARIT",3989,214826535.19,2924381042,993112316,1803299274,1689539327,13,22837971.370000001,171,74811653.049999997,1,989401.45,21,5648415.1300000008]
["NUEVO LEON",46456,3384638556.9099998,118996188295,29992845556,40474703801,56961171347,174,371926997.43000001,1105,576431041.35999966,10,21722753.770000003,197,61445653.410000019]
["OAXACA",5291,178905200.09999996,3473713108,1018238668,2128110121,2004846287,14,5757656.3799999999,381,75240478.600000039,1,830648,4,1012349.0599999999]
["PUEBLA",22985,1496644392.45,26897869864,12905110302,10536650589,16338576923,81,145547297.53,972,299027036.35999978,2,2091687,92,31108020.899999999]
["QUERETARO",13389,613518142.31999981,16058929639,5451406529,9628365651,11432442159,26,57136989.939999998,482,168304120.87000003,6,9586616.2100000009,38,8621965.2199999988]
["QUINTANA ROO",4606,367673191.75000012,8461999889,2225706827,2534502415,4075528737,6,6684697.04,112,32239227.689999986,0,null,7,3124332.5200000005]
["SAN LUIS POTOSI",10279,465366135.63999993,11164442642,3892191497,6380243156,6222003736,33,36263225.610000007,475,125357726.45999998,3,7791031.8599999994,41,11233415.950000001]
["SINALOA",21667,1342159350.5900006,36650680594,16987686756,15104629691,23095549062,73,121454988.63,672,319995641.99000001,6,3751932.04,145,18558642.040000003]
["SONORA",18214,1072693528.5900003,29764641518,10555847342,11353701690,16207788518,48,79985931.109999999,523,320701845.11000001,8,12793435.859999999,102,14533399.830000006]
["TABASCO",8819,332381183.54000014,8540389630,4276772900,3597262793,6111337585,21,14352089.289999999,587,141319832.37,0,null,43,4708323.63]
["TAMAULIPAS",16865,673391994.40999973,19743020808,7512392786,12296297911,12417593900,71,140892436.51999995,554,205286837.56000015,6,7527737.5,83,19532791.199999988]
["TLAXCALA",1641,63495317.310000002,1269672971,631521177,484288306,806904911,6,3075917.6,139,46143795.849999994,0,null,2,62252.800000000003]
["VERACRUZ",14663,869551033.35000026,13070573932,5670605948,6251206773,7306497678,30,21355422.929999996,685,234872545.66,1,406530,46,8549806.2100000009]
["YUCATAN",9160,385429527.24999994,11791945340,3207442300,6131144542,9018251543,18,38012619.710000001,280,78398596.350000024,0,null,16,8344476.8900000015]
["ZACATECAS",2442,95790559.020000055,1817307376,812580176,872701856,984546517,7,8743375.4699999988,120,22811153.460000005,0,null,10,5235423.0399999991]
["EXTRANJERO",107,29807939.759999987,1031705220,55150007,29682052,236023553,0,null,3,3242785.1799999997,0,null,0]
["DESCONOCIDA",9,234543.92999999996,11053169,null,8034216,10048905]
["NO APLICA",5,57027.19,6919412,null,615471,1175016]
["No Especificado"]
["      TOTAL",{"$f":"SUM(B16:B50)","v":605463},{"$f":"SUM(C16:C50)","v":35313195876.920006},872372706113,288117255281,354014992894,456101733693,1823,2973548405.3900003,21865,8358940879.1100054,101,176765467.25,2142,591319603.7700001]
["*Incluye pérdidas orgánicas, muerte accidental y muerte colectiva"]

{"sheet":"8M.T.","index":58,"n_rows":53,"n_cols":15,"rows_kept":53,"cut":false,"hidden":false,"merged":[[7,0,7,14],[1,0,1,14],[2,0,2,14],[3,0,3,14],[5,0,5,14],[6,0,6,14],[12,13,13,14],[8,0,8,14],[9,0,9,14],[11,0,14,0],[11,1,14,1],[11,2,14,2],[11,3,11,6],[11,7,11,14],[12,3,14,3],[12,4,14,4],[12,5,14,5],[12,6,14,6],[12,7,13,8],[12,9,13,10],[12,11,13,12]]}
[]
["8. SEGURO DIRECTO EMITIDO Y SINIESTROS EN LA OPERACION DE VIDA "]
["POR TIPO DE SEGURO CONTRATADO Y ENTIDAD"]
[]
[]
[{"$f":"'1 Total'!B3","v":"DICIEMBRE DE 2021"}]
[]
["VIDA INDIVIDUAL"]
[]
["TITUTLOS INDIZADOS"]
[null,3,4,5,6,7,8,3,4,5,6,7,8,9,10]
["ENTIDAD","PÓLIZAS\nO\nCERTIFICADOS","PRIMA\nEMITIDA DIRECTA","SUMA  ASEGURADA",null,null,null,"SINIESTROS  DIRECTOS"]
[null,null,null,"MUERTE","SOBREVIVENCIA","MUERTE\nACCIDENTAL*","INVALIDEZ","MUERTE ",null,"SOBREVIVENCIA",null,"MUERTE\nACCIDENTAL*",null,"INVALIDEZ"]
[]
[null,null,null,null,null,null,null,"NÚMERO","MONTO","NÚMERO","MONTO","NÚMERO","MONTO","NÚMERO","MONTO"]
["AGUASCALIENTES",10504,225885755.18999997,6787264428,1511842762,3022229700,5892386553,22,13172234.990000002,34,3952751.4099999997,1,134674.79999999999,13,1655722.66]
["BAJA CALIFORNIA NORTE",15259,465903103.1700002,14652012266,5720676327,4288810744,12214535397,39,32372066.98,47,4109385.3499999996,4,3001634.88,26,6063726.1900000004]
["BAJA CALIFORNIA SUR",4149,123991384.44000003,3602261762,1165717548,1323180958,2844999043,10,16956475.75,5,259234.44,0,null,5,102747.38]
["CAMPECHE",4504,114489366.86000006,2713511555,978955985,1420758405,3157880584,15,9761424.1199999992,29,5641597.9799999995,2,2176984.64,9,1803132.17]
["CHIAPAS",8929,193395479.70999992,6557850028,3017518503,3141331861,5947299918,28,6552294.1400000006,30,9939855.5399999991,3,1031588.4,18,1139054.48]
["CHIHUAHUA",19786,580721059.5999999,14907920708,3675941411,8724741996,13269377445,62,49189317.779999994,152,16139409.370000001,10,5873254.7800000003,52,9061792.3299999982]
["CIUDAD DE MEXICO",299084,7609073466.5699749,210627580271,79569797353,92016763274,201305529050,962,607865878.41999936,3017,611149757.59000039,17,15838223.870000001,280,50618825.270000048]
["COAHUILA",26106,795700909.41999972,19339326032,3919936557,13995830284,16700301202,49,41484236.549999997,452,40296990.240000002,4,4422040.9800000004,26,1092142.3900000001]
["COLIMA",5555,171301156.31999996,3171807874,849033386,2061934099,3806240022,19,16894109.950000003,54,3253552.9900000007,0,null,4,692452.17999999993]
["DURANGO",9814,221732122.54999998,5493604248,894273903,3202390150,4592576448,24,7191781.1299999999,65,5191369.0200000014,4,1304848.24,16,687676.86]
["ESTADO DE MEXICO",115005,3160552162.7999973,88929204926,25040569248,45832448427,93128271915,399,303160248.55000031,1162,210196743.17999989,16,12281396.07,143,34030018.469999999]
["GUANAJUATO",51701,2253023000.21,34974766345,8435390100,18469842812,36834579901,97,95530527.709999979,565,53895494.539999984,4,6720642.3700000001,54,14471530.470000003]
["GUERRERO",5114,97299510.920000002,2923115056,557704840,1951161856,2746004824,20,8178074.7300000004,35,4576038.78,2,598466,33,7200325.8899999997]
["HIDALGO",10701,208517507.21999997,6037693044,1392983671,3765341132,6197319662,29,12415512.59,45,9181312.6499999985,3,817403,12,339561.33]
["JALISCO",96881,2987309802.3900003,75534962198,17928114346,42126814917,80010523709,166,145262636.03000003,2532,185618117.9899998,13,9553102.459999999,102,24109741.54999999]
["MICHOACAN",27862,710921791.22000015,12689957971,2109692474,7166428961,12658385938,38,27128537.049999993,319,30409226.379999999,3,3137759.25,29,3976739.84]
["MORELOS",9864,296113265.77999985,8146744992,2287111092,4172298022,7240439103,27,35295881.430000007,98,14591382.460000001,3,1784831.5399999998,12,4153942.5700000003]
["NAYARIT",7263,194353938.65999997,3943516025,611059077,3051180940,4467674014,4,1033156.98,78,6953582.2000000002,3,5426313.2699999996,5,1202587.06]
["NUEVO LEON",73791,3270781196.3499994,90211014531,25027222978,36206119002,70798702200,156,184913416.79999998,954,140232215.64000002,12,20926532.829999998,86,22215214.029999997]
["OAXACA",17904,419943418.26999986,7475599694,878960562,9112752502,9368778598,44,25442898.120000005,469,30709439.010000005,4,2347720.38,26,6679552.3399999989]
["PUEBLA",29882,777293481.75999987,19500212526,5011956369,13235357477,21248070064,84,67607670.470000029,369,44806262.289999984,10,7587265.2699999996,60,9328104.2600000016]
["QUERETARO",30134,704612021.33999968,18614550070,6462664340,10265626667,19289883427,45,41730995.970000014,207,46143490.340000011,1,18937.59,32,10922962.259999998]
["QUINTANA ROO",8833,253759059.69000003,7810888381,2958022127,3488705596,7597538085,18,10552658.34,47,4293415.0200000005,0,null,18,3795626.2300000004]
["SAN LUIS POTOSI",42488,502356822.09000003,14451939107,2303165460,5376532817,9788126551,70,22038675.699999999,288,23643078.720000003,2,3157007.35,19,1067944.7599999998]
["SINALOA",30075,708303421.53000021,17408517577,3465083884,12739764867,16453344870,64,64256945.999999993,380,27923952.850000001,5,10185007.48,66,10586966.659999998]
["SONORA",19046,821353471.49999988,18177386000,3583645633,6437594805,12451414325,47,24462472.559999999,131,25330705.579999998,1,691848.9,43,3642989.7800000003]
["TABASCO",11472,314709117.03999996,5404845722,1191509355,4582421455,6455342449,29,29442529.269999996,366,33996261.149999984,2,1560918.06,27,5898275.4999999991]
["TAMAULIPAS",21432,563085477.47000003,12212487837,2978796463,8405740984,11450082506,54,32982134.91,340,22722758.630000006,1,514368,33,9814170.7600000016]
["TLAXCALA",3178,80614078.579999983,1634084981,347090867,1431033490,1986808219,12,8844392.4700000007,21,2486575,3,2296737,1,168203.17]
["VERACRUZ",18923,409571360.56999999,11162315925,3562349174,7294839164,10854811167,72,36821122.009999983,269,31609305.400000006,2,940974.66,55,8038114.6599999992]
["YUCATAN",18749,407755168.55999994,12630468229,2265716936,6783693991,15518811984,41,37428531.979999997,193,17081005.140000004,1,1296140.48,15,1713472.2300000002]
["ZACATECAS",4547,82803685.629999995,2329735747,564142895,1377777163,2058776527,7,2287759.96,31,4711734.96,0,null,7,328678.09000000003]
["EXTRANJERO",168,11752688.350000001,224863658,52134687,23146367,160692372,0,null,1,54469.45,0,null,0]
["DESCONOCIDA",64,2793319.0400000005,61922963,2019631,24337815,42374488]
["NO APLICA",30,491942.61999999994,2405549,58832524,null,2858086]
["No Especificado"]
["       TOTAL",{"$f":"SUM(B16:B50)","v":1058797},{"$f":"SUM(C16:C50)","v":29742264513.419968},760346338226,220379632468,386518932700,728540740646,2753,2018256599.4399998,12785,1671100471.2900007,136,125626622.55,1327,256601993.81999996]
["*Incluye pérdidas orgánicas, muerte accidental y muerte colectiva"]

{"sheet":"8GRUPO","index":59,"n_rows":56,"n_cols":15,"rows_kept":56,"cut":false,"hidden":false,"merged":[[6,0,6,14],[1,0,1,14],[2,0,2,14],[3,0,3,14],[4,0,4,14],[5,0,5,14],[7,0,7,14],[8,0,8,14],[9,0,9,14],[10,0,10,14],[11,0,14,0],[11,1,14,1],[11,2,14,2],[11,3,11,6],[11,7,11,14],[12,3,14,3],[12,13,13,14],[52,0,52,14],[12,4,14,4],[12,5,14,5],[12,6,14,6],[12,7,13,8],[12,9,13,10],[12,11,13,12]]}
[]
["8. SEGURO DIRECTO EMITIDO Y SINIESTROS EN LA OPERACION DE VIDA "]
["POR TIPO DE SEGURO CONTRATADO Y ENTIDAD"]
[]
[{"$f":"'1 Total'!B3","v":"DICIEMBRE DE 2021"}]
[]
[]
["VIDA GRUPO"]
[]
["TOTAL"]
[]
["ENTIDAD","PÓLIZAS\nO\nCERTIFICADOS","PRIMA\nEMITIDA DIRECTA","SUMA  ASEGURADA",null,null,null,"SINIESTROS  DIRECTOS"]
[null,null,null,"MUERTE","SOBREVIVENCIA","MUERTE\nACCIDENTAL**","INVALIDEZ","MUERTE ",null,"SOBREVIVENCIA",null,"MUERTE\nACCIDENTAL**",null,"INVALIDEZ"]
[]
[null,null,null,null,null,null,null,"NÚMERO","MONTO","NÚMERO","MONTO","NÚMERO","MONTO","NÚMERO","MONTO"]
["AGUASCALIENTES",{"$f":"'8GM.N.'!B16+'8GM.E.'!B16+'8GM.T.'!B14","v":297934},{"$f":"'8GM.N.'!C16+'8GM.E.'!C16+'8GM.T.'!C14","v":470271610.7999981},{"$f":"'8GM.N.'!D16+'8GM.E.'!D16+'8GM.T.'!D14","v":70490647316},{"$f":"'8GM.N.'!E16+'8GM.E.'!E16+'8GM.T.'!E14","v":0},{"$f":"'8GM.N.'!F16+'8GM.E.'!F16+'8GM.T.'!F14","v":34982567050},{"$f":"'8GM.N.'!G16+'8GM.E.'!G16+'8GM.T.'!G14","v":50340224209},{"$f":"'8GM.N.'!H16+'8GM.E.'!H16+'8GM.T.'!H14","v":855},{"$f":"'8GM.N.'!I16+'8GM.E.'!I16+'8GM.T.'!I14","v":275219192.54999983},{"$f":"'8GM.N.'!J16+'8GM.E.'!J16+'8GM.T.'!J14","v":0},{"$f":"'8GM.N.'!K16+'8GM.E.'!K16+'8GM.T.'!K14","v":0},{"$f":"'8GM.N.'!L16+'8GM.E.'!L16+'8GM.T.'!L14","v":8},{"$f":"'8GM.N.'!M16+'8GM.E.'!M16+'8GM.T.'!M14","v":2153723.7399999998},{"$f":"'8GM.N.'!N16+'8GM.E.'!N16+'8GM.T.'!N14","v":32},{"$f":"'8GM.N.'!O16+'8GM.E.'!O16+'8GM.T.'!O14","v":15127452.27}]
["BAJA CALIFORNIA NORTE",{"$f":"'8GM.N.'!B17+'8GM.E.'!B17+'8GM.T.'!B15","v":547643},{"$f":"'8GM.N.'!C17+'8GM.E.'!C17+'8GM.T.'!C15","v":656612626.63999903},{"$f":"'8GM.N.'!D17+'8GM.E.'!D17+'8GM.T.'!D15","v":110245239952},{"$f":"'8GM.N.'!E17+'8GM.E.'!E17+'8GM.T.'!E15","v":5300000},{"$f":"'8GM.N.'!F17+'8GM.E.'!F17+'8GM.T.'!F15","v":64947818407},{"$f":"'8GM.N.'!G17+'8GM.E.'!G17+'8GM.T.'!G15","v":47700831028},{"$f":"'8GM.N.'!H17+'8GM.E.'!H17+'8GM.T.'!H15","v":1627},{"$f":"'8GM.N.'!I17+'8GM.E.'!I17+'8GM.T.'!I15","v":362185330.74000043},{"$f":"'8GM.N.'!J17+'8GM.E.'!J17+'8GM.T.'!J15","v":28},{"$f":"'8GM.N.'!K17+'8GM.E.'!K17+'8GM.T.'!K15","v":4318430.76},{"$f":"'8GM.N.'!L17+'8GM.E.'!L17+'8GM.T.'!L15","v":10},{"$f":"'8GM.N.'!M17+'8GM.E.'!M17+'8GM.T.'!M15","v":2198271.11},{"$f":"'8GM.N.'!N17+'8GM.E.'!N17+'8GM.T.'!N15","v":30},{"$f":"'8GM.N.'!O17+'8GM.E.'!O17+'8GM.T.'!O15","v":7609509.0300000012}]
["BAJA CALIFORNIA SUR",{"$f":"'8GM.N.'!B18+'8GM.E.'!B18+'8GM.T.'!B16","v":128162},{"$f":"'8GM.N.'!C18+'8GM.E.'!C18+'8GM.T.'!C16","v":161182104.97},{"$f":"'8GM.N.'!D18+'8GM.E.'!D18+'8GM.T.'!D16","v":25067883934},{"$f":"'8GM.N.'!E18+'8GM.E.'!E18+'8GM.T.'!E16","v":1425000},{"$f":"'8GM.N.'!F18+'8GM.E.'!F18+'8GM.T.'!F16","v":8879009357},{"$f":"'8GM.N.'!G18+'8GM.E.'!G18+'8GM.T.'!G16","v":13185105213},{"$f":"'8GM.N.'!H18+'8GM.E.'!H18+'8GM.T.'!H16","v":435},{"$f":"'8GM.N.'!I18+'8GM.E.'!I18+'8GM.T.'!I16","v":75615733.150000006},{"$f":"'8GM.N.'!J18+'8GM.E.'!J18+'8GM.T.'!J16","v":1},{"$f":"'8GM.N.'!K18+'8GM.E.'!K18+'8GM.T.'!K16","v":46459.11},{"$f":"'8GM.N.'!L18+'8GM.E.'!L18+'8GM.T.'!L16","v":4},{"$f":"'8GM.N.'!M18+'8GM.E.'!M18+'8GM.T.'!M16","v":1556023.42},{"$f":"'8GM.N.'!N18+'8GM.E.'!N18+'8GM.T.'!N16","v":8},{"$f":"'8GM.N.'!O18+'8GM.E.'!O18+'8GM.T.'!O16","v":4320058.4399999995}]
["CAMPECHE",{"$f":"'8GM.N.'!B19+'8GM.E.'!B19+'8GM.T.'!B17","v":137257},{"$f":"'8GM.N.'!C19+'8GM.E.'!C19+'8GM.T.'!C17","v":254176091.23999995},{"$f":"'8GM.N.'!D19+'8GM.E.'!D19+'8GM.T.'!D17","v":27606645272},{"$f":"'8GM.N.'!E19+'8GM.E.'!E19+'8GM.T.'!E17","v":1750000},{"$f":"'8GM.N.'!F19+'8GM.E.'!F19+'8GM.T.'!F17","v":12767865550},{"$f":"'8GM.N.'!G19+'8GM.E.'!G19+'8GM.T.'!G17","v":14092942181},{"$f":"'8GM.N.'!H19+'8GM.E.'!H19+'8GM.T.'!H17","v":684},{"$f":"'8GM.N.'!I19+'8GM.E.'!I19+'8GM.T.'!I17","v":100849261.22000003},{"$f":"'8GM.N.'!J19+'8GM.E.'!J19+'8GM.T.'!J17","v":1},{"$f":"'8GM.N.'!K19+'8GM.E.'!K19+'8GM.T.'!K17","v":4071.53},{"$f":"'8GM.N.'!L19+'8GM.E.'!L19+'8GM.T.'!L17","v":1},{"$f":"'8GM.N.'!M19+'8GM.E.'!M19+'8GM.T.'!M17","v":1000000},{"$f":"'8GM.N.'!N19+'8GM.E.'!N19+'8GM.T.'!N17","v":5},{"$f":"'8GM.N.'!O19+'8GM.E.'!O19+'8GM.T.'!O17","v":2427799.0700000003}]
["CHIAPAS",{"$f":"'8GM.N.'!B20+'8GM.E.'!B20+'8GM.T.'!B18","v":563896},{"$f":"'8GM.N.'!C20+'8GM.E.'!C20+'8GM.T.'!C18","v":735765769.77999902},{"$f":"'8GM.N.'!D20+'8GM.E.'!D20+'8GM.T.'!D18","v":65186502872},{"$f":"'8GM.N.'!E20+'8GM.E.'!E20+'8GM.T.'!E18","v":6000000},{"$f":"'8GM.N.'!F20+'8GM.E.'!F20+'8GM.T.'!F18","v":7520402395},{"$f":"'8GM.N.'!G20+'8GM.E.'!G20+'8GM.T.'!G18","v":11572050542},{"$f":"'8GM.N.'!H20+'8GM.E.'!H20+'8GM.T.'!H18","v":2251},{"$f":"'8GM.N.'!I20+'8GM.E.'!I20+'8GM.T.'!I18","v":295121492.88000005},{"$f":"'8GM.N.'!J20+'8GM.E.'!J20+'8GM.T.'!J18","v":7},{"$f":"'8GM.N.'!K20+'8GM.E.'!K20+'8GM.T.'!K18","v":744990.4},{"$f":"'8GM.N.'!L20+'8GM.E.'!L20+'8GM.T.'!L18","v":6},{"$f":"'8GM.N.'!M20+'8GM.E.'!M20+'8GM.T.'!M18","v":625392},{"$f":"'8GM.N.'!N20+'8GM.E.'!N20+'8GM.T.'!N18","v":13},{"$f":"'8GM.N.'!O20+'8GM.E.'!O20+'8GM.T.'!O18","v":6481159.25}]
["CHIHUAHUA",{"$f":"'8GM.N.'!B21+'8GM.E.'!B21+'8GM.T.'!B19","v":695584},{"$f":"'8GM.N.'!C21+'8GM.E.'!C21+'8GM.T.'!C19","v":718547798.55000222},{"$f":"'8GM.N.'!D21+'8GM.E.'!D21+'8GM.T.'!D19","v":172250180528},{"$f":"'8GM.N.'!E21+'8GM.E.'!E21+'8GM.T.'!E19","v":5975000},{"$f":"'8GM.N.'!F21+'8GM.E.'!F21+'8GM.T.'!F19","v":157686952839},{"$f":"'8GM.N.'!G21+'8GM.E.'!G21+'8GM.T.'!G19","v":94632913051},{"$f":"'8GM.N.'!H21+'8GM.E.'!H21+'8GM.T.'!H19","v":1868},{"$f":"'8GM.N.'!I21+'8GM.E.'!I21+'8GM.T.'!I19","v":389582397.0000003},{"$f":"'8GM.N.'!J21+'8GM.E.'!J21+'8GM.T.'!J19","v":12},{"$f":"'8GM.N.'!K21+'8GM.E.'!K21+'8GM.T.'!K19","v":724379.28},{"$f":"'8GM.N.'!L21+'8GM.E.'!L21+'8GM.T.'!L19","v":55},{"$f":"'8GM.N.'!M21+'8GM.E.'!M21+'8GM.T.'!M19","v":11444159.129999997},{"$f":"'8GM.N.'!N21+'8GM.E.'!N21+'8GM.T.'!N19","v":34},{"$f":"'8GM.N.'!O21+'8GM.E.'!O21+'8GM.T.'!O19","v":8876571.8800000008}]
["CIUDAD DE MEXICO",{"$f":"'8GM.N.'!B22+'8GM.E.'!B22+'8GM.T.'!B20","v":21622297},{"$f":"'8GM.N.'!C22+'8GM.E.'!C22+'8GM.T.'!C20","v":24279452291.178429},{"$f":"'8GM.N.'!D22+'8GM.E.'!D22+'8GM.T.'!D20","v":5264880140871},{"$f":"'8GM.N.'!E22+'8GM.E.'!E22+'8GM.T.'!E20","v":0},{"$f":"'8GM.N.'!F22+'8GM.E.'!F22+'8GM.T.'!F20","v":2146589869268},{"$f":"'8GM.N.'!G22+'8GM.E.'!G22+'8GM.T.'!G20","v":1736810884078},{"$f":"'8GM.N.'!H22+'8GM.E.'!H22+'8GM.T.'!H20","v":72940},{"$f":"'8GM.N.'!I22+'8GM.E.'!I22+'8GM.T.'!I20","v":16748455083.26012},{"$f":"'8GM.N.'!J22+'8GM.E.'!J22+'8GM.T.'!J20","v":2240},{"$f":"'8GM.N.'!K22+'8GM.E.'!K22+'8GM.T.'!K20","v":430615117.0600034},{"$f":"'8GM.N.'!L22+'8GM.E.'!L22+'8GM.T.'!L20","v":497},{"$f":"'8GM.N.'!M22+'8GM.E.'!M22+'8GM.T.'!M20","v":165161074.04999986},{"$f":"'8GM.N.'!N22+'8GM.E.'!N22+'8GM.T.'!N20","v":3151},{"$f":"'8GM.N.'!O22+'8GM.E.'!O22+'8GM.T.'!O20","v":892445246.0600003}]
["COAHUILA",{"$f":"'8GM.N.'!B23+'8GM.E.'!B23+'8GM.T.'!B21","v":1124789},{"$f":"'8GM.N.'!C23+'8GM.E.'!C23+'8GM.T.'!C21","v":691897839.51000488},{"$f":"'8GM.N.'!D23+'8GM.E.'!D23+'8GM.T.'!D21","v":149511337084},{"$f":"'8GM.N.'!E23+'8GM.E.'!E23+'8GM.T.'!E21","v":6525000},{"$f":"'8GM.N.'!F23+'8GM.E.'!F23+'8GM.T.'!F21","v":62436906736},{"$f":"'8GM.N.'!G23+'8GM.E.'!G23+'8GM.T.'!G21","v":68712979367},{"$f":"'8GM.N.'!H23+'8GM.E.'!H23+'8GM.T.'!H21","v":3916},{"$f":"'8GM.N.'!I23+'8GM.E.'!I23+'8GM.T.'!I21","v":375592282.03000027},{"$f":"'8GM.N.'!J23+'8GM.E.'!J23+'8GM.T.'!J21","v":8},{"$f":"'8GM.N.'!K23+'8GM.E.'!K23+'8GM.T.'!K21","v":454787.65},{"$f":"'8GM.N.'!L23+'8GM.E.'!L23+'8GM.T.'!L21","v":11},{"$f":"'8GM.N.'!M23+'8GM.E.'!M23+'8GM.T.'!M21","v":2012238.8},{"$f":"'8GM.N.'!N23+'8GM.E.'!N23+'8GM.T.'!N21","v":22},{"$f":"'8GM.N.'!O23+'8GM.E.'!O23+'8GM.T.'!O21","v":10706842.1}]
["COLIMA",{"$f":"'8GM.N.'!B24+'8GM.E.'!B24+'8GM.T.'!B22","v":219173},{"$f":"'8GM.N.'!C24+'8GM.E.'!C24+'8GM.T.'!C22","v":119526090.10000062},{"$f":"'8GM.N.'!D24+'8GM.E.'!D24+'8GM.T.'!D22","v":23126981334},{"$f":"'8GM.N.'!E24+'8GM.E.'!E24+'8GM.T.'!E22","v":1900000},{"$f":"'8GM.N.'!F24+'8GM.E.'!F24+'8GM.T.'!F22","v":5868763867},{"$f":"'8GM.N.'!G24+'8GM.E.'!G24+'8GM.T.'!G22","v":8402778572},{"$f":"'8GM.N.'!H24+'8GM.E.'!H24+'8GM.T.'!H22","v":1434},{"$f":"'8GM.N.'!I24+'8GM.E.'!I24+'8GM.T.'!I22","v":143911937.82999998},{"$f":"'8GM.N.'!J24+'8GM.E.'!J24+'8GM.T.'!J22","v":2},{"$f":"'8GM.N.'!K24+'8GM.E.'!K24+'8GM.T.'!K22","v":58438.729999999996},{"$f":"'8GM.N.'!L24+'8GM.E.'!L24+'8GM.T.'!L22","v":7},{"$f":"'8GM.N.'!M24+'8GM.E.'!M24+'8GM.T.'!M22","v":2006061.6},{"$f":"'8GM.N.'!N24+'8GM.E.'!N24+'8GM.T.'!N22","v":5},{"$f":"'8GM.N.'!O24+'8GM.E.'!O24+'8GM.T.'!O22","v":2360452.85}]
["DURANGO",{"$f":"'8GM.N.'!B25+'8GM.E.'!B25+'8GM.T.'!B23","v":1635261},{"$f":"'8GM.N.'!C25+'8GM.E.'!C25+'8GM.T.'!C23","v":498135009.96000093},{"$f":"'8GM.N.'!D25+'8GM.E.'!D25+'8GM.T.'!D23","v":95710510938},{"$f":"'8GM.N.'!E25+'8GM.E.'!E25+'8GM.T.'!E23","v":2100000},{"$f":"'8GM.N.'!F25+'8GM.E.'!F25+'8GM.T.'!F23","v":27089501120},{"$f":"'8GM.N.'!G25+'8GM.E.'!G25+'8GM.T.'!G23","v":41943031830},{"$f":"'8GM.N.'!H25+'8GM.E.'!H25+'8GM.T.'!H23","v":1377},{"$f":"'8GM.N.'!I25+'8GM.E.'!I25+'8GM.T.'!I23","v":348579022.12000018},{"$f":"'8GM.N.'!J25+'8GM.E.'!J25+'8GM.T.'!J23","v":2},{"$f":"'8GM.N.'!K25+'8GM.E.'!K25+'8GM.T.'!K23","v":50000},{"$f":"'8GM.N.'!L25+'8GM.E.'!L25+'8GM.T.'!L23","v":14},{"$f":"'8GM.N.'!M25+'8GM.E.'!M25+'8GM.T.'!M23","v":891769},{"$f":"'8GM.N.'!N25+'8GM.E.'!N25+'8GM.T.'!N23","v":16},{"$f":"'8GM.N.'!O25+'8GM.E.'!O25+'8GM.T.'!O23","v":7578699.7999999998}]
["ESTADO DE MEXICO",{"$f":"'8GM.N.'!B26+'8GM.E.'!B26+'8GM.T.'!B24","v":2536668},{"$f":"'8GM.N.'!C26+'8GM.E.'!C26+'8GM.T.'!C24","v":2787865440.150034},{"$f":"'8GM.N.'!D26+'8GM.E.'!D26+'8GM.T.'!D24","v":276904871974},{"$f":"'8GM.N.'!E26+'8GM.E.'!E26+'8GM.T.'!E24","v":56295081},{"$f":"'8GM.N.'!F26+'8GM.E.'!F26+'8GM.T.'!F24","v":151474430345},{"$f":"'8GM.N.'!G26+'8GM.E.'!G26+'8GM.T.'!G24","v":164879385053},{"$f":"'8GM.N.'!H26+'8GM.E.'!H26+'8GM.T.'!H24","v":9100},{"$f":"'8GM.N.'!I26+'8GM.E.'!I26+'8GM.T.'!I24","v":1222503731.2100031},{"$f":"'8GM.N.'!J26+'8GM.E.'!J26+'8GM.T.'!J24","v":231},{"$f":"'8GM.N.'!K26+'8GM.E.'!K26+'8GM.T.'!K24","v":54751500.770000048},{"$f":"'8GM.N.'!L26+'8GM.E.'!L26+'8GM.T.'!L24","v":64},{"$f":"'8GM.N.'!M26+'8GM.E.'!M26+'8GM.T.'!M24","v":13387838.120000001},{"$f":"'8GM.N.'!N26+'8GM.E.'!N26+'8GM.T.'!N24","v":139},{"$f":"'8GM.N.'!O26+'8GM.E.'!O26+'8GM.T.'!O24","v":21723952.189999998}]
["GUANAJUATO",{"$f":"'8GM.N.'!B27+'8GM.E.'!B27+'8GM.T.'!B25","v":1107098},{"$f":"'8GM.N.'!C27+'8GM.E.'!C27+'8GM.T.'!C25","v":912864179.30000126},{"$f":"'8GM.N.'!D27+'8GM.E.'!D27+'8GM.T.'!D25","v":157678674448},{"$f":"'8GM.N.'!E27+'8GM.E.'!E27+'8GM.T.'!E25","v":11450000},{"$f":"'8GM.N.'!F27+'8GM.E.'!F27+'8GM.T.'!F25","v":84196086041},{"$f":"'8GM.N.'!G27+'8GM.E.'!G27+'8GM.T.'!G25","v":75245057685},{"$f":"'8GM.N.'!H27+'8GM.E.'!H27+'8GM.T.'!H25","v":6567},{"$f":"'8GM.N.'!I27+'8GM.E.'!I27+'8GM.T.'!I25","v":660926564.51999915},{"$f":"'8GM.N.'!J27+'8GM.E.'!J27+'8GM.T.'!J25","v":13},{"$f":"'8GM.N.'!K27+'8GM.E.'!K27+'8GM.T.'!K25","v":2295325.0600000005},{"$f":"'8GM.N.'!L27+'8GM.E.'!L27+'8GM.T.'!L25","v":70},{"$f":"'8GM.N.'!M27+'8GM.E.'!M27+'8GM.T.'!M25","v":43620511.690000005},{"$f":"'8GM.N.'!N27+'8GM.E.'!N27+'8GM.T.'!N25","v":61},{"$f":"'8GM.N.'!O27+'8GM.E.'!O27+'8GM.T.'!O25","v":12087085.550000001}]
["GUERRERO",{"$f":"'8GM.N.'!B28+'8GM.E.'!B28+'8GM.T.'!B26","v":407381},{"$f":"'8GM.N.'!C28+'8GM.E.'!C28+'8GM.T.'!C26","v":283495715.23999971},{"$f":"'8GM.N.'!D28+'8GM.E.'!D28+'8GM.T.'!D26","v":29014381254},{"$f":"'8GM.N.'!E28+'8GM.E.'!E28+'8GM.T.'!E26","v":6225000},{"$f":"'8GM.N.'!F28+'8GM.E.'!F28+'8GM.T.'!F26","v":16516831434},{"$f":"'8GM.N.'!G28+'8GM.E.'!G28+'8GM.T.'!G26","v":12075445639},{"$f":"'8GM.N.'!H28+'8GM.E.'!H28+'8GM.T.'!H26","v":1031},{"$f":"'8GM.N.'!I28+'8GM.E.'!I28+'8GM.T.'!I26","v":121273027.16999997},{"$f":"'8GM.N.'!J28+'8GM.E.'!J28+'8GM.T.'!J26","v":4},{"$f":"'8GM.N.'!K28+'8GM.E.'!K28+'8GM.T.'!K26","v":95059.86},{"$f":"'8GM.N.'!L28+'8GM.E.'!L28+'8GM.T.'!L26","v":13},{"$f":"'8GM.N.'!M28+'8GM.E.'!M28+'8GM.T.'!M26","v":3332082.4},{"$f":"'8GM.N.'!N28+'8GM.E.'!N28+'8GM.T.'!N26","v":1},{"$f":"'8GM.N.'!O28+'8GM.E.'!O28+'8GM.T.'!O26","v":454890.82}]
["HIDALGO",{"$f":"'8GM.N.'!B29+'8GM.E.'!B29+'8GM.T.'!B27","v":349455},{"$f":"'8GM.N.'!C29+'8GM.E.'!C29+'8GM.T.'!C27","v":347600966.70000058},{"$f":"'8GM.N.'!D29+'8GM.E.'!D29+'8GM.T.'!D27","v":43038566764},{"$f":"'8GM.N.'!E29+'8GM.E.'!E29+'8GM.T.'!E27","v":3700000},{"$f":"'8GM.N.'!F29+'8GM.E.'!F29+'8GM.T.'!F27","v":13494159357},{"$f":"'8GM.N.'!G29+'8GM.E.'!G29+'8GM.T.'!G27","v":14862315704},{"$f":"'8GM.N.'!H29+'8GM.E.'!H29+'8GM.T.'!H27","v":1373},{"$f":"'8GM.N.'!I29+'8GM.E.'!I29+'8GM.T.'!I27","v":167480212.19},{"$f":"'8GM.N.'!J29+'8GM.E.'!J29+'8GM.T.'!J27","v":0},{"$f":"'8GM.N.'!K29+'8GM.E.'!K29+'8GM.T.'!K27","v":0},{"$f":"'8GM.N.'!L29+'8GM.E.'!L29+'8GM.T.'!L27","v":4},{"$f":"'8GM.N.'!M29+'8GM.E.'!M29+'8GM.T.'!M27","v":862767.44},{"$f":"'8GM.N.'!N29+'8GM.E.'!N29+'8GM.T.'!N27","v":10},{"$f":"'8GM.N.'!O29+'8GM.E.'!O29+'8GM.T.'!O27","v":4179214}]
["JALISCO",{"$f":"'8GM.N.'!B30+'8GM.E.'!B30+'8GM.T.'!B28","v":2023210},{"$f":"'8GM.N.'!C30+'8GM.E.'!C30+'8GM.T.'!C28","v":1853136912.7400796},{"$f":"'8GM.N.'!D30+'8GM.E.'!D30+'8GM.T.'!D28","v":320273271922},{"$f":"'8GM.N.'!E30+'8GM.E.'!E30+'8GM.T.'!E28","v":13600000},{"$f":"'8GM.N.'!F30+'8GM.E.'!F30+'8GM.T.'!F28","v":168113627487},{"$f":"'8GM.N.'!G30+'8GM.E.'!G30+'8GM.T.'!G28","v":158901258368},{"$f":"'8GM.N.'!H30+'8GM.E.'!H30+'8GM.T.'!H28","v":6601},{"$f":"'8GM.N.'!I30+'8GM.E.'!I30+'8GM.T.'!I28","v":1160192463.8600013},{"$f":"'8GM.N.'!J30+'8GM.E.'!J30+'8GM.T.'!J28","v":78},{"$f":"'8GM.N.'!K30+'8GM.E.'!K30+'8GM.T.'!K28","v":3104770.3600000003},{"$f":"'8GM.N.'!L30+'8GM.E.'!L30+'8GM.T.'!L28","v":60},{"$f":"'8GM.N.'!M30+'8GM.E.'!M30+'8GM.T.'!M28","v":22440345.560000006},{"$f":"'8GM.N.'!N30+'8GM.E.'!N30+'8GM.T.'!N28","v":134},{"$f":"'8GM.N.'!O30+'8GM.E.'!O30+'8GM.T.'!O28","v":56457233.529999986}]
["MICHOACAN",{"$f":"'8GM.N.'!B31+'8GM.E.'!B31+'8GM.T.'!B29","v":1767954},{"$f":"'8GM.N.'!C31+'8GM.E.'!C31+'8GM.T.'!C29","v":510430296.04998809},{"$f":"'8GM.N.'!D31+'8GM.E.'!D31+'8GM.T.'!D29","v":195532642345},{"$f":"'8GM.N.'!E31+'8GM.E.'!E31+'8GM.T.'!E29","v":9200000},{"$f":"'8GM.N.'!F31+'8GM.E.'!F31+'8GM.T.'!F29","v":27892982057},{"$f":"'8GM.N.'!G31+'8GM.E.'!G31+'8GM.T.'!G29","v":51685773545},{"$f":"'8GM.N.'!H31+'8GM.E.'!H31+'8GM.T.'!H29","v":4266},{"$f":"'8GM.N.'!I31+'8GM.E.'!I31+'8GM.T.'!I29","v":246041986.8300001},{"$f":"'8GM.N.'!J31+'8GM.E.'!J31+'8GM.T.'!J29","v":12},{"$f":"'8GM.N.'!K31+'8GM.E.'!K31+'8GM.T.'!K29","v":934432.08},{"$f":"'8GM.N.'!L31+'8GM.E.'!L31+'8GM.T.'!L29","v":25},{"$f":"'8GM.N.'!M31+'8GM.E.'!M31+'8GM.T.'!M29","v":2610000},{"$f":"'8GM.N.'!N31+'8GM.E.'!N31+'8GM.T.'!N29","v":5},{"$f":"'8GM.N.'!O31+'8GM.E.'!O31+'8GM.T.'!O29","v":4213430.63}]
["MORELOS",{"$f":"'8GM.N.'!B32+'8GM.E.'!B32+'8GM.T.'!B30","v":540228},{"$f":"'8GM.N.'!C32+'8GM.E.'!C32+'8GM.T.'!C30","v":404199451.81999815},{"$f":"'8GM.N.'!D32+'8GM.E.'!D32+'8GM.T.'!D30","v":83328074804},{"$f":"'8GM.N.'!E32+'8GM.E.'!E32+'8GM.T.'!E30","v":3100000},{"$f":"'8GM.N.'!F32+'8GM.E.'!F32+'8GM.T.'!F30","v":27508209264},{"$f":"'8GM.N.'!G32+'8GM.E.'!G32+'8GM.T.'!G30","v":21804058232},{"$f":"'8GM.N.'!H32+'8GM.E.'!H32+'8GM.T.'!H30","v":2122},{"$f":"'8GM.N.'!I32+'8GM.E.'!I32+'8GM.T.'!I30","v":218207230.79000014},{"$f":"'8GM.N.'!J32+'8GM.E.'!J32+'8GM.T.'!J30","v":31},{"$f":"'8GM.N.'!K32+'8GM.E.'!K32+'8GM.T.'!K30","v":8810204.8799999971},{"$f":"'8GM.N.'!L32+'8GM.E.'!L32+'8GM.T.'!L30","v":9},{"$f":"'8GM.N.'!M32+'8GM.E.'!M32+'8GM.T.'!M30","v":1587597.6},{"$f":"'8GM.N.'!N32+'8GM.E.'!N32+'8GM.T.'!N30","v":5},{"$f":"'8GM.N.'!O32+'8GM.E.'!O32+'8GM.T.'!O30","v":2362578.3200000003}]
["NAYARIT",{"$f":"'8GM.N.'!B33+'8GM.E.'!B33+'8GM.T.'!B31","v":200730},{"$f":"'8GM.N.'!C33+'8GM.E.'!C33+'8GM.T.'!C31","v":179560964.82999989},{"$f":"'8GM.N.'!D33+'8GM.E.'!D33+'8GM.T.'!D31","v":23518450991},{"$f":"'8GM.N.'!E33+'8GM.E.'!E33+'8GM.T.'!E31","v":3200000},{"$f":"'8GM.N.'!F33+'8GM.E.'!F33+'8GM.T.'!F31","v":8956240244},{"$f":"'8GM.N.'!G33+'8GM.E.'!G33+'8GM.T.'!G31","v":10974058742},{"$f":"'8GM.N.'!H33+'8GM.E.'!H33+'8GM.T.'!H31","v":785},{"$f":"'8GM.N.'!I33+'8GM.E.'!I33+'8GM.T.'!I31","v":91323516.070000112},{"$f":"'8GM.N.'!J33+'8GM.E.'!J33+'8GM.T.'!J31","v":2},{"$f":"'8GM.N.'!K33+'8GM.E.'!K33+'8GM.T.'!K31","v":45000},{"$f":"'8GM.N.'!L33+'8GM.E.'!L33+'8GM.T.'!L31","v":4},{"$f":"'8GM.N.'!M33+'8GM.E.'!M33+'8GM.T.'!M31","v":468623.02},{"$f":"'8GM.N.'!N33+'8GM.E.'!N33+'8GM.T.'!N31","v":8},{"$f":"'8GM.N.'!O33+'8GM.E.'!O33+'8GM.T.'!O31","v":4056593.04}]
["NUEVO LEON",{"$f":"'8GM.N.'!B34+'8GM.E.'!B34+'8GM.T.'!B32","v":5112567},{"$f":"'8GM.N.'!C34+'8GM.E.'!C34+'8GM.T.'!C32","v":5641287726.3301611},{"$f":"'8GM.N.'!D34+'8GM.E.'!D34+'8GM.T.'!D32","v":1283195987231},{"$f":"'8GM.N.'!E34+'8GM.E.'!E34+'8GM.T.'!E32","v":7400000},{"$f":"'8GM.N.'!F34+'8GM.E.'!F34+'8GM.T.'!F32","v":444376411274},{"$f":"'8GM.N.'!G34+'8GM.E.'!G34+'8GM.T.'!G32","v":885358583177},{"$f":"'8GM.N.'!H34+'8GM.E.'!H34+'8GM.T.'!H32","v":15017},{"$f":"'8GM.N.'!I34+'8GM.E.'!I34+'8GM.T.'!I32","v":3072021865.2299991},{"$f":"'8GM.N.'!J34+'8GM.E.'!J34+'8GM.T.'!J32","v":871},{"$f":"'8GM.N.'!K34+'8GM.E.'!K34+'8GM.T.'!K32","v":174407645.02000007},{"$f":"'8GM.N.'!L34+'8GM.E.'!L34+'8GM.T.'!L32","v":65},{"$f":"'8GM.N.'!M34+'8GM.E.'!M34+'8GM.T.'!M32","v":25302938.870000001},{"$f":"'8GM.N.'!N34+'8GM.E.'!N34+'8GM.T.'!N32","v":186},{"$f":"'8GM.N.'!O34+'8GM.E.'!O34+'8GM.T.'!O32","v":105612508.73000002}]
["OAXACA",{"$f":"'8GM.N.'!B35+'8GM.E.'!B35+'8GM.T.'!B33","v":291789},{"$f":"'8GM.N.'!C35+'8GM.E.'!C35+'8GM.T.'!C33","v":232605324.39000002},{"$f":"'8GM.N.'!D35+'8GM.E.'!D35+'8GM.T.'!D33","v":25711893209},{"$f":"'8GM.N.'!E35+'8GM.E.'!E35+'8GM.T.'!E33","v":0},{"$f":"'8GM.N.'!F35+'8GM.E.'!F35+'8GM.T.'!F33","v":9203648892},{"$f":"'8GM.N.'!G35+'8GM.E.'!G35+'8GM.T.'!G33","v":11613499848},{"$f":"'8GM.N.'!H35+'8GM.E.'!H35+'8GM.T.'!H33","v":2922},{"$f":"'8GM.N.'!I35+'8GM.E.'!I35+'8GM.T.'!I33","v":296786951.95000005},{"$f":"'8GM.N.'!J35+'8GM.E.'!J35+'8GM.T.'!J33","v":1},{"$f":"'8GM.N.'!K35+'8GM.E.'!K35+'8GM.T.'!K33","v":209360.83},{"$f":"'8GM.N.'!L35+'8GM.E.'!L35+'8GM.T.'!L33","v":16},{"$f":"'8GM.N.'!M35+'8GM.E.'!M35+'8GM.T.'!M33","v":1816775.2},{"$f":"'8GM.N.'!N35+'8GM.E.'!N35+'8GM.T.'!N33","v":0},{"$f":"'8GM.N.'!O35+'8GM.E.'!O35+'8GM.T.'!O33","v":0}]
["PUEBLA",{"$f":"'8GM.N.'!B36+'8GM.E.'!B36+'8GM.T.'!B34","v":693483},{"$f":"'8GM.N.'!C36+'8GM.E.'!C36+'8GM.T.'!C34","v":588915256.03000104},{"$f":"'8GM.N.'!D36+'8GM.E.'!D36+'8GM.T.'!D34","v":102141255147},{"$f":"'8GM.N.'!E36+'8GM.E.'!E36+'8GM.T.'!E34","v":6850000},{"$f":"'8GM.N.'!F36+'8GM.E.'!F36+'8GM.T.'!F34","v":56427083245},{"$f":"'8GM.N.'!G36+'8GM.E.'!G36+'8GM.T.'!G34","v":55324334792},{"$f":"'8GM.N.'!H36+'8GM.E.'!H36+'8GM.T.'!H34","v":2577},{"$f":"'8GM.N.'!I36+'8GM.E.'!I36+'8GM.T.'!I34","v":439729006.88000005},{"$f":"'8GM.N.'!J36+'8GM.E.'!J36+'8GM.T.'!J34","v":9},{"$f":"'8GM.N.'!K36+'8GM.E.'!K36+'8GM.T.'!K34","v":688175.77999999991},{"$f":"'8GM.N.'!L36+'8GM.E.'!L36+'8GM.T.'!L34","v":16},{"$f":"'8GM.N.'!M36+'8GM.E.'!M36+'8GM.T.'!M34","v":2797454.8},{"$f":"'8GM.N.'!N36+'8GM.E.'!N36+'8GM.T.'!N34","v":11},{"$f":"'8GM.N.'!O36+'8GM.E.'!O36+'8GM.T.'!O34","v":5510434.8700000001}]
["QUERETARO",{"$f":"'8GM.N.'!B37+'8GM.E.'!B37+'8GM.T.'!B35","v":868117},{"$f":"'8GM.N.'!C37+'8GM.E.'!C37+'8GM.T.'!C35","v":721558260.33000124},{"$f":"'8GM.N.'!D37+'8GM.E.'!D37+'8GM.T.'!D35","v":129512505581},{"$f":"'8GM.N.'!E37+'8GM.E.'!E37+'8GM.T.'!E35","v":5900000},{"$f":"'8GM.N.'!F37+'8GM.E.'!F37+'8GM.T.'!F35","v":110181729956},{"$f":"'8GM.N.'!G37+'8GM.E.'!G37+'8GM.T.'!G35","v":61490283027},{"$f":"'8GM.N.'!H37+'8GM.E.'!H37+'8GM.T.'!H35","v":7206},{"$f":"'8GM.N.'!I37+'8GM.E.'!I37+'8GM.T.'!I35","v":499403338.95999986},{"$f":"'8GM.N.'!J37+'8GM.E.'!J37+'8GM.T.'!J35","v":19},{"$f":"'8GM.N.'!K37+'8GM.E.'!K37+'8GM.T.'!K35","v":2859811.6599999997},{"$f":"'8GM.N.'!L37+'8GM.E.'!L37+'8GM.T.'!L35","v":29},{"$f":"'8GM.N.'!M37+'8GM.E.'!M37+'8GM.T.'!M35","v":9412210.4199999999},{"$f":"'8GM.N.'!N37+'8GM.E.'!N37+'8GM.T.'!N35","v":25},{"$f":"'8GM.N.'!O37+'8GM.E.'!O37+'8GM.T.'!O35","v":9026415.8100000005}]
["QUINTANA ROO",{"$f":"'8GM.N.'!B38+'8GM.E.'!B38+'8GM.T.'!B36","v":251103},{"$f":"'8GM.N.'!C38+'8GM.E.'!C38+'8GM.T.'!C36","v":358258767.02000183},{"$f":"'8GM.N.'!D38+'8GM.E.'!D38+'8GM.T.'!D36","v":41141925886},{"$f":"'8GM.N.'!E38+'8GM.E.'!E38+'8GM.T.'!E36","v":7300000},{"$f":"'8GM.N.'!F38+'8GM.E.'!F38+'8GM.T.'!F36","v":14251005888},{"$f":"'8GM.N.'!G38+'8GM.E.'!G38+'8GM.T.'!G36","v":25638439113},{"$f":"'8GM.N.'!H38+'8GM.E.'!H38+'8GM.T.'!H36","v":586},{"$f":"'8GM.N.'!I38+'8GM.E.'!I38+'8GM.T.'!I36","v":120401562.03000006},{"$f":"'8GM.N.'!J38+'8GM.E.'!J38+'8GM.T.'!J36","v":5},{"$f":"'8GM.N.'!K38+'8GM.E.'!K38+'8GM.T.'!K36","v":1350515.29},{"$f":"'8GM.N.'!L38+'8GM.E.'!L38+'8GM.T.'!L36","v":6},{"$f":"'8GM.N.'!M38+'8GM.E.'!M38+'8GM.T.'!M36","v":455366.2},{"$f":"'8GM.N.'!N38+'8GM.E.'!N38+'8GM.T.'!N36","v":10},{"$f":"'8GM.N.'!O38+'8GM.E.'!O38+'8GM.T.'!O36","v":2074194.98}]
["SAN LUIS POTOSI",{"$f":"'8GM.N.'!B39+'8GM.E.'!B39+'8GM.T.'!B37","v":453934},{"$f":"'8GM.N.'!C39+'8GM.E.'!C39+'8GM.T.'!C37","v":462686711.74999976},{"$f":"'8GM.N.'!D39+'8GM.E.'!D39+'8GM.T.'!D37","v":70831860358},{"$f":"'8GM.N.'!E39+'8GM.E.'!E39+'8GM.T.'!E37","v":3975000},{"$f":"'8GM.N.'!F39+'8GM.E.'!F39+'8GM.T.'!F37","v":31783090367},{"$f":"'8GM.N.'!G39+'8GM.E.'!G39+'8GM.T.'!G37","v":30410387331},{"$f":"'8GM.N.'!H39+'8GM.E.'!H39+'8GM.T.'!H37","v":1832},{"$f":"'8GM.N.'!I39+'8GM.E.'!I39+'8GM.T.'!I37","v":270647365.3599999},{"$f":"'8GM.N.'!J39+'8GM.E.'!J39+'8GM.T.'!J37","v":3},{"$f":"'8GM.N.'!K39+'8GM.E.'!K39+'8GM.T.'!K37","v":68409.22},{"$f":"'8GM.N.'!L39+'8GM.E.'!L39+'8GM.T.'!L37","v":20},{"$f":"'8GM.N.'!M39+'8GM.E.'!M39+'8GM.T.'!M37","v":5694690.71},{"$f":"'8GM.N.'!N39+'8GM.E.'!N39+'8GM.T.'!N37","v":9},{"$f":"'8GM.N.'!O39+'8GM.E.'!O39+'8GM.T.'!O37","v":5987050.9000000004}]
["SINALOA",{"$f":"'8GM.N.'!B40+'8GM.E.'!B40+'8GM.T.'!B38","v":789901},{"$f":"'8GM.N.'!C40+'8GM.E.'!C40+'8GM.T.'!C38","v":496130059.45000261},{"$f":"'8GM.N.'!D40+'8GM.E.'!D40+'8GM.T.'!D38","v":75552399731},{"$f":"'8GM.N.'!E40+'8GM.E.'!E40+'8GM.T.'!E38","v":10675000},{"$f":"'8GM.N.'!F40+'8GM.E.'!F40+'8GM.T.'!F38","v":31925585484},{"$f":"'8GM.N.'!G40+'8GM.E.'!G40+'8GM.T.'!G38","v":33503667596},{"$f":"'8GM.N.'!H40+'8GM.E.'!H40+'8GM.T.'!H38","v":2195},{"$f":"'8GM.N.'!I40+'8GM.E.'!I40+'8GM.T.'!I38","v":372892695.63000035},{"$f":"'8GM.N.'!J40+'8GM.E.'!J40+'8GM.T.'!J38","v":16},{"$f":"'8GM.N.'!K40+'8GM.E.'!K40+'8GM.T.'!K38","v":3433562.15},{"$f":"'8GM.N.'!L40+'8GM.E.'!L40+'8GM.T.'!L38","v":17},{"$f":"'8GM.N.'!M40+'8GM.E.'!M40+'8GM.T.'!M38","v":2639028},{"$f":"'8GM.N.'!N40+'8GM.E.'!N40+'8GM.T.'!N38","v":10},{"$f":"'8GM.N.'!O40+'8GM.E.'!O40+'8GM.T.'!O38","v":3625535.96}]
["SONORA",{"$f":"'8GM.N.'!B41+'8GM.E.'!B41+'8GM.T.'!B39","v":505069},{"$f":"'8GM.N.'!C41+'8GM.E.'!C41+'8GM.T.'!C39","v":572442903.24000156},{"$f":"'8GM.N.'!D41+'8GM.E.'!D41+'8GM.T.'!D39","v":77297961582},{"$f":"'8GM.N.'!E41+'8GM.E.'!E41+'8GM.T.'!E39","v":11900000},{"$f":"'8GM.N.'!F41+'8GM.E.'!F41+'8GM.T.'!F39","v":62905527242},{"$f":"'8GM.N.'!G41+'8GM.E.'!G41+'8GM.T.'!G39","v":39488881456},{"$f":"'8GM.N.'!H41+'8GM.E.'!H41+'8GM.T.'!H39","v":1682},{"$f":"'8GM.N.'!I41+'8GM.E.'!I41+'8GM.T.'!I39","v":273155079.19000024},{"$f":"'8GM.N.'!J41+'8GM.E.'!J41+'8GM.T.'!J39","v":18},{"$f":"'8GM.N.'!K41+'8GM.E.'!K41+'8GM.T.'!K39","v":1517770.35},{"$f":"'8GM.N.'!L41+'8GM.E.'!L41+'8GM.T.'!L39","v":28},{"$f":"'8GM.N.'!M41+'8GM.E.'!M41+'8GM.T.'!M39","v":6550888.379999999},{"$f":"'8GM.N.'!N41+'8GM.E.'!N41+'8GM.T.'!N39","v":40},{"$f":"'8GM.N.'!O41+'8GM.E.'!O41+'8GM.T.'!O39","v":23820980.710000001}]
["TABASCO",{"$f":"'8GM.N.'!B42+'8GM.E.'!B42+'8GM.T.'!B40","v":321152},{"$f":"'8GM.N.'!C42+'8GM.E.'!C42+'8GM.T.'!C40","v":415733440.25999916},{"$f":"'8GM.N.'!D42+'8GM.E.'!D42+'8GM.T.'!D40","v":46666865744},{"$f":"'8GM.N.'!E42+'8GM.E.'!E42+'8GM.T.'!E40","v":4700000},{"$f":"'8GM.N.'!F42+'8GM.E.'!F42+'8GM.T.'!F40","v":18639204872},{"$f":"'8GM.N.'!G42+'8GM.E.'!G42+'8GM.T.'!G40","v":16580421311},{"$f":"'8GM.N.'!H42+'8GM.E.'!H42+'8GM.T.'!H40","v":1519},{"$f":"'8GM.N.'!I42+'8GM.E.'!I42+'8GM.T.'!I40","v":237227749.13000017},{"$f":"'8GM.N.'!J42+'8GM.E.'!J42+'8GM.T.'!J40","v":1},{"$f":"'8GM.N.'!K42+'8GM.E.'!K42+'8GM.T.'!K40","v":25000},{"$f":"'8GM.N.'!L42+'8GM.E.'!L42+'8GM.T.'!L40","v":24},{"$f":"'8GM.N.'!M42+'8GM.E.'!M42+'8GM.T.'!M40","v":5493451.04},{"$f":"'8GM.N.'!N42+'8GM.E.'!N42+'8GM.T.'!N40","v":88},{"$f":"'8GM.N.'!O42+'8GM.E.'!O42+'8GM.T.'!O40","v":29926815.030000001}]
["TAMAULIPAS",{"$f":"'8GM.N.'!B43+'8GM.E.'!B43+'8GM.T.'!B41","v":590658},{"$f":"'8GM.N.'!C43+'8GM.E.'!C43+'8GM.T.'!C41","v":532589176.48999882},{"$f":"'8GM.N.'!D43+'8GM.E.'!D43+'8GM.T.'!D41","v":94141354017},{"$f":"'8GM.N.'!E43+'8GM.E.'!E43+'8GM.T.'!E41","v":7889029},{"$f":"'8GM.N.'!F43+'8GM.E.'!F43+'8GM.T.'!F41","v":53594292962},{"$f":"'8GM.N.'!G43+'8GM.E.'!G43+'8GM.T.'!G41","v":39378918298},{"$f":"'8GM.N.'!H43+'8GM.E.'!H43+'8GM.T.'!H41","v":1943},{"$f":"'8GM.N.'!I43+'8GM.E.'!I43+'8GM.T.'!I41","v":305596865.34000003},{"$f":"'8GM.N.'!J43+'8GM.E.'!J43+'8GM.T.'!J41","v":7},{"$f":"'8GM.N.'!K43+'8GM.E.'!K43+'8GM.T.'!K41","v":743959.82000000007},{"$f":"'8GM.N.'!L43+'8GM.E.'!L43+'8GM.T.'!L41","v":29},{"$f":"'8GM.N.'!M43+'8GM.E.'!M43+'8GM.T.'!M41","v":4394783.2699999996},{"$f":"'8GM.N.'!N43+'8GM.E.'!N43+'8GM.T.'!N41","v":23},{"$f":"'8GM.N.'!O43+'8GM.E.'!O43+'8GM.T.'!O41","v":13211624.91}]
["TLAXCALA",{"$f":"'8GM.N.'!B44+'8GM.E.'!B44+'8GM.T.'!B42","v":166284},{"$f":"'8GM.N.'!C44+'8GM.E.'!C44+'8GM.T.'!C42","v":181764523.25999993},{"$f":"'8GM.N.'!D44+'8GM.E.'!D44+'8GM.T.'!D42","v":23628063902},{"$f":"'8GM.N.'!E44+'8GM.E.'!E44+'8GM.T.'!E42","v":1900000},{"$f":"'8GM.N.'!F44+'8GM.E.'!F44+'8GM.T.'!F42","v":10992111061},{"$f":"'8GM.N.'!G44+'8GM.E.'!G44+'8GM.T.'!G42","v":10248986059},{"$f":"'8GM.N.'!H44+'8GM.E.'!H44+'8GM.T.'!H42","v":577},{"$f":"'8GM.N.'!I44+'8GM.E.'!I44+'8GM.T.'!I42","v":57792227.719999999},{"$f":"'8GM.N.'!J44+'8GM.E.'!J44+'8GM.T.'!J42","v":2},{"$f":"'8GM.N.'!K44+'8GM.E.'!K44+'8GM.T.'!K42","v":50000},{"$f":"'8GM.N.'!L44+'8GM.E.'!L44+'8GM.T.'!L42","v":3},{"$f":"'8GM.N.'!M44+'8GM.E.'!M44+'8GM.T.'!M42","v":280098.64},{"$f":"'8GM.N.'!N44+'8GM.E.'!N44+'8GM.T.'!N42","v":4},{"$f":"'8GM.N.'!O44+'8GM.E.'!O44+'8GM.T.'!O42","v":794960.73}]
["VERACRUZ",{"$f":"'8GM.N.'!B45+'8GM.E.'!B45+'8GM.T.'!B43","v":974229},{"$f":"'8GM.N.'!C45+'8GM.E.'!C45+'8GM.T.'!C43","v":988364859.53999817},{"$f":"'8GM.N.'!D45+'8GM.E.'!D45+'8GM.T.'!D43","v":175598277802},{"$f":"'8GM.N.'!E45+'8GM.E.'!E45+'8GM.T.'!E43","v":0},{"$f":"'8GM.N.'!F45+'8GM.E.'!F45+'8GM.T.'!F43","v":125093001539},{"$f":"'8GM.N.'!G45+'8GM.E.'!G45+'8GM.T.'!G43","v":129250878514},{"$f":"'8GM.N.'!H45+'8GM.E.'!H45+'8GM.T.'!H43","v":4897},{"$f":"'8GM.N.'!I45+'8GM.E.'!I45+'8GM.T.'!I43","v":846181029.5899992},{"$f":"'8GM.N.'!J45+'8GM.E.'!J45+'8GM.T.'!J43","v":5},{"$f":"'8GM.N.'!K45+'8GM.E.'!K45+'8GM.T.'!K43","v":1562593.03},{"$f":"'8GM.N.'!L45+'8GM.E.'!L45+'8GM.T.'!L43","v":29},{"$f":"'8GM.N.'!M45+'8GM.E.'!M45+'8GM.T.'!M43","v":23121524.66},{"$f":"'8GM.N.'!N45+'8GM.E.'!N45+'8GM.T.'!N43","v":69},{"$f":"'8GM.N.'!O45+'8GM.E.'!O45+'8GM.T.'!O43","v":50746616.570000008}]
["YUCATAN",{"$f":"'8GM.N.'!B46+'8GM.E.'!B46+'8GM.T.'!B44","v":338039},{"$f":"'8GM.N.'!C46+'8GM.E.'!C46+'8GM.T.'!C44","v":437552576.78000033},{"$f":"'8GM.N.'!D46+'8GM.E.'!D46+'8GM.T.'!D44","v":62766119561},{"$f":"'8GM.N.'!E46+'8GM.E.'!E46+'8GM.T.'!E44","v":3925000},{"$f":"'8GM.N.'!F46+'8GM.E.'!F46+'8GM.T.'!F44","v":16157375336},{"$f":"'8GM.N.'!G46+'8GM.E.'!G46+'8GM.T.'!G44","v":23052769860},{"$f":"'8GM.N.'!H46+'8GM.E.'!H46+'8GM.T.'!H44","v":1110},{"$f":"'8GM.N.'!I46+'8GM.E.'!I46+'8GM.T.'!I44","v":191001884.9499999},{"$f":"'8GM.N.'!J46+'8GM.E.'!J46+'8GM.T.'!J44","v":11},{"$f":"'8GM.N.'!K46+'8GM.E.'!K46+'8GM.T.'!K44","v":577775.67999999993},{"$f":"'8GM.N.'!L46+'8GM.E.'!L46+'8GM.T.'!L44","v":10},{"$f":"'8GM.N.'!M46+'8GM.E.'!M46+'8GM.T.'!M44","v":1295887.2799999998},{"$f":"'8GM.N.'!N46+'8GM.E.'!N46+'8GM.T.'!N44","v":2},{"$f":"'8GM.N.'!O46+'8GM.E.'!O46+'8GM.T.'!O44","v":791385}]
["ZACATECAS",{"$f":"'8GM.N.'!B47+'8GM.E.'!B47+'8GM.T.'!B45","v":179877},{"$f":"'8GM.N.'!C47+'8GM.E.'!C47+'8GM.T.'!C45","v":167267784.10000044},{"$f":"'8GM.N.'!D47+'8GM.E.'!D47+'8GM.T.'!D45","v":28011093687},{"$f":"'8GM.N.'!E47+'8GM.E.'!E47+'8GM.T.'!E45","v":1900000},{"$f":"'8GM.N.'!F47+'8GM.E.'!F47+'8GM.T.'!F45","v":9103518109},{"$f":"'8GM.N.'!G47+'8GM.E.'!G47+'8GM.T.'!G45","v":9468724691},{"$f":"'8GM.N.'!H47+'8GM.E.'!H47+'8GM.T.'!H45","v":631},{"$f":"'8GM.N.'!I47+'8GM.E.'!I47+'8GM.T.'!I45","v":97533769.189999998},{"$f":"'8GM.N.'!J47+'8GM.E.'!J47+'8GM.T.'!J45","v":1},{"$f":"'8GM.N.'!K47+'8GM.E.'!K47+'8GM.T.'!K45","v":25000},{"$f":"'8GM.N.'!L47+'8GM.E.'!L47+'8GM.T.'!L45","v":15},{"$f":"'8GM.N.'!M47+'8GM.E.'!M47+'8GM.T.'!M45","v":3171206.86},{"$f":"'8GM.N.'!N47+'8GM.E.'!N47+'8GM.T.'!N45","v":3},{"$f":"'8GM.N.'!O47+'8GM.E.'!O47+'8GM.T.'!O45","v":3493224.71}]
["EXTRANJERO",{"$f":"'8GM.N.'!B48+'8GM.E.'!B48+'8GM.T.'!B46","v":3660},{"$f":"'8GM.N.'!C48+'8GM.E.'!C48+'8GM.T.'!C46","v":27842670.819999997},{"$f":"'8GM.N.'!D48+'8GM.E.'!D48+'8GM.T.'!D46","v":2350114595},{"$f":"'8GM.N.'!E48+'8GM.E.'!E48+'8GM.T.'!E46","v":0},{"$f":"'8GM.N.'!F48+'8GM.E.'!F48+'8GM.T.'!F46","v":2211008000},{"$f":"'8GM.N.'!G48+'8GM.E.'!G48+'8GM.T.'!G46","v":645718886},{"$f":"'8GM.N.'!H48+'8GM.E.'!H48+'8GM.T.'!H46","v":63},{"$f":"'8GM.N.'!I48+'8GM.E.'!I48+'8GM.T.'!I46","v":41178407.710000008},{"$f":"'8GM.N.'!J48+'8GM.E.'!J48+'8GM.T.'!J46","v":1},{"$f":"'8GM.N.'!K48+'8GM.E.'!K48+'8GM.T.'!K46","v":665792.84},{"$f":"'8GM.N.'!L48+'8GM.E.'!L48+'8GM.T.'!L46","v":1},{"$f":"'8GM.N.'!M48+'8GM.E.'!M48+'8GM.T.'!M46","v":1175904},{"$f":"'8GM.N.'!N48+'8GM.E.'!N48+'8GM.T.'!N46","v":2},{"$f":"'8GM.N.'!O48+'8GM.E.'!O48+'8GM.T.'!O46","v":257632.78999999998}]
["DESCONOCIDA",{"$f":"'8GM.N.'!B49+'8GM.E.'!B49+'8GM.T.'!B47","v":0},{"$f":"'8GM.N.'!C49+'8GM.E.'!C49+'8GM.T.'!C47","v":0},{"$f":"'8GM.N.'!D49+'8GM.E.'!D49+'8GM.T.'!D47","v":0},{"$f":"'8GM.N.'!E49+'8GM.E.'!E49+'8GM.T.'!E47","v":0},{"$f":"'8GM.N.'!F49+'8GM.E.'!F49+'8GM.T.'!F47","v":0},{"$f":"'8GM.N.'!G49+'8GM.E.'!G49+'8GM.T.'!G47","v":0},{"$f":"'8GM.N.'!H49+'8GM.E.'!H49+'8GM.T.'!H47","v":0},{"$f":"'8GM.N.'!I49+'8GM.E.'!I49+'8GM.T.'!I47","v":0},{"$f":"'8GM.N.'!J49+'8GM.E.'!J49+'8GM.T.'!J47","v":0},{"$f":"'8GM.N.'!K49+'8GM.E.'!K49+'8GM.T.'!K47","v":0},{"$f":"'8GM.N.'!L49+'8GM.E.'!L49+'8GM.T.'!L47","v":0},{"$f":"'8GM.N.'!M49+'8GM.E.'!M49+'8GM.T.'!M47","v":0},{"$f":"'8GM.N.'!N49+'8GM.E.'!N49+'8GM.T.'!N47","v":0},{"$f":"'8GM.N.'!O49+'8GM.E.'!O49+'8GM.T.'!O47","v":0}]
["PÓLIZA CONCENTRADA*",{"$f":"'8GM.N.'!B50+'8GM.E.'!B50+'8GM.T.'!B48","v":41821178},{"$f":"'8GM.N.'!C50+'8GM.E.'!C50+'8GM.T.'!C48","v":10476504970.129997},{"$f":"'8GM.N.'!D50+'8GM.E.'!D50+'8GM.T.'!D48","v":1310769628000},{"$f":"'8GM.N.'!E50+'8GM.E.'!E50+'8GM.T.'!E48","v":0},{"$f":"'8GM.N.'!F50+'8GM.E.'!F50+'8GM.T.'!F48","v":324000326063},{"$f":"'8GM.N.'!G50+'8GM.E.'!G50+'8GM.T.'!G48","v":564810320477},{"$f":"'8GM.N.'!H50+'8GM.E.'!H50+'8GM.T.'!H48","v":54854},{"$f":"'8GM.N.'!I50+'8GM.E.'!I50+'8GM.T.'!I48","v":1715243891.4504857},{"$f":"'8GM.N.'!J50+'8GM.E.'!J50+'8GM.T.'!J48","v":0},{"$f":"'8GM.N.'!K50+'8GM.E.'!K50+'8GM.T.'!K48","v":0},{"$f":"'8GM.N.'!L50+'8GM.E.'!L50+'8GM.T.'!L48","v":99},{"$f":"'8GM.N.'!M50+'8GM.E.'!M50+'8GM.T.'!M48","v":1847369.6199999978},{"$f":"'8GM.N.'!N50+'8GM.E.'!N50+'8GM.T.'!N48","v":104},{"$f":"'8GM.N.'!O50+'8GM.E.'!O50+'8GM.T.'!O48","v":15997744.159999998}]
["No Especificado",{"$f":"'8GM.N.'!B51+'8GM.E.'!B51+'8GM.T.'!B49","v":109585},{"$f":"'8GM.N.'!C51+'8GM.E.'!C51+'8GM.T.'!C49","v":4681914020.0300016},{"$f":"'8GM.N.'!D51+'8GM.E.'!D51+'8GM.T.'!D49","v":0},{"$f":"'8GM.N.'!E51+'8GM.E.'!E51+'8GM.T.'!E49","v":0},{"$f":"'8GM.N.'!F51+'8GM.E.'!F51+'8GM.T.'!F49","v":0},{"$f":"'8GM.N.'!G51+'8GM.E.'!G51+'8GM.T.'!G49","v":0},{"$f":"'8GM.N.'!H51+'8GM.E.'!H51+'8GM.T.'!H49","v":0},{"$f":"'8GM.N.'!I51+'8GM.E.'!I51+'8GM.T.'!I49","v":0},{"$f":"'8GM.N.'!J51+'8GM.E.'!J51+'8GM.T.'!J49","v":0},{"$f":"'8GM.N.'!K51+'8GM.E.'!K51+'8GM.T.'!K49","v":0},{"$f":"'8GM.N.'!L51+'8GM.E.'!L51+'8GM.T.'!L49","v":0},{"$f":"'8GM.N.'!M51+'8GM.E.'!M51+'8GM.T.'!M49","v":0},{"$f":"'8GM.N.'!N51+'8GM.E.'!N51+'8GM.T.'!N49","v":0},{"$f":"'8GM.N.'!O51+'8GM.E.'!O51+'8GM.T.'!O49","v":0}]
["      TOTAL",{"$f":"SUM(B16:B51)","v":89375345},{"$f":"SUM(C16:C51)","v":62848140189.508705},10682682310636,212059110,4347767143108,4534085907475,218843,31839854155.73061,3642,695238339.2000035,1269,372808056.62999988,4265,1334345894.6900005]
["* PARA AQUELLAS PÓLIZAS QUE POR RAZONES ADMINISTRATIVAS, COMERCIALES O DE CUALQUIER OTRA ÍNDOLE, PERO QUE SE ENCUENTRE DOCUMENTADA EN SUS NOTAS TÉCNICAS CORRESPONDIENTES, Y LA INSTITUCIÓN NO TENGA A SU DISPOSICIÓN EL DETALLE DE LA INFORMACION DE CADA ASEGURADO, SE REPORTARÉ EN ESTE APARTADO LA INFORMACIÓN. CABE MENCIONAR QUE LAS PÓLIZAS AUTO-ADMINISTRADAS NO DEBERÁN SER CONSIDERADAS EN ESTE CAMPO."]
["**Incluye pérdidas orgánicas, muerte accidental y muerte colectiva"]
[]
["PÓLIZA NO CONCENTRADA",{"$f":"B52-B50","v":47554167},{"$f":"C52-C50","v":52371635219.378708},9371912682636,212059110,4023766817045,3969275586998,163989,30124610264.280125,3642,695238339.2000035,1170,370960687.00999987,4161,1318348150.5300004]

{"sheet":"8GM.N.","index":60,"n_rows":56,"n_cols":15,"rows_kept":56,"cut":false,"hidden":false,"merged":[[7,0,7,14],[1,0,1,14],[2,0,2,14],[3,0,3,14],[5,0,5,14],[6,0,6,14],[8,0,8,14],[9,0,9,14],[11,0,14,0],[11,1,14,1],[11,2,14,2],[11,3,11,6],[11,7,11,14],[12,3,14,3],[12,4,14,4],[52,0,52,14],[12,5,14,5],[12,6,14,6],[12,7,13,8],[12,9,13,10],[12,11,13,12],[12,13,13,14]]}
[]
["8. SEGURO DIRECTO EMITIDO Y SINIESTROS EN LA OPERACION DE VIDA "]
["POR TIPO DE SEGURO CONTRATADO Y ENTIDAD"]
[]
[]
[{"$f":"'1 Total'!B3","v":"DICIEMBRE DE 2021"}]
[]
["VIDA GRUPO"]
[]
["MONEDA NACIONAL"]
[null,3,4,5,6,7,8,3,4,5,6,7,8,9,10]
["ENTIDAD","PÓLIZAS\nO\nCERTIFICADOS","PRIMA\nEMITIDA DIRECTA","SUMA  ASEGURADA",null,null,null,"SINIESTROS  DIRECTOS"]
[null,null,null,"MUERTE","SOBREVIVENCIA","MUERTE\nACCIDENTAL**","INVALIDEZ","MUERTE ",null,"SOBREVIVENCIA",null,"MUERTE\nACCIDENTAL**",null,"INVALIDEZ"]
[]
[null,null,null,null,null,null,null,"NÚMERO","MONTO","NÚMERO","MONTO","NÚMERO","MONTO","NÚMERO","MONTO"]
["AGUASCALIENTES",297934,470271610.7999981,70490647316,null,34982567050,50340224209,855,275219192.54999983,0,null,8,2153723.7399999998,32,15127452.27]
["BAJA CALIFORNIA NORTE",547615,656612626.63999903,110245239952,5300000,64947818407,47700831028,1627,362185330.74000043,0,null,10,2198271.11,30,7609509.0300000012]
["BAJA CALIFORNIA SUR",128161,161182104.97,25067883934,1425000,8879009357,13185105213,435,75615733.150000006,0,null,4,1556023.42,8,4320058.4399999995]
["CAMPECHE",137254,254169579.20999995,27606524934,1750000,12767865550,14092821843,684,100849261.22000003,0,null,1,1000000,5,2427799.0700000003]
["CHIAPAS",563895,735765769.77999902,65186502872,6000000,7520402395,11572050542,2251,295121492.88000005,6,150000,6,625392,13,6481159.25]
["CHIHUAHUA",695575,718547798.55000222,172250180528,5975000,157686952839,94632913051,1868,389582397.0000003,3,75000,55,11444159.129999997,34,8876571.8800000008]
["CIUDAD DE MEXICO",21619898,24270264533.668427,5264871184446,null,2146589869268,1736810591336,72930,16746364023.08012,0,null,497,165161074.04999986,3151,892445246.0600003]
["COAHUILA",1124783,691897839.51000488,149511337084,6525000,62436906736,68712979367,3916,375592282.03000027,2,50000,11,2012238.8,22,10706842.1]
["COLIMA",219171,119526090.10000062,23126981334,1900000,5868763867,8402778572,1434,143911937.82999998,0,null,7,2006061.6,5,2360452.85]
["DURANGO",1635261,498135009.96000093,95710510938,2100000,27089501120,41943031830,1377,348579022.12000018,2,50000,14,891769,16,7578699.7999999998]
["ESTADO DE MEXICO",2536468,2787865440.150034,276904871974,56295081,151474430345,164879385053,9100,1222503731.2100031,27,675000,64,13387838.120000001,139,21723952.189999998]
["GUANAJUATO",1107090,911851602.28000128,157678674448,11450000,84196086041,75245057685,6567,660926564.51999915,5,125000,70,43620511.690000005,61,12087085.550000001]
["GUERRERO",407379,283495715.23999971,29014381254,6225000,16516831434,12075445639,1031,121273027.16999997,2,45000,13,3332082.4,1,454890.82]
["HIDALGO",349455,347600966.70000058,43038566764,3700000,13494159357,14862315704,1373,167480212.19,0,null,4,862767.44,10,4179214]
["JALISCO",2023139,1853132115.4600797,320273183247,13600000,168113627487,158901169693,6601,1160192463.8600013,8,200000,60,22440345.560000006,134,56457233.529999986]
["MICHOACAN",1767948,510430296.04998809,195532642345,9200000,27892982057,51685773545,4266,246041986.8300001,6,150000,25,2610000,5,4213430.63]
["MORELOS",540201,404199451.81999815,83328074804,3100000,27508209264,21804058232,2122,218207230.79000014,1,25000,9,1587597.6,5,2362578.3200000003]
["NAYARIT",200730,179560964.82999989,23518450991,3200000,8956240244,10974058742,785,91323516.070000112,2,45000,4,468623.02,8,4056593.04]
["NUEVO LEON",5112022,5621190226.2601614,1283195987231,7400000,444376411274,885358583177,15017,3072021865.2299991,322,81554847.619999975,65,25302938.870000001,186,105612508.73000002]
["OAXACA",291788,232605324.39000002,25711893209,null,9203648892,11613499848,2922,296786951.95000005,0,null,16,1816775.2,0]
["PUEBLA",693476,588915256.03000104,102141255147,6850000,56427083245,55324334792,2577,439729006.88000005,2,50000,16,2797454.8,11,5510434.8700000001]
["QUERETARO",868100,721558260.33000124,129512505581,5900000,110181729956,61490283027,7206,499403338.95999986,2,50000,29,9412210.4199999999,25,9026415.8100000005]
["QUINTANA ROO",251094,358232090.76000184,41141432049,7300000,14251005888,25637945276,586,120401562.03000006,1,25000,6,455366.2,10,2074194.98]
["SAN LUIS POTOSI",453932,462686711.74999976,70831860358,3975000,31783090367,30410387331,1832,270647365.3599999,1,25000,20,5694690.71,9,5987050.9000000004]
["SINALOA",789890,496130059.45000261,75552399731,10675000,31925585484,33503667596,2195,372892695.63000035,5,125000,17,2639028,10,3625535.96]
["SONORA",505058,572442903.24000156,77297961582,11900000,62905527242,39488881456,1682,273155079.19000024,5,125000,28,6550888.379999999,40,23820980.710000001]
["TABASCO",321152,415733440.25999916,46666865744,4700000,18639204872,16580421311,1519,237227749.13000017,1,25000,24,5493451.04,88,29926815.030000001]
["TAMAULIPAS",590653,532589176.48999882,94141354017,7889029,53594292962,39378918298,1943,305596865.34000003,2,50000,29,4394783.2699999996,23,13211624.91]
["TLAXCALA",166284,181764523.25999993,23628063902,1900000,10992111061,10248986059,577,57792227.719999999,2,50000,3,280098.64,4,794960.73]
["VERACRUZ",974224,988364859.53999817,175598277802,null,125093001539,129250878514,4897,846181029.5899992,0,null,29,23121524.66,69,50746616.570000008]
["YUCATAN",338035,437552576.78000033,62766119561,3925000,16157375336,23052769860,1110,191001884.9499999,7,170000,10,1295887.2799999998,2,791385]
["ZACATECAS",179877,167267784.10000044,28011093687,1900000,9103518109,9468724691,631,97533769.189999998,1,25000,15,3171206.86,3,3493224.71]
["EXTRANJERO",3659,27842670.819999997,2350114595,null,2211008000,645718886,63,41178407.710000008,0,null,1,1175904,2,257632.78999999998]
["DESCONOCIDA",null,null,null,null,null,null,0,null,0,null,0,null,0]
["PÓLIZA CONCENTRADA*",41821099,10190670709.239998,1310607937120,null,324000326063,564810320477,54854,1715243891.4504857,0,null,99,1847369.6199999978,104,15997744.159999998]
["No Especificado",109585,4681914020.0300016,null,null,null,null,0,null,0,null,0,null,0]
["      TOTAL",{"$f":"SUM(B16:B51)","v":89371885},{"$f":"SUM(C16:C51)","v":62531970108.4487},10682510960481,212059110,4347767143108,4534084911883,218833,31837763095.55061,415,83864847.619999975,1269,372808056.62999988,4265,1334345894.6900005]
["* PARA AQUELLAS PÓLIZAS QUE POR RAZONES ADMINISTRATIVAS, COMERCIALES O DE CUALQUIER OTRA ÍNDOLE, PERO QUE SE ENCUENTRE DOCUMENTADA EN SUS NOTAS TÉCNICAS CORRESPONDIENTES, Y LA INSTITUCIÓN NO TENGA A SU DISPOSICIÓN EL DETALLE DE LA INFORMACION DE CADA ASEGURADO, SE REPORTARÉ EN ESTE APARTADO LA INFORMACIÓN. CABE MENCIONAR QUE LAS PÓLIZAS AUTO-ADMINISTRADAS NO DEBERÁN SER CONSIDERADAS EN ESTE CAMPO."]
["**Incluye pérdidas orgánicas, muerte accidental y muerte colectiva"]
[]
["PÓLIZA NO CONCENTRADA",{"$f":"B52-B50","v":47550786},{"$f":"C52-C50","v":52341299399.208702},9371903023361,212059110,4023766817045,3969274591406,163979,30122519204.100124,415,83864847.619999975,1170,370960687.00999987,4161,{"$f":"O52-O50","v":1318348150.5300004}]

{"sheet":"8GM.E.","index":61,"n_rows":56,"n_cols":15,"rows_kept":56,"cut":false,"hidden":false,"merged":[[53,0,53,14],[54,0,54,14],[7,0,7,14],[1,0,1,14],[2,0,2,14],[3,0,3,14],[5,0,5,14],[6,0,6,14],[8,0,8,14],[9,0,9,14],[11,0,14,0],[11,1,14,1],[11,2,14,2],[11,3,11,6],[11,7,11,14],[12,3,14,3],[12,4,14,4],[52,0,52,14],[12,5,14,5],[12,6,14,6],[12,7,13,8],[12,9,13,10],[12,11,13,12],[12,13,13,14]]}
[]
["8. SEGURO DIRECTO EMITIDO Y SINIESTROS EN LA OPERACION DE VIDA "]
["POR TIPO DE SEGURO CONTRATADO Y ENTIDAD"]
[]
[]
[{"$f":"'1 Total'!B3","v":"DICIEMBRE DE 2021"}]
[]
["VIDA GRUPO"]
[]
["MONEDA EXTRANJERA"]
[null,3,4,5,6,7,8,3,4,5,6,7,8,9,10]
["ENTIDAD","PÓLIZAS\nO\nCERTIFICADOS","PRIMA\nEMITIDA DIRECTA","SUMA  ASEGURADA",null,null,null,"SINIESTROS  DIRECTOS"]
[null,null,null,"MUERTE","SOBREVIVENCIA","MUERTE\nACCIDENTAL**","INVALIDEZ","MUERTE ",null,"SOBREVIVENCIA",null,"MUERTE\nACCIDENTAL**",null,"INVALIDEZ"]
[]
[null,null,null,null,null,null,null,"NÚMERO","MONTO","NÚMERO","MONTO","NÚMERO","MONTO","NÚMERO","MONTO"]
["AGUASCALIENTES",0,0,0,0,0,0,0,0,0,0,0,0,0,0]
["BAJA CALIFORNIA NORTE",0,0,0,0,0,0,0,0,0,0,0,0,0,0]
["BAJA CALIFORNIA SUR",0,0,0,0,0,0,0,0,0,0,0,0,0,0]
["CAMPECHE",2,6512.03,120338,0,0,120338,0,0,0,0,0,0,0,0]
["CHIAPAS",0,0,0,0,0,0,0,0,0,0,0,0,0,0]
["CHIHUAHUA",0,0,0,0,0,0,0,0,0,0,0,0,0,0]
["CIUDAD DE MEXICO",222,625065.76999999967,8956425,0,0,292742,0,0,0,0,0,0,0,0]
["COAHUILA",0,0,0,0,0,0,0,0,0,0,0,0,0,0]
["COLIMA",0,0,0,0,0,0,0,0,0,0,0,0,0,0]
["DURANGO",0,0,0,0,0,0,0,0,0,0,0,0,0,0]
["ESTADO DE MEXICO",0,0,0,0,0,0,0,0,0,0,0,0,0,0]
["GUANAJUATO",0,0,0,0,0,0,0,0,0,0,0,0,0,0]
["GUERRERO",0,0,0,0,0,0,0,0,0,0,0,0,0,0]
["HIDALGO",0,0,0,0,0,0,0,0,0,0,0,0,0,0]
["JALISCO",1,4797.28,88675,0,0,88675,0,0,0,0,0,0,0,0]
["MICHOACAN",0,0,0,0,0,0,0,0,0,0,0,0,0,0]
["MORELOS",0,0,0,0,0,0,0,0,0,0,0,0,0,0]
["NAYARIT",0,0,0,0,0,0,0,0,0,0,0,0,0,0]
["NUEVO LEON",0,0,0,0,0,0,0,0,0,0,0,0,0,0]
["OAXACA",0,0,0,0,0,0,0,0,0,0,0,0,0,0]
["PUEBLA",0,0,0,0,0,0,0,0,0,0,0,0,0,0]
["QUERETARO",0,0,0,0,0,0,0,0,0,0,0,0,0,0]
["QUINTANA ROO",5,26676.26,493837,0,0,493837,0,0,0,0,0,0,0,0]
["SAN LUIS POTOSI",0,0,0,0,0,0,0,0,0,0,0,0,0,0]
["SINALOA",0,0,0,0,0,0,0,0,0,0,0,0,0,0]
["SONORA",0,0,0,0,0,0,0,0,0,0,0,0,0,0]
["TABASCO",0,0,0,0,0,0,0,0,0,0,0,0,0,0]
["TAMAULIPAS",0,0,0,0,0,0,0,0,0,0,0,0,0,0]
["TLAXCALA",0,0,0,0,0,0,0,0,0,0,0,0,0,0]
["VERACRUZ",0,0,0,0,0,0,0,0,0,0,0,0,0,0]
["YUCATAN",0,0,0,0,0,0,0,0,0,0,0,0,0,0]
["ZACATECAS",0,0,0,0,0,0,0,0,0,0,0,0,0,0]
["EXTRANJERO",0,0,0,0,0,0,0,0,0,0,0,0,0,0]
["DESCONOCIDA",0,0,0,0,0,0,0,0,0,0,0,0,0,0]
["PÓLIZA CONCENTRADA*",79,285834260.88999999,161690880,0,0,0,0,0,0,0,0,0,0,0]
["No Especificado",0,0,0,0,0,0,0,0,0,0,0,0,0,0]
["       TOTAL",{"$f":"SUM(B16:B51)","v":309},{"$f":"SUM(C16:C51)","v":286497312.22999996},171350155,0,0,995592,0,0,0,0,0,0,0,0]
["* PARA AQUELLAS PÓLIZAS QUE POR RAZONES ADMINISTRATIVAS, COMERCIALES O DE CUALQUIER OTRA ÍNDOLE, PERO QUE SE ENCUENTRE DOCUMENTADA EN SUS NOTAS TÉCNICAS CORRESPONDIENTES, Y LA INSTITUCIÓN NO TENGA A SU DISPOSICIÓN EL DETALLE DE LA INFORMACION DE CADA ASEGURADO, SE REPORTARÉ EN ESTE APARTADO LA INFORMACIÓN. CABE MENCIONAR QUE LAS PÓLIZAS AUTO-ADMINISTRADAS NO DEBERÁN SER CONSIDERADAS EN ESTE CAMPO."]
["**Incluye pérdidas orgánicas, muerte accidental y muerte colectiva"]
[]
["PÓLIZA NO CONCENTRADA",{"$f":"B52-B50","v":230},{"$f":"C52-C50","v":663051.33999997377},{"$f":"D52-D50","v":9659275},0,0,995592,0,0,0,0,0,0,0,0]

{"sheet":"8GM.T.","index":62,"n_rows":54,"n_cols":15,"rows_kept":54,"cut":false,"hidden":false,"merged":[[52,0,52,14],[51,0,51,14],[5,0,5,14],[1,0,1,14],[2,0,2,14],[3,0,3,14],[4,0,4,14],[6,0,6,14],[7,0,7,14],[9,0,12,0],[9,1,12,1],[9,2,12,2],[9,3,9,6],[9,7,9,14],[10,3,12,3],[10,4,12,4],[50,0,50,14],[10,5,12,5],[10,6,12,6],[10,7,11,8],[10,9,11,10],[10,11,11,12],[10,13,11,14]]}
[]
["8. SEGURO DIRECTO EMITIDO Y SINIESTROS EN LA OPERACION DE VIDA "]
["POR TIPO DE SEGURO CONTRATADO Y ENTIDAD"]
[{"$f":"'1 Total'!B3","v":"DICIEMBRE DE 2021"}]
[]
["VIDA GRUPO"]
[]
["TITULOS INDIZADOS"]
[null,3,4,5,6,7,8,3,4,5,6,7,8,9,10]
["ENTIDAD","PÓLIZAS\nO\nCERTIFICADOS","PRIMA\nEMITIDA DIRECTA","SUMA  ASEGURADA",null,null,null,"SINIESTROS  DIRECTOS"]
[null,null,null,"MUERTE","SOBREVIVENCIA","MUERTE\nACCIDENTAL**","INVALIDEZ","MUERTE ",null,"SOBREVIVENCIA",null,"MUERTE\nACCIDENTAL**",null,"INVALIDEZ"]
[]
[null,null,null,null,null,null,null,"NÚMERO","MONTO","NÚMERO","MONTO","NÚMERO","MONTO","NÚMERO","MONTO"]
["AGUASCALIENTES",0,0,0,0,0,0,0,0,0,0,0,0,0,0]
["BAJA CALIFORNIA NORTE",28,0,0,0,0,0,0,0,28,4318430.76,0,0,0,0]
["BAJA CALIFORNIA SUR",1,0,0,0,0,0,0,0,1,46459.11,0,0,0,0]
["CAMPECHE",1,0,0,0,0,0,0,0,1,4071.53,0,0,0,0]
["CHIAPAS",1,0,0,0,0,0,0,0,1,594990.4,0,0,0,0]
["CHIHUAHUA",9,0,0,0,0,0,0,0,9,649379.28,0,0,0,0]
["CIUDAD DE MEXICO",2177,8562691.7400000002,0,0,0,0,10,2091060.1800000002,2240,430615117.0600034,0,0,0,0]
["COAHUILA",6,0,0,0,0,0,0,0,6,404787.65,0,0,0,0]
["COLIMA",2,0,0,0,0,0,0,0,2,58438.729999999996,0,0,0,0]
["DURANGO",0,0,0,0,0,0,0,0,0,0,0,0,0,0]
["ESTADO DE MEXICO",200,0,0,0,0,0,0,0,204,54076500.770000048,0,0,0,0]
["GUANAJUATO",8,1012577.02,0,0,0,0,0,0,8,2170325.0600000005,0,0,0,0]
["GUERRERO",2,0,0,0,0,0,0,0,2,50059.86,0,0,0,0]
["HIDALGO",0,0,0,0,0,0,0,0,0,0,0,0,0,0]
["JALISCO",70,0,0,0,0,0,0,0,70,2904770.3600000003,0,0,0,0]
["MICHOACAN",6,0,0,0,0,0,0,0,6,784432.08,0,0,0,0]
["MORELOS",27,0,0,0,0,0,0,0,30,8785204.8799999971,0,0,0,0]
["NAYARIT",0,0,0,0,0,0,0,0,0,0,0,0,0,0]
["NUEVO LEON",545,20097500.07,0,0,0,0,0,0,549,92852797.400000095,0,0,0,0]
["OAXACA",1,0,0,0,0,0,0,0,1,209360.83,0,0,0,0]
["PUEBLA",7,0,0,0,0,0,0,0,7,638175.77999999991,0,0,0,0]
["QUERETARO",17,0,0,0,0,0,0,0,17,2809811.6599999997,0,0,0,0]
["QUINTANA ROO",4,0,0,0,0,0,0,0,4,1325515.29,0,0,0,0]
["SAN LUIS POTOSI",2,0,0,0,0,0,0,0,2,43409.22,0,0,0,0]
["SINALOA",11,0,0,0,0,0,0,0,11,3308562.15,0,0,0,0]
["SONORA",11,0,0,0,0,0,0,0,13,1392770.35,0,0,0,0]
["TABASCO",0,0,0,0,0,0,0,0,0,0,0,0,0,0]
["TAMAULIPAS",5,0,0,0,0,0,0,0,5,693959.82000000007,0,0,0,0]
["TLAXCALA",0,0,0,0,0,0,0,0,0,0,0,0,0,0]
["VERACRUZ",5,0,0,0,0,0,0,0,5,1562593.03,0,0,0,0]
["YUCATAN",4,0,0,0,0,0,0,0,4,407775.68,0,0,0,0]
["ZACATECAS",0,0,0,0,0,0,0,0,0,0,0,0,0,0]
["EXTRANJERO",1,0,0,0,0,0,0,0,1,665792.84,0,0,0,0]
["DESCONOCIDA",0,0,0,0,0,0,0,0,0,0,0,0,0,0]
["PÓLIZA CONCENTRADA*",0,0,0,0,0,0,0,0,0,0,0,0,0,0]
["No Especificado",0,0,0,0,0,0,0,0,0,0,0,0,0,0]
["       TOTAL",{"$f":"SUM(B14:B49)","v":3151},{"$f":"SUM(C14:C49)","v":29672768.829999998},0,0,0,0,10,2091060.1800000002,3227,611373491.5800035,0,0,0,0]
["* PARA AQUELLAS PÓLIZAS QUE POR RAZONES ADMINISTRATIVAS, COMERCIALES O DE CUALQUIER OTRA ÍNDOLE, PERO QUE SE ENCUENTRE DOCUMENTADA EN SUS NOTAS TÉCNICAS CORRESPONDIENTES, Y LA INSTITUCIÓN NO TENGA A SU DISPOSICIÓN EL DETALLE DE LA INFORMACION DE CADA ASEGURADO, SE REPORTARÉ EN ESTE APARTADO LA INFORMACIÓN. CABE MENCIONAR QUE LAS PÓLIZAS AUTO-ADMINISTRADAS NO DEBERÁN SER CONSIDERADAS EN ESTE CAMPO."]
["**Incluye pérdidas orgánicas, muerte accidental y muerte colectiva"]
[]
["PÓLIZA NO CONCENTRADA",{"$f":"B50-B48","v":3151},{"$f":"C50-C48","v":29672768.829999998},0,0,0,0,10,2091060.1800000002,3227,611373491.5800035,0,0,0,0]

{"sheet":"9Individual","index":63,"n_rows":101,"n_cols":11,"rows_kept":101,"cut":false,"hidden":false,"merged":[[10,1,10,5],[10,6,10,10],[101,0,101,14],[6,0,6,10],[1,0,1,10],[2,0,2,10],[3,0,3,10],[4,0,4,10],[5,0,5,10],[7,0,7,10],[8,0,8,10],[11,7,12,7],[11,8,12,8],[11,9,12,9],[11,10,12,10],[11,1,12,1],[11,2,12,2],[11,3,12,3],[11,4,12,4],[11,5,12,5],[11,6,12,6]]}
[]
["9. SEGURO DIRECTO EN LA OPERACIÓN DE VIDA "]
["POR TIPO DE SEGURO CONTRATADO Y EDAD ALCANZADA"]
[]
[{"$f":"'1 Total'!B3","v":"DICIEMBRE DE 2021"}]
[]
["VIDA INDIVIDUAL"]
[]
["TOTAL"]
[]
["EDAD ","SUMA  ASEGURADA",null,null,null,null,"SINIESTROS  DIRECTOS"]
["ALCANZADA","MUERTE","SOBREVIVENCIA","MUERTE\nACCIDENTAL","MUERTE\nCOLECTIVA","POR INVALIDEZ","MUERTE","SOBREVIVENCIA","MUERTE\nACCIDENTAL","MUERTE\nCOLECTIVA","POR INVALIDEZ"]
[]
["Hasta 15 años",{"$f":"'9M.N.'!B14+'9M.E.'!B14+'9M.I.'!B14","v":53566021656},{"$f":"'9M.N.'!C14+'9M.E.'!C14+'9M.I.'!C14","v":19694293826},{"$f":"'9M.N.'!D14+'9M.E.'!D14+'9M.I.'!D14","v":6799949533},{"$f":"'9M.N.'!E14+'9M.E.'!E14+'9M.I.'!E14","v":2238025},{"$f":"'9M.N.'!F14+'9M.E.'!F14+'9M.I.'!F14","v":5008337148},{"$f":"'9M.N.'!G14+'9M.E.'!G14+'9M.I.'!G14","v":87666075.88000001},{"$f":"'9M.N.'!H14+'9M.E.'!H14+'9M.I.'!H14","v":16995306.100000001},{"$f":"'9M.N.'!I14+'9M.E.'!I14+'9M.I.'!I14","v":100000},{"$f":"'9M.N.'!J14+'9M.E.'!J14+'9M.I.'!J14","v":0},{"$f":"'9M.N.'!K14+'9M.E.'!K14+'9M.I.'!K14","v":2766446.81}]
[16,{"$f":"'9M.N.'!B15+'9M.E.'!B15+'9M.I.'!B15","v":5694613314},{"$f":"'9M.N.'!C15+'9M.E.'!C15+'9M.I.'!C15","v":1099506887},{"$f":"'9M.N.'!D15+'9M.E.'!D15+'9M.I.'!D15","v":77730892},{"$f":"'9M.N.'!E15+'9M.E.'!E15+'9M.I.'!E15","v":6871648},{"$f":"'9M.N.'!F15+'9M.E.'!F15+'9M.I.'!F15","v":1007010063},{"$f":"'9M.N.'!G15+'9M.E.'!G15+'9M.I.'!G15","v":2646223.4299999997},{"$f":"'9M.N.'!H15+'9M.E.'!H15+'9M.I.'!H15","v":10097059.120000001},{"$f":"'9M.N.'!I15+'9M.E.'!I15+'9M.I.'!I15","v":0},{"$f":"'9M.N.'!J15+'9M.E.'!J15+'9M.I.'!J15","v":0},{"$f":"'9M.N.'!K15+'9M.E.'!K15+'9M.I.'!K15","v":169735.59}]
[17,{"$f":"'9M.N.'!B16+'9M.E.'!B16+'9M.I.'!B16","v":5300229664},{"$f":"'9M.N.'!C16+'9M.E.'!C16+'9M.I.'!C16","v":1143630194},{"$f":"'9M.N.'!D16+'9M.E.'!D16+'9M.I.'!D16","v":120431138},{"$f":"'9M.N.'!E16+'9M.E.'!E16+'9M.I.'!E16","v":3563409},{"$f":"'9M.N.'!F16+'9M.E.'!F16+'9M.I.'!F16","v":893877344},{"$f":"'9M.N.'!G16+'9M.E.'!G16+'9M.I.'!G16","v":2346117.9900000002},{"$f":"'9M.N.'!H16+'9M.E.'!H16+'9M.I.'!H16","v":533830961.46000004},{"$f":"'9M.N.'!I16+'9M.E.'!I16+'9M.I.'!I16","v":0},{"$f":"'9M.N.'!J16+'9M.E.'!J16+'9M.I.'!J16","v":0},{"$f":"'9M.N.'!K16+'9M.E.'!K16+'9M.I.'!K16","v":0}]
[18,{"$f":"'9M.N.'!B17+'9M.E.'!B17+'9M.I.'!B17","v":7151427453},{"$f":"'9M.N.'!C17+'9M.E.'!C17+'9M.I.'!C17","v":1096093628},{"$f":"'9M.N.'!D17+'9M.E.'!D17+'9M.I.'!D17","v":1240640094},{"$f":"'9M.N.'!E17+'9M.E.'!E17+'9M.I.'!E17","v":92643622},{"$f":"'9M.N.'!F17+'9M.E.'!F17+'9M.I.'!F17","v":1295926633},{"$f":"'9M.N.'!G17+'9M.E.'!G17+'9M.I.'!G17","v":4200000},{"$f":"'9M.N.'!H17+'9M.E.'!H17+'9M.I.'!H17","v":1671422437.45},{"$f":"'9M.N.'!I17+'9M.E.'!I17+'9M.I.'!I17","v":0},{"$f":"'9M.N.'!J17+'9M.E.'!J17+'9M.I.'!J17","v":0},{"$f":"'9M.N.'!K17+'9M.E.'!K17+'9M.I.'!K17","v":355806.03}]
[19,{"$f":"'9M.N.'!B18+'9M.E.'!B18+'9M.I.'!B18","v":10281446350},{"$f":"'9M.N.'!C18+'9M.E.'!C18+'9M.I.'!C18","v":1079129284},{"$f":"'9M.N.'!D18+'9M.E.'!D18+'9M.I.'!D18","v":3958229941},{"$f":"'9M.N.'!E18+'9M.E.'!E18+'9M.I.'!E18","v":441122035},{"$f":"'9M.N.'!F18+'9M.E.'!F18+'9M.I.'!F18","v":2169830242},{"$f":"'9M.N.'!G18+'9M.E.'!G18+'9M.I.'!G18","v":3531304.6999999997},{"$f":"'9M.N.'!H18+'9M.E.'!H18+'9M.I.'!H18","v":1260108679.7800004},{"$f":"'9M.N.'!I18+'9M.E.'!I18+'9M.I.'!I18","v":0},{"$f":"'9M.N.'!J18+'9M.E.'!J18+'9M.I.'!J18","v":0},{"$f":"'9M.N.'!K18+'9M.E.'!K18+'9M.I.'!K18","v":309607.15999999997}]
[20,{"$f":"'9M.N.'!B19+'9M.E.'!B19+'9M.I.'!B19","v":14031221227},{"$f":"'9M.N.'!C19+'9M.E.'!C19+'9M.I.'!C19","v":1294319022},{"$f":"'9M.N.'!D19+'9M.E.'!D19+'9M.I.'!D19","v":6147193877},{"$f":"'9M.N.'!E19+'9M.E.'!E19+'9M.I.'!E19","v":1533691905},{"$f":"'9M.N.'!F19+'9M.E.'!F19+'9M.I.'!F19","v":3391774609},{"$f":"'9M.N.'!G19+'9M.E.'!G19+'9M.I.'!G19","v":10315461},{"$f":"'9M.N.'!H19+'9M.E.'!H19+'9M.I.'!H19","v":3723000.54},{"$f":"'9M.N.'!I19+'9M.E.'!I19+'9M.I.'!I19","v":300000},{"$f":"'9M.N.'!J19+'9M.E.'!J19+'9M.I.'!J19","v":0},{"$f":"'9M.N.'!K19+'9M.E.'!K19+'9M.I.'!K19","v":0}]
[21,{"$f":"'9M.N.'!B20+'9M.E.'!B20+'9M.I.'!B20","v":18174029713},{"$f":"'9M.N.'!C20+'9M.E.'!C20+'9M.I.'!C20","v":1346823747},{"$f":"'9M.N.'!D20+'9M.E.'!D20+'9M.I.'!D20","v":8761002622},{"$f":"'9M.N.'!E20+'9M.E.'!E20+'9M.I.'!E20","v":2843435893},{"$f":"'9M.N.'!F20+'9M.E.'!F20+'9M.I.'!F20","v":5523852024},{"$f":"'9M.N.'!G20+'9M.E.'!G20+'9M.I.'!G20","v":14491815.309999999},{"$f":"'9M.N.'!H20+'9M.E.'!H20+'9M.I.'!H20","v":19954490.319999997},{"$f":"'9M.N.'!I20+'9M.E.'!I20+'9M.I.'!I20","v":1852500},{"$f":"'9M.N.'!J20+'9M.E.'!J20+'9M.I.'!J20","v":0},{"$f":"'9M.N.'!K20+'9M.E.'!K20+'9M.I.'!K20","v":0}]
[22,{"$f":"'9M.N.'!B21+'9M.E.'!B21+'9M.I.'!B21","v":21634607038},{"$f":"'9M.N.'!C21+'9M.E.'!C21+'9M.I.'!C21","v":1666873470},{"$f":"'9M.N.'!D21+'9M.E.'!D21+'9M.I.'!D21","v":10403821247},{"$f":"'9M.N.'!E21+'9M.E.'!E21+'9M.I.'!E21","v":3886384711},{"$f":"'9M.N.'!F21+'9M.E.'!F21+'9M.I.'!F21","v":7091245365},{"$f":"'9M.N.'!G21+'9M.E.'!G21+'9M.I.'!G21","v":9202593.75},{"$f":"'9M.N.'!H21+'9M.E.'!H21+'9M.I.'!H21","v":89434187.090000004},{"$f":"'9M.N.'!I21+'9M.E.'!I21+'9M.I.'!I21","v":1700000},{"$f":"'9M.N.'!J21+'9M.E.'!J21+'9M.I.'!J21","v":0},{"$f":"'9M.N.'!K21+'9M.E.'!K21+'9M.I.'!K21","v":0}]
[23,{"$f":"'9M.N.'!B22+'9M.E.'!B22+'9M.I.'!B22","v":25271387410},{"$f":"'9M.N.'!C22+'9M.E.'!C22+'9M.I.'!C22","v":1530322139},{"$f":"'9M.N.'!D22+'9M.E.'!D22+'9M.I.'!D22","v":12418491250},{"$f":"'9M.N.'!E22+'9M.E.'!E22+'9M.I.'!E22","v":4829321587},{"$f":"'9M.N.'!F22+'9M.E.'!F22+'9M.I.'!F22","v":9182220007},{"$f":"'9M.N.'!G22+'9M.E.'!G22+'9M.I.'!G22","v":8963525.2800000012},{"$f":"'9M.N.'!H22+'9M.E.'!H22+'9M.I.'!H22","v":76204358.340000004},{"$f":"'9M.N.'!I22+'9M.E.'!I22+'9M.I.'!I22","v":2300000},{"$f":"'9M.N.'!J22+'9M.E.'!J22+'9M.I.'!J22","v":310000},{"$f":"'9M.N.'!K22+'9M.E.'!K22+'9M.I.'!K22","v":759057.25}]
[24,{"$f":"'9M.N.'!B23+'9M.E.'!B23+'9M.I.'!B23","v":31337517847},{"$f":"'9M.N.'!C23+'9M.E.'!C23+'9M.I.'!C23","v":1742834728},{"$f":"'9M.N.'!D23+'9M.E.'!D23+'9M.I.'!D23","v":14579422794},{"$f":"'9M.N.'!E23+'9M.E.'!E23+'9M.I.'!E23","v":6021209378},{"$f":"'9M.N.'!F23+'9M.E.'!F23+'9M.I.'!F23","v":12229546990},{"$f":"'9M.N.'!G23+'9M.E.'!G23+'9M.I.'!G23","v":16387724.200000001},{"$f":"'9M.N.'!H23+'9M.E.'!H23+'9M.I.'!H23","v":14162709.98},{"$f":"'9M.N.'!I23+'9M.E.'!I23+'9M.I.'!I23","v":3780375},{"$f":"'9M.N.'!J23+'9M.E.'!J23+'9M.I.'!J23","v":1410000},{"$f":"'9M.N.'!K23+'9M.E.'!K23+'9M.I.'!K23","v":50464.73}]
[25,{"$f":"'9M.N.'!B24+'9M.E.'!B24+'9M.I.'!B24","v":38346797243},{"$f":"'9M.N.'!C24+'9M.E.'!C24+'9M.I.'!C24","v":2417791987},{"$f":"'9M.N.'!D24+'9M.E.'!D24+'9M.I.'!D24","v":17121771293},{"$f":"'9M.N.'!E24+'9M.E.'!E24+'9M.I.'!E24","v":7753859228},{"$f":"'9M.N.'!F24+'9M.E.'!F24+'9M.I.'!F24","v":17318783076},{"$f":"'9M.N.'!G24+'9M.E.'!G24+'9M.I.'!G24","v":15830600.170000002},{"$f":"'9M.N.'!H24+'9M.E.'!H24+'9M.I.'!H24","v":18015156.07},{"$f":"'9M.N.'!I24+'9M.E.'!I24+'9M.I.'!I24","v":500000},{"$f":"'9M.N.'!J24+'9M.E.'!J24+'9M.I.'!J24","v":0},{"$f":"'9M.N.'!K24+'9M.E.'!K24+'9M.I.'!K24","v":0}]
[26,{"$f":"'9M.N.'!B25+'9M.E.'!B25+'9M.I.'!B25","v":46833658740},{"$f":"'9M.N.'!C25+'9M.E.'!C25+'9M.I.'!C25","v":2531802852},{"$f":"'9M.N.'!D25+'9M.E.'!D25+'9M.I.'!D25","v":20395485589},{"$f":"'9M.N.'!E25+'9M.E.'!E25+'9M.I.'!E25","v":9681461184},{"$f":"'9M.N.'!F25+'9M.E.'!F25+'9M.I.'!F25","v":22186601802},{"$f":"'9M.N.'!G25+'9M.E.'!G25+'9M.I.'!G25","v":19415046.020000003},{"$f":"'9M.N.'!H25+'9M.E.'!H25+'9M.I.'!H25","v":18689946.210000001},{"$f":"'9M.N.'!I25+'9M.E.'!I25+'9M.I.'!I25","v":2810000},{"$f":"'9M.N.'!J25+'9M.E.'!J25+'9M.I.'!J25","v":300000},{"$f":"'9M.N.'!K25+'9M.E.'!K25+'9M.I.'!K25","v":0}]
[27,{"$f":"'9M.N.'!B26+'9M.E.'!B26+'9M.I.'!B26","v":58027756184},{"$f":"'9M.N.'!C26+'9M.E.'!C26+'9M.I.'!C26","v":3119204193},{"$f":"'9M.N.'!D26+'9M.E.'!D26+'9M.I.'!D26","v":23523559233},{"$f":"'9M.N.'!E26+'9M.E.'!E26+'9M.I.'!E26","v":11858203538},{"$f":"'9M.N.'!F26+'9M.E.'!F26+'9M.I.'!F26","v":28614321859},{"$f":"'9M.N.'!G26+'9M.E.'!G26+'9M.I.'!G26","v":25808595.389999993},{"$f":"'9M.N.'!H26+'9M.E.'!H26+'9M.I.'!H26","v":17819023.990000006},{"$f":"'9M.N.'!I26+'9M.E.'!I26+'9M.I.'!I26","v":3951151.1100000003},{"$f":"'9M.N.'!J26+'9M.E.'!J26+'9M.I.'!J26","v":0},{"$f":"'9M.N.'!K26+'9M.E.'!K26+'9M.I.'!K26","v":1208042.45}]
[28,{"$f":"'9M.N.'!B27+'9M.E.'!B27+'9M.I.'!B27","v":65344230964},{"$f":"'9M.N.'!C27+'9M.E.'!C27+'9M.I.'!C27","v":3850338389},{"$f":"'9M.N.'!D27+'9M.E.'!D27+'9M.I.'!D27","v":25825702436},{"$f":"'9M.N.'!E27+'9M.E.'!E27+'9M.I.'!E27","v":13775820350},{"$f":"'9M.N.'!F27+'9M.E.'!F27+'9M.I.'!F27","v":34501565860},{"$f":"'9M.N.'!G27+'9M.E.'!G27+'9M.I.'!G27","v":26640538.310000002},{"$f":"'9M.N.'!H27+'9M.E.'!H27+'9M.I.'!H27","v":25865145.059999999},{"$f":"'9M.N.'!I27+'9M.E.'!I27+'9M.I.'!I27","v":6266505},{"$f":"'9M.N.'!J27+'9M.E.'!J27+'9M.I.'!J27","v":600000},{"$f":"'9M.N.'!K27+'9M.E.'!K27+'9M.I.'!K27","v":926432.06}]
[29,{"$f":"'9M.N.'!B28+'9M.E.'!B28+'9M.I.'!B28","v":73930489773},{"$f":"'9M.N.'!C28+'9M.E.'!C28+'9M.I.'!C28","v":4686251973},{"$f":"'9M.N.'!D28+'9M.E.'!D28+'9M.I.'!D28","v":28285038574},{"$f":"'9M.N.'!E28+'9M.E.'!E28+'9M.I.'!E28","v":15559612952},{"$f":"'9M.N.'!F28+'9M.E.'!F28+'9M.I.'!F28","v":40106013161},{"$f":"'9M.N.'!G28+'9M.E.'!G28+'9M.I.'!G28","v":33274809.59},{"$f":"'9M.N.'!H28+'9M.E.'!H28+'9M.I.'!H28","v":32466145.190000001},{"$f":"'9M.N.'!I28+'9M.E.'!I28+'9M.I.'!I28","v":4797990.75},{"$f":"'9M.N.'!J28+'9M.E.'!J28+'9M.I.'!J28","v":300000},{"$f":"'9M.N.'!K28+'9M.E.'!K28+'9M.I.'!K28","v":6860246.1799999997}]
[30,{"$f":"'9M.N.'!B29+'9M.E.'!B29+'9M.I.'!B29","v":80856690374},{"$f":"'9M.N.'!C29+'9M.E.'!C29+'9M.I.'!C29","v":5686042425},{"$f":"'9M.N.'!D29+'9M.E.'!D29+'9M.I.'!D29","v":31404754793},{"$f":"'9M.N.'!E29+'9M.E.'!E29+'9M.I.'!E29","v":16873267614},{"$f":"'9M.N.'!F29+'9M.E.'!F29+'9M.I.'!F29","v":45457024037},{"$f":"'9M.N.'!G29+'9M.E.'!G29+'9M.I.'!G29","v":45388070.420000009},{"$f":"'9M.N.'!H29+'9M.E.'!H29+'9M.I.'!H29","v":31954217.950000003},{"$f":"'9M.N.'!I29+'9M.E.'!I29+'9M.I.'!I29","v":4868200},{"$f":"'9M.N.'!J29+'9M.E.'!J29+'9M.I.'!J29","v":0},{"$f":"'9M.N.'!K29+'9M.E.'!K29+'9M.I.'!K29","v":2854398.54}]
[31,{"$f":"'9M.N.'!B30+'9M.E.'!B30+'9M.I.'!B30","v":91108366461},{"$f":"'9M.N.'!C30+'9M.E.'!C30+'9M.I.'!C30","v":6576966626},{"$f":"'9M.N.'!D30+'9M.E.'!D30+'9M.I.'!D30","v":34656766253},{"$f":"'9M.N.'!E30+'9M.E.'!E30+'9M.I.'!E30","v":18800996738},{"$f":"'9M.N.'!F30+'9M.E.'!F30+'9M.I.'!F30","v":52741142386},{"$f":"'9M.N.'!G30+'9M.E.'!G30+'9M.I.'!G30","v":54778796.699999988},{"$f":"'9M.N.'!H30+'9M.E.'!H30+'9M.I.'!H30","v":34187577.620000012},{"$f":"'9M.N.'!I30+'9M.E.'!I30+'9M.I.'!I30","v":5810148.4800000004},{"$f":"'9M.N.'!J30+'9M.E.'!J30+'9M.I.'!J30","v":650000},{"$f":"'9M.N.'!K30+'9M.E.'!K30+'9M.I.'!K30","v":9439281.3399999999}]
[32,{"$f":"'9M.N.'!B31+'9M.E.'!B31+'9M.I.'!B31","v":97159565758},{"$f":"'9M.N.'!C31+'9M.E.'!C31+'9M.I.'!C31","v":7574646541},{"$f":"'9M.N.'!D31+'9M.E.'!D31+'9M.I.'!D31","v":36658874348},{"$f":"'9M.N.'!E31+'9M.E.'!E31+'9M.I.'!E31","v":20216049582},{"$f":"'9M.N.'!F31+'9M.E.'!F31+'9M.I.'!F31","v":57376532887},{"$f":"'9M.N.'!G31+'9M.E.'!G31+'9M.I.'!G31","v":77353498.730000019},{"$f":"'9M.N.'!H31+'9M.E.'!H31+'9M.I.'!H31","v":40781576.089999996},{"$f":"'9M.N.'!I31+'9M.E.'!I31+'9M.I.'!I31","v":3963762},{"$f":"'9M.N.'!J31+'9M.E.'!J31+'9M.I.'!J31","v":1025000},{"$f":"'9M.N.'!K31+'9M.E.'!K31+'9M.I.'!K31","v":1188601.82}]
[33,{"$f":"'9M.N.'!B32+'9M.E.'!B32+'9M.I.'!B32","v":104947292461},{"$f":"'9M.N.'!C32+'9M.E.'!C32+'9M.I.'!C32","v":8705129023},{"$f":"'9M.N.'!D32+'9M.E.'!D32+'9M.I.'!D32","v":39186011838},{"$f":"'9M.N.'!E32+'9M.E.'!E32+'9M.I.'!E32","v":21518092496},{"$f":"'9M.N.'!F32+'9M.E.'!F32+'9M.I.'!F32","v":63179593577},{"$f":"'9M.N.'!G32+'9M.E.'!G32+'9M.I.'!G32","v":69776014.560000017},{"$f":"'9M.N.'!H32+'9M.E.'!H32+'9M.I.'!H32","v":58680249.430000007},{"$f":"'9M.N.'!I32+'9M.E.'!I32+'9M.I.'!I32","v":3994027.55},{"$f":"'9M.N.'!J32+'9M.E.'!J32+'9M.I.'!J32","v":2300000},{"$f":"'9M.N.'!K32+'9M.E.'!K32+'9M.I.'!K32","v":1744065}]
[34,{"$f":"'9M.N.'!B33+'9M.E.'!B33+'9M.I.'!B33","v":111558768920},{"$f":"'9M.N.'!C33+'9M.E.'!C33+'9M.I.'!C33","v":10284451330},{"$f":"'9M.N.'!D33+'9M.E.'!D33+'9M.I.'!D33","v":42201422542},{"$f":"'9M.N.'!E33+'9M.E.'!E33+'9M.I.'!E33","v":22954189220},{"$f":"'9M.N.'!F33+'9M.E.'!F33+'9M.I.'!F33","v":67663171260},{"$f":"'9M.N.'!G33+'9M.E.'!G33+'9M.I.'!G33","v":85818933.930000007},{"$f":"'9M.N.'!H33+'9M.E.'!H33+'9M.I.'!H33","v":52307962.630000003},{"$f":"'9M.N.'!I33+'9M.E.'!I33+'9M.I.'!I33","v":9157953.6999999993},{"$f":"'9M.N.'!J33+'9M.E.'!J33+'9M.I.'!J33","v":800000},{"$f":"'9M.N.'!K33+'9M.E.'!K33+'9M.I.'!K33","v":10268201.75}]
[35,{"$f":"'9M.N.'!B34+'9M.E.'!B34+'9M.I.'!B34","v":122048809720},{"$f":"'9M.N.'!C34+'9M.E.'!C34+'9M.I.'!C34","v":12040291808},{"$f":"'9M.N.'!D34+'9M.E.'!D34+'9M.I.'!D34","v":46434826187},{"$f":"'9M.N.'!E34+'9M.E.'!E34+'9M.I.'!E34","v":24218892224},{"$f":"'9M.N.'!F34+'9M.E.'!F34+'9M.I.'!F34","v":74954056704},{"$f":"'9M.N.'!G34+'9M.E.'!G34+'9M.I.'!G34","v":103418014.77000001},{"$f":"'9M.N.'!H34+'9M.E.'!H34+'9M.I.'!H34","v":72796864.269999981},{"$f":"'9M.N.'!I34+'9M.E.'!I34+'9M.I.'!I34","v":9766448.4000000004},{"$f":"'9M.N.'!J34+'9M.E.'!J34+'9M.I.'!J34","v":3030718},{"$f":"'9M.N.'!K34+'9M.E.'!K34+'9M.I.'!K34","v":4721209.59}]
[36,{"$f":"'9M.N.'!B35+'9M.E.'!B35+'9M.I.'!B35","v":126673579269},{"$f":"'9M.N.'!C35+'9M.E.'!C35+'9M.I.'!C35","v":13521311744},{"$f":"'9M.N.'!D35+'9M.E.'!D35+'9M.I.'!D35","v":48357948178},{"$f":"'9M.N.'!E35+'9M.E.'!E35+'9M.I.'!E35","v":25372998285},{"$f":"'9M.N.'!F35+'9M.E.'!F35+'9M.I.'!F35","v":78908159714},{"$f":"'9M.N.'!G35+'9M.E.'!G35+'9M.I.'!G35","v":132729504.24000004},{"$f":"'9M.N.'!H35+'9M.E.'!H35+'9M.I.'!H35","v":79971367.400000006},{"$f":"'9M.N.'!I35+'9M.E.'!I35+'9M.I.'!I35","v":13117556},{"$f":"'9M.N.'!J35+'9M.E.'!J35+'9M.I.'!J35","v":1480000},{"$f":"'9M.N.'!K35+'9M.E.'!K35+'9M.I.'!K35","v":3769162.48}]
[37,{"$f":"'9M.N.'!B36+'9M.E.'!B36+'9M.I.'!B36","v":129796874241},{"$f":"'9M.N.'!C36+'9M.E.'!C36+'9M.I.'!C36","v":14246629042},{"$f":"'9M.N.'!D36+'9M.E.'!D36+'9M.I.'!D36","v":49081634367},{"$f":"'9M.N.'!E36+'9M.E.'!E36+'9M.I.'!E36","v":25979903795},{"$f":"'9M.N.'!F36+'9M.E.'!F36+'9M.I.'!F36","v":82048362646},{"$f":"'9M.N.'!G36+'9M.E.'!G36+'9M.I.'!G36","v":118785485.57999998},{"$f":"'9M.N.'!H36+'9M.E.'!H36+'9M.I.'!H36","v":91203046.549999997},{"$f":"'9M.N.'!I36+'9M.E.'!I36+'9M.I.'!I36","v":8907674.0199999996},{"$f":"'9M.N.'!J36+'9M.E.'!J36+'9M.I.'!J36","v":450000},{"$f":"'9M.N.'!K36+'9M.E.'!K36+'9M.I.'!K36","v":4531001.46}]
[38,{"$f":"'9M.N.'!B37+'9M.E.'!B37+'9M.I.'!B37","v":135165597718},{"$f":"'9M.N.'!C37+'9M.E.'!C37+'9M.I.'!C37","v":16741848631},{"$f":"'9M.N.'!D37+'9M.E.'!D37+'9M.I.'!D37","v":49861521181},{"$f":"'9M.N.'!E37+'9M.E.'!E37+'9M.I.'!E37","v":26251411041},{"$f":"'9M.N.'!F37+'9M.E.'!F37+'9M.I.'!F37","v":85837420760},{"$f":"'9M.N.'!G37+'9M.E.'!G37+'9M.I.'!G37","v":137029026.39999998},{"$f":"'9M.N.'!H37+'9M.E.'!H37+'9M.I.'!H37","v":84812119.319999993},{"$f":"'9M.N.'!I37+'9M.E.'!I37+'9M.I.'!I37","v":5023500.6399999997},{"$f":"'9M.N.'!J37+'9M.E.'!J37+'9M.I.'!J37","v":300000},{"$f":"'9M.N.'!K37+'9M.E.'!K37+'9M.I.'!K37","v":11083144.23}]
[39,{"$f":"'9M.N.'!B38+'9M.E.'!B38+'9M.I.'!B38","v":136679593961},{"$f":"'9M.N.'!C38+'9M.E.'!C38+'9M.I.'!C38","v":17027142186},{"$f":"'9M.N.'!D38+'9M.E.'!D38+'9M.I.'!D38","v":49802526577},{"$f":"'9M.N.'!E38+'9M.E.'!E38+'9M.I.'!E38","v":25861557847},{"$f":"'9M.N.'!F38+'9M.E.'!F38+'9M.I.'!F38","v":85003435883},{"$f":"'9M.N.'!G38+'9M.E.'!G38+'9M.I.'!G38","v":179333936.75999996},{"$f":"'9M.N.'!H38+'9M.E.'!H38+'9M.I.'!H38","v":93368674.480000004},{"$f":"'9M.N.'!I38+'9M.E.'!I38+'9M.I.'!I38","v":14938111.199999999},{"$f":"'9M.N.'!J38+'9M.E.'!J38+'9M.I.'!J38","v":1600000},{"$f":"'9M.N.'!K38+'9M.E.'!K38+'9M.I.'!K38","v":11082797}]
[40,{"$f":"'9M.N.'!B39+'9M.E.'!B39+'9M.I.'!B39","v":136782344107},{"$f":"'9M.N.'!C39+'9M.E.'!C39+'9M.I.'!C39","v":17619429097},{"$f":"'9M.N.'!D39+'9M.E.'!D39+'9M.I.'!D39","v":50411525296},{"$f":"'9M.N.'!E39+'9M.E.'!E39+'9M.I.'!E39","v":26230697683},{"$f":"'9M.N.'!F39+'9M.E.'!F39+'9M.I.'!F39","v":85076063050},{"$f":"'9M.N.'!G39+'9M.E.'!G39+'9M.I.'!G39","v":170721970.67000002},{"$f":"'9M.N.'!H39+'9M.E.'!H39+'9M.I.'!H39","v":93253052.390000001},{"$f":"'9M.N.'!I39+'9M.E.'!I39+'9M.I.'!I39","v":9096653.25},{"$f":"'9M.N.'!J39+'9M.E.'!J39+'9M.I.'!J39","v":1155323},{"$f":"'9M.N.'!K39+'9M.E.'!K39+'9M.I.'!K39","v":17440645.059999995}]
[41,{"$f":"'9M.N.'!B40+'9M.E.'!B40+'9M.I.'!B40","v":140544309204},{"$f":"'9M.N.'!C40+'9M.E.'!C40+'9M.I.'!C40","v":19408595946},{"$f":"'9M.N.'!D40+'9M.E.'!D40+'9M.I.'!D40","v":51371863625},{"$f":"'9M.N.'!E40+'9M.E.'!E40+'9M.I.'!E40","v":26591498796},{"$f":"'9M.N.'!F40+'9M.E.'!F40+'9M.I.'!F40","v":86474549047},{"$f":"'9M.N.'!G40+'9M.E.'!G40+'9M.I.'!G40","v":130325106.76999998},{"$f":"'9M.N.'!H40+'9M.E.'!H40+'9M.I.'!H40","v":97356152.839999974},{"$f":"'9M.N.'!I40+'9M.E.'!I40+'9M.I.'!I40","v":5174888.7300000004},{"$f":"'9M.N.'!J40+'9M.E.'!J40+'9M.I.'!J40","v":1046211.5},{"$f":"'9M.N.'!K40+'9M.E.'!K40+'9M.I.'!K40","v":18827938.719999999}]
[42,{"$f":"'9M.N.'!B41+'9M.E.'!B41+'9M.I.'!B41","v":135815029325},{"$f":"'9M.N.'!C41+'9M.E.'!C41+'9M.I.'!C41","v":20136945066},{"$f":"'9M.N.'!D41+'9M.E.'!D41+'9M.I.'!D41","v":48313564338},{"$f":"'9M.N.'!E41+'9M.E.'!E41+'9M.I.'!E41","v":25623051886},{"$f":"'9M.N.'!F41+'9M.E.'!F41+'9M.I.'!F41","v":83348495212},{"$f":"'9M.N.'!G41+'9M.E.'!G41+'9M.I.'!G41","v":191259243.40000004},{"$f":"'9M.N.'!H41+'9M.E.'!H41+'9M.I.'!H41","v":116472805.48},{"$f":"'9M.N.'!I41+'9M.E.'!I41+'9M.I.'!I41","v":5891953.7199999997},{"$f":"'9M.N.'!J41+'9M.E.'!J41+'9M.I.'!J41","v":1500000},{"$f":"'9M.N.'!K41+'9M.E.'!K41+'9M.I.'!K41","v":12671654.950000001}]
[43,{"$f":"'9M.N.'!B42+'9M.E.'!B42+'9M.I.'!B42","v":135866733046},{"$f":"'9M.N.'!C42+'9M.E.'!C42+'9M.I.'!C42","v":19819356850},{"$f":"'9M.N.'!D42+'9M.E.'!D42+'9M.I.'!D42","v":48420795031},{"$f":"'9M.N.'!E42+'9M.E.'!E42+'9M.I.'!E42","v":26131539868},{"$f":"'9M.N.'!F42+'9M.E.'!F42+'9M.I.'!F42","v":82490040339},{"$f":"'9M.N.'!G42+'9M.E.'!G42+'9M.I.'!G42","v":220190954.94000003},{"$f":"'9M.N.'!H42+'9M.E.'!H42+'9M.I.'!H42","v":133763487.96000001},{"$f":"'9M.N.'!I42+'9M.E.'!I42+'9M.I.'!I42","v":22313973.43},{"$f":"'9M.N.'!J42+'9M.E.'!J42+'9M.I.'!J42","v":713000},{"$f":"'9M.N.'!K42+'9M.E.'!K42+'9M.I.'!K42","v":24832372.369999997}]
[44,{"$f":"'9M.N.'!B43+'9M.E.'!B43+'9M.I.'!B43","v":138433009355},{"$f":"'9M.N.'!C43+'9M.E.'!C43+'9M.I.'!C43","v":20869218832},{"$f":"'9M.N.'!D43+'9M.E.'!D43+'9M.I.'!D43","v":48328183138},{"$f":"'9M.N.'!E43+'9M.E.'!E43+'9M.I.'!E43","v":26060489646},{"$f":"'9M.N.'!F43+'9M.E.'!F43+'9M.I.'!F43","v":82955126321},{"$f":"'9M.N.'!G43+'9M.E.'!G43+'9M.I.'!G43","v":267069332.26999986},{"$f":"'9M.N.'!H43+'9M.E.'!H43+'9M.I.'!H43","v":141204394.15000004},{"$f":"'9M.N.'!I43+'9M.E.'!I43+'9M.I.'!I43","v":17380609.41},{"$f":"'9M.N.'!J43+'9M.E.'!J43+'9M.I.'!J43","v":750000},{"$f":"'9M.N.'!K43+'9M.E.'!K43+'9M.I.'!K43","v":18887941.369999997}]
[45,{"$f":"'9M.N.'!B44+'9M.E.'!B44+'9M.I.'!B44","v":138847060663},{"$f":"'9M.N.'!C44+'9M.E.'!C44+'9M.I.'!C44","v":20976841543},{"$f":"'9M.N.'!D44+'9M.E.'!D44+'9M.I.'!D44","v":48501207372},{"$f":"'9M.N.'!E44+'9M.E.'!E44+'9M.I.'!E44","v":26090489454},{"$f":"'9M.N.'!F44+'9M.E.'!F44+'9M.I.'!F44","v":80593847623},{"$f":"'9M.N.'!G44+'9M.E.'!G44+'9M.I.'!G44","v":293390292.12},{"$f":"'9M.N.'!H44+'9M.E.'!H44+'9M.I.'!H44","v":172223290.92999989},{"$f":"'9M.N.'!I44+'9M.E.'!I44+'9M.I.'!I44","v":4331439},{"$f":"'9M.N.'!J44+'9M.E.'!J44+'9M.I.'!J44","v":550000},{"$f":"'9M.N.'!K44+'9M.E.'!K44+'9M.I.'!K44","v":19871164.730000004}]
[46,{"$f":"'9M.N.'!B45+'9M.E.'!B45+'9M.I.'!B45","v":139972281146},{"$f":"'9M.N.'!C45+'9M.E.'!C45+'9M.I.'!C45","v":22456075895},{"$f":"'9M.N.'!D45+'9M.E.'!D45+'9M.I.'!D45","v":49217565567},{"$f":"'9M.N.'!E45+'9M.E.'!E45+'9M.I.'!E45","v":26771587790},{"$f":"'9M.N.'!F45+'9M.E.'!F45+'9M.I.'!F45","v":81787645829},{"$f":"'9M.N.'!G45+'9M.E.'!G45+'9M.I.'!G45","v":331860100.63000017},{"$f":"'9M.N.'!H45+'9M.E.'!H45+'9M.I.'!H45","v":165847083.81},{"$f":"'9M.N.'!I45+'9M.E.'!I45+'9M.I.'!I45","v":15081171.969999999},{"$f":"'9M.N.'!J45+'9M.E.'!J45+'9M.I.'!J45","v":438000},{"$f":"'9M.N.'!K45+'9M.E.'!K45+'9M.I.'!K45","v":24568600.199999999}]
[47,{"$f":"'9M.N.'!B46+'9M.E.'!B46+'9M.I.'!B46","v":141805327433},{"$f":"'9M.N.'!C46+'9M.E.'!C46+'9M.I.'!C46","v":23167867964},{"$f":"'9M.N.'!D46+'9M.E.'!D46+'9M.I.'!D46","v":48681130022},{"$f":"'9M.N.'!E46+'9M.E.'!E46+'9M.I.'!E46","v":27217763683},{"$f":"'9M.N.'!F46+'9M.E.'!F46+'9M.I.'!F46","v":81579995207},{"$f":"'9M.N.'!G46+'9M.E.'!G46+'9M.I.'!G46","v":324513528.20999998},{"$f":"'9M.N.'!H46+'9M.E.'!H46+'9M.I.'!H46","v":184661876.00999996},{"$f":"'9M.N.'!I46+'9M.E.'!I46+'9M.I.'!I46","v":7189879.3499999996},{"$f":"'9M.N.'!J46+'9M.E.'!J46+'9M.I.'!J46","v":510000},{"$f":"'9M.N.'!K46+'9M.E.'!K46+'9M.I.'!K46","v":24196450.420000002}]
[48,{"$f":"'9M.N.'!B47+'9M.E.'!B47+'9M.I.'!B47","v":140380860254},{"$f":"'9M.N.'!C47+'9M.E.'!C47+'9M.I.'!C47","v":22524935641},{"$f":"'9M.N.'!D47+'9M.E.'!D47+'9M.I.'!D47","v":47045827238},{"$f":"'9M.N.'!E47+'9M.E.'!E47+'9M.I.'!E47","v":27269265696},{"$f":"'9M.N.'!F47+'9M.E.'!F47+'9M.I.'!F47","v":77652979860},{"$f":"'9M.N.'!G47+'9M.E.'!G47+'9M.I.'!G47","v":354969306.58000016},{"$f":"'9M.N.'!H47+'9M.E.'!H47+'9M.I.'!H47","v":206156101.47000006},{"$f":"'9M.N.'!I47+'9M.E.'!I47+'9M.I.'!I47","v":5327049.2},{"$f":"'9M.N.'!J47+'9M.E.'!J47+'9M.I.'!J47","v":950000},{"$f":"'9M.N.'!K47+'9M.E.'!K47+'9M.I.'!K47","v":37157483.820000008}]
[49,{"$f":"'9M.N.'!B48+'9M.E.'!B48+'9M.I.'!B48","v":135180746754},{"$f":"'9M.N.'!C48+'9M.E.'!C48+'9M.I.'!C48","v":21306057044},{"$f":"'9M.N.'!D48+'9M.E.'!D48+'9M.I.'!D48","v":45118386839},{"$f":"'9M.N.'!E48+'9M.E.'!E48+'9M.I.'!E48","v":26472897109},{"$f":"'9M.N.'!F48+'9M.E.'!F48+'9M.I.'!F48","v":73774680504},{"$f":"'9M.N.'!G48+'9M.E.'!G48+'9M.I.'!G48","v":331483551.11000007},{"$f":"'9M.N.'!H48+'9M.E.'!H48+'9M.I.'!H48","v":241431466.86000001},{"$f":"'9M.N.'!I48+'9M.E.'!I48+'9M.I.'!I48","v":19667641.5},{"$f":"'9M.N.'!J48+'9M.E.'!J48+'9M.I.'!J48","v":1745000},{"$f":"'9M.N.'!K48+'9M.E.'!K48+'9M.I.'!K48","v":39721854.429999992}]
[50,{"$f":"'9M.N.'!B49+'9M.E.'!B49+'9M.I.'!B49","v":130187047872},{"$f":"'9M.N.'!C49+'9M.E.'!C49+'9M.I.'!C49","v":20544578772},{"$f":"'9M.N.'!D49+'9M.E.'!D49+'9M.I.'!D49","v":41776566910},{"$f":"'9M.N.'!E49+'9M.E.'!E49+'9M.I.'!E49","v":25803211863},{"$f":"'9M.N.'!F49+'9M.E.'!F49+'9M.I.'!F49","v":68712046315},{"$f":"'9M.N.'!G49+'9M.E.'!G49+'9M.I.'!G49","v":384269968.04000014},{"$f":"'9M.N.'!H49+'9M.E.'!H49+'9M.I.'!H49","v":243997786.12},{"$f":"'9M.N.'!I49+'9M.E.'!I49+'9M.I.'!I49","v":12290601.050000001},{"$f":"'9M.N.'!J49+'9M.E.'!J49+'9M.I.'!J49","v":1040000},{"$f":"'9M.N.'!K49+'9M.E.'!K49+'9M.I.'!K49","v":48956728.670000002}]
[51,{"$f":"'9M.N.'!B50+'9M.E.'!B50+'9M.I.'!B50","v":121476510491},{"$f":"'9M.N.'!C50+'9M.E.'!C50+'9M.I.'!C50","v":18068388874},{"$f":"'9M.N.'!D50+'9M.E.'!D50+'9M.I.'!D50","v":38213477996},{"$f":"'9M.N.'!E50+'9M.E.'!E50+'9M.I.'!E50","v":24527507687},{"$f":"'9M.N.'!F50+'9M.E.'!F50+'9M.I.'!F50","v":63813174270},{"$f":"'9M.N.'!G50+'9M.E.'!G50+'9M.I.'!G50","v":353655442.44000018},{"$f":"'9M.N.'!H50+'9M.E.'!H50+'9M.I.'!H50","v":272386726.57000005},{"$f":"'9M.N.'!I50+'9M.E.'!I50+'9M.I.'!I50","v":15233129.02},{"$f":"'9M.N.'!J50+'9M.E.'!J50+'9M.I.'!J50","v":770000},{"$f":"'9M.N.'!K50+'9M.E.'!K50+'9M.I.'!K50","v":36321387.929999992}]
[52,{"$f":"'9M.N.'!B51+'9M.E.'!B51+'9M.I.'!B51","v":109933684814},{"$f":"'9M.N.'!C51+'9M.E.'!C51+'9M.I.'!C51","v":16238401077},{"$f":"'9M.N.'!D51+'9M.E.'!D51+'9M.I.'!D51","v":34088315951},{"$f":"'9M.N.'!E51+'9M.E.'!E51+'9M.I.'!E51","v":24052214421},{"$f":"'9M.N.'!F51+'9M.E.'!F51+'9M.I.'!F51","v":57227435910},{"$f":"'9M.N.'!G51+'9M.E.'!G51+'9M.I.'!G51","v":343000493.92000008},{"$f":"'9M.N.'!H51+'9M.E.'!H51+'9M.I.'!H51","v":257834368.3900001},{"$f":"'9M.N.'!I51+'9M.E.'!I51+'9M.I.'!I51","v":11733805.960000001},{"$f":"'9M.N.'!J51+'9M.E.'!J51+'9M.I.'!J51","v":2714000},{"$f":"'9M.N.'!K51+'9M.E.'!K51+'9M.I.'!K51","v":39037374.029999994}]
[53,{"$f":"'9M.N.'!B52+'9M.E.'!B52+'9M.I.'!B52","v":104412717130},{"$f":"'9M.N.'!C52+'9M.E.'!C52+'9M.I.'!C52","v":14835165906},{"$f":"'9M.N.'!D52+'9M.E.'!D52+'9M.I.'!D52","v":31729303042},{"$f":"'9M.N.'!E52+'9M.E.'!E52+'9M.I.'!E52","v":23701400762},{"$f":"'9M.N.'!F52+'9M.E.'!F52+'9M.I.'!F52","v":53034147322},{"$f":"'9M.N.'!G52+'9M.E.'!G52+'9M.I.'!G52","v":384761584.91999996},{"$f":"'9M.N.'!H52+'9M.E.'!H52+'9M.I.'!H52","v":240194348.12000006},{"$f":"'9M.N.'!I52+'9M.E.'!I52+'9M.I.'!I52","v":12246586.219999999},{"$f":"'9M.N.'!J52+'9M.E.'!J52+'9M.I.'!J52","v":100000},{"$f":"'9M.N.'!K52+'9M.E.'!K52+'9M.I.'!K52","v":37701138.859999999}]
[54,{"$f":"'9M.N.'!B53+'9M.E.'!B53+'9M.I.'!B53","v":97165705151},{"$f":"'9M.N.'!C53+'9M.E.'!C53+'9M.I.'!C53","v":13285291113},{"$f":"'9M.N.'!D53+'9M.E.'!D53+'9M.I.'!D53","v":28443984507},{"$f":"'9M.N.'!E53+'9M.E.'!E53+'9M.I.'!E53","v":23866532507},{"$f":"'9M.N.'!F53+'9M.E.'!F53+'9M.I.'!F53","v":48032816121},{"$f":"'9M.N.'!G53+'9M.E.'!G53+'9M.I.'!G53","v":395616713.03999996},{"$f":"'9M.N.'!H53+'9M.E.'!H53+'9M.I.'!H53","v":245070866.39999998},{"$f":"'9M.N.'!I53+'9M.E.'!I53+'9M.I.'!I53","v":1625439.05},{"$f":"'9M.N.'!J53+'9M.E.'!J53+'9M.I.'!J53","v":710000},{"$f":"'9M.N.'!K53+'9M.E.'!K53+'9M.I.'!K53","v":52817583.019999996}]
[55,{"$f":"'9M.N.'!B54+'9M.E.'!B54+'9M.I.'!B54","v":91842457594},{"$f":"'9M.N.'!C54+'9M.E.'!C54+'9M.I.'!C54","v":12031419433},{"$f":"'9M.N.'!D54+'9M.E.'!D54+'9M.I.'!D54","v":26120477214},{"$f":"'9M.N.'!E54+'9M.E.'!E54+'9M.I.'!E54","v":22808706825},{"$f":"'9M.N.'!F54+'9M.E.'!F54+'9M.I.'!F54","v":43393807356},{"$f":"'9M.N.'!G54+'9M.E.'!G54+'9M.I.'!G54","v":485556875.13999963},{"$f":"'9M.N.'!H54+'9M.E.'!H54+'9M.I.'!H54","v":285574650.83000004},{"$f":"'9M.N.'!I54+'9M.E.'!I54+'9M.I.'!I54","v":13249288.57},{"$f":"'9M.N.'!J54+'9M.E.'!J54+'9M.I.'!J54","v":4174402.75},{"$f":"'9M.N.'!K54+'9M.E.'!K54+'9M.I.'!K54","v":51816266.180000007}]
[56,{"$f":"'9M.N.'!B55+'9M.E.'!B55+'9M.I.'!B55","v":87417553051},{"$f":"'9M.N.'!C55+'9M.E.'!C55+'9M.I.'!C55","v":10351116880},{"$f":"'9M.N.'!D55+'9M.E.'!D55+'9M.I.'!D55","v":23640197792},{"$f":"'9M.N.'!E55+'9M.E.'!E55+'9M.I.'!E55","v":22459374666},{"$f":"'9M.N.'!F55+'9M.E.'!F55+'9M.I.'!F55","v":37473158219},{"$f":"'9M.N.'!G55+'9M.E.'!G55+'9M.I.'!G55","v":416599506.23000026},{"$f":"'9M.N.'!H55+'9M.E.'!H55+'9M.I.'!H55","v":268681981.78000003},{"$f":"'9M.N.'!I55+'9M.E.'!I55+'9M.I.'!I55","v":6957841.9399999995},{"$f":"'9M.N.'!J55+'9M.E.'!J55+'9M.I.'!J55","v":3204553.3},{"$f":"'9M.N.'!K55+'9M.E.'!K55+'9M.I.'!K55","v":60888652.410000011}]
[57,{"$f":"'9M.N.'!B56+'9M.E.'!B56+'9M.I.'!B56","v":80803345601},{"$f":"'9M.N.'!C56+'9M.E.'!C56+'9M.I.'!C56","v":9579676652},{"$f":"'9M.N.'!D56+'9M.E.'!D56+'9M.I.'!D56","v":21350840723},{"$f":"'9M.N.'!E56+'9M.E.'!E56+'9M.I.'!E56","v":21489671709},{"$f":"'9M.N.'!F56+'9M.E.'!F56+'9M.I.'!F56","v":32473853692},{"$f":"'9M.N.'!G56+'9M.E.'!G56+'9M.I.'!G56","v":443771996.59000015},{"$f":"'9M.N.'!H56+'9M.E.'!H56+'9M.I.'!H56","v":245389051.9000001},{"$f":"'9M.N.'!I56+'9M.E.'!I56+'9M.I.'!I56","v":1070067.47},{"$f":"'9M.N.'!J56+'9M.E.'!J56+'9M.I.'!J56","v":1641920.81},{"$f":"'9M.N.'!K56+'9M.E.'!K56+'9M.I.'!K56","v":30810691.820000008}]
[58,{"$f":"'9M.N.'!B57+'9M.E.'!B57+'9M.I.'!B57","v":76382228971},{"$f":"'9M.N.'!C57+'9M.E.'!C57+'9M.I.'!C57","v":9058414057},{"$f":"'9M.N.'!D57+'9M.E.'!D57+'9M.I.'!D57","v":19652943108},{"$f":"'9M.N.'!E57+'9M.E.'!E57+'9M.I.'!E57","v":21043659052},{"$f":"'9M.N.'!F57+'9M.E.'!F57+'9M.I.'!F57","v":28549774732},{"$f":"'9M.N.'!G57+'9M.E.'!G57+'9M.I.'!G57","v":521014548.85000026},{"$f":"'9M.N.'!H57+'9M.E.'!H57+'9M.I.'!H57","v":236439481.62},{"$f":"'9M.N.'!I57+'9M.E.'!I57+'9M.I.'!I57","v":9944756.5399999991},{"$f":"'9M.N.'!J57+'9M.E.'!J57+'9M.I.'!J57","v":2350000},{"$f":"'9M.N.'!K57+'9M.E.'!K57+'9M.I.'!K57","v":37495089.229999997}]
[59,{"$f":"'9M.N.'!B58+'9M.E.'!B58+'9M.I.'!B58","v":74223333442},{"$f":"'9M.N.'!C58+'9M.E.'!C58+'9M.I.'!C58","v":8265539395},{"$f":"'9M.N.'!D58+'9M.E.'!D58+'9M.I.'!D58","v":18558555409},{"$f":"'9M.N.'!E58+'9M.E.'!E58+'9M.I.'!E58","v":20162947201},{"$f":"'9M.N.'!F58+'9M.E.'!F58+'9M.I.'!F58","v":24466460847},{"$f":"'9M.N.'!G58+'9M.E.'!G58+'9M.I.'!G58","v":485546564.07000011},{"$f":"'9M.N.'!H58+'9M.E.'!H58+'9M.I.'!H58","v":266235496.45999998},{"$f":"'9M.N.'!I58+'9M.E.'!I58+'9M.I.'!I58","v":3999644.96},{"$f":"'9M.N.'!J58+'9M.E.'!J58+'9M.I.'!J58","v":649000},{"$f":"'9M.N.'!K58+'9M.E.'!K58+'9M.I.'!K58","v":48666919.88000001}]
[60,{"$f":"'9M.N.'!B59+'9M.E.'!B59+'9M.I.'!B59","v":66689588773},{"$f":"'9M.N.'!C59+'9M.E.'!C59+'9M.I.'!C59","v":6713329839},{"$f":"'9M.N.'!D59+'9M.E.'!D59+'9M.I.'!D59","v":16592777171},{"$f":"'9M.N.'!E59+'9M.E.'!E59+'9M.I.'!E59","v":18879609285},{"$f":"'9M.N.'!F59+'9M.E.'!F59+'9M.I.'!F59","v":16139274894},{"$f":"'9M.N.'!G59+'9M.E.'!G59+'9M.I.'!G59","v":623693744.61999941},{"$f":"'9M.N.'!H59+'9M.E.'!H59+'9M.I.'!H59","v":331941466.99999976},{"$f":"'9M.N.'!I59+'9M.E.'!I59+'9M.I.'!I59","v":23561704.77},{"$f":"'9M.N.'!J59+'9M.E.'!J59+'9M.I.'!J59","v":908000},{"$f":"'9M.N.'!K59+'9M.E.'!K59+'9M.I.'!K59","v":105825265.91000004}]
[61,{"$f":"'9M.N.'!B60+'9M.E.'!B60+'9M.I.'!B60","v":62951464966},{"$f":"'9M.N.'!C60+'9M.E.'!C60+'9M.I.'!C60","v":6334775910},{"$f":"'9M.N.'!D60+'9M.E.'!D60+'9M.I.'!D60","v":14824202425},{"$f":"'9M.N.'!E60+'9M.E.'!E60+'9M.I.'!E60","v":18138856032},{"$f":"'9M.N.'!F60+'9M.E.'!F60+'9M.I.'!F60","v":9782268785},{"$f":"'9M.N.'!G60+'9M.E.'!G60+'9M.I.'!G60","v":511426607.76999992},{"$f":"'9M.N.'!H60+'9M.E.'!H60+'9M.I.'!H60","v":273239763.89000005},{"$f":"'9M.N.'!I60+'9M.E.'!I60+'9M.I.'!I60","v":21863279.539999999},{"$f":"'9M.N.'!J60+'9M.E.'!J60+'9M.I.'!J60","v":648197},{"$f":"'9M.N.'!K60+'9M.E.'!K60+'9M.I.'!K60","v":57782811.000000015}]
[62,{"$f":"'9M.N.'!B61+'9M.E.'!B61+'9M.I.'!B61","v":55884664579},{"$f":"'9M.N.'!C61+'9M.E.'!C61+'9M.I.'!C61","v":4737070317},{"$f":"'9M.N.'!D61+'9M.E.'!D61+'9M.I.'!D61","v":11866611798},{"$f":"'9M.N.'!E61+'9M.E.'!E61+'9M.I.'!E61","v":16508276067},{"$f":"'9M.N.'!F61+'9M.E.'!F61+'9M.I.'!F61","v":7602269205},{"$f":"'9M.N.'!G61+'9M.E.'!G61+'9M.I.'!G61","v":497968354.11000025},{"$f":"'9M.N.'!H61+'9M.E.'!H61+'9M.I.'!H61","v":421985780.35999995},{"$f":"'9M.N.'!I61+'9M.E.'!I61+'9M.I.'!I61","v":3348916.35},{"$f":"'9M.N.'!J61+'9M.E.'!J61+'9M.I.'!J61","v":0},{"$f":"'9M.N.'!K61+'9M.E.'!K61+'9M.I.'!K61","v":21377803.230000004}]
[63,{"$f":"'9M.N.'!B62+'9M.E.'!B62+'9M.I.'!B62","v":48846803491},{"$f":"'9M.N.'!C62+'9M.E.'!C62+'9M.I.'!C62","v":4142430643},{"$f":"'9M.N.'!D62+'9M.E.'!D62+'9M.I.'!D62","v":9848171580},{"$f":"'9M.N.'!E62+'9M.E.'!E62+'9M.I.'!E62","v":14656306019},{"$f":"'9M.N.'!F62+'9M.E.'!F62+'9M.I.'!F62","v":6015123910},{"$f":"'9M.N.'!G62+'9M.E.'!G62+'9M.I.'!G62","v":421376175.33999979},{"$f":"'9M.N.'!H62+'9M.E.'!H62+'9M.I.'!H62","v":229108443.78000006},{"$f":"'9M.N.'!I62+'9M.E.'!I62+'9M.I.'!I62","v":3302358.73},{"$f":"'9M.N.'!J62+'9M.E.'!J62+'9M.I.'!J62","v":950000},{"$f":"'9M.N.'!K62+'9M.E.'!K62+'9M.I.'!K62","v":18022370.91}]
[64,{"$f":"'9M.N.'!B63+'9M.E.'!B63+'9M.I.'!B63","v":45069655217},{"$f":"'9M.N.'!C63+'9M.E.'!C63+'9M.I.'!C63","v":3995518501},{"$f":"'9M.N.'!D63+'9M.E.'!D63+'9M.I.'!D63","v":8864833276},{"$f":"'9M.N.'!E63+'9M.E.'!E63+'9M.I.'!E63","v":13509042300},{"$f":"'9M.N.'!F63+'9M.E.'!F63+'9M.I.'!F63","v":5388725332},{"$f":"'9M.N.'!G63+'9M.E.'!G63+'9M.I.'!G63","v":412899825.05999994},{"$f":"'9M.N.'!H63+'9M.E.'!H63+'9M.I.'!H63","v":182321527.83000007},{"$f":"'9M.N.'!I63+'9M.E.'!I63+'9M.I.'!I63","v":3238393.61},{"$f":"'9M.N.'!J63+'9M.E.'!J63+'9M.I.'!J63","v":1611625},{"$f":"'9M.N.'!K63+'9M.E.'!K63+'9M.I.'!K63","v":16153727.09}]
[65,{"$f":"'9M.N.'!B64+'9M.E.'!B64+'9M.I.'!B64","v":38656260419},{"$f":"'9M.N.'!C64+'9M.E.'!C64+'9M.I.'!C64","v":2722997791},{"$f":"'9M.N.'!D64+'9M.E.'!D64+'9M.I.'!D64","v":7269390632},{"$f":"'9M.N.'!E64+'9M.E.'!E64+'9M.I.'!E64","v":11741429474},{"$f":"'9M.N.'!F64+'9M.E.'!F64+'9M.I.'!F64","v":3760267016},{"$f":"'9M.N.'!G64+'9M.E.'!G64+'9M.I.'!G64","v":486827072.29000032},{"$f":"'9M.N.'!H64+'9M.E.'!H64+'9M.I.'!H64","v":295201320.04000002},{"$f":"'9M.N.'!I64+'9M.E.'!I64+'9M.I.'!I64","v":15475551.210000001},{"$f":"'9M.N.'!J64+'9M.E.'!J64+'9M.I.'!J64","v":320000},{"$f":"'9M.N.'!K64+'9M.E.'!K64+'9M.I.'!K64","v":42679511.650000013}]
[66,{"$f":"'9M.N.'!B65+'9M.E.'!B65+'9M.I.'!B65","v":34058605304},{"$f":"'9M.N.'!C65+'9M.E.'!C65+'9M.I.'!C65","v":1848877595},{"$f":"'9M.N.'!D65+'9M.E.'!D65+'9M.I.'!D65","v":5705410343},{"$f":"'9M.N.'!E65+'9M.E.'!E65+'9M.I.'!E65","v":10152880757},{"$f":"'9M.N.'!F65+'9M.E.'!F65+'9M.I.'!F65","v":2498816782},{"$f":"'9M.N.'!G65+'9M.E.'!G65+'9M.I.'!G65","v":464736772.17999971},{"$f":"'9M.N.'!H65+'9M.E.'!H65+'9M.I.'!H65","v":301467883.92000014},{"$f":"'9M.N.'!I65+'9M.E.'!I65+'9M.I.'!I65","v":28033786.989999998},{"$f":"'9M.N.'!J65+'9M.E.'!J65+'9M.I.'!J65","v":330000},{"$f":"'9M.N.'!K65+'9M.E.'!K65+'9M.I.'!K65","v":50447858.269999996}]
[67,{"$f":"'9M.N.'!B66+'9M.E.'!B66+'9M.I.'!B66","v":28505577356},{"$f":"'9M.N.'!C66+'9M.E.'!C66+'9M.I.'!C66","v":1539911843},{"$f":"'9M.N.'!D66+'9M.E.'!D66+'9M.I.'!D66","v":4334277860},{"$f":"'9M.N.'!E66+'9M.E.'!E66+'9M.I.'!E66","v":8480169167},{"$f":"'9M.N.'!F66+'9M.E.'!F66+'9M.I.'!F66","v":1908804963},{"$f":"'9M.N.'!G66+'9M.E.'!G66+'9M.I.'!G66","v":430773151.84999979},{"$f":"'9M.N.'!H66+'9M.E.'!H66+'9M.I.'!H66","v":165028049.42000005},{"$f":"'9M.N.'!I66+'9M.E.'!I66+'9M.I.'!I66","v":652555.55999999994},{"$f":"'9M.N.'!J66+'9M.E.'!J66+'9M.I.'!J66","v":1500000},{"$f":"'9M.N.'!K66+'9M.E.'!K66+'9M.I.'!K66","v":22649725.999999996}]
[68,{"$f":"'9M.N.'!B67+'9M.E.'!B67+'9M.I.'!B67","v":25127987401},{"$f":"'9M.N.'!C67+'9M.E.'!C67+'9M.I.'!C67","v":1265357434},{"$f":"'9M.N.'!D67+'9M.E.'!D67+'9M.I.'!D67","v":3734546873},{"$f":"'9M.N.'!E67+'9M.E.'!E67+'9M.I.'!E67","v":7021037712},{"$f":"'9M.N.'!F67+'9M.E.'!F67+'9M.I.'!F67","v":1539119353},{"$f":"'9M.N.'!G67+'9M.E.'!G67+'9M.I.'!G67","v":313936914.43000001},{"$f":"'9M.N.'!H67+'9M.E.'!H67+'9M.I.'!H67","v":137505420.88},{"$f":"'9M.N.'!I67+'9M.E.'!I67+'9M.I.'!I67","v":100244.82},{"$f":"'9M.N.'!J67+'9M.E.'!J67+'9M.I.'!J67","v":200000},{"$f":"'9M.N.'!K67+'9M.E.'!K67+'9M.I.'!K67","v":22200809.220000003}]
[69,{"$f":"'9M.N.'!B68+'9M.E.'!B68+'9M.I.'!B68","v":21561562466},{"$f":"'9M.N.'!C68+'9M.E.'!C68+'9M.I.'!C68","v":1013347769},{"$f":"'9M.N.'!D68+'9M.E.'!D68+'9M.I.'!D68","v":3192075324},{"$f":"'9M.N.'!E68+'9M.E.'!E68+'9M.I.'!E68","v":5664856875},{"$f":"'9M.N.'!F68+'9M.E.'!F68+'9M.I.'!F68","v":1171965395},{"$f":"'9M.N.'!G68+'9M.E.'!G68+'9M.I.'!G68","v":308753404.05000007},{"$f":"'9M.N.'!H68+'9M.E.'!H68+'9M.I.'!H68","v":73345521.659999996},{"$f":"'9M.N.'!I68+'9M.E.'!I68+'9M.I.'!I68","v":150000},{"$f":"'9M.N.'!J68+'9M.E.'!J68+'9M.I.'!J68","v":304800},{"$f":"'9M.N.'!K68+'9M.E.'!K68+'9M.I.'!K68","v":15308992.050000001}]
[70,{"$f":"'9M.N.'!B69+'9M.E.'!B69+'9M.I.'!B69","v":18336950700},{"$f":"'9M.N.'!C69+'9M.E.'!C69+'9M.I.'!C69","v":631528670},{"$f":"'9M.N.'!D69+'9M.E.'!D69+'9M.I.'!D69","v":2154403921},{"$f":"'9M.N.'!E69+'9M.E.'!E69+'9M.I.'!E69","v":2995751674},{"$f":"'9M.N.'!F69+'9M.E.'!F69+'9M.I.'!F69","v":834580402},{"$f":"'9M.N.'!G69+'9M.E.'!G69+'9M.I.'!G69","v":336559519.15000015},{"$f":"'9M.N.'!H69+'9M.E.'!H69+'9M.I.'!H69","v":101968721.34},{"$f":"'9M.N.'!I69+'9M.E.'!I69+'9M.I.'!I69","v":150000},{"$f":"'9M.N.'!J69+'9M.E.'!J69+'9M.I.'!J69","v":120400},{"$f":"'9M.N.'!K69+'9M.E.'!K69+'9M.I.'!K69","v":10222827.890000002}]
[71,{"$f":"'9M.N.'!B70+'9M.E.'!B70+'9M.I.'!B70","v":17426530053},{"$f":"'9M.N.'!C70+'9M.E.'!C70+'9M.I.'!C70","v":765186842},{"$f":"'9M.N.'!D70+'9M.E.'!D70+'9M.I.'!D70","v":7361059238},{"$f":"'9M.N.'!E70+'9M.E.'!E70+'9M.I.'!E70","v":1585369494},{"$f":"'9M.N.'!F70+'9M.E.'!F70+'9M.I.'!F70","v":476189504},{"$f":"'9M.N.'!G70+'9M.E.'!G70+'9M.I.'!G70","v":302179735.77000028},{"$f":"'9M.N.'!H70+'9M.E.'!H70+'9M.I.'!H70","v":71453979.88000001},{"$f":"'9M.N.'!I70+'9M.E.'!I70+'9M.I.'!I70","v":5089139.47},{"$f":"'9M.N.'!J70+'9M.E.'!J70+'9M.I.'!J70","v":0},{"$f":"'9M.N.'!K70+'9M.E.'!K70+'9M.I.'!K70","v":9614863.6900000013}]
[72,{"$f":"'9M.N.'!B71+'9M.E.'!B71+'9M.I.'!B71","v":12641080299},{"$f":"'9M.N.'!C71+'9M.E.'!C71+'9M.I.'!C71","v":502230321},{"$f":"'9M.N.'!D71+'9M.E.'!D71+'9M.I.'!D71","v":1266796913},{"$f":"'9M.N.'!E71+'9M.E.'!E71+'9M.I.'!E71","v":253928012},{"$f":"'9M.N.'!F71+'9M.E.'!F71+'9M.I.'!F71","v":186383439},{"$f":"'9M.N.'!G71+'9M.E.'!G71+'9M.I.'!G71","v":221258661.38000003},{"$f":"'9M.N.'!H71+'9M.E.'!H71+'9M.I.'!H71","v":76051230.280000046},{"$f":"'9M.N.'!I71+'9M.E.'!I71+'9M.I.'!I71","v":199072},{"$f":"'9M.N.'!J71+'9M.E.'!J71+'9M.I.'!J71","v":0},{"$f":"'9M.N.'!K71+'9M.E.'!K71+'9M.I.'!K71","v":5604282.8699999992}]
[73,{"$f":"'9M.N.'!B72+'9M.E.'!B72+'9M.I.'!B72","v":10729586612},{"$f":"'9M.N.'!C72+'9M.E.'!C72+'9M.I.'!C72","v":315383431},{"$f":"'9M.N.'!D72+'9M.E.'!D72+'9M.I.'!D72","v":1204943536},{"$f":"'9M.N.'!E72+'9M.E.'!E72+'9M.I.'!E72","v":218819995},{"$f":"'9M.N.'!F72+'9M.E.'!F72+'9M.I.'!F72","v":135960548},{"$f":"'9M.N.'!G72+'9M.E.'!G72+'9M.I.'!G72","v":192612203.91000018},{"$f":"'9M.N.'!H72+'9M.E.'!H72+'9M.I.'!H72","v":76406968.5},{"$f":"'9M.N.'!I72+'9M.E.'!I72+'9M.I.'!I72","v":200000},{"$f":"'9M.N.'!J72+'9M.E.'!J72+'9M.I.'!J72","v":0},{"$f":"'9M.N.'!K72+'9M.E.'!K72+'9M.I.'!K72","v":3155186.6000000006}]
[74,{"$f":"'9M.N.'!B73+'9M.E.'!B73+'9M.I.'!B73","v":9663542983},{"$f":"'9M.N.'!C73+'9M.E.'!C73+'9M.I.'!C73","v":333790876},{"$f":"'9M.N.'!D73+'9M.E.'!D73+'9M.I.'!D73","v":899101306},{"$f":"'9M.N.'!E73+'9M.E.'!E73+'9M.I.'!E73","v":138363743},{"$f":"'9M.N.'!F73+'9M.E.'!F73+'9M.I.'!F73","v":105715656},{"$f":"'9M.N.'!G73+'9M.E.'!G73+'9M.I.'!G73","v":177028867.20000005},{"$f":"'9M.N.'!H73+'9M.E.'!H73+'9M.I.'!H73","v":32661633.609999999},{"$f":"'9M.N.'!I73+'9M.E.'!I73+'9M.I.'!I73","v":0},{"$f":"'9M.N.'!J73+'9M.E.'!J73+'9M.I.'!J73","v":0},{"$f":"'9M.N.'!K73+'9M.E.'!K73+'9M.I.'!K73","v":6716537.9800000004}]
[75,{"$f":"'9M.N.'!B74+'9M.E.'!B74+'9M.I.'!B74","v":8434849078},{"$f":"'9M.N.'!C74+'9M.E.'!C74+'9M.I.'!C74","v":188354071},{"$f":"'9M.N.'!D74+'9M.E.'!D74+'9M.I.'!D74","v":821659974},{"$f":"'9M.N.'!E74+'9M.E.'!E74+'9M.I.'!E74","v":102565264},{"$f":"'9M.N.'!F74+'9M.E.'!F74+'9M.I.'!F74","v":55463655},{"$f":"'9M.N.'!G74+'9M.E.'!G74+'9M.I.'!G74","v":147544301.5},{"$f":"'9M.N.'!H74+'9M.E.'!H74+'9M.I.'!H74","v":55284813.629999995},{"$f":"'9M.N.'!I74+'9M.E.'!I74+'9M.I.'!I74","v":0},{"$f":"'9M.N.'!J74+'9M.E.'!J74+'9M.I.'!J74","v":0},{"$f":"'9M.N.'!K74+'9M.E.'!K74+'9M.I.'!K74","v":197223.88}]
[76,{"$f":"'9M.N.'!B75+'9M.E.'!B75+'9M.I.'!B75","v":7085146107},{"$f":"'9M.N.'!C75+'9M.E.'!C75+'9M.I.'!C75","v":166362150},{"$f":"'9M.N.'!D75+'9M.E.'!D75+'9M.I.'!D75","v":715890476},{"$f":"'9M.N.'!E75+'9M.E.'!E75+'9M.I.'!E75","v":90957978},{"$f":"'9M.N.'!F75+'9M.E.'!F75+'9M.I.'!F75","v":33064276},{"$f":"'9M.N.'!G75+'9M.E.'!G75+'9M.I.'!G75","v":157394202.49000007},{"$f":"'9M.N.'!H75+'9M.E.'!H75+'9M.I.'!H75","v":51529100.330000006},{"$f":"'9M.N.'!I75+'9M.E.'!I75+'9M.I.'!I75","v":0},{"$f":"'9M.N.'!J75+'9M.E.'!J75+'9M.I.'!J75","v":0},{"$f":"'9M.N.'!K75+'9M.E.'!K75+'9M.I.'!K75","v":294156.07}]
[77,{"$f":"'9M.N.'!B76+'9M.E.'!B76+'9M.I.'!B76","v":5878001730},{"$f":"'9M.N.'!C76+'9M.E.'!C76+'9M.I.'!C76","v":140815505},{"$f":"'9M.N.'!D76+'9M.E.'!D76+'9M.I.'!D76","v":589758375},{"$f":"'9M.N.'!E76+'9M.E.'!E76+'9M.I.'!E76","v":77715497},{"$f":"'9M.N.'!F76+'9M.E.'!F76+'9M.I.'!F76","v":32225450},{"$f":"'9M.N.'!G76+'9M.E.'!G76+'9M.I.'!G76","v":139299566.31000006},{"$f":"'9M.N.'!H76+'9M.E.'!H76+'9M.I.'!H76","v":27734940.120000001},{"$f":"'9M.N.'!I76+'9M.E.'!I76+'9M.I.'!I76","v":0},{"$f":"'9M.N.'!J76+'9M.E.'!J76+'9M.I.'!J76","v":0},{"$f":"'9M.N.'!K76+'9M.E.'!K76+'9M.I.'!K76","v":69464.26999999999}]
[78,{"$f":"'9M.N.'!B77+'9M.E.'!B77+'9M.I.'!B77","v":4637701873},{"$f":"'9M.N.'!C77+'9M.E.'!C77+'9M.I.'!C77","v":135310484},{"$f":"'9M.N.'!D77+'9M.E.'!D77+'9M.I.'!D77","v":552613034},{"$f":"'9M.N.'!E77+'9M.E.'!E77+'9M.I.'!E77","v":63755115},{"$f":"'9M.N.'!F77+'9M.E.'!F77+'9M.I.'!F77","v":17936261},{"$f":"'9M.N.'!G77+'9M.E.'!G77+'9M.I.'!G77","v":147952117.33999997},{"$f":"'9M.N.'!H77+'9M.E.'!H77+'9M.I.'!H77","v":22496993.059999999},{"$f":"'9M.N.'!I77+'9M.E.'!I77+'9M.I.'!I77","v":100000},{"$f":"'9M.N.'!J77+'9M.E.'!J77+'9M.I.'!J77","v":0},{"$f":"'9M.N.'!K77+'9M.E.'!K77+'9M.I.'!K77","v":31401.210000000003}]
[79,{"$f":"'9M.N.'!B78+'9M.E.'!B78+'9M.I.'!B78","v":3797420194},{"$f":"'9M.N.'!C78+'9M.E.'!C78+'9M.I.'!C78","v":65790776},{"$f":"'9M.N.'!D78+'9M.E.'!D78+'9M.I.'!D78","v":475726616},{"$f":"'9M.N.'!E78+'9M.E.'!E78+'9M.I.'!E78","v":55310415},{"$f":"'9M.N.'!F78+'9M.E.'!F78+'9M.I.'!F78","v":21042863},{"$f":"'9M.N.'!G78+'9M.E.'!G78+'9M.I.'!G78","v":57111487.390000008},{"$f":"'9M.N.'!H78+'9M.E.'!H78+'9M.I.'!H78","v":20756043.629999999},{"$f":"'9M.N.'!I78+'9M.E.'!I78+'9M.I.'!I78","v":0},{"$f":"'9M.N.'!J78+'9M.E.'!J78+'9M.I.'!J78","v":0},{"$f":"'9M.N.'!K78+'9M.E.'!K78+'9M.I.'!K78","v":0}]
[80,{"$f":"'9M.N.'!B79+'9M.E.'!B79+'9M.I.'!B79","v":3816194307},{"$f":"'9M.N.'!C79+'9M.E.'!C79+'9M.I.'!C79","v":55644300},{"$f":"'9M.N.'!D79+'9M.E.'!D79+'9M.I.'!D79","v":455765427},{"$f":"'9M.N.'!E79+'9M.E.'!E79+'9M.I.'!E79","v":63739919},{"$f":"'9M.N.'!F79+'9M.E.'!F79+'9M.I.'!F79","v":763681500},{"$f":"'9M.N.'!G79+'9M.E.'!G79+'9M.I.'!G79","v":64780222.999999985},{"$f":"'9M.N.'!H79+'9M.E.'!H79+'9M.I.'!H79","v":12330917.65},{"$f":"'9M.N.'!I79+'9M.E.'!I79+'9M.I.'!I79","v":100000},{"$f":"'9M.N.'!J79+'9M.E.'!J79+'9M.I.'!J79","v":0},{"$f":"'9M.N.'!K79+'9M.E.'!K79+'9M.I.'!K79","v":1105.3}]
[81,{"$f":"'9M.N.'!B80+'9M.E.'!B80+'9M.I.'!B80","v":2449859231},{"$f":"'9M.N.'!C80+'9M.E.'!C80+'9M.I.'!C80","v":18528343},{"$f":"'9M.N.'!D80+'9M.E.'!D80+'9M.I.'!D80","v":395561193},{"$f":"'9M.N.'!E80+'9M.E.'!E80+'9M.I.'!E80","v":45974625},{"$f":"'9M.N.'!F80+'9M.E.'!F80+'9M.I.'!F80","v":10461000},{"$f":"'9M.N.'!G80+'9M.E.'!G80+'9M.I.'!G80","v":56882045.240000002},{"$f":"'9M.N.'!H80+'9M.E.'!H80+'9M.I.'!H80","v":8575278.3899999987},{"$f":"'9M.N.'!I80+'9M.E.'!I80+'9M.I.'!I80","v":0},{"$f":"'9M.N.'!J80+'9M.E.'!J80+'9M.I.'!J80","v":0},{"$f":"'9M.N.'!K80+'9M.E.'!K80+'9M.I.'!K80","v":69.06}]
[82,{"$f":"'9M.N.'!B81+'9M.E.'!B81+'9M.I.'!B81","v":2114334686},{"$f":"'9M.N.'!C81+'9M.E.'!C81+'9M.I.'!C81","v":39600655},{"$f":"'9M.N.'!D81+'9M.E.'!D81+'9M.I.'!D81","v":381534287},{"$f":"'9M.N.'!E81+'9M.E.'!E81+'9M.I.'!E81","v":43412543},{"$f":"'9M.N.'!F81+'9M.E.'!F81+'9M.I.'!F81","v":6780152},{"$f":"'9M.N.'!G81+'9M.E.'!G81+'9M.I.'!G81","v":234550579.98000014},{"$f":"'9M.N.'!H81+'9M.E.'!H81+'9M.I.'!H81","v":14010889.529999999},{"$f":"'9M.N.'!I81+'9M.E.'!I81+'9M.I.'!I81","v":0},{"$f":"'9M.N.'!J81+'9M.E.'!J81+'9M.I.'!J81","v":0},{"$f":"'9M.N.'!K81+'9M.E.'!K81+'9M.I.'!K81","v":19.670000000000002}]
[83,{"$f":"'9M.N.'!B82+'9M.E.'!B82+'9M.I.'!B82","v":1482272820},{"$f":"'9M.N.'!C82+'9M.E.'!C82+'9M.I.'!C82","v":1474797},{"$f":"'9M.N.'!D82+'9M.E.'!D82+'9M.I.'!D82","v":353232231},{"$f":"'9M.N.'!E82+'9M.E.'!E82+'9M.I.'!E82","v":41933899},{"$f":"'9M.N.'!F82+'9M.E.'!F82+'9M.I.'!F82","v":461005},{"$f":"'9M.N.'!G82+'9M.E.'!G82+'9M.I.'!G82","v":38464869.32},{"$f":"'9M.N.'!H82+'9M.E.'!H82+'9M.I.'!H82","v":1676825.6099999999},{"$f":"'9M.N.'!I82+'9M.E.'!I82+'9M.I.'!I82","v":0},{"$f":"'9M.N.'!J82+'9M.E.'!J82+'9M.I.'!J82","v":0},{"$f":"'9M.N.'!K82+'9M.E.'!K82+'9M.I.'!K82","v":18.010000000000002}]
[84,{"$f":"'9M.N.'!B83+'9M.E.'!B83+'9M.I.'!B83","v":979257883},{"$f":"'9M.N.'!C83+'9M.E.'!C83+'9M.I.'!C83","v":4187858},{"$f":"'9M.N.'!D83+'9M.E.'!D83+'9M.I.'!D83","v":338076009},{"$f":"'9M.N.'!E83+'9M.E.'!E83+'9M.I.'!E83","v":48099958},{"$f":"'9M.N.'!F83+'9M.E.'!F83+'9M.I.'!F83","v":20000},{"$f":"'9M.N.'!G83+'9M.E.'!G83+'9M.I.'!G83","v":19880856.850000001},{"$f":"'9M.N.'!H83+'9M.E.'!H83+'9M.I.'!H83","v":1243950.83},{"$f":"'9M.N.'!I83+'9M.E.'!I83+'9M.I.'!I83","v":0},{"$f":"'9M.N.'!J83+'9M.E.'!J83+'9M.I.'!J83","v":0},{"$f":"'9M.N.'!K83+'9M.E.'!K83+'9M.I.'!K83","v":0}]
[85,{"$f":"'9M.N.'!B84+'9M.E.'!B84+'9M.I.'!B84","v":786875086},{"$f":"'9M.N.'!C84+'9M.E.'!C84+'9M.I.'!C84","v":3828392},{"$f":"'9M.N.'!D84+'9M.E.'!D84+'9M.I.'!D84","v":321970098},{"$f":"'9M.N.'!E84+'9M.E.'!E84+'9M.I.'!E84","v":40741361},{"$f":"'9M.N.'!F84+'9M.E.'!F84+'9M.I.'!F84","v":0},{"$f":"'9M.N.'!G84+'9M.E.'!G84+'9M.I.'!G84","v":16094788.250000002},{"$f":"'9M.N.'!H84+'9M.E.'!H84+'9M.I.'!H84","v":390438.18},{"$f":"'9M.N.'!I84+'9M.E.'!I84+'9M.I.'!I84","v":0},{"$f":"'9M.N.'!J84+'9M.E.'!J84+'9M.I.'!J84","v":0},{"$f":"'9M.N.'!K84+'9M.E.'!K84+'9M.I.'!K84","v":0}]
[86,{"$f":"'9M.N.'!B85+'9M.E.'!B85+'9M.I.'!B85","v":657266589},{"$f":"'9M.N.'!C85+'9M.E.'!C85+'9M.I.'!C85","v":2137652},{"$f":"'9M.N.'!D85+'9M.E.'!D85+'9M.I.'!D85","v":311275009},{"$f":"'9M.N.'!E85+'9M.E.'!E85+'9M.I.'!E85","v":41235500},{"$f":"'9M.N.'!F85+'9M.E.'!F85+'9M.I.'!F85","v":0},{"$f":"'9M.N.'!G85+'9M.E.'!G85+'9M.I.'!G85","v":8437979.1300000008},{"$f":"'9M.N.'!H85+'9M.E.'!H85+'9M.I.'!H85","v":6632255.8600000003},{"$f":"'9M.N.'!I85+'9M.E.'!I85+'9M.I.'!I85","v":0},{"$f":"'9M.N.'!J85+'9M.E.'!J85+'9M.I.'!J85","v":0},{"$f":"'9M.N.'!K85+'9M.E.'!K85+'9M.I.'!K85","v":370.79}]
[87,{"$f":"'9M.N.'!B86+'9M.E.'!B86+'9M.I.'!B86","v":923109395},{"$f":"'9M.N.'!C86+'9M.E.'!C86+'9M.I.'!C86","v":723514},{"$f":"'9M.N.'!D86+'9M.E.'!D86+'9M.I.'!D86","v":304832868},{"$f":"'9M.N.'!E86+'9M.E.'!E86+'9M.I.'!E86","v":39075983},{"$f":"'9M.N.'!F86+'9M.E.'!F86+'9M.I.'!F86","v":0},{"$f":"'9M.N.'!G86+'9M.E.'!G86+'9M.I.'!G86","v":6979266.6900000004},{"$f":"'9M.N.'!H86+'9M.E.'!H86+'9M.I.'!H86","v":1204164.1299999999},{"$f":"'9M.N.'!I86+'9M.E.'!I86+'9M.I.'!I86","v":0},{"$f":"'9M.N.'!J86+'9M.E.'!J86+'9M.I.'!J86","v":0},{"$f":"'9M.N.'!K86+'9M.E.'!K86+'9M.I.'!K86","v":0}]
[88,{"$f":"'9M.N.'!B87+'9M.E.'!B87+'9M.I.'!B87","v":293118248},{"$f":"'9M.N.'!C87+'9M.E.'!C87+'9M.I.'!C87","v":100000},{"$f":"'9M.N.'!D87+'9M.E.'!D87+'9M.I.'!D87","v":299637163},{"$f":"'9M.N.'!E87+'9M.E.'!E87+'9M.I.'!E87","v":38575000},{"$f":"'9M.N.'!F87+'9M.E.'!F87+'9M.I.'!F87","v":0},{"$f":"'9M.N.'!G87+'9M.E.'!G87+'9M.I.'!G87","v":11195275.810000001},{"$f":"'9M.N.'!H87+'9M.E.'!H87+'9M.I.'!H87","v":610341.54},{"$f":"'9M.N.'!I87+'9M.E.'!I87+'9M.I.'!I87","v":0},{"$f":"'9M.N.'!J87+'9M.E.'!J87+'9M.I.'!J87","v":0},{"$f":"'9M.N.'!K87+'9M.E.'!K87+'9M.I.'!K87","v":27.49}]
[89,{"$f":"'9M.N.'!B88+'9M.E.'!B88+'9M.I.'!B88","v":261282352},{"$f":"'9M.N.'!C88+'9M.E.'!C88+'9M.I.'!C88","v":1},{"$f":"'9M.N.'!D88+'9M.E.'!D88+'9M.I.'!D88","v":281915336},{"$f":"'9M.N.'!E88+'9M.E.'!E88+'9M.I.'!E88","v":35135823},{"$f":"'9M.N.'!F88+'9M.E.'!F88+'9M.I.'!F88","v":1000000},{"$f":"'9M.N.'!G88+'9M.E.'!G88+'9M.I.'!G88","v":1640761.7700000003},{"$f":"'9M.N.'!H88+'9M.E.'!H88+'9M.I.'!H88","v":1410335.95},{"$f":"'9M.N.'!I88+'9M.E.'!I88+'9M.I.'!I88","v":0},{"$f":"'9M.N.'!J88+'9M.E.'!J88+'9M.I.'!J88","v":0},{"$f":"'9M.N.'!K88+'9M.E.'!K88+'9M.I.'!K88","v":437.34000000000003}]
[90,{"$f":"'9M.N.'!B89+'9M.E.'!B89+'9M.I.'!B89","v":207823202},{"$f":"'9M.N.'!C89+'9M.E.'!C89+'9M.I.'!C89","v":0},{"$f":"'9M.N.'!D89+'9M.E.'!D89+'9M.I.'!D89","v":298565506},{"$f":"'9M.N.'!E89+'9M.E.'!E89+'9M.I.'!E89","v":42597000},{"$f":"'9M.N.'!F89+'9M.E.'!F89+'9M.I.'!F89","v":0},{"$f":"'9M.N.'!G89+'9M.E.'!G89+'9M.I.'!G89","v":3489846.94},{"$f":"'9M.N.'!H89+'9M.E.'!H89+'9M.I.'!H89","v":0},{"$f":"'9M.N.'!I89+'9M.E.'!I89+'9M.I.'!I89","v":0},{"$f":"'9M.N.'!J89+'9M.E.'!J89+'9M.I.'!J89","v":0},{"$f":"'9M.N.'!K89+'9M.E.'!K89+'9M.I.'!K89","v":0}]
[91,{"$f":"'9M.N.'!B90+'9M.E.'!B90+'9M.I.'!B90","v":201767864},{"$f":"'9M.N.'!C90+'9M.E.'!C90+'9M.I.'!C90","v":0},{"$f":"'9M.N.'!D90+'9M.E.'!D90+'9M.I.'!D90","v":291187094},{"$f":"'9M.N.'!E90+'9M.E.'!E90+'9M.I.'!E90","v":40522000},{"$f":"'9M.N.'!F90+'9M.E.'!F90+'9M.I.'!F90","v":0},{"$f":"'9M.N.'!G90+'9M.E.'!G90+'9M.I.'!G90","v":9033757.1700000018},{"$f":"'9M.N.'!H90+'9M.E.'!H90+'9M.I.'!H90","v":598956.48},{"$f":"'9M.N.'!I90+'9M.E.'!I90+'9M.I.'!I90","v":0},{"$f":"'9M.N.'!J90+'9M.E.'!J90+'9M.I.'!J90","v":0},{"$f":"'9M.N.'!K90+'9M.E.'!K90+'9M.I.'!K90","v":37.58}]
[92,{"$f":"'9M.N.'!B91+'9M.E.'!B91+'9M.I.'!B91","v":107491033},{"$f":"'9M.N.'!C91+'9M.E.'!C91+'9M.I.'!C91","v":1490433},{"$f":"'9M.N.'!D91+'9M.E.'!D91+'9M.I.'!D91","v":276764292},{"$f":"'9M.N.'!E91+'9M.E.'!E91+'9M.I.'!E91","v":36521000},{"$f":"'9M.N.'!F91+'9M.E.'!F91+'9M.I.'!F91","v":0},{"$f":"'9M.N.'!G91+'9M.E.'!G91+'9M.I.'!G91","v":2322485.27},{"$f":"'9M.N.'!H91+'9M.E.'!H91+'9M.I.'!H91","v":855762.74},{"$f":"'9M.N.'!I91+'9M.E.'!I91+'9M.I.'!I91","v":0},{"$f":"'9M.N.'!J91+'9M.E.'!J91+'9M.I.'!J91","v":0},{"$f":"'9M.N.'!K91+'9M.E.'!K91+'9M.I.'!K91","v":2.4}]
[93,{"$f":"'9M.N.'!B92+'9M.E.'!B92+'9M.I.'!B92","v":98705125},{"$f":"'9M.N.'!C92+'9M.E.'!C92+'9M.I.'!C92","v":0},{"$f":"'9M.N.'!D92+'9M.E.'!D92+'9M.I.'!D92","v":290254230},{"$f":"'9M.N.'!E92+'9M.E.'!E92+'9M.I.'!E92","v":44528100},{"$f":"'9M.N.'!F92+'9M.E.'!F92+'9M.I.'!F92","v":0},{"$f":"'9M.N.'!G92+'9M.E.'!G92+'9M.I.'!G92","v":1698355.77},{"$f":"'9M.N.'!H92+'9M.E.'!H92+'9M.I.'!H92","v":1496446.19},{"$f":"'9M.N.'!I92+'9M.E.'!I92+'9M.I.'!I92","v":0},{"$f":"'9M.N.'!J92+'9M.E.'!J92+'9M.I.'!J92","v":0},{"$f":"'9M.N.'!K92+'9M.E.'!K92+'9M.I.'!K92","v":0}]
[94,{"$f":"'9M.N.'!B93+'9M.E.'!B93+'9M.I.'!B93","v":85947332},{"$f":"'9M.N.'!C93+'9M.E.'!C93+'9M.I.'!C93","v":0},{"$f":"'9M.N.'!D93+'9M.E.'!D93+'9M.I.'!D93","v":281802200},{"$f":"'9M.N.'!E93+'9M.E.'!E93+'9M.I.'!E93","v":40516000},{"$f":"'9M.N.'!F93+'9M.E.'!F93+'9M.I.'!F93","v":0},{"$f":"'9M.N.'!G93+'9M.E.'!G93+'9M.I.'!G93","v":4780976.4099999992},{"$f":"'9M.N.'!H93+'9M.E.'!H93+'9M.I.'!H93","v":113132.23000000001},{"$f":"'9M.N.'!I93+'9M.E.'!I93+'9M.I.'!I93","v":17460},{"$f":"'9M.N.'!J93+'9M.E.'!J93+'9M.I.'!J93","v":0},{"$f":"'9M.N.'!K93+'9M.E.'!K93+'9M.I.'!K93","v":0}]
[95,{"$f":"'9M.N.'!B94+'9M.E.'!B94+'9M.I.'!B94","v":94445410},{"$f":"'9M.N.'!C94+'9M.E.'!C94+'9M.I.'!C94","v":0},{"$f":"'9M.N.'!D94+'9M.E.'!D94+'9M.I.'!D94","v":290776000},{"$f":"'9M.N.'!E94+'9M.E.'!E94+'9M.I.'!E94","v":36509000},{"$f":"'9M.N.'!F94+'9M.E.'!F94+'9M.I.'!F94","v":0},{"$f":"'9M.N.'!G94+'9M.E.'!G94+'9M.I.'!G94","v":4610755.13},{"$f":"'9M.N.'!H94+'9M.E.'!H94+'9M.I.'!H94","v":506703.5},{"$f":"'9M.N.'!I94+'9M.E.'!I94+'9M.I.'!I94","v":0},{"$f":"'9M.N.'!J94+'9M.E.'!J94+'9M.I.'!J94","v":0},{"$f":"'9M.N.'!K94+'9M.E.'!K94+'9M.I.'!K94","v":23.18}]
[96,{"$f":"'9M.N.'!B95+'9M.E.'!B95+'9M.I.'!B95","v":128883994},{"$f":"'9M.N.'!C95+'9M.E.'!C95+'9M.I.'!C95","v":0},{"$f":"'9M.N.'!D95+'9M.E.'!D95+'9M.I.'!D95","v":297456375},{"$f":"'9M.N.'!E95+'9M.E.'!E95+'9M.I.'!E95","v":47114000},{"$f":"'9M.N.'!F95+'9M.E.'!F95+'9M.I.'!F95","v":60000},{"$f":"'9M.N.'!G95+'9M.E.'!G95+'9M.I.'!G95","v":720845},{"$f":"'9M.N.'!H95+'9M.E.'!H95+'9M.I.'!H95","v":100111.07},{"$f":"'9M.N.'!I95+'9M.E.'!I95+'9M.I.'!I95","v":0},{"$f":"'9M.N.'!J95+'9M.E.'!J95+'9M.I.'!J95","v":0},{"$f":"'9M.N.'!K95+'9M.E.'!K95+'9M.I.'!K95","v":0}]
[97,{"$f":"'9M.N.'!B96+'9M.E.'!B96+'9M.I.'!B96","v":104468548},{"$f":"'9M.N.'!C96+'9M.E.'!C96+'9M.I.'!C96","v":0},{"$f":"'9M.N.'!D96+'9M.E.'!D96+'9M.I.'!D96","v":284321850},{"$f":"'9M.N.'!E96+'9M.E.'!E96+'9M.I.'!E96","v":46006000},{"$f":"'9M.N.'!F96+'9M.E.'!F96+'9M.I.'!F96","v":0},{"$f":"'9M.N.'!G96+'9M.E.'!G96+'9M.I.'!G96","v":564212.21},{"$f":"'9M.N.'!H96+'9M.E.'!H96+'9M.I.'!H96","v":288100.64},{"$f":"'9M.N.'!I96+'9M.E.'!I96+'9M.I.'!I96","v":0},{"$f":"'9M.N.'!J96+'9M.E.'!J96+'9M.I.'!J96","v":0},{"$f":"'9M.N.'!K96+'9M.E.'!K96+'9M.I.'!K96","v":133.1}]
[98,{"$f":"'9M.N.'!B97+'9M.E.'!B97+'9M.I.'!B97","v":77452868},{"$f":"'9M.N.'!C97+'9M.E.'!C97+'9M.I.'!C97","v":0},{"$f":"'9M.N.'!D97+'9M.E.'!D97+'9M.I.'!D97","v":283217500},{"$f":"'9M.N.'!E97+'9M.E.'!E97+'9M.I.'!E97","v":41507000},{"$f":"'9M.N.'!F97+'9M.E.'!F97+'9M.I.'!F97","v":0},{"$f":"'9M.N.'!G97+'9M.E.'!G97+'9M.I.'!G97","v":446979.32},{"$f":"'9M.N.'!H97+'9M.E.'!H97+'9M.I.'!H97","v":0},{"$f":"'9M.N.'!I97+'9M.E.'!I97+'9M.I.'!I97","v":0},{"$f":"'9M.N.'!J97+'9M.E.'!J97+'9M.I.'!J97","v":0},{"$f":"'9M.N.'!K97+'9M.E.'!K97+'9M.I.'!K97","v":0}]
[99,{"$f":"'9M.N.'!B98+'9M.E.'!B98+'9M.I.'!B98","v":13790197},{"$f":"'9M.N.'!C98+'9M.E.'!C98+'9M.I.'!C98","v":0},{"$f":"'9M.N.'!D98+'9M.E.'!D98+'9M.I.'!D98","v":350000},{"$f":"'9M.N.'!E98+'9M.E.'!E98+'9M.I.'!E98","v":0},{"$f":"'9M.N.'!F98+'9M.E.'!F98+'9M.I.'!F98","v":0},{"$f":"'9M.N.'!G98+'9M.E.'!G98+'9M.I.'!G98","v":66780},{"$f":"'9M.N.'!H98+'9M.E.'!H98+'9M.I.'!H98","v":0},{"$f":"'9M.N.'!I98+'9M.E.'!I98+'9M.I.'!I98","v":0},{"$f":"'9M.N.'!J98+'9M.E.'!J98+'9M.I.'!J98","v":0},{"$f":"'9M.N.'!K98+'9M.E.'!K98+'9M.I.'!K98","v":0}]
["100 años y más",{"$f":"'9M.N.'!B99+'9M.E.'!B99+'9M.I.'!B99","v":66276728},{"$f":"'9M.N.'!C99+'9M.E.'!C99+'9M.I.'!C99","v":0},{"$f":"'9M.N.'!D99+'9M.E.'!D99+'9M.I.'!D99","v":400000},{"$f":"'9M.N.'!E99+'9M.E.'!E99+'9M.I.'!E99","v":0},{"$f":"'9M.N.'!F99+'9M.E.'!F99+'9M.I.'!F99","v":0},{"$f":"'9M.N.'!G99+'9M.E.'!G99+'9M.I.'!G99","v":15000},{"$f":"'9M.N.'!H99+'9M.E.'!H99+'9M.I.'!H99","v":20163.07},{"$f":"'9M.N.'!I99+'9M.E.'!I99+'9M.I.'!I99","v":0},{"$f":"'9M.N.'!J99+'9M.E.'!J99+'9M.I.'!J99","v":0},{"$f":"'9M.N.'!K99+'9M.E.'!K99+'9M.I.'!K99","v":0}]
["No Especificado",null,null,null,null,null,778754240.93000031,19342488.479999997,53104386,5041000,5986905.8199999994]
["TOTAL",{"$f":"SUM(B14:B100)","v":4509326461362},{"$f":"SUM(C14:C100)","v":538933078425},1484602613234,931860052197,2215087565159,15731452357.379999,11581923597.76,466399173.24000013,53201151.359999999,1171119609.0999999]

{"sheet":"9M.N.","index":64,"n_rows":100,"n_cols":11,"rows_kept":100,"cut":false,"hidden":false,"merged":[[10,1,10,5],[10,6,10,10],[100,0,100,14],[6,0,6,10],[1,0,1,10],[2,0,2,10],[3,0,3,10],[4,0,4,10],[5,0,5,10],[7,0,7,10],[8,0,8,10],[11,7,12,7],[11,8,12,8],[11,9,12,9],[11,10,12,10],[11,1,12,1],[11,2,12,2],[11,3,12,3],[11,4,12,4],[11,5,12,5],[11,6,12,6]]}
[]
["9. SEGURO DIRECTO EN LA OPERACIÓN DE VIDA "]
["POR TIPO DE SEGURO CONTRATADO Y EDAD ALCANZADA"]
[]
[{"$f":"'1 Total'!B3","v":"DICIEMBRE DE 2021"}]
[]
["VIDA INDIVIDUAL"]
[]
["MONEDA NACIONAL"]
[null,2,3,4,7,8,9,5,6,10,11]
["EDAD ","SUMA  ASEGURADA",null,null,null,null,"SINIESTROS  DIRECTOS"]
["ALCANZADA","MUERTE","SOBREVIVENCIA","MUERTE\nACCIDENTAL","MUERTE\nCOLECTIVA","POR INVALIDEZ","MUERTE","SOBREVIVENCIA","MUERTE\nACCIDENTAL","MUERTE\nCOLECTIVA","POR INVALIDEZ"]
[]
["Hasta 15 años",21155103303,4676853216,6694808347,2238025,590077656,78397364.49000001,null,100000,null,571467]
[16,1008914903,43703047,54927260,6871648,148067726,229999.99,null,null,null,169735.59]
[17,1036206757,52779561,94364802,3563409,169032379,124999.99,4663503]
[18,3385419593,37231530,1021333768,87690032,608086022,4200000,34409300.25,null,null,355806.03]
[19,7160293763,62056233,3472175798,432484018,1350575118,821126.99,26172757.479999997,null,null,309607.15999999997]
[20,10250220338,50678012,5439240342,1521366414,2382463159,7290766,null,300000]
[21,13781570987,84929291,7562742436,2819698979,3718596938,8301405.6899999995,1438623.19,1852500]
[22,16243935578,84198373,8958506509,3857515299,4726384285,6869521.2799999993,2822294,1700000]
[23,19605154213,141488110,10488606418,4773820564,6062094779,8923348.8800000008,6107334.1500000004,2300000,310000]
[24,23810646655,88213930,11838420904,5971348856,7600450979,7320018.5800000001,1038904,2750000,1410000]
[25,29437978879,116453010,14014641905,7677666210,10264233561,10484841.710000001,6900652.6799999997,500000]
[26,36589656151,192938526,16340604293,9597522712,13571859945,15665961.550000004,2881150,2810000,300000]
[27,44437311965,244197262,18117763965,11750512448,17108265059,21430111.699999996,1534015.96,3265048.91,null,1204854.32]
[28,50368587068,243364828,19344361583,13650379229,20540379371,17812719.340000004,7241427.7800000003,3985000,600000,350000]
[29,55427966992,319369984,20603638988,15367326309,22763109336,23972505.66,3045020.99,2745117,300000,6816000]
[30,60371630218,432151664,21754870246,16698292256,25106916466,37438441.340000011,3247522.8600000003,3102530,null,155000]
[31,66589815720,401862556,23206534838,18615718956,27995466795,42241799.879999995,3298366.77,4258280,650000,3210000]
[32,69913883980,445997127,23636890948,20008245713,29969430982,54077908.510000013,8895532.3000000007,1200000,1025000,500000]
[33,74001385801,490604860,24301310801,21275507691,31268307179,44630820.130000018,12526322.43,2747500,2300000,250000]
[34,77685817099,670120359,25206257269,22627830589,32780478420,46624311.670000009,10141366.040000001,3899750.19,800000,810900]
[35,83209584524,714220748,26486118821,23827509289,34715816843,64973894.439999998,13093681.540000001,4244452,3030718,2672766.1599999997]
[36,83695490381,727084665,26152123537,24923624958,35243032978,73331443.890000015,22426806.75,3970095.6399999997,1480000,2360895.5]
[37,85140445797,817126577,25481228400,25495501290,36236757844,81151824.179999977,30387764.540000003,6725967,450000,2466542]
[38,85365862894,717865063,24922421609,25718587394,36337660970,83178005.209999993,19916974.82,2900000,300000,5791963.3399999999]
[39,85986266743,741931171,23887895366,25293669667,35782542396,75557535.289999977,20505527.52,4618802,1600000,1884000]
[40,84671275695,877521213,23487983631,25604744082,35459160231,107779664.64000002,22600148.060000002,4047747,1155323,3541145.98]
[41,85733118721,830270256,22959292839,25867236168,35151362752,86709883.389999971,18603295.949999999,3064152.6,1046211.5,3836405.05]
[42,81337432196,887291554,21711917516,25040801390,33668830053,111781152.46000002,31076924.74000001,4506078,1500000,2789088]
[43,81301792793,734200460,21499209323,25348475404,33481902474,113094422.44000003,32631664.360000003,1478617,713000,9080728.5]
[44,81169034246,848848585,21039599613,25196545198,33170667850,155146201.29999989,43618951.590000004,4017011.59,750000,8141678.7899999991]
[45,80592764074,771525943,21198365870,25151340207,33065743188,148757344.14999998,50162768.769999996,3850000,550000,8225698]
[46,79203961548,866467392,20956258613,25701563963,32514327407,198233722.57000017,30038942.02,1765147.25,438000,9718409.790000001]
[47,80062677951,974718095,20153794783,26165224352,32762478366,189558584.36999995,42704273.000000007,3537300,510000,8953876.7699999996]
[48,79113423225,814828060,19440471610,26056409582,32063324738,223456129.51000014,41797670.890000001,952380,950000,10981093.24]
[49,75512262508,887396392,18411631101,25406769139,30818732815,182375242.98000005,41061290.759999998,1110341.2,1745000,13770047.99]
[50,72453247217,701410330,16862637469,24717927823,29621573750,226802107.90000015,46671318.420000009,2745427.19,1040000,18272799.420000002]
[51,67685614894,675752819,15564093576,23450382478,27785873391,216993642.8900001,42506708.5,867460,770000,18154887.679999996]
[52,63047045085,740214685,14531556275,23075862251,26620524320,212997713.57000005,33327561.399999999,1744901.88,2714000,17421791.080000002]
[53,60022076737,661438112,13514918806,22880876986,25594567484,234625540.73999998,35974688.259999998,1051256.76,100000,16791704.400000002]
[54,58492390019,645093728,13165848467,22955219575,24982197528,241388667.18999997,52540344.530000009,1325104.25,710000,16714465.540000001]
[55,55797689456,645972977,12007605790,21974193840,22968936993,312304459.86999965,50919035.539999999,1338319,4174402.75,15673518.460000001]
[56,53437418128,609400800,11272032107,21687888315,20686142186,305660027.96000028,49589798.149999991,363463,3204553.3,20191923.720000003]
[57,50438727277,474651693,10095692740,20785028886,18089778737,308753914.76000017,48641566.569999993,786781.47,1641920.81,20722849.380000006]
[58,49046008421,542914448,9580936466,20319459980,16273728538,352603823.21000028,39360754.299999997,3732206.39,2350000,17988661.460000001]
[59,47805403210,464671963,8934912924,19489118239,14142865762,346605242.43000013,57154123.25,1050630.56,649000,18388693.540000003]
[60,44053799965,439343318,8156630557,18219998451,8878944604,373049029.4599995,34068881.539999999,1234578.1599999999,908000,17059329.98]
[61,41678844493,433433696,7290742120,17618934381,4713887923,387615621.30999988,35190446.720000006,328594.75,648197,8000768.9900000002]
[62,38612612311,364032010,6227180953,16116968889,4115988850,376447655.81000024,38915816.309999995,289406.25,null,1361712.59]
[63,33735493339,392314423,5270507182,14265509167,3381498000,325382277.96999979,33529147.95000001,312518.43,950000,515430.19]
[64,31265969894,271828558,4888309888,13103019950,3308352997,331930641.73999995,29419638.780000009,1100772.6099999999,1611625,749883.71]
[65,28271654385,309928583,4353467289,11332414794,2581356385,326840565.15000033,35779860.719999999,621520.48,320000,201305.60000000001]
[66,24236015361,284758909,3710622582,9819270746,1936698124,303759460.81999975,58622466.100000009,1798682.29,330000,27550.15]
[67,21249842163,210756431,2922298007,8180150626,1589886132,270923740.05999976,24109215.400000006,652555.55999999994,1500000,11020.26]
[68,18242352479,180247520,2497553501,6688905654,1271004068,242009375.98000002,23184304.640000001,100244.82,200000,17.93]
[69,15823414726,121921724,2220030405,5461175153,988656849,237257043.60000005,17377838.330000002,150000,304800,13231.86]
[70,13690111036,66000459,1567523916,2926010603,783917739,238101518.63000017,24364293.039999999,150000,120400,20435.88]
[71,12656185314,32124987,6910636156,1495885055,408030865,202433256.30000028,18707071.749999996,237924.21,null,3820.5699999999997]
[72,9478528062,30499193,974936144,215245129,166707951,186600851.31,42578396.090000048,199072,null,76.430000000000007]
[73,7973496637,19027482,864849847,166226499,107668641,149942627.52000019,12592817.570000002,200000,null,505.99]
[74,7529413596,8735930,742013097,126513353,84253089,145127907.54000005,7167045.4000000041,null,null,80.08]
[75,6638251850,7029885,662574697,96059689,48645236,110336906.53000002,20990785.339999996,null,null,2147.1200000000003]
[76,5529521007,3698876,633889605,79125934,26711911,103644634.22000006,4122808.81,null,null,2417.94]
[77,4583255222,2637679,540748723,71189970,23463549,72768446.360000059,3406426.28,null,null,83.73]
[78,3756607784,1889325,505001718,57564200,17531261,59820669.120000005,2925258.25,100000,null,38.880000000000003]
[79,3077314224,1694081,450292485,53077869,16042863,49422567.730000012,2283278.09]
[80,2461299626,110129,421031588,57069981,14255877,42436875.569999978,3214837.6399999997,100000,null,1105.3]
[81,2096391639,230329,391167271,42848500,10461000,41296916.379999995,1101536.1000000001,null,null,69.06]
[82,1698682162,364788,370118419,39261043,6780152,207771742.47000015,964215.90999999992,null,null,19.670000000000002]
[83,1166470751,220260,346705546,39883149,461005,20145359.190000001,1331220.2,null,null,18.010000000000002]
[84,838050152,210130,336229965,47776567,20000,13753828.130000001,678011.83000000007]
[85,663654999,220261,321709870,40741361,0,9427315.0500000007,12064.98]
[86,562324214,100000,311036563,41235500,0,5797258.0100000007,661224.88,null,null,370.79]
[87,877596495,722501,304586883,39075983,0,3962834.5,333063.69]
[88,254698681,100000,299558837,38575000,0,10109158.59,358774.02,null,null,27.49]
[89,229590026,1,281831544,35135823,1000000,1639601.6800000002,428506.33,null,null,437.34000000000003]
[90,181622349,null,298409525,42597000,0,2864946.08]
[91,163714891,null,291069178,40522000,null,4957076.26,null,null,null,37.58]
[92,95148411,0,276764292,36521000,null,2275270.63,330612.44,null,null,2.4]
[93,95032370,0,290254230,44528100,null,1076465,36499.800000000003]
[94,83741787,null,281802200,40516000,null,4779041.1999999993,56552.770000000004,17460]
[95,92771088,null,290776000,36509000,null,2846556,null,null,null,23.18]
[96,127757435,null,297456375,47114000,60000,720845]
[97,102661121,null,284321850,46006000,null,411480,null,null,null,133.1]
[98,76072655,null,283217500,41507000,null,445800]
[99,11393323,null,350000,null,null,66780]
["100 años y más",63545297,null,400000,null,null,15000,20163.07]
["TOTAL",{"$f":"SUM(B14:B99)","v":2876607417023},{"$f":"SUM(C14:C99)","v":30436190676},792839155180,905770228932,1030445090820,9960893111.6200008,1532539758.8799996,110902697.44000001,48160151.359999999,317211105.69]

{"sheet":"9M.E.","index":65,"n_rows":100,"n_cols":11,"rows_kept":100,"cut":false,"hidden":false,"merged":[[6,0,6,10],[1,0,1,10],[2,0,2,10],[3,0,3,10],[4,0,4,10],[5,0,5,10],[7,0,7,10],[8,0,8,10],[10,1,10,5],[10,6,10,10],[11,7,12,7],[11,8,12,8],[11,9,12,9],[11,10,12,10],[11,1,12,1],[11,2,12,2],[11,3,12,3],[11,4,12,4],[11,5,12,5],[11,6,12,6]]}
[]
["9. SEGURO DIRECTO EN LA OPERACIÓN DE VIDA "]
["POR TIPO DE SEGURO CONTRATADO Y EDAD ALCANZADA"]
[]
[{"$f":"'1 Total'!B3","v":"DICIEMBRE DE 2021"}]
[]
["VIDA INDIVIDUAL"]
[]
["MONEDA EXTRANJERA"]
[null,2,3,4,7,8,9,5,6,10,11]
["EDAD ","SUMA  ASEGURADA",null,null,null,null,"SINIESTROS  DIRECTOS"]
["ALCANZADA","MUERTE","SOBREVIVENCIA","MUERTE\nACCIDENTAL","MUERTE\nCOLECTIVA","POR INVALIDEZ","MUERTE","SOBREVIVENCIA","MUERTE\nACCIDENTAL","MUERTE\nCOLECTIVA","POR INVALIDEZ"]
[]
["Hasta 15 años",18750279961,9710173436,59459927,null,3903508240,6166299.0600000005,9981046.5,null,null,587643.26]
[16,3191333836,792246045,4403964,null,775309478,2366223.44,5277546.129999999]
[17,2886667629,820215656,2852712,null,649871570,2221118,430196118.47000003]
[18,2295802664,828209724,79327134,4503590,410535050,null,1278141376.01]
[19,1688006719,796300712,197127176,7450331,302330314,2356542.6,933452541.95000017]
[20,1993486608,941111921,280543636,8992384,303254902,2974695,3176506.3800000004]
[21,2230335968,877603948,541901117,18093393,601707649,4813401.62,16572126.249999998]
[22,2743850186,1092204843,558767389,12855114,780524455,null,74478067.010000005]
[23,2476706254,814969145,765857988,32366989,814532177,7000,53317540.910000004]
[24,3417247224,1038320240,1227520608,33257598,1195110965,9067705.620000001,8946621.4700000007,1030375]
[25,3682723976,1328333805,1075805244,55067110,1766156704,236302.7,7373259.2400000012]
[26,3797038882,1202806434,1288494667,59592089,1662108372,308915.5,10809708.18]
[27,4980018930,1462295940,1559431643,78463860,2347941112,null,12447060.970000003]
[28,5117722712,1742259099,2026827908,84528049,2851308203,2563992.89,11335011.129999997]
[29,6423207498,2004193925,2146258937,123798853,3516273324,161987.66,16131048.26]
[30,6832034165,2407668164,2811834123,110509309,3991836599,null,16332296.139999997,null,null,981326.44]
[31,8155551975,2700852376,3177716028,147064874,4913475300,5028559.91,15636559.950000005,null,null,692110.11]
[32,8589827848,2976815272,3517769228,126389273,5250276473,14713943.120000001,15035806.409999991,2060400,null,39207.199999999997]
[33,10165342837,3344707317,4026912578,191786709,6680489891,9632727.9399999995,21322908.980000008,null,null,813928.65999999992]
[34,11479282510,4249103840,4850248465,230860261,7827258638,3728763,22567703.529999994,1450303.6,null,7572.76]
[35,13914763794,4840973762,5827485147,309948083,9765969583,5743066.04,32234008.909999996,null,null,154434.12000000002]
[36,15574013430,5548212665,6776698658,375298676,10560514202,14900662.43,33987694.670000009,null,null,606763.92000000004]
[37,16448254468,5967599097,7160620950,394084335,11841862351,7936346,38857279.43,null,null,1009155.4199999999]
[38,19021476352,7113632643,7898632450,419593371,13319663506,14035859.18,42629208.419999994,25000,null,2019249.6599999997]
[39,20373903614,7790534996,8608138063,461007911,14157739543,68228399.5,51269830.57,7017325,null,2410644.41]
[40,21920791850,7641689359,9796765437,534241096,14951861067,38372471.920000002,50732899.440000005,4877502,null,3236167.4799999995]
[41,24425123816,9148842329,10474648024,633626290,16947019060,13003435.779999999,61198842.30999998,null,null,8891158.8199999984]
[42,25347146563,9824223902,10483683425,514086221,18110858178,31158812.77,55814581.969999999,null,null,5851511.6600000011]
[43,26700913114,9946013172,11547865137,682571586,19050485953,67599523.719999999,76525292.060000002,18156744,null,3559038.63]
[44,29895459158,10759591113,12112224545,785125482,20796472895,61774932.890000001,81260126.01000002,4894065.5,null,5423543.3600000003]
[45,31158428205,11059245479,12669475476,843438575,19943585995,88873290.400000006,103357326.71999991,null,null,3582196.8700000006]
[46,34185788471,12456980349,13995735634,941489926,22529429868,87680110.810000002,121076527.03000002,8234639.0199999996,null,6888167.5499999998]
[47,35249867769,13201672798,14807370653,939792329,23254985139,63328665.660000004,125033905.02999997,1488904.5,null,11471715.539999999]
[48,36498837286,12922774114,14746218254,1081667444,22241778931,79163042.299999997,133424308.22000006,2386808.2000000002,null,6513267.9600000009]
[49,36517998465,12422515129,15498313130,968456122,21694346497,63041555.990000024,181615777.93000001,12735863,null,16258014.789999992]
[50,36710373876,12558127925,14710675314,993983665,20496925808,102422438.70999999,178520998.25,7431160,null,22764894.020000003]
[51,34444739491,10830380182,13317330151,984201217,19546175336,73885504.64000003,202791815.74000007,4015751.45,null,7259136.5699999984]
[52,30213795851,10041199227,11795214028,903920795,17275938727,56061411.349999994,203846950.9600001,null,null,16134278.709999993]
[53,29151249892,9176755328,11107411981,722424812,15278703222,100945487.23,188525254.00000006,8882707.3499999996,null,12419274.929999998]
[54,25846429160,8483256549,8973450348,863026400,13036261468,98314723.540000007,183675157.42999998,null,null,30909910.029999997]
[55,24444471579,7845518189,8637416742,775324580,12103789731,128718198.24000002,210878974.88000005,11266794.57,null,28178734.270000007]
[56,23529717284,6523804330,7636421806,707446681,9772432333,52807553.789999984,202264831.55000004,5379868.8799999999,null,32251600.440000005]
[57,20923129163,6100354596,7259448085,638947162,8573811632,64387949.759999998,179797111.4300001,null,null,7426326.8399999989]
[58,18872628865,5978432582,6534031247,648784364,7521249796,109150828.72,171751619.81999999,4038733.88,null,12837616.529999997]
[59,18228083583,5578681603,6276787441,622960138,6259550058,92839109,195603230.38999999,600456,null,28666322.25]
[60,15829192498,4367223908,5760808570,610348315,4726371389,176939748.60000002,282541610.19999975,14930822.41,null,69674039.960000038]
[61,14713794001,4012108684,5084252924,484042510,3371106913,65249102.110000007,214781939.54000002,13441495.869999999,null,33952079.920000009]
[62,12324799571,3007039396,3849358636,360275525,2429084624,89524545.299999982,366510037.46999997,2990501.1,null,16225271.590000002]
[63,10608846387,2492118159,3184737373,339510941,1811631107,69019631.189999983,185102190.21000004,2989840.3,null,15992443.930000002]
[64,10000065085,2522431157,2668524448,372992601,1451258984,44400198.060000002,141355941.86000007,2019300,null,13542399.649999999]
[65,7174007887,1627708954,2116558232,382158352,813831032,114196028.14,246087135.69000003,10537147.83,null,31127568.120000008]
[66,6960003895,921266325,1474184433,308483413,405720218,118991723.33,207497489.88000014,23882957.789999999,null,42209265.390000001]
[67,5153048748,876345514,1102198321,284858189,238079539,116174389.99000001,131761690.83000004,null,null,20794916.609999996]
[68,5068454528,660657736,941307947,311283608,209865556,37549537.82,99365757.760000005,null,null,20807728.160000004]
[69,4182717314,575590313,759998878,187657248,151117776,46655350.57,48355145.43,null,null,14706036.290000001]
[70,3346598679,337124842,442982102,60252106,28152569,42458673.100000001,67334564.300000012,null,null,9940082.9900000021]
[71,3642157321,559430440,354734174,78252892,59202183,55317261.099999994,45617815.840000004,null,null,9480377.4100000001]
[72,2224008848,282130235,179440991,34345915,16516830,25804169.27,27665995.140000001,null,null,5104868.4499999993]
[73,2044948727,187415117,252952842,49915127,28026173,26440442.970000003,60607756.57,null,null,2787076.2900000005]
[74,1478999167,233725878,82560211,9528816,15998893,18167296.520000003,16072308.199999999,null,null,4612358.58]
[75,1404366567,124663467,122679873,2048735,6561238,20323756.259999998,31215433.450000003,null,null,195076.76]
[76,1138289361,107287881,54977047,9026702,5800850,32464398.579999998,45878780.030000001,null,null,291738.13]
[77,1028193435,113621175,36108192,4101500,8761901,43193236.270000003,23232755]
[78,697068208,103960316,24132049,6152250,0,86730406.079999998,7552534.7000000002,null,null,31362.33]
[79,517004649,46678177,18198505,2050750,0,4207301.9800000004,17501513.77]
[80,1181022173,34069219,31142953,6664938,749425623,17996766.23,4525526.2]
[81,199602128,14743652,3076125,3076125,null,11813492.23,4812765.4399999995]
[82,301187491,9213723,10499840,4101500,null,19460994.890000001,10242223]
[83,260331078,null,4101500,2050750,null,15623621.260000002]
[84,98788558,3650957,1025375,null,null,5749401.2199999997]
[85,90922599,3608131,null,null,0,6431018.96,83375.850000000006]
[86,82907073,2037652,null,null,null,2317855.29,3746085.0700000003]
[87,32014347,1013,null,null,null,2968125]
[88,28056315]
[89,22857878]
[90,20126933,null,null,null,null,99531.01]
[91,12905253,null,null,null,null,4047189.45]
[92,5962699]
[93,970468,null,null,null,null,605946.54]
[94,758356]
[95,658930,null,null,null,null,1764199.13]
[96,240879]
[97,747462,null,null,null,null,141508.51,288100.64]
[98,139974]
[99,2087162]
["100 años y más"]
["TOTAL",{"$f":"SUM(B14:B99)","v":872372706113},{"$f":"SUM(C14:C99)","v":288117255281},317411664139,22984205855,456101733693,2973548405.3899999,8358940879.1100006,176765467.25,0,591319603.76999998]

{"sheet":"9M.I.","index":66,"n_rows":100,"n_cols":11,"rows_kept":100,"cut":false,"hidden":false,"merged":[[6,0,6,10],[1,0,1,10],[2,0,2,10],[3,0,3,10],[4,0,4,10],[5,0,5,10],[7,0,7,10],[8,0,8,10],[10,1,10,5],[10,6,10,10],[11,7,12,7],[11,8,12,8],[11,9,12,9],[11,10,12,10],[11,1,12,1],[11,2,12,2],[11,3,12,3],[11,4,12,4],[11,5,12,5],[11,6,12,6]]}
[]
["9. SEGURO DIRECTO EN LA OPERACIÓN DE VIDA "]
["POR TIPO DE SEGURO CONTRATADO Y EDAD ALCANZADA"]
[]
[{"$f":"'1 Total'!B3","v":"DICIEMBRE DE 2021"}]
[]
["VIDA INDIVIDUAL"]
[]
["TITULOS INDIZADOS"]
[null,2,3,4,7,8,9,5,6,10,11]
["EDAD ","SUMA  ASEGURADA",null,null,null,null,"SINIESTROS  DIRECTOS"]
["ALCANZADA","MUERTE","SOBREVIVENCIA","MUERTE\nACCIDENTAL","MUERTE\nCOLECTIVA","POR INVALIDEZ","MUERTE","SOBREVIVENCIA","MUERTE\nACCIDENTAL","MUERTE\nCOLECTIVA","POR INVALIDEZ"]
[]
["Hasta 15 años",13660638392,5307267174,45681259,null,514751252,3102412.33,7014259.6000000006,null,null,1607336.55]
[16,1494364575,263557795,18399668,null,83632859,50000,4819512.9900000021]
[17,1377355278,270634977,23213624,null,74973395,null,98971339.99000001]
[18,1470205196,230652374,139979192,450000,277305561,null,358871761.19000012]
[19,1433145868,220772339,288926967,1187686,516924810,353635.11,300483380.35000032]
[20,1787514281,302529089,427409899,3333107,706056548,50000,546494.15999999992]
[21,2162122758,384290508,656359069,5643521,1203547437,1377008,1943740.88]
[22,2646821274,490470254,886547349,16014298,1584336625,2333072.4700000002,12133826.08]
[23,3189526943,573864884,1164026844,23134034,2305593051,33176.400000000001,16779483.280000001,null,null,759057.25]
[24,4109623968,616300558,1513481282,16602924,3433985046,null,4177184.5100000002,null,null,50464.73]
[25,5226094388,973005172,2031324144,21125908,5288392811,5109455.7600000007,3741244.1500000004]
[26,6446963707,1136057892,2766386629,24346383,6952633485,3440168.9699999997,4999088.0299999993]
[27,8610425289,1412710991,3846363625,29227230,9158115688,4378483.6899999995,3837947.060000001,686102.2,null,3188.13]
[28,9857921184,1864714462,4454512945,40913072,11109878286,6263826.0799999991,7288706.1500000032,2281505,null,576432.06000000006]
[29,12079315283,2362688064,5535140649,68487790,13826630501,9140316.2699999996,13290075.940000001,2052873.75,null,44246.18]
[30,13653025991,2846222597,6838050424,64466049,16358270972,7949629.0800000001,12374398.950000009,1765670,null,1718072.1]
[31,16362998766,3474251694,8272515387,38212908,19832200291,7508436.9099999992,15252650.900000004,1551868.48,null,5537171.2299999995]
[32,18655853930,4151834142,9504214172,81414596,22156825432,8561647.1000000015,16850237.380000003,703362,null,649394.62000000011]
[33,20780563823,4869816846,10857788459,50798096,25230796507,15512466.49,24831018.019999996,1246527.5499999998,null,680136.34]
[34,22393669311,5365227131,12144916808,95498370,27055434202,35465859.260000005,19598893.06000001,3807899.91,null,9449728.9900000002]
[35,24924461402,6485097298,14121222219,81434852,30472270278,32701054.289999999,27469173.819999993,5521996.4000000004,null,1894009.3099999998]
[36,27404075458,7246014414,15429125983,74074651,33104612534,44497397.920000009,23556865.98,9147460.3599999994,null,801503.06]
[37,28208173976,7461903368,16439785017,90318170,33969742451,29697315.399999999,21958002.579999994,2181707.02,null,1055304.04]
[38,30778258472,8910350925,17040467122,113230276,36180096284,39815162.00999999,22265936.079999994,2098500.6399999997,null,3271931.2300000004]
[39,30319423604,8494676019,17306493148,106880269,35063153944,35548001.969999991,21593316.390000004,3301984.2,null,6788152.5899999989]
[40,30190276562,9100218525,17126776228,91712505,34665041752,24569834.110000003,19920004.889999997,171404.25,null,10663331.599999994]
[41,30386066667,9429483361,17937922762,90636338,34376167235,30611787.600000005,17554014.579999994,2110736.13,null,6100374.8500000006]
[42,29130450566,9425429610,16117963397,68164275,31568806981,48319278.170000009,29581298.769999996,1385875.72,null,4031055.2900000005]
[43,27864027139,9139143218,15373720571,100492878,29957651912,39497008.779999994,24606531.540000003,2678612.4299999997,null,12192605.239999998]
[44,27368515951,9260779134,15176358980,78818966,28987985576,50148198.079999991,16325316.550000004,8469532.3200000003,null,5322719.2200000007]
[45,27095868384,9146070121,14633366026,95710672,27584518440,55759657.570000008,18703195.439999994,481439,null,8063269.8600000013]
[46,26582531127,9132628154,14265571320,128533901,26743888554,45946267.249999993,14731614.760000004,5081385.7,null,7962022.8599999994]
[47,26492781713,8991477071,13719964586,112747002,25562531702,71626278.180000022,16923697.98,2163674.85,null,3770858.1100000022]
[48,24768599743,8787333467,12859137374,131188670,23347876191,52350134.770000011,30934122.359999996,1987861,null,19663122.620000005]
[49,23150485781,7996145523,11208442608,97671848,21261601192,86066752.140000001,18754398.170000002,5821437.2999999998,null,9693791.6499999985]
[50,21023426779,7285040517,10203254127,91300375,18593546757,55045421.429999992,18805469.450000003,2114013.8600000003,null,7919035.2300000004]
[51,19346156106,6562255873,9332054269,92923992,16481125543,62776294.910000019,27088202.330000002,10349917.57,null,10907363.68]
[52,16672843878,5456987165,7761545648,72431375,13330972863,73941369,20659856.029999997,9988904.0800000001,null,5481304.2400000012]
[53,15239390501,4996972466,7106972255,98098964,12160876616,49190556.949999988,15694405.860000001,2312622.11,null,8490159.5300000012]
[54,12826885972,4156940836,6304685692,48286532,10014357125,55913322.309999995,8855364.4399999995,300334.8,null,5193207.4499999993]
[55,11600296559,3539928267,5475454682,59188405,8321080632,44534217.030000001,23776640.41,644175,null,7964013.450000003]
[56,10450417639,3217911750,4731743879,64039670,7014583700,58131924.480000012,16827352.080000006,1214510.06,null,8445128.25]
[57,9441489161,3004670363,3995699898,65695661,5810263323,70630132.069999993,16950373.899999995,283286,null,2661515.5999999996]
[58,8463591685,2537067027,3537975395,75414708,4754796398,59259896.919999987,25327107.500000004,2173816.27,null,6668811.2400000012]
[59,8189846649,2222185829,3346855044,50868824,4064045027,46102212.639999993,13478142.819999998,2348558.4,null,1611904.0899999999]
[60,6806596310,1906762613,2675338044,49262519,2533958901,73704966.559999987,15330975.259999996,7396304.2000000002,null,19091895.970000003]
[61,6558826472,1889233530,2449207381,35879141,1697273949,58561884.350000016,23267377.630000003,8093188.9199999999,null,15829962.09]
[62,4947252697,1365998911,1790072209,31031653,1057195731,31996153.000000007,16559926.579999998,69009,null,3790819.0500000007]
[63,4502463765,1257998061,1392927025,51285911,821994803,26974266.18,10477105.619999999,null,null,1514496.79]
[64,3803620238,1201258786,1307998940,33029749,629113351,36568985.259999998,11545947.189999999,118321,null,1861443.73]
[65,3210598147,785360254,799365111,26856328,365079599,45790479,13334323.630000003,4316882.9000000004,null,11350637.930000002]
[66,2862586048,642852361,520603328,25126598,156398440,41985588.030000001,35347927.939999998,2352146.91,null,8211042.7299999995]
[67,2102686445,452809898,309781532,15160352,80839292,43675021.799999997,9157143.1900000013,null,null,1843789.1300000001]
[68,1817180394,424452178,295685425,20848450,58249729,34378000.630000003,14955358.48,null,null,1393063.13]
[69,1555430426,315835732,212046041,16024474,32190770,24841009.880000003,7612537.8999999976,null,null,589723.9]
[70,1300240985,228403369,143897903,9488965,22510094,55999327.419999979,10269864,null,null,262309.02]
[71,1128187418,173631415,95688908,11231547,8956456,44429218.369999997,7129092.29,4851215.26,null,130665.70999999999]
[72,938543389,189600893,112419778,4336968,3158658,8853640.8000000007,5806839.049999998,null,null,499337.99]
[73,711141248,108940832,87140847,2678369,265734,16229133.419999998,3206394.3600000003,null,null,367604.32]
[74,655130220,91329068,74527998,2321574,5463674,13733663.139999999,9422280.0099999998,null,null,2104099.3199999998]
[75,392230661,56660719,36405404,4456840,257181,16883638.709999993,3078594.84]
[76,417335739,55375393,27023824,2805342,551515,21285169.690000005,1527511.4899999998]
[77,266553073,24556651,12901460,2424027,0,23337883.679999992,1095758.8400000001,null,null,69380.539999999994]
[78,184025881,29460843,23479267,38665,405000,1401042.14,12019200.109999999]
[79,203101321,17418518,7235626,181796,5000000,3481617.68,971251.77]
[80,173872508,21464952,3590886,5000,0,4346581.2,4590553.8100000005]
[81,153865464,3554362,1317797,50000,0,3771636.6300000004,2660976.85]
[82,114465033,30022144,916028,50000,null,7317842.6200000001,2804450.6199999996]
[83,55470991,1254537,2425185,null,null,2695888.8699999996,345605.41000000003]
[84,42419173,326771,820669,323391,null,377627.49999999994,565939]
[85,32297488,0,260228,null,null,236454.24,294997.34999999998]
[86,12035302,0,238446,null,null,322865.83,2224945.91]
[87,13498553,0,245985,null,null,48307.19,871100.44]
[88,10363252,0,78326,null,null,1086117.22,251567.52]
[89,8834448,0,83792,null,null,1160.0900000000001,981829.62]
[90,6073920,null,155981,null,null,525369.85]
[91,25147720,0,117916,null,null,29491.46,598956.48]
[92,6379923,1490433,null,null,null,47214.64,525150.30000000005]
[93,2702287,0,null,null,null,15944.23,1459946.39]
[94,1447189,null,null,null,null,1935.21,56579.46]
[95,1015392,0,null,null,null,null,506703.5]
[96,885680,0,null,null,null,null,100111.07]
[97,1059965,null,null,null,null,11223.7]
[98,1240239,null,null,null,null,1179.32]
[99,309712]
["100 años y más",2731431]
["TOTAL",{"$f":"SUM(B14:B99)","v":760346338226},{"$f":"SUM(C14:C99)","v":220379632468},374351793915,3105617410,728540740646,2018256599.4400005,1671100471.2899997,125626622.55000003,0,256601993.81999996]

{"sheet":"9Grupo","index":67,"n_rows":104,"n_cols":9,"rows_kept":104,"cut":false,"hidden":false,"merged":[[6,0,6,8],[1,0,1,8],[2,0,2,8],[3,0,3,8],[4,0,4,8],[5,0,5,8],[7,0,7,8],[8,0,8,8],[10,1,10,4],[10,5,10,8],[11,7,12,7],[11,8,12,8],[101,0,101,8],[11,1,12,1],[11,2,12,2],[11,5,12,5],[11,6,12,6],[11,3,12,3],[11,4,12,4]]}
[]
["9. SEGURO DIRECTO EN LA OPERACIÓN DE VIDA "]
["POR TIPO DE SEGURO CONTRATADO Y EDAD ALCANZADA"]
[]
[{"$f":"'1 Total'!B3","v":"DICIEMBRE DE 2021"}]
[]
["VIDA GRUPO"]
[]
["TOTAL"]
[]
["EDAD ","SUMA  ASEGURADA",null,null,null,"SINIESTROS  DIRECTOS"]
["ALCANZADA","MUERTE","MUERTE\nACCIDENTAL","MUERTE\nCOLECTIVA","POR INVALIDEZ","MUERTE","MUERTE\nACCIDENTAL","MUERTE\nCOLECTIVA","POR INVALIDEZ"]
[]
["Hasta 15 años",{"$f":"'9GM.N.'!B14+'9GM.E.'!B14+'9GM.I.'!B14","v":13677595606},{"$f":"'9GM.N.'!C14+'9GM.E.'!C14+'9GM.I.'!C14","v":577644936},{"$f":"'9GM.N.'!D14+'9GM.E.'!D14+'9GM.I.'!D14","v":219461117},{"$f":"'9GM.N.'!E14+'9GM.E.'!E14+'9GM.I.'!E14","v":305826719},{"$f":"'9GM.N.'!F14+'9GM.E.'!F14+'9GM.I.'!F14","v":6440052.4900000002},{"$f":"'9GM.N.'!G14+'9GM.E.'!G14+'9GM.I.'!G14","v":0},{"$f":"'9GM.N.'!H14+'9GM.E.'!H14+'9GM.I.'!H14","v":0},{"$f":"'9GM.N.'!I14+'9GM.E.'!I14+'9GM.I.'!I14","v":16267}]
[16,{"$f":"'9GM.N.'!B15+'9GM.E.'!B15+'9GM.I.'!B15","v":1669820601},{"$f":"'9GM.N.'!C15+'9GM.E.'!C15+'9GM.I.'!C15","v":310197145},{"$f":"'9GM.N.'!D15+'9GM.E.'!D15+'9GM.I.'!D15","v":256002533},{"$f":"'9GM.N.'!E15+'9GM.E.'!E15+'9GM.I.'!E15","v":105333527},{"$f":"'9GM.N.'!F15+'9GM.E.'!F15+'9GM.I.'!F15","v":829044},{"$f":"'9GM.N.'!G15+'9GM.E.'!G15+'9GM.I.'!G15","v":0},{"$f":"'9GM.N.'!H15+'9GM.E.'!H15+'9GM.I.'!H15","v":0},{"$f":"'9GM.N.'!I15+'9GM.E.'!I15+'9GM.I.'!I15","v":0}]
[17,{"$f":"'9GM.N.'!B16+'9GM.E.'!B16+'9GM.I.'!B16","v":2452714049},{"$f":"'9GM.N.'!C16+'9GM.E.'!C16+'9GM.I.'!C16","v":447351179},{"$f":"'9GM.N.'!D16+'9GM.E.'!D16+'9GM.I.'!D16","v":248788284},{"$f":"'9GM.N.'!E16+'9GM.E.'!E16+'9GM.I.'!E16","v":214069968},{"$f":"'9GM.N.'!F16+'9GM.E.'!F16+'9GM.I.'!F16","v":2488083.71},{"$f":"'9GM.N.'!G16+'9GM.E.'!G16+'9GM.I.'!G16","v":0},{"$f":"'9GM.N.'!H16+'9GM.E.'!H16+'9GM.I.'!H16","v":0},{"$f":"'9GM.N.'!I16+'9GM.E.'!I16+'9GM.I.'!I16","v":0}]
[18,{"$f":"'9GM.N.'!B17+'9GM.E.'!B17+'9GM.I.'!B17","v":5469797605},{"$f":"'9GM.N.'!C17+'9GM.E.'!C17+'9GM.I.'!C17","v":1854407529},{"$f":"'9GM.N.'!D17+'9GM.E.'!D17+'9GM.I.'!D17","v":180033375},{"$f":"'9GM.N.'!E17+'9GM.E.'!E17+'9GM.I.'!E17","v":1523804870},{"$f":"'9GM.N.'!F17+'9GM.E.'!F17+'9GM.I.'!F17","v":930653.21},{"$f":"'9GM.N.'!G17+'9GM.E.'!G17+'9GM.I.'!G17","v":0},{"$f":"'9GM.N.'!H17+'9GM.E.'!H17+'9GM.I.'!H17","v":10000},{"$f":"'9GM.N.'!I17+'9GM.E.'!I17+'9GM.I.'!I17","v":0}]
[19,{"$f":"'9GM.N.'!B18+'9GM.E.'!B18+'9GM.I.'!B18","v":51954064851},{"$f":"'9GM.N.'!C18+'9GM.E.'!C18+'9GM.I.'!C18","v":7862228157},{"$f":"'9GM.N.'!D18+'9GM.E.'!D18+'9GM.I.'!D18","v":459727112},{"$f":"'9GM.N.'!E18+'9GM.E.'!E18+'9GM.I.'!E18","v":6645656999},{"$f":"'9GM.N.'!F18+'9GM.E.'!F18+'9GM.I.'!F18","v":4267675.9700000007},{"$f":"'9GM.N.'!G18+'9GM.E.'!G18+'9GM.I.'!G18","v":273705.59999999998},{"$f":"'9GM.N.'!H18+'9GM.E.'!H18+'9GM.I.'!H18","v":70000},{"$f":"'9GM.N.'!I18+'9GM.E.'!I18+'9GM.I.'!I18","v":0}]
[20,{"$f":"'9GM.N.'!B19+'9GM.E.'!B19+'9GM.I.'!B19","v":60631578736},{"$f":"'9GM.N.'!C19+'9GM.E.'!C19+'9GM.I.'!C19","v":12896093612},{"$f":"'9GM.N.'!D19+'9GM.E.'!D19+'9GM.I.'!D19","v":779546366},{"$f":"'9GM.N.'!E19+'9GM.E.'!E19+'9GM.I.'!E19","v":12901280284},{"$f":"'9GM.N.'!F19+'9GM.E.'!F19+'9GM.I.'!F19","v":8846319.839999998},{"$f":"'9GM.N.'!G19+'9GM.E.'!G19+'9GM.I.'!G19","v":1184922.51},{"$f":"'9GM.N.'!H19+'9GM.E.'!H19+'9GM.I.'!H19","v":0},{"$f":"'9GM.N.'!I19+'9GM.E.'!I19+'9GM.I.'!I19","v":0}]
[21,{"$f":"'9GM.N.'!B20+'9GM.E.'!B20+'9GM.I.'!B20","v":70756345744},{"$f":"'9GM.N.'!C20+'9GM.E.'!C20+'9GM.I.'!C20","v":18393191820},{"$f":"'9GM.N.'!D20+'9GM.E.'!D20+'9GM.I.'!D20","v":1122390109},{"$f":"'9GM.N.'!E20+'9GM.E.'!E20+'9GM.I.'!E20","v":17648642098},{"$f":"'9GM.N.'!F20+'9GM.E.'!F20+'9GM.I.'!F20","v":15884446.999999998},{"$f":"'9GM.N.'!G20+'9GM.E.'!G20+'9GM.I.'!G20","v":1633948.04},{"$f":"'9GM.N.'!H20+'9GM.E.'!H20+'9GM.I.'!H20","v":0},{"$f":"'9GM.N.'!I20+'9GM.E.'!I20+'9GM.I.'!I20","v":0}]
[22,{"$f":"'9GM.N.'!B21+'9GM.E.'!B21+'9GM.I.'!B21","v":78100413069},{"$f":"'9GM.N.'!C21+'9GM.E.'!C21+'9GM.I.'!C21","v":22486649340},{"$f":"'9GM.N.'!D21+'9GM.E.'!D21+'9GM.I.'!D21","v":1492344463},{"$f":"'9GM.N.'!E21+'9GM.E.'!E21+'9GM.I.'!E21","v":22010678070},{"$f":"'9GM.N.'!F21+'9GM.E.'!F21+'9GM.I.'!F21","v":18764505.520000003},{"$f":"'9GM.N.'!G21+'9GM.E.'!G21+'9GM.I.'!G21","v":1003974.1099999999},{"$f":"'9GM.N.'!H21+'9GM.E.'!H21+'9GM.I.'!H21","v":100162.8},{"$f":"'9GM.N.'!I21+'9GM.E.'!I21+'9GM.I.'!I21","v":76771}]
[23,{"$f":"'9GM.N.'!B22+'9GM.E.'!B22+'9GM.I.'!B22","v":90061393628},{"$f":"'9GM.N.'!C22+'9GM.E.'!C22+'9GM.I.'!C22","v":29144800672},{"$f":"'9GM.N.'!D22+'9GM.E.'!D22+'9GM.I.'!D22","v":2216466918},{"$f":"'9GM.N.'!E22+'9GM.E.'!E22+'9GM.I.'!E22","v":30913869129},{"$f":"'9GM.N.'!F22+'9GM.E.'!F22+'9GM.I.'!F22","v":28722056.81000001},{"$f":"'9GM.N.'!G22+'9GM.E.'!G22+'9GM.I.'!G22","v":4458364.54},{"$f":"'9GM.N.'!H22+'9GM.E.'!H22+'9GM.I.'!H22","v":0},{"$f":"'9GM.N.'!I22+'9GM.E.'!I22+'9GM.I.'!I22","v":98698.23}]
[24,{"$f":"'9GM.N.'!B23+'9GM.E.'!B23+'9GM.I.'!B23","v":104961206183},{"$f":"'9GM.N.'!C23+'9GM.E.'!C23+'9GM.I.'!C23","v":37523041595},{"$f":"'9GM.N.'!D23+'9GM.E.'!D23+'9GM.I.'!D23","v":3024773819},{"$f":"'9GM.N.'!E23+'9GM.E.'!E23+'9GM.I.'!E23","v":37440442286},{"$f":"'9GM.N.'!F23+'9GM.E.'!F23+'9GM.I.'!F23","v":36863476.120000005},{"$f":"'9GM.N.'!G23+'9GM.E.'!G23+'9GM.I.'!G23","v":4436059.1999999993},{"$f":"'9GM.N.'!H23+'9GM.E.'!H23+'9GM.I.'!H23","v":325009.59999999998},{"$f":"'9GM.N.'!I23+'9GM.E.'!I23+'9GM.I.'!I23","v":811794.11}]
[25,{"$f":"'9GM.N.'!B24+'9GM.E.'!B24+'9GM.I.'!B24","v":121150329346},{"$f":"'9GM.N.'!C24+'9GM.E.'!C24+'9GM.I.'!C24","v":46051356565},{"$f":"'9GM.N.'!D24+'9GM.E.'!D24+'9GM.I.'!D24","v":3975368889},{"$f":"'9GM.N.'!E24+'9GM.E.'!E24+'9GM.I.'!E24","v":48695679274},{"$f":"'9GM.N.'!F24+'9GM.E.'!F24+'9GM.I.'!F24","v":32617068.420000009},{"$f":"'9GM.N.'!G24+'9GM.E.'!G24+'9GM.I.'!G24","v":2600766.61},{"$f":"'9GM.N.'!H24+'9GM.E.'!H24+'9GM.I.'!H24","v":300000},{"$f":"'9GM.N.'!I24+'9GM.E.'!I24+'9GM.I.'!I24","v":1428922.8}]
[26,{"$f":"'9GM.N.'!B25+'9GM.E.'!B25+'9GM.I.'!B25","v":140556777272},{"$f":"'9GM.N.'!C25+'9GM.E.'!C25+'9GM.I.'!C25","v":55278991649},{"$f":"'9GM.N.'!D25+'9GM.E.'!D25+'9GM.I.'!D25","v":4959768886},{"$f":"'9GM.N.'!E25+'9GM.E.'!E25+'9GM.I.'!E25","v":59880307785},{"$f":"'9GM.N.'!F25+'9GM.E.'!F25+'9GM.I.'!F25","v":56482626.500000037},{"$f":"'9GM.N.'!G25+'9GM.E.'!G25+'9GM.I.'!G25","v":4270543.43},{"$f":"'9GM.N.'!H25+'9GM.E.'!H25+'9GM.I.'!H25","v":887758.32},{"$f":"'9GM.N.'!I25+'9GM.E.'!I25+'9GM.I.'!I25","v":2607655.7999999998}]
[27,{"$f":"'9GM.N.'!B26+'9GM.E.'!B26+'9GM.I.'!B26","v":165339622753},{"$f":"'9GM.N.'!C26+'9GM.E.'!C26+'9GM.I.'!C26","v":62797940050},{"$f":"'9GM.N.'!D26+'9GM.E.'!D26+'9GM.I.'!D26","v":5827307411},{"$f":"'9GM.N.'!E26+'9GM.E.'!E26+'9GM.I.'!E26","v":77024022166},{"$f":"'9GM.N.'!F26+'9GM.E.'!F26+'9GM.I.'!F26","v":60071707.590000018},{"$f":"'9GM.N.'!G26+'9GM.E.'!G26+'9GM.I.'!G26","v":4873436.08},{"$f":"'9GM.N.'!H26+'9GM.E.'!H26+'9GM.I.'!H26","v":1403120.44},{"$f":"'9GM.N.'!I26+'9GM.E.'!I26+'9GM.I.'!I26","v":646322.07999999996}]
[28,{"$f":"'9GM.N.'!B27+'9GM.E.'!B27+'9GM.I.'!B27","v":169898388737},{"$f":"'9GM.N.'!C27+'9GM.E.'!C27+'9GM.I.'!C27","v":67569080206},{"$f":"'9GM.N.'!D27+'9GM.E.'!D27+'9GM.I.'!D27","v":6481198985},{"$f":"'9GM.N.'!E27+'9GM.E.'!E27+'9GM.I.'!E27","v":78900658005},{"$f":"'9GM.N.'!F27+'9GM.E.'!F27+'9GM.I.'!F27","v":72080135.230000004},{"$f":"'9GM.N.'!G27+'9GM.E.'!G27+'9GM.I.'!G27","v":4571358.8999999994},{"$f":"'9GM.N.'!H27+'9GM.E.'!H27+'9GM.I.'!H27","v":1240000},{"$f":"'9GM.N.'!I27+'9GM.E.'!I27+'9GM.I.'!I27","v":2103517.0599999996}]
[29,{"$f":"'9GM.N.'!B28+'9GM.E.'!B28+'9GM.I.'!B28","v":182463358314},{"$f":"'9GM.N.'!C28+'9GM.E.'!C28+'9GM.I.'!C28","v":72724930121},{"$f":"'9GM.N.'!D28+'9GM.E.'!D28+'9GM.I.'!D28","v":7336104187},{"$f":"'9GM.N.'!E28+'9GM.E.'!E28+'9GM.I.'!E28","v":89124351351},{"$f":"'9GM.N.'!F28+'9GM.E.'!F28+'9GM.I.'!F28","v":97674343.549999937},{"$f":"'9GM.N.'!G28+'9GM.E.'!G28+'9GM.I.'!G28","v":3482256.6799999997},{"$f":"'9GM.N.'!H28+'9GM.E.'!H28+'9GM.I.'!H28","v":1340000},{"$f":"'9GM.N.'!I28+'9GM.E.'!I28+'9GM.I.'!I28","v":2138854.39}]
[30,{"$f":"'9GM.N.'!B29+'9GM.E.'!B29+'9GM.I.'!B29","v":190333493452},{"$f":"'9GM.N.'!C29+'9GM.E.'!C29+'9GM.I.'!C29","v":75468857656},{"$f":"'9GM.N.'!D29+'9GM.E.'!D29+'9GM.I.'!D29","v":7744162986},{"$f":"'9GM.N.'!E29+'9GM.E.'!E29+'9GM.I.'!E29","v":93043819512},{"$f":"'9GM.N.'!F29+'9GM.E.'!F29+'9GM.I.'!F29","v":104452278.02000007},{"$f":"'9GM.N.'!G29+'9GM.E.'!G29+'9GM.I.'!G29","v":3497792.44},{"$f":"'9GM.N.'!H29+'9GM.E.'!H29+'9GM.I.'!H29","v":410000},{"$f":"'9GM.N.'!I29+'9GM.E.'!I29+'9GM.I.'!I29","v":3061530.65}]
[31,{"$f":"'9GM.N.'!B30+'9GM.E.'!B30+'9GM.I.'!B30","v":202937345280},{"$f":"'9GM.N.'!C30+'9GM.E.'!C30+'9GM.I.'!C30","v":79117320350},{"$f":"'9GM.N.'!D30+'9GM.E.'!D30+'9GM.I.'!D30","v":8535058285},{"$f":"'9GM.N.'!E30+'9GM.E.'!E30+'9GM.I.'!E30","v":102547428685},{"$f":"'9GM.N.'!F30+'9GM.E.'!F30+'9GM.I.'!F30","v":123775210.97000004},{"$f":"'9GM.N.'!G30+'9GM.E.'!G30+'9GM.I.'!G30","v":7606683.4900000002},{"$f":"'9GM.N.'!H30+'9GM.E.'!H30+'9GM.I.'!H30","v":120000},{"$f":"'9GM.N.'!I30+'9GM.E.'!I30+'9GM.I.'!I30","v":4048668.79}]
[32,{"$f":"'9GM.N.'!B31+'9GM.E.'!B31+'9GM.I.'!B31","v":207413335559},{"$f":"'9GM.N.'!C31+'9GM.E.'!C31+'9GM.I.'!C31","v":79590756733},{"$f":"'9GM.N.'!D31+'9GM.E.'!D31+'9GM.I.'!D31","v":8650681631},{"$f":"'9GM.N.'!E31+'9GM.E.'!E31+'9GM.I.'!E31","v":108038115777},{"$f":"'9GM.N.'!F31+'9GM.E.'!F31+'9GM.I.'!F31","v":128110416.30999996},{"$f":"'9GM.N.'!G31+'9GM.E.'!G31+'9GM.I.'!G31","v":4306572.1900000004},{"$f":"'9GM.N.'!H31+'9GM.E.'!H31+'9GM.I.'!H31","v":250000},{"$f":"'9GM.N.'!I31+'9GM.E.'!I31+'9GM.I.'!I31","v":1398282.71}]
[33,{"$f":"'9GM.N.'!B32+'9GM.E.'!B32+'9GM.I.'!B32","v":214310672536},{"$f":"'9GM.N.'!C32+'9GM.E.'!C32+'9GM.I.'!C32","v":81259167854},{"$f":"'9GM.N.'!D32+'9GM.E.'!D32+'9GM.I.'!D32","v":8497803127},{"$f":"'9GM.N.'!E32+'9GM.E.'!E32+'9GM.I.'!E32","v":108740441071},{"$f":"'9GM.N.'!F32+'9GM.E.'!F32+'9GM.I.'!F32","v":150737194.1999999},{"$f":"'9GM.N.'!G32+'9GM.E.'!G32+'9GM.I.'!G32","v":6792993.2799999993},{"$f":"'9GM.N.'!H32+'9GM.E.'!H32+'9GM.I.'!H32","v":408267.6},{"$f":"'9GM.N.'!I32+'9GM.E.'!I32+'9GM.I.'!I32","v":8316913.9799999995}]
[34,{"$f":"'9GM.N.'!B33+'9GM.E.'!B33+'9GM.I.'!B33","v":218734917861},{"$f":"'9GM.N.'!C33+'9GM.E.'!C33+'9GM.I.'!C33","v":79938965967},{"$f":"'9GM.N.'!D33+'9GM.E.'!D33+'9GM.I.'!D33","v":8910322774},{"$f":"'9GM.N.'!E33+'9GM.E.'!E33+'9GM.I.'!E33","v":113395471347},{"$f":"'9GM.N.'!F33+'9GM.E.'!F33+'9GM.I.'!F33","v":152497882.16},{"$f":"'9GM.N.'!G33+'9GM.E.'!G33+'9GM.I.'!G33","v":4285625.67},{"$f":"'9GM.N.'!H33+'9GM.E.'!H33+'9GM.I.'!H33","v":727360},{"$f":"'9GM.N.'!I33+'9GM.E.'!I33+'9GM.I.'!I33","v":6792690.1000000006}]
[35,{"$f":"'9GM.N.'!B34+'9GM.E.'!B34+'9GM.I.'!B34","v":225830097194},{"$f":"'9GM.N.'!C34+'9GM.E.'!C34+'9GM.I.'!C34","v":81672300233},{"$f":"'9GM.N.'!D34+'9GM.E.'!D34+'9GM.I.'!D34","v":9167119551},{"$f":"'9GM.N.'!E34+'9GM.E.'!E34+'9GM.I.'!E34","v":117445009165},{"$f":"'9GM.N.'!F34+'9GM.E.'!F34+'9GM.I.'!F34","v":197383010.85000011},{"$f":"'9GM.N.'!G34+'9GM.E.'!G34+'9GM.I.'!G34","v":9732062.6300000008},{"$f":"'9GM.N.'!H34+'9GM.E.'!H34+'9GM.I.'!H34","v":853037.82},{"$f":"'9GM.N.'!I34+'9GM.E.'!I34+'9GM.I.'!I34","v":12503641.609999999}]
[36,{"$f":"'9GM.N.'!B35+'9GM.E.'!B35+'9GM.I.'!B35","v":229482601580},{"$f":"'9GM.N.'!C35+'9GM.E.'!C35+'9GM.I.'!C35","v":82102909580},{"$f":"'9GM.N.'!D35+'9GM.E.'!D35+'9GM.I.'!D35","v":9061924507},{"$f":"'9GM.N.'!E35+'9GM.E.'!E35+'9GM.I.'!E35","v":117436374919},{"$f":"'9GM.N.'!F35+'9GM.E.'!F35+'9GM.I.'!F35","v":234841440.69999972},{"$f":"'9GM.N.'!G35+'9GM.E.'!G35+'9GM.I.'!G35","v":6383070.3199999994},{"$f":"'9GM.N.'!H35+'9GM.E.'!H35+'9GM.I.'!H35","v":1176852.3999999999},{"$f":"'9GM.N.'!I35+'9GM.E.'!I35+'9GM.I.'!I35","v":10319343.819999998}]
[37,{"$f":"'9GM.N.'!B36+'9GM.E.'!B36+'9GM.I.'!B36","v":232732194709},{"$f":"'9GM.N.'!C36+'9GM.E.'!C36+'9GM.I.'!C36","v":82903368519},{"$f":"'9GM.N.'!D36+'9GM.E.'!D36+'9GM.I.'!D36","v":9538333686},{"$f":"'9GM.N.'!E36+'9GM.E.'!E36+'9GM.I.'!E36","v":122073248898},{"$f":"'9GM.N.'!F36+'9GM.E.'!F36+'9GM.I.'!F36","v":260299558.77999985},{"$f":"'9GM.N.'!G36+'9GM.E.'!G36+'9GM.I.'!G36","v":5994634.5499999998},{"$f":"'9GM.N.'!H36+'9GM.E.'!H36+'9GM.I.'!H36","v":795200},{"$f":"'9GM.N.'!I36+'9GM.E.'!I36+'9GM.I.'!I36","v":17607152.749999996}]
[38,{"$f":"'9GM.N.'!B37+'9GM.E.'!B37+'9GM.I.'!B37","v":238804210982},{"$f":"'9GM.N.'!C37+'9GM.E.'!C37+'9GM.I.'!C37","v":85006050592},{"$f":"'9GM.N.'!D37+'9GM.E.'!D37+'9GM.I.'!D37","v":9613920262},{"$f":"'9GM.N.'!E37+'9GM.E.'!E37+'9GM.I.'!E37","v":126026279476},{"$f":"'9GM.N.'!F37+'9GM.E.'!F37+'9GM.I.'!F37","v":264073929.94999987},{"$f":"'9GM.N.'!G37+'9GM.E.'!G37+'9GM.I.'!G37","v":4173712.6799999997},{"$f":"'9GM.N.'!H37+'9GM.E.'!H37+'9GM.I.'!H37","v":150000},{"$f":"'9GM.N.'!I37+'9GM.E.'!I37+'9GM.I.'!I37","v":19119673.840000004}]
[39,{"$f":"'9GM.N.'!B38+'9GM.E.'!B38+'9GM.I.'!B38","v":239935473648},{"$f":"'9GM.N.'!C38+'9GM.E.'!C38+'9GM.I.'!C38","v":82242316715},{"$f":"'9GM.N.'!D38+'9GM.E.'!D38+'9GM.I.'!D38","v":10193897854},{"$f":"'9GM.N.'!E38+'9GM.E.'!E38+'9GM.I.'!E38","v":122400188862},{"$f":"'9GM.N.'!F38+'9GM.E.'!F38+'9GM.I.'!F38","v":285497525.38999993},{"$f":"'9GM.N.'!G38+'9GM.E.'!G38+'9GM.I.'!G38","v":8378156.629999999},{"$f":"'9GM.N.'!H38+'9GM.E.'!H38+'9GM.I.'!H38","v":726676},{"$f":"'9GM.N.'!I38+'9GM.E.'!I38+'9GM.I.'!I38","v":17001631.68}]
[40,{"$f":"'9GM.N.'!B39+'9GM.E.'!B39+'9GM.I.'!B39","v":311724196025},{"$f":"'9GM.N.'!C39+'9GM.E.'!C39+'9GM.I.'!C39","v":130352357138},{"$f":"'9GM.N.'!D39+'9GM.E.'!D39+'9GM.I.'!D39","v":29683551638},{"$f":"'9GM.N.'!E39+'9GM.E.'!E39+'9GM.I.'!E39","v":121481536028},{"$f":"'9GM.N.'!F39+'9GM.E.'!F39+'9GM.I.'!F39","v":285834457.63999993},{"$f":"'9GM.N.'!G39+'9GM.E.'!G39+'9GM.I.'!G39","v":3039874.05},{"$f":"'9GM.N.'!H39+'9GM.E.'!H39+'9GM.I.'!H39","v":321775.2},{"$f":"'9GM.N.'!I39+'9GM.E.'!I39+'9GM.I.'!I39","v":22028291.170000002}]
[41,{"$f":"'9GM.N.'!B40+'9GM.E.'!B40+'9GM.I.'!B40","v":242422069903},{"$f":"'9GM.N.'!C40+'9GM.E.'!C40+'9GM.I.'!C40","v":79307547463},{"$f":"'9GM.N.'!D40+'9GM.E.'!D40+'9GM.I.'!D40","v":8878099827},{"$f":"'9GM.N.'!E40+'9GM.E.'!E40+'9GM.I.'!E40","v":121731132726},{"$f":"'9GM.N.'!F40+'9GM.E.'!F40+'9GM.I.'!F40","v":731161844.86000049},{"$f":"'9GM.N.'!G40+'9GM.E.'!G40+'9GM.I.'!G40","v":5605187.4400000004},{"$f":"'9GM.N.'!H40+'9GM.E.'!H40+'9GM.I.'!H40","v":1222302.8},{"$f":"'9GM.N.'!I40+'9GM.E.'!I40+'9GM.I.'!I40","v":21375625.759999998}]
[42,{"$f":"'9GM.N.'!B41+'9GM.E.'!B41+'9GM.I.'!B41","v":230724453160},{"$f":"'9GM.N.'!C41+'9GM.E.'!C41+'9GM.I.'!C41","v":74822389060},{"$f":"'9GM.N.'!D41+'9GM.E.'!D41+'9GM.I.'!D41","v":8800323333},{"$f":"'9GM.N.'!E41+'9GM.E.'!E41+'9GM.I.'!E41","v":116652286181},{"$f":"'9GM.N.'!F41+'9GM.E.'!F41+'9GM.I.'!F41","v":353746404.52000022},{"$f":"'9GM.N.'!G41+'9GM.E.'!G41+'9GM.I.'!G41","v":5371496.5099999998},{"$f":"'9GM.N.'!H41+'9GM.E.'!H41+'9GM.I.'!H41","v":200000},{"$f":"'9GM.N.'!I41+'9GM.E.'!I41+'9GM.I.'!I41","v":15442389.960000001}]
[43,{"$f":"'9GM.N.'!B42+'9GM.E.'!B42+'9GM.I.'!B42","v":230165978311},{"$f":"'9GM.N.'!C42+'9GM.E.'!C42+'9GM.I.'!C42","v":73558398632},{"$f":"'9GM.N.'!D42+'9GM.E.'!D42+'9GM.I.'!D42","v":8926434795},{"$f":"'9GM.N.'!E42+'9GM.E.'!E42+'9GM.I.'!E42","v":114992814745},{"$f":"'9GM.N.'!F42+'9GM.E.'!F42+'9GM.I.'!F42","v":906832673.11000156},{"$f":"'9GM.N.'!G42+'9GM.E.'!G42+'9GM.I.'!G42","v":36498525.190000005},{"$f":"'9GM.N.'!H42+'9GM.E.'!H42+'9GM.I.'!H42","v":0},{"$f":"'9GM.N.'!I42+'9GM.E.'!I42+'9GM.I.'!I42","v":23161643.5}]
[44,{"$f":"'9GM.N.'!B43+'9GM.E.'!B43+'9GM.I.'!B43","v":258032395866},{"$f":"'9GM.N.'!C43+'9GM.E.'!C43+'9GM.I.'!C43","v":74063462522},{"$f":"'9GM.N.'!D43+'9GM.E.'!D43+'9GM.I.'!D43","v":9009185380},{"$f":"'9GM.N.'!E43+'9GM.E.'!E43+'9GM.I.'!E43","v":114691198317},{"$f":"'9GM.N.'!F43+'9GM.E.'!F43+'9GM.I.'!F43","v":400176333.52000022},{"$f":"'9GM.N.'!G43+'9GM.E.'!G43+'9GM.I.'!G43","v":10546054.07},{"$f":"'9GM.N.'!H43+'9GM.E.'!H43+'9GM.I.'!H43","v":0},{"$f":"'9GM.N.'!I43+'9GM.E.'!I43+'9GM.I.'!I43","v":21716726.259999994}]
[45,{"$f":"'9GM.N.'!B44+'9GM.E.'!B44+'9GM.I.'!B44","v":229735183695},{"$f":"'9GM.N.'!C44+'9GM.E.'!C44+'9GM.I.'!C44","v":70823586107},{"$f":"'9GM.N.'!D44+'9GM.E.'!D44+'9GM.I.'!D44","v":8935443219},{"$f":"'9GM.N.'!E44+'9GM.E.'!E44+'9GM.I.'!E44","v":112614637075},{"$f":"'9GM.N.'!F44+'9GM.E.'!F44+'9GM.I.'!F44","v":444968677.76000053},{"$f":"'9GM.N.'!G44+'9GM.E.'!G44+'9GM.I.'!G44","v":5205539.6400000006},{"$f":"'9GM.N.'!H44+'9GM.E.'!H44+'9GM.I.'!H44","v":0},{"$f":"'9GM.N.'!I44+'9GM.E.'!I44+'9GM.I.'!I44","v":23001457.779999997}]
[46,{"$f":"'9GM.N.'!B45+'9GM.E.'!B45+'9GM.I.'!B45","v":234347075098},{"$f":"'9GM.N.'!C45+'9GM.E.'!C45+'9GM.I.'!C45","v":70736972126},{"$f":"'9GM.N.'!D45+'9GM.E.'!D45+'9GM.I.'!D45","v":8862407010},{"$f":"'9GM.N.'!E45+'9GM.E.'!E45+'9GM.I.'!E45","v":116710298950},{"$f":"'9GM.N.'!F45+'9GM.E.'!F45+'9GM.I.'!F45","v":597770336.96999979},{"$f":"'9GM.N.'!G45+'9GM.E.'!G45+'9GM.I.'!G45","v":29461827.820000004},{"$f":"'9GM.N.'!H45+'9GM.E.'!H45+'9GM.I.'!H45","v":3350487.44},{"$f":"'9GM.N.'!I45+'9GM.E.'!I45+'9GM.I.'!I45","v":24932887.82}]
[47,{"$f":"'9GM.N.'!B46+'9GM.E.'!B46+'9GM.I.'!B46","v":237704682588},{"$f":"'9GM.N.'!C46+'9GM.E.'!C46+'9GM.I.'!C46","v":71829550376},{"$f":"'9GM.N.'!D46+'9GM.E.'!D46+'9GM.I.'!D46","v":8731275688},{"$f":"'9GM.N.'!E46+'9GM.E.'!E46+'9GM.I.'!E46","v":116030640373},{"$f":"'9GM.N.'!F46+'9GM.E.'!F46+'9GM.I.'!F46","v":568630824.66000021},{"$f":"'9GM.N.'!G46+'9GM.E.'!G46+'9GM.I.'!G46","v":4851312.7300000004},{"$f":"'9GM.N.'!H46+'9GM.E.'!H46+'9GM.I.'!H46","v":590000},{"$f":"'9GM.N.'!I46+'9GM.E.'!I46+'9GM.I.'!I46","v":33307007.030000001}]
[48,{"$f":"'9GM.N.'!B47+'9GM.E.'!B47+'9GM.I.'!B47","v":236486718403},{"$f":"'9GM.N.'!C47+'9GM.E.'!C47+'9GM.I.'!C47","v":70654709360},{"$f":"'9GM.N.'!D47+'9GM.E.'!D47+'9GM.I.'!D47","v":9085926766},{"$f":"'9GM.N.'!E47+'9GM.E.'!E47+'9GM.I.'!E47","v":114389877438},{"$f":"'9GM.N.'!F47+'9GM.E.'!F47+'9GM.I.'!F47","v":538762243.51000047},{"$f":"'9GM.N.'!G47+'9GM.E.'!G47+'9GM.I.'!G47","v":1452320},{"$f":"'9GM.N.'!H47+'9GM.E.'!H47+'9GM.I.'!H47","v":322499.09999999998},{"$f":"'9GM.N.'!I47+'9GM.E.'!I47+'9GM.I.'!I47","v":27441069.52}]
[49,{"$f":"'9GM.N.'!B48+'9GM.E.'!B48+'9GM.I.'!B48","v":229606034627},{"$f":"'9GM.N.'!C48+'9GM.E.'!C48+'9GM.I.'!C48","v":67237917137},{"$f":"'9GM.N.'!D48+'9GM.E.'!D48+'9GM.I.'!D48","v":8515476127},{"$f":"'9GM.N.'!E48+'9GM.E.'!E48+'9GM.I.'!E48","v":113314758053},{"$f":"'9GM.N.'!F48+'9GM.E.'!F48+'9GM.I.'!F48","v":537759369.85000026},{"$f":"'9GM.N.'!G48+'9GM.E.'!G48+'9GM.I.'!G48","v":4916023.74},{"$f":"'9GM.N.'!H48+'9GM.E.'!H48+'9GM.I.'!H48","v":440000},{"$f":"'9GM.N.'!I48+'9GM.E.'!I48+'9GM.I.'!I48","v":33524632.920000006}]
[50,{"$f":"'9GM.N.'!B49+'9GM.E.'!B49+'9GM.I.'!B49","v":224870856129},{"$f":"'9GM.N.'!C49+'9GM.E.'!C49+'9GM.I.'!C49","v":63590749265},{"$f":"'9GM.N.'!D49+'9GM.E.'!D49+'9GM.I.'!D49","v":8628980954},{"$f":"'9GM.N.'!E49+'9GM.E.'!E49+'9GM.I.'!E49","v":107287749242},{"$f":"'9GM.N.'!F49+'9GM.E.'!F49+'9GM.I.'!F49","v":599292130.66999972},{"$f":"'9GM.N.'!G49+'9GM.E.'!G49+'9GM.I.'!G49","v":2998025.1100000003},{"$f":"'9GM.N.'!H49+'9GM.E.'!H49+'9GM.I.'!H49","v":420000},{"$f":"'9GM.N.'!I49+'9GM.E.'!I49+'9GM.I.'!I49","v":52226088.170000009}]
[51,{"$f":"'9GM.N.'!B50+'9GM.E.'!B50+'9GM.I.'!B50","v":215359024718},{"$f":"'9GM.N.'!C50+'9GM.E.'!C50+'9GM.I.'!C50","v":59759686464},{"$f":"'9GM.N.'!D50+'9GM.E.'!D50+'9GM.I.'!D50","v":8152717576},{"$f":"'9GM.N.'!E50+'9GM.E.'!E50+'9GM.I.'!E50","v":101852758029},{"$f":"'9GM.N.'!F50+'9GM.E.'!F50+'9GM.I.'!F50","v":690904515.95999932},{"$f":"'9GM.N.'!G50+'9GM.E.'!G50+'9GM.I.'!G50","v":7925104.6899999995},{"$f":"'9GM.N.'!H50+'9GM.E.'!H50+'9GM.I.'!H50","v":200000},{"$f":"'9GM.N.'!I50+'9GM.E.'!I50+'9GM.I.'!I50","v":37613199.789999999}]
[52,{"$f":"'9GM.N.'!B51+'9GM.E.'!B51+'9GM.I.'!B51","v":207263794904},{"$f":"'9GM.N.'!C51+'9GM.E.'!C51+'9GM.I.'!C51","v":55429436054},{"$f":"'9GM.N.'!D51+'9GM.E.'!D51+'9GM.I.'!D51","v":8251003870},{"$f":"'9GM.N.'!E51+'9GM.E.'!E51+'9GM.I.'!E51","v":97898980576},{"$f":"'9GM.N.'!F51+'9GM.E.'!F51+'9GM.I.'!F51","v":693766419.80999887},{"$f":"'9GM.N.'!G51+'9GM.E.'!G51+'9GM.I.'!G51","v":12680930.710000001},{"$f":"'9GM.N.'!H51+'9GM.E.'!H51+'9GM.I.'!H51","v":1900703.2},{"$f":"'9GM.N.'!I51+'9GM.E.'!I51+'9GM.I.'!I51","v":43386125.920000002}]
[53,{"$f":"'9GM.N.'!B52+'9GM.E.'!B52+'9GM.I.'!B52","v":200906442817},{"$f":"'9GM.N.'!C52+'9GM.E.'!C52+'9GM.I.'!C52","v":51370819324},{"$f":"'9GM.N.'!D52+'9GM.E.'!D52+'9GM.I.'!D52","v":8289791525},{"$f":"'9GM.N.'!E52+'9GM.E.'!E52+'9GM.I.'!E52","v":90968706898},{"$f":"'9GM.N.'!F52+'9GM.E.'!F52+'9GM.I.'!F52","v":750728304.34999859},{"$f":"'9GM.N.'!G52+'9GM.E.'!G52+'9GM.I.'!G52","v":18549753.960000001},{"$f":"'9GM.N.'!H52+'9GM.E.'!H52+'9GM.I.'!H52","v":905569},{"$f":"'9GM.N.'!I52+'9GM.E.'!I52+'9GM.I.'!I52","v":67755281.310000002}]
[54,{"$f":"'9GM.N.'!B53+'9GM.E.'!B53+'9GM.I.'!B53","v":193667893006},{"$f":"'9GM.N.'!C53+'9GM.E.'!C53+'9GM.I.'!C53","v":48000429148},{"$f":"'9GM.N.'!D53+'9GM.E.'!D53+'9GM.I.'!D53","v":7906587161},{"$f":"'9GM.N.'!E53+'9GM.E.'!E53+'9GM.I.'!E53","v":85917119506},{"$f":"'9GM.N.'!F53+'9GM.E.'!F53+'9GM.I.'!F53","v":796544917.21999991},{"$f":"'9GM.N.'!G53+'9GM.E.'!G53+'9GM.I.'!G53","v":5426571.0899999999},{"$f":"'9GM.N.'!H53+'9GM.E.'!H53+'9GM.I.'!H53","v":120000},{"$f":"'9GM.N.'!I53+'9GM.E.'!I53+'9GM.I.'!I53","v":45382758.899999999}]
[55,{"$f":"'9GM.N.'!B54+'9GM.E.'!B54+'9GM.I.'!B54","v":186843078039},{"$f":"'9GM.N.'!C54+'9GM.E.'!C54+'9GM.I.'!C54","v":44925690229},{"$f":"'9GM.N.'!D54+'9GM.E.'!D54+'9GM.I.'!D54","v":8027512207},{"$f":"'9GM.N.'!E54+'9GM.E.'!E54+'9GM.I.'!E54","v":81031437971},{"$f":"'9GM.N.'!F54+'9GM.E.'!F54+'9GM.I.'!F54","v":853836774.13999927},{"$f":"'9GM.N.'!G54+'9GM.E.'!G54+'9GM.I.'!G54","v":6498121.3999999994},{"$f":"'9GM.N.'!H54+'9GM.E.'!H54+'9GM.I.'!H54","v":0},{"$f":"'9GM.N.'!I54+'9GM.E.'!I54+'9GM.I.'!I54","v":47513392.910000011}]
[56,{"$f":"'9GM.N.'!B55+'9GM.E.'!B55+'9GM.I.'!B55","v":178458753978},{"$f":"'9GM.N.'!C55+'9GM.E.'!C55+'9GM.I.'!C55","v":41296659009},{"$f":"'9GM.N.'!D55+'9GM.E.'!D55+'9GM.I.'!D55","v":7478376373},{"$f":"'9GM.N.'!E55+'9GM.E.'!E55+'9GM.I.'!E55","v":73282213032},{"$f":"'9GM.N.'!F55+'9GM.E.'!F55+'9GM.I.'!F55","v":724985117.19999897},{"$f":"'9GM.N.'!G55+'9GM.E.'!G55+'9GM.I.'!G55","v":9557151.4800000004},{"$f":"'9GM.N.'!H55+'9GM.E.'!H55+'9GM.I.'!H55","v":590000},{"$f":"'9GM.N.'!I55+'9GM.E.'!I55+'9GM.I.'!I55","v":50446567.390000008}]
[57,{"$f":"'9GM.N.'!B56+'9GM.E.'!B56+'9GM.I.'!B56","v":170926392702},{"$f":"'9GM.N.'!C56+'9GM.E.'!C56+'9GM.I.'!C56","v":37934036823},{"$f":"'9GM.N.'!D56+'9GM.E.'!D56+'9GM.I.'!D56","v":7227453589},{"$f":"'9GM.N.'!E56+'9GM.E.'!E56+'9GM.I.'!E56","v":69833646634},{"$f":"'9GM.N.'!F56+'9GM.E.'!F56+'9GM.I.'!F56","v":869297668.6699996},{"$f":"'9GM.N.'!G56+'9GM.E.'!G56+'9GM.I.'!G56","v":3210444},{"$f":"'9GM.N.'!H56+'9GM.E.'!H56+'9GM.I.'!H56","v":590000},{"$f":"'9GM.N.'!I56+'9GM.E.'!I56+'9GM.I.'!I56","v":99608650.379999995}]
[58,{"$f":"'9GM.N.'!B57+'9GM.E.'!B57+'9GM.I.'!B57","v":165852404621},{"$f":"'9GM.N.'!C57+'9GM.E.'!C57+'9GM.I.'!C57","v":34981294231},{"$f":"'9GM.N.'!D57+'9GM.E.'!D57+'9GM.I.'!D57","v":7298112372},{"$f":"'9GM.N.'!E57+'9GM.E.'!E57+'9GM.I.'!E57","v":65284586884},{"$f":"'9GM.N.'!F57+'9GM.E.'!F57+'9GM.I.'!F57","v":918106264.18999851},{"$f":"'9GM.N.'!G57+'9GM.E.'!G57+'9GM.I.'!G57","v":2703568.38},{"$f":"'9GM.N.'!H57+'9GM.E.'!H57+'9GM.I.'!H57","v":230000},{"$f":"'9GM.N.'!I57+'9GM.E.'!I57+'9GM.I.'!I57","v":48165577.410000004}]
[59,{"$f":"'9GM.N.'!B58+'9GM.E.'!B58+'9GM.I.'!B58","v":156472017670},{"$f":"'9GM.N.'!C58+'9GM.E.'!C58+'9GM.I.'!C58","v":30569741858},{"$f":"'9GM.N.'!D58+'9GM.E.'!D58+'9GM.I.'!D58","v":6692739250},{"$f":"'9GM.N.'!E58+'9GM.E.'!E58+'9GM.I.'!E58","v":57898119997},{"$f":"'9GM.N.'!F58+'9GM.E.'!F58+'9GM.I.'!F58","v":871909588.20000029},{"$f":"'9GM.N.'!G58+'9GM.E.'!G58+'9GM.I.'!G58","v":1133613.42},{"$f":"'9GM.N.'!H58+'9GM.E.'!H58+'9GM.I.'!H58","v":140000},{"$f":"'9GM.N.'!I58+'9GM.E.'!I58+'9GM.I.'!I58","v":68881346.060000002}]
[60,{"$f":"'9GM.N.'!B59+'9GM.E.'!B59+'9GM.I.'!B59","v":147121795000},{"$f":"'9GM.N.'!C59+'9GM.E.'!C59+'9GM.I.'!C59","v":26783464077},{"$f":"'9GM.N.'!D59+'9GM.E.'!D59+'9GM.I.'!D59","v":6265612126},{"$f":"'9GM.N.'!E59+'9GM.E.'!E59+'9GM.I.'!E59","v":52499816585},{"$f":"'9GM.N.'!F59+'9GM.E.'!F59+'9GM.I.'!F59","v":940380729.61999834},{"$f":"'9GM.N.'!G59+'9GM.E.'!G59+'9GM.I.'!G59","v":1645254.7999999998},{"$f":"'9GM.N.'!H59+'9GM.E.'!H59+'9GM.I.'!H59","v":882500},{"$f":"'9GM.N.'!I59+'9GM.E.'!I59+'9GM.I.'!I59","v":47029070.239999995}]
[61,{"$f":"'9GM.N.'!B60+'9GM.E.'!B60+'9GM.I.'!B60","v":138778772403},{"$f":"'9GM.N.'!C60+'9GM.E.'!C60+'9GM.I.'!C60","v":22515849806},{"$f":"'9GM.N.'!D60+'9GM.E.'!D60+'9GM.I.'!D60","v":5715081116},{"$f":"'9GM.N.'!E60+'9GM.E.'!E60+'9GM.I.'!E60","v":48789427162},{"$f":"'9GM.N.'!F60+'9GM.E.'!F60+'9GM.I.'!F60","v":906246361.52999854},{"$f":"'9GM.N.'!G60+'9GM.E.'!G60+'9GM.I.'!G60","v":1185835.21},{"$f":"'9GM.N.'!H60+'9GM.E.'!H60+'9GM.I.'!H60","v":200400},{"$f":"'9GM.N.'!I60+'9GM.E.'!I60+'9GM.I.'!I60","v":81034112.910000011}]
[62,{"$f":"'9GM.N.'!B61+'9GM.E.'!B61+'9GM.I.'!B61","v":129308005819},{"$f":"'9GM.N.'!C61+'9GM.E.'!C61+'9GM.I.'!C61","v":18268704669},{"$f":"'9GM.N.'!D61+'9GM.E.'!D61+'9GM.I.'!D61","v":5088890153},{"$f":"'9GM.N.'!E61+'9GM.E.'!E61+'9GM.I.'!E61","v":41568739521},{"$f":"'9GM.N.'!F61+'9GM.E.'!F61+'9GM.I.'!F61","v":857831809.6999985},{"$f":"'9GM.N.'!G61+'9GM.E.'!G61+'9GM.I.'!G61","v":130000},{"$f":"'9GM.N.'!H61+'9GM.E.'!H61+'9GM.I.'!H61","v":0},{"$f":"'9GM.N.'!I61+'9GM.E.'!I61+'9GM.I.'!I61","v":23802882.410000004}]
[63,{"$f":"'9GM.N.'!B62+'9GM.E.'!B62+'9GM.I.'!B62","v":119588095512},{"$f":"'9GM.N.'!C62+'9GM.E.'!C62+'9GM.I.'!C62","v":15574098466},{"$f":"'9GM.N.'!D62+'9GM.E.'!D62+'9GM.I.'!D62","v":4547472210},{"$f":"'9GM.N.'!E62+'9GM.E.'!E62+'9GM.I.'!E62","v":36814648383},{"$f":"'9GM.N.'!F62+'9GM.E.'!F62+'9GM.I.'!F62","v":826367047.72999942},{"$f":"'9GM.N.'!G62+'9GM.E.'!G62+'9GM.I.'!G62","v":1030000},{"$f":"'9GM.N.'!H62+'9GM.E.'!H62+'9GM.I.'!H62","v":0},{"$f":"'9GM.N.'!I62+'9GM.E.'!I62+'9GM.I.'!I62","v":24449386.700000003}]
[64,{"$f":"'9GM.N.'!B63+'9GM.E.'!B63+'9GM.I.'!B63","v":113670158212},{"$f":"'9GM.N.'!C63+'9GM.E.'!C63+'9GM.I.'!C63","v":13871653113},{"$f":"'9GM.N.'!D63+'9GM.E.'!D63+'9GM.I.'!D63","v":4250001705},{"$f":"'9GM.N.'!E63+'9GM.E.'!E63+'9GM.I.'!E63","v":31601147633},{"$f":"'9GM.N.'!F63+'9GM.E.'!F63+'9GM.I.'!F63","v":861214018.99999976},{"$f":"'9GM.N.'!G63+'9GM.E.'!G63+'9GM.I.'!G63","v":155000},{"$f":"'9GM.N.'!H63+'9GM.E.'!H63+'9GM.I.'!H63","v":453985},{"$f":"'9GM.N.'!I63+'9GM.E.'!I63+'9GM.I.'!I63","v":20041137.780000001}]
[65,{"$f":"'9GM.N.'!B64+'9GM.E.'!B64+'9GM.I.'!B64","v":105168223656},{"$f":"'9GM.N.'!C64+'9GM.E.'!C64+'9GM.I.'!C64","v":11839439373},{"$f":"'9GM.N.'!D64+'9GM.E.'!D64+'9GM.I.'!D64","v":3559347937},{"$f":"'9GM.N.'!E64+'9GM.E.'!E64+'9GM.I.'!E64","v":26430820417},{"$f":"'9GM.N.'!F64+'9GM.E.'!F64+'9GM.I.'!F64","v":844952995.61999905},{"$f":"'9GM.N.'!G64+'9GM.E.'!G64+'9GM.I.'!G64","v":1060000},{"$f":"'9GM.N.'!H64+'9GM.E.'!H64+'9GM.I.'!H64","v":0},{"$f":"'9GM.N.'!I64+'9GM.E.'!I64+'9GM.I.'!I64","v":19903219.959999997}]
[66,{"$f":"'9GM.N.'!B65+'9GM.E.'!B65+'9GM.I.'!B65","v":100064988817},{"$f":"'9GM.N.'!C65+'9GM.E.'!C65+'9GM.I.'!C65","v":9895234670},{"$f":"'9GM.N.'!D65+'9GM.E.'!D65+'9GM.I.'!D65","v":2657216567},{"$f":"'9GM.N.'!E65+'9GM.E.'!E65+'9GM.I.'!E65","v":21757272220},{"$f":"'9GM.N.'!F65+'9GM.E.'!F65+'9GM.I.'!F65","v":832171782.62000024},{"$f":"'9GM.N.'!G65+'9GM.E.'!G65+'9GM.I.'!G65","v":1442154.8},{"$f":"'9GM.N.'!H65+'9GM.E.'!H65+'9GM.I.'!H65","v":87500},{"$f":"'9GM.N.'!I65+'9GM.E.'!I65+'9GM.I.'!I65","v":35381088.859999999}]
[67,{"$f":"'9GM.N.'!B66+'9GM.E.'!B66+'9GM.I.'!B66","v":91525163939},{"$f":"'9GM.N.'!C66+'9GM.E.'!C66+'9GM.I.'!C66","v":8592697795},{"$f":"'9GM.N.'!D66+'9GM.E.'!D66+'9GM.I.'!D66","v":2324208459},{"$f":"'9GM.N.'!E66+'9GM.E.'!E66+'9GM.I.'!E66","v":19154739667},{"$f":"'9GM.N.'!F66+'9GM.E.'!F66+'9GM.I.'!F66","v":777160649.37000108},{"$f":"'9GM.N.'!G66+'9GM.E.'!G66+'9GM.I.'!G66","v":140000},{"$f":"'9GM.N.'!H66+'9GM.E.'!H66+'9GM.I.'!H66","v":885000},{"$f":"'9GM.N.'!I66+'9GM.E.'!I66+'9GM.I.'!I66","v":41151493.359999999}]
[68,{"$f":"'9GM.N.'!B67+'9GM.E.'!B67+'9GM.I.'!B67","v":84924709746},{"$f":"'9GM.N.'!C67+'9GM.E.'!C67+'9GM.I.'!C67","v":7134520695},{"$f":"'9GM.N.'!D67+'9GM.E.'!D67+'9GM.I.'!D67","v":2008779134},{"$f":"'9GM.N.'!E67+'9GM.E.'!E67+'9GM.I.'!E67","v":16277480360},{"$f":"'9GM.N.'!F67+'9GM.E.'!F67+'9GM.I.'!F67","v":684589924.09000015},{"$f":"'9GM.N.'!G67+'9GM.E.'!G67+'9GM.I.'!G67","v":865000},{"$f":"'9GM.N.'!H67+'9GM.E.'!H67+'9GM.I.'!H67","v":0},{"$f":"'9GM.N.'!I67+'9GM.E.'!I67+'9GM.I.'!I67","v":9355184.4499999993}]
[69,{"$f":"'9GM.N.'!B68+'9GM.E.'!B68+'9GM.I.'!B68","v":78337384159},{"$f":"'9GM.N.'!C68+'9GM.E.'!C68+'9GM.I.'!C68","v":6227961988},{"$f":"'9GM.N.'!D68+'9GM.E.'!D68+'9GM.I.'!D68","v":1809040017},{"$f":"'9GM.N.'!E68+'9GM.E.'!E68+'9GM.I.'!E68","v":12454595786},{"$f":"'9GM.N.'!F68+'9GM.E.'!F68+'9GM.I.'!F68","v":698587659.66000021},{"$f":"'9GM.N.'!G68+'9GM.E.'!G68+'9GM.I.'!G68","v":65000},{"$f":"'9GM.N.'!H68+'9GM.E.'!H68+'9GM.I.'!H68","v":0},{"$f":"'9GM.N.'!I68+'9GM.E.'!I68+'9GM.I.'!I68","v":18045167.509999998}]
[70,{"$f":"'9GM.N.'!B69+'9GM.E.'!B69+'9GM.I.'!B69","v":75001229918},{"$f":"'9GM.N.'!C69+'9GM.E.'!C69+'9GM.I.'!C69","v":4785836141},{"$f":"'9GM.N.'!D69+'9GM.E.'!D69+'9GM.I.'!D69","v":1447465273},{"$f":"'9GM.N.'!E69+'9GM.E.'!E69+'9GM.I.'!E69","v":10966888102},{"$f":"'9GM.N.'!F69+'9GM.E.'!F69+'9GM.I.'!F69","v":671898889.30999887},{"$f":"'9GM.N.'!G69+'9GM.E.'!G69+'9GM.I.'!G69","v":670000},{"$f":"'9GM.N.'!H69+'9GM.E.'!H69+'9GM.I.'!H69","v":0},{"$f":"'9GM.N.'!I69+'9GM.E.'!I69+'9GM.I.'!I69","v":15179914.699999999}]
[71,{"$f":"'9GM.N.'!B70+'9GM.E.'!B70+'9GM.I.'!B70","v":68716447935},{"$f":"'9GM.N.'!C70+'9GM.E.'!C70+'9GM.I.'!C70","v":3220541460},{"$f":"'9GM.N.'!D70+'9GM.E.'!D70+'9GM.I.'!D70","v":1154376168},{"$f":"'9GM.N.'!E70+'9GM.E.'!E70+'9GM.I.'!E70","v":8247074732},{"$f":"'9GM.N.'!F70+'9GM.E.'!F70+'9GM.I.'!F70","v":584190710.54999936},{"$f":"'9GM.N.'!G70+'9GM.E.'!G70+'9GM.I.'!G70","v":0},{"$f":"'9GM.N.'!H70+'9GM.E.'!H70+'9GM.I.'!H70","v":0},{"$f":"'9GM.N.'!I70+'9GM.E.'!I70+'9GM.I.'!I70","v":13010655.85}]
[72,{"$f":"'9GM.N.'!B71+'9GM.E.'!B71+'9GM.I.'!B71","v":62722029866},{"$f":"'9GM.N.'!C71+'9GM.E.'!C71+'9GM.I.'!C71","v":2739005219},{"$f":"'9GM.N.'!D71+'9GM.E.'!D71+'9GM.I.'!D71","v":991043709},{"$f":"'9GM.N.'!E71+'9GM.E.'!E71+'9GM.I.'!E71","v":5864301864},{"$f":"'9GM.N.'!F71+'9GM.E.'!F71+'9GM.I.'!F71","v":613376663.75999987},{"$f":"'9GM.N.'!G71+'9GM.E.'!G71+'9GM.I.'!G71","v":220000},{"$f":"'9GM.N.'!H71+'9GM.E.'!H71+'9GM.I.'!H71","v":0},{"$f":"'9GM.N.'!I71+'9GM.E.'!I71+'9GM.I.'!I71","v":15488939.5}]
[73,{"$f":"'9GM.N.'!B72+'9GM.E.'!B72+'9GM.I.'!B72","v":59256558431},{"$f":"'9GM.N.'!C72+'9GM.E.'!C72+'9GM.I.'!C72","v":2301800947},{"$f":"'9GM.N.'!D72+'9GM.E.'!D72+'9GM.I.'!D72","v":905523185},{"$f":"'9GM.N.'!E72+'9GM.E.'!E72+'9GM.I.'!E72","v":4684598860},{"$f":"'9GM.N.'!F72+'9GM.E.'!F72+'9GM.I.'!F72","v":499159192.05000049},{"$f":"'9GM.N.'!G72+'9GM.E.'!G72+'9GM.I.'!G72","v":210000},{"$f":"'9GM.N.'!H72+'9GM.E.'!H72+'9GM.I.'!H72","v":0},{"$f":"'9GM.N.'!I72+'9GM.E.'!I72+'9GM.I.'!I72","v":2838127}]
[74,{"$f":"'9GM.N.'!B73+'9GM.E.'!B73+'9GM.I.'!B73","v":56547818064},{"$f":"'9GM.N.'!C73+'9GM.E.'!C73+'9GM.I.'!C73","v":1934782249},{"$f":"'9GM.N.'!D73+'9GM.E.'!D73+'9GM.I.'!D73","v":770214122},{"$f":"'9GM.N.'!E73+'9GM.E.'!E73+'9GM.I.'!E73","v":3763754986},{"$f":"'9GM.N.'!F73+'9GM.E.'!F73+'9GM.I.'!F73","v":429323406.55000019},{"$f":"'9GM.N.'!G73+'9GM.E.'!G73+'9GM.I.'!G73","v":50000},{"$f":"'9GM.N.'!H73+'9GM.E.'!H73+'9GM.I.'!H73","v":0},{"$f":"'9GM.N.'!I73+'9GM.E.'!I73+'9GM.I.'!I73","v":3099193}]
[75,{"$f":"'9GM.N.'!B74+'9GM.E.'!B74+'9GM.I.'!B74","v":52948154587},{"$f":"'9GM.N.'!C74+'9GM.E.'!C74+'9GM.I.'!C74","v":1425139889},{"$f":"'9GM.N.'!D74+'9GM.E.'!D74+'9GM.I.'!D74","v":652027393},{"$f":"'9GM.N.'!E74+'9GM.E.'!E74+'9GM.I.'!E74","v":2774597978},{"$f":"'9GM.N.'!F74+'9GM.E.'!F74+'9GM.I.'!F74","v":365085498.47000021},{"$f":"'9GM.N.'!G74+'9GM.E.'!G74+'9GM.I.'!G74","v":399660},{"$f":"'9GM.N.'!H74+'9GM.E.'!H74+'9GM.I.'!H74","v":0},{"$f":"'9GM.N.'!I74+'9GM.E.'!I74+'9GM.I.'!I74","v":14893963.469999999}]
[76,{"$f":"'9GM.N.'!B75+'9GM.E.'!B75+'9GM.I.'!B75","v":14364793583},{"$f":"'9GM.N.'!C75+'9GM.E.'!C75+'9GM.I.'!C75","v":1172325717},{"$f":"'9GM.N.'!D75+'9GM.E.'!D75+'9GM.I.'!D75","v":621009929},{"$f":"'9GM.N.'!E75+'9GM.E.'!E75+'9GM.I.'!E75","v":2303218763},{"$f":"'9GM.N.'!F75+'9GM.E.'!F75+'9GM.I.'!F75","v":339864936.53000027},{"$f":"'9GM.N.'!G75+'9GM.E.'!G75+'9GM.I.'!G75","v":200000},{"$f":"'9GM.N.'!H75+'9GM.E.'!H75+'9GM.I.'!H75","v":0},{"$f":"'9GM.N.'!I75+'9GM.E.'!I75+'9GM.I.'!I75","v":6615300.2699999996}]
[77,{"$f":"'9GM.N.'!B76+'9GM.E.'!B76+'9GM.I.'!B76","v":11741718743},{"$f":"'9GM.N.'!C76+'9GM.E.'!C76+'9GM.I.'!C76","v":910204971},{"$f":"'9GM.N.'!D76+'9GM.E.'!D76+'9GM.I.'!D76","v":498960512},{"$f":"'9GM.N.'!E76+'9GM.E.'!E76+'9GM.I.'!E76","v":1850048817},{"$f":"'9GM.N.'!F76+'9GM.E.'!F76+'9GM.I.'!F76","v":301537413.77999973},{"$f":"'9GM.N.'!G76+'9GM.E.'!G76+'9GM.I.'!G76","v":0},{"$f":"'9GM.N.'!H76+'9GM.E.'!H76+'9GM.I.'!H76","v":0},{"$f":"'9GM.N.'!I76+'9GM.E.'!I76+'9GM.I.'!I76","v":5328320}]
[78,{"$f":"'9GM.N.'!B77+'9GM.E.'!B77+'9GM.I.'!B77","v":10433452718},{"$f":"'9GM.N.'!C77+'9GM.E.'!C77+'9GM.I.'!C77","v":799554862},{"$f":"'9GM.N.'!D77+'9GM.E.'!D77+'9GM.I.'!D77","v":466550134},{"$f":"'9GM.N.'!E77+'9GM.E.'!E77+'9GM.I.'!E77","v":1813978863},{"$f":"'9GM.N.'!F77+'9GM.E.'!F77+'9GM.I.'!F77","v":291484341.92999995},{"$f":"'9GM.N.'!G77+'9GM.E.'!G77+'9GM.I.'!G77","v":1118700},{"$f":"'9GM.N.'!H77+'9GM.E.'!H77+'9GM.I.'!H77","v":0},{"$f":"'9GM.N.'!I77+'9GM.E.'!I77+'9GM.I.'!I77","v":893614.4}]
[79,{"$f":"'9GM.N.'!B78+'9GM.E.'!B78+'9GM.I.'!B78","v":8257316289},{"$f":"'9GM.N.'!C78+'9GM.E.'!C78+'9GM.I.'!C78","v":735310535},{"$f":"'9GM.N.'!D78+'9GM.E.'!D78+'9GM.I.'!D78","v":434564466},{"$f":"'9GM.N.'!E78+'9GM.E.'!E78+'9GM.I.'!E78","v":1082302193},{"$f":"'9GM.N.'!F78+'9GM.E.'!F78+'9GM.I.'!F78","v":251853531.44},{"$f":"'9GM.N.'!G78+'9GM.E.'!G78+'9GM.I.'!G78","v":150000},{"$f":"'9GM.N.'!H78+'9GM.E.'!H78+'9GM.I.'!H78","v":0},{"$f":"'9GM.N.'!I78+'9GM.E.'!I78+'9GM.I.'!I78","v":518175.8}]
[80,{"$f":"'9GM.N.'!B79+'9GM.E.'!B79+'9GM.I.'!B79","v":6537198946},{"$f":"'9GM.N.'!C79+'9GM.E.'!C79+'9GM.I.'!C79","v":615412563},{"$f":"'9GM.N.'!D79+'9GM.E.'!D79+'9GM.I.'!D79","v":346488768},{"$f":"'9GM.N.'!E79+'9GM.E.'!E79+'9GM.I.'!E79","v":684261115},{"$f":"'9GM.N.'!F79+'9GM.E.'!F79+'9GM.I.'!F79","v":226829849.42999995},{"$f":"'9GM.N.'!G79+'9GM.E.'!G79+'9GM.I.'!G79","v":0},{"$f":"'9GM.N.'!H79+'9GM.E.'!H79+'9GM.I.'!H79","v":0},{"$f":"'9GM.N.'!I79+'9GM.E.'!I79+'9GM.I.'!I79","v":0}]
[81,{"$f":"'9GM.N.'!B80+'9GM.E.'!B80+'9GM.I.'!B80","v":5551073209},{"$f":"'9GM.N.'!C80+'9GM.E.'!C80+'9GM.I.'!C80","v":500272665},{"$f":"'9GM.N.'!D80+'9GM.E.'!D80+'9GM.I.'!D80","v":322453002},{"$f":"'9GM.N.'!E80+'9GM.E.'!E80+'9GM.I.'!E80","v":643436571},{"$f":"'9GM.N.'!F80+'9GM.E.'!F80+'9GM.I.'!F80","v":223774737.14000013},{"$f":"'9GM.N.'!G80+'9GM.E.'!G80+'9GM.I.'!G80","v":640000},{"$f":"'9GM.N.'!H80+'9GM.E.'!H80+'9GM.I.'!H80","v":0},{"$f":"'9GM.N.'!I80+'9GM.E.'!I80+'9GM.I.'!I80","v":29178}]
[82,{"$f":"'9GM.N.'!B81+'9GM.E.'!B81+'9GM.I.'!B81","v":4350372850},{"$f":"'9GM.N.'!C81+'9GM.E.'!C81+'9GM.I.'!C81","v":406506764},{"$f":"'9GM.N.'!D81+'9GM.E.'!D81+'9GM.I.'!D81","v":289070798},{"$f":"'9GM.N.'!E81+'9GM.E.'!E81+'9GM.I.'!E81","v":459775078},{"$f":"'9GM.N.'!F81+'9GM.E.'!F81+'9GM.I.'!F81","v":201757869.53999984},{"$f":"'9GM.N.'!G81+'9GM.E.'!G81+'9GM.I.'!G81","v":0},{"$f":"'9GM.N.'!H81+'9GM.E.'!H81+'9GM.I.'!H81","v":0},{"$f":"'9GM.N.'!I81+'9GM.E.'!I81+'9GM.I.'!I81","v":300000}]
[83,{"$f":"'9GM.N.'!B82+'9GM.E.'!B82+'9GM.I.'!B82","v":3971746137},{"$f":"'9GM.N.'!C82+'9GM.E.'!C82+'9GM.I.'!C82","v":405561578},{"$f":"'9GM.N.'!D82+'9GM.E.'!D82+'9GM.I.'!D82","v":225891844},{"$f":"'9GM.N.'!E82+'9GM.E.'!E82+'9GM.I.'!E82","v":503711668},{"$f":"'9GM.N.'!F82+'9GM.E.'!F82+'9GM.I.'!F82","v":184699104.91},{"$f":"'9GM.N.'!G82+'9GM.E.'!G82+'9GM.I.'!G82","v":0},{"$f":"'9GM.N.'!H82+'9GM.E.'!H82+'9GM.I.'!H82","v":0},{"$f":"'9GM.N.'!I82+'9GM.E.'!I82+'9GM.I.'!I82","v":0}]
[84,{"$f":"'9GM.N.'!B83+'9GM.E.'!B83+'9GM.I.'!B83","v":3103472828},{"$f":"'9GM.N.'!C83+'9GM.E.'!C83+'9GM.I.'!C83","v":317527204},{"$f":"'9GM.N.'!D83+'9GM.E.'!D83+'9GM.I.'!D83","v":194350973},{"$f":"'9GM.N.'!E83+'9GM.E.'!E83+'9GM.I.'!E83","v":214692500},{"$f":"'9GM.N.'!F83+'9GM.E.'!F83+'9GM.I.'!F83","v":177376987.27000001},{"$f":"'9GM.N.'!G83+'9GM.E.'!G83+'9GM.I.'!G83","v":0},{"$f":"'9GM.N.'!H83+'9GM.E.'!H83+'9GM.I.'!H83","v":0},{"$f":"'9GM.N.'!I83+'9GM.E.'!I83+'9GM.I.'!I83","v":1363720}]
[85,{"$f":"'9GM.N.'!B84+'9GM.E.'!B84+'9GM.I.'!B84","v":2793838123},{"$f":"'9GM.N.'!C84+'9GM.E.'!C84+'9GM.I.'!C84","v":437508055},{"$f":"'9GM.N.'!D84+'9GM.E.'!D84+'9GM.I.'!D84","v":192008303},{"$f":"'9GM.N.'!E84+'9GM.E.'!E84+'9GM.I.'!E84","v":142736138},{"$f":"'9GM.N.'!F84+'9GM.E.'!F84+'9GM.I.'!F84","v":171041576.59999999},{"$f":"'9GM.N.'!G84+'9GM.E.'!G84+'9GM.I.'!G84","v":1769},{"$f":"'9GM.N.'!H84+'9GM.E.'!H84+'9GM.I.'!H84","v":0},{"$f":"'9GM.N.'!I84+'9GM.E.'!I84+'9GM.I.'!I84","v":150000}]
[86,{"$f":"'9GM.N.'!B85+'9GM.E.'!B85+'9GM.I.'!B85","v":2194323332},{"$f":"'9GM.N.'!C85+'9GM.E.'!C85+'9GM.I.'!C85","v":213352926},{"$f":"'9GM.N.'!D85+'9GM.E.'!D85+'9GM.I.'!D85","v":138298696},{"$f":"'9GM.N.'!E85+'9GM.E.'!E85+'9GM.I.'!E85","v":141368455},{"$f":"'9GM.N.'!F85+'9GM.E.'!F85+'9GM.I.'!F85","v":128222952.03999998},{"$f":"'9GM.N.'!G85+'9GM.E.'!G85+'9GM.I.'!G85","v":0},{"$f":"'9GM.N.'!H85+'9GM.E.'!H85+'9GM.I.'!H85","v":0},{"$f":"'9GM.N.'!I85+'9GM.E.'!I85+'9GM.I.'!I85","v":150000}]
[87,{"$f":"'9GM.N.'!B86+'9GM.E.'!B86+'9GM.I.'!B86","v":1752768304},{"$f":"'9GM.N.'!C86+'9GM.E.'!C86+'9GM.I.'!C86","v":209991650},{"$f":"'9GM.N.'!D86+'9GM.E.'!D86+'9GM.I.'!D86","v":108439804},{"$f":"'9GM.N.'!E86+'9GM.E.'!E86+'9GM.I.'!E86","v":89827423},{"$f":"'9GM.N.'!F86+'9GM.E.'!F86+'9GM.I.'!F86","v":121736027.26999997},{"$f":"'9GM.N.'!G86+'9GM.E.'!G86+'9GM.I.'!G86","v":0},{"$f":"'9GM.N.'!H86+'9GM.E.'!H86+'9GM.I.'!H86","v":0},{"$f":"'9GM.N.'!I86+'9GM.E.'!I86+'9GM.I.'!I86","v":1287252}]
[88,{"$f":"'9GM.N.'!B87+'9GM.E.'!B87+'9GM.I.'!B87","v":1503089350},{"$f":"'9GM.N.'!C87+'9GM.E.'!C87+'9GM.I.'!C87","v":183209927},{"$f":"'9GM.N.'!D87+'9GM.E.'!D87+'9GM.I.'!D87","v":97812770},{"$f":"'9GM.N.'!E87+'9GM.E.'!E87+'9GM.I.'!E87","v":74777538},{"$f":"'9GM.N.'!F87+'9GM.E.'!F87+'9GM.I.'!F87","v":104134770.76000004},{"$f":"'9GM.N.'!G87+'9GM.E.'!G87+'9GM.I.'!G87","v":640000},{"$f":"'9GM.N.'!H87+'9GM.E.'!H87+'9GM.I.'!H87","v":0},{"$f":"'9GM.N.'!I87+'9GM.E.'!I87+'9GM.I.'!I87","v":0}]
[89,{"$f":"'9GM.N.'!B88+'9GM.E.'!B88+'9GM.I.'!B88","v":1044478126},{"$f":"'9GM.N.'!C88+'9GM.E.'!C88+'9GM.I.'!C88","v":115140490},{"$f":"'9GM.N.'!D88+'9GM.E.'!D88+'9GM.I.'!D88","v":64456622},{"$f":"'9GM.N.'!E88+'9GM.E.'!E88+'9GM.I.'!E88","v":46057000},{"$f":"'9GM.N.'!F88+'9GM.E.'!F88+'9GM.I.'!F88","v":88523639.399999961},{"$f":"'9GM.N.'!G88+'9GM.E.'!G88+'9GM.I.'!G88","v":0},{"$f":"'9GM.N.'!H88+'9GM.E.'!H88+'9GM.I.'!H88","v":0},{"$f":"'9GM.N.'!I88+'9GM.E.'!I88+'9GM.I.'!I88","v":0}]
[90,{"$f":"'9GM.N.'!B89+'9GM.E.'!B89+'9GM.I.'!B89","v":911079779},{"$f":"'9GM.N.'!C89+'9GM.E.'!C89+'9GM.I.'!C89","v":124611765},{"$f":"'9GM.N.'!D89+'9GM.E.'!D89+'9GM.I.'!D89","v":66437334},{"$f":"'9GM.N.'!E89+'9GM.E.'!E89+'9GM.I.'!E89","v":32429223},{"$f":"'9GM.N.'!F89+'9GM.E.'!F89+'9GM.I.'!F89","v":80321828.559999958},{"$f":"'9GM.N.'!G89+'9GM.E.'!G89+'9GM.I.'!G89","v":0},{"$f":"'9GM.N.'!H89+'9GM.E.'!H89+'9GM.I.'!H89","v":0},{"$f":"'9GM.N.'!I89+'9GM.E.'!I89+'9GM.I.'!I89","v":0}]
[91,{"$f":"'9GM.N.'!B90+'9GM.E.'!B90+'9GM.I.'!B90","v":808146878},{"$f":"'9GM.N.'!C90+'9GM.E.'!C90+'9GM.I.'!C90","v":142904439},{"$f":"'9GM.N.'!D90+'9GM.E.'!D90+'9GM.I.'!D90","v":58052488},{"$f":"'9GM.N.'!E90+'9GM.E.'!E90+'9GM.I.'!E90","v":44929957},{"$f":"'9GM.N.'!F90+'9GM.E.'!F90+'9GM.I.'!F90","v":67650975.88000001},{"$f":"'9GM.N.'!G90+'9GM.E.'!G90+'9GM.I.'!G90","v":0},{"$f":"'9GM.N.'!H90+'9GM.E.'!H90+'9GM.I.'!H90","v":0},{"$f":"'9GM.N.'!I90+'9GM.E.'!I90+'9GM.I.'!I90","v":0}]
[92,{"$f":"'9GM.N.'!B91+'9GM.E.'!B91+'9GM.I.'!B91","v":569466272},{"$f":"'9GM.N.'!C91+'9GM.E.'!C91+'9GM.I.'!C91","v":98253306},{"$f":"'9GM.N.'!D91+'9GM.E.'!D91+'9GM.I.'!D91","v":46311108},{"$f":"'9GM.N.'!E91+'9GM.E.'!E91+'9GM.I.'!E91","v":24836378},{"$f":"'9GM.N.'!F91+'9GM.E.'!F91+'9GM.I.'!F91","v":54045977.380000003},{"$f":"'9GM.N.'!G91+'9GM.E.'!G91+'9GM.I.'!G91","v":0},{"$f":"'9GM.N.'!H91+'9GM.E.'!H91+'9GM.I.'!H91","v":0},{"$f":"'9GM.N.'!I91+'9GM.E.'!I91+'9GM.I.'!I91","v":0}]
[93,{"$f":"'9GM.N.'!B92+'9GM.E.'!B92+'9GM.I.'!B92","v":452821999},{"$f":"'9GM.N.'!C92+'9GM.E.'!C92+'9GM.I.'!C92","v":89533846},{"$f":"'9GM.N.'!D92+'9GM.E.'!D92+'9GM.I.'!D92","v":27564842},{"$f":"'9GM.N.'!E92+'9GM.E.'!E92+'9GM.I.'!E92","v":15866939},{"$f":"'9GM.N.'!F92+'9GM.E.'!F92+'9GM.I.'!F92","v":50993106.280000016},{"$f":"'9GM.N.'!G92+'9GM.E.'!G92+'9GM.I.'!G92","v":0},{"$f":"'9GM.N.'!H92+'9GM.E.'!H92+'9GM.I.'!H92","v":0},{"$f":"'9GM.N.'!I92+'9GM.E.'!I92+'9GM.I.'!I92","v":0}]
[94,{"$f":"'9GM.N.'!B93+'9GM.E.'!B93+'9GM.I.'!B93","v":425328666},{"$f":"'9GM.N.'!C93+'9GM.E.'!C93+'9GM.I.'!C93","v":147703733},{"$f":"'9GM.N.'!D93+'9GM.E.'!D93+'9GM.I.'!D93","v":41057010},{"$f":"'9GM.N.'!E93+'9GM.E.'!E93+'9GM.I.'!E93","v":7490796},{"$f":"'9GM.N.'!F93+'9GM.E.'!F93+'9GM.I.'!F93","v":42658475.080000006},{"$f":"'9GM.N.'!G93+'9GM.E.'!G93+'9GM.I.'!G93","v":0},{"$f":"'9GM.N.'!H93+'9GM.E.'!H93+'9GM.I.'!H93","v":0},{"$f":"'9GM.N.'!I93+'9GM.E.'!I93+'9GM.I.'!I93","v":0}]
[95,{"$f":"'9GM.N.'!B94+'9GM.E.'!B94+'9GM.I.'!B94","v":305813505},{"$f":"'9GM.N.'!C94+'9GM.E.'!C94+'9GM.I.'!C94","v":101721459},{"$f":"'9GM.N.'!D94+'9GM.E.'!D94+'9GM.I.'!D94","v":33611386},{"$f":"'9GM.N.'!E94+'9GM.E.'!E94+'9GM.I.'!E94","v":1488256},{"$f":"'9GM.N.'!F94+'9GM.E.'!F94+'9GM.I.'!F94","v":44544699.920000002},{"$f":"'9GM.N.'!G94+'9GM.E.'!G94+'9GM.I.'!G94","v":0},{"$f":"'9GM.N.'!H94+'9GM.E.'!H94+'9GM.I.'!H94","v":0},{"$f":"'9GM.N.'!I94+'9GM.E.'!I94+'9GM.I.'!I94","v":0}]
[96,{"$f":"'9GM.N.'!B95+'9GM.E.'!B95+'9GM.I.'!B95","v":303001850},{"$f":"'9GM.N.'!C95+'9GM.E.'!C95+'9GM.I.'!C95","v":119253199},{"$f":"'9GM.N.'!D95+'9GM.E.'!D95+'9GM.I.'!D95","v":40176477},{"$f":"'9GM.N.'!E95+'9GM.E.'!E95+'9GM.I.'!E95","v":14253516},{"$f":"'9GM.N.'!F95+'9GM.E.'!F95+'9GM.I.'!F95","v":27315625.5},{"$f":"'9GM.N.'!G95+'9GM.E.'!G95+'9GM.I.'!G95","v":0},{"$f":"'9GM.N.'!H95+'9GM.E.'!H95+'9GM.I.'!H95","v":0},{"$f":"'9GM.N.'!I95+'9GM.E.'!I95+'9GM.I.'!I95","v":0}]
[97,{"$f":"'9GM.N.'!B96+'9GM.E.'!B96+'9GM.I.'!B96","v":178818808},{"$f":"'9GM.N.'!C96+'9GM.E.'!C96+'9GM.I.'!C96","v":68141771},{"$f":"'9GM.N.'!D96+'9GM.E.'!D96+'9GM.I.'!D96","v":4720000},{"$f":"'9GM.N.'!E96+'9GM.E.'!E96+'9GM.I.'!E96","v":200000},{"$f":"'9GM.N.'!F96+'9GM.E.'!F96+'9GM.I.'!F96","v":11552273.119999999},{"$f":"'9GM.N.'!G96+'9GM.E.'!G96+'9GM.I.'!G96","v":0},{"$f":"'9GM.N.'!H96+'9GM.E.'!H96+'9GM.I.'!H96","v":0},{"$f":"'9GM.N.'!I96+'9GM.E.'!I96+'9GM.I.'!I96","v":0}]
[98,{"$f":"'9GM.N.'!B97+'9GM.E.'!B97+'9GM.I.'!B97","v":133682984},{"$f":"'9GM.N.'!C97+'9GM.E.'!C97+'9GM.I.'!C97","v":41141797},{"$f":"'9GM.N.'!D97+'9GM.E.'!D97+'9GM.I.'!D97","v":2950000},{"$f":"'9GM.N.'!E97+'9GM.E.'!E97+'9GM.I.'!E97","v":14072102},{"$f":"'9GM.N.'!F97+'9GM.E.'!F97+'9GM.I.'!F97","v":15422724.569999998},{"$f":"'9GM.N.'!G97+'9GM.E.'!G97+'9GM.I.'!G97","v":0},{"$f":"'9GM.N.'!H97+'9GM.E.'!H97+'9GM.I.'!H97","v":0},{"$f":"'9GM.N.'!I97+'9GM.E.'!I97+'9GM.I.'!I97","v":0}]
[99,{"$f":"'9GM.N.'!B98+'9GM.E.'!B98+'9GM.I.'!B98","v":111042982},{"$f":"'9GM.N.'!C98+'9GM.E.'!C98+'9GM.I.'!C98","v":11341293},{"$f":"'9GM.N.'!D98+'9GM.E.'!D98+'9GM.I.'!D98","v":2130000},{"$f":"'9GM.N.'!E98+'9GM.E.'!E98+'9GM.I.'!E98","v":560000},{"$f":"'9GM.N.'!F98+'9GM.E.'!F98+'9GM.I.'!F98","v":25650278.98},{"$f":"'9GM.N.'!G98+'9GM.E.'!G98+'9GM.I.'!G98","v":0},{"$f":"'9GM.N.'!H98+'9GM.E.'!H98+'9GM.I.'!H98","v":0},{"$f":"'9GM.N.'!I98+'9GM.E.'!I98+'9GM.I.'!I98","v":0}]
["100 años y más",{"$f":"'9GM.N.'!B99+'9GM.E.'!B99+'9GM.I.'!B99","v":5207104756},{"$f":"'9GM.N.'!C99+'9GM.E.'!C99+'9GM.I.'!C99","v":3447137382},{"$f":"'9GM.N.'!D99+'9GM.E.'!D99+'9GM.I.'!D99","v":2360000},{"$f":"'9GM.N.'!E99+'9GM.E.'!E99+'9GM.I.'!E99","v":7073864555},{"$f":"'9GM.N.'!F99+'9GM.E.'!F99+'9GM.I.'!F99","v":19433711.239999998},{"$f":"'9GM.N.'!G99+'9GM.E.'!G99+'9GM.I.'!G99","v":400000},{"$f":"'9GM.N.'!H99+'9GM.E.'!H99+'9GM.I.'!H99","v":0},{"$f":"'9GM.N.'!I99+'9GM.E.'!I99+'9GM.I.'!I99","v":0}]
["PÓLIZA CONCENTRADA *",{"$f":"'9GM.N.'!B100+'9GM.E.'!B100+'9GM.I.'!B100","v":1310769628000},{"$f":"'9GM.N.'!C100+'9GM.E.'!C100+'9GM.I.'!C100","v":277531911814},{"$f":"'9GM.N.'!D100+'9GM.E.'!D100+'9GM.I.'!D100","v":12961524329},{"$f":"'9GM.N.'!E100+'9GM.E.'!E100+'9GM.I.'!E100","v":564810320477},{"$f":"'9GM.N.'!F100+'9GM.E.'!F100+'9GM.I.'!F100","v":1715243891.4504857},{"$f":"'9GM.N.'!G100+'9GM.E.'!G100+'9GM.I.'!G100","v":1688007.2799999998},{"$f":"'9GM.N.'!H100+'9GM.E.'!H100+'9GM.I.'!H100","v":0},{"$f":"'9GM.N.'!I100+'9GM.E.'!I100+'9GM.I.'!I100","v":15997744.159999998}]
["TOTAL",{"$f":"SUM(B14:B100)","v":10682682310636},2942521617369,377307456646,4534085907475,31839854155.730469,285678466.09999996,25346166.720000003,1334345894.6899998]
["* PARA AQUELLAS PÓLIZAS QUE POR RAZONES ADMINISTRATIVAS, COMERCIALES O DE CUALQUIER OTRA ÍNDOLE, PERO QUE SE ENCUENTRE DOCUMENTADA EN SUS NOTAS TÉCNICAS CORRESPONDIENTES, Y LA INSTITUCIÓN NO TENGA A SU DISPOSICIÓN EL DETALLE DE LA INFORMACION DE CADA ASEGURADO, SE REPORTARÉ EN ESTE APARTADO LA INFORMACIÓN. CABE MENCIONAR QUE LAS PÓLIZAS AUTO-ADMINISTRADAS NO DEBERÁN SER CONSIDERADAS EN ESTE CAMPO."]
[]
["PÓLIZA NO CONCENTRADA",{"$f":"B101-B100","v":9371912682636},{"$f":"C101-C100","v":2664989705555},{"$f":"F101-F100","v":30124610264.279984},{"$f":"G101-G100","v":283990458.81999999},{"$f":"D101-D100","v":364345932317},{"$f":"E101-E100","v":3969275586998},{"$f":"H101-H100","v":25346166.720000003},{"$f":"I101-I100","v":1318348150.5299997}]

{"sheet":"9GM.N.","index":68,"n_rows":104,"n_cols":9,"rows_kept":104,"cut":false,"hidden":false,"merged":[[6,0,6,8],[1,0,1,8],[2,0,2,8],[3,0,3,8],[4,0,4,8],[5,0,5,8],[7,0,7,8],[8,0,8,8],[10,1,10,4],[10,5,10,8],[11,7,12,7],[11,8,12,8],[101,0,101,8],[11,1,12,1],[11,2,12,2],[11,5,12,5],[11,6,12,6],[11,3,12,3],[11,4,12,4]]}
[]
["9. SEGURO DIRECTO EN LA OPERACIÓN DE VIDA "]
["POR TIPO DE SEGURO CONTRATADO Y EDAD ALCANZADA"]
[]
[{"$f":"'1 Total'!B3","v":"DICIEMBRE DE 2021"}]
[]
["VIDA GRUPO"]
[]
["MONEDA NACIONAL"]
[null,2,4,7,9,5,6,11,10]
["EDAD ","SUMA  ASEGURADA",null,null,null,"SINIESTROS  DIRECTOS"]
["ALCANZADA","MUERTE","MUERTE\nACCIDENTAL","MUERTE\nCOLECTIVA","POR INVALIDEZ","MUERTE","MUERTE\nACCIDENTAL","MUERTE\nCOLECTIVA","POR INVALIDEZ"]
[]
["Hasta 15 años",13677595606,577644936,219461117,305826719,6440052.4900000002,null,null,16267]
[16,1669820601,310197145,256002533,105333527,829044]
[17,2452714049,447351179,248788284,214069968,2488083.71]
[18,5469797605,1854407529,180033375,1523804870,930653.21,null,10000]
[19,51954058761,7862228157,459727112,6645656999,4267675.9700000007,273705.59999999998,70000]
[20,60631526116,12896093612,779546366,12901280284,8846319.839999998,1184922.51]
[21,70756315294,18393191820,1122390109,17648642098,15884446.999999998,1633948.04]
[22,78100365120,22486649340,1492344463,22010678070,18764505.520000003,1003974.1099999999,100162.8,76771]
[23,90061311131,29144800672,2216466918,30913869129,28722056.81000001,4458364.54,null,98698.23]
[24,104961117484,37523041595,3024773819,37440442286,36863476.120000005,4436059.1999999993,325009.59999999998,811794.11]
[25,121150261656,46051356565,3975368889,48695679274,32617068.420000009,2600766.61,300000,1428922.8]
[26,140556713551,55278991649,4959768886,59880307785,56482626.500000037,4270543.43,887758.32,2607655.7999999998]
[27,165339569532,62797940050,5827307411,77024022166,60071707.590000018,4873436.08,1403120.44,646322.07999999996]
[28,169898339936,67569080206,6481198985,78900658005,72080135.230000004,4571358.8999999994,1240000,2103517.0599999996]
[29,182463318828,72724930121,7336104187,89124351351,97674343.549999937,3482256.6799999997,1340000,2138854.39]
[30,190333379543,75468857656,7744162986,93043819512,104452278.02000007,3497792.44,410000,3061530.65]
[31,202937235758,79117320350,8535058285,102547428685,123775210.97000004,7606683.4900000002,120000,4048668.79]
[32,207413260533,79590756733,8650681631,108038115777,128110416.30999996,4306572.1900000004,250000,1398282.71]
[33,214310624156,81259167854,8497803127,108740441071,150737194.1999999,6792993.2799999993,408267.6,8316913.9799999995]
[34,218734849065,79938965967,8910322774,113395471347,152497882.16,4285625.67,727360,6792690.1000000006]
[35,225830046691,81672300233,9167119551,117445009165,197383010.85000011,9732062.6300000008,853037.82,12503641.609999999]
[36,229482568253,82102909580,9061924507,117436374919,234841440.69999972,6383070.3199999994,1176852.3999999999,10319343.819999998]
[37,232732083936,82903368519,9538333686,122073189215,260299558.77999985,5994634.5499999998,795200,17607152.749999996]
[38,238804116519,85006050592,9613920262,126026279476,264073929.94999987,4173712.6799999997,150000,19119673.840000004]
[39,239935343193,82242316715,10193897854,122400188862,285497525.38999993,8378156.629999999,726676,17001631.68]
[40,311724137783,130352357138,29683551638,121481536028,285834457.63999993,3039874.05,321775.2,22028291.170000002]
[41,242421813084,79307547463,8878099827,121730991146,731161844.86000049,5605187.4400000004,1222302.8,21375625.759999998]
[42,230724363499,74822389060,8800323333,116652286181,353746404.52000022,5371496.5099999998,200000,15442389.960000001]
[43,230165917702,73558398632,8926434795,114992814745,906832673.11000156,36498525.190000005,null,23161643.5]
[44,258032292177,74063462522,9009185380,114691198317,400176333.52000022,10546054.07,null,21716726.259999994]
[45,229735111951,70823586107,8935443219,112614585496,444968677.76000053,5205539.6400000006,null,23001457.779999997]
[46,234346881213,70736972126,8862407010,116710131766,597770336.96999979,29461827.820000004,3350487.44,24932887.82]
[47,237704652532,71829550376,8731275688,116030640373,568630824.66000021,4851312.7300000004,590000,33307007.030000001]
[48,236486544076,70654709360,9085926766,114389756015,538762243.51000047,1452320,322499.09999999998,27441069.52]
[49,229606028537,67237917137,8515476127,113314758053,537759369.85000026,4916023.74,440000,33524632.920000006]
[50,224870811654,63590749265,8628980954,107287749242,599292130.66999972,2998025.1100000003,420000,52226088.170000009]
[51,215358822108,59759686464,8152717576,101852652066,690904515.95999932,7925104.6899999995,200000,37613199.789999999]
[52,207263621800,55429436054,8251003870,97898980576,693766419.80999887,12680930.710000001,1900703.2,43386125.920000002]
[53,200906410167,51370819324,8289791525,90968706898,750728304.34999859,18549753.960000001,905569,67755281.310000002]
[54,193667858832,48000429148,7906587161,85917119506,796544917.21999991,5426571.0899999999,120000,45382758.899999999]
[55,186842896442,44925690229,8027512207,81031309513,853836774.13999927,6498121.3999999994,null,47513392.910000011]
[56,178458753978,41296659009,7478376373,73282213032,724985117.19999897,9557151.4800000004,590000,50446567.390000008]
[57,170926365610,37934036823,7227453589,69833646634,869297668.6699996,3210444,590000,99608650.379999995]
[58,165852330204,34981294231,7298112372,65284518557,918106264.18999851,2703568.38,230000,48165577.410000004]
[59,156472011580,30569741858,6692739250,57898119997,871909588.20000029,1133613.42,140000,68881346.060000002]
[60,147121795000,26783464077,6265612126,52499816585,940380729.61999834,1645254.7999999998,882500,47029070.239999995]
[61,138778746027,22515849806,5715081116,48789427162,906246361.52999854,1185835.21,200400,81034112.910000011]
[62,129307999729,18268704669,5088890153,41568739521,857831809.6999985,130000,null,23802882.410000004]
[63,119586048792,15574098466,4547472210,36814648383,826367047.72999942,1030000,null,24449386.700000003]
[64,113670148000,13871653113,4250001705,31601147633,861214018.99999976,155000,453985,20041137.780000001]
[65,105168072261,11839439373,3559347937,26430669022,844952995.61999905,1060000,null,19903219.959999997]
[66,100064988817,9895234670,2657216567,21757272220,832171782.62000024,1442154.8,87500,35381088.859999999]
[67,91525163939,8592697795,2324208459,19154739667,777160649.37000108,140000,885000,41151493.359999999]
[68,84924622413,7134520695,2008779134,16277480360,684535780.84000015,865000,null,9355184.4499999993]
[69,78337384159,6227961988,1809040017,12454595786,698587659.66000021,65000,null,18045167.509999998]
[70,75001229918,4785836141,1447465273,10966888102,671898889.30999887,670000,null,15179914.699999999]
[71,68714401215,3220541460,1154376168,8247074732,584190710.54999936,null,null,13010655.85]
[72,62722029866,2739005219,991043709,5864301864,613376663.75999987,220000,null,15488939.5]
[73,59256558431,2301800947,905523185,4684598860,498545018.15000051,210000,null,2838127]
[74,56547818064,1934782249,770214122,3763754986,429323406.55000019,50000,null,3099193]
[75,52948154587,1425139889,652027393,2774597978,365085498.47000021,399660,null,14893963.469999999]
[76,14362746863,1172325717,621009929,2303218763,339864936.53000027,200000,null,6615300.2699999996]
[77,11741718743,910204971,498960512,1850048817,301537413.77999973,null,null,5328320]
[78,10433452718,799554862,466550134,1813978863,291484341.92999995,1118700,null,893614.4]
[79,8257316289,735310535,434564466,1082302193,251741671.56999999,150000,null,518175.8]
[80,6537198946,615412563,346488768,684261115,226420865.60999995]
[81,5551073209,500272665,322453002,643436571,223650447.98000014,640000,null,29178]
[82,4350372850,406506764,289070798,459775078,201757869.53999984,null,null,300000]
[83,3971746137,405561578,225891844,503711668,184606208.12]
[84,3103472828,317527204,194350973,214692500,177376987.27000001,null,null,1363720]
[85,2793838123,437508055,192008303,142736138,170721073.75999999,1769,null,150000]
[86,2194323332,213352926,138298696,141368455,128222952.03999998,null,null,150000]
[87,1752768304,209991650,108439804,89827423,121487193.15999997,null,null,1287252]
[88,1503089350,183209927,97812770,74777538,104019394.32000004,640000]
[89,1044478126,115140490,64456622,46057000,88523639.399999961]
[90,911079779,124611765,66437334,32429223,80321828.559999958]
[91,808146878,142904439,58052488,44929957,67650975.88000001]
[92,569466272,98253306,46311108,24836378,54045977.380000003]
[93,452821999,89533846,27564842,15866939,50993106.280000016]
[94,425328666,147703733,41057010,7490796,42658475.080000006]
[95,305813505,101721459,33611386,1488256,44544699.920000002]
[96,303001850,119253199,40176477,14253516,27315625.5]
[97,178818808,68141771,4720000,200000,11552273.119999999]
[98,133682984,41141797,2950000,14072102,15422724.569999998]
[99,111042982,11341293,2130000,560000,25650278.98]
["100 años y más",5207104756,3447137382,2360000,7073864555,19433711.239999998,400000]
["PÓLIZA CONCENTRADA*",1310607937120,277531911814,12961524329,564810320477,1715243891.4504857,1688007.2799999998,null,15997744.159999998]
["TOTAL",{"$f":"SUM(B14:B100)","v":10682510960481},2942521617369,377307456646,4534084911883,31837763095.550472,285678466.09999996,{"$f":"SUM(H14:H100)","v":25346166.720000003},{"$f":"SUM(I14:I100)","v":1334345894.6899998}]
["* PARA AQUELLAS PÓLIZAS QUE POR RAZONES ADMINISTRATIVAS, COMERCIALES O DE CUALQUIER OTRA ÍNDOLE, PERO QUE SE ENCUENTRE DOCUMENTADA EN SUS NOTAS TÉCNICAS CORRESPONDIENTES, Y LA INSTITUCIÓN NO TENGA A SU DISPOSICIÓN EL DETALLE DE LA INFORMACION DE CADA ASEGURADO, SE REPORTARÉ EN ESTE APARTADO LA INFORMACIÓN. CABE MENCIONAR QUE LAS PÓLIZAS AUTO-ADMINISTRADAS NO DEBERÁN SER CONSIDERADAS EN ESTE CAMPO."]
[]
["PÓLIZA NO CONCENTRADA",{"$f":"B101-B100","v":9371903023361},{"$f":"C101-C100","v":2664989705555},{"$f":"F101-F100","v":30122519204.099987},{"$f":"G101-G100","v":283990458.81999999},{"$f":"D101-D100","v":364345932317},{"$f":"E101-E100","v":3969274591406},{"$f":"H101-H100","v":25346166.720000003},1318348150.5299997]

{"sheet":"9GM.E.","index":69,"n_rows":104,"n_cols":9,"rows_kept":104,"cut":false,"hidden":false,"merged":[[6,0,6,8],[1,0,1,8],[2,0,2,8],[3,0,3,8],[4,0,4,8],[5,0,5,8],[7,0,7,8],[8,0,8,8],[10,1,10,2],[10,5,10,6],[10,3,10,4],[10,7,10,8],[11,7,12,7],[11,8,12,8],[101,0,101,8],[11,1,12,1],[11,2,12,2],[11,5,12,5],[11,6,12,6],[11,3,12,3],[11,4,12,4]]}
[]
["9. SEGURO DIRECTO EN LA OPERACIÓN DE VIDA "]
["POR TIPO DE SEGURO CONTRATADO Y EDAD ALCANZADA"]
[]
[{"$f":"'1 Total'!B3","v":"DICIEMBRE DE 2021"}]
[]
["VIDA GRUPO"]
[]
["MONEDA EXTRANJERA"]
[null,2,4,7,9,5,6,11,10]
["EDAD ","SUMA  ASEGURADA",null,"SUMA  ASEGURADA",null,"SINIESTROS  DIRECTOS",null,"SINIESTROS  DIRECTOS"]
["ALCANZADA","MUERTE","MUERTE\nACCIDENTAL","MUERTE\nCOLECTIVA","POR INVALIDEZ","MUERTE","MUERTE\nACCIDENTAL","MUERTE\nCOLECTIVA","POR INVALIDEZ"]
[]
["Hasta 15 años",0,0,0,0,0,0,0,0]
[16,0,0,0,0,0,0,0,0]
[17,0,0,0,0,0,0,0,0]
[18,0,0,0,0,0,0,0,0]
[19,6090,0,0,0,0,0,0,0]
[20,52620,0,0,0,0,0,0,0]
[21,30450,0,0,0,0,0,0,0]
[22,47949,0,0,0,0,0,0,0]
[23,82497,0,0,0,0,0,0,0]
[24,88699,0,0,0,0,0,0,0]
[25,67690,0,0,0,0,0,0,0]
[26,63721,0,0,0,0,0,0,0]
[27,53221,0,0,0,0,0,0,0]
[28,48801,0,0,0,0,0,0,0]
[29,39486,0,0,0,0,0,0,0]
[30,113909,0,0,0,0,0,0,0]
[31,109522,0,0,0,0,0,0,0]
[32,75026,0,0,0,0,0,0,0]
[33,48380,0,0,0,0,0,0,0]
[34,68796,0,0,0,0,0,0,0]
[35,50503,0,0,0,0,0,0,0]
[36,33327,0,0,0,0,0,0,0]
[37,110773,0,0,59683,0,0,0,0]
[38,94463,0,0,0,0,0,0,0]
[39,130455,0,0,0,0,0,0,0]
[40,58242,0,0,0,0,0,0,0]
[41,256819,0,0,141580,0,0,0,0]
[42,89661,0,0,0,0,0,0,0]
[43,60609,0,0,0,0,0,0,0]
[44,103689,0,0,0,0,0,0,0]
[45,71744,0,0,51579,0,0,0,0]
[46,193885,0,0,167184,0,0,0,0]
[47,30056,0,0,0,0,0,0,0]
[48,174327,0,0,121423,0,0,0,0]
[49,6090,0,0,0,0,0,0,0]
[50,44475,0,0,0,0,0,0,0]
[51,202610,0,0,105963,0,0,0,0]
[52,173104,0,0,0,0,0,0,0]
[53,32650,0,0,0,0,0,0,0]
[54,34174,0,0,0,0,0,0,0]
[55,181597,0,0,128458,0,0,0,0]
[56,null,0,0,0,0,0,0,0]
[57,27092,0,0,0,0,0,0,0]
[58,74417,0,0,68327,0,0,0,0]
[59,6090,0,0,0,0,0,0,0]
[60,null,0,0,0,0,0,0,0]
[61,26376,0,0,0,0,0,0,0]
[62,6090,0,0,0,0,0,0,0]
[63,2046720,0,0,0,0,0,0,0]
[64,10212,0,0,0,0,0,0,0]
[65,151395,0,0,151395,0,0,0,0]
[66,null,0,0,0,0,0,0,0]
[67,null,0,0,0,0,0,0,0]
[68,87333,0,0,0,0,0,0,0]
[69,null,0,0,0,0,0,0,0]
[70,null,0,0,0,0,0,0,0]
[71,2046720,0,0,0,0,0,0,0]
[72,null,0,0,0,0,0,0,0]
[73,null,0,0,0,0,0,0,0]
[74,null,0,0,0,0,0,0,0]
[75,null,0,0,0,0,0,0,0]
[76,2046720,0,0,0,0,0,0,0]
[77,null,0,0,0,0,0,0,0]
[78,null,0,0,0,0,0,0,0]
[79,null,0,0,0,0,0,0,0]
[80,null,0,0,0,0,0,0,0]
[81,null,0,0,0,0,0,0,0]
[82,null,0,0,0,0,0,0,0]
[83,null,0,0,0,0,0,0,0]
[84,null,0,0,0,0,0,0,0]
[85,null,0,0,0,0,0,0,0]
[86,null,0,0,0,0,0,0,0]
[87,null,0,0,0,0,0,0,0]
[88,null,0,0,0,0,0,0,0]
[89,null,0,0,0,0,0,0,0]
[90,null,0,0,0,0,0,0,0]
[91,null,0,0,0,0,0,0,0]
[92,null,0,0,0,0,0,0,0]
[93,null,0,0,0,0,0,0,0]
[94,null,0,0,0,0,0,0,0]
[95,null,0,0,0,0,0,0,0]
[96,null,0,0,0,0,0,0,0]
[97,null,0,0,0,0,0,0,0]
[98,null,0,0,0,0,0,0,0]
[99,null,0,0,0,0,0,0,0]
["100 años y más",null,0,0,0,0,0,0,0]
["PÓLIZA CONCENTRADA*",161690880,0]
["TOTAL",{"$f":"SUM(B14:B100)","v":171350155},{"$f":"SUM(C14:C100)","v":0},{"$f":"SUM(D14:D100)","v":0},{"$f":"SUM(E14:E100)","v":995592},{"$f":"SUM(F14:F100)","v":0},{"$f":"SUM(G14:G100)","v":0},0,0]
["* PARA AQUELLAS PÓLIZAS QUE POR RAZONES ADMINISTRATIVAS, COMERCIALES O DE CUALQUIER OTRA ÍNDOLE, PERO QUE SE ENCUENTRE DOCUMENTADA EN SUS NOTAS TÉCNICAS CORRESPONDIENTES, Y LA INSTITUCIÓN NO TENGA A SU DISPOSICIÓN EL DETALLE DE LA INFORMACION DE CADA ASEGURADO, SE REPORTARÉ EN ESTE APARTADO LA INFORMACIÓN. CABE MENCIONAR QUE LAS PÓLIZAS AUTO-ADMINISTRADAS NO DEBERÁN SER CONSIDERADAS EN ESTE CAMPO."]
[]
["PÓLIZA NO CONCENTRADA",{"$f":"B101-B100","v":9659275},{"$f":"C101-C100","v":0},{"$f":"F101-F100","v":0},{"$f":"G101-G100","v":0},{"$f":"D101-D100","v":0},{"$f":"E101-E100","v":995592},0,0]

{"sheet":"9GM.I.","index":70,"n_rows":104,"n_cols":9,"rows_kept":104,"cut":false,"hidden":false,"merged":[[6,0,6,8],[1,0,1,8],[2,0,2,8],[3,0,3,8],[4,0,4,8],[5,0,5,8],[7,0,7,8],[8,0,8,8],[10,1,10,4],[10,5,10,8],[11,7,12,7],[11,8,12,8],[101,0,101,8],[11,1,12,1],[11,2,12,2],[11,5,12,5],[11,6,12,6],[11,3,12,3],[11,4,12,4]]}
[]
["9. SEGURO DIRECTO EN LA OPERACIÓN DE VIDA "]
["POR TIPO DE SEGURO CONTRATADO Y EDAD ALCANZADA"]
[]
[{"$f":"'1 Total'!B3","v":"DICIEMBRE DE 2021"}]
[]
["VIDA GRUPO"]
[]
["TITULOS INDIZADOS"]
[null,2,4,7,9,5,6,11,10]
["EDAD ","SUMA  ASEGURADA",null,null,null,"SINIESTROS  DIRECTOS"]
["ALCANZADA","MUERTE","MUERTE\nACCIDENTAL","MUERTE\nCOLECTIVA","POR INVALIDEZ","MUERTE","MUERTE\nACCIDENTAL","MUERTE\nCOLECTIVA","POR INVALIDEZ"]
[]
["Hasta 15 años",0,0,0,0,0,0,0,0]
[16,0,0,0,0,0,0,0,0]
[17,0,0,0,0,0,0,0,0]
[18,0,0,0,0,0,0,0,0]
[19,0,0,0,0,0,0,0,0]
[20,0,0,0,0,0,0,0,0]
[21,0,0,0,0,0,0,0,0]
[22,0,0,0,0,0,0,0,0]
[23,0,0,0,0,0,0,0,0]
[24,0,0,0,0,0,0,0,0]
[25,0,0,0,0,0,0,0,0]
[26,0,0,0,0,0,0,0,0]
[27,0,0,0,0,0,0,0,0]
[28,0,0,0,0,0,0,0,0]
[29,0,0,0,0,0,0,0,0]
[30,0,0,0,0,0,0,0,0]
[31,0,0,0,0,0,0,0,0]
[32,0,0,0,0,0,0,0,0]
[33,0,0,0,0,0,0,0,0]
[34,0,0,0,0,0,0,0,0]
[35,0,0,0,0,0,0,0,0]
[36,0,0,0,0,0,0,0,0]
[37,0,0,0,0,0,0,0,0]
[38,0,0,0,0,0,0,0,0]
[39,0,0,0,0,0,0,0,0]
[40,null,null,null,null,0,0,0,0]
[41,null,null,null,null,0,0,0,0]
[42,null,null,null,null,null,0,0,0]
[43,null,null,null,null,0,0,0,0]
[44,null,null,null,null,0,0,0,0]
[45,null,null,null,null,0,0,0,0]
[46,null,null,null,null,0,0,0,0]
[47,null,null,null,null,0,0,0,0]
[48,null,null,null,null,0,0,0,0]
[49,null,null,null,null,0,0,0,0]
[50,null,null,null,null,0,0,0,0]
[51,null,null,null,null,0,0,0,0]
[52,null,null,null,null,0,0,0,0]
[53,null,null,null,null,0,0,0,0]
[54,null,null,null,null,0,0,0,0]
[55,null,null,null,null,0,0,0,0]
[56,null,null,null,null,0,0,0,0]
[57,null,null,null,null,0,0,0,0]
[58,null,null,null,null,0,0,0,0]
[59,null,null,null,null,0,0,0,0]
[60,null,null,null,null,0,0,0,0]
[61,null,null,null,null,null,0,0,0]
[62,null,null,null,null,null,0,0,0]
[63,null,null,null,null,null,0,0,0]
[64,null,null,null,null,null,0,0,0]
[65,null,null,null,null,null,0,0,0]
[66,null,null,null,null,null,0,0,0]
[67,null,null,null,null,null,0,0,0]
[68,null,null,null,null,54143.25,0,0,0]
[69,null,null,null,null,null,0,0,0]
[70,null,null,null,null,null,0,0,0]
[71,null,null,null,null,null,0,0,0]
[72,null,null,null,null,null,0,0,0]
[73,null,null,null,null,614173.9,0,0,0]
[74,null,null,null,null,null,0,0,0]
[75,null,null,null,null,null,0,0,0]
[76,null,null,null,null,null,0,0,0]
[77,null,null,null,null,null,0,0,0]
[78,null,null,null,null,null,0,0,0]
[79,null,null,null,null,111859.87,0,0,0]
[80,null,null,null,null,408983.82,0,0,0]
[81,null,null,null,null,124289.16,0,0,0]
[82,null,null,null,null,null,0,0,0]
[83,null,null,null,null,92896.79,0,0,0]
[84,null,null,null,null,null,0,0,0]
[85,null,null,null,null,320502.83999999997,0,0,0]
[86,null,null,null,null,null,0,0,0]
[87,null,null,null,null,248834.11,0,0,0]
[88,null,null,null,null,115376.44,0,0,0]
[89,null,null,null,null,null,0,0,0]
[90,null,null,null,null,null,0,0,0]
[91,null,null,null,null,null,0,0,0]
[92,null,null,null,null,null,0,0,0]
[93,null,null,null,null,null,0,0,0]
[94,null,null,null,null,null,0,0,0]
[95,null,null,null,null,null,0,0,0]
[96,null,null,null,null,null,0,0,0]
[97,null,null,null,null,null,0,0,0]
[98,null,null,null,null,null,0,0,0]
[99,null,null,null,null,null,0,0,0]
["100 años y más",null,null,null,null,null,0,0,0]
["PÓLIZA CONCENTRADA*",null,null,null,null,null,0,0,0]
["TOTAL",{"$f":"SUM(B14:B100)","v":0},{"$f":"SUM(C14:C100)","v":0},{"$f":"SUM(D14:D100)","v":0},{"$f":"SUM(E14:E100)","v":0},{"$f":"SUM(F14:F100)","v":2091060.1799999997},{"$f":"SUM(G14:G100)","v":0},0,0]
["* PARA AQUELLAS PÓLIZAS QUE POR RAZONES ADMINISTRATIVAS, COMERCIALES O DE CUALQUIER OTRA ÍNDOLE, PERO QUE SE ENCUENTRE DOCUMENTADA EN SUS NOTAS TÉCNICAS CORRESPONDIENTES, Y LA INSTITUCIÓN NO TENGA A SU DISPOSICIÓN EL DETALLE DE LA INFORMACION DE CADA ASEGURADO, SE REPORTARÉ EN ESTE APARTADO LA INFORMACIÓN. CABE MENCIONAR QUE LAS PÓLIZAS AUTO-ADMINISTRADAS NO DEBERÁN SER CONSIDERADAS EN ESTE CAMPO."]
[]
["PÓLIZA NO CONCENTRADA",{"$f":"B101-B100","v":0},{"$f":"C101-C100","v":0},{"$f":"F101-F100","v":2091060.1799999997},{"$f":"G101-G100","v":0},{"$f":"D101-D100","v":0},{"$f":"E101-E100","v":0},0,0]