{"text_format":"1","workbook":"xlsx","n_sheets":13,"sheets":["TDPrimas_","TD Siniestros_","Inicio","TDPrimas","TDPrimas Vida","TD Siniestros","TD Operación","TD Siniestros Daños","Primas Directas","Siniestros","Primas Directas (Vida)","Siniestros (Daños)","Cat"],"not_rendered":{"charts":0,"images":2,"macros":1,"external_links":0,"defined_names":6,"comments":0,"pivot_tables":7},"unopened":[],"bounds":{"document_bytes":16777216,"sheet_cells":100000,"rows_first":2000,"rows_last":500,"rows_between":2000,"halvings":0,"cell_chars":16384,"cell_head_chars":4096},"cells_cut":0,"cells_raw":0,"read":"whole","date_system":"1900"}

{"sheet":"TDPrimas_","index":0,"n_rows":92,"n_cols":11,"rows_kept":92,"cut":false,"hidden":true,"merged":[]}
[]
[]
["periodo","2022-Q4"]
["Ramo_","10 Total General"]
[]
["jerarquia","nombre_compania","Suma de Prima_DirectaAct","Suma de Prima_DirectaAnt","Suma de Part_Mercado_Act","Suma de Part_Mercado_Ant","Suma de PD_IncreAbs","Suma de PD_IncreRel","Suma de Part_Operacion_Act","Suma de Part_Cartera_Act","Suma de Part_Sector_Act"]
[1,"G.N.P.",88896231.251249999,78894165.130579993,13.328965178556748,12.455720360241246,10002066.120670006,12.677827446573907,100,100,13.328965178556748]
[2,"Metlife México",69679915.865999997,62441035.431000002,10.447700190997896,9.8581191022831494,7238880.4349999949,11.593146053766624,100,100,10.447700190997896]
[3,"BBVA Bancomer",54574701.129000001,46683566.47428,8.182847357416561,7.370347965023079,7891134.6547200009,16.903452865083835,100,100,8.182847357416561]
[4,"AXA Seguros",47014413.873259999,44680995.323409997,7.049269430059514,7.0541843271236404,2333418.5498500019,5.222396083525549,100,100,7.049269430059514]
[5,"Quálitas",38613311.12376,34984952.298819996,5.7896209114054864,5.5233841682618428,3628358.8249400035,10.371198433968942,100,100,5.7896209114054864]
[5.0999999999999996,"TOTAL GRANDES",298778573.24326998,267684714.65809,44.798403068436201,42.261755922932956,31093858.585179985,11.615851366371711,100,100,44.798403068436201]
[6,"Monterrey New York Life",37521624.677379996,34531456.003360003,5.6259351125263946,5.4517866929440437,2990168.6740199924,8.6592603385418734,100,100,5.6259351125263946]
[7,"Banorte",28914191.644259997,27787128.924529999,4.3353497461911665,4.3870000642640976,1127062.7197299972,4.0560603536662798,100,100,4.3353497461911665]
[8,"Inbursa",23044846.02603,20715913.716820002,3.4553090260711876,3.2706047124843804,2328932.3092099987,11.242237928993948,100,100,3.4553090260711876]
[9,"Mapfre México",21167003.156169999,30973171.780310001,3.1737481334342115,4.8900088584082182,-9806168.6241400018,-31.660201588956728,100,100,3.1737481334342115]
[10,"Chubb Seguros México",20933874.303799998,18644615.725060001,3.1387931492732495,2.943590559721748,2289258.578739997,12.278389710456894,100,100,3.1387931492732495]
[11,"Allianz México",18949473.906669997,16560897.790209999,2.8412551836996185,2.6146155605801322,2388576.1164599974,14.422986885843891,100,100,2.8412551836996185]
[12,"Pensiones Banorte",18733422.244009998,22649462.819139998,2.8088607272886903,3.5758712284736385,-3916040.5751300007,-17.28977241712213,100,100,2.8088607272886903]
[13,"Atlas",17397320.09973,16033506.831839999,2.608527611863702,2.5313516805821155,1363813.2678900007,8.5060198133429132,100,100,2.608527611863702]
[14,"Citibanamex Seguros",17073983.286419999,24304859.36617,2.5600469837775268,3.837223337859514,-7230876.0797500014,-29.750742313755897,100,100,2.5600469837775268]
[15,"Zurich Santander",14538030.85846,14742608.475910001,2.1798101488635608,2.3275461278096596,-204577.61745000072,-1.3876622836744845,100,100,2.1798101488635608]
[15.1,"TOTAL MEDIANAS",218273770.20293,226943621.43335,32.727635822989306,35.829598823127547,-8669851.2304199934,-3.8202665382980117,100,100,32.727635822989306]
[16,"GMX Seguros",12685626.07584,10840674.31789,1.9020634041860491,1.7115132354413976,1844951.7579500005,17.018791487032669,100,100,1.9020634041860491]
[17,"Pensiones BBVA Bancomer",11908763.69197,9822830.8022000007,1.7855818445362615,1.5508172678633672,2085932.8897699993,21.235557567608886,100,100,1.7855818445362615]
[18,"ProFuturo G.N.P.",9964700.2888399996,14908494.745069999,1.4940919462526159,2.35373606184142,-4943794.4562299997,-33.160922955450168,100,100,1.4940919462526159]
[19,"HDI Seguros",9660591.7064100001,8680810.9867700003,1.4484943697450883,1.3705164884165382,979780.71963999979,11.286741770247444,100,100,1.4484943697450883]
[20,"Afirme",7592685.2919399999,10199279.548549999,1.1384356394364601,1.6102505644416141,-2606594.2566099986,-25.556650783050362,100,100,1.1384356394364601]
[21,"Seguros SURA",6914356.54,5900062.7489999998,1.0367280621076971,0.931495144004447,1014293.7910000002,17.191237350347045,100,100,1.0367280621076971]
[22,"Agroasemex",6906763.8894100003,0,1.0355896316714166,null,null,null,100,100,1.0355896316714166]
[23,"HSBC Seguros",6620173.5550899999,6468384.2059800001,0.99261871453696826,1.021221084207393,151789.34910999984,2.3466347124166065,100,100,0.99261871453696826]
[24,"AIG Seguros",6307111.0867400002,5289324.8718299996,0.94567860604624421,0.83507254800072461,1017786.2149100006,19.242270792073079,100,100,0.94567860604624421]
[25,"Zurich Aseguradora Mexicana",5416891.1568900002,257596.18681000001,0.81220038903734215,4.0668990710013446E-2,5159294.9700800003,2002.8615461941745,100,100,0.81220038903734215]
[26,"BUPA México",4031130.8302600002,3594202.4504200001,0.6044216015736501,0.56744856310258107,436928.37984000007,12.156476599946187,100,100,0.6044216015736501]
[27,"Seguros Azteca",3916508.0270500001,4983077.5936599998,0.58723523347738549,0.7867225787519595,-1066569.5666099996,-21.40383220134887,100,100,0.58723523347738549]
[28,"Seguros Argos",3759735.1039999998,3067143.767,0.56372894077113955,0.48423714229280768,692591.33699999982,22.580987055505041,100,100,0.56372894077113955]
[29,"Hir Seguros",3705981.81311,1949854.1843600001,0.55566925441075099,0.30784074365241842,1756127.6287499999,90.064561895761088,100,100,0.55566925441075099]
[30,"FM Global",3524079.9458400002,3154604.3165599997,0.52839516617743021,0.49804531360774973,369475.62928000046,11.712265381127175,100,100,0.52839516617743021]
[31,"ANA",3108861.0427800003,2846225.9863100001,0.46613787784848942,0.44935889629926257,262635.05647000019,9.2274843154845243,100,100,0.46613787784848942]
[32,"Ve Por Más",3075303.1990300003,3138973.1425999999,0.46110626599593513,0.4955774817798092,-63669.943569999654,-2.0283685357454839,100,100,0.46110626599593513]
[33,"Seguros Azteca Daños",3041486.8465999998,1844295.0949599999,0.45603589374661729,0.29117519561256122,1197191.7516399999,64.913242729519126,100,100,0.45603589374661729]
[34,"Cardif Vida",2952222.39597,2829394.6206800002,0.44265171831664329,0.44670157958615375,122827.77528999979,4.3411327070552064,100,100,0.44265171831664329]
[35,"Plan Seguro",2935556.73031,2596168.4891499998,0.44015289385431289,0.40988010527014596,339388.24116000021,13.072658518828174,100,100,0.44015289385431289]
[36,"General de Seguros",2674276.1501799999,2516090.6150500001,0.40097688261776326,0.39723750229461124,158185.53512999974,6.2869570032101585,100,100,0.40097688261776326]
[37,"Patrimonial Vida",2638295.4870500001,1454885.5009999999,0.39558199692676388,0.22969565526971261,1183409.9860500002,81.340420619807958,100,100,0.39558199692676388]
[38,"El Potosí",2162007.8058200004,1937993.9527700001,0.32416814924465603,0.30596826388349974,224013.85305000027,11.559058413459677,100,100,0.32416814924465603]
[39,"Cardif Seguros Generales",2044435.0795100001,1560679.2373500001,0.30653947418300159,0.24639824910107727,483755.84216,30.996493743416931,100,100,0.30653947418300159]
[40,"Insignia Life",1967652.9487100001,1738938.03253,0.2950268787291398,0.27454154335915898,228714.91618000017,13.152562765404596,100,100,0.2950268787291398]
[41,"Prudential",1613118.0192799999,1176956.4009700001,0.24186845274819468,0.18581652752664748,436161.61830999982,37.058434615805048,100,100,0.24186845274819468]
[42,"El Águila",1427020.1480899998,1250683.7777799999,0.21396522209396865,0.1974565212691447,176336.37030999991,14.099197050672728,100,100,0.21396522209396865]
[43,"Tokio Marine",1393936.1759300001,1374423.9543699999,0.20900466182406657,0.21699247851491701,19512.221560000209,1.419665416770477,100,100,0.20900466182406657]
[44,"La Latinoamericana",1344599.4865999999,1322115.8073700001,0.20160719395789536,0.20873412822353596,22483.679229999892,1.7005831943515792,100,100,0.20160719395789536]
[45,"HDI Global Seguros",1126819.2605599998,1043388.71996,0.16895355939310541,0.16472901514759059,83430.540599999833,7.9961129542591047,100,100,0.16895355939310541]
[46,"Assurant Vida",1073592.1059400002,1024603.9286700001,0.16097276110168565,0.16176329383034904,48988.177270000102,4.7811818693287433,100,100,0.16097276110168565]
[47,"General de Salud",1053737.07388,513902.81654999999,0.15799572791116839,8.1134387627939647E-2,539834.25733000005,105.04598144724841,100,100,0.15799572791116839]
[48,"Primero Seguros",988246.92141999991,752773.31405000004,0.14817623444793521,0.1188469879735697,235473.60736999987,31.280812294358174,100,100,0.14817623444793521]
[49,"BBVA Bancomer Salud",972061.24409000005,1191065.8113299999,0.14574937870291296,0.18804410506170566,-219004.56723999989,-18.387276769824258,100,100,0.14574937870291296]
[50,"Pan-American México",953705.39994999999,769483.43325,0.14299713146001719,0.12148516243928595,184221.96669999999,23.940991935579149,100,100,0.14299713146001719]
[51,"Atradius",808718.95713,621840.9362,0.12125808560273386,9.8175534236759565E-2,186878.02093,30.052383182102904,100,100,0.12125808560273386]
[52,"Sompo Japan",700245.38436999999,605863.71200000006,0.10499372373090983,9.5653068393579704E-2,94381.672369999927,15.578036858890121,100,100,0.10499372373090983]
[53,"Solunion Crédito",675000.43876000005,539056.79472999997,0.10120853513254034,8.5105668870844239E-2,135943.64403000008,25.218797974356466,100,100,0.10120853513254034]
[54,"Swiss Re Corporate Solutions",672719.17460000003,317503.73488,0.10086648586764194,5.0127125731692014E-2,355215.43972000002,111.87756259127255,100,100,0.10086648586764194]
[55,"Berkley Seguros",636056.93861000007,465002.43946000002,9.5369406182704577E-2,7.3414052143873545E-2,171054.49915000005,36.785720812269915,100,100,9.5369406182704577E-2]
[56,"PREVEM Seguros",580810.99120000005,495857.3322,8.7085913182837801E-2,7.8285387242972182E-2,84953.659000000043,17.132681818595085,100,100,8.7085913182837801E-2]
[57,"Patrimonial Inbursa",575425.82271000009,633205.94169000001,8.6278469242036762E-2,9.9969828276651448E-2,-57780.118979999912,-9.1250121288797725,100,100,8.6278469242036762E-2]
[58,"AXA Salud",573796.81754999992,163768.73744999999,8.6034218695666978E-2,2.5855620552555959E-2,410028.0800999999,250.37017838962399,100,100,8.6034218695666978E-2]
[59,"Dentegra",506069.78083,449909.74330999999,7.5879330221977945E-2,7.1031234575358287E-2,56160.037520000013,12.482511960472076,100,100,7.5879330221977945E-2]
[60,"Skandia Life",447144.79532999999,426948.58981999999,6.7044207868403288E-2,6.7406153981037345E-2,20196.20551,4.7303600460455009,100,100,6.7044207868403288E-2]
[61,"Coface",385583.53597000003,330415.15438000002,5.781380663757494E-2,5.2165565842942144E-2,55168.381590000005,16.696686232058401,100,100,5.781380663757494E-2]
[62,"SHF Cred Vivienda",378646.86668000004,419514.94858000003,5.6773733035801473E-2,6.6232539222701975E-2,-40868.08189999999,-9.7417462806349988,100,100,5.6773733035801473E-2]
[63,"MediAccess",287353.00105999998,222274.35027,4.3085270220931476E-2,3.5092419643899711E-2,65078.650789999985,29.278524809969287,100,100,4.3085270220931476E-2]
[64,"Patrimonial Daños",284972.94150999998,172814.15536999999,4.2728407726106699E-2,2.7283700765668762E-2,112158.78613999998,64.901388372882323,100,100,4.2728407726106699E-2]
[65,"Assurant Daños",195056.23666,175769.73887,2.9246434294309929E-2,2.7750324900880929E-2,19286.497789999994,10.97259284447385,100,100,2.9246434294309929E-2]
[66,"Centauro",183069.31599999999,161859.45000000001,2.7449133713324771E-2,2.555418443842564E-2,21209.86599999998,13.103878704641581,100,100,2.7449133713324771E-2]
[67,"Tláloc Seguros",114710.45364000001,122691.30882999999,1.7199510267905858E-2,1.9370363206063411E-2,-7980.8551899999875,-6.5048252122391066,100,100,1.7199510267905858E-2]
[68,"Virginia Surety",108805.01648000001,71210.532909999994,1.6314058037120899E-2,1.124263731243816E-2,37594.483570000011,52.793431018855188,100,100,1.6314058037120899E-2]
[69,"Odontoprev",81304.397939999995,76993.932440000004,1.2190657283804061E-2,1.215571380114935E-2,4310.4654999999912,5.5984482976747074,100,100,1.2190657283804061E-2]
[70,"Genworth Seg. de Crédito",70363.624430000011,65916.115330000001,1.0550214409132527E-2,1.0406760733508953E-2,4447.5091000000102,6.7472257394632029,100,100,1.0550214409132527E-2]
[71,"Crabi",36639.410899999995,40543.639300000003,5.4936573257942855E-3,6.4009833004943619E-3,-3904.2284000000072,-9.6296939974009899,100,100,5.4936573257942855E-3]
[72,"SPT",31148.555920000003,0,4.67036691405486E-3,null,null,null,100,100,4.67036691405486E-3]
[73,"Metlife Más",30174.169300000001,31095.04911,4.5242688720386077E-3,4.9092507115206623E-3,-920.87980999999854,-2.9614997768369733,100,100,4.5242688720386077E-3]
[74,"Citibanamex Pensiones",21149.46084,12102.12455,3.1711178653329652E-3,1.9106695521793685E-3,9047.3362899999993,74.758248046620849,100,100,3.1711178653329652E-3]
[75,"Metlife Pensiones",20461.44299,15995.85067,3.0679575194353264E-3,2.5254065689133028E-3,4465.5923199999997,27.917191852604351,100,100,3.0679575194353264E-3]
[76,"SIS NOVA",18506.622070000001,939149.07556000003,2.7748546554977969E-3,0.1482717795719507,-920642.45348999999,-98.029426578632922,100,100,2.7748546554977969E-3]
[77,"Pensiones Inbursa",1325.17551,533.28377999999998,1.9869479256487391E-4,8.4194231922453722E-5,791.89173000000005,148.49349627697285,100,100,1.9869479256487391E-4]
[78,"Aserta Seguros de Vida",596.44601999999998,172554.43964,8.9430205528054647E-5,2.7242697143909388E-2,-171957.99361999999,-99.654343277840681,100,100,8.9430205528054647E-5]
[79,"Principal México",0,192.54227,null,3.0398352890567387E-5]
[79,"Zurich Daños",0,7183909.4036900001,null,1.1341873822679776]
[79,"Zurich Vida",0,1834835.98364,null,0.28968180195964272]
[150.1,"TOTAL RESTO",149887888.3001,138768712.40372995,22.473961108574485,21.908645253939508,11119175.896370053,8.0127398343368803,100,100,22.473961108574485]
[200,"Patria",0,0]
[201.1,"TOTAL",666940231.74629986,633397048.49517012,99.999999999999972,100.00000000000004,33543183.251129746,5.2957593236062417,100,100,99.999999999999972]

{"sheet":"TD Siniestros_","index":1,"n_rows":91,"n_cols":8,"rows_kept":91,"cut":false,"hidden":true,"merged":[]}
[]
["periodo","2022-Q4"]
["Ramo_","10 Total General"]
[]
["jerarquia","nombre_compania","Suma de CostoSin_Act","Suma de SIN_IncreRel","Suma de IncResvDivAct","Suma de SINvsPRIM_ACT","Suma de SINvsPRIM_ANT","Suma de PartSIN_Merc_Act"]
[1,"G.N.P.",57942254.663420014,6.910792097174201,235991.34099,65.179652554286733,68.69560592969998,14.052417291317724]
[2,"Metlife México",47812737.470249996,-6.5635628888394919,33669.212209999998,68.617673939500264,81.951563507185227,11.595761032688094]
[3,"BBVA Bancomer",28668011.941679999,5.233439550466934,0,52.529856047981802,58.35522982758603,6.9526957322787171]
[4,"AXA Seguros",32411884.008069992,2.9352522335778009,519435.79534000001,68.940312848406322,70.472114725055093,7.8606764946399394]
[5,"Quálitas",25385948.864360008,20.046109727454308,102597.07334,65.74403521882698,60.445506926139949,6.1567149716604419]
[5.0999999999999996,"TOTAL GRANDES",192220836.94778001,3.7657321783436837,891693.42188000004,64.33554952124058,69.202683604590902,46.61826552258492]
[6,"Monterrey New York Life",24612258.157529999,-2.1482344605443737,69856.265939999997,65.594862613631861,72.839659195843311,5.9690760071440394]
[7,"Banorte",16965249.233969994,-13.64701137121116,46229.844859999997,58.674471839636958,70.703220350723242,4.1144888660582728]
[8,"Inbursa",12593961.632089997,16.843919299235878,263889.94474000001,54.649797259936797,52.029799976085947,3.054344454371074]
[9,"Mapfre México",13307614.649420004,-23.87991099270419,308715.47612000001,62.869620943675955,56.443670488321644,3.2274228072757718]
[10,"Chubb Seguros México",12052095.718539998,15.896527594606358,115661.08706999999,57.572217849575289,55.774888569748384,2.9229286857342203]
[11,"Allianz México",12238873.853329998,26.602715552906719,37724.765490000005,64.586879369891392,58.373342300468444,2.9682269625480853]
[12,"Pensiones Banorte",11802256.32618,18.722822293954167,0,63.001069278485758,43.890742127797004,2.8623365079246743]
[13,"Atlas",10098998.712919997,6.7553001911256683,39291.694859999996,58.049163060905741,59.001132739620246,2.4492547789657571]
[14,"Citibanamex Seguros",27048070.603949998,11.896636682345996,0,158.41687408387597,99.454891043416566,6.5598202427508854]
[15,"Zurich Santander",3023917.7224300001,-21.812023340219788,0,20.800050239749737,26.233465379004279,0.73337418326291426]
[15.1,"TOTAL MEDIANAS",143743296.61035997,2.259753266547504,881369.07907999994,65.854590075903872,61.939098407761328,34.861273496035686]
[16,"GMX Seguros",5157067.1514400002,3.03074725881467,0,40.652839052711208,46.172101271041889,1.2507152169405178]
[17,"Pensiones BBVA Bancomer",7674691.8097700011,14.206876891784148,0,64.445747755873214,68.411958847697292,1.8613009196763761]
[18,"ProFuturo G.N.P.",4846781.6973800007,19.764696031260943,0,48.639513049962687,27.145062509132593,1.1754633872489504]
[19,"HDI Seguros",5853239.9675500002,8.3683227266911473,0,60.588834984778991,62.220525919891323,1.4195541924977744]
[20,"Afirme",5905353.597959999,10.077442787765101,14012.8626,77.776878283481807,52.599071748285262,1.4321930255107593]
[21,"Seguros SURA",3724756.8455599993,6.1399102610237843,13072.738839999998,53.869898435408125,59.478852375676652,0.90334485267356601]
[22,"Agroasemex",1340021.9866499999,null,-6173.5351500000015,19.401589631645411,null,0.32498818427641285]
[23,"HSBC Seguros",2724139.5727400002,19.976328937445764,0,41.149065807278014,35.102494335615859,0.66067063248233893]
[24,"AIG Seguros",1592581.9720599998,72.322187160269763,11439.484260000001,25.250577485597585,17.472713455020759,0.38624017259972937]
[25,"Zurich Aseguradora Mexicana",4431024.1784399999,1778.5706119748611,10858.88839,81.800133141017071,91.56661631950962,1.0746319960287494]
[26,"BUPA México",2861700.0891800001,12.113724955380544,0,70.990007759074047,71.017077946784227,0.69403243020755623]
[27,"Seguros Azteca",2753059.7028299994,-38.738102075464667,0,70.293733188226454,90.183592673885698,0.66768447304661416]
[28,"Seguros Argos",2710936.0535400007,-17.079164000858281,9679.2178299999996,72.104442960777291,106.59122864259267,0.65746845537359322]
[29,"Hir Seguros",1478646.5841399999,-13.476918294051099,393008.11544999998,39.898916365678105,87.645630618318876,0.35860804774369087]
[30,"FM Global",264444.23681999999,19.518461401744247,0,7.5039227510194024,7.0138135977470286,6.4134210649291756E-2]
[31,"ANA",2008183.85962,36.455998830698768,10762.346810000001,64.595484712441348,51.706061688304452,0.48703381939475926]
[32,"Ve Por Más",1875257.6643799995,-14.696253996185716,6802.4608699999999,60.977976577122071,70.033405665240309,0.45479595817740964]
[33,"Seguros Azteca Daños",923246.81686000002,16.948283985421519,31342.309350000003,30.355114568128872,42.804906632749137,0.22390998777595267]
[34,"Cardif Vida",853584.88870000001,-51.418690516262558,56978.556810000002,28.913299007053329,62.098910069593863,0.20701526233752188]
[35,"Plan Seguro",1967867.2851199999,12.8934701039356,0,67.035573348030297,67.141974525340103,0.4772560616612796]
[36,"General de Seguros",2052103.73126,38.141660799843493,16906.32705,76.734922499379039,59.040273304325318,0.49768546502455951]
[37,"Patrimonial Vida",1823633.7538699999,14.406977390562158,1484.7720200000001,69.121664454237802,109.56107740948613,0.44227589424634317]
[38,"El Potosí",1370824.13301,30.00221666719969,2247.8542699999998,63.405142632687102,54.409980014274225,0.33245845992642525]
[39,"Cardif Seguros Generales",178083.60459,-22.438894681596121,0,8.7106509947325979,14.711816365280999,4.3189640081793032E-2]
[40,"Insignia Life",850788.55688000005,-33.926058744291318,23132.752670000002,43.238750890383379,74.046974965324765,0.20633708331518502]
[41,"Prudential",167226.42745999998,-2.9582296575294875,0,10.366657954427904,14.641508562932101,4.0556508448880729E-2]
[42,"El Águila",593424.9589000002,-8.9600223347663146,0,41.584904017947608,52.117808896267562,0.14392010117636078]
[43,"Tokio Marine",595057.62798999995,-21.400201602180246,-1321.50783,42.689015341250617,55.082910403509558,0.14431606345785269]
[44,"La Latinoamericana",773285.09016000002,-3.0158512184783604,3424.2853799999998,57.510440682626992,60.307229899631878,0.1875405925296656]
[45,"HDI Global Seguros",389690.04205000005,59.26142399047891,0,34.583189664004699,23.451065321980902,9.4509388993709684E-2]
[46,"Assurant Vida",246251.05924999999,-51.154740694470988,8345.4773299999997,22.93711530548104,49.203916297140509,5.972191905736509E-2]
[47,"General de Salud",677020.87106999988,67.081517594834054,0,64.249506622854128,78.848356973458195,0.16419415934832912]
[48,"Primero Seguros",548948.88995000022,4.3725892912037434,0,55.547746018902068,69.86847090797184,0.13313356406293034]
[49,"BBVA Bancomer Salud",715689.00641000003,-1.3289901808228088,0,73.625917169447064,60.897436962787474,0.17357213017171647]
[50,"Pan-American México",521869.18918999995,-13.813302311425701,11078.403279999999,54.720167172940414,78.690470573558642,0.12656607273187973]
[51,"Atradius",181850.31085000001,1476.5614788062094,19191.945,22.486218388567824,1.8549142101333409,4.4103158695916883E-2]
[52,"Sompo Japan",29032.571579999996,-86.982122467020645,9.4211000000000009,4.1460568292242517,36.810386932366718,7.0411103822608954E-3]
[53,"Solunion Crédito",142452.92807000002,-38.974430745315445,733.84481999999991,21.104123773858745,43.303701113148946,3.4548327489808323E-2]
[54,"Swiss Re Corporate Solutions",34790.268200000006,-248.24333382883469,-293.24920000000009,5.1715886083797686,-7.3915201497928278,8.4374929705989601E-3]
[55,"Berkley Seguros",412985.07958000008,146.53625746875232,2418.8379399999999,64.928948103689024,36.024530667953584,0.10015900670517112]
[56,"PREVEM Seguros",355377.57276000007,39.632691822837216,0,61.186440708665437,51.32703378828851,8.6187773972694476E-2]
[57,"Patrimonial Inbursa",61401.306289999993,-68.214341672493632,0,10.67058582821798,30.50713462423132,1.4891322114253449E-2]
[58,"AXA Salud",523388.0101500001,14.902125627042452,0,91.214868075561043,278.14080396697841,0.12693442405070055]
[59,"Dentegra",165464.52375999998,19.595434546599797,53.536449999999995,32.695989768174513,30.751400119083588,4.0129203606096495E-2]
[60,"Skandia Life",66540.004449999993,-9.1288208463990994E-2,0,14.881086651336824,15.599255909962991,1.6137582400428244E-2]
[61,"Coface",46682.784039999999,243.40014759205516,13239.2675,12.107048067434111,4.1143033846339998,1.1321719623463244E-2]
[62,"SHF Cred Vivienda",64047.909359999998,-158.79339886023817,0,16.914945030861119,-25.967428824345234,1.5533188243905496E-2]
[63,"MediAccess",143738.29771000001,5.1114959617087008,0,50.021505667166188,61.52235207251293,3.4860061140143367E-2]
[64,"Patrimonial Daños",41259.521149999993,-20.87175369837977,0,14.478399574140678,30.172641285293583,1.0006445413760966E-2]
[65,"Assurant Daños",62642.315240000004,12.582810050090899,511.87678000000005,32.115002479613622,31.655677210257661,1.519229720969912E-2]
[66,"Centauro",94180.369840000014,25.658914141938638,-38.20543,51.445196769075174,46.305121566890286,2.2841048649731605E-2]
[67,"Tláloc Seguros",74814.19031000002,-21.161031831741596,0,65.220028285122225,77.344466649618681,1.8144275324720776E-2]
[68,"Virginia Surety",28969.155190000001,104.21531430967067,0,26.624834154889328,19.920640009713981,7.0257303529443716E-3]
[69,"Odontoprev",21827.24595,22.022712214389518,0,26.84632873870833,23.232811382818621,5.2936422683473186E-3]
[70,"Genworth Seg. de Crédito",11744.406199999999,-243.29019271556888,0,16.691019394095754,-12.434347259341139,2.8483064340492441E-3]
[71,"Crabi",34438.83939999999,-17.993897575499197,0,93.993976851849425,103.58088239010156,8.3522628708302508E-3]
[72,"SPT",21183.371439999999,null,0,68.007555452670232,null,5.13748691418788E-3]
[73,"Metlife Más",2858.59672,234.91330127873741,0,9.4736550709284959,2.7449171955978939,6.9327978709796893E-4]
[74,"Citibanamex Pensiones",762473.81987999973,4.5733609201181302,0,3605.1690662389469,6024.7946932590448,0.18491859443334888]
[75,"Metlife Pensiones",351445.4143,5.8708452229715213,0,1717.5983847852756,2075.2678572611358,8.5234129143778453E-2]
[76,"SIS NOVA",130897.27331999998,-84.668289919145749,0,707.29965103782968,90.90870398194356,3.174579790988994E-2]
[77,"Pensiones Inbursa",24422.157459999999,5.1574159595634494,0,1842.9375788871919,4354.9758066896393,5.9229719274084495E-3]
[78,"Aserta Seguros de Vida",23923.406010000006,-93.921712500994175,0,4010.9926477504209,228.09493158283365,5.8020124731938665E-3]
[79,"Principal México",0,null,0]
[79,"Zurich Daños",-2.0000003362441454E-5,-100.00000000042222,0,null,65.937237807967321,-4.850491143455896E-12]
[79,"Zurich Vida",0,null,0]
[150.1,"TOTAL RESTO",76365314.551970005,3.3377650470283848,652909.08519000001,50.948289029914271,53.253176953152789,18.520460981379422]
[200,"Patria",0,null,0]
[201.1,"TOTAL",412329448.11011004,3.1569994371409615,2425971.5861499999,61.824047865650087,63.105849336373701,100.00000000000004]

{"sheet":"Inicio","index":2,"n_rows":33,"n_cols":10,"rows_kept":33,"cut":false,"hidden":false,"merged":[[5,3,8,9],[14,1,15,4],[14,6,15,9],[12,1,13,9]]}
[]
[]
[]
[null,null,null,null,null,null,null,null,null,"EstadisticAMIS Informe"]
[]
[null,null,null,"Con la finalidad de atender la solicitud de información, presentamos esta publicación comparando los datosprimas del periodo actual vs el mismo periodo del año anterior."]
[]
[]
[]
[null,null,null,null,null,null,null,null,"Periodo:","2022-Q4"]
[null,null,null,null,null,null,null,null,"Fecha de actualización:","2023-03-10"]
[]
[null,"Derivado de la consolidación de las compañías Zurich Daños y Zurich Vida con Zurich Aseguradora Mexicana las primas emitidas, cedidas y otros rubros del estado de resultados “técnico” se presentaron en el renglón de operaciones discontinuadas."]
[]
[null,"ANÁLISIS DE PRIMAS DIRECTAS",null,null,null,null,"ANÁLISIS DE SINIESTROS"]
[]
[]
[]
[]
[]
[null,"DEFINICIÓN DE TÉRMINOS"]
[]
[null,"Participación de mercado"]
[null,"Porcentaje que representa la participación de las compañías sobre el total del ramo o subramo que se está consultando."]
[]
[null,"Participación por operación"]
[null,"Porcentaje que representa la participación del subramo sobre el ramo de la compañía."]
[]
[null,"Participación por cartera"]
[null,"Porcentaje que representa la participación del ramo o subramos sobre el total general sin pensiones de la compañía."]
[]
[null,"Participación por sector"]
[null,"Porcentaje que representa la participación de la compañía del ramo o subramo(s) sobre la suma del total general sin pensiones."]

{"sheet":"TDPrimas","index":3,"n_rows":11,"n_cols":6,"rows_kept":11,"cut":false,"hidden":true,"merged":[]}
[]
[]
["periodo","2022-Q4"]
["Ramo_","22 Pensiones ISSSTE"]
[]
["Jerarquia 2","nombre_compania","Suma de Prima_DirectaAct","Suma de Prima_DirectaAnt","Suma de %CARTERA","Suma de %SECTOR"]
[1,"Pensiones BBVA Bancomer",4208664.4597299993,3639244.0324800001,35.340901613220133,10.353463363846723]
[2,"Pensiones Banorte",4037481.4563199999,4279755.09882,21.552289825800422,9.9323471234628613]
[3,"ProFuturo G.N.P.",3791047.5474300003,3288759.66768,38.044772422064689,9.3261109951814838]
[5.0999999999999996,"TOTAL GRANDES",12037193.463479999,11207758.798980001,29.643231930752052,29.611921482491066]
[151.1,"TOTAL",12037193.463479999,11207758.798980001,29.643231930752052,29.611921482491066]

{"sheet":"TDPrimas Vida","index":4,"n_rows":48,"n_cols":14,"rows_kept":48,"cut":false,"hidden":true,"merged":[]}
[]
["periodo","2022-Q4"]
["Ramo2","12 Vida Total"]
["subramo","(Varios elementos)"]
[]
["Jerarquia 2","nombre_compania","Suma de Prima_DirectaAct","Suma de Prima_DirectaAnt","Suma de %CARTERA","Suma de Prima_Directa_Act1anio","Suma de Prima_Directa_Ant1anio","Suma de %CARTERA_1anio","Suma de PrimaDirectaAct_Renov","Suma de PrimaDirectaAnt_Renov","Suma de %CARTERA_Renov","Suma de PrimaDirectaAct_Unica","Suma de PrimaDirectaAnt_Unica","Suma de %CARTERA_uni"]
[1,"Metlife México",48016518.989,45847773.847999997,68.91012767773654,9244390.8396000005,8748784.9070999995,13.266937430546985,32002822.344999999,30911024.155000001,45.928330921845486,6769305.80473,6187964.7854199996,9.7148593258176597]
[2,"BBVA Bancomer",43150700.472999997,37325851.607550003,79.067222688042364,36550558.506899998,31939704.626949999,66.973446946606728,4528194.0940000005,4119155.01107,8.2972402969217551,2071947.8715899999,1266991.9695299999,3.7965354435793777]
[3,"G.N.P.",35246575.565329999,32138338.20321,39.649122430974131,8615839.5867400002,7791578.7823199993,9.6920189590364103,18931513.77059,17995644.965360001,21.29619389272343,7699222.2079999996,6351114.4555300009,8.6609095792142909]
[4,"Monterrey New York Life",25726165.1074,23548993.196959998,68.563569218017051,2404396.2662400003,2200084.5727999997,6.4080281355447184,16907794.12985,15411250.563300001,45.061465955238624,6413974.7113100002,5937658.0608600006,17.094075127233712]
[5,"Citibanamex Seguros",16107597.506620001,23397154.32457,94.340009805628526,8860948.79256,14333370.963640001,51.897373002629465,7246648.7140600001,9063783.3609299995,42.442636802999047,0,0,0]
[5.0999999999999996,"TOTAL GRANDES",168247557.64135,162258111.18029001,62.838388235980226,65676133.992039993,65013523.852810003,24.52922623951234,79616973.053499997,77500858.055659994,29.735957734222868,22954450.595630001,19743729.271340001,8.5732042621777911]
[6,"Banorte",15636401.477530001,15171410.449130001,54.078639548043924,5176883.0321200006,3838669.0104100001,17.904297985614644,7984926.7045700001,7476991.3361799996,27.615943073252598,2474591.7408400001,3855750.1025400003,8.5583984891766907]
[7,"Allianz México",10326844.195729999,9080227.0518600009,54.496732978402477,4570849.7426499994,4859120.9536200007,24.121248775361057,5755994.4530800004,4221106.0982400002,30.37548420304142,0,0,0]
[8,"Zurich Santander",10124406.058669999,10872638.540720001,69.640834836847148,4184166.79415,6128239.4036500007,28.780835829049995,1359424.2652700001,1224789.94404,9.3508142781174595,4580814.9992500003,3519609.1930300002,31.509184729679696]
[9,"HSBC Seguros",6262776.06623,6118480.6822800003,94.601387926073173,3961507.7144999998,4219031.9230899997,59.839937450796086,2301268.3517299998,1899448.7591899999,34.761450475277073,0,0,0]
[10,"AXA Seguros",5473617.5753300004,5769071.1362500004,11.642424363910202,1151388.4607500001,1329927.9210900001,2.4490116240816642,4315534.0315100001,4433822.9482800001,9.1791722494800911,6695.0830700000006,5320.2668800000001,1.4240490348445902E-2]
[11,"Mapfre México",5365137.7045600004,5405617.6783400001,25.346704325482701,4602141.8392299991,4596064.5905600004,21.742056753501803,759074.11546,808465.80151000002,3.5861199143759586,3368.5274399999998,1087.2862700000001,1.5914049878232778E-2]
[12,"Inbursa",5269961.0633900007,5013331.0683000004,22.868284984145202,2958038.8261100003,2847270.9672499998,12.836010371988543,2311922.2372799995,2166060.1010500002,10.032274612156655,0,0,0]
[13,"Seguros Azteca",3769814.5278000003,4867012.4177099997,96.254482354259522,3667577.85372,4782784.0524899997,93.64407856154709,11381.524449999999,9354.4843999999994,0.29060388415883864,90855.149630000014,74873.880820000006,2.3197999085535925]
[14,"Seguros Argos",3759735.1039999998,3067143.767,100,976257.40699000005,745728.49438000005,25.966122080019822,2511749.5882000001,1910456.9972000001,66.806557343035635,271728.10874,410958.2758,7.2273205750827278]
[15,"Hir Seguros",3672557.9548000004,1927562.53486,99.098110568385366,1054319.03798,547658.76188000001,28.449115272242327,2618238.9168199995,1379903.7729799999,70.648995296143013,0,0,0]
[15.1,"TOTAL MEDIANAS",69661251.72804001,67292495.326450005,40.587954575385247,32303130.7082,33894496.078419998,18.821338539046138,29929514.188370001,25530400.243070003,17.438356793866486,7428053.6089700004,7867599.0053400006,4.3279369087628012]
[16,"Cardif Vida",2711266.1441299999,2596506.4369800002,91.838140237370908,339064.63670000003,149862.93523999999,11.48506417276856,1708593.71627,1893173.15439,57.87483079196052,663607.79116000002,553470.34735000005,22.478245272641832]
[17,"Patrimonial Vida",2638295.4870500001,1454885.5009999999,100,2638295.4870500001,1454885.5009999999,100,0,0,0,0,0,0]
[18,"Atlas",2612427.2826199997,2388659.0771900001,15.016262663699242,1824502.26039,1602285.86897,10.487260393733374,708213.5183,646101.10583000001,4.0708196103777574,79711.503930000006,140272.10238999999,0.4581826595881115]
[19,"Afirme",2172231.3791300002,2880992.4101,28.609527401799838,2172231.3791300002,2880992.4101000004,28.609527401799838,0,0,0,0,0,0]
[20,"Insignia Life",1967652.9487100001,1738938.03253,100,577363.15594999993,489251.24956000003,29.34273324615101,1392872.77639,1255059.7612100001,70.788539071545713,-2582.9836500000001,-5372.9782400000004,-0.13127231871318631]
[21,"Seguros SURA",1862741.3330000001,1457579.496,26.940197865469056,1602380.4598700001,1190642.4419500001,23.174686619067522,255559.07928999997,261495.03055,3.6960645262010159,4801.7945,5442.0234299999993,6.9446729745874514E-2]
[22,"Prudential",1613118.0192799999,1176956.4009700001,100,555658.74002000003,445529.68565,34.446254606219888,1023104.96704,695859.72439999995,63.424061650284791,34354.312220000007,35566.990919999997,2.1296837434953293]
[23,"Assurant Vida",1073592.1059400002,1024603.9286700001,100,1062278.15708,1013361.02646,98.946159458755147,11313.948859999999,11242.90221,1.0538405412448424,0,0,0]
[24,"Chubb Seguros México",969501.00555,1024740.44845,4.6312545469617747,969501.00555,1024740.44845,4.6312545469617747,0,0,0,0,0,0]
[25,"General de Seguros",593549.91121000005,706075.57554999995,22.194787594020514,172497.48657000001,445757.19783999998,6.4502495958911927,421052.42463999998,260318.37771,15.744537998129319,0,0,0]
[26,"Ve Por Más",570808.76127999998,674385.09612,18.561056401204347,196413.03160000002,89826.774940000003,6.3867859163269438,291572.72967999999,430576.45000999997,9.4811051402010271,82823,153981.87117,2.6931653446763786]
[27,"Zurich Aseguradora Mexicana",483896.76513999997,251614.97323,8.9331085141799225,225631.47756,251614.97323,4.165331571652656,138342.24518999999,0,2.5539048355076499,119923.04239,0,2.2138721070196179]
[28,"Pan-American México",481604.77100999997,343072.03895000002,50.498274523269885,76118.232189999995,59914.646480000003,7.9813150050309725,304129.51472000004,195470.33705,31.88925162172141,101357.0241,87687.055420000004,10.627707896517505]
[29,"Skandia Life",447144.79532999999,426948.58981999999,100,212633.80112000002,215625.46465000001,47.553679108145019,234510.99421,211323.12517000001,52.446320891854981,0,0,0]
[30,"Patrimonial Inbursa",382702.68060000002,455803.15737999999,66.507734880169323,382702.68059999996,455803.15737999999,66.507734880169309,0,0,0,0,0,0]
[31,"La Latinoamericana",335301.61682999996,289231.40327000001,24.936913941403848,133472.19946,105684.60047,9.9265395227468325,201829.41736999998,183546.8028,15.010374418657015,0,0,0]
[32,"El Potosí",266560.37183999998,238010.45843,12.329297383776082,71968.596229999996,75680.601299999995,3.3287852169758443,194288.82590999999,162329.85712999999,8.9864997428309774,302.94970000000001,0,1.4012423969260281E-2]
[33,"Tokio Marine",77681.760609999998,64153.745750000002,5.5728348220945358,32215.679040000003,40967.138370000001,2.3111301361058723,45466.081570000002,23186.607380000001,3.2617046859886636,0,0,0]
[34,"Agroasemex",58592.337049999995,0,0.84833270672302008,58592.337049999995,0,0.84833270672302008,0,0,0,0,0,0]
[35,"HDI Seguros",16047.403890000001,19418.209889999998,0.16611201857700103,0,0,0,16047.403890000001,19418.209889999998,0.16611201857700103,0,0,0]
[36,"Aserta Seguros de Vida",596.44601999999998,172610.6998,100,616.71187999999995,93975.274659999995,103.39776934046772,-2.9357600000000001,30422.091079999998,-0.49220883391928749,-17.330100000000002,48213.334059999994,-2.9055605065484387]
[37,"Zurich Vida",0,502882.72777,0,0,0,0,0,0,0,0,0,0]
[38,"Principal México",0,192.54227,0,0,0,0,0,0,0,0,0,0]
[150.1,"TOTAL RESTO",21335313.326219995,19888260.950119998,21.838838490880875,13304137.515040003,12086401.3967,13.618122499956947,6946894.7075700006,6279523.5368099986,7.1108452550978019,1084281.1042500001,1019260.7465,1.1098707364812361]
[151.1,"TOTAL",259244122.69560999,249438867.45685998,48.269975290988079,111283402.21527998,110994421.32792999,20.720419885991941,116493381.94943999,109310781.83554003,21.690492381443395,31466785.308849998,28630589.02318,5.8589600163411415]

{"sheet":"TD Siniestros","index":5,"n_rows":11,"n_cols":13,"rows_kept":11,"cut":false,"hidden":true,"merged":[]}
[]
[]
["periodo","2022-Q4"]
["Ramo_","22 Pensiones ISSSTE"]
[]
["Jerarquia 2","nombre_compania","Suma de CostoSin_Act","Suma de IncSin","Suma de IncResvDivAct","Suma de %SinvsPrm_Act","Suma de %SinvsPrm_Ant","Suma de Costo_Sin_RetAct","Suma de IncSin_Ret","Suma de Prima_DevengadaAct","Suma de IncSin_PDev","Suma de %SinvsPDev_Act","Suma de %SinvsPDev_Ant"]
[1,"Pensiones BBVA Bancomer",1710734.4742400001,22.024253495609347,0,40.647917899108307,38.523458466582085,1710734.4742399999,22.024253495609326,-1186886.1451700001,27.326495944734841,-144.13635892556215,-150.39942465933456]
[2,"Pensiones Banorte",2145080.7766400003,18.425978307196832,0,53.12917965932045,42.323127410711258,2145080.7766399998,18.425978307196811,-1571681.8949800001,25.467961415430974,-136.48313844496479,-144.59885738794119]
[3,"ProFuturo G.N.P.",1300737.1880899996,28.477002987678524,0,34.310759013607885,30.784494172363779,1300737.1880900001,28.477002987678567,-927538.20415000001,21.865453282157898,-140.23542990145631,-133.01878027772983]
[5.0999999999999996,"TOTAL GRANDES",5156552.4389699996,22.02787283636567,0,42.838494326892871,37.703496039855665,5156552.4389699996,22.027872836365646,-3686106.2443000004,25.12529297396371,-139.89158470252502,-143.44243748284967]
[151.1,"TOTAL",5156552.4389699996,22.02787283636567,0,42.838494326892871,37.703496039855665,5156552.4389699996,22.02787283636567,-3686106.2443000004,25.12529297396371,-139.89158470252502,-143.44243748284961]

{"sheet":"TD Operación","index":6,"n_rows":1616,"n_cols":4,"rows_kept":1616,"cut":false,"hidden":true,"merged":[]}
[]
[]
[]
[null,"periodo","2022-Q4"]
[]
[null,"nombre_compania","Ramo_","Suma de Prima_DirectaAct"]
[{"$f":"B7&\"|\"&C7","v":"Afirme|10 Total General"},"Afirme","10 Total General",7592685.2919399999]
[{"$f":"B8&\"|\"&C8","v":"Afirme|11 Total General Sin Pensiones"},"Afirme","11 Total General Sin Pensiones",7592685.2919399999]
["Afirme|12 Vida Total","Afirme","12 Vida Total",2172231.3791300002]
["Afirme|13 Vida Individual","Afirme","13 Vida Individual",1640597.83078]
["Afirme|14 Vida Gpo y Col","Afirme","14 Vida Gpo y Col",531633.54835000006]
["Afirme|38 Daños Total","Afirme","38 Daños Total",5420453.9128100006]
["Afirme|39 Automoviles Total","Afirme","39 Automoviles Total",2370669.6430500001]
["Afirme|41 Automoviles Residentes","Afirme","41 Automoviles Residentes",1802591.4672600001]
["Afirme|42 Camiones","Afirme","42 Camiones",541184.81310000003]
["Afirme|44 Otros Automoviles y Obligatorios","Afirme","44 Otros Automoviles y Obligatorios",26893.362690000002]
["Afirme|45 Daños Sin Autos Total","Afirme","45 Daños Sin Autos Total",3049784.2697599996]
["Afirme|46 Responsabilidad Civil y Riesgos Profesionales","Afirme","46 Responsabilidad Civil y Riesgos Profesionales",740438.52734999999]
["Afirme|47 RC General","Afirme","47 RC General",418059.85933999997]
["Afirme|48 RC Aviones y Barcos","Afirme","48 RC Aviones y Barcos",102920.33658]
["Afirme|49 RC Viajero","Afirme","49 RC Viajero",7995.5775800000001]
["Afirme|50 RC Otros","Afirme","50 RC Otros",211462.75385000001]
["Afirme|51 Maritimo y Transportes","Afirme","51 Maritimo y Transportes",420385.59318000003]
["Afirme|52 MyT Carga","Afirme","52 MyT Carga",189961.79881000001]
["Afirme|53 MyT Cascos","Afirme","53 MyT Cascos",230423.79437000002]
["Afirme|54 Incendio","Afirme","54 Incendio",616937.57507000002]
["Afirme|55 Riesgos Catastroficos","Afirme","55 Riesgos Catastroficos",388961.31539999996]
["Afirme|56 Terremoto y Erupcion Volcanica","Afirme","56 Terremoto y Erupcion Volcanica",158545.16511]
["Afirme|57 Huracan y Otros Riesgos Hidrometeorologicos","Afirme","57 Huracan y Otros Riesgos Hidrometeorologicos",230416.15028999999]
["Afirme|63 Diversos","Afirme","63 Diversos",883061.25876]
["Afirme|64 Miscelaneos","Afirme","64 Miscelaneos",202371.35855]
["Afirme|65 Tecnicos","Afirme","65 Tecnicos",680689.90020999999]
["Agroasemex|10 Total General","Agroasemex","10 Total General",6906763.8894100003]
["Agroasemex|11 Total General Sin Pensiones","Agroasemex","11 Total General Sin Pensiones",6906763.8894100003]
["Agroasemex|12 Vida Total","Agroasemex","12 Vida Total",58592.337049999995]
["Agroasemex|14 Vida Gpo y Col","Agroasemex","14 Vida Gpo y Col",58592.337049999995]
["Agroasemex|28 Accidentes y Enfermedades Total","Agroasemex","28 Accidentes y Enfermedades Total",0]
["Agroasemex|29 Accidentes Personales","Agroasemex","29 Accidentes Personales",0]
["Agroasemex|31 AP Gpo y Col","Agroasemex","31 AP Gpo y Col",0]
["Agroasemex|38 Daños Total","Agroasemex","38 Daños Total",6848171.5523600001]
["Agroasemex|45 Daños Sin Autos Total","Agroasemex","45 Daños Sin Autos Total",6848171.5523600001]
["Agroasemex|46 Responsabilidad Civil y Riesgos Profesionales","Agroasemex","46 Responsabilidad Civil y Riesgos Profesionales",208038.90716]
["Agroasemex|47 RC General","Agroasemex","47 RC General",183625.45311]
["Agroasemex|48 RC Aviones y Barcos","Agroasemex","48 RC Aviones y Barcos",2615.4619500000003]
["Agroasemex|49 RC Viajero","Agroasemex","49 RC Viajero",11251.91685]
["Agroasemex|50 RC Otros","Agroasemex","50 RC Otros",10546.07525]
["Agroasemex|51 Maritimo y Transportes","Agroasemex","51 Maritimo y Transportes",248588.62229]
["Agroasemex|52 MyT Carga","Agroasemex","52 MyT Carga",45596.643250000001]
["Agroasemex|53 MyT Cascos","Agroasemex","53 MyT Cascos",202991.97904000001]
["Agroasemex|54 Incendio","Agroasemex","54 Incendio",857386.42663]
["Agroasemex|55 Riesgos Catastroficos","Agroasemex","55 Riesgos Catastroficos",4270354.8989800001]
["Agroasemex|56 Terremoto y Erupcion Volcanica","Agroasemex","56 Terremoto y Erupcion Volcanica",1691690.9200499998]
["Agroasemex|57 Huracan y Otros Riesgos Hidrometeorologicos","Agroasemex","57 Huracan y Otros Riesgos Hidrometeorologicos",2486928.0831300002]
["Agroasemex|58 Otros Riesgos Catastroficos","Agroasemex","58 Otros Riesgos Catastroficos",91735.895799999998]
["Agroasemex|59 Agricola y de Animales","Agroasemex","59 Agricola y de Animales",36438.360939999999]
["Agroasemex|60 AyA Agricola","Agroasemex","60 AyA Agricola",7600.2942199999998]
["Agroasemex|61 AyA Otros","Agroasemex","61 AyA Otros",0]
["Agroasemex|62 AyA Pecuario","Agroasemex","62 AyA Pecuario",28838.066719999999]
["Agroasemex|63 Diversos","Agroasemex","63 Diversos",1227364.3363599998]
["Agroasemex|64 Miscelaneos","Agroasemex","64 Miscelaneos",324420.07101999997]
["Agroasemex|65 Tecnicos","Agroasemex","65 Tecnicos",902944.26534000004]
["AIG Seguros|10 Total General","AIG Seguros","10 Total General",6307111.0867400002]
["AIG Seguros|11 Total General Sin Pensiones","AIG Seguros","11 Total General Sin Pensiones",6307111.0867400002]
["AIG Seguros|28 Accidentes y Enfermedades Total","AIG Seguros","28 Accidentes y Enfermedades Total",251901.46852000002]
["AIG Seguros|29 Accidentes Personales","AIG Seguros","29 Accidentes Personales",251901.46852000002]
["AIG Seguros|30 AP Individual","AIG Seguros","30 AP Individual",64514.095820000002]
["AIG Seguros|31 AP Gpo y Col","AIG Seguros","31 AP Gpo y Col",187387.37269999998]
["AIG Seguros|38 Daños Total","AIG Seguros","38 Daños Total",6055209.6182200005]
["AIG Seguros|39 Automoviles Total","AIG Seguros","39 Automoviles Total",462168.84613999998]
["AIG Seguros|41 Automoviles Residentes","AIG Seguros","41 Automoviles Residentes",277541.65594000003]
["AIG Seguros|42 Camiones","AIG Seguros","42 Camiones",58779.307710000001]
[{"$f":"B72&\"|\"&C72","v":"AIG Seguros|43 Automoviles Turistas"},"AIG Seguros","43 Automoviles Turistas",112569.40155]
["AIG Seguros|44 Otros Automoviles y Obligatorios","AIG Seguros","44 Otros Automoviles y Obligatorios",13278.480939999999]
["AIG Seguros|45 Daños Sin Autos Total","AIG Seguros","45 Daños Sin Autos Total",5593040.7720799996]
["AIG Seguros|46 Responsabilidad Civil y Riesgos Profesionales","AIG Seguros","46 Responsabilidad Civil y Riesgos Profesionales",1561043.8060000001]
["AIG Seguros|47 RC General","AIG Seguros","47 RC General",1559612.3043900002]
["AIG Seguros|48 RC Aviones y Barcos","AIG Seguros","48 RC Aviones y Barcos",1431.50161]
["AIG Seguros|51 Maritimo y Transportes","AIG Seguros","51 Maritimo y Transportes",1021418.9604400001]
["AIG Seguros|52 MyT Carga","AIG Seguros","52 MyT Carga",1020142.51556]
["AIG Seguros|53 MyT Cascos","AIG Seguros","53 MyT Cascos",1276.4448799999998]
["AIG Seguros|54 Incendio","AIG Seguros","54 Incendio",2008154.30825]
["AIG Seguros|55 Riesgos Catastroficos","AIG Seguros","55 Riesgos Catastroficos",627897.27319000009]
["AIG Seguros|56 Terremoto y Erupcion Volcanica","AIG Seguros","56 Terremoto y Erupcion Volcanica",323917.55939999997]
["AIG Seguros|57 Huracan y Otros Riesgos Hidrometeorologicos","AIG Seguros","57 Huracan y Otros Riesgos Hidrometeorologicos",303979.71379000001]
["AIG Seguros|63 Diversos","AIG Seguros","63 Diversos",355872.85993000004]
["AIG Seguros|64 Miscelaneos","AIG Seguros","64 Miscelaneos",227603.15291999999]
["AIG Seguros|65 Tecnicos","AIG Seguros","65 Tecnicos",128269.70701]
["AIG Seguros|66 Credito","AIG Seguros","66 Credito",18653.564269999999]
["Allianz México|10 Total General","Allianz México","10 Total General",18949473.906669997]
["Allianz México|11 Total General Sin Pensiones","Allianz México","11 Total General Sin Pensiones",18949473.906669997]
["Allianz México|12 Vida Total","Allianz México","12 Vida Total",10326844.195729999]
["Allianz México|13 Vida Individual","Allianz México","13 Vida Individual",10083357.18551]
["Allianz México|14 Vida Gpo y Col","Allianz México","14 Vida Gpo y Col",243487.01022]
["Allianz México|28 Accidentes y Enfermedades Total","Allianz México","28 Accidentes y Enfermedades Total",2742629.40118]
["Allianz México|29 Accidentes Personales","Allianz México","29 Accidentes Personales",455.71339]
["Allianz México|30 AP Individual","Allianz México","30 AP Individual",0]
["Allianz México|31 AP Gpo y Col","Allianz México","31 AP Gpo y Col",455.71339]
["Allianz México|32 Gastos Medicos","Allianz México","32 Gastos Medicos",2742173.6877899999]
["Allianz México|33 GMM. Individual","Allianz México","33 GMM. Individual",1431523.11949]
["Allianz México|34 GMM. Gpo y Col","Allianz México","34 GMM. Gpo y Col",1310650.5682999999]
["Allianz México|38 Daños Total","Allianz México","38 Daños Total",5880000.3097600006]
["Allianz México|39 Automoviles Total","Allianz México","39 Automoviles Total",94928.503900000011]
["Allianz México|41 Automoviles Residentes","Allianz México","41 Automoviles Residentes",94928.503900000011]
["Allianz México|42 Camiones","Allianz México","42 Camiones",0]
["Allianz México|45 Daños Sin Autos Total","Allianz México","45 Daños Sin Autos Total",5785071.8058599997]
["Allianz México|46 Responsabilidad Civil y Riesgos Profesionales","Allianz México","46 Responsabilidad Civil y Riesgos Profesionales",308353.81883]
["Allianz México|47 RC General","Allianz México","47 RC General",284545.24674000003]
["Allianz México|48 RC Aviones y Barcos","Allianz México","48 RC Aviones y Barcos",23808.572090000001]
["Allianz México|50 RC Otros","Allianz México","50 RC Otros",0]
["Allianz México|51 Maritimo y Transportes","Allianz México","51 Maritimo y Transportes",298784.31656999997]
["Allianz México|52 MyT Carga","Allianz México","52 MyT Carga",245907.49616000001]
["Allianz México|53 MyT Cascos","Allianz México","53 MyT Cascos",52876.820409999993]
["Allianz México|54 Incendio","Allianz México","54 Incendio",909247.12358000001]
["Allianz México|55 Riesgos Catastroficos","Allianz México","55 Riesgos Catastroficos",447111.82975999999]
["Allianz México|56 Terremoto y Erupcion Volcanica","Allianz México","56 Terremoto y Erupcion Volcanica",195455.46946000002]
["Allianz México|57 Huracan y Otros Riesgos Hidrometeorologicos","Allianz México","57 Huracan y Otros Riesgos Hidrometeorologicos",251656.3603]
["Allianz México|63 Diversos","Allianz México","63 Diversos",3821574.7171199997]
["Allianz México|64 Miscelaneos","Allianz México","64 Miscelaneos",131328.34252999999]
["Allianz México|65 Tecnicos","Allianz México","65 Tecnicos",3690246.3745900001]
["ANA|10 Total General","ANA","10 Total General",3108861.0427800003]
["ANA|11 Total General Sin Pensiones","ANA","11 Total General Sin Pensiones",3108861.0427800003]
["ANA|38 Daños Total","ANA","38 Daños Total",3108861.0427800003]
["ANA|39 Automoviles Total","ANA","39 Automoviles Total",3108861.0427800003]
["ANA|41 Automoviles Residentes","ANA","41 Automoviles Residentes",1748125.49896]
["ANA|42 Camiones","ANA","42 Camiones",1162917.6027200001]
["ANA|43 Automoviles Turistas","ANA","43 Automoviles Turistas",138151.59900999998]
["ANA|44 Otros Automoviles y Obligatorios","ANA","44 Otros Automoviles y Obligatorios",59666.342090000006]
["Aserta Seguros de Vida|10 Total General","Aserta Seguros de Vida","10 Total General",596.44601999999998]
["Aserta Seguros de Vida|11 Total General Sin Pensiones","Aserta Seguros de Vida","11 Total General Sin Pensiones",596.44601999999998]
["Aserta Seguros de Vida|12 Vida Total","Aserta Seguros de Vida","12 Vida Total",596.44601999999998]
["Aserta Seguros de Vida|13 Vida Individual","Aserta Seguros de Vida","13 Vida Individual",2.65]
["Aserta Seguros de Vida|14 Vida Gpo y Col","Aserta Seguros de Vida","14 Vida Gpo y Col",593.79602]
["Aserta Seguros de Vida|28 Accidentes y Enfermedades Total","Aserta Seguros de Vida","28 Accidentes y Enfermedades Total",0]
["Aserta Seguros de Vida|29 Accidentes Personales","Aserta Seguros de Vida","29 Accidentes Personales",0]
["Aserta Seguros de Vida|30 AP Individual","Aserta Seguros de Vida","30 AP Individual",0]
[{"$f":"B136&\"|\"&C136","v":"Aserta Seguros de Vida|31 AP Gpo y Col"},"Aserta Seguros de Vida","31 AP Gpo y Col",0]
["Aserta Seguros de Vida|32 Gastos Medicos","Aserta Seguros de Vida","32 Gastos Medicos",0]
["Aserta Seguros de Vida|33 GMM. Individual","Aserta Seguros de Vida","33 GMM. Individual",0]
["Assurant Daños|10 Total General","Assurant Daños","10 Total General",195056.23666]
["Assurant Daños|11 Total General Sin Pensiones","Assurant Daños","11 Total General Sin Pensiones",195056.23666]
["Assurant Daños|38 Daños Total","Assurant Daños","38 Daños Total",195056.23666]
["Assurant Daños|39 Automoviles Total","Assurant Daños","39 Automoviles Total",16822.686879999997]
["Assurant Daños|41 Automoviles Residentes","Assurant Daños","41 Automoviles Residentes",16822.686879999997]
["Assurant Daños|45 Daños Sin Autos Total","Assurant Daños","45 Daños Sin Autos Total",178233.54978]
["Assurant Daños|46 Responsabilidad Civil y Riesgos Profesionales","Assurant Daños","46 Responsabilidad Civil y Riesgos Profesionales",0]
["Assurant Daños|47 RC General","Assurant Daños","47 RC General",0]
["Assurant Daños|54 Incendio","Assurant Daños","54 Incendio",0]
["Assurant Daños|55 Riesgos Catastroficos","Assurant Daños","55 Riesgos Catastroficos",0]
["Assurant Daños|56 Terremoto y Erupcion Volcanica","Assurant Daños","56 Terremoto y Erupcion Volcanica",0]
["Assurant Daños|57 Huracan y Otros Riesgos Hidrometeorologicos","Assurant Daños","57 Huracan y Otros Riesgos Hidrometeorologicos",0]
["Assurant Daños|63 Diversos","Assurant Daños","63 Diversos",178233.54978]
["Assurant Daños|64 Miscelaneos","Assurant Daños","64 Miscelaneos",142361.14419999998]
["Assurant Daños|65 Tecnicos","Assurant Daños","65 Tecnicos",35872.405579999999]
["Assurant Vida|10 Total General","Assurant Vida","10 Total General",1073592.1059400002]
["Assurant Vida|11 Total General Sin Pensiones","Assurant Vida","11 Total General Sin Pensiones",1073592.1059400002]
["Assurant Vida|12 Vida Total","Assurant Vida","12 Vida Total",1073592.1059400002]
["Assurant Vida|14 Vida Gpo y Col","Assurant Vida","14 Vida Gpo y Col",1073592.1059400002]
["Assurant Vida|28 Accidentes y Enfermedades Total","Assurant Vida","28 Accidentes y Enfermedades Total",0]
["Assurant Vida|29 Accidentes Personales","Assurant Vida","29 Accidentes Personales",0]
["Assurant Vida|30 AP Individual","Assurant Vida","30 AP Individual",0]
["Assurant Vida|31 AP Gpo y Col","Assurant Vida","31 AP Gpo y Col",0]
["Assurant Vida|32 Gastos Medicos","Assurant Vida","32 Gastos Medicos",0]
["Assurant Vida|33 GMM. Individual","Assurant Vida","33 GMM. Individual",0]
["Atlas|10 Total General","Atlas","10 Total General",17397320.09973]
["Atlas|11 Total General Sin Pensiones","Atlas","11 Total General Sin Pensiones",17397320.09973]
["Atlas|12 Vida Total","Atlas","12 Vida Total",2612427.2826199997]
["Atlas|13 Vida Individual","Atlas","13 Vida Individual",925997.38737999997]
["Atlas|14 Vida Gpo y Col","Atlas","14 Vida Gpo y Col",1686429.89524]
["Atlas|28 Accidentes y Enfermedades Total","Atlas","28 Accidentes y Enfermedades Total",5367995.9838100001]
["Atlas|29 Accidentes Personales","Atlas","29 Accidentes Personales",157749.65040000001]
["Atlas|30 AP Individual","Atlas","30 AP Individual",3704.4926499999997]
["Atlas|31 AP Gpo y Col","Atlas","31 AP Gpo y Col",154045.15775000001]
["Atlas|32 Gastos Medicos","Atlas","32 Gastos Medicos",5210246.3334099995]
["Atlas|33 GMM. Individual","Atlas","33 GMM. Individual",1290733.9551500001]
["Atlas|34 GMM. Gpo y Col","Atlas","34 GMM. Gpo y Col",3919512.3782600001]
["Atlas|38 Daños Total","Atlas","38 Daños Total",9416896.8333000001]
["Atlas|39 Automoviles Total","Atlas","39 Automoviles Total",3322655.0425300002]
["Atlas|41 Automoviles Residentes","Atlas","41 Automoviles Residentes",2044787.8211500002]
["Atlas|42 Camiones","Atlas","42 Camiones",1214209.94264]
["Atlas|43 Automoviles Turistas","Atlas","43 Automoviles Turistas",3471.2120399999999]
["Atlas|44 Otros Automoviles y Obligatorios","Atlas","44 Otros Automoviles y Obligatorios",60186.066700000003]
["Atlas|45 Daños Sin Autos Total","Atlas","45 Daños Sin Autos Total",6094241.7907699998]
["Atlas|46 Responsabilidad Civil y Riesgos Profesionales","Atlas","46 Responsabilidad Civil y Riesgos Profesionales",696071.75341]
["Atlas|47 RC General","Atlas","47 RC General",482339.63020999997]
["Atlas|48 RC Aviones y Barcos","Atlas","48 RC Aviones y Barcos",197804.80449000001]
["Atlas|49 RC Viajero","Atlas","49 RC Viajero",15927.318710000001]
["Atlas|51 Maritimo y Transportes","Atlas","51 Maritimo y Transportes",1191596.9223]
["Atlas|52 MyT Carga","Atlas","52 MyT Carga",737328.44547999999]
["Atlas|53 MyT Cascos","Atlas","53 MyT Cascos",454268.47681999998]
["Atlas|54 Incendio","Atlas","54 Incendio",994153.74763999996]
["Atlas|55 Riesgos Catastroficos","Atlas","55 Riesgos Catastroficos",1394352.2986099999]
["Atlas|56 Terremoto y Erupcion Volcanica","Atlas","56 Terremoto y Erupcion Volcanica",474624.35939]
["Atlas|57 Huracan y Otros Riesgos Hidrometeorologicos","Atlas","57 Huracan y Otros Riesgos Hidrometeorologicos",919727.93922000006]
["Atlas|63 Diversos","Atlas","63 Diversos",1818067.0688099999]
["Atlas|64 Miscelaneos","Atlas","64 Miscelaneos",605510.88146000006]
["Atlas|65 Tecnicos","Atlas","65 Tecnicos",1212556.1873499998]
["Atradius|10 Total General","Atradius","10 Total General",808718.95713]
["Atradius|11 Total General Sin Pensiones","Atradius","11 Total General Sin Pensiones",808718.95713]
["Atradius|38 Daños Total","Atradius","38 Daños Total",808718.95713]
[{"$f":"B200&\"|\"&C200","v":"Atradius|45 Daños Sin Autos Total"},"Atradius","45 Daños Sin Autos Total",808718.95713]
["Atradius|66 Credito","Atradius","66 Credito",808718.95713]
["AXA Salud|10 Total General","AXA Salud","10 Total General",573796.81754999992]
["AXA Salud|11 Total General Sin Pensiones","AXA Salud","11 Total General Sin Pensiones",573796.81754999992]
["AXA Salud|28 Accidentes y Enfermedades Total","AXA Salud","28 Accidentes y Enfermedades Total",573796.81754999992]
["AXA Salud|35 Salud","AXA Salud","35 Salud",573796.81754999992]
["AXA Salud|36 Salud Individual","AXA Salud","36 Salud Individual",46820.494579999999]
["AXA Salud|37 Salud Gpo y Col","AXA Salud","37 Salud Gpo y Col",526976.32296999998]
["AXA Seguros|10 Total General","AXA Seguros","10 Total General",47014413.873259999]
["AXA Seguros|11 Total General Sin Pensiones","AXA Seguros","11 Total General Sin Pensiones",47014413.873259999]
["AXA Seguros|12 Vida Total","AXA Seguros","12 Vida Total",5473617.5753300004]
["AXA Seguros|13 Vida Individual","AXA Seguros","13 Vida Individual",3878481.89438]
["AXA Seguros|14 Vida Gpo y Col","AXA Seguros","14 Vida Gpo y Col",1595135.68095]
["AXA Seguros|28 Accidentes y Enfermedades Total","AXA Seguros","28 Accidentes y Enfermedades Total",22978906.903140001]
["AXA Seguros|29 Accidentes Personales","AXA Seguros","29 Accidentes Personales",301924.40081000002]
["AXA Seguros|30 AP Individual","AXA Seguros","30 AP Individual",195902.41178999998]
["AXA Seguros|31 AP Gpo y Col","AXA Seguros","31 AP Gpo y Col",106021.98901999999]
["AXA Seguros|32 Gastos Medicos","AXA Seguros","32 Gastos Medicos",22676982.502330001]
["AXA Seguros|33 GMM. Individual","AXA Seguros","33 GMM. Individual",14422580.99162]
["AXA Seguros|34 GMM. Gpo y Col","AXA Seguros","34 GMM. Gpo y Col",8254401.5107100001]
["AXA Seguros|38 Daños Total","AXA Seguros","38 Daños Total",18561889.394790001]
["AXA Seguros|39 Automoviles Total","AXA Seguros","39 Automoviles Total",9767841.57498]
["AXA Seguros|41 Automoviles Residentes","AXA Seguros","41 Automoviles Residentes",6552489.1628900003]
["AXA Seguros|42 Camiones","AXA Seguros","42 Camiones",3165070.9844599999]
["AXA Seguros|43 Automoviles Turistas","AXA Seguros","43 Automoviles Turistas",43402.193070000001]
["AXA Seguros|44 Otros Automoviles y Obligatorios","AXA Seguros","44 Otros Automoviles y Obligatorios",6879.2345599999999]
["AXA Seguros|45 Daños Sin Autos Total","AXA Seguros","45 Daños Sin Autos Total",8794047.8198100012]
["AXA Seguros|46 Responsabilidad Civil y Riesgos Profesionales","AXA Seguros","46 Responsabilidad Civil y Riesgos Profesionales",1055886.82226]
["AXA Seguros|47 RC General","AXA Seguros","47 RC General",617537.86348000006]
["AXA Seguros|48 RC Aviones y Barcos","AXA Seguros","48 RC Aviones y Barcos",81536.995319999987]
["AXA Seguros|49 RC Viajero","AXA Seguros","49 RC Viajero",131893.69690000001]
["AXA Seguros|50 RC Otros","AXA Seguros","50 RC Otros",224918.26655999999]
["AXA Seguros|51 Maritimo y Transportes","AXA Seguros","51 Maritimo y Transportes",981796.89121000003]
["AXA Seguros|52 MyT Carga","AXA Seguros","52 MyT Carga",820862.68080999993]
["AXA Seguros|53 MyT Cascos","AXA Seguros","53 MyT Cascos",160934.21040000001]
["AXA Seguros|54 Incendio","AXA Seguros","54 Incendio",1650722.5448]
["AXA Seguros|55 Riesgos Catastroficos","AXA Seguros","55 Riesgos Catastroficos",3050583.6463899999]
["AXA Seguros|56 Terremoto y Erupcion Volcanica","AXA Seguros","56 Terremoto y Erupcion Volcanica",858226.22881]
["AXA Seguros|57 Huracan y Otros Riesgos Hidrometeorologicos","AXA Seguros","57 Huracan y Otros Riesgos Hidrometeorologicos",2192357.4175800001]
["AXA Seguros|59 Agricola y de Animales","AXA Seguros","59 Agricola y de Animales",0]
["AXA Seguros|60 AyA Agricola","AXA Seguros","60 AyA Agricola",0]
["AXA Seguros|62 AyA Pecuario","AXA Seguros","62 AyA Pecuario",0]
["AXA Seguros|63 Diversos","AXA Seguros","63 Diversos",2055057.91515]
["AXA Seguros|64 Miscelaneos","AXA Seguros","64 Miscelaneos",1035290.29002]
["AXA Seguros|65 Tecnicos","AXA Seguros","65 Tecnicos",1019767.6251299999]
["Banorte|10 Total General","Banorte","10 Total General",28914191.644259997]
["Banorte|11 Total General Sin Pensiones","Banorte","11 Total General Sin Pensiones",28914191.644259997]
["Banorte|12 Vida Total","Banorte","12 Vida Total",15636401.477530001]
["Banorte|13 Vida Individual","Banorte","13 Vida Individual",7642259.6421600003]
["Banorte|14 Vida Gpo y Col","Banorte","14 Vida Gpo y Col",7994141.8353699995]
["Banorte|28 Accidentes y Enfermedades Total","Banorte","28 Accidentes y Enfermedades Total",3990821.2066799998]
["Banorte|29 Accidentes Personales","Banorte","29 Accidentes Personales",255711.17413]
["Banorte|30 AP Individual","Banorte","30 AP Individual",190082.72454]
["Banorte|31 AP Gpo y Col","Banorte","31 AP Gpo y Col",65628.449590000004]
["Banorte|32 Gastos Medicos","Banorte","32 Gastos Medicos",3735110.0325500001]
["Banorte|33 GMM. Individual","Banorte","33 GMM. Individual",953185.04870000004]
["Banorte|34 GMM. Gpo y Col","Banorte","34 GMM. Gpo y Col",2781924.98385]
["Banorte|38 Daños Total","Banorte","38 Daños Total",9286968.9600499999]
["Banorte|39 Automoviles Total","Banorte","39 Automoviles Total",5099589.1417100001]
["Banorte|41 Automoviles Residentes","Banorte","41 Automoviles Residentes",3778732.27092]
["Banorte|42 Camiones","Banorte","42 Camiones",1320856.8707900001]
["Banorte|43 Automoviles Turistas","Banorte","43 Automoviles Turistas",0]
["Banorte|45 Daños Sin Autos Total","Banorte","45 Daños Sin Autos Total",4187379.8183400002]
["Banorte|46 Responsabilidad Civil y Riesgos Profesionales","Banorte","46 Responsabilidad Civil y Riesgos Profesionales",281843.67189999996]
[{"$f":"B264&\"|\"&C264","v":"Banorte|47 RC General"},"Banorte","47 RC General",219852.40257000001]
["Banorte|48 RC Aviones y Barcos","Banorte","48 RC Aviones y Barcos",186.25197]
["Banorte|49 RC Viajero","Banorte","49 RC Viajero",61805.017359999998]
["Banorte|51 Maritimo y Transportes","Banorte","51 Maritimo y Transportes",260858.81865999999]
["Banorte|52 MyT Carga","Banorte","52 MyT Carga",260402.62161999999]
["Banorte|53 MyT Cascos","Banorte","53 MyT Cascos",456.19703999999996]
["Banorte|54 Incendio","Banorte","54 Incendio",1286101.1003399999]
["Banorte|55 Riesgos Catastroficos","Banorte","55 Riesgos Catastroficos",1178347.6788900001]
["Banorte|56 Terremoto y Erupcion Volcanica","Banorte","56 Terremoto y Erupcion Volcanica",383239.49960000004]
["Banorte|57 Huracan y Otros Riesgos Hidrometeorologicos","Banorte","57 Huracan y Otros Riesgos Hidrometeorologicos",795108.17929]
["Banorte|59 Agricola y de Animales","Banorte","59 Agricola y de Animales",13024.53076]
["Banorte|60 AyA Agricola","Banorte","60 AyA Agricola",13024.53076]
["Banorte|63 Diversos","Banorte","63 Diversos",1167204.01779]
["Banorte|64 Miscelaneos","Banorte","64 Miscelaneos",890826.46617999999]
["Banorte|65 Tecnicos","Banorte","65 Tecnicos",276377.55161000002]
["BBVA Bancomer|10 Total General","BBVA Bancomer","10 Total General",54574701.129000001]
["BBVA Bancomer|11 Total General Sin Pensiones","BBVA Bancomer","11 Total General Sin Pensiones",54574701.129000001]
["BBVA Bancomer|12 Vida Total","BBVA Bancomer","12 Vida Total",43150700.472999997]
["BBVA Bancomer|13 Vida Individual","BBVA Bancomer","13 Vida Individual",39329878.773999996]
["BBVA Bancomer|14 Vida Gpo y Col","BBVA Bancomer","14 Vida Gpo y Col",3820821.699]
["BBVA Bancomer|28 Accidentes y Enfermedades Total","BBVA Bancomer","28 Accidentes y Enfermedades Total",570220.68910000008]
["BBVA Bancomer|29 Accidentes Personales","BBVA Bancomer","29 Accidentes Personales",570213.95059999998]
["BBVA Bancomer|30 AP Individual","BBVA Bancomer","30 AP Individual",554529.94720000005]
["BBVA Bancomer|31 AP Gpo y Col","BBVA Bancomer","31 AP Gpo y Col",15684.003429999999]
["BBVA Bancomer|32 Gastos Medicos","BBVA Bancomer","32 Gastos Medicos",6.7384799999999991]
["BBVA Bancomer|33 GMM. Individual","BBVA Bancomer","33 GMM. Individual",6.7384799999999991]
["BBVA Bancomer|38 Daños Total","BBVA Bancomer","38 Daños Total",10853779.967]
["BBVA Bancomer|39 Automoviles Total","BBVA Bancomer","39 Automoviles Total",6413295.8109999998]
["BBVA Bancomer|41 Automoviles Residentes","BBVA Bancomer","41 Automoviles Residentes",5222950.3]
["BBVA Bancomer|42 Camiones","BBVA Bancomer","42 Camiones",1190345.51]
["BBVA Bancomer|45 Daños Sin Autos Total","BBVA Bancomer","45 Daños Sin Autos Total",4440484.1562399995]
["BBVA Bancomer|46 Responsabilidad Civil y Riesgos Profesionales","BBVA Bancomer","46 Responsabilidad Civil y Riesgos Profesionales",138422.03330000001]
["BBVA Bancomer|47 RC General","BBVA Bancomer","47 RC General",138422.03330000001]
["BBVA Bancomer|51 Maritimo y Transportes","BBVA Bancomer","51 Maritimo y Transportes",788.24324000000001]
["BBVA Bancomer|52 MyT Carga","BBVA Bancomer","52 MyT Carga",140.39034000000001]
["BBVA Bancomer|53 MyT Cascos","BBVA Bancomer","53 MyT Cascos",647.85289999999998]
["BBVA Bancomer|54 Incendio","BBVA Bancomer","54 Incendio",722527.2337000001]
["BBVA Bancomer|55 Riesgos Catastroficos","BBVA Bancomer","55 Riesgos Catastroficos",1443305.1869999999]
["BBVA Bancomer|56 Terremoto y Erupcion Volcanica","BBVA Bancomer","56 Terremoto y Erupcion Volcanica",842095.96029999992]
["BBVA Bancomer|57 Huracan y Otros Riesgos Hidrometeorologicos","BBVA Bancomer","57 Huracan y Otros Riesgos Hidrometeorologicos",601209.22699999996]
["BBVA Bancomer|63 Diversos","BBVA Bancomer","63 Diversos",2135441.4589999998]
["BBVA Bancomer|64 Miscelaneos","BBVA Bancomer","64 Miscelaneos",2055607.1470000001]
["BBVA Bancomer|65 Tecnicos","BBVA Bancomer","65 Tecnicos",79834.311989999987]
["BBVA Bancomer Salud|10 Total General","BBVA Bancomer Salud","10 Total General",972061.24409000005]
["BBVA Bancomer Salud|11 Total General Sin Pensiones","BBVA Bancomer Salud","11 Total General Sin Pensiones",972061.24409000005]
["BBVA Bancomer Salud|28 Accidentes y Enfermedades Total","BBVA Bancomer Salud","28 Accidentes y Enfermedades Total",972061.24409000005]
["BBVA Bancomer Salud|32 Gastos Medicos","BBVA Bancomer Salud","32 Gastos Medicos",962674.70071]
["BBVA Bancomer Salud|33 GMM. Individual","BBVA Bancomer Salud","33 GMM. Individual",377141.99537000002]
["BBVA Bancomer Salud|34 GMM. Gpo y Col","BBVA Bancomer Salud","34 GMM. Gpo y Col",585532.70533999999]
["BBVA Bancomer Salud|35 Salud","BBVA Bancomer Salud","35 Salud",9386.543380000001]
["BBVA Bancomer Salud|36 Salud Individual","BBVA Bancomer Salud","36 Salud Individual",689.05657999999994]
["BBVA Bancomer Salud|37 Salud Gpo y Col","BBVA Bancomer Salud","37 Salud Gpo y Col",8697.4868000000006]
["Berkley Seguros|10 Total General","Berkley Seguros","10 Total General",636056.93861000007]
["Berkley Seguros|11 Total General Sin Pensiones","Berkley Seguros","11 Total General Sin Pensiones",636056.93861000007]
["Berkley Seguros|38 Daños Total","Berkley Seguros","38 Daños Total",636056.93861000007]
["Berkley Seguros|45 Daños Sin Autos Total","Berkley Seguros","45 Daños Sin Autos Total",636056.93861000007]
["Berkley Seguros|46 Responsabilidad Civil y Riesgos Profesionales","Berkley Seguros","46 Responsabilidad Civil y Riesgos Profesionales",209670.16287]
["Berkley Seguros|47 RC General","Berkley Seguros","47 RC General",153785.75268000001]
["Berkley Seguros|50 RC Otros","Berkley Seguros","50 RC Otros",55884.410189999995]
["Berkley Seguros|51 Maritimo y Transportes","Berkley Seguros","51 Maritimo y Transportes",214872.53633]
["Berkley Seguros|52 MyT Carga","Berkley Seguros","52 MyT Carga",214872.53633]
["Berkley Seguros|54 Incendio","Berkley Seguros","54 Incendio",16045.89113]
["Berkley Seguros|55 Riesgos Catastroficos","Berkley Seguros","55 Riesgos Catastroficos",24475.25533]
["Berkley Seguros|56 Terremoto y Erupcion Volcanica","Berkley Seguros","56 Terremoto y Erupcion Volcanica",19290.03759]
[{"$f":"B328&\"|\"&C328","v":"Berkley Seguros|57 Huracan y Otros Riesgos Hidrometeorologicos"},"Berkley Seguros","57 Huracan y Otros Riesgos Hidrometeorologicos",5185.21774]
["Berkley Seguros|63 Diversos","Berkley Seguros","63 Diversos",170993.09294999999]
["Berkley Seguros|64 Miscelaneos","Berkley Seguros","64 Miscelaneos",26929.149690000002]
["Berkley Seguros|65 Tecnicos","Berkley Seguros","65 Tecnicos",144063.94326]
["BUPA México|10 Total General","BUPA México","10 Total General",4031130.8302600002]
["BUPA México|11 Total General Sin Pensiones","BUPA México","11 Total General Sin Pensiones",4031130.8302600002]
["BUPA México|28 Accidentes y Enfermedades Total","BUPA México","28 Accidentes y Enfermedades Total",4031130.8302600002]
["BUPA México|32 Gastos Medicos","BUPA México","32 Gastos Medicos",4031130.8302600002]
["BUPA México|33 GMM. Individual","BUPA México","33 GMM. Individual",3485832.6670300001]
["BUPA México|34 GMM. Gpo y Col","BUPA México","34 GMM. Gpo y Col",545298.16323000006]
["Cardif Seguros Generales|10 Total General","Cardif Seguros Generales","10 Total General",2044435.0795100001]
["Cardif Seguros Generales|11 Total General Sin Pensiones","Cardif Seguros Generales","11 Total General Sin Pensiones",2044435.0795100001]
["Cardif Seguros Generales|38 Daños Total","Cardif Seguros Generales","38 Daños Total",2044435.0795100001]
["Cardif Seguros Generales|39 Automoviles Total","Cardif Seguros Generales","39 Automoviles Total",1000216.26332]
["Cardif Seguros Generales|44 Otros Automoviles y Obligatorios","Cardif Seguros Generales","44 Otros Automoviles y Obligatorios",1000216.26332]
["Cardif Seguros Generales|45 Daños Sin Autos Total","Cardif Seguros Generales","45 Daños Sin Autos Total",1044218.81619]
["Cardif Seguros Generales|46 Responsabilidad Civil y Riesgos Profesionales","Cardif Seguros Generales","46 Responsabilidad Civil y Riesgos Profesionales",2259.0123799999997]
["Cardif Seguros Generales|47 RC General","Cardif Seguros Generales","47 RC General",2259.0123799999997]
["Cardif Seguros Generales|54 Incendio","Cardif Seguros Generales","54 Incendio",38669.577100000002]
["Cardif Seguros Generales|55 Riesgos Catastroficos","Cardif Seguros Generales","55 Riesgos Catastroficos",287935.15327000001]
["Cardif Seguros Generales|56 Terremoto y Erupcion Volcanica","Cardif Seguros Generales","56 Terremoto y Erupcion Volcanica",247267.51193000001]
["Cardif Seguros Generales|57 Huracan y Otros Riesgos Hidrometeorologicos","Cardif Seguros Generales","57 Huracan y Otros Riesgos Hidrometeorologicos",40667.641340000002]
["Cardif Seguros Generales|63 Diversos","Cardif Seguros Generales","63 Diversos",715355.07344000007]
["Cardif Seguros Generales|64 Miscelaneos","Cardif Seguros Generales","64 Miscelaneos",700728.82798000006]
["Cardif Seguros Generales|65 Tecnicos","Cardif Seguros Generales","65 Tecnicos",14626.24546]
["Cardif Vida|10 Total General","Cardif Vida","10 Total General",2952222.39597]
["Cardif Vida|11 Total General Sin Pensiones","Cardif Vida","11 Total General Sin Pensiones",2952222.39597]
["Cardif Vida|12 Vida Total","Cardif Vida","12 Vida Total",2711266.1441299999]
["Cardif Vida|13 Vida Individual","Cardif Vida","13 Vida Individual",225169.70769000001]
["Cardif Vida|14 Vida Gpo y Col","Cardif Vida","14 Vida Gpo y Col",2486096.4364399998]
["Cardif Vida|28 Accidentes y Enfermedades Total","Cardif Vida","28 Accidentes y Enfermedades Total",240956.25184000001]
["Cardif Vida|29 Accidentes Personales","Cardif Vida","29 Accidentes Personales",37541.127310000003]
["Cardif Vida|30 AP Individual","Cardif Vida","30 AP Individual",33598.09865]
["Cardif Vida|31 AP Gpo y Col","Cardif Vida","31 AP Gpo y Col",3943.0286599999999]
["Cardif Vida|32 Gastos Medicos","Cardif Vida","32 Gastos Medicos",203415.12453]
["Cardif Vida|33 GMM. Individual","Cardif Vida","33 GMM. Individual",198459.34677999999]
["Cardif Vida|34 GMM. Gpo y Col","Cardif Vida","34 GMM. Gpo y Col",4955.7777500000002]
["Centauro|10 Total General","Centauro","10 Total General",183069.31599999999]
["Centauro|11 Total General Sin Pensiones","Centauro","11 Total General Sin Pensiones",183069.31599999999]
["Centauro|28 Accidentes y Enfermedades Total","Centauro","28 Accidentes y Enfermedades Total",183069.31599999999]
["Centauro|32 Gastos Medicos","Centauro","32 Gastos Medicos",87539.820170000006]
["Centauro|34 GMM. Gpo y Col","Centauro","34 GMM. Gpo y Col",87539.820170000006]
["Centauro|35 Salud","Centauro","35 Salud",95529.495840000003]
["Centauro|36 Salud Individual","Centauro","36 Salud Individual",927.03399999999999]
["Centauro|37 Salud Gpo y Col","Centauro","37 Salud Gpo y Col",94602.461840000004]
["Chubb Seguros México|10 Total General","Chubb Seguros México","10 Total General",20933874.303799998]
["Chubb Seguros México|11 Total General Sin Pensiones","Chubb Seguros México","11 Total General Sin Pensiones",20933874.303799998]
["Chubb Seguros México|12 Vida Total","Chubb Seguros México","12 Vida Total",969501.00555]
["Chubb Seguros México|13 Vida Individual","Chubb Seguros México","13 Vida Individual",260789.01966999998]
["Chubb Seguros México|14 Vida Gpo y Col","Chubb Seguros México","14 Vida Gpo y Col",708711.98588000005]
["Chubb Seguros México|28 Accidentes y Enfermedades Total","Chubb Seguros México","28 Accidentes y Enfermedades Total",1644194.03728]
["Chubb Seguros México|29 Accidentes Personales","Chubb Seguros México","29 Accidentes Personales",1316192.42717]
["Chubb Seguros México|30 AP Individual","Chubb Seguros México","30 AP Individual",779965.26713000005]
["Chubb Seguros México|31 AP Gpo y Col","Chubb Seguros México","31 AP Gpo y Col",536227.16003999999]
["Chubb Seguros México|32 Gastos Medicos","Chubb Seguros México","32 Gastos Medicos",328001.61011000001]
["Chubb Seguros México|33 GMM. Individual","Chubb Seguros México","33 GMM. Individual",324570.17131999996]
["Chubb Seguros México|34 GMM. Gpo y Col","Chubb Seguros México","34 GMM. Gpo y Col",3431.4387900000002]
["Chubb Seguros México|38 Daños Total","Chubb Seguros México","38 Daños Total",18320179.26097]
["Chubb Seguros México|39 Automoviles Total","Chubb Seguros México","39 Automoviles Total",12177737.158159999]
["Chubb Seguros México|41 Automoviles Residentes","Chubb Seguros México","41 Automoviles Residentes",8208192.3023000006]
["Chubb Seguros México|42 Camiones","Chubb Seguros México","42 Camiones",3534301.0352099999]
["Chubb Seguros México|43 Automoviles Turistas","Chubb Seguros México","43 Automoviles Turistas",435306.38314999995]
["Chubb Seguros México|44 Otros Automoviles y Obligatorios","Chubb Seguros México","44 Otros Automoviles y Obligatorios",-62.5625]
["Chubb Seguros México|45 Daños Sin Autos Total","Chubb Seguros México","45 Daños Sin Autos Total",6142442.1028100001]
[{"$f":"B392&\"|\"&C392","v":"Chubb Seguros México|46 Responsabilidad Civil y Riesgos Profesionales"},"Chubb Seguros México","46 Responsabilidad Civil y Riesgos Profesionales",1656733.0943499999]
["Chubb Seguros México|47 RC General","Chubb Seguros México","47 RC General",1644027.7747899999]
["Chubb Seguros México|48 RC Aviones y Barcos","Chubb Seguros México","48 RC Aviones y Barcos",10.181610000000001]
["Chubb Seguros México|49 RC Viajero","Chubb Seguros México","49 RC Viajero",12695.137949999998]
["Chubb Seguros México|50 RC Otros","Chubb Seguros México","50 RC Otros",0]
["Chubb Seguros México|51 Maritimo y Transportes","Chubb Seguros México","51 Maritimo y Transportes",1624849.27428]
["Chubb Seguros México|52 MyT Carga","Chubb Seguros México","52 MyT Carga",1591211.87063]
["Chubb Seguros México|53 MyT Cascos","Chubb Seguros México","53 MyT Cascos",33637.40365]
["Chubb Seguros México|54 Incendio","Chubb Seguros México","54 Incendio",1016976.40147]
["Chubb Seguros México|55 Riesgos Catastroficos","Chubb Seguros México","55 Riesgos Catastroficos",797980.24060999998]
["Chubb Seguros México|56 Terremoto y Erupcion Volcanica","Chubb Seguros México","56 Terremoto y Erupcion Volcanica",332196.42144000001]
["Chubb Seguros México|57 Huracan y Otros Riesgos Hidrometeorologicos","Chubb Seguros México","57 Huracan y Otros Riesgos Hidrometeorologicos",465783.81917000003]
["Chubb Seguros México|63 Diversos","Chubb Seguros México","63 Diversos",1045903.0921]
["Chubb Seguros México|64 Miscelaneos","Chubb Seguros México","64 Miscelaneos",462040.04080999998]
["Chubb Seguros México|65 Tecnicos","Chubb Seguros México","65 Tecnicos",583863.05128999997]
["Citibanamex Pensiones|10 Total General","Citibanamex Pensiones","10 Total General",21149.46084]
["Citibanamex Pensiones|15 Pensiones Total","Citibanamex Pensiones","15 Pensiones Total",21149.46084]
["Citibanamex Pensiones|16 Pensiones IMSS","Citibanamex Pensiones","16 Pensiones IMSS",21149.46084]
["Citibanamex Seguros|10 Total General","Citibanamex Seguros","10 Total General",17073983.286419999]
["Citibanamex Seguros|11 Total General Sin Pensiones","Citibanamex Seguros","11 Total General Sin Pensiones",17073983.286419999]
["Citibanamex Seguros|12 Vida Total","Citibanamex Seguros","12 Vida Total",16107597.506620001]
["Citibanamex Seguros|13 Vida Individual","Citibanamex Seguros","13 Vida Individual",14283418.777280001]
["Citibanamex Seguros|14 Vida Gpo y Col","Citibanamex Seguros","14 Vida Gpo y Col",1824178.7293399998]
["Citibanamex Seguros|28 Accidentes y Enfermedades Total","Citibanamex Seguros","28 Accidentes y Enfermedades Total",829155.49751000002]
["Citibanamex Seguros|29 Accidentes Personales","Citibanamex Seguros","29 Accidentes Personales",828764.60412999999]
["Citibanamex Seguros|30 AP Individual","Citibanamex Seguros","30 AP Individual",519182.50385000004]
["Citibanamex Seguros|31 AP Gpo y Col","Citibanamex Seguros","31 AP Gpo y Col",309582.10027999996]
["Citibanamex Seguros|32 Gastos Medicos","Citibanamex Seguros","32 Gastos Medicos",390.89337999999998]
["Citibanamex Seguros|33 GMM. Individual","Citibanamex Seguros","33 GMM. Individual",390.89337999999998]
["Citibanamex Seguros|34 GMM. Gpo y Col","Citibanamex Seguros","34 GMM. Gpo y Col",0]
["Citibanamex Seguros|38 Daños Total","Citibanamex Seguros","38 Daños Total",137230.28229]
["Citibanamex Seguros|39 Automoviles Total","Citibanamex Seguros","39 Automoviles Total",-15.65995]
["Citibanamex Seguros|41 Automoviles Residentes","Citibanamex Seguros","41 Automoviles Residentes",-15.65995]
["Citibanamex Seguros|45 Daños Sin Autos Total","Citibanamex Seguros","45 Daños Sin Autos Total",137245.94224]
["Citibanamex Seguros|46 Responsabilidad Civil y Riesgos Profesionales","Citibanamex Seguros","46 Responsabilidad Civil y Riesgos Profesionales",5505.7655999999997]
["Citibanamex Seguros|47 RC General","Citibanamex Seguros","47 RC General",5505.7655999999997]
["Citibanamex Seguros|54 Incendio","Citibanamex Seguros","54 Incendio",26144.144110000001]
["Citibanamex Seguros|55 Riesgos Catastroficos","Citibanamex Seguros","55 Riesgos Catastroficos",81890.851930000004]
["Citibanamex Seguros|56 Terremoto y Erupcion Volcanica","Citibanamex Seguros","56 Terremoto y Erupcion Volcanica",37188.654560000003]
["Citibanamex Seguros|57 Huracan y Otros Riesgos Hidrometeorologicos","Citibanamex Seguros","57 Huracan y Otros Riesgos Hidrometeorologicos",44702.197369999994]
["Citibanamex Seguros|63 Diversos","Citibanamex Seguros","63 Diversos",23705.1806]
["Citibanamex Seguros|64 Miscelaneos","Citibanamex Seguros","64 Miscelaneos",22102.9944]
["Citibanamex Seguros|65 Tecnicos","Citibanamex Seguros","65 Tecnicos",1602.1861999999999]
["Coface|10 Total General","Coface","10 Total General",385583.53597000003]
["Coface|11 Total General Sin Pensiones","Coface","11 Total General Sin Pensiones",385583.53597000003]
["Coface|38 Daños Total","Coface","38 Daños Total",385583.53597000003]
["Coface|45 Daños Sin Autos Total","Coface","45 Daños Sin Autos Total",385583.53597000003]
["Coface|66 Credito","Coface","66 Credito",385583.53597000003]
["Crabi|10 Total General","Crabi","10 Total General",36639.410899999995]
["Crabi|11 Total General Sin Pensiones","Crabi","11 Total General Sin Pensiones",36639.410899999995]
["Crabi|38 Daños Total","Crabi","38 Daños Total",36639.410899999995]
["Crabi|39 Automoviles Total","Crabi","39 Automoviles Total",36639.410899999995]
["Crabi|41 Automoviles Residentes","Crabi","41 Automoviles Residentes",36639.410899999995]
["Dentegra|10 Total General","Dentegra","10 Total General",506069.78083]
["Dentegra|11 Total General Sin Pensiones","Dentegra","11 Total General Sin Pensiones",506069.78083]
["Dentegra|28 Accidentes y Enfermedades Total","Dentegra","28 Accidentes y Enfermedades Total",506069.78083]
["Dentegra|32 Gastos Medicos","Dentegra","32 Gastos Medicos",330257.56345999998]
["Dentegra|34 GMM. Gpo y Col","Dentegra","34 GMM. Gpo y Col",330257.56345999998]
["Dentegra|35 Salud","Dentegra","35 Salud",175812.21737]
["Dentegra|36 Salud Individual","Dentegra","36 Salud Individual",1304.65228]
["Dentegra|37 Salud Gpo y Col","Dentegra","37 Salud Gpo y Col",174507.56508999999]
["El Águila|10 Total General","El Águila","10 Total General",1427020.1480899998]
["El Águila|11 Total General Sin Pensiones","El Águila","11 Total General Sin Pensiones",1427020.1480899998]
["El Águila|38 Daños Total","El Águila","38 Daños Total",1427020.1480899998]
[{"$f":"B456&\"|\"&C456","v":"El Águila|39 Automoviles Total"},"El Águila","39 Automoviles Total",708987.6640499999]
["El Águila|41 Automoviles Residentes","El Águila","41 Automoviles Residentes",648842.91629999992]
["El Águila|43 Automoviles Turistas","El Águila","43 Automoviles Turistas",60144.747750000002]
["El Águila|44 Otros Automoviles y Obligatorios","El Águila","44 Otros Automoviles y Obligatorios",0]
["El Águila|45 Daños Sin Autos Total","El Águila","45 Daños Sin Autos Total",718032.48404000001]
["El Águila|46 Responsabilidad Civil y Riesgos Profesionales","El Águila","46 Responsabilidad Civil y Riesgos Profesionales",84206.997199999998]
["El Águila|47 RC General","El Águila","47 RC General",58011.634239999999]
["El Águila|48 RC Aviones y Barcos","El Águila","48 RC Aviones y Barcos",26195.362960000002]
["El Águila|51 Maritimo y Transportes","El Águila","51 Maritimo y Transportes",60141.083890000002]
["El Águila|52 MyT Carga","El Águila","52 MyT Carga",53855.150390000003]
["El Águila|53 MyT Cascos","El Águila","53 MyT Cascos",6285.9335000000001]
["El Águila|54 Incendio","El Águila","54 Incendio",211548.96403]
["El Águila|55 Riesgos Catastroficos","El Águila","55 Riesgos Catastroficos",232908.65037000002]
["El Águila|56 Terremoto y Erupcion Volcanica","El Águila","56 Terremoto y Erupcion Volcanica",81145.384349999993]
["El Águila|57 Huracan y Otros Riesgos Hidrometeorologicos","El Águila","57 Huracan y Otros Riesgos Hidrometeorologicos",151763.26602000001]
["El Águila|63 Diversos","El Águila","63 Diversos",129226.78855]
["El Águila|64 Miscelaneos","El Águila","64 Miscelaneos",38201.438959999999]
["El Águila|65 Tecnicos","El Águila","65 Tecnicos",91025.349589999998]
["El Potosí|10 Total General","El Potosí","10 Total General",2162007.8058200004]
["El Potosí|11 Total General Sin Pensiones","El Potosí","11 Total General Sin Pensiones",2162007.8058200004]
["El Potosí|12 Vida Total","El Potosí","12 Vida Total",266560.37183999998]
["El Potosí|13 Vida Individual","El Potosí","13 Vida Individual",83204.644079999998]
["El Potosí|14 Vida Gpo y Col","El Potosí","14 Vida Gpo y Col",183355.72775999998]
["El Potosí|28 Accidentes y Enfermedades Total","El Potosí","28 Accidentes y Enfermedades Total",90779.280930000008]
["El Potosí|29 Accidentes Personales","El Potosí","29 Accidentes Personales",90779.280930000008]
["El Potosí|30 AP Individual","El Potosí","30 AP Individual",24430.094149999997]
["El Potosí|31 AP Gpo y Col","El Potosí","31 AP Gpo y Col",66349.186780000004]
["El Potosí|38 Daños Total","El Potosí","38 Daños Total",1804668.1530499998]
["El Potosí|39 Automoviles Total","El Potosí","39 Automoviles Total",1125999.30461]
["El Potosí|41 Automoviles Residentes","El Potosí","41 Automoviles Residentes",619780.38234999997]
["El Potosí|42 Camiones","El Potosí","42 Camiones",480729.46472000005]
["El Potosí|43 Automoviles Turistas","El Potosí","43 Automoviles Turistas",25489.457539999999]
["El Potosí|45 Daños Sin Autos Total","El Potosí","45 Daños Sin Autos Total",678668.84843999997]
["El Potosí|46 Responsabilidad Civil y Riesgos Profesionales","El Potosí","46 Responsabilidad Civil y Riesgos Profesionales",144988.06537]
["El Potosí|47 RC General","El Potosí","47 RC General",96592.73593000001]
["El Potosí|48 RC Aviones y Barcos","El Potosí","48 RC Aviones y Barcos",43471.202219999999]
["El Potosí|49 RC Viajero","El Potosí","49 RC Viajero",4924.1272199999994]
["El Potosí|51 Maritimo y Transportes","El Potosí","51 Maritimo y Transportes",201055.14941999997]
["El Potosí|52 MyT Carga","El Potosí","52 MyT Carga",118292.23684]
["El Potosí|53 MyT Cascos","El Potosí","53 MyT Cascos",82762.912580000004]
["El Potosí|54 Incendio","El Potosí","54 Incendio",171259.18182]
["El Potosí|55 Riesgos Catastroficos","El Potosí","55 Riesgos Catastroficos",72801.284230000005]
["El Potosí|56 Terremoto y Erupcion Volcanica","El Potosí","56 Terremoto y Erupcion Volcanica",26329.95]
["El Potosí|57 Huracan y Otros Riesgos Hidrometeorologicos","El Potosí","57 Huracan y Otros Riesgos Hidrometeorologicos",46471.334229999993]
["El Potosí|63 Diversos","El Potosí","63 Diversos",88565.167600000001]
["El Potosí|64 Miscelaneos","El Potosí","64 Miscelaneos",41721.742610000001]
["El Potosí|65 Tecnicos","El Potosí","65 Tecnicos",46843.42499]
["FM Global|10 Total General","FM Global","10 Total General",3524079.9458400002]
["FM Global|11 Total General Sin Pensiones","FM Global","11 Total General Sin Pensiones",3524079.9458400002]
["FM Global|38 Daños Total","FM Global","38 Daños Total",3524079.9458400002]
["FM Global|45 Daños Sin Autos Total","FM Global","45 Daños Sin Autos Total",3524079.9458400002]
["FM Global|51 Maritimo y Transportes","FM Global","51 Maritimo y Transportes",7546.0244899999998]
["FM Global|52 MyT Carga","FM Global","52 MyT Carga",7546.0244899999998]
["FM Global|54 Incendio","FM Global","54 Incendio",1697100.58342]
["FM Global|55 Riesgos Catastroficos","FM Global","55 Riesgos Catastroficos",727595.70680999989]
["FM Global|56 Terremoto y Erupcion Volcanica","FM Global","56 Terremoto y Erupcion Volcanica",545488.10100999998]
["FM Global|57 Huracan y Otros Riesgos Hidrometeorologicos","FM Global","57 Huracan y Otros Riesgos Hidrometeorologicos",182107.60580000002]
["FM Global|63 Diversos","FM Global","63 Diversos",1091837.6311199998]
["FM Global|64 Miscelaneos","FM Global","64 Miscelaneos",515264.58688000002]
["FM Global|65 Tecnicos","FM Global","65 Tecnicos",576573.04423999996]
["G.N.P.|10 Total General","G.N.P.","10 Total General",88896231.251249999]
["G.N.P.|11 Total General Sin Pensiones","G.N.P.","11 Total General Sin Pensiones",88896231.251249999]
["G.N.P.|12 Vida Total","G.N.P.","12 Vida Total",35246575.565329999]
["G.N.P.|13 Vida Individual","G.N.P.","13 Vida Individual",30136241.572159998]
[{"$f":"B520&\"|\"&C520","v":"G.N.P.|14 Vida Gpo y Col"},"G.N.P.","14 Vida Gpo y Col",5110333.9931699997]
["G.N.P.|28 Accidentes y Enfermedades Total","G.N.P.","28 Accidentes y Enfermedades Total",32204894.921810001]
["G.N.P.|29 Accidentes Personales","G.N.P.","29 Accidentes Personales",140881.83762000001]
["G.N.P.|30 AP Individual","G.N.P.","30 AP Individual",4591.1772499999997]
["G.N.P.|31 AP Gpo y Col","G.N.P.","31 AP Gpo y Col",136290.66037]
["G.N.P.|32 Gastos Medicos","G.N.P.","32 Gastos Medicos",32064013.08419]
["G.N.P.|33 GMM. Individual","G.N.P.","33 GMM. Individual",18903480.823799998]
["G.N.P.|34 GMM. Gpo y Col","G.N.P.","34 GMM. Gpo y Col",13160532.260389999]
["G.N.P.|38 Daños Total","G.N.P.","38 Daños Total",21444760.764109999]
["G.N.P.|39 Automoviles Total","G.N.P.","39 Automoviles Total",16217560.38383]
["G.N.P.|41 Automoviles Residentes","G.N.P.","41 Automoviles Residentes",10791461.982690001]
["G.N.P.|42 Camiones","G.N.P.","42 Camiones",3717587.9792399998]
["G.N.P.|43 Automoviles Turistas","G.N.P.","43 Automoviles Turistas",212917.89647000001]
["G.N.P.|44 Otros Automoviles y Obligatorios","G.N.P.","44 Otros Automoviles y Obligatorios",1495592.5254300002]
["G.N.P.|45 Daños Sin Autos Total","G.N.P.","45 Daños Sin Autos Total",5227200.3802800002]
["G.N.P.|46 Responsabilidad Civil y Riesgos Profesionales","G.N.P.","46 Responsabilidad Civil y Riesgos Profesionales",773944.57475999999]
["G.N.P.|47 RC General","G.N.P.","47 RC General",762179.89134000009]
["G.N.P.|48 RC Aviones y Barcos","G.N.P.","48 RC Aviones y Barcos",11307.021470000002]
["G.N.P.|49 RC Viajero","G.N.P.","49 RC Viajero",457.66194999999999]
["G.N.P.|51 Maritimo y Transportes","G.N.P.","51 Maritimo y Transportes",904910.87857000006]
["G.N.P.|52 MyT Carga","G.N.P.","52 MyT Carga",873795.63729999994]
["G.N.P.|53 MyT Cascos","G.N.P.","53 MyT Cascos",31115.241269999999]
["G.N.P.|54 Incendio","G.N.P.","54 Incendio",1153845.16919]
["G.N.P.|55 Riesgos Catastroficos","G.N.P.","55 Riesgos Catastroficos",1164044.54009]
["G.N.P.|56 Terremoto y Erupcion Volcanica","G.N.P.","56 Terremoto y Erupcion Volcanica",390024.53672000003]
["G.N.P.|57 Huracan y Otros Riesgos Hidrometeorologicos","G.N.P.","57 Huracan y Otros Riesgos Hidrometeorologicos",774020.00337000005]
["G.N.P.|59 Agricola y de Animales","G.N.P.","59 Agricola y de Animales",266.74522999999999]
["G.N.P.|60 AyA Agricola","G.N.P.","60 AyA Agricola",266.74522999999999]
["G.N.P.|62 AyA Pecuario","G.N.P.","62 AyA Pecuario",0]
["G.N.P.|63 Diversos","G.N.P.","63 Diversos",1230188.4724400002]
["G.N.P.|64 Miscelaneos","G.N.P.","64 Miscelaneos",469578.59632999997]
["G.N.P.|65 Tecnicos","G.N.P.","65 Tecnicos",760609.87611000007]
["General de Salud|10 Total General","General de Salud","10 Total General",1053737.07388]
["General de Salud|11 Total General Sin Pensiones","General de Salud","11 Total General Sin Pensiones",1053737.07388]
["General de Salud|28 Accidentes y Enfermedades Total","General de Salud","28 Accidentes y Enfermedades Total",1053737.07388]
["General de Salud|32 Gastos Medicos","General de Salud","32 Gastos Medicos",19596.404260000003]
["General de Salud|33 GMM. Individual","General de Salud","33 GMM. Individual",17699.891789999998]
["General de Salud|34 GMM. Gpo y Col","General de Salud","34 GMM. Gpo y Col",1896.5124699999999]
["General de Salud|35 Salud","General de Salud","35 Salud",1034140.6696200001]
["General de Salud|36 Salud Individual","General de Salud","36 Salud Individual",99946.326459999997]
["General de Salud|37 Salud Gpo y Col","General de Salud","37 Salud Gpo y Col",934194.34315999993]
["General de Seguros|10 Total General","General de Seguros","10 Total General",2674276.1501799999]
["General de Seguros|11 Total General Sin Pensiones","General de Seguros","11 Total General Sin Pensiones",2674276.1501799999]
["General de Seguros|12 Vida Total","General de Seguros","12 Vida Total",593549.91121000005]
["General de Seguros|13 Vida Individual","General de Seguros","13 Vida Individual",142436.04647]
["General de Seguros|14 Vida Gpo y Col","General de Seguros","14 Vida Gpo y Col",451113.86473999999]
["General de Seguros|28 Accidentes y Enfermedades Total","General de Seguros","28 Accidentes y Enfermedades Total",56974.394200000002]
["General de Seguros|29 Accidentes Personales","General de Seguros","29 Accidentes Personales",56974.394200000002]
["General de Seguros|30 AP Individual","General de Seguros","30 AP Individual",11465.782569999999]
["General de Seguros|31 AP Gpo y Col","General de Seguros","31 AP Gpo y Col",45508.611629999999]
["General de Seguros|38 Daños Total","General de Seguros","38 Daños Total",2023751.8447700001]
["General de Seguros|39 Automoviles Total","General de Seguros","39 Automoviles Total",1283022.41344]
["General de Seguros|41 Automoviles Residentes","General de Seguros","41 Automoviles Residentes",551932.34398999996]
["General de Seguros|42 Camiones","General de Seguros","42 Camiones",713666.67588]
["General de Seguros|43 Automoviles Turistas","General de Seguros","43 Automoviles Turistas",17423.39357]
["General de Seguros|44 Otros Automoviles y Obligatorios","General de Seguros","44 Otros Automoviles y Obligatorios",0]
["General de Seguros|45 Daños Sin Autos Total","General de Seguros","45 Daños Sin Autos Total",740729.43132999993]
["General de Seguros|46 Responsabilidad Civil y Riesgos Profesionales","General de Seguros","46 Responsabilidad Civil y Riesgos Profesionales",78088.984200000006]
["General de Seguros|47 RC General","General de Seguros","47 RC General",74634.456900000005]
["General de Seguros|48 RC Aviones y Barcos","General de Seguros","48 RC Aviones y Barcos",0]
["General de Seguros|49 RC Viajero","General de Seguros","49 RC Viajero",3454.5272999999997]
["General de Seguros|50 RC Otros","General de Seguros","50 RC Otros",0]
["General de Seguros|51 Maritimo y Transportes","General de Seguros","51 Maritimo y Transportes",126585.60003]
["General de Seguros|52 MyT Carga","General de Seguros","52 MyT Carga",99779.074370000002]
[{"$f":"B584&\"|\"&C584","v":"General de Seguros|53 MyT Cascos"},"General de Seguros","53 MyT Cascos",26806.525659999999]
["General de Seguros|54 Incendio","General de Seguros","54 Incendio",91329.809680000006]
["General de Seguros|55 Riesgos Catastroficos","General de Seguros","55 Riesgos Catastroficos",69303.390230000005]
["General de Seguros|56 Terremoto y Erupcion Volcanica","General de Seguros","56 Terremoto y Erupcion Volcanica",25369.279739999998]
["General de Seguros|57 Huracan y Otros Riesgos Hidrometeorologicos","General de Seguros","57 Huracan y Otros Riesgos Hidrometeorologicos",43934.110489999999]
["General de Seguros|59 Agricola y de Animales","General de Seguros","59 Agricola y de Animales",277248.53012999997]
["General de Seguros|60 AyA Agricola","General de Seguros","60 AyA Agricola",266249.83293999999]
["General de Seguros|62 AyA Pecuario","General de Seguros","62 AyA Pecuario",10998.697189999999]
["General de Seguros|63 Diversos","General de Seguros","63 Diversos",98173.117060000004]
["General de Seguros|64 Miscelaneos","General de Seguros","64 Miscelaneos",63928.422259999999]
["General de Seguros|65 Tecnicos","General de Seguros","65 Tecnicos",34244.694799999997]
["Genworth Seg. de Crédito|10 Total General","Genworth Seg. de Crédito","10 Total General",70363.624430000011]
["Genworth Seg. de Crédito|11 Total General Sin Pensiones","Genworth Seg. de Crédito","11 Total General Sin Pensiones",70363.624430000011]
["Genworth Seg. de Crédito|38 Daños Total","Genworth Seg. de Crédito","38 Daños Total",70363.624430000011]
["Genworth Seg. de Crédito|45 Daños Sin Autos Total","Genworth Seg. de Crédito","45 Daños Sin Autos Total",70363.624430000011]
["Genworth Seg. de Crédito|67 Credito a la Vivienda","Genworth Seg. de Crédito","67 Credito a la Vivienda",70363.624430000011]
["GMX Seguros|10 Total General","GMX Seguros","10 Total General",12685626.07584]
["GMX Seguros|11 Total General Sin Pensiones","GMX Seguros","11 Total General Sin Pensiones",12685626.07584]
["GMX Seguros|38 Daños Total","GMX Seguros","38 Daños Total",12685626.07584]
["GMX Seguros|45 Daños Sin Autos Total","GMX Seguros","45 Daños Sin Autos Total",12685626.07584]
["GMX Seguros|46 Responsabilidad Civil y Riesgos Profesionales","GMX Seguros","46 Responsabilidad Civil y Riesgos Profesionales",4065935.31409]
["GMX Seguros|47 RC General","GMX Seguros","47 RC General",2126217.7960399999]
["GMX Seguros|48 RC Aviones y Barcos","GMX Seguros","48 RC Aviones y Barcos",874526.10901999997]
["GMX Seguros|49 RC Viajero","GMX Seguros","49 RC Viajero",6320.8540400000002]
["GMX Seguros|50 RC Otros","GMX Seguros","50 RC Otros",1058870.5549900001]
["GMX Seguros|51 Maritimo y Transportes","GMX Seguros","51 Maritimo y Transportes",2309914.3767900001]
["GMX Seguros|52 MyT Carga","GMX Seguros","52 MyT Carga",665893.10227000003]
["GMX Seguros|53 MyT Cascos","GMX Seguros","53 MyT Cascos",1644021.27452]
["GMX Seguros|54 Incendio","GMX Seguros","54 Incendio",1772758.49159]
["GMX Seguros|55 Riesgos Catastroficos","GMX Seguros","55 Riesgos Catastroficos",2419295.26621]
["GMX Seguros|56 Terremoto y Erupcion Volcanica","GMX Seguros","56 Terremoto y Erupcion Volcanica",1076922.3539700001]
["GMX Seguros|57 Huracan y Otros Riesgos Hidrometeorologicos","GMX Seguros","57 Huracan y Otros Riesgos Hidrometeorologicos",1342372.91224]
["GMX Seguros|63 Diversos","GMX Seguros","63 Diversos",2117722.6271600001]
["GMX Seguros|64 Miscelaneos","GMX Seguros","64 Miscelaneos",506028.25033999997]
["GMX Seguros|65 Tecnicos","GMX Seguros","65 Tecnicos",1611694.3768199999]
["HDI Global Seguros|10 Total General","HDI Global Seguros","10 Total General",1126819.2605599998]
["HDI Global Seguros|11 Total General Sin Pensiones","HDI Global Seguros","11 Total General Sin Pensiones",1126819.2605599998]
["HDI Global Seguros|38 Daños Total","HDI Global Seguros","38 Daños Total",1126819.2605599998]
["HDI Global Seguros|45 Daños Sin Autos Total","HDI Global Seguros","45 Daños Sin Autos Total",1126819.2605599998]
["HDI Global Seguros|46 Responsabilidad Civil y Riesgos Profesionales","HDI Global Seguros","46 Responsabilidad Civil y Riesgos Profesionales",350806.48830000003]
["HDI Global Seguros|47 RC General","HDI Global Seguros","47 RC General",350806.48830000003]
["HDI Global Seguros|51 Maritimo y Transportes","HDI Global Seguros","51 Maritimo y Transportes",255132.21114]
["HDI Global Seguros|52 MyT Carga","HDI Global Seguros","52 MyT Carga",255132.21114]
["HDI Global Seguros|54 Incendio","HDI Global Seguros","54 Incendio",156127.59491999997]
["HDI Global Seguros|55 Riesgos Catastroficos","HDI Global Seguros","55 Riesgos Catastroficos",311123.11135000002]
["HDI Global Seguros|56 Terremoto y Erupcion Volcanica","HDI Global Seguros","56 Terremoto y Erupcion Volcanica",156226.47634999998]
["HDI Global Seguros|57 Huracan y Otros Riesgos Hidrometeorologicos","HDI Global Seguros","57 Huracan y Otros Riesgos Hidrometeorologicos",154896.63500000001]
["HDI Global Seguros|63 Diversos","HDI Global Seguros","63 Diversos",53629.854850000003]
["HDI Global Seguros|65 Tecnicos","HDI Global Seguros","65 Tecnicos",53629.854850000003]
["HDI Seguros|10 Total General","HDI Seguros","10 Total General",9660591.7064100001]
["HDI Seguros|11 Total General Sin Pensiones","HDI Seguros","11 Total General Sin Pensiones",9660591.7064100001]
["HDI Seguros|12 Vida Total","HDI Seguros","12 Vida Total",16047.403890000001]
["HDI Seguros|14 Vida Gpo y Col","HDI Seguros","14 Vida Gpo y Col",16047.403890000001]
["HDI Seguros|28 Accidentes y Enfermedades Total","HDI Seguros","28 Accidentes y Enfermedades Total",37175.063569999998]
["HDI Seguros|29 Accidentes Personales","HDI Seguros","29 Accidentes Personales",31394.622739999999]
["HDI Seguros|31 AP Gpo y Col","HDI Seguros","31 AP Gpo y Col",31394.622739999999]
["HDI Seguros|32 Gastos Medicos","HDI Seguros","32 Gastos Medicos",5780.4408300000005]
["HDI Seguros|33 GMM. Individual","HDI Seguros","33 GMM. Individual",5780.4408300000005]
["HDI Seguros|34 GMM. Gpo y Col","HDI Seguros","34 GMM. Gpo y Col",0]
["HDI Seguros|38 Daños Total","HDI Seguros","38 Daños Total",9607369.2389500011]
["HDI Seguros|39 Automoviles Total","HDI Seguros","39 Automoviles Total",7596063.3396099992]
["HDI Seguros|41 Automoviles Residentes","HDI Seguros","41 Automoviles Residentes",4505418.4604799999]
["HDI Seguros|42 Camiones","HDI Seguros","42 Camiones",2677448.5129299997]
["HDI Seguros|43 Automoviles Turistas","HDI Seguros","43 Automoviles Turistas",265688.95965000003]
[{"$f":"B648&\"|\"&C648","v":"HDI Seguros|44 Otros Automoviles y Obligatorios"},"HDI Seguros","44 Otros Automoviles y Obligatorios",147507.40655000001]
["HDI Seguros|45 Daños Sin Autos Total","HDI Seguros","45 Daños Sin Autos Total",2011305.8993400002]
["HDI Seguros|46 Responsabilidad Civil y Riesgos Profesionales","HDI Seguros","46 Responsabilidad Civil y Riesgos Profesionales",275114.96335000003]
["HDI Seguros|47 RC General","HDI Seguros","47 RC General",265580.89215000003]
["HDI Seguros|49 RC Viajero","HDI Seguros","49 RC Viajero",9534.0711999999985]
["HDI Seguros|51 Maritimo y Transportes","HDI Seguros","51 Maritimo y Transportes",551611.19374000002]
["HDI Seguros|52 MyT Carga","HDI Seguros","52 MyT Carga",520341.1813]
["HDI Seguros|53 MyT Cascos","HDI Seguros","53 MyT Cascos",31270.012440000002]
["HDI Seguros|54 Incendio","HDI Seguros","54 Incendio",287188.62398000003]
["HDI Seguros|55 Riesgos Catastroficos","HDI Seguros","55 Riesgos Catastroficos",347786.29172000004]
["HDI Seguros|56 Terremoto y Erupcion Volcanica","HDI Seguros","56 Terremoto y Erupcion Volcanica",115691.33140000001]
["HDI Seguros|57 Huracan y Otros Riesgos Hidrometeorologicos","HDI Seguros","57 Huracan y Otros Riesgos Hidrometeorologicos",232094.96031999998]
["HDI Seguros|63 Diversos","HDI Seguros","63 Diversos",549604.82655]
["HDI Seguros|64 Miscelaneos","HDI Seguros","64 Miscelaneos",195503.17541]
["HDI Seguros|65 Tecnicos","HDI Seguros","65 Tecnicos",354101.65113999997]
["Hir Seguros|10 Total General","Hir Seguros","10 Total General",3705981.81311]
["Hir Seguros|11 Total General Sin Pensiones","Hir Seguros","11 Total General Sin Pensiones",3705981.81311]
["Hir Seguros|12 Vida Total","Hir Seguros","12 Vida Total",3672557.9548000004]
["Hir Seguros|13 Vida Individual","Hir Seguros","13 Vida Individual",20658.469940000003]
["Hir Seguros|14 Vida Gpo y Col","Hir Seguros","14 Vida Gpo y Col",3651899.4848600002]
["Hir Seguros|28 Accidentes y Enfermedades Total","Hir Seguros","28 Accidentes y Enfermedades Total",33423.858309999996]
["Hir Seguros|29 Accidentes Personales","Hir Seguros","29 Accidentes Personales",33423.858309999996]
["Hir Seguros|30 AP Individual","Hir Seguros","30 AP Individual",14.098780000000001]
["Hir Seguros|31 AP Gpo y Col","Hir Seguros","31 AP Gpo y Col",33409.759530000003]
["HSBC Seguros|10 Total General","HSBC Seguros","10 Total General",6620173.5550899999]
["HSBC Seguros|11 Total General Sin Pensiones","HSBC Seguros","11 Total General Sin Pensiones",6620173.5550899999]
["HSBC Seguros|12 Vida Total","HSBC Seguros","12 Vida Total",6262776.06623]
["HSBC Seguros|13 Vida Individual","HSBC Seguros","13 Vida Individual",5594940.9775700001]
["HSBC Seguros|14 Vida Gpo y Col","HSBC Seguros","14 Vida Gpo y Col",667835.08866000001]
["HSBC Seguros|28 Accidentes y Enfermedades Total","HSBC Seguros","28 Accidentes y Enfermedades Total",357397.48886000004]
["HSBC Seguros|29 Accidentes Personales","HSBC Seguros","29 Accidentes Personales",206793.96546000001]
["HSBC Seguros|30 AP Individual","HSBC Seguros","30 AP Individual",179881.82405000002]
["HSBC Seguros|31 AP Gpo y Col","HSBC Seguros","31 AP Gpo y Col",26912.14141]
["HSBC Seguros|32 Gastos Medicos","HSBC Seguros","32 Gastos Medicos",150603.52340000001]
["HSBC Seguros|33 GMM. Individual","HSBC Seguros","33 GMM. Individual",150603.52340000001]
["HSBC Seguros|38 Daños Total","HSBC Seguros","38 Daños Total",0]
["HSBC Seguros|45 Daños Sin Autos Total","HSBC Seguros","45 Daños Sin Autos Total",0]
["HSBC Seguros|63 Diversos","HSBC Seguros","63 Diversos",0]
["HSBC Seguros|64 Miscelaneos","HSBC Seguros","64 Miscelaneos",0]
["Inbursa|10 Total General","Inbursa","10 Total General",23044846.02603]
["Inbursa|11 Total General Sin Pensiones","Inbursa","11 Total General Sin Pensiones",23044846.02603]
["Inbursa|12 Vida Total","Inbursa","12 Vida Total",5269961.0633900007]
["Inbursa|13 Vida Individual","Inbursa","13 Vida Individual",2934868.5734899999]
["Inbursa|14 Vida Gpo y Col","Inbursa","14 Vida Gpo y Col",2335092.4898999999]
["Inbursa|28 Accidentes y Enfermedades Total","Inbursa","28 Accidentes y Enfermedades Total",5323642.0924199997]
["Inbursa|29 Accidentes Personales","Inbursa","29 Accidentes Personales",40941.378819999998]
["Inbursa|30 AP Individual","Inbursa","30 AP Individual",3637.4638199999999]
["Inbursa|31 AP Gpo y Col","Inbursa","31 AP Gpo y Col",37303.915000000001]
["Inbursa|32 Gastos Medicos","Inbursa","32 Gastos Medicos",5282700.7136000004]
["Inbursa|33 GMM. Individual","Inbursa","33 GMM. Individual",2476328.8699699999]
["Inbursa|34 GMM. Gpo y Col","Inbursa","34 GMM. Gpo y Col",2806371.84363]
["Inbursa|38 Daños Total","Inbursa","38 Daños Total",12451242.87022]
["Inbursa|39 Automoviles Total","Inbursa","39 Automoviles Total",4097356.4147700001]
["Inbursa|41 Automoviles Residentes","Inbursa","41 Automoviles Residentes",2724586.2261000001]
["Inbursa|42 Camiones","Inbursa","42 Camiones",1359694.01309]
["Inbursa|43 Automoviles Turistas","Inbursa","43 Automoviles Turistas",4259.6618099999996]
["Inbursa|44 Otros Automoviles y Obligatorios","Inbursa","44 Otros Automoviles y Obligatorios",8816.5137699999996]
["Inbursa|45 Daños Sin Autos Total","Inbursa","45 Daños Sin Autos Total",8353886.4554500012]
["Inbursa|46 Responsabilidad Civil y Riesgos Profesionales","Inbursa","46 Responsabilidad Civil y Riesgos Profesionales",1629225.67977]
["Inbursa|47 RC General","Inbursa","47 RC General",1221051.19738]
["Inbursa|48 RC Aviones y Barcos","Inbursa","48 RC Aviones y Barcos",401170.36123000004]
["Inbursa|49 RC Viajero","Inbursa","49 RC Viajero",7004.1211600000006]
["Inbursa|51 Maritimo y Transportes","Inbursa","51 Maritimo y Transportes",1389194.3748900001]
["Inbursa|52 MyT Carga","Inbursa","52 MyT Carga",582725.08821000007]
[{"$f":"B712&\"|\"&C712","v":"Inbursa|53 MyT Cascos"},"Inbursa","53 MyT Cascos",806469.2866799999]
["Inbursa|54 Incendio","Inbursa","54 Incendio",1291647.4001300002]
["Inbursa|55 Riesgos Catastroficos","Inbursa","55 Riesgos Catastroficos",2138064.2248800001]
["Inbursa|56 Terremoto y Erupcion Volcanica","Inbursa","56 Terremoto y Erupcion Volcanica",964669.08661]
["Inbursa|57 Huracan y Otros Riesgos Hidrometeorologicos","Inbursa","57 Huracan y Otros Riesgos Hidrometeorologicos",1173395.13827]
["Inbursa|63 Diversos","Inbursa","63 Diversos",1905754.77578]
["Inbursa|64 Miscelaneos","Inbursa","64 Miscelaneos",719769.14651999995]
["Inbursa|65 Tecnicos","Inbursa","65 Tecnicos",1185985.6292600001]
["Insignia Life|10 Total General","Insignia Life","10 Total General",1967652.9487100001]
["Insignia Life|11 Total General Sin Pensiones","Insignia Life","11 Total General Sin Pensiones",1967652.9487100001]
["Insignia Life|12 Vida Total","Insignia Life","12 Vida Total",1967652.9487100001]
["Insignia Life|13 Vida Individual","Insignia Life","13 Vida Individual",1324420.6765999999]
["Insignia Life|14 Vida Gpo y Col","Insignia Life","14 Vida Gpo y Col",643232.27211000002]
["La Latinoamericana|10 Total General","La Latinoamericana","10 Total General",1344599.4865999999]
["La Latinoamericana|11 Total General Sin Pensiones","La Latinoamericana","11 Total General Sin Pensiones",1344599.4865999999]
["La Latinoamericana|12 Vida Total","La Latinoamericana","12 Vida Total",335301.61682999996]
["La Latinoamericana|13 Vida Individual","La Latinoamericana","13 Vida Individual",18282.78961]
["La Latinoamericana|14 Vida Gpo y Col","La Latinoamericana","14 Vida Gpo y Col",317018.82722000004]
["La Latinoamericana|28 Accidentes y Enfermedades Total","La Latinoamericana","28 Accidentes y Enfermedades Total",517638.67350999999]
["La Latinoamericana|29 Accidentes Personales","La Latinoamericana","29 Accidentes Personales",69915.634299999991]
["La Latinoamericana|30 AP Individual","La Latinoamericana","30 AP Individual",136.73004]
["La Latinoamericana|31 AP Gpo y Col","La Latinoamericana","31 AP Gpo y Col",69778.90426000001]
["La Latinoamericana|32 Gastos Medicos","La Latinoamericana","32 Gastos Medicos",447723.03920999996]
["La Latinoamericana|33 GMM. Individual","La Latinoamericana","33 GMM. Individual",209164.62875999999]
["La Latinoamericana|34 GMM. Gpo y Col","La Latinoamericana","34 GMM. Gpo y Col",238558.41045]
["La Latinoamericana|38 Daños Total","La Latinoamericana","38 Daños Total",491659.19626]
["La Latinoamericana|39 Automoviles Total","La Latinoamericana","39 Automoviles Total",296654.53737999999]
["La Latinoamericana|41 Automoviles Residentes","La Latinoamericana","41 Automoviles Residentes",236682.79324]
["La Latinoamericana|42 Camiones","La Latinoamericana","42 Camiones",49881.910400000001]
["La Latinoamericana|44 Otros Automoviles y Obligatorios","La Latinoamericana","44 Otros Automoviles y Obligatorios",10089.83374]
["La Latinoamericana|45 Daños Sin Autos Total","La Latinoamericana","45 Daños Sin Autos Total",195004.65888]
["La Latinoamericana|46 Responsabilidad Civil y Riesgos Profesionales","La Latinoamericana","46 Responsabilidad Civil y Riesgos Profesionales",177286.42469999997]
["La Latinoamericana|47 RC General","La Latinoamericana","47 RC General",176620.52540000001]
["La Latinoamericana|49 RC Viajero","La Latinoamericana","49 RC Viajero",665.89930000000004]
["La Latinoamericana|54 Incendio","La Latinoamericana","54 Incendio",816.34276999999997]
["La Latinoamericana|63 Diversos","La Latinoamericana","63 Diversos",16901.89141]
["La Latinoamericana|64 Miscelaneos","La Latinoamericana","64 Miscelaneos",15339.739810000001]
["La Latinoamericana|65 Tecnicos","La Latinoamericana","65 Tecnicos",1562.1516000000001]
["Mapfre México|10 Total General","Mapfre México","10 Total General",21167003.156169999]
["Mapfre México|11 Total General Sin Pensiones","Mapfre México","11 Total General Sin Pensiones",21167003.156169999]
["Mapfre México|12 Vida Total","Mapfre México","12 Vida Total",5365137.7045600004]
["Mapfre México|13 Vida Individual","Mapfre México","13 Vida Individual",1137019.0663699999]
["Mapfre México|14 Vida Gpo y Col","Mapfre México","14 Vida Gpo y Col",4228118.6381899994]
["Mapfre México|28 Accidentes y Enfermedades Total","Mapfre México","28 Accidentes y Enfermedades Total",3983921.9459699998]
["Mapfre México|29 Accidentes Personales","Mapfre México","29 Accidentes Personales",162922.25896000001]
["Mapfre México|30 AP Individual","Mapfre México","30 AP Individual",75272.47484000001]
["Mapfre México|31 AP Gpo y Col","Mapfre México","31 AP Gpo y Col",87649.784119999997]
["Mapfre México|32 Gastos Medicos","Mapfre México","32 Gastos Medicos",3820999.6870100005]
["Mapfre México|33 GMM. Individual","Mapfre México","33 GMM. Individual",2644014.44417]
["Mapfre México|34 GMM. Gpo y Col","Mapfre México","34 GMM. Gpo y Col",1176985.24284]
["Mapfre México|38 Daños Total","Mapfre México","38 Daños Total",11817943.50564]
["Mapfre México|39 Automoviles Total","Mapfre México","39 Automoviles Total",2908645.9694099999]
["Mapfre México|41 Automoviles Residentes","Mapfre México","41 Automoviles Residentes",2304812.2381599997]
["Mapfre México|42 Camiones","Mapfre México","42 Camiones",500481.70393000002]
["Mapfre México|43 Automoviles Turistas","Mapfre México","43 Automoviles Turistas",103352.02731999999]
["Mapfre México|45 Daños Sin Autos Total","Mapfre México","45 Daños Sin Autos Total",8909297.5362299997]
["Mapfre México|46 Responsabilidad Civil y Riesgos Profesionales","Mapfre México","46 Responsabilidad Civil y Riesgos Profesionales",767120.9985499999]
["Mapfre México|47 RC General","Mapfre México","47 RC General",419768.34771]
["Mapfre México|48 RC Aviones y Barcos","Mapfre México","48 RC Aviones y Barcos",340374.64436000003]
["Mapfre México|50 RC Otros","Mapfre México","50 RC Otros",6978.00648]
["Mapfre México|51 Maritimo y Transportes","Mapfre México","51 Maritimo y Transportes",1668025.2795599999]
["Mapfre México|52 MyT Carga","Mapfre México","52 MyT Carga",1113957.8276099998]
["Mapfre México|53 MyT Cascos","Mapfre México","53 MyT Cascos",554067.45195000002]
["Mapfre México|54 Incendio","Mapfre México","54 Incendio",2302321.4326399998]
[{"$f":"B776&\"|\"&C776","v":"Mapfre México|55 Riesgos Catastroficos"},"Mapfre México","55 Riesgos Catastroficos",1749479.2885399999]
["Mapfre México|56 Terremoto y Erupcion Volcanica","Mapfre México","56 Terremoto y Erupcion Volcanica",617717.94374000002]
["Mapfre México|57 Huracan y Otros Riesgos Hidrometeorologicos","Mapfre México","57 Huracan y Otros Riesgos Hidrometeorologicos",1131761.3447999998]
["Mapfre México|59 Agricola y de Animales","Mapfre México","59 Agricola y de Animales",102848.70215000001]
["Mapfre México|60 AyA Agricola","Mapfre México","60 AyA Agricola",100126.00244]
["Mapfre México|62 AyA Pecuario","Mapfre México","62 AyA Pecuario",2722.6997099999999]
["Mapfre México|63 Diversos","Mapfre México","63 Diversos",2319501.8347899998]
["Mapfre México|64 Miscelaneos","Mapfre México","64 Miscelaneos",1169808.6810899999]
["Mapfre México|65 Tecnicos","Mapfre México","65 Tecnicos",1149693.1537000001]
["MediAccess|10 Total General","MediAccess","10 Total General",287353.00105999998]
["MediAccess|11 Total General Sin Pensiones","MediAccess","11 Total General Sin Pensiones",287353.00105999998]
["MediAccess|28 Accidentes y Enfermedades Total","MediAccess","28 Accidentes y Enfermedades Total",287353.00105999998]
["MediAccess|32 Gastos Medicos","MediAccess","32 Gastos Medicos",8.0449400000000004]
["MediAccess|33 GMM. Individual","MediAccess","33 GMM. Individual",8.0449400000000004]
["MediAccess|35 Salud","MediAccess","35 Salud",287344.95611999999]
["MediAccess|36 Salud Individual","MediAccess","36 Salud Individual",113644.43712999999]
["MediAccess|37 Salud Gpo y Col","MediAccess","37 Salud Gpo y Col",173700.51899000001]
["Metlife Más|10 Total General","Metlife Más","10 Total General",30174.169300000001]
["Metlife Más|11 Total General Sin Pensiones","Metlife Más","11 Total General Sin Pensiones",30174.169300000001]
["Metlife Más|28 Accidentes y Enfermedades Total","Metlife Más","28 Accidentes y Enfermedades Total",30174.169300000001]
["Metlife Más|29 Accidentes Personales","Metlife Más","29 Accidentes Personales",30174.169300000001]
["Metlife Más|30 AP Individual","Metlife Más","30 AP Individual",4397.6139000000003]
["Metlife Más|31 AP Gpo y Col","Metlife Más","31 AP Gpo y Col",25776.555399999997]
["Metlife México|10 Total General","Metlife México","10 Total General",69679915.865999997]
["Metlife México|11 Total General Sin Pensiones","Metlife México","11 Total General Sin Pensiones",69679915.865999997]
["Metlife México|12 Vida Total","Metlife México","12 Vida Total",48016518.989]
["Metlife México|13 Vida Individual","Metlife México","13 Vida Individual",30531955.284000002]
["Metlife México|14 Vida Gpo y Col","Metlife México","14 Vida Gpo y Col",17484563.704]
["Metlife México|28 Accidentes y Enfermedades Total","Metlife México","28 Accidentes y Enfermedades Total",21663396.877]
["Metlife México|29 Accidentes Personales","Metlife México","29 Accidentes Personales",4087.3935000000001]
["Metlife México|30 AP Individual","Metlife México","30 AP Individual",0]
["Metlife México|31 AP Gpo y Col","Metlife México","31 AP Gpo y Col",4087.3935000000001]
["Metlife México|32 Gastos Medicos","Metlife México","32 Gastos Medicos",21659309.484000001]
["Metlife México|33 GMM. Individual","Metlife México","33 GMM. Individual",4278149.4270000001]
["Metlife México|34 GMM. Gpo y Col","Metlife México","34 GMM. Gpo y Col",17381160.057]
["Metlife Pensiones|10 Total General","Metlife Pensiones","10 Total General",20461.44299]
["Metlife Pensiones|15 Pensiones Total","Metlife Pensiones","15 Pensiones Total",20461.44299]
["Metlife Pensiones|16 Pensiones IMSS","Metlife Pensiones","16 Pensiones IMSS",20461.442990000003]
["Monterrey New York Life|10 Total General","Monterrey New York Life","10 Total General",37521624.677379996]
["Monterrey New York Life|11 Total General Sin Pensiones","Monterrey New York Life","11 Total General Sin Pensiones",37521624.677379996]
["Monterrey New York Life|12 Vida Total","Monterrey New York Life","12 Vida Total",25726165.1074]
["Monterrey New York Life|13 Vida Individual","Monterrey New York Life","13 Vida Individual",24255539.515629999]
["Monterrey New York Life|14 Vida Gpo y Col","Monterrey New York Life","14 Vida Gpo y Col",1470625.5917700001]
["Monterrey New York Life|28 Accidentes y Enfermedades Total","Monterrey New York Life","28 Accidentes y Enfermedades Total",11795459.569979999]
["Monterrey New York Life|29 Accidentes Personales","Monterrey New York Life","29 Accidentes Personales",49580.763310000002]
["Monterrey New York Life|30 AP Individual","Monterrey New York Life","30 AP Individual",12465.796849999999]
["Monterrey New York Life|31 AP Gpo y Col","Monterrey New York Life","31 AP Gpo y Col",37114.966460000003]
["Monterrey New York Life|32 Gastos Medicos","Monterrey New York Life","32 Gastos Medicos",11745878.806670001]
["Monterrey New York Life|33 GMM. Individual","Monterrey New York Life","33 GMM. Individual",8110612.7439700002]
["Monterrey New York Life|34 GMM. Gpo y Col","Monterrey New York Life","34 GMM. Gpo y Col",3635266.0626999997]
["Odontoprev|10 Total General","Odontoprev","10 Total General",81304.397939999995]
["Odontoprev|11 Total General Sin Pensiones","Odontoprev","11 Total General Sin Pensiones",81304.397939999995]
["Odontoprev|28 Accidentes y Enfermedades Total","Odontoprev","28 Accidentes y Enfermedades Total",81304.397939999995]
["Odontoprev|29 Accidentes Personales","Odontoprev","29 Accidentes Personales",105.14887]
["Odontoprev|30 AP Individual","Odontoprev","30 AP Individual",59.965720000000005]
["Odontoprev|31 AP Gpo y Col","Odontoprev","31 AP Gpo y Col",45.183150000000005]
["Odontoprev|32 Gastos Medicos","Odontoprev","32 Gastos Medicos",26217.00029]
["Odontoprev|33 GMM. Individual","Odontoprev","33 GMM. Individual",1285.2953200000002]
["Odontoprev|34 GMM. Gpo y Col","Odontoprev","34 GMM. Gpo y Col",24931.704969999999]
["Odontoprev|35 Salud","Odontoprev","35 Salud",54982.248780000002]
["Odontoprev|36 Salud Individual","Odontoprev","36 Salud Individual",16988.596539999999]
["Odontoprev|37 Salud Gpo y Col","Odontoprev","37 Salud Gpo y Col",37993.652240000003]
["Pan-American México|10 Total General","Pan-American México","10 Total General",953705.39994999999]
["Pan-American México|11 Total General Sin Pensiones","Pan-American México","11 Total General Sin Pensiones",953705.39994999999]
[{"$f":"B840&\"|\"&C840","v":"Pan-American México|12 Vida Total"},"Pan-American México","12 Vida Total",481604.77100999997]
["Pan-American México|13 Vida Individual","Pan-American México","13 Vida Individual",101357.0241]
["Pan-American México|14 Vida Gpo y Col","Pan-American México","14 Vida Gpo y Col",380247.74691000005]
["Pan-American México|28 Accidentes y Enfermedades Total","Pan-American México","28 Accidentes y Enfermedades Total",472100.62894000002]
["Pan-American México|29 Accidentes Personales","Pan-American México","29 Accidentes Personales",47973.864099999999]
["Pan-American México|30 AP Individual","Pan-American México","30 AP Individual",1107.4574499999999]
["Pan-American México|31 AP Gpo y Col","Pan-American México","31 AP Gpo y Col",46866.406649999997]
["Pan-American México|32 Gastos Medicos","Pan-American México","32 Gastos Medicos",424126.76483999996]
["Pan-American México|33 GMM. Individual","Pan-American México","33 GMM. Individual",424126.76483999996]
["Patria|10 Total General","Patria","10 Total General",0]
["Patria|11 Total General Sin Pensiones","Patria","11 Total General Sin Pensiones",0]
["Patria|12 Vida Total","Patria","12 Vida Total",0]
["Patria|13 Vida Individual","Patria","13 Vida Individual",0]
["Patria|14 Vida Gpo y Col","Patria","14 Vida Gpo y Col",0]
["Patria|28 Accidentes y Enfermedades Total","Patria","28 Accidentes y Enfermedades Total",0]
["Patria|29 Accidentes Personales","Patria","29 Accidentes Personales",0]
["Patria|30 AP Individual","Patria","30 AP Individual",0]
["Patria|31 AP Gpo y Col","Patria","31 AP Gpo y Col",0]
["Patria|32 Gastos Medicos","Patria","32 Gastos Medicos",0]
["Patria|33 GMM. Individual","Patria","33 GMM. Individual",0]
["Patria|34 GMM. Gpo y Col","Patria","34 GMM. Gpo y Col",0]
["Patria|38 Daños Total","Patria","38 Daños Total",0]
["Patria|39 Automoviles Total","Patria","39 Automoviles Total",0]
["Patria|41 Automoviles Residentes","Patria","41 Automoviles Residentes",0]
["Patria|42 Camiones","Patria","42 Camiones",0]
["Patria|43 Automoviles Turistas","Patria","43 Automoviles Turistas",0]
["Patria|44 Otros Automoviles y Obligatorios","Patria","44 Otros Automoviles y Obligatorios",0]
["Patria|45 Daños Sin Autos Total","Patria","45 Daños Sin Autos Total",0]
["Patria|46 Responsabilidad Civil y Riesgos Profesionales","Patria","46 Responsabilidad Civil y Riesgos Profesionales",0]
["Patria|47 RC General","Patria","47 RC General",0]
["Patria|48 RC Aviones y Barcos","Patria","48 RC Aviones y Barcos",0]
["Patria|49 RC Viajero","Patria","49 RC Viajero",0]
["Patria|50 RC Otros","Patria","50 RC Otros",0]
["Patria|51 Maritimo y Transportes","Patria","51 Maritimo y Transportes",0]
["Patria|52 MyT Carga","Patria","52 MyT Carga",0]
["Patria|53 MyT Cascos","Patria","53 MyT Cascos",0]
["Patria|54 Incendio","Patria","54 Incendio",0]
["Patria|55 Riesgos Catastroficos","Patria","55 Riesgos Catastroficos",0]
["Patria|56 Terremoto y Erupcion Volcanica","Patria","56 Terremoto y Erupcion Volcanica",0]
["Patria|57 Huracan y Otros Riesgos Hidrometeorologicos","Patria","57 Huracan y Otros Riesgos Hidrometeorologicos",0]
["Patria|59 Agricola y de Animales","Patria","59 Agricola y de Animales",0]
["Patria|60 AyA Agricola","Patria","60 AyA Agricola",0]
["Patria|61 AyA Otros","Patria","61 AyA Otros",0]
["Patria|62 AyA Pecuario","Patria","62 AyA Pecuario",0]
["Patria|63 Diversos","Patria","63 Diversos",0]
["Patria|64 Miscelaneos","Patria","64 Miscelaneos",0]
["Patria|65 Tecnicos","Patria","65 Tecnicos",0]
["Patria|66 Credito","Patria","66 Credito",0]
["Patrimonial Daños|10 Total General","Patrimonial Daños","10 Total General",284972.94150999998]
["Patrimonial Daños|11 Total General Sin Pensiones","Patrimonial Daños","11 Total General Sin Pensiones",284972.94150999998]
["Patrimonial Daños|38 Daños Total","Patrimonial Daños","38 Daños Total",284972.94150999998]
["Patrimonial Daños|39 Automoviles Total","Patrimonial Daños","39 Automoviles Total",284972.94150999998]
["Patrimonial Daños|41 Automoviles Residentes","Patrimonial Daños","41 Automoviles Residentes",0]
["Patrimonial Daños|42 Camiones","Patrimonial Daños","42 Camiones",3354.3211699999997]
["Patrimonial Daños|44 Otros Automoviles y Obligatorios","Patrimonial Daños","44 Otros Automoviles y Obligatorios",281618.62033999996]
["Patrimonial Inbursa|10 Total General","Patrimonial Inbursa","10 Total General",575425.82271000009]
["Patrimonial Inbursa|11 Total General Sin Pensiones","Patrimonial Inbursa","11 Total General Sin Pensiones",575425.82271000009]
["Patrimonial Inbursa|12 Vida Total","Patrimonial Inbursa","12 Vida Total",382702.68060000002]
["Patrimonial Inbursa|13 Vida Individual","Patrimonial Inbursa","13 Vida Individual",327833.33113999997]
["Patrimonial Inbursa|14 Vida Gpo y Col","Patrimonial Inbursa","14 Vida Gpo y Col",54869.349459999998]
["Patrimonial Inbursa|28 Accidentes y Enfermedades Total","Patrimonial Inbursa","28 Accidentes y Enfermedades Total",35875.828310000004]
["Patrimonial Inbursa|29 Accidentes Personales","Patrimonial Inbursa","29 Accidentes Personales",2758.9207299999998]
["Patrimonial Inbursa|30 AP Individual","Patrimonial Inbursa","30 AP Individual",2758.9207299999998]
["Patrimonial Inbursa|32 Gastos Medicos","Patrimonial Inbursa","32 Gastos Medicos",33116.907579999999]
[{"$f":"B904&\"|\"&C904","v":"Patrimonial Inbursa|33 GMM. Individual"},"Patrimonial Inbursa","33 GMM. Individual",33116.907579999999]
["Patrimonial Inbursa|38 Daños Total","Patrimonial Inbursa","38 Daños Total",156847.3138]
["Patrimonial Inbursa|39 Automoviles Total","Patrimonial Inbursa","39 Automoviles Total",20842.152719999998]
["Patrimonial Inbursa|41 Automoviles Residentes","Patrimonial Inbursa","41 Automoviles Residentes",20842.152719999998]
["Patrimonial Inbursa|45 Daños Sin Autos Total","Patrimonial Inbursa","45 Daños Sin Autos Total",136005.16107999999]
["Patrimonial Inbursa|46 Responsabilidad Civil y Riesgos Profesionales","Patrimonial Inbursa","46 Responsabilidad Civil y Riesgos Profesionales",36120.075899999996]
["Patrimonial Inbursa|47 RC General","Patrimonial Inbursa","47 RC General",36120.075899999996]
["Patrimonial Inbursa|54 Incendio","Patrimonial Inbursa","54 Incendio",61220.281299999995]
["Patrimonial Inbursa|55 Riesgos Catastroficos","Patrimonial Inbursa","55 Riesgos Catastroficos",10733.097009999999]
["Patrimonial Inbursa|57 Huracan y Otros Riesgos Hidrometeorologicos","Patrimonial Inbursa","57 Huracan y Otros Riesgos Hidrometeorologicos",10733.097009999999]
["Patrimonial Inbursa|63 Diversos","Patrimonial Inbursa","63 Diversos",27931.706870000002]
["Patrimonial Inbursa|64 Miscelaneos","Patrimonial Inbursa","64 Miscelaneos",27924.501350000002]
["Patrimonial Inbursa|65 Tecnicos","Patrimonial Inbursa","65 Tecnicos",7.2055200000000008]
["Patrimonial Vida|10 Total General","Patrimonial Vida","10 Total General",2638295.4870500001]
["Patrimonial Vida|11 Total General Sin Pensiones","Patrimonial Vida","11 Total General Sin Pensiones",2638295.4870500001]
["Patrimonial Vida|12 Vida Total","Patrimonial Vida","12 Vida Total",2638295.4870500001]
["Patrimonial Vida|13 Vida Individual","Patrimonial Vida","13 Vida Individual",0]
["Patrimonial Vida|14 Vida Gpo y Col","Patrimonial Vida","14 Vida Gpo y Col",2638295.4870500001]
["Pensiones Banorte|10 Total General","Pensiones Banorte","10 Total General",18733422.244009998]
["Pensiones Banorte|15 Pensiones Total","Pensiones Banorte","15 Pensiones Total",18733422.244009998]
["Pensiones Banorte|16 Pensiones IMSS","Pensiones Banorte","16 Pensiones IMSS",14695940.787690002]
["Pensiones Banorte|22 Pensiones ISSSTE","Pensiones Banorte","22 Pensiones ISSSTE",4037481.4563199999]
["Pensiones BBVA Bancomer|10 Total General","Pensiones BBVA Bancomer","10 Total General",11908763.69197]
["Pensiones BBVA Bancomer|15 Pensiones Total","Pensiones BBVA Bancomer","15 Pensiones Total",11908763.69197]
["Pensiones BBVA Bancomer|16 Pensiones IMSS","Pensiones BBVA Bancomer","16 Pensiones IMSS",7700099.2322399998]
["Pensiones BBVA Bancomer|22 Pensiones ISSSTE","Pensiones BBVA Bancomer","22 Pensiones ISSSTE",4208664.4597299993]
["Pensiones Inbursa|10 Total General","Pensiones Inbursa","10 Total General",1325.17551]
["Pensiones Inbursa|15 Pensiones Total","Pensiones Inbursa","15 Pensiones Total",1325.17551]
["Pensiones Inbursa|16 Pensiones IMSS","Pensiones Inbursa","16 Pensiones IMSS",1325.17551]
["Plan Seguro|10 Total General","Plan Seguro","10 Total General",2935556.73031]
["Plan Seguro|11 Total General Sin Pensiones","Plan Seguro","11 Total General Sin Pensiones",2935556.73031]
["Plan Seguro|28 Accidentes y Enfermedades Total","Plan Seguro","28 Accidentes y Enfermedades Total",2935556.73031]
["Plan Seguro|32 Gastos Medicos","Plan Seguro","32 Gastos Medicos",782247.96138999995]
["Plan Seguro|33 GMM. Individual","Plan Seguro","33 GMM. Individual",327413.34748]
["Plan Seguro|34 GMM. Gpo y Col","Plan Seguro","34 GMM. Gpo y Col",454834.61391000001]
["Plan Seguro|35 Salud","Plan Seguro","35 Salud",2153308.7689200002]
["Plan Seguro|36 Salud Individual","Plan Seguro","36 Salud Individual",2057388.16478]
["Plan Seguro|37 Salud Gpo y Col","Plan Seguro","37 Salud Gpo y Col",95920.604139999996]
["PREVEM Seguros|10 Total General","PREVEM Seguros","10 Total General",580810.99120000005]
["PREVEM Seguros|11 Total General Sin Pensiones","PREVEM Seguros","11 Total General Sin Pensiones",580810.99120000005]
["PREVEM Seguros|28 Accidentes y Enfermedades Total","PREVEM Seguros","28 Accidentes y Enfermedades Total",580810.99120000005]
["PREVEM Seguros|29 Accidentes Personales","PREVEM Seguros","29 Accidentes Personales",32971.424319999998]
["PREVEM Seguros|30 AP Individual","PREVEM Seguros","30 AP Individual",1879.55665]
["PREVEM Seguros|31 AP Gpo y Col","PREVEM Seguros","31 AP Gpo y Col",31091.867670000003]
["PREVEM Seguros|32 Gastos Medicos","PREVEM Seguros","32 Gastos Medicos",547839.56689999998]
["PREVEM Seguros|33 GMM. Individual","PREVEM Seguros","33 GMM. Individual",282188.63139999995]
["PREVEM Seguros|34 GMM. Gpo y Col","PREVEM Seguros","34 GMM. Gpo y Col",265650.93550000002]
["Primero Seguros|10 Total General","Primero Seguros","10 Total General",988246.92141999991]
["Primero Seguros|11 Total General Sin Pensiones","Primero Seguros","11 Total General Sin Pensiones",988246.92141999991]
["Primero Seguros|38 Daños Total","Primero Seguros","38 Daños Total",988246.92141999991]
["Primero Seguros|39 Automoviles Total","Primero Seguros","39 Automoviles Total",702405.47065000003]
["Primero Seguros|41 Automoviles Residentes","Primero Seguros","41 Automoviles Residentes",493272.36657000001]
["Primero Seguros|42 Camiones","Primero Seguros","42 Camiones",208808.33705999999]
["Primero Seguros|43 Automoviles Turistas","Primero Seguros","43 Automoviles Turistas",324.76702]
["Primero Seguros|45 Daños Sin Autos Total","Primero Seguros","45 Daños Sin Autos Total",285841.45077]
["Primero Seguros|46 Responsabilidad Civil y Riesgos Profesionales","Primero Seguros","46 Responsabilidad Civil y Riesgos Profesionales",30830.939170000001]
["Primero Seguros|47 RC General","Primero Seguros","47 RC General",30830.939170000001]
["Primero Seguros|51 Maritimo y Transportes","Primero Seguros","51 Maritimo y Transportes",179503.99393999999]
["Primero Seguros|52 MyT Carga","Primero Seguros","52 MyT Carga",179503.99393999999]
["Primero Seguros|54 Incendio","Primero Seguros","54 Incendio",18396.955489999997]
["Primero Seguros|55 Riesgos Catastroficos","Primero Seguros","55 Riesgos Catastroficos",13569.93519]
["Primero Seguros|56 Terremoto y Erupcion Volcanica","Primero Seguros","56 Terremoto y Erupcion Volcanica",2646.06702]
["Primero Seguros|57 Huracan y Otros Riesgos Hidrometeorologicos","Primero Seguros","57 Huracan y Otros Riesgos Hidrometeorologicos",10923.86817]
["Primero Seguros|63 Diversos","Primero Seguros","63 Diversos",43539.626979999994]
[{"$f":"B968&\"|\"&C968","v":"Primero Seguros|64 Miscelaneos"},"Primero Seguros","64 Miscelaneos",17731.183300000001]
["Primero Seguros|65 Tecnicos","Primero Seguros","65 Tecnicos",25808.44368]
["Principal México|10 Total General","Principal México","10 Total General",0]
["Principal México|11 Total General Sin Pensiones","Principal México","11 Total General Sin Pensiones",0]
["Principal México|12 Vida Total","Principal México","12 Vida Total",0]
["Principal México|13 Vida Individual","Principal México","13 Vida Individual",0]
["Principal México|14 Vida Gpo y Col","Principal México","14 Vida Gpo y Col",0]
["Principal México|28 Accidentes y Enfermedades Total","Principal México","28 Accidentes y Enfermedades Total",0]
["Principal México|29 Accidentes Personales","Principal México","29 Accidentes Personales",0]
["Principal México|30 AP Individual","Principal México","30 AP Individual",0]
["ProFuturo G.N.P.|10 Total General","ProFuturo G.N.P.","10 Total General",9964700.2888399996]
["ProFuturo G.N.P.|15 Pensiones Total","ProFuturo G.N.P.","15 Pensiones Total",9964700.2888399996]
["ProFuturo G.N.P.|16 Pensiones IMSS","ProFuturo G.N.P.","16 Pensiones IMSS",6173652.7414100002]
["ProFuturo G.N.P.|22 Pensiones ISSSTE","ProFuturo G.N.P.","22 Pensiones ISSSTE",3791047.5474300003]
["Prudential|10 Total General","Prudential","10 Total General",1613118.0192799999]
["Prudential|11 Total General Sin Pensiones","Prudential","11 Total General Sin Pensiones",1613118.0192799999]
["Prudential|12 Vida Total","Prudential","12 Vida Total",1613118.0192799999]
["Prudential|13 Vida Individual","Prudential","13 Vida Individual",1613031.7675000001]
["Prudential|14 Vida Gpo y Col","Prudential","14 Vida Gpo y Col",86.251779999999997]
["Quálitas|10 Total General","Quálitas","10 Total General",38613311.12376]
["Quálitas|11 Total General Sin Pensiones","Quálitas","11 Total General Sin Pensiones",38613311.12376]
["Quálitas|38 Daños Total","Quálitas","38 Daños Total",38613311.12376]
["Quálitas|39 Automoviles Total","Quálitas","39 Automoviles Total",38609572.715620004]
["Quálitas|41 Automoviles Residentes","Quálitas","41 Automoviles Residentes",19043385.656939998]
["Quálitas|42 Camiones","Quálitas","42 Camiones",18310087.648159999]
["Quálitas|43 Automoviles Turistas","Quálitas","43 Automoviles Turistas",362582.67388999998]
["Quálitas|44 Otros Automoviles y Obligatorios","Quálitas","44 Otros Automoviles y Obligatorios",893516.73662999994]
["Quálitas|45 Daños Sin Autos Total","Quálitas","45 Daños Sin Autos Total",3738.40814]
["Quálitas|46 Responsabilidad Civil y Riesgos Profesionales","Quálitas","46 Responsabilidad Civil y Riesgos Profesionales",3738.40814]
["Quálitas|50 RC Otros","Quálitas","50 RC Otros",3738.40814]
["Seguros Argos|10 Total General","Seguros Argos","10 Total General",3759735.1039999998]
["Seguros Argos|11 Total General Sin Pensiones","Seguros Argos","11 Total General Sin Pensiones",3759735.1039999998]
["Seguros Argos|12 Vida Total","Seguros Argos","12 Vida Total",3759735.1039999998]
["Seguros Argos|13 Vida Individual","Seguros Argos","13 Vida Individual",901994.6176]
["Seguros Argos|14 Vida Gpo y Col","Seguros Argos","14 Vida Gpo y Col",2857740.486]
["Seguros Azteca|10 Total General","Seguros Azteca","10 Total General",3916508.0270500001]
["Seguros Azteca|11 Total General Sin Pensiones","Seguros Azteca","11 Total General Sin Pensiones",3916508.0270500001]
["Seguros Azteca|12 Vida Total","Seguros Azteca","12 Vida Total",3769814.5278000003]
["Seguros Azteca|13 Vida Individual","Seguros Azteca","13 Vida Individual",90855.14963]
["Seguros Azteca|14 Vida Gpo y Col","Seguros Azteca","14 Vida Gpo y Col",3678959.3781699999]
["Seguros Azteca|28 Accidentes y Enfermedades Total","Seguros Azteca","28 Accidentes y Enfermedades Total",146693.49924999999]
["Seguros Azteca|29 Accidentes Personales","Seguros Azteca","29 Accidentes Personales",116764.30089]
["Seguros Azteca|30 AP Individual","Seguros Azteca","30 AP Individual",53057.785969999997]
["Seguros Azteca|31 AP Gpo y Col","Seguros Azteca","31 AP Gpo y Col",63706.514920000001]
["Seguros Azteca|32 Gastos Medicos","Seguros Azteca","32 Gastos Medicos",29929.198359999999]
["Seguros Azteca|33 GMM. Individual","Seguros Azteca","33 GMM. Individual",29929.198359999999]
["Seguros Azteca Daños|10 Total General","Seguros Azteca Daños","10 Total General",3041486.8465999998]
["Seguros Azteca Daños|11 Total General Sin Pensiones","Seguros Azteca Daños","11 Total General Sin Pensiones",3041486.8465999998]
["Seguros Azteca Daños|38 Daños Total","Seguros Azteca Daños","38 Daños Total",3041486.8465999998]
["Seguros Azteca Daños|39 Automoviles Total","Seguros Azteca Daños","39 Automoviles Total",251378.97777]
["Seguros Azteca Daños|41 Automoviles Residentes","Seguros Azteca Daños","41 Automoviles Residentes",251378.97777]
["Seguros Azteca Daños|45 Daños Sin Autos Total","Seguros Azteca Daños","45 Daños Sin Autos Total",2790107.8688300005]
["Seguros Azteca Daños|46 Responsabilidad Civil y Riesgos Profesionales","Seguros Azteca Daños","46 Responsabilidad Civil y Riesgos Profesionales",366403.07086000004]
["Seguros Azteca Daños|47 RC General","Seguros Azteca Daños","47 RC General",184823.25405000002]
["Seguros Azteca Daños|48 RC Aviones y Barcos","Seguros Azteca Daños","48 RC Aviones y Barcos",26998.303510000002]
["Seguros Azteca Daños|49 RC Viajero","Seguros Azteca Daños","49 RC Viajero",799.06799000000001]
["Seguros Azteca Daños|50 RC Otros","Seguros Azteca Daños","50 RC Otros",153782.44531000001]
["Seguros Azteca Daños|51 Maritimo y Transportes","Seguros Azteca Daños","51 Maritimo y Transportes",85937.897420000008]
["Seguros Azteca Daños|52 MyT Carga","Seguros Azteca Daños","52 MyT Carga",9709.4708499999997]
["Seguros Azteca Daños|53 MyT Cascos","Seguros Azteca Daños","53 MyT Cascos",76228.426569999996]
["Seguros Azteca Daños|54 Incendio","Seguros Azteca Daños","54 Incendio",1060214.83042]
["Seguros Azteca Daños|55 Riesgos Catastroficos","Seguros Azteca Daños","55 Riesgos Catastroficos",778188.27776999993]
["Seguros Azteca Daños|56 Terremoto y Erupcion Volcanica","Seguros Azteca Daños","56 Terremoto y Erupcion Volcanica",498364.20919000002]
["Seguros Azteca Daños|57 Huracan y Otros Riesgos Hidrometeorologicos","Seguros Azteca Daños","57 Huracan y Otros Riesgos Hidrometeorologicos",279824.06857999996]
[{"$f":"B1032&\"|\"&C1032","v":"Seguros Azteca Daños|63 Diversos"},"Seguros Azteca Daños","63 Diversos",499363.79236000002]
["Seguros Azteca Daños|64 Miscelaneos","Seguros Azteca Daños","64 Miscelaneos",190408.71074000001]
["Seguros Azteca Daños|65 Tecnicos","Seguros Azteca Daños","65 Tecnicos",308955.08162000001]
["Seguros SURA|10 Total General","Seguros SURA","10 Total General",6914356.54]
["Seguros SURA|11 Total General Sin Pensiones","Seguros SURA","11 Total General Sin Pensiones",6914356.54]
["Seguros SURA|12 Vida Total","Seguros SURA","12 Vida Total",1862741.3330000001]
["Seguros SURA|13 Vida Individual","Seguros SURA","13 Vida Individual",64563.318610000002]
["Seguros SURA|14 Vida Gpo y Col","Seguros SURA","14 Vida Gpo y Col",1798178.0145]
["Seguros SURA|28 Accidentes y Enfermedades Total","Seguros SURA","28 Accidentes y Enfermedades Total",890903.45239999995]
["Seguros SURA|29 Accidentes Personales","Seguros SURA","29 Accidentes Personales",204345.56159999999]
["Seguros SURA|30 AP Individual","Seguros SURA","30 AP Individual",74800.88612000001]
["Seguros SURA|31 AP Gpo y Col","Seguros SURA","31 AP Gpo y Col",129544.6755]
["Seguros SURA|32 Gastos Medicos","Seguros SURA","32 Gastos Medicos",686557.89070000011]
["Seguros SURA|33 GMM. Individual","Seguros SURA","33 GMM. Individual",165451.5374]
["Seguros SURA|34 GMM. Gpo y Col","Seguros SURA","34 GMM. Gpo y Col",521106.35330000002]
["Seguros SURA|38 Daños Total","Seguros SURA","38 Daños Total",4160711.7549999999]
["Seguros SURA|39 Automoviles Total","Seguros SURA","39 Automoviles Total",926946.32550000004]
["Seguros SURA|41 Automoviles Residentes","Seguros SURA","41 Automoviles Residentes",522301.12800000003]
["Seguros SURA|42 Camiones","Seguros SURA","42 Camiones",393865.45660000003]
["Seguros SURA|43 Automoviles Turistas","Seguros SURA","43 Automoviles Turistas",968.68359999999996]
["Seguros SURA|44 Otros Automoviles y Obligatorios","Seguros SURA","44 Otros Automoviles y Obligatorios",9811.0573399999994]
["Seguros SURA|45 Daños Sin Autos Total","Seguros SURA","45 Daños Sin Autos Total",3233765.4291800004]
["Seguros SURA|46 Responsabilidad Civil y Riesgos Profesionales","Seguros SURA","46 Responsabilidad Civil y Riesgos Profesionales",325850.38270000002]
["Seguros SURA|47 RC General","Seguros SURA","47 RC General",322366.79719999997]
["Seguros SURA|48 RC Aviones y Barcos","Seguros SURA","48 RC Aviones y Barcos",0]
["Seguros SURA|49 RC Viajero","Seguros SURA","49 RC Viajero",3483.5854800000002]
["Seguros SURA|51 Maritimo y Transportes","Seguros SURA","51 Maritimo y Transportes",345652.16200000001]
["Seguros SURA|52 MyT Carga","Seguros SURA","52 MyT Carga",291092.03269999998]
["Seguros SURA|53 MyT Cascos","Seguros SURA","53 MyT Cascos",54560.12932]
["Seguros SURA|54 Incendio","Seguros SURA","54 Incendio",838885.02289999998]
["Seguros SURA|55 Riesgos Catastroficos","Seguros SURA","55 Riesgos Catastroficos",761737.7415]
["Seguros SURA|56 Terremoto y Erupcion Volcanica","Seguros SURA","56 Terremoto y Erupcion Volcanica",255555.7801]
["Seguros SURA|57 Huracan y Otros Riesgos Hidrometeorologicos","Seguros SURA","57 Huracan y Otros Riesgos Hidrometeorologicos",506181.96139999997]
["Seguros SURA|58 Otros Riesgos Catastroficos","Seguros SURA","58 Otros Riesgos Catastroficos",0]
["Seguros SURA|59 Agricola y de Animales","Seguros SURA","59 Agricola y de Animales",64148.188679999999]
["Seguros SURA|60 AyA Agricola","Seguros SURA","60 AyA Agricola",64148.188679999999]
["Seguros SURA|63 Diversos","Seguros SURA","63 Diversos",897491.9314]
["Seguros SURA|64 Miscelaneos","Seguros SURA","64 Miscelaneos",121624.86199999999]
["Seguros SURA|65 Tecnicos","Seguros SURA","65 Tecnicos",775867.06929999997]
["SHF Cred Vivienda|10 Total General","SHF Cred Vivienda","10 Total General",378646.86668000004]
["SHF Cred Vivienda|11 Total General Sin Pensiones","SHF Cred Vivienda","11 Total General Sin Pensiones",378646.86668000004]
["SHF Cred Vivienda|38 Daños Total","SHF Cred Vivienda","38 Daños Total",378646.86668000004]
["SHF Cred Vivienda|45 Daños Sin Autos Total","SHF Cred Vivienda","45 Daños Sin Autos Total",378646.86668000004]
["SHF Cred Vivienda|67 Credito a la Vivienda","SHF Cred Vivienda","67 Credito a la Vivienda",378646.86668000004]
["SIS NOVA|10 Total General","SIS NOVA","10 Total General",18506.622070000001]
["SIS NOVA|11 Total General Sin Pensiones","SIS NOVA","11 Total General Sin Pensiones",18506.622070000001]
["SIS NOVA|28 Accidentes y Enfermedades Total","SIS NOVA","28 Accidentes y Enfermedades Total",18506.622070000001]
["SIS NOVA|32 Gastos Medicos","SIS NOVA","32 Gastos Medicos",-15392.411400000001]
["SIS NOVA|33 GMM. Individual","SIS NOVA","33 GMM. Individual",43685.632749999997]
["SIS NOVA|34 GMM. Gpo y Col","SIS NOVA","34 GMM. Gpo y Col",-59078.044150000002]
["SIS NOVA|35 Salud","SIS NOVA","35 Salud",33899.033470000002]
["SIS NOVA|36 Salud Individual","SIS NOVA","36 Salud Individual",861.572]
["SIS NOVA|37 Salud Gpo y Col","SIS NOVA","37 Salud Gpo y Col",33037.461470000002]
["Skandia Life|10 Total General","Skandia Life","10 Total General",447144.79532999999]
["Skandia Life|11 Total General Sin Pensiones","Skandia Life","11 Total General Sin Pensiones",447144.79532999999]
["Skandia Life|12 Vida Total","Skandia Life","12 Vida Total",447144.79532999999]
["Skandia Life|13 Vida Individual","Skandia Life","13 Vida Individual",441720.85480999999]
["Skandia Life|14 Vida Gpo y Col","Skandia Life","14 Vida Gpo y Col",5423.9405199999992]
["Solunion Crédito|10 Total General","Solunion Crédito","10 Total General",675000.43876000005]
["Solunion Crédito|11 Total General Sin Pensiones","Solunion Crédito","11 Total General Sin Pensiones",675000.43876000005]
["Solunion Crédito|38 Daños Total","Solunion Crédito","38 Daños Total",675000.43876000005]
["Solunion Crédito|45 Daños Sin Autos Total","Solunion Crédito","45 Daños Sin Autos Total",675000.43876000005]
["Solunion Crédito|66 Credito","Solunion Crédito","66 Credito",675000.43876000005]
["Sompo Japan|10 Total General","Sompo Japan","10 Total General",700245.38436999999]
[{"$f":"B1096&\"|\"&C1096","v":"Sompo Japan|11 Total General Sin Pensiones"},"Sompo Japan","11 Total General Sin Pensiones",700245.38436999999]
["Sompo Japan|38 Daños Total","Sompo Japan","38 Daños Total",700245.38436999999]
["Sompo Japan|39 Automoviles Total","Sompo Japan","39 Automoviles Total",358.80998999999997]
["Sompo Japan|41 Automoviles Residentes","Sompo Japan","41 Automoviles Residentes",195.57796999999999]
["Sompo Japan|42 Camiones","Sompo Japan","42 Camiones",163.23201999999998]
["Sompo Japan|45 Daños Sin Autos Total","Sompo Japan","45 Daños Sin Autos Total",699886.57438000001]
["Sompo Japan|46 Responsabilidad Civil y Riesgos Profesionales","Sompo Japan","46 Responsabilidad Civil y Riesgos Profesionales",35083.856340000006]
["Sompo Japan|47 RC General","Sompo Japan","47 RC General",34546.614119999998]
["Sompo Japan|50 RC Otros","Sompo Japan","50 RC Otros",537.24221999999997]
["Sompo Japan|51 Maritimo y Transportes","Sompo Japan","51 Maritimo y Transportes",201363.79208000001]
["Sompo Japan|52 MyT Carga","Sompo Japan","52 MyT Carga",201363.79208000001]
["Sompo Japan|54 Incendio","Sompo Japan","54 Incendio",138284.33028999998]
["Sompo Japan|55 Riesgos Catastroficos","Sompo Japan","55 Riesgos Catastroficos",237830.97937000002]
["Sompo Japan|56 Terremoto y Erupcion Volcanica","Sompo Japan","56 Terremoto y Erupcion Volcanica",82626.922359999997]
["Sompo Japan|57 Huracan y Otros Riesgos Hidrometeorologicos","Sompo Japan","57 Huracan y Otros Riesgos Hidrometeorologicos",155204.05700999999]
["Sompo Japan|63 Diversos","Sompo Japan","63 Diversos",87323.616299999994]
["Sompo Japan|64 Miscelaneos","Sompo Japan","64 Miscelaneos",20953.10125]
["Sompo Japan|65 Tecnicos","Sompo Japan","65 Tecnicos",66370.515050000002]
["Swiss Re Corporate Solutions|10 Total General","Swiss Re Corporate Solutions","10 Total General",672719.17460000003]
["Swiss Re Corporate Solutions|11 Total General Sin Pensiones","Swiss Re Corporate Solutions","11 Total General Sin Pensiones",672719.17460000003]
["Swiss Re Corporate Solutions|38 Daños Total","Swiss Re Corporate Solutions","38 Daños Total",672719.17460000003]
["Swiss Re Corporate Solutions|45 Daños Sin Autos Total","Swiss Re Corporate Solutions","45 Daños Sin Autos Total",672719.17460000003]
["Swiss Re Corporate Solutions|46 Responsabilidad Civil y Riesgos Profesionales","Swiss Re Corporate Solutions","46 Responsabilidad Civil y Riesgos Profesionales",16001.420029999999]
["Swiss Re Corporate Solutions|47 RC General","Swiss Re Corporate Solutions","47 RC General",15648.859130000001]
["Swiss Re Corporate Solutions|49 RC Viajero","Swiss Re Corporate Solutions","49 RC Viajero",63.281529999999997]
["Swiss Re Corporate Solutions|50 RC Otros","Swiss Re Corporate Solutions","50 RC Otros",289.27936999999997]
["Swiss Re Corporate Solutions|51 Maritimo y Transportes","Swiss Re Corporate Solutions","51 Maritimo y Transportes",0]
["Swiss Re Corporate Solutions|52 MyT Carga","Swiss Re Corporate Solutions","52 MyT Carga",0]
["Swiss Re Corporate Solutions|54 Incendio","Swiss Re Corporate Solutions","54 Incendio",228813.07434999998]
["Swiss Re Corporate Solutions|55 Riesgos Catastroficos","Swiss Re Corporate Solutions","55 Riesgos Catastroficos",322936.18426000001]
["Swiss Re Corporate Solutions|56 Terremoto y Erupcion Volcanica","Swiss Re Corporate Solutions","56 Terremoto y Erupcion Volcanica",96910.787120000008]
["Swiss Re Corporate Solutions|57 Huracan y Otros Riesgos Hidrometeorologicos","Swiss Re Corporate Solutions","57 Huracan y Otros Riesgos Hidrometeorologicos",226025.39713999999]
["Swiss Re Corporate Solutions|59 Agricola y de Animales","Swiss Re Corporate Solutions","59 Agricola y de Animales",0]
["Swiss Re Corporate Solutions|60 AyA Agricola","Swiss Re Corporate Solutions","60 AyA Agricola",0]
["Swiss Re Corporate Solutions|61 AyA Otros","Swiss Re Corporate Solutions","61 AyA Otros",0]
["Swiss Re Corporate Solutions|62 AyA Pecuario","Swiss Re Corporate Solutions","62 AyA Pecuario",0]
["Swiss Re Corporate Solutions|63 Diversos","Swiss Re Corporate Solutions","63 Diversos",104968.49596]
["Swiss Re Corporate Solutions|64 Miscelaneos","Swiss Re Corporate Solutions","64 Miscelaneos",11361.88392]
["Swiss Re Corporate Solutions|65 Tecnicos","Swiss Re Corporate Solutions","65 Tecnicos",93606.612040000007]
["Tláloc Seguros|10 Total General","Tláloc Seguros","10 Total General",114710.45364000001]
["Tláloc Seguros|11 Total General Sin Pensiones","Tláloc Seguros","11 Total General Sin Pensiones",114710.45364000001]
["Tláloc Seguros|38 Daños Total","Tláloc Seguros","38 Daños Total",114710.45364000001]
["Tláloc Seguros|45 Daños Sin Autos Total","Tláloc Seguros","45 Daños Sin Autos Total",114710.45364000001]
["Tláloc Seguros|59 Agricola y de Animales","Tláloc Seguros","59 Agricola y de Animales",114710.45364000001]
["Tláloc Seguros|60 AyA Agricola","Tláloc Seguros","60 AyA Agricola",113994.16890999999]
["Tláloc Seguros|61 AyA Otros","Tláloc Seguros","61 AyA Otros",118.44958]
["Tláloc Seguros|62 AyA Pecuario","Tláloc Seguros","62 AyA Pecuario",597.83515]
["Tokio Marine|10 Total General","Tokio Marine","10 Total General",1393936.1759300001]
["Tokio Marine|11 Total General Sin Pensiones","Tokio Marine","11 Total General Sin Pensiones",1393936.1759300001]
["Tokio Marine|12 Vida Total","Tokio Marine","12 Vida Total",77681.760609999998]
["Tokio Marine|14 Vida Gpo y Col","Tokio Marine","14 Vida Gpo y Col",77681.760609999998]
["Tokio Marine|28 Accidentes y Enfermedades Total","Tokio Marine","28 Accidentes y Enfermedades Total",0]
["Tokio Marine|29 Accidentes Personales","Tokio Marine","29 Accidentes Personales",0]
["Tokio Marine|30 AP Individual","Tokio Marine","30 AP Individual",0]
["Tokio Marine|31 AP Gpo y Col","Tokio Marine","31 AP Gpo y Col",0]
["Tokio Marine|38 Daños Total","Tokio Marine","38 Daños Total",1316254.4153199999]
["Tokio Marine|39 Automoviles Total","Tokio Marine","39 Automoviles Total",19757.80573]
["Tokio Marine|41 Automoviles Residentes","Tokio Marine","41 Automoviles Residentes",16227.561230000001]
["Tokio Marine|42 Camiones","Tokio Marine","42 Camiones",3517.9134300000001]
["Tokio Marine|43 Automoviles Turistas","Tokio Marine","43 Automoviles Turistas",11.3032]
["Tokio Marine|44 Otros Automoviles y Obligatorios","Tokio Marine","44 Otros Automoviles y Obligatorios",1.0278699999999998]
["Tokio Marine|45 Daños Sin Autos Total","Tokio Marine","45 Daños Sin Autos Total",1296496.6095900002]
["Tokio Marine|46 Responsabilidad Civil y Riesgos Profesionales","Tokio Marine","46 Responsabilidad Civil y Riesgos Profesionales",46651.600729999998]
["Tokio Marine|47 RC General","Tokio Marine","47 RC General",39298.077770000004]
[{"$f":"B1160&\"|\"&C1160","v":"Tokio Marine|50 RC Otros"},"Tokio Marine","50 RC Otros",7353.5229600000002]
["Tokio Marine|51 Maritimo y Transportes","Tokio Marine","51 Maritimo y Transportes",851848.49195000005]
["Tokio Marine|52 MyT Carga","Tokio Marine","52 MyT Carga",851848.49195000005]
["Tokio Marine|54 Incendio","Tokio Marine","54 Incendio",106202.1556]
["Tokio Marine|55 Riesgos Catastroficos","Tokio Marine","55 Riesgos Catastroficos",227143.69269]
["Tokio Marine|56 Terremoto y Erupcion Volcanica","Tokio Marine","56 Terremoto y Erupcion Volcanica",111318.05009]
["Tokio Marine|57 Huracan y Otros Riesgos Hidrometeorologicos","Tokio Marine","57 Huracan y Otros Riesgos Hidrometeorologicos",115825.64259999999]
["Tokio Marine|63 Diversos","Tokio Marine","63 Diversos",64650.668619999997]
["Tokio Marine|64 Miscelaneos","Tokio Marine","64 Miscelaneos",23771.20868]
["Tokio Marine|65 Tecnicos","Tokio Marine","65 Tecnicos",40879.459940000001]
["TOTAL|10 Total General","TOTAL","10 Total General",666940231.74629998]
["TOTAL|11 Total General Sin Pensiones","TOTAL","11 Total General Sin Pensiones",626290409.44213998]
["TOTAL|12 Vida Total","TOTAL","12 Vida Total",259244122.69560999]
["TOTAL|13 Vida Individual","TOTAL","13 Vida Individual",184251985.41237998]
["TOTAL|14 Vida Gpo y Col","TOTAL","14 Vida Gpo y Col",74992137.281939983]
["TOTAL|15 Pensiones Total","TOTAL","15 Pensiones Total",40649822.304159999]
["TOTAL|16 Pensiones IMSS","TOTAL","16 Pensiones IMSS",28612628.840680003]
["TOTAL|22 Pensiones ISSSTE","TOTAL","22 Pensiones ISSSTE",12037193.463479999]
["TOTAL|28 Accidentes y Enfermedades Total","TOTAL","28 Accidentes y Enfermedades Total",131303848.12262999]
["TOTAL|29 Accidentes Personales","TOTAL","29 Accidentes Personales",5748590.6664300002]
["TOTAL|30 AP Individual","TOTAL","30 AP Individual",3427846.0973399994]
["TOTAL|31 AP Gpo y Col","TOTAL","31 AP Gpo y Col",2320744.5691399993]
["TOTAL|32 Gastos Medicos","TOTAL","32 Gastos Medicos",121137056.70556003]
["TOTAL|33 GMM. Individual","TOTAL","33 GMM. Individual",62522092.915680006]
["TOTAL|34 GMM. Gpo y Col","TOTAL","34 GMM. Gpo y Col",58614963.78988]
["TOTAL|35 Salud","TOTAL","35 Salud",4418200.7510500001]
["TOTAL|36 Salud Individual","TOTAL","36 Salud Individual",2338570.3343500001]
["TOTAL|37 Salud Gpo y Col","TOTAL","37 Salud Gpo y Col",2079630.4166999997]
["TOTAL|38 Daños Total","TOTAL","38 Daños Total",235742438.62440008]
["TOTAL|39 Automoviles Total","TOTAL","39 Automoviles Total",120669785.49292]
["TOTAL|41 Automoviles Residentes","TOTAL","41 Automoviles Residentes",74191097.392179996]
["TOTAL|42 Camiones","TOTAL","42 Camiones",40663250.556800008]
["TOTAL|43 Automoviles Turistas","TOTAL","43 Automoviles Turistas",1792078.5304900003]
["TOTAL|44 Otros Automoviles y Obligatorios","TOTAL","44 Otros Automoviles y Obligatorios",4023359.0124899996]
["TOTAL|45 Daños Sin Autos Total","TOTAL","45 Daños Sin Autos Total",115072653.13139999]
["TOTAL|46 Responsabilidad Civil y Riesgos Profesionales","TOTAL","46 Responsabilidad Civil y Riesgos Profesionales",16591609.821819996]
["TOTAL|47 RC General","TOTAL","47 RC General",12250234.191739999]
["TOTAL|48 RC Aviones y Barcos","TOTAL","48 RC Aviones y Barcos",2140503.4709100006]
["TOTAL|49 RC Viajero","TOTAL","49 RC Viajero",280927.90098000009]
["TOTAL|50 RC Otros","TOTAL","50 RC Otros",1919944.25817]
["TOTAL|51 Maritimo y Transportes","TOTAL","51 Maritimo y Transportes",15774509.19851]
["TOTAL|52 MyT Carga","TOTAL","52 MyT Carga",11296416.941450002]
["TOTAL|53 MyT Cascos","TOTAL","53 MyT Cascos",4478092.2570800018]
["TOTAL|54 Incendio","TOTAL","54 Incendio",22908980.320900001]
["TOTAL|55 Riesgos Catastroficos","TOTAL","55 Riesgos Catastroficos",26933227.962870002]
["TOTAL|56 Terremoto y Erupcion Volcanica","TOTAL","56 Terremoto y Erupcion Volcanica",11433304.201269999]
["TOTAL|57 Huracan y Otros Riesgos Hidrometeorologicos","TOTAL","57 Huracan y Otros Riesgos Hidrometeorologicos",15408187.8661]
["TOTAL|58 Otros Riesgos Catastroficos","TOTAL","58 Otros Riesgos Catastroficos",91735.895799999998]
["TOTAL|59 Agricola y de Animales","TOTAL","59 Agricola y de Animales",608685.51153000002]
["TOTAL|60 AyA Agricola","TOTAL","60 AyA Agricola",565409.76318000001]
["TOTAL|61 AyA Otros","TOTAL","61 AyA Otros",118.44958]
["TOTAL|62 AyA Pecuario","TOTAL","62 AyA Pecuario",43157.298769999994]
["TOTAL|63 Diversos","TOTAL","63 Diversos",29918673.328530006]
["TOTAL|64 Miscelaneos","TOTAL","64 Miscelaneos",13628688.768650001]
["TOTAL|65 Tecnicos","TOTAL","65 Tecnicos",16289984.559769997]
["TOTAL|66 Credito","TOTAL","66 Credito",1887956.4961300001]
["TOTAL|67 Credito a la Vivienda","TOTAL","67 Credito a la Vivienda",449010.49111000006]
["TOTAL GRANDES|10 Total General","TOTAL GRANDES","10 Total General",298778573.24326998]
["TOTAL GRANDES|11 Total General Sin Pensiones","TOTAL GRANDES","11 Total General Sin Pensiones",298778573.24326998]
["TOTAL GRANDES|12 Vida Total","TOTAL GRANDES","12 Vida Total",168247557.64135]
["TOTAL GRANDES|13 Vida Individual","TOTAL GRANDES","13 Vida Individual",138537033.92307001]
["TOTAL GRANDES|14 Vida Gpo y Col","TOTAL GRANDES","14 Vida Gpo y Col",38799745.595189996]
["TOTAL GRANDES|15 Pensiones Total","TOTAL GRANDES","15 Pensiones Total",40648497.128650002]
["TOTAL GRANDES|16 Pensiones IMSS","TOTAL GRANDES","16 Pensiones IMSS",28611303.665170003]
[{"$f":"B1224&\"|\"&C1224","v":"TOTAL GRANDES|22 Pensiones ISSSTE"},"TOTAL GRANDES","22 Pensiones ISSSTE",12037193.463479999]
["TOTAL GRANDES|28 Accidentes y Enfermedades Total","TOTAL GRANDES","28 Accidentes y Enfermedades Total",94010654.255740002]
["TOTAL GRANDES|29 Accidentes Personales","TOTAL GRANDES","29 Accidentes Personales",3698163.55632]
["TOTAL GRANDES|30 AP Individual","TOTAL GRANDES","30 AP Individual",2685923.41426]
["TOTAL GRANDES|31 AP Gpo y Col","TOTAL GRANDES","31 AP Gpo y Col",1323532.45114]
["TOTAL GRANDES|32 Gastos Medicos","TOTAL GRANDES","32 Gastos Medicos",93428884.590789989]
["TOTAL GRANDES|33 GMM. Individual","TOTAL GRANDES","33 GMM. Individual",49200656.653420001]
["TOTAL GRANDES|34 GMM. Gpo y Col","TOTAL GRANDES","34 GMM. Gpo y Col",46350872.269060001]
["TOTAL GRANDES|35 Salud","TOTAL GRANDES","35 Salud",4224403.4295800002]
["TOTAL GRANDES|36 Salud Individual","TOTAL GRANDES","36 Salud Individual",2334788.0194900003]
["TOTAL GRANDES|37 Salud Gpo y Col","TOTAL GRANDES","37 Salud Gpo y Col",1905299.3543499999]
["TOTAL GRANDES|38 Daños Total","TOTAL GRANDES","38 Daños Total",109625766.61947]
["TOTAL GRANDES|39 Automoviles Total","TOTAL GRANDES","39 Automoviles Total",84368775.172199994]
["TOTAL GRANDES|41 Automoviles Residentes","TOTAL GRANDES","41 Automoviles Residentes",49818479.404820003]
["TOTAL GRANDES|42 Camiones","TOTAL GRANDES","42 Camiones",31404496.159999996]
["TOTAL GRANDES|43 Automoviles Turistas","TOTAL GRANDES","43 Automoviles Turistas",1414647.51217]
["TOTAL GRANDES|44 Otros Automoviles y Obligatorios","TOTAL GRANDES","44 Otros Automoviles y Obligatorios",3818451.5522699999]
["TOTAL GRANDES|45 Daños Sin Autos Total","TOTAL GRANDES","45 Daños Sin Autos Total",45591029.439690001]
["TOTAL GRANDES|46 Responsabilidad Civil y Riesgos Profesionales","TOTAL GRANDES","46 Responsabilidad Civil y Riesgos Profesionales",9968824.7164699994]
["TOTAL GRANDES|47 RC General","TOTAL GRANDES","47 RC General",7313088.9639400002]
["TOTAL GRANDES|48 RC Aviones y Barcos","TOTAL GRANDES","48 RC Aviones y Barcos",1916796.2556799999]
["TOTAL GRANDES|49 RC Viajero","TOTAL GRANDES","49 RC Viajero",233573.08777000001]
["TOTAL GRANDES|50 RC Otros","TOTAL GRANDES","50 RC Otros",1834617.3135600002]
["TOTAL GRANDES|51 Maritimo y Transportes","TOTAL GRANDES","51 Maritimo y Transportes",8183580.2278199997]
["TOTAL GRANDES|52 MyT Carga","TOTAL GRANDES","52 MyT Carga",5450956.3430499993]
["TOTAL GRANDES|53 MyT Cascos","TOTAL GRANDES","53 MyT Cascos",3689250.2843400002]
["TOTAL GRANDES|54 Incendio","TOTAL GRANDES","54 Incendio",9431057.3607000001]
["TOTAL GRANDES|55 Riesgos Catastroficos","TOTAL GRANDES","55 Riesgos Catastroficos",13627777.325000001]
["TOTAL GRANDES|56 Terremoto y Erupcion Volcanica","TOTAL GRANDES","56 Terremoto y Erupcion Volcanica",5433604.5497399997]
["TOTAL GRANDES|57 Huracan y Otros Riesgos Hidrometeorologicos","TOTAL GRANDES","57 Huracan y Otros Riesgos Hidrometeorologicos",8326814.8960199999]
["TOTAL GRANDES|58 Otros Riesgos Catastroficos","TOTAL GRANDES","58 Otros Riesgos Catastroficos",91735.895799999998]
["TOTAL GRANDES|59 Agricola y de Animales","TOTAL GRANDES","59 Agricola y de Animales",595394.23554000002]
["TOTAL GRANDES|60 AyA Agricola","TOTAL GRANDES","60 AyA Agricola",557542.72372999997]
["TOTAL GRANDES|61 AyA Otros","TOTAL GRANDES","61 AyA Otros",118.44958]
["TOTAL GRANDES|62 AyA Pecuario","TOTAL GRANDES","62 AyA Pecuario",43157.298769999994]
["TOTAL GRANDES|63 Diversos","TOTAL GRANDES","63 Diversos",12680665.470539998]
["TOTAL GRANDES|64 Miscelaneos","TOTAL GRANDES","64 Miscelaneos",7408403.3481999999]
["TOTAL GRANDES|65 Tecnicos","TOTAL GRANDES","65 Tecnicos",8850175.7217200007]
["TOTAL GRANDES|66 Credito","TOTAL GRANDES","66 Credito",1887956.4961300001]
["TOTAL GRANDES|67 Credito a la Vivienda","TOTAL GRANDES","67 Credito a la Vivienda",449010.49111000006]
["TOTAL MEDIANAS|10 Total General","TOTAL MEDIANAS","10 Total General",218273770.20293]
["TOTAL MEDIANAS|11 Total General Sin Pensiones","TOTAL MEDIANAS","11 Total General Sin Pensiones",212225974.03475997]
["TOTAL MEDIANAS|12 Vida Total","TOTAL MEDIANAS","12 Vida Total",69661251.72804001]
["TOTAL MEDIANAS|13 Vida Individual","TOTAL MEDIANAS","13 Vida Individual",41990796.248570003]
["TOTAL MEDIANAS|14 Vida Gpo y Col","TOTAL MEDIANAS","14 Vida Gpo y Col",26777692.100499999]
["TOTAL MEDIANAS|15 Pensiones Total","TOTAL MEDIANAS","15 Pensiones Total",1325.17551]
["TOTAL MEDIANAS|16 Pensiones IMSS","TOTAL MEDIANAS","16 Pensiones IMSS",1325.17551]
["TOTAL MEDIANAS|28 Accidentes y Enfermedades Total","TOTAL MEDIANAS","28 Accidentes y Enfermedades Total",28596500.750749998]
["TOTAL MEDIANAS|29 Accidentes Personales","TOTAL MEDIANAS","29 Accidentes Personales",1657765.1328099999]
["TOTAL MEDIANAS|30 AP Individual","TOTAL MEDIANAS","30 AP Individual",719569.56356000027]
["TOTAL MEDIANAS|31 AP Gpo y Col","TOTAL MEDIANAS","31 AP Gpo y Col",725779.41179000004]
["TOTAL MEDIANAS|32 Gastos Medicos","TOTAL MEDIANAS","32 Gastos Medicos",24798430.224030003]
["TOTAL MEDIANAS|33 GMM. Individual","TOTAL MEDIANAS","33 GMM. Individual",11833622.511410002]
["TOTAL MEDIANAS|34 GMM. Gpo y Col","TOTAL MEDIANAS","34 GMM. Gpo y Col",11383995.536279999]
["TOTAL MEDIANAS|35 Salud","TOTAL MEDIANAS","35 Salud",193797.32147000002]
["TOTAL MEDIANAS|36 Salud Individual","TOTAL MEDIANAS","36 Salud Individual",3782.31486]
["TOTAL MEDIANAS|37 Salud Gpo y Col","TOTAL MEDIANAS","37 Salud Gpo y Col",174331.06235000002]
["TOTAL MEDIANAS|38 Daños Total","TOTAL MEDIANAS","38 Daños Total",87638036.768309996]
["TOTAL MEDIANAS|39 Automoviles Total","TOTAL MEDIANAS","39 Automoviles Total",31294616.038260002]
["TOTAL MEDIANAS|41 Automoviles Residentes","TOTAL MEDIANAS","41 Automoviles Residentes",21727889.407830004]
["TOTAL MEDIANAS|42 Camiones","TOTAL MEDIANAS","42 Camiones",8877952.0534700006]
["TOTAL MEDIANAS|43 Automoviles Turistas","TOTAL MEDIANAS","43 Automoviles Turistas",377094.94810000004]
["TOTAL MEDIANAS|44 Otros Automoviles y Obligatorios","TOTAL MEDIANAS","44 Otros Automoviles y Obligatorios",203597.25054000004]
["TOTAL MEDIANAS|45 Daños Sin Autos Total","TOTAL MEDIANAS","45 Daños Sin Autos Total",47668338.055700004]
[{"$f":"B1288&\"|\"&C1288","v":"TOTAL MEDIANAS|46 Responsabilidad Civil y Riesgos Profesionales"},"TOTAL MEDIANAS","46 Responsabilidad Civil y Riesgos Profesionales",5033700.0303800004]
["TOTAL MEDIANAS|47 RC General","TOTAL MEDIANAS","47 RC General",3618140.9785699998]
["TOTAL MEDIANAS|48 RC Aviones y Barcos","TOTAL MEDIANAS","48 RC Aviones y Barcos",223697.03362]
["TOTAL MEDIANAS|49 RC Viajero","TOTAL MEDIANAS","49 RC Viajero",46833.869729999999]
["TOTAL MEDIANAS|50 RC Otros","TOTAL MEDIANAS","50 RC Otros",85326.944609999991]
["TOTAL MEDIANAS|51 Maritimo y Transportes","TOTAL MEDIANAS","51 Maritimo y Transportes",5967339.9399899999]
["TOTAL MEDIANAS|52 MyT Carga","TOTAL MEDIANAS","52 MyT Carga",4709090.3475399995]
["TOTAL MEDIANAS|53 MyT Cascos","TOTAL MEDIANAS","53 MyT Cascos",753183.66133999999]
["TOTAL MEDIANAS|54 Incendio","TOTAL MEDIANAS","54 Incendio",10187570.67591]
["TOTAL MEDIANAS|55 Riesgos Catastroficos","TOTAL MEDIANAS","55 Riesgos Catastroficos",9664220.9732800014]
["TOTAL MEDIANAS|56 Terremoto y Erupcion Volcanica","TOTAL MEDIANAS","56 Terremoto y Erupcion Volcanica",4348556.55865]
["TOTAL MEDIANAS|57 Huracan y Otros Riesgos Hidrometeorologicos","TOTAL MEDIANAS","57 Huracan y Otros Riesgos Hidrometeorologicos",5165522.1274400009]
["TOTAL MEDIANAS|59 Agricola y de Animales","TOTAL MEDIANAS","59 Agricola y de Animales",13291.27599]
["TOTAL MEDIANAS|60 AyA Agricola","TOTAL MEDIANAS","60 AyA Agricola",7867.0394500000002]
["TOTAL MEDIANAS|63 Diversos","TOTAL MEDIANAS","63 Diversos",13321930.499709999]
["TOTAL MEDIANAS|64 Miscelaneos","TOTAL MEDIANAS","64 Miscelaneos",4795622.3897800008]
["TOTAL MEDIANAS|65 Tecnicos","TOTAL MEDIANAS","65 Tecnicos",6239749.1159899998]
["TOTAL RESTO|10 Total General","TOTAL RESTO","10 Total General",149887888.30010003]
["TOTAL RESTO|11 Total General Sin Pensiones","TOTAL RESTO","11 Total General Sin Pensiones",115285862.16411002]
["TOTAL RESTO|12 Vida Total","TOTAL RESTO","12 Vida Total",21335313.326219995]
["TOTAL RESTO|13 Vida Individual","TOTAL RESTO","13 Vida Individual",3724155.2407399998]
["TOTAL RESTO|14 Vida Gpo y Col","TOTAL RESTO","14 Vida Gpo y Col",9414699.5862499997]
["TOTAL RESTO|28 Accidentes y Enfermedades Total","TOTAL RESTO","28 Accidentes y Enfermedades Total",8696693.1161399987]
["TOTAL RESTO|29 Accidentes Personales","TOTAL RESTO","29 Accidentes Personales",392661.97730000009]
["TOTAL RESTO|30 AP Individual","TOTAL RESTO","30 AP Individual",22353.11952]
["TOTAL RESTO|31 AP Gpo y Col","TOTAL RESTO","31 AP Gpo y Col",271432.70621000003]
["TOTAL RESTO|32 Gastos Medicos","TOTAL RESTO","32 Gastos Medicos",2909741.8907399997]
["TOTAL RESTO|33 GMM. Individual","TOTAL RESTO","33 GMM. Individual",1487813.7508500004]
["TOTAL RESTO|34 GMM. Gpo y Col","TOTAL RESTO","34 GMM. Gpo y Col",880095.98453999998]
["TOTAL RESTO|38 Daños Total","TOTAL RESTO","38 Daños Total",38478635.236620001]
["TOTAL RESTO|39 Automoviles Total","TOTAL RESTO","39 Automoviles Total",5006394.2824599985]
["TOTAL RESTO|41 Automoviles Residentes","TOTAL RESTO","41 Automoviles Residentes",2644728.5795300002]
["TOTAL RESTO|42 Camiones","TOTAL RESTO","42 Camiones",380802.34333]
["TOTAL RESTO|43 Automoviles Turistas","TOTAL RESTO","43 Automoviles Turistas",336.07022000000001]
["TOTAL RESTO|44 Otros Automoviles y Obligatorios","TOTAL RESTO","44 Otros Automoviles y Obligatorios",1310.2096799999999]
["TOTAL RESTO|45 Daños Sin Autos Total","TOTAL RESTO","45 Daños Sin Autos Total",21813285.636009999]
["TOTAL RESTO|51 Maritimo y Transportes","TOTAL RESTO","51 Maritimo y Transportes",1623589.0307000002]
["TOTAL RESTO|52 MyT Carga","TOTAL RESTO","52 MyT Carga",1136370.2508599998]
["TOTAL RESTO|53 MyT Cascos","TOTAL RESTO","53 MyT Cascos",35658.311399999999]
["TOTAL RESTO|63 Diversos","TOTAL RESTO","63 Diversos",3916077.3582799998]
["TOTAL RESTO|64 Miscelaneos","TOTAL RESTO","64 Miscelaneos",1424663.0306700002]
["TOTAL RESTO|65 Tecnicos","TOTAL RESTO","65 Tecnicos",1200059.7220600001]
["Ve Por Más|10 Total General","Ve Por Más","10 Total General",3075303.1990300003]
["Ve Por Más|11 Total General Sin Pensiones","Ve Por Más","11 Total General Sin Pensiones",3075303.1990300003]
["Ve Por Más|12 Vida Total","Ve Por Más","12 Vida Total",570808.76127999998]
["Ve Por Más|13 Vida Individual","Ve Por Más","13 Vida Individual",104130.66012999999]
["Ve Por Más|14 Vida Gpo y Col","Ve Por Más","14 Vida Gpo y Col",466678.10115]
["Ve Por Más|28 Accidentes y Enfermedades Total","Ve Por Más","28 Accidentes y Enfermedades Total",1918806.1886800001]
["Ve Por Más|29 Accidentes Personales","Ve Por Más","29 Accidentes Personales",22011.965170000003]
["Ve Por Más|30 AP Individual","Ve Por Más","30 AP Individual",65.642529999999994]
["Ve Por Más|31 AP Gpo y Col","Ve Por Más","31 AP Gpo y Col",21946.322640000002]
["Ve Por Más|32 Gastos Medicos","Ve Por Más","32 Gastos Medicos",1896794.2235099999]
["Ve Por Más|33 GMM. Individual","Ve Por Más","33 GMM. Individual",1584584.79492]
["Ve Por Más|34 GMM. Gpo y Col","Ve Por Más","34 GMM. Gpo y Col",312209.42858999997]
["Ve Por Más|38 Daños Total","Ve Por Más","38 Daños Total",585688.24907000002]
["Ve Por Más|39 Automoviles Total","Ve Por Más","39 Automoviles Total",149466.13525999998]
["Ve Por Más|41 Automoviles Residentes","Ve Por Más","41 Automoviles Residentes",93487.413969999994]
["Ve Por Más|42 Camiones","Ve Por Más","42 Camiones",53234.089489999998]
["Ve Por Más|44 Otros Automoviles y Obligatorios","Ve Por Más","44 Otros Automoviles y Obligatorios",2744.6317999999997]
["Ve Por Más|45 Daños Sin Autos Total","Ve Por Más","45 Daños Sin Autos Total",436222.11381000001]
["Ve Por Más|46 Responsabilidad Civil y Riesgos Profesionales","Ve Por Más","46 Responsabilidad Civil y Riesgos Profesionales",49309.138319999998]
["Ve Por Más|47 RC General","Ve Por Más","47 RC General",40510.73934]
["Ve Por Más|48 RC Aviones y Barcos","Ve Por Más","48 RC Aviones y Barcos",6146.3605199999993]
["Ve Por Más|49 RC Viajero","Ve Por Más","49 RC Viajero",2652.0384599999998]
[{"$f":"B1352&\"|\"&C1352","v":"Ve Por Más|51 Maritimo y Transportes"},"Ve Por Más","51 Maritimo y Transportes",42073.876429999997]
["Ve Por Más|52 MyT Carga","Ve Por Más","52 MyT Carga",15749.13917]
["Ve Por Más|53 MyT Cascos","Ve Por Más","53 MyT Cascos",26324.737260000002]
["Ve Por Más|54 Incendio","Ve Por Más","54 Incendio",83173.876140000008]
["Ve Por Más|55 Riesgos Catastroficos","Ve Por Más","55 Riesgos Catastroficos",168430.57428999999]
["Ve Por Más|56 Terremoto y Erupcion Volcanica","Ve Por Más","56 Terremoto y Erupcion Volcanica",39576.225700000003]
["Ve Por Más|57 Huracan y Otros Riesgos Hidrometeorologicos","Ve Por Más","57 Huracan y Otros Riesgos Hidrometeorologicos",128854.34859000001]
["Ve Por Más|63 Diversos","Ve Por Más","63 Diversos",93234.648629999996]
["Ve Por Más|64 Miscelaneos","Ve Por Más","64 Miscelaneos",23666.798839999999]
["Ve Por Más|65 Tecnicos","Ve Por Más","65 Tecnicos",69567.849790000007]
["Virginia Surety|10 Total General","Virginia Surety","10 Total General",108805.01648000001]
["Virginia Surety|11 Total General Sin Pensiones","Virginia Surety","11 Total General Sin Pensiones",108805.01648000001]
["Virginia Surety|38 Daños Total","Virginia Surety","38 Daños Total",108805.01648000001]
["Virginia Surety|39 Automoviles Total","Virginia Surety","39 Automoviles Total",1371.74431]
["Virginia Surety|44 Otros Automoviles y Obligatorios","Virginia Surety","44 Otros Automoviles y Obligatorios",1371.74431]
["Virginia Surety|45 Daños Sin Autos Total","Virginia Surety","45 Daños Sin Autos Total",107433.27217]
["Virginia Surety|63 Diversos","Virginia Surety","63 Diversos",107433.27217]
["Virginia Surety|64 Miscelaneos","Virginia Surety","64 Miscelaneos",107433.27217]
["Zurich Aseguradora Mexicana|10 Total General","Zurich Aseguradora Mexicana","10 Total General",5416891.1568900002]
["Zurich Aseguradora Mexicana|11 Total General Sin Pensiones","Zurich Aseguradora Mexicana","11 Total General Sin Pensiones",5416891.1568900002]
["Zurich Aseguradora Mexicana|12 Vida Total","Zurich Aseguradora Mexicana","12 Vida Total",483896.76513999997]
["Zurich Aseguradora Mexicana|13 Vida Individual","Zurich Aseguradora Mexicana","13 Vida Individual",15159.569880000001]
["Zurich Aseguradora Mexicana|14 Vida Gpo y Col","Zurich Aseguradora Mexicana","14 Vida Gpo y Col",468737.19526000001]
["Zurich Aseguradora Mexicana|28 Accidentes y Enfermedades Total","Zurich Aseguradora Mexicana","28 Accidentes y Enfermedades Total",932762.10992999992]
["Zurich Aseguradora Mexicana|29 Accidentes Personales","Zurich Aseguradora Mexicana","29 Accidentes Personales",2267.2332299999998]
["Zurich Aseguradora Mexicana|30 AP Individual","Zurich Aseguradora Mexicana","30 AP Individual",0]
["Zurich Aseguradora Mexicana|31 AP Gpo y Col","Zurich Aseguradora Mexicana","31 AP Gpo y Col",2267.2332299999998]
["Zurich Aseguradora Mexicana|32 Gastos Medicos","Zurich Aseguradora Mexicana","32 Gastos Medicos",930494.87670000002]
["Zurich Aseguradora Mexicana|33 GMM. Individual","Zurich Aseguradora Mexicana","33 GMM. Individual",59461.378280000004]
["Zurich Aseguradora Mexicana|34 GMM. Gpo y Col","Zurich Aseguradora Mexicana","34 GMM. Gpo y Col",871033.49841999996]
["Zurich Aseguradora Mexicana|38 Daños Total","Zurich Aseguradora Mexicana","38 Daños Total",4000232.2818200001]
["Zurich Aseguradora Mexicana|39 Automoviles Total","Zurich Aseguradora Mexicana","39 Automoviles Total",1564521.25496]
["Zurich Aseguradora Mexicana|41 Automoviles Residentes","Zurich Aseguradora Mexicana","41 Automoviles Residentes",1550212.1261500001]
["Zurich Aseguradora Mexicana|42 Camiones","Zurich Aseguradora Mexicana","42 Camiones",3063.2320499999996]
["Zurich Aseguradora Mexicana|43 Automoviles Turistas","Zurich Aseguradora Mexicana","43 Automoviles Turistas",6014.1698499999993]
["Zurich Aseguradora Mexicana|44 Otros Automoviles y Obligatorios","Zurich Aseguradora Mexicana","44 Otros Automoviles y Obligatorios",5231.7269100000003]
["Zurich Aseguradora Mexicana|45 Daños Sin Autos Total","Zurich Aseguradora Mexicana","45 Daños Sin Autos Total",2435711.0268600001]
["Zurich Aseguradora Mexicana|46 Responsabilidad Civil y Riesgos Profesionales","Zurich Aseguradora Mexicana","46 Responsabilidad Civil y Riesgos Profesionales",422866.74372000003]
["Zurich Aseguradora Mexicana|47 RC General","Zurich Aseguradora Mexicana","47 RC General",237283.45087]
["Zurich Aseguradora Mexicana|50 RC Otros","Zurich Aseguradora Mexicana","50 RC Otros",185583.29285]
["Zurich Aseguradora Mexicana|51 Maritimo y Transportes","Zurich Aseguradora Mexicana","51 Maritimo y Transportes",330072.63367000001]
["Zurich Aseguradora Mexicana|52 MyT Carga","Zurich Aseguradora Mexicana","52 MyT Carga",329405.48785000003]
["Zurich Aseguradora Mexicana|53 MyT Cascos","Zurich Aseguradora Mexicana","53 MyT Cascos",667.14581999999996]
["Zurich Aseguradora Mexicana|54 Incendio","Zurich Aseguradora Mexicana","54 Incendio",779113.45360999997]
["Zurich Aseguradora Mexicana|55 Riesgos Catastroficos","Zurich Aseguradora Mexicana","55 Riesgos Catastroficos",396288.06819000002]
["Zurich Aseguradora Mexicana|56 Terremoto y Erupcion Volcanica","Zurich Aseguradora Mexicana","56 Terremoto y Erupcion Volcanica",260242.75466999999]
["Zurich Aseguradora Mexicana|57 Huracan y Otros Riesgos Hidrometeorologicos","Zurich Aseguradora Mexicana","57 Huracan y Otros Riesgos Hidrometeorologicos",136045.31352000003]
["Zurich Aseguradora Mexicana|63 Diversos","Zurich Aseguradora Mexicana","63 Diversos",507370.12767000002]
["Zurich Aseguradora Mexicana|64 Miscelaneos","Zurich Aseguradora Mexicana","64 Miscelaneos",264678.83552000002]
["Zurich Aseguradora Mexicana|65 Tecnicos","Zurich Aseguradora Mexicana","65 Tecnicos",242691.29214999999]
["Zurich Daños|10 Total General","Zurich Daños","10 Total General",0]
["Zurich Daños|11 Total General Sin Pensiones","Zurich Daños","11 Total General Sin Pensiones",0]
["Zurich Daños|38 Daños Total","Zurich Daños","38 Daños Total",0]
["Zurich Daños|39 Automoviles Total","Zurich Daños","39 Automoviles Total",0]
["Zurich Daños|41 Automoviles Residentes","Zurich Daños","41 Automoviles Residentes",0]
["Zurich Daños|42 Camiones","Zurich Daños","42 Camiones",0]
["Zurich Daños|43 Automoviles Turistas","Zurich Daños","43 Automoviles Turistas",0]
["Zurich Daños|44 Otros Automoviles y Obligatorios","Zurich Daños","44 Otros Automoviles y Obligatorios",0]
["Zurich Daños|45 Daños Sin Autos Total","Zurich Daños","45 Daños Sin Autos Total",0]
["Zurich Daños|46 Responsabilidad Civil y Riesgos Profesionales","Zurich Daños","46 Responsabilidad Civil y Riesgos Profesionales",0]
["Zurich Daños|47 RC General","Zurich Daños","47 RC General",0]
["Zurich Daños|50 RC Otros","Zurich Daños","50 RC Otros",0]
["Zurich Daños|51 Maritimo y Transportes","Zurich Daños","51 Maritimo y Transportes",0]
["Zurich Daños|52 MyT Carga","Zurich Daños","52 MyT Carga",0]
[{"$f":"B1416&\"|\"&C1416","v":"Zurich Daños|53 MyT Cascos"},"Zurich Daños","53 MyT Cascos",0]
["Zurich Daños|54 Incendio","Zurich Daños","54 Incendio",0]
["Zurich Daños|55 Riesgos Catastroficos","Zurich Daños","55 Riesgos Catastroficos",0]
["Zurich Daños|56 Terremoto y Erupcion Volcanica","Zurich Daños","56 Terremoto y Erupcion Volcanica",0]
["Zurich Daños|57 Huracan y Otros Riesgos Hidrometeorologicos","Zurich Daños","57 Huracan y Otros Riesgos Hidrometeorologicos",0]
["Zurich Daños|63 Diversos","Zurich Daños","63 Diversos",0]
["Zurich Daños|64 Miscelaneos","Zurich Daños","64 Miscelaneos",0]
["Zurich Daños|65 Tecnicos","Zurich Daños","65 Tecnicos",0]
["Zurich Santander|10 Total General","Zurich Santander","10 Total General",14538030.85846]
["Zurich Santander|11 Total General Sin Pensiones","Zurich Santander","11 Total General Sin Pensiones",14538030.85846]
["Zurich Santander|12 Vida Total","Zurich Santander","12 Vida Total",10124406.058669999]
["Zurich Santander|13 Vida Individual","Zurich Santander","13 Vida Individual",6141818.6342099998]
["Zurich Santander|14 Vida Gpo y Col","Zurich Santander","14 Vida Gpo y Col",3982587.4244599999]
["Zurich Santander|28 Accidentes y Enfermedades Total","Zurich Santander","28 Accidentes y Enfermedades Total",971649.83501000004]
["Zurich Santander|29 Accidentes Personales","Zurich Santander","29 Accidentes Personales",681068.17361000006]
["Zurich Santander|30 AP Individual","Zurich Santander","30 AP Individual",636343.28428999998]
["Zurich Santander|31 AP Gpo y Col","Zurich Santander","31 AP Gpo y Col",44724.889320000002]
["Zurich Santander|32 Gastos Medicos","Zurich Santander","32 Gastos Medicos",290581.66139999998]
["Zurich Santander|33 GMM. Individual","Zurich Santander","33 GMM. Individual",290581.66139999998]
["Zurich Santander|38 Daños Total","Zurich Santander","38 Daños Total",3441974.96478]
["Zurich Santander|39 Automoviles Total","Zurich Santander","39 Automoviles Total",1343.1104800000001]
["Zurich Santander|41 Automoviles Residentes","Zurich Santander","41 Automoviles Residentes",1343.1104800000001]
["Zurich Santander|45 Daños Sin Autos Total","Zurich Santander","45 Daños Sin Autos Total",3440631.8542999998]
["Zurich Santander|46 Responsabilidad Civil y Riesgos Profesionales","Zurich Santander","46 Responsabilidad Civil y Riesgos Profesionales",47768.320209999998]
["Zurich Santander|47 RC General","Zurich Santander","47 RC General",47768.320209999998]
["Zurich Santander|54 Incendio","Zurich Santander","54 Incendio",315666.67281000002]
["Zurich Santander|55 Riesgos Catastroficos","Zurich Santander","55 Riesgos Catastroficos",790772.02880999993]
["Zurich Santander|56 Terremoto y Erupcion Volcanica","Zurich Santander","56 Terremoto y Erupcion Volcanica",522741.17349000002]
["Zurich Santander|57 Huracan y Otros Riesgos Hidrometeorologicos","Zurich Santander","57 Huracan y Otros Riesgos Hidrometeorologicos",268030.85531999997]
["Zurich Santander|63 Diversos","Zurich Santander","63 Diversos",2286424.8324699998]
["Zurich Santander|64 Miscelaneos","Zurich Santander","64 Miscelaneos",2256870.7639099997]
["Zurich Santander|65 Tecnicos","Zurich Santander","65 Tecnicos",29554.06856]
["Zurich Vida|10 Total General","Zurich Vida","10 Total General",0]
["Zurich Vida|11 Total General Sin Pensiones","Zurich Vida","11 Total General Sin Pensiones",0]
["Zurich Vida|12 Vida Total","Zurich Vida","12 Vida Total",0]
["Zurich Vida|13 Vida Individual","Zurich Vida","13 Vida Individual",0]
["Zurich Vida|14 Vida Gpo y Col","Zurich Vida","14 Vida Gpo y Col",0]
["Zurich Vida|28 Accidentes y Enfermedades Total","Zurich Vida","28 Accidentes y Enfermedades Total",0]
["Zurich Vida|29 Accidentes Personales","Zurich Vida","29 Accidentes Personales",0]
["Zurich Vida|30 AP Individual","Zurich Vida","30 AP Individual",0]
["Zurich Vida|31 AP Gpo y Col","Zurich Vida","31 AP Gpo y Col",0]
["Zurich Vida|32 Gastos Medicos","Zurich Vida","32 Gastos Medicos",0]
["Zurich Vida|33 GMM. Individual","Zurich Vida","33 GMM. Individual",0]
["Zurich Vida|34 GMM. Gpo y Col","Zurich Vida","34 GMM. Gpo y Col",0]
["SPT|10 Total General","SPT","10 Total General",31148.555920000003]
["SPT|11 Total General Sin Pensiones","SPT","11 Total General Sin Pensiones",31148.555920000003]
["SPT|38 Daños Total","SPT","38 Daños Total",31148.555920000003]
["SPT|39 Automoviles Total","SPT","39 Automoviles Total",31148.555920000003]
["SPT|41 Automoviles Residentes","SPT","41 Automoviles Residentes",31148.555920000003]
["|"]
["|"]
["|"]
["|"]
["|"]
["|"]
["|"]
["|"]
["|"]
["|"]
["|"]
["|"]
["|"]
["|"]
["|"]
[{"$f":"B1480&\"|\"&C1480","v":"|"}]
["|"]
["|"]
["|"]
["|"]
["|"]
["|"]
["|"]
["|"]
["|"]
["|"]
["|"]
["|"]
["|"]
["|"]
["|"]
["|"]
["|"]
["|"]
["|"]
["|"]
["|"]
["|"]
["|"]
["|"]
["|"]
["|"]
["|"]
["|"]
["|"]
["|"]
["|"]
["|"]
["|"]
["|"]
["|"]
["|"]
["|"]
["|"]
["|"]
["|"]
["|"]
["|"]
["|"]
["|"]
["|"]
["|"]
["|"]
["|"]
["|"]
["|"]
["|"]
["|"]
["|"]
["|"]
["|"]
["|"]
["|"]
["|"]
["|"]
["|"]
["|"]
["|"]
["|"]
[{"$f":"B1544&\"|\"&C1544","v":"|"}]
["|"]
["|"]
["|"]
["|"]
["|"]
["|"]
["|"]
["|"]
["|"]
["|"]
["|"]
["|"]
["|"]
["|"]
["|"]
["|"]
["|"]
["|"]
["|"]
["|"]
["|"]
["|"]
["|"]
["|"]
["|"]
["|"]
["|"]
["|"]
["|"]
["|"]
["|"]
["|"]
["|"]
["|"]
["|"]
["|"]
["|"]
["|"]
["|"]
["|"]
["|"]
["|"]
["|"]
["|"]
["|"]
["|"]
["|"]
["|"]
["|"]
["|"]
["|"]
["|"]
["|"]
["|"]
["|"]
["|"]
["|"]
["|"]
["|"]
["|"]
["|"]
["|"]
["|"]
[{"$f":"B1608&\"|\"&C1608","v":"|"}]
["|"]
["|"]
["|"]
["|"]
["|"]
["|"]
["|"]
["|"]

{"sheet":"TD Siniestros Daños","index":7,"n_rows":55,"n_cols":13,"rows_kept":55,"cut":false,"hidden":true,"merged":[]}
["periodo","2022-Q4"]
["Ramo3","45 Daños Sin Autos Total"]
["operacion","(Varios elementos)"]
["ramo_complemento","(Varios elementos)"]
[]
["Jerarquia 2","nombre_compania","Suma de CostoSin_Act","Suma de IncSin","Suma de IncResvDivAct","Suma de %SinvsPrm_Act","Suma de %SinvsPrm_Ant","Suma de Costo_Sin_RetAct","Suma de IncSin_Ret","Suma de Prima_DevengadaAct","Suma de IncSin_PDev","Suma de %SinvsPDev_Act","Suma de %SinvsPDev_Ant"]
[1,"GMX Seguros",5157067.1514399992,3.0307472588146478,0,40.652839052711201,46.172101271041889,798619.18355999992,-7.1276883838525045,2734021.3787099998,29.600135619950429,29.210422046400179,40.762145281535631]
[2,"Mapfre México",4690793.6754000001,-41.183763097257717,221213.33433000001,52.650544628515419,42.243265493585284,946802.49910999998,-8.0495888500350272,2088869.7064799999,29.775485244603338,45.326067785504804,63.971573019941964]
[3,"AXA Seguros",3021416.8386599999,34.704922308271115,0,34.357521138943255,25.161781978867953,1094409.0218600002,-16.634244355720153,3746530.7035599998,11.245386962260806,29.21126525988641,38.98025613009942]
[4,"Inbursa",2045733.6878499999,120.80738972792999,0,24.48840666867553,12.183589576637729,661564.10415999999,-5.3942797841483481,1620475.8869299998,13.060087275504252,40.825297648417141,48.788928456411618]
[5,"Agroasemex",1046396.9407599999,0,-6172.1184500000018,15.279946373413983,0,1019694.00554,0,7344206.2298599994,0,13.884332406055517,0]
[5.0999999999999996,"TOTAL GRANDES",15961408.29411,-1.1688097769906425,215041.21588,35.009975625192922,34.927743366362826,4521088.8142300006,15.875892819413062,17534103.905539997,105.79258107682863,25.784544443138252,45.792682358125866]
[6,"Chubb Seguros México",2052224.2878399999,1.4709752827618328,1624.6720800000001,33.410559733255987,35.338113204830385,327057.75578999997,3664.1581606391933,1956349.4000200001,32.479495041106674,16.71775787017679,0.58838125985769396]
[7,"Atlas",2145327.8799100001,12.79461654950742,8446.7888699999985,35.20253960319058,30.06900679186197,350369.64214999997,-6.6850757945192356,871743.02801999985,-14.100831157660853,40.191849075730339,36.99779493191933]
[8,"Allianz México",3051551.6161699994,110.63841548629343,2874.2492599999996,52.748724969652486,29.09235744447561,167983.43222999998,-35.642506345148661,486449.48493000004,-13.367096586876226,34.532554239249066,46.484958722313579]
[9,"AIG Seguros",1258688.8599299998,82.093067098902651,11277.278039999999,22.504553626951392,14.810487733010683,229231.31068999998,43.171125010982877,552244.40269999998,-15.319619530737338,41.509032879148457,24.551044750453581]
[10,"G.N.P.",2948656.1970399991,54.453075494983104,0,56.409855802812203,35.376992228259411,964625.29393999989,41.68062113286728,1716977.89298,18.208477585324289,56.181579150433258,46.874010620578019]
[11,"BBVA Bancomer",529734.09739000001,-36.609076458680192,0,11.929647280591917,24.045925873868715,481338.13504999992,-40.049441003312594,3916324.2358300001,28.616293976498831,12.290558852259798,26.367829707226786]
[12,"Banorte",620231.05617,-8.9575132283983621,0,14.811913011890995,16.177185905213161,439760.76316999999,41.168550909597371,1909209.7738200002,8.8726850823709125,23.033653462296833,17.764124399796589]
[13,"FM Global",264444.23681999999,19.518461401744247,0,7.5039227510194024,7.0138135977470286,12407.304610000001,429.49318175732986,8175.2947000000004,-193.84924820858032,151.76583921800398,-26.899515244148425]
[14,"Zurich Santander",289082.07816999999,26.668134334683646,0,8.4020055156064952,7.7509254857662357,273013.18395999999,45.37021808797477,2637962.30914,13.563334548654549,10.349396692062852,8.0849572517405193]
[15,"Seguros SURA",1410481.0415100004,13.532830783316886,2777.9345399999997,43.617296071708637,42.880936144990841,660605.19282999996,33.655825442656415,2037893.5476199999,31.156971647928899,32.416079515120046,31.810022554727404]
[15.1,"TOTAL MEDIANAS",14570421.350949997,30.299593508954302,27000.922789999993,30.566245741407215,25.545028209017644,3906392.0144199999,18.918088116083975,16093329.369760003,16.413541497769057,24.273361494485187,23.762137622580994]
[16,"Afirme",1908601.2289700001,-8.9689746963743762,0,62.581515941788105,42.423656463157265,399299.23251999996,7.0399835005480194,745476.87584999995,-22.240145127494092,53.56292669235583,38.911117789203864]
[17,"Seguros Azteca Daños",869467.74249000009,33.619899273379602,31342.309350000003,31.162513543055287,43.637377159031203,31353.458060000001,-29.180103038822246,95589.989580000009,-25.858013836178696,32.799938777857122,34.338550483562102]
[18,"Zurich Aseguradora Mexicana",2546791.32565,-8782.1431738401025,776.72173999999995,104.56048757693557,-1362.0408837865775,480601.47296999994,-1890.3346046183738,908380.51935000019,34327.123090489222,52.907505470713822,-1017.3814428612108]
[19,"HDI Seguros",989737.95117000013,2.8368693732316874,0,49.208723123358688,51.26118219311779,800076.80880999996,19.502071060651804,1751050.3745599999,31.573360294984433,45.691250259493046,50.306670665727538]
[20,"Tokio Marine",555667.66243000003,-17.924130041376518,-714.63794999999993,42.85916818600262,52.433377036060747,95857.686839999995,51.92807840935825,145766.39387999999,-2.2288664434103933,65.761170519806782,42.319657123588392]
[21,"HDI Global Seguros",389690.04205000005,59.261423990478932,0,34.583189664004699,23.451065321980899,1590.9799800000003,-120.94720961053112,-5477.8924600000009,231.3324861628017,-29.043651214722825,459.39795052136265]
[22,"Cardif Seguros Generales",103678.00115999999,-28.316699010042477,0,9.9287620135294841,14.757278485867456,158746.95491999999,-23.31672350527748,1115634.5454899997,26.9887440594919,14.229297179953896,23.563945886636358]
[23,"Atradius",181850.31085000001,1476.5614788062094,19191.945,22.486218388567824,1.8549142101333409,67491.691160000002,1169.6359146781949,231698.53830000001,41.583218395220165,29.129096650844083,3.2483259217011535]
[24,"General de Seguros",328978.66015000001,32.064692767828952,17500,44.412797201713701,40.327114778972955,132374.12755,12.57619140409898,234437.67410999999,16.762235856324438,56.464528601272946,58.564111326100132]
[25,"El Águila",222423.72371000005,-30.812384842444484,0,30.976833033867212,52.193631964602247,105290.79363,27.31501707080848,352181.51420999999,16.676076475467937,29.89674056748386,27.398452037114591]
[26,"Sompo Japan",28224.795059999993,-87.341232468206243,9.4211000000000009,4.0327670358590817,36.801011079914112,-8453.0425300000006,-146.03281941406163,145454.53146999999,22.591490208800913,-5.8114672981112596,15.476706520338517]
[27,"El Potosí",388984.26897999999,97.49156418365466,0,57.315768931213803,30.570567520578134,166305.08913000001,73.285641494411479,258968.43809000004,32.269857297817751,64.218284805889553,49.018160384970891]
[28,"Solunion Crédito",142452.92807000002,-38.974430745315438,733.84481999999991,21.104123773858745,43.303701113148939,15347.580039999999,-39.600181679187308,28981.643649999998,-0.39154563869258086,52.956209887012392,87.332815931015148]
[29,"Swiss Re Corporate Solutions",34790.268200000006,-248.24333382883469,-293.24920000000009,5.1715886083797686,-7.3915201497928278,6155.6331999999993,260.18624868560164,-9218.0895,-1751.6604966511736,-66.777754761439439,306.21429884404779]
[30,"Berkley Seguros",412985.07957999996,146.53625746875224,2418.8379399999999,64.928948103688995,36.024530667953584,25840.975859999999,186.80820303437255,17068.813389999999,-10.504889295246256,151.39292503566352,47.240373331858365]
[31,"Ve Por Más",45834.757559999998,-67.201694856499302,0,10.507206331122335,26.223125245974018,22774.257950000003,-33.528477171340953,88506.388430000006,19.930813520075198,25.731767337916224,46.426374164773257]
[32,"Coface",46682.784039999999,243.40014759205516,13239.2675,12.107048067434111,4.1143033846339998,22519.924309999999,137.27709222613532,78430.455300000001,33.723065259462118,28.713239294430053,16.182018820090292]
[33,"SHF Cred Vivienda",64047.909359999998,-158.79339886023817,0,16.914945030861119,-25.967428824345234,55474.469969999998,-146.57589984612912,-1269.53341,-100.38419090590037,-4369.6738922373061,-36.044155382803332]
[34,"Primero Seguros",124400.23939999999,39.896602763823807,0,43.520713691065623,37.109642120676362,35607.669070000004,32.87696087856866,66383.750349999988,20.468388230105418,53.639134400004586,48.630101294473256]
[35,"La Latinoamericana",6056.7007899999999,-14.169371304678346,2089.8345199999999,3.105926199295121,3.5536653243078997,5504.3218499999994,3.3928199556986449,111288.77075,0.40804213845522241,4.9459813536488362,4.8031991427061795]
[36,"Assurant Daños",55339.929609999999,4.8276709565635345,511.87678000000005,31.049109260466416,31.555225309754952,14481.3274,22.479088092531541,41237.512619999994,-1.5478867963290344,35.116878977265536,28.227928524560745]
[37,"Citibanamex Seguros",4196.3914800000002,-89.176286880477107,0,3.0575705274126288,24.823652740677122,-20251.444630000002,-361.8334169912232,26.404719999999994,-97.6095861130771,-76696.305168166931,700.20058958253196]
[38,"Patrimonial Inbursa",3476.1753200000003,340.37881005055908,0,2.5559142700145543,0.54483512692131586,3421.9827199999995,350.65290480055484,136153.29412000001,-6.9307067702015672,2.5133308320722687,0.51905562285713081]
[39,"Tláloc Seguros",74814.190309999991,-21.161031831741617,0,65.220028285122197,77.344466649618667,10420.348619999999,-23.532638088187007,21251.59837,7.6158114285316714,49.033246528458648,69.006599419773323]
[40,"Virginia Surety",28699.854490000005,105.43294757604551,0,26.714121156605934,19.981915139626853,17905.108800000002,67.151786186716535,45022.961920000002,70.659502376491588,39.768838024950625,40.603395645727922]
[41,"Genworth Seg. de Crédito",11744.406199999999,-243.29019271556888,0,16.691019394095754,-12.434347259341139,11118.92807,-27.643496130648295,174321.64306,29.946843228169563,6.3783979285767529,11.45512333166673]
[42,"Quálitas",3308.701,3044.8233136772824,0,88.505611909993334,3.5633280511968657,1708.3482300000001,1523.7349163866184,2562.7517900000003,163.38659060775024,66.660697952336605,10.813054387147544]
[43,"Zurich Daños",-54836.227370000008,-101.67953806579642,0,0,64.875316100784389,-54836.227370000001,-109.19604717239362,0,-100,0,30.914983508498374]
[145,"HSBC Seguros",null,0,0,0,0,0,0,0,0,0,0]
[150.1,"TOTAL RESTO",9518089.800710002,-2.1254178233581889,86806.171599999987,43.634370170247372,41.314522452068545,2603728.45713,13.612863152698118,6779909.8679899983,-8.438141011601008,38.403585118778473,30.949872643985611]
[151.1,"TOTAL",40049919.445770003,8.0759420111960587,328848.31026999996,34.804028894717071,32.634602576734935,11031209.285780001,16.383061627036021,40407343.143289998,35.826255008824191,27.300011403030915,31.860807395279046]
[200,"Patria",0,0,0,0,0,3250422.8240200002,30.824035840048268,7620216.5829400001,29.767832741250277,42.655255118299216,42.310879466327663]

{"sheet":"Primas Directas","index":8,"n_rows":129,"n_cols":12,"rows_kept":129,"cut":false,"hidden":false,"merged":[[5,7,6,7],[5,8,6,8],[1,1,1,11],[4,3,4,4],[4,5,4,6],[4,7,4,8],[4,9,4,11]]}
[null,"PRIMAS DIRECTAS",null,null,null,null,null,null,null,null,null,{"$f":"VLOOKUP(RIGHT(TDPrimas_!B3,2),Cat!$N$2:$O$5,2,0)&\" \"&LEFT(TDPrimas_!B3,4)","v":"Cuarto Trimestre 2022"}]
[null,{"$f":"UPPER(RIGHT(TDPrimas_!$B$4,LEN(TDPrimas_!$B$4)-3))","v":"TOTAL GENERAL"}]
[null,null,null,null,null,null,null,null,null,null,null,"Cifras en miles"]
[null,null,null,2,3,4,5,6,7,8,9,10]
[null,null,null,"Primas Directas",null,"% Part. en Merc. ",null,"Incremento",null,"% de Cartera"]
[null,"Compañías",null,{"$f":"LEFT(TDPrimas_!B3,4)","v":"2022"},{"$f":"D6-1","v":2021},{"$f":"D6","v":"2022"},{"$f":"E6","v":2021},"Importe","%","Por ","Total","Total"]
[null,null,null,"Importe","Importe",{"$f":"RIGHT(TDPrimas_!B3,2)","v":"Q4"},{"$f":"RIGHT(TDPrimas_!B3,2)","v":"Q4"},null,null,"Operación","Cartera","Sector"]
[null,null,"TOTAL",{"$f":"VLOOKUP($C$8,$C$9:$L$125,D$4,0)","v":666940231.74629986},{"$f":"VLOOKUP($C$8,$C$9:$L$125,E$4,0)","v":633397048.49517012},99.999999999999972,100.00000000000004,33543183.251129746,5.2957593236062417,100,100,99.999999999999972]
[null,{"$f":"IF(TDPrimas_!A7=\"\",\"\",TDPrimas_!A7)","v":1},{"$f":"IF(TDPrimas_!B7=\"\",\"\",TDPrimas_!B7)","v":"G.N.P."},{"$f":"IF(TDPrimas_!C7=\"\",\"\",TDPrimas_!C7)","v":88896231.251249999},{"$f":"IF(TDPrimas_!D7=\"\",\"\",TDPrimas_!D7)","v":78894165.130579993},{"$f":"IF(TDPrimas_!E7=\"\",\"\",TDPrimas_!E7)","v":13.328965178556748},{"$f":"IF(TDPrimas_!F7=\"\",\"\",TDPrimas_!F7)","v":12.455720360241246},{"$f":"IF(TDPrimas_!G7=\"\",\"\",TDPrimas_!G7)","v":10002066.120670006},{"$f":"IF(TDPrimas_!H7=\"\",\"\",TDPrimas_!H7)","v":12.677827446573907},{"$f":"IF(TDPrimas_!I7=\"\",\"\",TDPrimas_!I7)","v":100},{"$f":"IF(TDPrimas_!J7=\"\",\"\",TDPrimas_!J7)","v":100},{"$f":"IF(TDPrimas_!K7=\"\",\"\",TDPrimas_!K7)","v":13.328965178556748}]
[null,{"$f":"IF(TDPrimas_!A8=\"\",\"\",TDPrimas_!A8)","v":2},{"$f":"IF(TDPrimas_!B8=\"\",\"\",TDPrimas_!B8)","v":"Metlife México"},{"$f":"IF(TDPrimas_!C8=\"\",\"\",TDPrimas_!C8)","v":69679915.865999997},{"$f":"IF(TDPrimas_!D8=\"\",\"\",TDPrimas_!D8)","v":62441035.431000002},{"$f":"IF(TDPrimas_!E8=\"\",\"\",TDPrimas_!E8)","v":10.447700190997896},{"$f":"IF(TDPrimas_!F8=\"\",\"\",TDPrimas_!F8)","v":9.8581191022831494},{"$f":"IF(TDPrimas_!G8=\"\",\"\",TDPrimas_!G8)","v":7238880.4349999949},{"$f":"IF(TDPrimas_!H8=\"\",\"\",TDPrimas_!H8)","v":11.593146053766624},{"$f":"IF(TDPrimas_!I8=\"\",\"\",TDPrimas_!I8)","v":100},{"$f":"IF(TDPrimas_!J8=\"\",\"\",TDPrimas_!J8)","v":100},{"$f":"IF(TDPrimas_!K8=\"\",\"\",TDPrimas_!K8)","v":10.447700190997896}]
[null,{"$f":"IF(TDPrimas_!A9=\"\",\"\",TDPrimas_!A9)","v":3},{"$f":"IF(TDPrimas_!B9=\"\",\"\",TDPrimas_!B9)","v":"BBVA Bancomer"},{"$f":"IF(TDPrimas_!C9=\"\",\"\",TDPrimas_!C9)","v":54574701.129000001},{"$f":"IF(TDPrimas_!D9=\"\",\"\",TDPrimas_!D9)","v":46683566.47428},{"$f":"IF(TDPrimas_!E9=\"\",\"\",TDPrimas_!E9)","v":8.182847357416561},{"$f":"IF(TDPrimas_!F9=\"\",\"\",TDPrimas_!F9)","v":7.370347965023079},{"$f":"IF(TDPrimas_!G9=\"\",\"\",TDPrimas_!G9)","v":7891134.6547200009},{"$f":"IF(TDPrimas_!H9=\"\",\"\",TDPrimas_!H9)","v":16.903452865083835},{"$f":"IF(TDPrimas_!I9=\"\",\"\",TDPrimas_!I9)","v":100},{"$f":"IF(TDPrimas_!J9=\"\",\"\",TDPrimas_!J9)","v":100},{"$f":"IF(TDPrimas_!K9=\"\",\"\",TDPrimas_!K9)","v":8.182847357416561}]
[null,{"$f":"IF(TDPrimas_!A10=\"\",\"\",TDPrimas_!A10)","v":4},{"$f":"IF(TDPrimas_!B10=\"\",\"\",TDPrimas_!B10)","v":"AXA Seguros"},{"$f":"IF(TDPrimas_!C10=\"\",\"\",TDPrimas_!C10)","v":47014413.873259999},{"$f":"IF(TDPrimas_!D10=\"\",\"\",TDPrimas_!D10)","v":44680995.323409997},{"$f":"IF(TDPrimas_!E10=\"\",\"\",TDPrimas_!E10)","v":7.049269430059514},{"$f":"IF(TDPrimas_!F10=\"\",\"\",TDPrimas_!F10)","v":7.0541843271236404},{"$f":"IF(TDPrimas_!G10=\"\",\"\",TDPrimas_!G10)","v":2333418.5498500019},{"$f":"IF(TDPrimas_!H10=\"\",\"\",TDPrimas_!H10)","v":5.222396083525549},{"$f":"IF(TDPrimas_!I10=\"\",\"\",TDPrimas_!I10)","v":100},{"$f":"IF(TDPrimas_!J10=\"\",\"\",TDPrimas_!J10)","v":100},{"$f":"IF(TDPrimas_!K10=\"\",\"\",TDPrimas_!K10)","v":7.049269430059514}]
[null,{"$f":"IF(TDPrimas_!A11=\"\",\"\",TDPrimas_!A11)","v":5},{"$f":"IF(TDPrimas_!B11=\"\",\"\",TDPrimas_!B11)","v":"Quálitas"},{"$f":"IF(TDPrimas_!C11=\"\",\"\",TDPrimas_!C11)","v":38613311.12376},{"$f":"IF(TDPrimas_!D11=\"\",\"\",TDPrimas_!D11)","v":34984952.298819996},{"$f":"IF(TDPrimas_!E11=\"\",\"\",TDPrimas_!E11)","v":5.7896209114054864},{"$f":"IF(TDPrimas_!F11=\"\",\"\",TDPrimas_!F11)","v":5.5233841682618428},{"$f":"IF(TDPrimas_!G11=\"\",\"\",TDPrimas_!G11)","v":3628358.8249400035},{"$f":"IF(TDPrimas_!H11=\"\",\"\",TDPrimas_!H11)","v":10.371198433968942},{"$f":"IF(TDPrimas_!I11=\"\",\"\",TDPrimas_!I11)","v":100},{"$f":"IF(TDPrimas_!J11=\"\",\"\",TDPrimas_!J11)","v":100},{"$f":"IF(TDPrimas_!K11=\"\",\"\",TDPrimas_!K11)","v":5.7896209114054864}]
[null,{"$f":"IF(TDPrimas_!A12=\"\",\"\",TDPrimas_!A12)","v":5.0999999999999996},{"$f":"IF(TDPrimas_!B12=\"\",\"\",TDPrimas_!B12)","v":"TOTAL GRANDES"},{"$f":"IF(TDPrimas_!C12=\"\",\"\",TDPrimas_!C12)","v":298778573.24326998},{"$f":"IF(TDPrimas_!D12=\"\",\"\",TDPrimas_!D12)","v":267684714.65809},{"$f":"IF(TDPrimas_!E12=\"\",\"\",TDPrimas_!E12)","v":44.798403068436201},{"$f":"IF(TDPrimas_!F12=\"\",\"\",TDPrimas_!F12)","v":42.261755922932956},{"$f":"IF(TDPrimas_!G12=\"\",\"\",TDPrimas_!G12)","v":31093858.585179985},{"$f":"IF(TDPrimas_!H12=\"\",\"\",TDPrimas_!H12)","v":11.615851366371711},{"$f":"IF(TDPrimas_!I12=\"\",\"\",TDPrimas_!I12)","v":100},{"$f":"IF(TDPrimas_!J12=\"\",\"\",TDPrimas_!J12)","v":100},{"$f":"IF(TDPrimas_!K12=\"\",\"\",TDPrimas_!K12)","v":44.798403068436201}]
[null,{"$f":"IF(TDPrimas_!A13=\"\",\"\",TDPrimas_!A13)","v":6},{"$f":"IF(TDPrimas_!B13=\"\",\"\",TDPrimas_!B13)","v":"Monterrey New York Life"},{"$f":"IF(TDPrimas_!C13=\"\",\"\",TDPrimas_!C13)","v":37521624.677379996},{"$f":"IF(TDPrimas_!D13=\"\",\"\",TDPrimas_!D13)","v":34531456.003360003},{"$f":"IF(TDPrimas_!E13=\"\",\"\",TDPrimas_!E13)","v":5.6259351125263946},{"$f":"IF(TDPrimas_!F13=\"\",\"\",TDPrimas_!F13)","v":5.4517866929440437},{"$f":"IF(TDPrimas_!G13=\"\",\"\",TDPrimas_!G13)","v":2990168.6740199924},{"$f":"IF(TDPrimas_!H13=\"\",\"\",TDPrimas_!H13)","v":8.6592603385418734},{"$f":"IF(TDPrimas_!I13=\"\",\"\",TDPrimas_!I13)","v":100},{"$f":"IF(TDPrimas_!J13=\"\",\"\",TDPrimas_!J13)","v":100},{"$f":"IF(TDPrimas_!K13=\"\",\"\",TDPrimas_!K13)","v":5.6259351125263946}]
[null,{"$f":"IF(TDPrimas_!A14=\"\",\"\",TDPrimas_!A14)","v":7},{"$f":"IF(TDPrimas_!B14=\"\",\"\",TDPrimas_!B14)","v":"Banorte"},{"$f":"IF(TDPrimas_!C14=\"\",\"\",TDPrimas_!C14)","v":28914191.644259997},{"$f":"IF(TDPrimas_!D14=\"\",\"\",TDPrimas_!D14)","v":27787128.924529999},{"$f":"IF(TDPrimas_!E14=\"\",\"\",TDPrimas_!E14)","v":4.3353497461911665},{"$f":"IF(TDPrimas_!F14=\"\",\"\",TDPrimas_!F14)","v":4.3870000642640976},{"$f":"IF(TDPrimas_!G14=\"\",\"\",TDPrimas_!G14)","v":1127062.7197299972},{"$f":"IF(TDPrimas_!H14=\"\",\"\",TDPrimas_!H14)","v":4.0560603536662798},{"$f":"IF(TDPrimas_!I14=\"\",\"\",TDPrimas_!I14)","v":100},{"$f":"IF(TDPrimas_!J14=\"\",\"\",TDPrimas_!J14)","v":100},{"$f":"IF(TDPrimas_!K14=\"\",\"\",TDPrimas_!K14)","v":4.3353497461911665}]
[null,{"$f":"IF(TDPrimas_!A15=\"\",\"\",TDPrimas_!A15)","v":8},{"$f":"IF(TDPrimas_!B15=\"\",\"\",TDPrimas_!B15)","v":"Inbursa"},{"$f":"IF(TDPrimas_!C15=\"\",\"\",TDPrimas_!C15)","v":23044846.02603},{"$f":"IF(TDPrimas_!D15=\"\",\"\",TDPrimas_!D15)","v":20715913.716820002},{"$f":"IF(TDPrimas_!E15=\"\",\"\",TDPrimas_!E15)","v":3.4553090260711876},{"$f":"IF(TDPrimas_!F15=\"\",\"\",TDPrimas_!F15)","v":3.2706047124843804},{"$f":"IF(TDPrimas_!G15=\"\",\"\",TDPrimas_!G15)","v":2328932.3092099987},{"$f":"IF(TDPrimas_!H15=\"\",\"\",TDPrimas_!H15)","v":11.242237928993948},{"$f":"IF(TDPrimas_!I15=\"\",\"\",TDPrimas_!I15)","v":100},{"$f":"IF(TDPrimas_!J15=\"\",\"\",TDPrimas_!J15)","v":100},{"$f":"IF(TDPrimas_!K15=\"\",\"\",TDPrimas_!K15)","v":3.4553090260711876}]
[null,{"$f":"IF(TDPrimas_!A16=\"\",\"\",TDPrimas_!A16)","v":9},{"$f":"IF(TDPrimas_!B16=\"\",\"\",TDPrimas_!B16)","v":"Mapfre México"},{"$f":"IF(TDPrimas_!C16=\"\",\"\",TDPrimas_!C16)","v":21167003.156169999},{"$f":"IF(TDPrimas_!D16=\"\",\"\",TDPrimas_!D16)","v":30973171.780310001},{"$f":"IF(TDPrimas_!E16=\"\",\"\",TDPrimas_!E16)","v":3.1737481334342115},{"$f":"IF(TDPrimas_!F16=\"\",\"\",TDPrimas_!F16)","v":4.8900088584082182},{"$f":"IF(TDPrimas_!G16=\"\",\"\",TDPrimas_!G16)","v":-9806168.6241400018},{"$f":"IF(TDPrimas_!H16=\"\",\"\",TDPrimas_!H16)","v":-31.660201588956728},{"$f":"IF(TDPrimas_!I16=\"\",\"\",TDPrimas_!I16)","v":100},{"$f":"IF(TDPrimas_!J16=\"\",\"\",TDPrimas_!J16)","v":100},{"$f":"IF(TDPrimas_!K16=\"\",\"\",TDPrimas_!K16)","v":3.1737481334342115}]
[null,{"$f":"IF(TDPrimas_!A17=\"\",\"\",TDPrimas_!A17)","v":10},{"$f":"IF(TDPrimas_!B17=\"\",\"\",TDPrimas_!B17)","v":"Chubb Seguros México"},{"$f":"IF(TDPrimas_!C17=\"\",\"\",TDPrimas_!C17)","v":20933874.303799998},{"$f":"IF(TDPrimas_!D17=\"\",\"\",TDPrimas_!D17)","v":18644615.725060001},{"$f":"IF(TDPrimas_!E17=\"\",\"\",TDPrimas_!E17)","v":3.1387931492732495},{"$f":"IF(TDPrimas_!F17=\"\",\"\",TDPrimas_!F17)","v":2.943590559721748},{"$f":"IF(TDPrimas_!G17=\"\",\"\",TDPrimas_!G17)","v":2289258.578739997},{"$f":"IF(TDPrimas_!H17=\"\",\"\",TDPrimas_!H17)","v":12.278389710456894},{"$f":"IF(TDPrimas_!I17=\"\",\"\",TDPrimas_!I17)","v":100},{"$f":"IF(TDPrimas_!J17=\"\",\"\",TDPrimas_!J17)","v":100},{"$f":"IF(TDPrimas_!K17=\"\",\"\",TDPrimas_!K17)","v":3.1387931492732495}]
[null,{"$f":"IF(TDPrimas_!A18=\"\",\"\",TDPrimas_!A18)","v":11},{"$f":"IF(TDPrimas_!B18=\"\",\"\",TDPrimas_!B18)","v":"Allianz México"},{"$f":"IF(TDPrimas_!C18=\"\",\"\",TDPrimas_!C18)","v":18949473.906669997},{"$f":"IF(TDPrimas_!D18=\"\",\"\",TDPrimas_!D18)","v":16560897.790209999},{"$f":"IF(TDPrimas_!E18=\"\",\"\",TDPrimas_!E18)","v":2.8412551836996185},{"$f":"IF(TDPrimas_!F18=\"\",\"\",TDPrimas_!F18)","v":2.6146155605801322},{"$f":"IF(TDPrimas_!G18=\"\",\"\",TDPrimas_!G18)","v":2388576.1164599974},{"$f":"IF(TDPrimas_!H18=\"\",\"\",TDPrimas_!H18)","v":14.422986885843891},{"$f":"IF(TDPrimas_!I18=\"\",\"\",TDPrimas_!I18)","v":100},{"$f":"IF(TDPrimas_!J18=\"\",\"\",TDPrimas_!J18)","v":100},{"$f":"IF(TDPrimas_!K18=\"\",\"\",TDPrimas_!K18)","v":2.8412551836996185}]
[null,{"$f":"IF(TDPrimas_!A19=\"\",\"\",TDPrimas_!A19)","v":12},{"$f":"IF(TDPrimas_!B19=\"\",\"\",TDPrimas_!B19)","v":"Pensiones Banorte"},{"$f":"IF(TDPrimas_!C19=\"\",\"\",TDPrimas_!C19)","v":18733422.244009998},{"$f":"IF(TDPrimas_!D19=\"\",\"\",TDPrimas_!D19)","v":22649462.819139998},{"$f":"IF(TDPrimas_!E19=\"\",\"\",TDPrimas_!E19)","v":2.8088607272886903},{"$f":"IF(TDPrimas_!F19=\"\",\"\",TDPrimas_!F19)","v":3.5758712284736385},{"$f":"IF(TDPrimas_!G19=\"\",\"\",TDPrimas_!G19)","v":-3916040.5751300007},{"$f":"IF(TDPrimas_!H19=\"\",\"\",TDPrimas_!H19)","v":-17.28977241712213},{"$f":"IF(TDPrimas_!I19=\"\",\"\",TDPrimas_!I19)","v":100},{"$f":"IF(TDPrimas_!J19=\"\",\"\",TDPrimas_!J19)","v":100},{"$f":"IF(TDPrimas_!K19=\"\",\"\",TDPrimas_!K19)","v":2.8088607272886903}]
[null,{"$f":"IF(TDPrimas_!A20=\"\",\"\",TDPrimas_!A20)","v":13},{"$f":"IF(TDPrimas_!B20=\"\",\"\",TDPrimas_!B20)","v":"Atlas"},{"$f":"IF(TDPrimas_!C20=\"\",\"\",TDPrimas_!C20)","v":17397320.09973},{"$f":"IF(TDPrimas_!D20=\"\",\"\",TDPrimas_!D20)","v":16033506.831839999},{"$f":"IF(TDPrimas_!E20=\"\",\"\",TDPrimas_!E20)","v":2.608527611863702},{"$f":"IF(TDPrimas_!F20=\"\",\"\",TDPrimas_!F20)","v":2.5313516805821155},{"$f":"IF(TDPrimas_!G20=\"\",\"\",TDPrimas_!G20)","v":1363813.2678900007},{"$f":"IF(TDPrimas_!H20=\"\",\"\",TDPrimas_!H20)","v":8.5060198133429132},{"$f":"IF(TDPrimas_!I20=\"\",\"\",TDPrimas_!I20)","v":100},{"$f":"IF(TDPrimas_!J20=\"\",\"\",TDPrimas_!J20)","v":100},{"$f":"IF(TDPrimas_!K20=\"\",\"\",TDPrimas_!K20)","v":2.608527611863702}]
[null,{"$f":"IF(TDPrimas_!A21=\"\",\"\",TDPrimas_!A21)","v":14},{"$f":"IF(TDPrimas_!B21=\"\",\"\",TDPrimas_!B21)","v":"Citibanamex Seguros"},{"$f":"IF(TDPrimas_!C21=\"\",\"\",TDPrimas_!C21)","v":17073983.286419999},{"$f":"IF(TDPrimas_!D21=\"\",\"\",TDPrimas_!D21)","v":24304859.36617},{"$f":"IF(TDPrimas_!E21=\"\",\"\",TDPrimas_!E21)","v":2.5600469837775268},{"$f":"IF(TDPrimas_!F21=\"\",\"\",TDPrimas_!F21)","v":3.837223337859514},{"$f":"IF(TDPrimas_!G21=\"\",\"\",TDPrimas_!G21)","v":-7230876.0797500014},{"$f":"IF(TDPrimas_!H21=\"\",\"\",TDPrimas_!H21)","v":-29.750742313755897},{"$f":"IF(TDPrimas_!I21=\"\",\"\",TDPrimas_!I21)","v":100},{"$f":"IF(TDPrimas_!J21=\"\",\"\",TDPrimas_!J21)","v":100},{"$f":"IF(TDPrimas_!K21=\"\",\"\",TDPrimas_!K21)","v":2.5600469837775268}]
[null,{"$f":"IF(TDPrimas_!A22=\"\",\"\",TDPrimas_!A22)","v":15},{"$f":"IF(TDPrimas_!B22=\"\",\"\",TDPrimas_!B22)","v":"Zurich Santander"},{"$f":"IF(TDPrimas_!C22=\"\",\"\",TDPrimas_!C22)","v":14538030.85846},{"$f":"IF(TDPrimas_!D22=\"\",\"\",TDPrimas_!D22)","v":14742608.475910001},{"$f":"IF(TDPrimas_!E22=\"\",\"\",TDPrimas_!E22)","v":2.1798101488635608},{"$f":"IF(TDPrimas_!F22=\"\",\"\",TDPrimas_!F22)","v":2.3275461278096596},{"$f":"IF(TDPrimas_!G22=\"\",\"\",TDPrimas_!G22)","v":-204577.61745000072},{"$f":"IF(TDPrimas_!H22=\"\",\"\",TDPrimas_!H22)","v":-1.3876622836744845},{"$f":"IF(TDPrimas_!I22=\"\",\"\",TDPrimas_!I22)","v":100},{"$f":"IF(TDPrimas_!J22=\"\",\"\",TDPrimas_!J22)","v":100},{"$f":"IF(TDPrimas_!K22=\"\",\"\",TDPrimas_!K22)","v":2.1798101488635608}]
[null,{"$f":"IF(TDPrimas_!A23=\"\",\"\",TDPrimas_!A23)","v":15.1},{"$f":"IF(TDPrimas_!B23=\"\",\"\",TDPrimas_!B23)","v":"TOTAL MEDIANAS"},{"$f":"IF(TDPrimas_!C23=\"\",\"\",TDPrimas_!C23)","v":218273770.20293},{"$f":"IF(TDPrimas_!D23=\"\",\"\",TDPrimas_!D23)","v":226943621.43335},{"$f":"IF(TDPrimas_!E23=\"\",\"\",TDPrimas_!E23)","v":32.727635822989306},{"$f":"IF(TDPrimas_!F23=\"\",\"\",TDPrimas_!F23)","v":35.829598823127547},{"$f":"IF(TDPrimas_!G23=\"\",\"\",TDPrimas_!G23)","v":-8669851.2304199934},{"$f":"IF(TDPrimas_!H23=\"\",\"\",TDPrimas_!H23)","v":-3.8202665382980117},{"$f":"IF(TDPrimas_!I23=\"\",\"\",TDPrimas_!I23)","v":100},{"$f":"IF(TDPrimas_!J23=\"\",\"\",TDPrimas_!J23)","v":100},{"$f":"IF(TDPrimas_!K23=\"\",\"\",TDPrimas_!K23)","v":32.727635822989306}]
[null,{"$f":"IF(TDPrimas_!A24=\"\",\"\",TDPrimas_!A24)","v":16},{"$f":"IF(TDPrimas_!B24=\"\",\"\",TDPrimas_!B24)","v":"GMX Seguros"},{"$f":"IF(TDPrimas_!C24=\"\",\"\",TDPrimas_!C24)","v":12685626.07584},{"$f":"IF(TDPrimas_!D24=\"\",\"\",TDPrimas_!D24)","v":10840674.31789},{"$f":"IF(TDPrimas_!E24=\"\",\"\",TDPrimas_!E24)","v":1.9020634041860491},{"$f":"IF(TDPrimas_!F24=\"\",\"\",TDPrimas_!F24)","v":1.7115132354413976},{"$f":"IF(TDPrimas_!G24=\"\",\"\",TDPrimas_!G24)","v":1844951.7579500005},{"$f":"IF(TDPrimas_!H24=\"\",\"\",TDPrimas_!H24)","v":17.018791487032669},{"$f":"IF(TDPrimas_!I24=\"\",\"\",TDPrimas_!I24)","v":100},{"$f":"IF(TDPrimas_!J24=\"\",\"\",TDPrimas_!J24)","v":100},{"$f":"IF(TDPrimas_!K24=\"\",\"\",TDPrimas_!K24)","v":1.9020634041860491}]
[null,{"$f":"IF(TDPrimas_!A25=\"\",\"\",TDPrimas_!A25)","v":17},{"$f":"IF(TDPrimas_!B25=\"\",\"\",TDPrimas_!B25)","v":"Pensiones BBVA Bancomer"},{"$f":"IF(TDPrimas_!C25=\"\",\"\",TDPrimas_!C25)","v":11908763.69197},{"$f":"IF(TDPrimas_!D25=\"\",\"\",TDPrimas_!D25)","v":9822830.8022000007},{"$f":"IF(TDPrimas_!E25=\"\",\"\",TDPrimas_!E25)","v":1.7855818445362615},{"$f":"IF(TDPrimas_!F25=\"\",\"\",TDPrimas_!F25)","v":1.5508172678633672},{"$f":"IF(TDPrimas_!G25=\"\",\"\",TDPrimas_!G25)","v":2085932.8897699993},{"$f":"IF(TDPrimas_!H25=\"\",\"\",TDPrimas_!H25)","v":21.235557567608886},{"$f":"IF(TDPrimas_!I25=\"\",\"\",TDPrimas_!I25)","v":100},{"$f":"IF(TDPrimas_!J25=\"\",\"\",TDPrimas_!J25)","v":100},{"$f":"IF(TDPrimas_!K25=\"\",\"\",TDPrimas_!K25)","v":1.7855818445362615}]
[null,{"$f":"IF(TDPrimas_!A26=\"\",\"\",TDPrimas_!A26)","v":18},{"$f":"IF(TDPrimas_!B26=\"\",\"\",TDPrimas_!B26)","v":"ProFuturo G.N.P."},{"$f":"IF(TDPrimas_!C26=\"\",\"\",TDPrimas_!C26)","v":9964700.2888399996},{"$f":"IF(TDPrimas_!D26=\"\",\"\",TDPrimas_!D26)","v":14908494.745069999},{"$f":"IF(TDPrimas_!E26=\"\",\"\",TDPrimas_!E26)","v":1.4940919462526159},{"$f":"IF(TDPrimas_!F26=\"\",\"\",TDPrimas_!F26)","v":2.35373606184142},{"$f":"IF(TDPrimas_!G26=\"\",\"\",TDPrimas_!G26)","v":-4943794.4562299997},{"$f":"IF(TDPrimas_!H26=\"\",\"\",TDPrimas_!H26)","v":-33.160922955450168},{"$f":"IF(TDPrimas_!I26=\"\",\"\",TDPrimas_!I26)","v":100},{"$f":"IF(TDPrimas_!J26=\"\",\"\",TDPrimas_!J26)","v":100},{"$f":"IF(TDPrimas_!K26=\"\",\"\",TDPrimas_!K26)","v":1.4940919462526159}]
[null,{"$f":"IF(TDPrimas_!A27=\"\",\"\",TDPrimas_!A27)","v":19},{"$f":"IF(TDPrimas_!B27=\"\",\"\",TDPrimas_!B27)","v":"HDI Seguros"},{"$f":"IF(TDPrimas_!C27=\"\",\"\",TDPrimas_!C27)","v":9660591.7064100001},{"$f":"IF(TDPrimas_!D27=\"\",\"\",TDPrimas_!D27)","v":8680810.9867700003},{"$f":"IF(TDPrimas_!E27=\"\",\"\",TDPrimas_!E27)","v":1.4484943697450883},{"$f":"IF(TDPrimas_!F27=\"\",\"\",TDPrimas_!F27)","v":1.3705164884165382},{"$f":"IF(TDPrimas_!G27=\"\",\"\",TDPrimas_!G27)","v":979780.71963999979},{"$f":"IF(TDPrimas_!H27=\"\",\"\",TDPrimas_!H27)","v":11.286741770247444},{"$f":"IF(TDPrimas_!I27=\"\",\"\",TDPrimas_!I27)","v":100},{"$f":"IF(TDPrimas_!J27=\"\",\"\",TDPrimas_!J27)","v":100},{"$f":"IF(TDPrimas_!K27=\"\",\"\",TDPrimas_!K27)","v":1.4484943697450883}]
[null,{"$f":"IF(TDPrimas_!A28=\"\",\"\",TDPrimas_!A28)","v":20},{"$f":"IF(TDPrimas_!B28=\"\",\"\",TDPrimas_!B28)","v":"Afirme"},{"$f":"IF(TDPrimas_!C28=\"\",\"\",TDPrimas_!C28)","v":7592685.2919399999},{"$f":"IF(TDPrimas_!D28=\"\",\"\",TDPrimas_!D28)","v":10199279.548549999},{"$f":"IF(TDPrimas_!E28=\"\",\"\",TDPrimas_!E28)","v":1.1384356394364601},{"$f":"IF(TDPrimas_!F28=\"\",\"\",TDPrimas_!F28)","v":1.6102505644416141},{"$f":"IF(TDPrimas_!G28=\"\",\"\",TDPrimas_!G28)","v":-2606594.2566099986},{"$f":"IF(TDPrimas_!H28=\"\",\"\",TDPrimas_!H28)","v":-25.556650783050362},{"$f":"IF(TDPrimas_!I28=\"\",\"\",TDPrimas_!I28)","v":100},{"$f":"IF(TDPrimas_!J28=\"\",\"\",TDPrimas_!J28)","v":100},{"$f":"IF(TDPrimas_!K28=\"\",\"\",TDPrimas_!K28)","v":1.1384356394364601}]
[null,{"$f":"IF(TDPrimas_!A29=\"\",\"\",TDPrimas_!A29)","v":21},{"$f":"IF(TDPrimas_!B29=\"\",\"\",TDPrimas_!B29)","v":"Seguros SURA"},{"$f":"IF(TDPrimas_!C29=\"\",\"\",TDPrimas_!C29)","v":6914356.54},{"$f":"IF(TDPrimas_!D29=\"\",\"\",TDPrimas_!D29)","v":5900062.7489999998},{"$f":"IF(TDPrimas_!E29=\"\",\"\",TDPrimas_!E29)","v":1.0367280621076971},{"$f":"IF(TDPrimas_!F29=\"\",\"\",TDPrimas_!F29)","v":0.931495144004447},{"$f":"IF(TDPrimas_!G29=\"\",\"\",TDPrimas_!G29)","v":1014293.7910000002},{"$f":"IF(TDPrimas_!H29=\"\",\"\",TDPrimas_!H29)","v":17.191237350347045},{"$f":"IF(TDPrimas_!I29=\"\",\"\",TDPrimas_!I29)","v":100},{"$f":"IF(TDPrimas_!J29=\"\",\"\",TDPrimas_!J29)","v":100},{"$f":"IF(TDPrimas_!K29=\"\",\"\",TDPrimas_!K29)","v":1.0367280621076971}]
[null,{"$f":"IF(TDPrimas_!A30=\"\",\"\",TDPrimas_!A30)","v":22},{"$f":"IF(TDPrimas_!B30=\"\",\"\",TDPrimas_!B30)","v":"Agroasemex"},{"$f":"IF(TDPrimas_!C30=\"\",\"\",TDPrimas_!C30)","v":6906763.8894100003},{"$f":"IF(TDPrimas_!D30=\"\",\"\",TDPrimas_!D30)","v":0},{"$f":"IF(TDPrimas_!E30=\"\",\"\",TDPrimas_!E30)","v":1.0355896316714166},{"$f":"IF(TDPrimas_!F30=\"\",\"\",TDPrimas_!F30)","v":""},{"$f":"IF(TDPrimas_!G30=\"\",\"\",TDPrimas_!G30)","v":""},{"$f":"IF(TDPrimas_!H30=\"\",\"\",TDPrimas_!H30)","v":""},{"$f":"IF(TDPrimas_!I30=\"\",\"\",TDPrimas_!I30)","v":100},{"$f":"IF(TDPrimas_!J30=\"\",\"\",TDPrimas_!J30)","v":100},{"$f":"IF(TDPrimas_!K30=\"\",\"\",TDPrimas_!K30)","v":1.0355896316714166}]
[null,{"$f":"IF(TDPrimas_!A31=\"\",\"\",TDPrimas_!A31)","v":23},{"$f":"IF(TDPrimas_!B31=\"\",\"\",TDPrimas_!B31)","v":"HSBC Seguros"},{"$f":"IF(TDPrimas_!C31=\"\",\"\",TDPrimas_!C31)","v":6620173.5550899999},{"$f":"IF(TDPrimas_!D31=\"\",\"\",TDPrimas_!D31)","v":6468384.2059800001},{"$f":"IF(TDPrimas_!E31=\"\",\"\",TDPrimas_!E31)","v":0.99261871453696826},{"$f":"IF(TDPrimas_!F31=\"\",\"\",TDPrimas_!F31)","v":1.021221084207393},{"$f":"IF(TDPrimas_!G31=\"\",\"\",TDPrimas_!G31)","v":151789.34910999984},{"$f":"IF(TDPrimas_!H31=\"\",\"\",TDPrimas_!H31)","v":2.3466347124166065},{"$f":"IF(TDPrimas_!I31=\"\",\"\",TDPrimas_!I31)","v":100},{"$f":"IF(TDPrimas_!J31=\"\",\"\",TDPrimas_!J31)","v":100},{"$f":"IF(TDPrimas_!K31=\"\",\"\",TDPrimas_!K31)","v":0.99261871453696826}]
[null,{"$f":"IF(TDPrimas_!A32=\"\",\"\",TDPrimas_!A32)","v":24},{"$f":"IF(TDPrimas_!B32=\"\",\"\",TDPrimas_!B32)","v":"AIG Seguros"},{"$f":"IF(TDPrimas_!C32=\"\",\"\",TDPrimas_!C32)","v":6307111.0867400002},{"$f":"IF(TDPrimas_!D32=\"\",\"\",TDPrimas_!D32)","v":5289324.8718299996},{"$f":"IF(TDPrimas_!E32=\"\",\"\",TDPrimas_!E32)","v":0.94567860604624421},{"$f":"IF(TDPrimas_!F32=\"\",\"\",TDPrimas_!F32)","v":0.83507254800072461},{"$f":"IF(TDPrimas_!G32=\"\",\"\",TDPrimas_!G32)","v":1017786.2149100006},{"$f":"IF(TDPrimas_!H32=\"\",\"\",TDPrimas_!H32)","v":19.242270792073079},{"$f":"IF(TDPrimas_!I32=\"\",\"\",TDPrimas_!I32)","v":100},{"$f":"IF(TDPrimas_!J32=\"\",\"\",TDPrimas_!J32)","v":100},{"$f":"IF(TDPrimas_!K32=\"\",\"\",TDPrimas_!K32)","v":0.94567860604624421}]
[null,{"$f":"IF(TDPrimas_!A33=\"\",\"\",TDPrimas_!A33)","v":25},{"$f":"IF(TDPrimas_!B33=\"\",\"\",TDPrimas_!B33)","v":"Zurich Aseguradora Mexicana"},{"$f":"IF(TDPrimas_!C33=\"\",\"\",TDPrimas_!C33)","v":5416891.1568900002},{"$f":"IF(TDPrimas_!D33=\"\",\"\",TDPrimas_!D33)","v":257596.18681000001},{"$f":"IF(TDPrimas_!E33=\"\",\"\",TDPrimas_!E33)","v":0.81220038903734215},{"$f":"IF(TDPrimas_!F33=\"\",\"\",TDPrimas_!F33)","v":4.0668990710013446E-2},{"$f":"IF(TDPrimas_!G33=\"\",\"\",TDPrimas_!G33)","v":5159294.9700800003},{"$f":"IF(TDPrimas_!H33=\"\",\"\",TDPrimas_!H33)","v":2002.8615461941745},{"$f":"IF(TDPrimas_!I33=\"\",\"\",TDPrimas_!I33)","v":100},{"$f":"IF(TDPrimas_!J33=\"\",\"\",TDPrimas_!J33)","v":100},{"$f":"IF(TDPrimas_!K33=\"\",\"\",TDPrimas_!K33)","v":0.81220038903734215}]
[null,{"$f":"IF(TDPrimas_!A34=\"\",\"\",TDPrimas_!A34)","v":26},{"$f":"IF(TDPrimas_!B34=\"\",\"\",TDPrimas_!B34)","v":"BUPA México"},{"$f":"IF(TDPrimas_!C34=\"\",\"\",TDPrimas_!C34)","v":4031130.8302600002},{"$f":"IF(TDPrimas_!D34=\"\",\"\",TDPrimas_!D34)","v":3594202.4504200001},{"$f":"IF(TDPrimas_!E34=\"\",\"\",TDPrimas_!E34)","v":0.6044216015736501},{"$f":"IF(TDPrimas_!F34=\"\",\"\",TDPrimas_!F34)","v":0.56744856310258107},{"$f":"IF(TDPrimas_!G34=\"\",\"\",TDPrimas_!G34)","v":436928.37984000007},{"$f":"IF(TDPrimas_!H34=\"\",\"\",TDPrimas_!H34)","v":12.156476599946187},{"$f":"IF(TDPrimas_!I34=\"\",\"\",TDPrimas_!I34)","v":100},{"$f":"IF(TDPrimas_!J34=\"\",\"\",TDPrimas_!J34)","v":100},{"$f":"IF(TDPrimas_!K34=\"\",\"\",TDPrimas_!K34)","v":0.6044216015736501}]
[null,{"$f":"IF(TDPrimas_!A35=\"\",\"\",TDPrimas_!A35)","v":27},{"$f":"IF(TDPrimas_!B35=\"\",\"\",TDPrimas_!B35)","v":"Seguros Azteca"},{"$f":"IF(TDPrimas_!C35=\"\",\"\",TDPrimas_!C35)","v":3916508.0270500001},{"$f":"IF(TDPrimas_!D35=\"\",\"\",TDPrimas_!D35)","v":4983077.5936599998},{"$f":"IF(TDPrimas_!E35=\"\",\"\",TDPrimas_!E35)","v":0.58723523347738549},{"$f":"IF(TDPrimas_!F35=\"\",\"\",TDPrimas_!F35)","v":0.7867225787519595},{"$f":"IF(TDPrimas_!G35=\"\",\"\",TDPrimas_!G35)","v":-1066569.5666099996},{"$f":"IF(TDPrimas_!H35=\"\",\"\",TDPrimas_!H35)","v":-21.40383220134887},{"$f":"IF(TDPrimas_!I35=\"\",\"\",TDPrimas_!I35)","v":100},{"$f":"IF(TDPrimas_!J35=\"\",\"\",TDPrimas_!J35)","v":100},{"$f":"IF(TDPrimas_!K35=\"\",\"\",TDPrimas_!K35)","v":0.58723523347738549}]
[null,{"$f":"IF(TDPrimas_!A36=\"\",\"\",TDPrimas_!A36)","v":28},{"$f":"IF(TDPrimas_!B36=\"\",\"\",TDPrimas_!B36)","v":"Seguros Argos"},{"$f":"IF(TDPrimas_!C36=\"\",\"\",TDPrimas_!C36)","v":3759735.1039999998},{"$f":"IF(TDPrimas_!D36=\"\",\"\",TDPrimas_!D36)","v":3067143.767},{"$f":"IF(TDPrimas_!E36=\"\",\"\",TDPrimas_!E36)","v":0.56372894077113955},{"$f":"IF(TDPrimas_!F36=\"\",\"\",TDPrimas_!F36)","v":0.48423714229280768},{"$f":"IF(TDPrimas_!G36=\"\",\"\",TDPrimas_!G36)","v":692591.33699999982},{"$f":"IF(TDPrimas_!H36=\"\",\"\",TDPrimas_!H36)","v":22.580987055505041},{"$f":"IF(TDPrimas_!I36=\"\",\"\",TDPrimas_!I36)","v":100},{"$f":"IF(TDPrimas_!J36=\"\",\"\",TDPrimas_!J36)","v":100},{"$f":"IF(TDPrimas_!K36=\"\",\"\",TDPrimas_!K36)","v":0.56372894077113955}]
[null,{"$f":"IF(TDPrimas_!A37=\"\",\"\",TDPrimas_!A37)","v":29},{"$f":"IF(TDPrimas_!B37=\"\",\"\",TDPrimas_!B37)","v":"Hir Seguros"},{"$f":"IF(TDPrimas_!C37=\"\",\"\",TDPrimas_!C37)","v":3705981.81311},{"$f":"IF(TDPrimas_!D37=\"\",\"\",TDPrimas_!D37)","v":1949854.1843600001},{"$f":"IF(TDPrimas_!E37=\"\",\"\",TDPrimas_!E37)","v":0.55566925441075099},{"$f":"IF(TDPrimas_!F37=\"\",\"\",TDPrimas_!F37)","v":0.30784074365241842},{"$f":"IF(TDPrimas_!G37=\"\",\"\",TDPrimas_!G37)","v":1756127.6287499999},{"$f":"IF(TDPrimas_!H37=\"\",\"\",TDPrimas_!H37)","v":90.064561895761088},{"$f":"IF(TDPrimas_!I37=\"\",\"\",TDPrimas_!I37)","v":100},{"$f":"IF(TDPrimas_!J37=\"\",\"\",TDPrimas_!J37)","v":100},{"$f":"IF(TDPrimas_!K37=\"\",\"\",TDPrimas_!K37)","v":0.55566925441075099}]
[null,{"$f":"IF(TDPrimas_!A38=\"\",\"\",TDPrimas_!A38)","v":30},{"$f":"IF(TDPrimas_!B38=\"\",\"\",TDPrimas_!B38)","v":"FM Global"},{"$f":"IF(TDPrimas_!C38=\"\",\"\",TDPrimas_!C38)","v":3524079.9458400002},{"$f":"IF(TDPrimas_!D38=\"\",\"\",TDPrimas_!D38)","v":3154604.3165599997},{"$f":"IF(TDPrimas_!E38=\"\",\"\",TDPrimas_!E38)","v":0.52839516617743021},{"$f":"IF(TDPrimas_!F38=\"\",\"\",TDPrimas_!F38)","v":0.49804531360774973},{"$f":"IF(TDPrimas_!G38=\"\",\"\",TDPrimas_!G38)","v":369475.62928000046},{"$f":"IF(TDPrimas_!H38=\"\",\"\",TDPrimas_!H38)","v":11.712265381127175},{"$f":"IF(TDPrimas_!I38=\"\",\"\",TDPrimas_!I38)","v":100},{"$f":"IF(TDPrimas_!J38=\"\",\"\",TDPrimas_!J38)","v":100},{"$f":"IF(TDPrimas_!K38=\"\",\"\",TDPrimas_!K38)","v":0.52839516617743021}]
[null,{"$f":"IF(TDPrimas_!A39=\"\",\"\",TDPrimas_!A39)","v":31},{"$f":"IF(TDPrimas_!B39=\"\",\"\",TDPrimas_!B39)","v":"ANA"},{"$f":"IF(TDPrimas_!C39=\"\",\"\",TDPrimas_!C39)","v":3108861.0427800003},{"$f":"IF(TDPrimas_!D39=\"\",\"\",TDPrimas_!D39)","v":2846225.9863100001},{"$f":"IF(TDPrimas_!E39=\"\",\"\",TDPrimas_!E39)","v":0.46613787784848942},{"$f":"IF(TDPrimas_!F39=\"\",\"\",TDPrimas_!F39)","v":0.44935889629926257},{"$f":"IF(TDPrimas_!G39=\"\",\"\",TDPrimas_!G39)","v":262635.05647000019},{"$f":"IF(TDPrimas_!H39=\"\",\"\",TDPrimas_!H39)","v":9.2274843154845243},{"$f":"IF(TDPrimas_!I39=\"\",\"\",TDPrimas_!I39)","v":100},{"$f":"IF(TDPrimas_!J39=\"\",\"\",TDPrimas_!J39)","v":100},{"$f":"IF(TDPrimas_!K39=\"\",\"\",TDPrimas_!K39)","v":0.46613787784848942}]
[null,{"$f":"IF(TDPrimas_!A40=\"\",\"\",TDPrimas_!A40)","v":32},{"$f":"IF(TDPrimas_!B40=\"\",\"\",TDPrimas_!B40)","v":"Ve Por Más"},{"$f":"IF(TDPrimas_!C40=\"\",\"\",TDPrimas_!C40)","v":3075303.1990300003},{"$f":"IF(TDPrimas_!D40=\"\",\"\",TDPrimas_!D40)","v":3138973.1425999999},{"$f":"IF(TDPrimas_!E40=\"\",\"\",TDPrimas_!E40)","v":0.46110626599593513},{"$f":"IF(TDPrimas_!F40=\"\",\"\",TDPrimas_!F40)","v":0.4955774817798092},{"$f":"IF(TDPrimas_!G40=\"\",\"\",TDPrimas_!G40)","v":-63669.943569999654},{"$f":"IF(TDPrimas_!H40=\"\",\"\",TDPrimas_!H40)","v":-2.0283685357454839},{"$f":"IF(TDPrimas_!I40=\"\",\"\",TDPrimas_!I40)","v":100},{"$f":"IF(TDPrimas_!J40=\"\",\"\",TDPrimas_!J40)","v":100},{"$f":"IF(TDPrimas_!K40=\"\",\"\",TDPrimas_!K40)","v":0.46110626599593513}]
[null,{"$f":"IF(TDPrimas_!A41=\"\",\"\",TDPrimas_!A41)","v":33},{"$f":"IF(TDPrimas_!B41=\"\",\"\",TDPrimas_!B41)","v":"Seguros Azteca Daños"},{"$f":"IF(TDPrimas_!C41=\"\",\"\",TDPrimas_!C41)","v":3041486.8465999998},{"$f":"IF(TDPrimas_!D41=\"\",\"\",TDPrimas_!D41)","v":1844295.0949599999},{"$f":"IF(TDPrimas_!E41=\"\",\"\",TDPrimas_!E41)","v":0.45603589374661729},{"$f":"IF(TDPrimas_!F41=\"\",\"\",TDPrimas_!F41)","v":0.29117519561256122},{"$f":"IF(TDPrimas_!G41=\"\",\"\",TDPrimas_!G41)","v":1197191.7516399999},{"$f":"IF(TDPrimas_!H41=\"\",\"\",TDPrimas_!H41)","v":64.913242729519126},{"$f":"IF(TDPrimas_!I41=\"\",\"\",TDPrimas_!I41)","v":100},{"$f":"IF(TDPrimas_!J41=\"\",\"\",TDPrimas_!J41)","v":100},{"$f":"IF(TDPrimas_!K41=\"\",\"\",TDPrimas_!K41)","v":0.45603589374661729}]
[null,{"$f":"IF(TDPrimas_!A42=\"\",\"\",TDPrimas_!A42)","v":34},{"$f":"IF(TDPrimas_!B42=\"\",\"\",TDPrimas_!B42)","v":"Cardif Vida"},{"$f":"IF(TDPrimas_!C42=\"\",\"\",TDPrimas_!C42)","v":2952222.39597},{"$f":"IF(TDPrimas_!D42=\"\",\"\",TDPrimas_!D42)","v":2829394.6206800002},{"$f":"IF(TDPrimas_!E42=\"\",\"\",TDPrimas_!E42)","v":0.44265171831664329},{"$f":"IF(TDPrimas_!F42=\"\",\"\",TDPrimas_!F42)","v":0.44670157958615375},{"$f":"IF(TDPrimas_!G42=\"\",\"\",TDPrimas_!G42)","v":122827.77528999979},{"$f":"IF(TDPrimas_!H42=\"\",\"\",TDPrimas_!H42)","v":4.3411327070552064},{"$f":"IF(TDPrimas_!I42=\"\",\"\",TDPrimas_!I42)","v":100},{"$f":"IF(TDPrimas_!J42=\"\",\"\",TDPrimas_!J42)","v":100},{"$f":"IF(TDPrimas_!K42=\"\",\"\",TDPrimas_!K42)","v":0.44265171831664329}]
[null,{"$f":"IF(TDPrimas_!A43=\"\",\"\",TDPrimas_!A43)","v":35},{"$f":"IF(TDPrimas_!B43=\"\",\"\",TDPrimas_!B43)","v":"Plan Seguro"},{"$f":"IF(TDPrimas_!C43=\"\",\"\",TDPrimas_!C43)","v":2935556.73031},{"$f":"IF(TDPrimas_!D43=\"\",\"\",TDPrimas_!D43)","v":2596168.4891499998},{"$f":"IF(TDPrimas_!E43=\"\",\"\",TDPrimas_!E43)","v":0.44015289385431289},{"$f":"IF(TDPrimas_!F43=\"\",\"\",TDPrimas_!F43)","v":0.40988010527014596},{"$f":"IF(TDPrimas_!G43=\"\",\"\",TDPrimas_!G43)","v":339388.24116000021},{"$f":"IF(TDPrimas_!H43=\"\",\"\",TDPrimas_!H43)","v":13.072658518828174},{"$f":"IF(TDPrimas_!I43=\"\",\"\",TDPrimas_!I43)","v":100},{"$f":"IF(TDPrimas_!J43=\"\",\"\",TDPrimas_!J43)","v":100},{"$f":"IF(TDPrimas_!K43=\"\",\"\",TDPrimas_!K43)","v":0.44015289385431289}]
[null,{"$f":"IF(TDPrimas_!A44=\"\",\"\",TDPrimas_!A44)","v":36},{"$f":"IF(TDPrimas_!B44=\"\",\"\",TDPrimas_!B44)","v":"General de Seguros"},{"$f":"IF(TDPrimas_!C44=\"\",\"\",TDPrimas_!C44)","v":2674276.1501799999},{"$f":"IF(TDPrimas_!D44=\"\",\"\",TDPrimas_!D44)","v":2516090.6150500001},{"$f":"IF(TDPrimas_!E44=\"\",\"\",TDPrimas_!E44)","v":0.40097688261776326},{"$f":"IF(TDPrimas_!F44=\"\",\"\",TDPrimas_!F44)","v":0.39723750229461124},{"$f":"IF(TDPrimas_!G44=\"\",\"\",TDPrimas_!G44)","v":158185.53512999974},{"$f":"IF(TDPrimas_!H44=\"\",\"\",TDPrimas_!H44)","v":6.2869570032101585},{"$f":"IF(TDPrimas_!I44=\"\",\"\",TDPrimas_!I44)","v":100},{"$f":"IF(TDPrimas_!J44=\"\",\"\",TDPrimas_!J44)","v":100},{"$f":"IF(TDPrimas_!K44=\"\",\"\",TDPrimas_!K44)","v":0.40097688261776326}]
[null,{"$f":"IF(TDPrimas_!A45=\"\",\"\",TDPrimas_!A45)","v":37},{"$f":"IF(TDPrimas_!B45=\"\",\"\",TDPrimas_!B45)","v":"Patrimonial Vida"},{"$f":"IF(TDPrimas_!C45=\"\",\"\",TDPrimas_!C45)","v":2638295.4870500001},{"$f":"IF(TDPrimas_!D45=\"\",\"\",TDPrimas_!D45)","v":1454885.5009999999},{"$f":"IF(TDPrimas_!E45=\"\",\"\",TDPrimas_!E45)","v":0.39558199692676388},{"$f":"IF(TDPrimas_!F45=\"\",\"\",TDPrimas_!F45)","v":0.22969565526971261},{"$f":"IF(TDPrimas_!G45=\"\",\"\",TDPrimas_!G45)","v":1183409.9860500002},{"$f":"IF(TDPrimas_!H45=\"\",\"\",TDPrimas_!H45)","v":81.340420619807958},{"$f":"IF(TDPrimas_!I45=\"\",\"\",TDPrimas_!I45)","v":100},{"$f":"IF(TDPrimas_!J45=\"\",\"\",TDPrimas_!J45)","v":100},{"$f":"IF(TDPrimas_!K45=\"\",\"\",TDPrimas_!K45)","v":0.39558199692676388}]
[null,{"$f":"IF(TDPrimas_!A46=\"\",\"\",TDPrimas_!A46)","v":38},{"$f":"IF(TDPrimas_!B46=\"\",\"\",TDPrimas_!B46)","v":"El Potosí"},{"$f":"IF(TDPrimas_!C46=\"\",\"\",TDPrimas_!C46)","v":2162007.8058200004},{"$f":"IF(TDPrimas_!D46=\"\",\"\",TDPrimas_!D46)","v":1937993.9527700001},{"$f":"IF(TDPrimas_!E46=\"\",\"\",TDPrimas_!E46)","v":0.32416814924465603},{"$f":"IF(TDPrimas_!F46=\"\",\"\",TDPrimas_!F46)","v":0.30596826388349974},{"$f":"IF(TDPrimas_!G46=\"\",\"\",TDPrimas_!G46)","v":224013.85305000027},{"$f":"IF(TDPrimas_!H46=\"\",\"\",TDPrimas_!H46)","v":11.559058413459677},{"$f":"IF(TDPrimas_!I46=\"\",\"\",TDPrimas_!I46)","v":100},{"$f":"IF(TDPrimas_!J46=\"\",\"\",TDPrimas_!J46)","v":100},{"$f":"IF(TDPrimas_!K46=\"\",\"\",TDPrimas_!K46)","v":0.32416814924465603}]
[null,{"$f":"IF(TDPrimas_!A47=\"\",\"\",TDPrimas_!A47)","v":39},{"$f":"IF(TDPrimas_!B47=\"\",\"\",TDPrimas_!B47)","v":"Cardif Seguros Generales"},{"$f":"IF(TDPrimas_!C47=\"\",\"\",TDPrimas_!C47)","v":2044435.0795100001},{"$f":"IF(TDPrimas_!D47=\"\",\"\",TDPrimas_!D47)","v":1560679.2373500001},{"$f":"IF(TDPrimas_!E47=\"\",\"\",TDPrimas_!E47)","v":0.30653947418300159},{"$f":"IF(TDPrimas_!F47=\"\",\"\",TDPrimas_!F47)","v":0.24639824910107727},{"$f":"IF(TDPrimas_!G47=\"\",\"\",TDPrimas_!G47)","v":483755.84216},{"$f":"IF(TDPrimas_!H47=\"\",\"\",TDPrimas_!H47)","v":30.996493743416931},{"$f":"IF(TDPrimas_!I47=\"\",\"\",TDPrimas_!I47)","v":100},{"$f":"IF(TDPrimas_!J47=\"\",\"\",TDPrimas_!J47)","v":100},{"$f":"IF(TDPrimas_!K47=\"\",\"\",TDPrimas_!K47)","v":0.30653947418300159}]
[null,{"$f":"IF(TDPrimas_!A48=\"\",\"\",TDPrimas_!A48)","v":40},{"$f":"IF(TDPrimas_!B48=\"\",\"\",TDPrimas_!B48)","v":"Insignia Life"},{"$f":"IF(TDPrimas_!C48=\"\",\"\",TDPrimas_!C48)","v":1967652.9487100001},{"$f":"IF(TDPrimas_!D48=\"\",\"\",TDPrimas_!D48)","v":1738938.03253},{"$f":"IF(TDPrimas_!E48=\"\",\"\",TDPrimas_!E48)","v":0.2950268787291398},{"$f":"IF(TDPrimas_!F48=\"\",\"\",TDPrimas_!F48)","v":0.27454154335915898},{"$f":"IF(TDPrimas_!G48=\"\",\"\",TDPrimas_!G48)","v":228714.91618000017},{"$f":"IF(TDPrimas_!H48=\"\",\"\",TDPrimas_!H48)","v":13.152562765404596},{"$f":"IF(TDPrimas_!I48=\"\",\"\",TDPrimas_!I48)","v":100},{"$f":"IF(TDPrimas_!J48=\"\",\"\",TDPrimas_!J48)","v":100},{"$f":"IF(TDPrimas_!K48=\"\",\"\",TDPrimas_!K48)","v":0.2950268787291398}]
[null,{"$f":"IF(TDPrimas_!A49=\"\",\"\",TDPrimas_!A49)","v":41},{"$f":"IF(TDPrimas_!B49=\"\",\"\",TDPrimas_!B49)","v":"Prudential"},{"$f":"IF(TDPrimas_!C49=\"\",\"\",TDPrimas_!C49)","v":1613118.0192799999},{"$f":"IF(TDPrimas_!D49=\"\",\"\",TDPrimas_!D49)","v":1176956.4009700001},{"$f":"IF(TDPrimas_!E49=\"\",\"\",TDPrimas_!E49)","v":0.24186845274819468},{"$f":"IF(TDPrimas_!F49=\"\",\"\",TDPrimas_!F49)","v":0.18581652752664748},{"$f":"IF(TDPrimas_!G49=\"\",\"\",TDPrimas_!G49)","v":436161.61830999982},{"$f":"IF(TDPrimas_!H49=\"\",\"\",TDPrimas_!H49)","v":37.058434615805048},{"$f":"IF(TDPrimas_!I49=\"\",\"\",TDPrimas_!I49)","v":100},{"$f":"IF(TDPrimas_!J49=\"\",\"\",TDPrimas_!J49)","v":100},{"$f":"IF(TDPrimas_!K49=\"\",\"\",TDPrimas_!K49)","v":0.24186845274819468}]
[null,{"$f":"IF(TDPrimas_!A50=\"\",\"\",TDPrimas_!A50)","v":42},{"$f":"IF(TDPrimas_!B50=\"\",\"\",TDPrimas_!B50)","v":"El Águila"},{"$f":"IF(TDPrimas_!C50=\"\",\"\",TDPrimas_!C50)","v":1427020.1480899998},{"$f":"IF(TDPrimas_!D50=\"\",\"\",TDPrimas_!D50)","v":1250683.7777799999},{"$f":"IF(TDPrimas_!E50=\"\",\"\",TDPrimas_!E50)","v":0.21396522209396865},{"$f":"IF(TDPrimas_!F50=\"\",\"\",TDPrimas_!F50)","v":0.1974565212691447},{"$f":"IF(TDPrimas_!G50=\"\",\"\",TDPrimas_!G50)","v":176336.37030999991},{"$f":"IF(TDPrimas_!H50=\"\",\"\",TDPrimas_!H50)","v":14.099197050672728},{"$f":"IF(TDPrimas_!I50=\"\",\"\",TDPrimas_!I50)","v":100},{"$f":"IF(TDPrimas_!J50=\"\",\"\",TDPrimas_!J50)","v":100},{"$f":"IF(TDPrimas_!K50=\"\",\"\",TDPrimas_!K50)","v":0.21396522209396865}]
[null,{"$f":"IF(TDPrimas_!A51=\"\",\"\",TDPrimas_!A51)","v":43},{"$f":"IF(TDPrimas_!B51=\"\",\"\",TDPrimas_!B51)","v":"Tokio Marine"},{"$f":"IF(TDPrimas_!C51=\"\",\"\",TDPrimas_!C51)","v":1393936.1759300001},{"$f":"IF(TDPrimas_!D51=\"\",\"\",TDPrimas_!D51)","v":1374423.9543699999},{"$f":"IF(TDPrimas_!E51=\"\",\"\",TDPrimas_!E51)","v":0.20900466182406657},{"$f":"IF(TDPrimas_!F51=\"\",\"\",TDPrimas_!F51)","v":0.21699247851491701},{"$f":"IF(TDPrimas_!G51=\"\",\"\",TDPrimas_!G51)","v":19512.221560000209},{"$f":"IF(TDPrimas_!H51=\"\",\"\",TDPrimas_!H51)","v":1.419665416770477},{"$f":"IF(TDPrimas_!I51=\"\",\"\",TDPrimas_!I51)","v":100},{"$f":"IF(TDPrimas_!J51=\"\",\"\",TDPrimas_!J51)","v":100},{"$f":"IF(TDPrimas_!K51=\"\",\"\",TDPrimas_!K51)","v":0.20900466182406657}]
[null,{"$f":"IF(TDPrimas_!A52=\"\",\"\",TDPrimas_!A52)","v":44},{"$f":"IF(TDPrimas_!B52=\"\",\"\",TDPrimas_!B52)","v":"La Latinoamericana"},{"$f":"IF(TDPrimas_!C52=\"\",\"\",TDPrimas_!C52)","v":1344599.4865999999},{"$f":"IF(TDPrimas_!D52=\"\",\"\",TDPrimas_!D52)","v":1322115.8073700001},{"$f":"IF(TDPrimas_!E52=\"\",\"\",TDPrimas_!E52)","v":0.20160719395789536},{"$f":"IF(TDPrimas_!F52=\"\",\"\",TDPrimas_!F52)","v":0.20873412822353596},{"$f":"IF(TDPrimas_!G52=\"\",\"\",TDPrimas_!G52)","v":22483.679229999892},{"$f":"IF(TDPrimas_!H52=\"\",\"\",TDPrimas_!H52)","v":1.7005831943515792},{"$f":"IF(TDPrimas_!I52=\"\",\"\",TDPrimas_!I52)","v":100},{"$f":"IF(TDPrimas_!J52=\"\",\"\",TDPrimas_!J52)","v":100},{"$f":"IF(TDPrimas_!K52=\"\",\"\",TDPrimas_!K52)","v":0.20160719395789536}]
[null,{"$f":"IF(TDPrimas_!A53=\"\",\"\",TDPrimas_!A53)","v":45},{"$f":"IF(TDPrimas_!B53=\"\",\"\",TDPrimas_!B53)","v":"HDI Global Seguros"},{"$f":"IF(TDPrimas_!C53=\"\",\"\",TDPrimas_!C53)","v":1126819.2605599998},{"$f":"IF(TDPrimas_!D53=\"\",\"\",TDPrimas_!D53)","v":1043388.71996},{"$f":"IF(TDPrimas_!E53=\"\",\"\",TDPrimas_!E53)","v":0.16895355939310541},{"$f":"IF(TDPrimas_!F53=\"\",\"\",TDPrimas_!F53)","v":0.16472901514759059},{"$f":"IF(TDPrimas_!G53=\"\",\"\",TDPrimas_!G53)","v":83430.540599999833},{"$f":"IF(TDPrimas_!H53=\"\",\"\",TDPrimas_!H53)","v":7.9961129542591047},{"$f":"IF(TDPrimas_!I53=\"\",\"\",TDPrimas_!I53)","v":100},{"$f":"IF(TDPrimas_!J53=\"\",\"\",TDPrimas_!J53)","v":100},{"$f":"IF(TDPrimas_!K53=\"\",\"\",TDPrimas_!K53)","v":0.16895355939310541}]
[null,{"$f":"IF(TDPrimas_!A54=\"\",\"\",TDPrimas_!A54)","v":46},{"$f":"IF(TDPrimas_!B54=\"\",\"\",TDPrimas_!B54)","v":"Assurant Vida"},{"$f":"IF(TDPrimas_!C54=\"\",\"\",TDPrimas_!C54)","v":1073592.1059400002},{"$f":"IF(TDPrimas_!D54=\"\",\"\",TDPrimas_!D54)","v":1024603.9286700001},{"$f":"IF(TDPrimas_!E54=\"\",\"\",TDPrimas_!E54)","v":0.16097276110168565},{"$f":"IF(TDPrimas_!F54=\"\",\"\",TDPrimas_!F54)","v":0.16176329383034904},{"$f":"IF(TDPrimas_!G54=\"\",\"\",TDPrimas_!G54)","v":48988.177270000102},{"$f":"IF(TDPrimas_!H54=\"\",\"\",TDPrimas_!H54)","v":4.7811818693287433},{"$f":"IF(TDPrimas_!I54=\"\",\"\",TDPrimas_!I54)","v":100},{"$f":"IF(TDPrimas_!J54=\"\",\"\",TDPrimas_!J54)","v":100},{"$f":"IF(TDPrimas_!K54=\"\",\"\",TDPrimas_!K54)","v":0.16097276110168565}]
[null,{"$f":"IF(TDPrimas_!A55=\"\",\"\",TDPrimas_!A55)","v":47},{"$f":"IF(TDPrimas_!B55=\"\",\"\",TDPrimas_!B55)","v":"General de Salud"},{"$f":"IF(TDPrimas_!C55=\"\",\"\",TDPrimas_!C55)","v":1053737.07388},{"$f":"IF(TDPrimas_!D55=\"\",\"\",TDPrimas_!D55)","v":513902.81654999999},{"$f":"IF(TDPrimas_!E55=\"\",\"\",TDPrimas_!E55)","v":0.15799572791116839},{"$f":"IF(TDPrimas_!F55=\"\",\"\",TDPrimas_!F55)","v":8.1134387627939647E-2},{"$f":"IF(TDPrimas_!G55=\"\",\"\",TDPrimas_!G55)","v":539834.25733000005},{"$f":"IF(TDPrimas_!H55=\"\",\"\",TDPrimas_!H55)","v":105.04598144724841},{"$f":"IF(TDPrimas_!I55=\"\",\"\",TDPrimas_!I55)","v":100},{"$f":"IF(TDPrimas_!J55=\"\",\"\",TDPrimas_!J55)","v":100},{"$f":"IF(TDPrimas_!K55=\"\",\"\",TDPrimas_!K55)","v":0.15799572791116839}]
[null,{"$f":"IF(TDPrimas_!A56=\"\",\"\",TDPrimas_!A56)","v":48},{"$f":"IF(TDPrimas_!B56=\"\",\"\",TDPrimas_!B56)","v":"Primero Seguros"},{"$f":"IF(TDPrimas_!C56=\"\",\"\",TDPrimas_!C56)","v":988246.92141999991},{"$f":"IF(TDPrimas_!D56=\"\",\"\",TDPrimas_!D56)","v":752773.31405000004},{"$f":"IF(TDPrimas_!E56=\"\",\"\",TDPrimas_!E56)","v":0.14817623444793521},{"$f":"IF(TDPrimas_!F56=\"\",\"\",TDPrimas_!F56)","v":0.1188469879735697},{"$f":"IF(TDPrimas_!G56=\"\",\"\",TDPrimas_!G56)","v":235473.60736999987},{"$f":"IF(TDPrimas_!H56=\"\",\"\",TDPrimas_!H56)","v":31.280812294358174},{"$f":"IF(TDPrimas_!I56=\"\",\"\",TDPrimas_!I56)","v":100},{"$f":"IF(TDPrimas_!J56=\"\",\"\",TDPrimas_!J56)","v":100},{"$f":"IF(TDPrimas_!K56=\"\",\"\",TDPrimas_!K56)","v":0.14817623444793521}]
[null,{"$f":"IF(TDPrimas_!A57=\"\",\"\",TDPrimas_!A57)","v":49},{"$f":"IF(TDPrimas_!B57=\"\",\"\",TDPrimas_!B57)","v":"BBVA Bancomer Salud"},{"$f":"IF(TDPrimas_!C57=\"\",\"\",TDPrimas_!C57)","v":972061.24409000005},{"$f":"IF(TDPrimas_!D57=\"\",\"\",TDPrimas_!D57)","v":1191065.8113299999},{"$f":"IF(TDPrimas_!E57=\"\",\"\",TDPrimas_!E57)","v":0.14574937870291296},{"$f":"IF(TDPrimas_!F57=\"\",\"\",TDPrimas_!F57)","v":0.18804410506170566},{"$f":"IF(TDPrimas_!G57=\"\",\"\",TDPrimas_!G57)","v":-219004.56723999989},{"$f":"IF(TDPrimas_!H57=\"\",\"\",TDPrimas_!H57)","v":-18.387276769824258},{"$f":"IF(TDPrimas_!I57=\"\",\"\",TDPrimas_!I57)","v":100},{"$f":"IF(TDPrimas_!J57=\"\",\"\",TDPrimas_!J57)","v":100},{"$f":"IF(TDPrimas_!K57=\"\",\"\",TDPrimas_!K57)","v":0.14574937870291296}]
[null,{"$f":"IF(TDPrimas_!A58=\"\",\"\",TDPrimas_!A58)","v":50},{"$f":"IF(TDPrimas_!B58=\"\",\"\",TDPrimas_!B58)","v":"Pan-American México"},{"$f":"IF(TDPrimas_!C58=\"\",\"\",TDPrimas_!C58)","v":953705.39994999999},{"$f":"IF(TDPrimas_!D58=\"\",\"\",TDPrimas_!D58)","v":769483.43325},{"$f":"IF(TDPrimas_!E58=\"\",\"\",TDPrimas_!E58)","v":0.14299713146001719},{"$f":"IF(TDPrimas_!F58=\"\",\"\",TDPrimas_!F58)","v":0.12148516243928595},{"$f":"IF(TDPrimas_!G58=\"\",\"\",TDPrimas_!G58)","v":184221.96669999999},{"$f":"IF(TDPrimas_!H58=\"\",\"\",TDPrimas_!H58)","v":23.940991935579149},{"$f":"IF(TDPrimas_!I58=\"\",\"\",TDPrimas_!I58)","v":100},{"$f":"IF(TDPrimas_!J58=\"\",\"\",TDPrimas_!J58)","v":100},{"$f":"IF(TDPrimas_!K58=\"\",\"\",TDPrimas_!K58)","v":0.14299713146001719}]
[null,{"$f":"IF(TDPrimas_!A59=\"\",\"\",TDPrimas_!A59)","v":51},{"$f":"IF(TDPrimas_!B59=\"\",\"\",TDPrimas_!B59)","v":"Atradius"},{"$f":"IF(TDPrimas_!C59=\"\",\"\",TDPrimas_!C59)","v":808718.95713},{"$f":"IF(TDPrimas_!D59=\"\",\"\",TDPrimas_!D59)","v":621840.9362},{"$f":"IF(TDPrimas_!E59=\"\",\"\",TDPrimas_!E59)","v":0.12125808560273386},{"$f":"IF(TDPrimas_!F59=\"\",\"\",TDPrimas_!F59)","v":9.8175534236759565E-2},{"$f":"IF(TDPrimas_!G59=\"\",\"\",TDPrimas_!G59)","v":186878.02093},{"$f":"IF(TDPrimas_!H59=\"\",\"\",TDPrimas_!H59)","v":30.052383182102904},{"$f":"IF(TDPrimas_!I59=\"\",\"\",TDPrimas_!I59)","v":100},{"$f":"IF(TDPrimas_!J59=\"\",\"\",TDPrimas_!J59)","v":100},{"$f":"IF(TDPrimas_!K59=\"\",\"\",TDPrimas_!K59)","v":0.12125808560273386}]
[null,{"$f":"IF(TDPrimas_!A60=\"\",\"\",TDPrimas_!A60)","v":52},{"$f":"IF(TDPrimas_!B60=\"\",\"\",TDPrimas_!B60)","v":"Sompo Japan"},{"$f":"IF(TDPrimas_!C60=\"\",\"\",TDPrimas_!C60)","v":700245.38436999999},{"$f":"IF(TDPrimas_!D60=\"\",\"\",TDPrimas_!D60)","v":605863.71200000006},{"$f":"IF(TDPrimas_!E60=\"\",\"\",TDPrimas_!E60)","v":0.10499372373090983},{"$f":"IF(TDPrimas_!F60=\"\",\"\",TDPrimas_!F60)","v":9.5653068393579704E-2},{"$f":"IF(TDPrimas_!G60=\"\",\"\",TDPrimas_!G60)","v":94381.672369999927},{"$f":"IF(TDPrimas_!H60=\"\",\"\",TDPrimas_!H60)","v":15.578036858890121},{"$f":"IF(TDPrimas_!I60=\"\",\"\",TDPrimas_!I60)","v":100},{"$f":"IF(TDPrimas_!J60=\"\",\"\",TDPrimas_!J60)","v":100},{"$f":"IF(TDPrimas_!K60=\"\",\"\",TDPrimas_!K60)","v":0.10499372373090983}]
[null,{"$f":"IF(TDPrimas_!A61=\"\",\"\",TDPrimas_!A61)","v":53},{"$f":"IF(TDPrimas_!B61=\"\",\"\",TDPrimas_!B61)","v":"Solunion Crédito"},{"$f":"IF(TDPrimas_!C61=\"\",\"\",TDPrimas_!C61)","v":675000.43876000005},{"$f":"IF(TDPrimas_!D61=\"\",\"\",TDPrimas_!D61)","v":539056.79472999997},{"$f":"IF(TDPrimas_!E61=\"\",\"\",TDPrimas_!E61)","v":0.10120853513254034},{"$f":"IF(TDPrimas_!F61=\"\",\"\",TDPrimas_!F61)","v":8.5105668870844239E-2},{"$f":"IF(TDPrimas_!G61=\"\",\"\",TDPrimas_!G61)","v":135943.64403000008},{"$f":"IF(TDPrimas_!H61=\"\",\"\",TDPrimas_!H61)","v":25.218797974356466},{"$f":"IF(TDPrimas_!I61=\"\",\"\",TDPrimas_!I61)","v":100},{"$f":"IF(TDPrimas_!J61=\"\",\"\",TDPrimas_!J61)","v":100},{"$f":"IF(TDPrimas_!K61=\"\",\"\",TDPrimas_!K61)","v":0.10120853513254034}]
[null,{"$f":"IF(TDPrimas_!A62=\"\",\"\",TDPrimas_!A62)","v":54},{"$f":"IF(TDPrimas_!B62=\"\",\"\",TDPrimas_!B62)","v":"Swiss Re Corporate Solutions"},{"$f":"IF(TDPrimas_!C62=\"\",\"\",TDPrimas_!C62)","v":672719.17460000003},{"$f":"IF(TDPrimas_!D62=\"\",\"\",TDPrimas_!D62)","v":317503.73488},{"$f":"IF(TDPrimas_!E62=\"\",\"\",TDPrimas_!E62)","v":0.10086648586764194},{"$f":"IF(TDPrimas_!F62=\"\",\"\",TDPrimas_!F62)","v":5.0127125731692014E-2},{"$f":"IF(TDPrimas_!G62=\"\",\"\",TDPrimas_!G62)","v":355215.43972000002},{"$f":"IF(TDPrimas_!H62=\"\",\"\",TDPrimas_!H62)","v":111.87756259127255},{"$f":"IF(TDPrimas_!I62=\"\",\"\",TDPrimas_!I62)","v":100},{"$f":"IF(TDPrimas_!J62=\"\",\"\",TDPrimas_!J62)","v":100},{"$f":"IF(TDPrimas_!K62=\"\",\"\",TDPrimas_!K62)","v":0.10086648586764194}]
[null,{"$f":"IF(TDPrimas_!A63=\"\",\"\",TDPrimas_!A63)","v":55},{"$f":"IF(TDPrimas_!B63=\"\",\"\",TDPrimas_!B63)","v":"Berkley Seguros"},{"$f":"IF(TDPrimas_!C63=\"\",\"\",TDPrimas_!C63)","v":636056.93861000007},{"$f":"IF(TDPrimas_!D63=\"\",\"\",TDPrimas_!D63)","v":465002.43946000002},{"$f":"IF(TDPrimas_!E63=\"\",\"\",TDPrimas_!E63)","v":9.5369406182704577E-2},{"$f":"IF(TDPrimas_!F63=\"\",\"\",TDPrimas_!F63)","v":7.3414052143873545E-2},{"$f":"IF(TDPrimas_!G63=\"\",\"\",TDPrimas_!G63)","v":171054.49915000005},{"$f":"IF(TDPrimas_!H63=\"\",\"\",TDPrimas_!H63)","v":36.785720812269915},{"$f":"IF(TDPrimas_!I63=\"\",\"\",TDPrimas_!I63)","v":100},{"$f":"IF(TDPrimas_!J63=\"\",\"\",TDPrimas_!J63)","v":100},{"$f":"IF(TDPrimas_!K63=\"\",\"\",TDPrimas_!K63)","v":9.5369406182704577E-2}]
[null,{"$f":"IF(TDPrimas_!A64=\"\",\"\",TDPrimas_!A64)","v":56},{"$f":"IF(TDPrimas_!B64=\"\",\"\",TDPrimas_!B64)","v":"PREVEM Seguros"},{"$f":"IF(TDPrimas_!C64=\"\",\"\",TDPrimas_!C64)","v":580810.99120000005},{"$f":"IF(TDPrimas_!D64=\"\",\"\",TDPrimas_!D64)","v":495857.3322},{"$f":"IF(TDPrimas_!E64=\"\",\"\",TDPrimas_!E64)","v":8.7085913182837801E-2},{"$f":"IF(TDPrimas_!F64=\"\",\"\",TDPrimas_!F64)","v":7.8285387242972182E-2},{"$f":"IF(TDPrimas_!G64=\"\",\"\",TDPrimas_!G64)","v":84953.659000000043},{"$f":"IF(TDPrimas_!H64=\"\",\"\",TDPrimas_!H64)","v":17.132681818595085},{"$f":"IF(TDPrimas_!I64=\"\",\"\",TDPrimas_!I64)","v":100},{"$f":"IF(TDPrimas_!J64=\"\",\"\",TDPrimas_!J64)","v":100},{"$f":"IF(TDPrimas_!K64=\"\",\"\",TDPrimas_!K64)","v":8.7085913182837801E-2}]
[null,{"$f":"IF(TDPrimas_!A65=\"\",\"\",TDPrimas_!A65)","v":57},{"$f":"IF(TDPrimas_!B65=\"\",\"\",TDPrimas_!B65)","v":"Patrimonial Inbursa"},{"$f":"IF(TDPrimas_!C65=\"\",\"\",TDPrimas_!C65)","v":575425.82271000009},{"$f":"IF(TDPrimas_!D65=\"\",\"\",TDPrimas_!D65)","v":633205.94169000001},{"$f":"IF(TDPrimas_!E65=\"\",\"\",TDPrimas_!E65)","v":8.6278469242036762E-2},{"$f":"IF(TDPrimas_!F65=\"\",\"\",TDPrimas_!F65)","v":9.9969828276651448E-2},{"$f":"IF(TDPrimas_!G65=\"\",\"\",TDPrimas_!G65)","v":-57780.118979999912},{"$f":"IF(TDPrimas_!H65=\"\",\"\",TDPrimas_!H65)","v":-9.1250121288797725},{"$f":"IF(TDPrimas_!I65=\"\",\"\",TDPrimas_!I65)","v":100},{"$f":"IF(TDPrimas_!J65=\"\",\"\",TDPrimas_!J65)","v":100},{"$f":"IF(TDPrimas_!K65=\"\",\"\",TDPrimas_!K65)","v":8.6278469242036762E-2}]
[null,{"$f":"IF(TDPrimas_!A66=\"\",\"\",TDPrimas_!A66)","v":58},{"$f":"IF(TDPrimas_!B66=\"\",\"\",TDPrimas_!B66)","v":"AXA Salud"},{"$f":"IF(TDPrimas_!C66=\"\",\"\",TDPrimas_!C66)","v":573796.81754999992},{"$f":"IF(TDPrimas_!D66=\"\",\"\",TDPrimas_!D66)","v":163768.73744999999},{"$f":"IF(TDPrimas_!E66=\"\",\"\",TDPrimas_!E66)","v":8.6034218695666978E-2},{"$f":"IF(TDPrimas_!F66=\"\",\"\",TDPrimas_!F66)","v":2.5855620552555959E-2},{"$f":"IF(TDPrimas_!G66=\"\",\"\",TDPrimas_!G66)","v":410028.0800999999},{"$f":"IF(TDPrimas_!H66=\"\",\"\",TDPrimas_!H66)","v":250.37017838962399},{"$f":"IF(TDPrimas_!I66=\"\",\"\",TDPrimas_!I66)","v":100},{"$f":"IF(TDPrimas_!J66=\"\",\"\",TDPrimas_!J66)","v":100},{"$f":"IF(TDPrimas_!K66=\"\",\"\",TDPrimas_!K66)","v":8.6034218695666978E-2}]
[null,{"$f":"IF(TDPrimas_!A67=\"\",\"\",TDPrimas_!A67)","v":59},{"$f":"IF(TDPrimas_!B67=\"\",\"\",TDPrimas_!B67)","v":"Dentegra"},{"$f":"IF(TDPrimas_!C67=\"\",\"\",TDPrimas_!C67)","v":506069.78083},{"$f":"IF(TDPrimas_!D67=\"\",\"\",TDPrimas_!D67)","v":449909.74330999999},{"$f":"IF(TDPrimas_!E67=\"\",\"\",TDPrimas_!E67)","v":7.5879330221977945E-2},{"$f":"IF(TDPrimas_!F67=\"\",\"\",TDPrimas_!F67)","v":7.1031234575358287E-2},{"$f":"IF(TDPrimas_!G67=\"\",\"\",TDPrimas_!G67)","v":56160.037520000013},{"$f":"IF(TDPrimas_!H67=\"\",\"\",TDPrimas_!H67)","v":12.482511960472076},{"$f":"IF(TDPrimas_!I67=\"\",\"\",TDPrimas_!I67)","v":100},{"$f":"IF(TDPrimas_!J67=\"\",\"\",TDPrimas_!J67)","v":100},{"$f":"IF(TDPrimas_!K67=\"\",\"\",TDPrimas_!K67)","v":7.5879330221977945E-2}]
[null,{"$f":"IF(TDPrimas_!A68=\"\",\"\",TDPrimas_!A68)","v":60},{"$f":"IF(TDPrimas_!B68=\"\",\"\",TDPrimas_!B68)","v":"Skandia Life"},{"$f":"IF(TDPrimas_!C68=\"\",\"\",TDPrimas_!C68)","v":447144.79532999999},{"$f":"IF(TDPrimas_!D68=\"\",\"\",TDPrimas_!D68)","v":426948.58981999999},{"$f":"IF(TDPrimas_!E68=\"\",\"\",TDPrimas_!E68)","v":6.7044207868403288E-2},{"$f":"IF(TDPrimas_!F68=\"\",\"\",TDPrimas_!F68)","v":6.7406153981037345E-2},{"$f":"IF(TDPrimas_!G68=\"\",\"\",TDPrimas_!G68)","v":20196.20551},{"$f":"IF(TDPrimas_!H68=\"\",\"\",TDPrimas_!H68)","v":4.7303600460455009},{"$f":"IF(TDPrimas_!I68=\"\",\"\",TDPrimas_!I68)","v":100},{"$f":"IF(TDPrimas_!J68=\"\",\"\",TDPrimas_!J68)","v":100},{"$f":"IF(TDPrimas_!K68=\"\",\"\",TDPrimas_!K68)","v":6.7044207868403288E-2}]
[null,{"$f":"IF(TDPrimas_!A69=\"\",\"\",TDPrimas_!A69)","v":61},{"$f":"IF(TDPrimas_!B69=\"\",\"\",TDPrimas_!B69)","v":"Coface"},{"$f":"IF(TDPrimas_!C69=\"\",\"\",TDPrimas_!C69)","v":385583.53597000003},{"$f":"IF(TDPrimas_!D69=\"\",\"\",TDPrimas_!D69)","v":330415.15438000002},{"$f":"IF(TDPrimas_!E69=\"\",\"\",TDPrimas_!E69)","v":5.781380663757494E-2},{"$f":"IF(TDPrimas_!F69=\"\",\"\",TDPrimas_!F69)","v":5.2165565842942144E-2},{"$f":"IF(TDPrimas_!G69=\"\",\"\",TDPrimas_!G69)","v":55168.381590000005},{"$f":"IF(TDPrimas_!H69=\"\",\"\",TDPrimas_!H69)","v":16.696686232058401},{"$f":"IF(TDPrimas_!I69=\"\",\"\",TDPrimas_!I69)","v":100},{"$f":"IF(TDPrimas_!J69=\"\",\"\",TDPrimas_!J69)","v":100},{"$f":"IF(TDPrimas_!K69=\"\",\"\",TDPrimas_!K69)","v":5.781380663757494E-2}]
[null,{"$f":"IF(TDPrimas_!A70=\"\",\"\",TDPrimas_!A70)","v":62},{"$f":"IF(TDPrimas_!B70=\"\",\"\",TDPrimas_!B70)","v":"SHF Cred Vivienda"},{"$f":"IF(TDPrimas_!C70=\"\",\"\",TDPrimas_!C70)","v":378646.86668000004},{"$f":"IF(TDPrimas_!D70=\"\",\"\",TDPrimas_!D70)","v":419514.94858000003},{"$f":"IF(TDPrimas_!E70=\"\",\"\",TDPrimas_!E70)","v":5.6773733035801473E-2},{"$f":"IF(TDPrimas_!F70=\"\",\"\",TDPrimas_!F70)","v":6.6232539222701975E-2},{"$f":"IF(TDPrimas_!G70=\"\",\"\",TDPrimas_!G70)","v":-40868.08189999999},{"$f":"IF(TDPrimas_!H70=\"\",\"\",TDPrimas_!H70)","v":-9.7417462806349988},{"$f":"IF(TDPrimas_!I70=\"\",\"\",TDPrimas_!I70)","v":100},{"$f":"IF(TDPrimas_!J70=\"\",\"\",TDPrimas_!J70)","v":100},{"$f":"IF(TDPrimas_!K70=\"\",\"\",TDPrimas_!K70)","v":5.6773733035801473E-2}]
[null,{"$f":"IF(TDPrimas_!A71=\"\",\"\",TDPrimas_!A71)","v":63},{"$f":"IF(TDPrimas_!B71=\"\",\"\",TDPrimas_!B71)","v":"MediAccess"},{"$f":"IF(TDPrimas_!C71=\"\",\"\",TDPrimas_!C71)","v":287353.00105999998},{"$f":"IF(TDPrimas_!D71=\"\",\"\",TDPrimas_!D71)","v":222274.35027},{"$f":"IF(TDPrimas_!E71=\"\",\"\",TDPrimas_!E71)","v":4.3085270220931476E-2},{"$f":"IF(TDPrimas_!F71=\"\",\"\",TDPrimas_!F71)","v":3.5092419643899711E-2},{"$f":"IF(TDPrimas_!G71=\"\",\"\",TDPrimas_!G71)","v":65078.650789999985},{"$f":"IF(TDPrimas_!H71=\"\",\"\",TDPrimas_!H71)","v":29.278524809969287},{"$f":"IF(TDPrimas_!I71=\"\",\"\",TDPrimas_!I71)","v":100},{"$f":"IF(TDPrimas_!J71=\"\",\"\",TDPrimas_!J71)","v":100},{"$f":"IF(TDPrimas_!K71=\"\",\"\",TDPrimas_!K71)","v":4.3085270220931476E-2}]
[null,{"$f":"IF(TDPrimas_!A72=\"\",\"\",TDPrimas_!A72)","v":64},{"$f":"IF(TDPrimas_!B72=\"\",\"\",TDPrimas_!B72)","v":"Patrimonial Daños"},{"$f":"IF(TDPrimas_!C72=\"\",\"\",TDPrimas_!C72)","v":284972.94150999998},{"$f":"IF(TDPrimas_!D72=\"\",\"\",TDPrimas_!D72)","v":172814.15536999999},{"$f":"IF(TDPrimas_!E72=\"\",\"\",TDPrimas_!E72)","v":4.2728407726106699E-2},{"$f":"IF(TDPrimas_!F72=\"\",\"\",TDPrimas_!F72)","v":2.7283700765668762E-2},{"$f":"IF(TDPrimas_!G72=\"\",\"\",TDPrimas_!G72)","v":112158.78613999998},{"$f":"IF(TDPrimas_!H72=\"\",\"\",TDPrimas_!H72)","v":64.901388372882323},{"$f":"IF(TDPrimas_!I72=\"\",\"\",TDPrimas_!I72)","v":100},{"$f":"IF(TDPrimas_!J72=\"\",\"\",TDPrimas_!J72)","v":100},{"$f":"IF(TDPrimas_!K72=\"\",\"\",TDPrimas_!K72)","v":4.2728407726106699E-2}]
[null,{"$f":"IF(TDPrimas_!A73=\"\",\"\",TDPrimas_!A73)","v":65},{"$f":"IF(TDPrimas_!B73=\"\",\"\",TDPrimas_!B73)","v":"Assurant Daños"},{"$f":"IF(TDPrimas_!C73=\"\",\"\",TDPrimas_!C73)","v":195056.23666},{"$f":"IF(TDPrimas_!D73=\"\",\"\",TDPrimas_!D73)","v":175769.73887},{"$f":"IF(TDPrimas_!E73=\"\",\"\",TDPrimas_!E73)","v":2.9246434294309929E-2},{"$f":"IF(TDPrimas_!F73=\"\",\"\",TDPrimas_!F73)","v":2.7750324900880929E-2},{"$f":"IF(TDPrimas_!G73=\"\",\"\",TDPrimas_!G73)","v":19286.497789999994},{"$f":"IF(TDPrimas_!H73=\"\",\"\",TDPrimas_!H73)","v":10.97259284447385},{"$f":"IF(TDPrimas_!I73=\"\",\"\",TDPrimas_!I73)","v":100},{"$f":"IF(TDPrimas_!J73=\"\",\"\",TDPrimas_!J73)","v":100},{"$f":"IF(TDPrimas_!K73=\"\",\"\",TDPrimas_!K73)","v":2.9246434294309929E-2}]
[null,{"$f":"IF(TDPrimas_!A74=\"\",\"\",TDPrimas_!A74)","v":66},{"$f":"IF(TDPrimas_!B74=\"\",\"\",TDPrimas_!B74)","v":"Centauro"},{"$f":"IF(TDPrimas_!C74=\"\",\"\",TDPrimas_!C74)","v":183069.31599999999},{"$f":"IF(TDPrimas_!D74=\"\",\"\",TDPrimas_!D74)","v":161859.45000000001},{"$f":"IF(TDPrimas_!E74=\"\",\"\",TDPrimas_!E74)","v":2.7449133713324771E-2},{"$f":"IF(TDPrimas_!F74=\"\",\"\",TDPrimas_!F74)","v":2.555418443842564E-2},{"$f":"IF(TDPrimas_!G74=\"\",\"\",TDPrimas_!G74)","v":21209.86599999998},{"$f":"IF(TDPrimas_!H74=\"\",\"\",TDPrimas_!H74)","v":13.103878704641581},{"$f":"IF(TDPrimas_!I74=\"\",\"\",TDPrimas_!I74)","v":100},{"$f":"IF(TDPrimas_!J74=\"\",\"\",TDPrimas_!J74)","v":100},{"$f":"IF(TDPrimas_!K74=\"\",\"\",TDPrimas_!K74)","v":2.7449133713324771E-2}]
[null,{"$f":"IF(TDPrimas_!A75=\"\",\"\",TDPrimas_!A75)","v":67},{"$f":"IF(TDPrimas_!B75=\"\",\"\",TDPrimas_!B75)","v":"Tláloc Seguros"},{"$f":"IF(TDPrimas_!C75=\"\",\"\",TDPrimas_!C75)","v":114710.45364000001},{"$f":"IF(TDPrimas_!D75=\"\",\"\",TDPrimas_!D75)","v":122691.30882999999},{"$f":"IF(TDPrimas_!E75=\"\",\"\",TDPrimas_!E75)","v":1.7199510267905858E-2},{"$f":"IF(TDPrimas_!F75=\"\",\"\",TDPrimas_!F75)","v":1.9370363206063411E-2},{"$f":"IF(TDPrimas_!G75=\"\",\"\",TDPrimas_!G75)","v":-7980.8551899999875},{"$f":"IF(TDPrimas_!H75=\"\",\"\",TDPrimas_!H75)","v":-6.5048252122391066},{"$f":"IF(TDPrimas_!I75=\"\",\"\",TDPrimas_!I75)","v":100},{"$f":"IF(TDPrimas_!J75=\"\",\"\",TDPrimas_!J75)","v":100},{"$f":"IF(TDPrimas_!K75=\"\",\"\",TDPrimas_!K75)","v":1.7199510267905858E-2}]
[null,{"$f":"IF(TDPrimas_!A76=\"\",\"\",TDPrimas_!A76)","v":68},{"$f":"IF(TDPrimas_!B76=\"\",\"\",TDPrimas_!B76)","v":"Virginia Surety"},{"$f":"IF(TDPrimas_!C76=\"\",\"\",TDPrimas_!C76)","v":108805.01648000001},{"$f":"IF(TDPrimas_!D76=\"\",\"\",TDPrimas_!D76)","v":71210.532909999994},{"$f":"IF(TDPrimas_!E76=\"\",\"\",TDPrimas_!E76)","v":1.6314058037120899E-2},{"$f":"IF(TDPrimas_!F76=\"\",\"\",TDPrimas_!F76)","v":1.124263731243816E-2},{"$f":"IF(TDPrimas_!G76=\"\",\"\",TDPrimas_!G76)","v":37594.483570000011},{"$f":"IF(TDPrimas_!H76=\"\",\"\",TDPrimas_!H76)","v":52.793431018855188},{"$f":"IF(TDPrimas_!I76=\"\",\"\",TDPrimas_!I76)","v":100},{"$f":"IF(TDPrimas_!J76=\"\",\"\",TDPrimas_!J76)","v":100},{"$f":"IF(TDPrimas_!K76=\"\",\"\",TDPrimas_!K76)","v":1.6314058037120899E-2}]
[null,{"$f":"IF(TDPrimas_!A77=\"\",\"\",TDPrimas_!A77)","v":69},{"$f":"IF(TDPrimas_!B77=\"\",\"\",TDPrimas_!B77)","v":"Odontoprev"},{"$f":"IF(TDPrimas_!C77=\"\",\"\",TDPrimas_!C77)","v":81304.397939999995},{"$f":"IF(TDPrimas_!D77=\"\",\"\",TDPrimas_!D77)","v":76993.932440000004},{"$f":"IF(TDPrimas_!E77=\"\",\"\",TDPrimas_!E77)","v":1.2190657283804061E-2},{"$f":"IF(TDPrimas_!F77=\"\",\"\",TDPrimas_!F77)","v":1.215571380114935E-2},{"$f":"IF(TDPrimas_!G77=\"\",\"\",TDPrimas_!G77)","v":4310.4654999999912},{"$f":"IF(TDPrimas_!H77=\"\",\"\",TDPrimas_!H77)","v":5.5984482976747074},{"$f":"IF(TDPrimas_!I77=\"\",\"\",TDPrimas_!I77)","v":100},{"$f":"IF(TDPrimas_!J77=\"\",\"\",TDPrimas_!J77)","v":100},{"$f":"IF(TDPrimas_!K77=\"\",\"\",TDPrimas_!K77)","v":1.2190657283804061E-2}]
[null,{"$f":"IF(TDPrimas_!A78=\"\",\"\",TDPrimas_!A78)","v":70},{"$f":"IF(TDPrimas_!B78=\"\",\"\",TDPrimas_!B78)","v":"Genworth Seg. de Crédito"},{"$f":"IF(TDPrimas_!C78=\"\",\"\",TDPrimas_!C78)","v":70363.624430000011},{"$f":"IF(TDPrimas_!D78=\"\",\"\",TDPrimas_!D78)","v":65916.115330000001},{"$f":"IF(TDPrimas_!E78=\"\",\"\",TDPrimas_!E78)","v":1.0550214409132527E-2},{"$f":"IF(TDPrimas_!F78=\"\",\"\",TDPrimas_!F78)","v":1.0406760733508953E-2},{"$f":"IF(TDPrimas_!G78=\"\",\"\",TDPrimas_!G78)","v":4447.5091000000102},{"$f":"IF(TDPrimas_!H78=\"\",\"\",TDPrimas_!H78)","v":6.7472257394632029},{"$f":"IF(TDPrimas_!I78=\"\",\"\",TDPrimas_!I78)","v":100},{"$f":"IF(TDPrimas_!J78=\"\",\"\",TDPrimas_!J78)","v":100},{"$f":"IF(TDPrimas_!K78=\"\",\"\",TDPrimas_!K78)","v":1.0550214409132527E-2}]
[null,{"$f":"IF(TDPrimas_!A79=\"\",\"\",TDPrimas_!A79)","v":71},{"$f":"IF(TDPrimas_!B79=\"\",\"\",TDPrimas_!B79)","v":"Crabi"},{"$f":"IF(TDPrimas_!C79=\"\",\"\",TDPrimas_!C79)","v":36639.410899999995},{"$f":"IF(TDPrimas_!D79=\"\",\"\",TDPrimas_!D79)","v":40543.639300000003},{"$f":"IF(TDPrimas_!E79=\"\",\"\",TDPrimas_!E79)","v":5.4936573257942855E-3},{"$f":"IF(TDPrimas_!F79=\"\",\"\",TDPrimas_!F79)","v":6.4009833004943619E-3},{"$f":"IF(TDPrimas_!G79=\"\",\"\",TDPrimas_!G79)","v":-3904.2284000000072},{"$f":"IF(TDPrimas_!H79=\"\",\"\",TDPrimas_!H79)","v":-9.6296939974009899},{"$f":"IF(TDPrimas_!I79=\"\",\"\",TDPrimas_!I79)","v":100},{"$f":"IF(TDPrimas_!J79=\"\",\"\",TDPrimas_!J79)","v":100},{"$f":"IF(TDPrimas_!K79=\"\",\"\",TDPrimas_!K79)","v":5.4936573257942855E-3}]
[null,{"$f":"IF(TDPrimas_!A80=\"\",\"\",TDPrimas_!A80)","v":72},{"$f":"IF(TDPrimas_!B80=\"\",\"\",TDPrimas_!B80)","v":"SPT"},{"$f":"IF(TDPrimas_!C80=\"\",\"\",TDPrimas_!C80)","v":31148.555920000003},{"$f":"IF(TDPrimas_!D80=\"\",\"\",TDPrimas_!D80)","v":0},{"$f":"IF(TDPrimas_!E80=\"\",\"\",TDPrimas_!E80)","v":4.67036691405486E-3},{"$f":"IF(TDPrimas_!F80=\"\",\"\",TDPrimas_!F80)","v":""},{"$f":"IF(TDPrimas_!G80=\"\",\"\",TDPrimas_!G80)","v":""},{"$f":"IF(TDPrimas_!H80=\"\",\"\",TDPrimas_!H80)","v":""},{"$f":"IF(TDPrimas_!I80=\"\",\"\",TDPrimas_!I80)","v":100},{"$f":"IF(TDPrimas_!J80=\"\",\"\",TDPrimas_!J80)","v":100},{"$f":"IF(TDPrimas_!K80=\"\",\"\",TDPrimas_!K80)","v":4.67036691405486E-3}]
[null,{"$f":"IF(TDPrimas_!A81=\"\",\"\",TDPrimas_!A81)","v":73},{"$f":"IF(TDPrimas_!B81=\"\",\"\",TDPrimas_!B81)","v":"Metlife Más"},{"$f":"IF(TDPrimas_!C81=\"\",\"\",TDPrimas_!C81)","v":30174.169300000001},{"$f":"IF(TDPrimas_!D81=\"\",\"\",TDPrimas_!D81)","v":31095.04911},{"$f":"IF(TDPrimas_!E81=\"\",\"\",TDPrimas_!E81)","v":4.5242688720386077E-3},{"$f":"IF(TDPrimas_!F81=\"\",\"\",TDPrimas_!F81)","v":4.9092507115206623E-3},{"$f":"IF(TDPrimas_!G81=\"\",\"\",TDPrimas_!G81)","v":-920.87980999999854},{"$f":"IF(TDPrimas_!H81=\"\",\"\",TDPrimas_!H81)","v":-2.9614997768369733},{"$f":"IF(TDPrimas_!I81=\"\",\"\",TDPrimas_!I81)","v":100},{"$f":"IF(TDPrimas_!J81=\"\",\"\",TDPrimas_!J81)","v":100},{"$f":"IF(TDPrimas_!K81=\"\",\"\",TDPrimas_!K81)","v":4.5242688720386077E-3}]
[null,{"$f":"IF(TDPrimas_!A82=\"\",\"\",TDPrimas_!A82)","v":74},{"$f":"IF(TDPrimas_!B82=\"\",\"\",TDPrimas_!B82)","v":"Citibanamex Pensiones"},{"$f":"IF(TDPrimas_!C82=\"\",\"\",TDPrimas_!C82)","v":21149.46084},{"$f":"IF(TDPrimas_!D82=\"\",\"\",TDPrimas_!D82)","v":12102.12455},{"$f":"IF(TDPrimas_!E82=\"\",\"\",TDPrimas_!E82)","v":3.1711178653329652E-3},{"$f":"IF(TDPrimas_!F82=\"\",\"\",TDPrimas_!F82)","v":1.9106695521793685E-3},{"$f":"IF(TDPrimas_!G82=\"\",\"\",TDPrimas_!G82)","v":9047.3362899999993},{"$f":"IF(TDPrimas_!H82=\"\",\"\",TDPrimas_!H82)","v":74.758248046620849},{"$f":"IF(TDPrimas_!I82=\"\",\"\",TDPrimas_!I82)","v":100},{"$f":"IF(TDPrimas_!J82=\"\",\"\",TDPrimas_!J82)","v":100},{"$f":"IF(TDPrimas_!K82=\"\",\"\",TDPrimas_!K82)","v":3.1711178653329652E-3}]
[null,{"$f":"IF(TDPrimas_!A83=\"\",\"\",TDPrimas_!A83)","v":75},{"$f":"IF(TDPrimas_!B83=\"\",\"\",TDPrimas_!B83)","v":"Metlife Pensiones"},{"$f":"IF(TDPrimas_!C83=\"\",\"\",TDPrimas_!C83)","v":20461.44299},{"$f":"IF(TDPrimas_!D83=\"\",\"\",TDPrimas_!D83)","v":15995.85067},{"$f":"IF(TDPrimas_!E83=\"\",\"\",TDPrimas_!E83)","v":3.0679575194353264E-3},{"$f":"IF(TDPrimas_!F83=\"\",\"\",TDPrimas_!F83)","v":2.5254065689133028E-3},{"$f":"IF(TDPrimas_!G83=\"\",\"\",TDPrimas_!G83)","v":4465.5923199999997},{"$f":"IF(TDPrimas_!H83=\"\",\"\",TDPrimas_!H83)","v":27.917191852604351},{"$f":"IF(TDPrimas_!I83=\"\",\"\",TDPrimas_!I83)","v":100},{"$f":"IF(TDPrimas_!J83=\"\",\"\",TDPrimas_!J83)","v":100},{"$f":"IF(TDPrimas_!K83=\"\",\"\",TDPrimas_!K83)","v":3.0679575194353264E-3}]
[null,{"$f":"IF(TDPrimas_!A84=\"\",\"\",TDPrimas_!A84)","v":76},{"$f":"IF(TDPrimas_!B84=\"\",\"\",TDPrimas_!B84)","v":"SIS NOVA"},{"$f":"IF(TDPrimas_!C84=\"\",\"\",TDPrimas_!C84)","v":18506.622070000001},{"$f":"IF(TDPrimas_!D84=\"\",\"\",TDPrimas_!D84)","v":939149.07556000003},{"$f":"IF(TDPrimas_!E84=\"\",\"\",TDPrimas_!E84)","v":2.7748546554977969E-3},{"$f":"IF(TDPrimas_!F84=\"\",\"\",TDPrimas_!F84)","v":0.1482717795719507},{"$f":"IF(TDPrimas_!G84=\"\",\"\",TDPrimas_!G84)","v":-920642.45348999999},{"$f":"IF(TDPrimas_!H84=\"\",\"\",TDPrimas_!H84)","v":-98.029426578632922},{"$f":"IF(TDPrimas_!I84=\"\",\"\",TDPrimas_!I84)","v":100},{"$f":"IF(TDPrimas_!J84=\"\",\"\",TDPrimas_!J84)","v":100},{"$f":"IF(TDPrimas_!K84=\"\",\"\",TDPrimas_!K84)","v":2.7748546554977969E-3}]
[null,{"$f":"IF(TDPrimas_!A85=\"\",\"\",TDPrimas_!A85)","v":77},{"$f":"IF(TDPrimas_!B85=\"\",\"\",TDPrimas_!B85)","v":"Pensiones Inbursa"},{"$f":"IF(TDPrimas_!C85=\"\",\"\",TDPrimas_!C85)","v":1325.17551},{"$f":"IF(TDPrimas_!D85=\"\",\"\",TDPrimas_!D85)","v":533.28377999999998},{"$f":"IF(TDPrimas_!E85=\"\",\"\",TDPrimas_!E85)","v":1.9869479256487391E-4},{"$f":"IF(TDPrimas_!F85=\"\",\"\",TDPrimas_!F85)","v":8.4194231922453722E-5},{"$f":"IF(TDPrimas_!G85=\"\",\"\",TDPrimas_!G85)","v":791.89173000000005},{"$f":"IF(TDPrimas_!H85=\"\",\"\",TDPrimas_!H85)","v":148.49349627697285},{"$f":"IF(TDPrimas_!I85=\"\",\"\",TDPrimas_!I85)","v":100},{"$f":"IF(TDPrimas_!J85=\"\",\"\",TDPrimas_!J85)","v":100},{"$f":"IF(TDPrimas_!K85=\"\",\"\",TDPrimas_!K85)","v":1.9869479256487391E-4}]
[null,{"$f":"IF(TDPrimas_!A86=\"\",\"\",TDPrimas_!A86)","v":78},{"$f":"IF(TDPrimas_!B86=\"\",\"\",TDPrimas_!B86)","v":"Aserta Seguros de Vida"},{"$f":"IF(TDPrimas_!C86=\"\",\"\",TDPrimas_!C86)","v":596.44601999999998},{"$f":"IF(TDPrimas_!D86=\"\",\"\",TDPrimas_!D86)","v":172554.43964},{"$f":"IF(TDPrimas_!E86=\"\",\"\",TDPrimas_!E86)","v":8.9430205528054647E-5},{"$f":"IF(TDPrimas_!F86=\"\",\"\",TDPrimas_!F86)","v":2.7242697143909388E-2},{"$f":"IF(TDPrimas_!G86=\"\",\"\",TDPrimas_!G86)","v":-171957.99361999999},{"$f":"IF(TDPrimas_!H86=\"\",\"\",TDPrimas_!H86)","v":-99.654343277840681},{"$f":"IF(TDPrimas_!I86=\"\",\"\",TDPrimas_!I86)","v":100},{"$f":"IF(TDPrimas_!J86=\"\",\"\",TDPrimas_!J86)","v":100},{"$f":"IF(TDPrimas_!K86=\"\",\"\",TDPrimas_!K86)","v":8.9430205528054647E-5}]
[null,{"$f":"IF(TDPrimas_!A87=\"\",\"\",TDPrimas_!A87)","v":79},{"$f":"IF(TDPrimas_!B87=\"\",\"\",TDPrimas_!B87)","v":"Principal México"},{"$f":"IF(TDPrimas_!C87=\"\",\"\",TDPrimas_!C87)","v":0},{"$f":"IF(TDPrimas_!D87=\"\",\"\",TDPrimas_!D87)","v":192.54227},{"$f":"IF(TDPrimas_!E87=\"\",\"\",TDPrimas_!E87)","v":""},{"$f":"IF(TDPrimas_!F87=\"\",\"\",TDPrimas_!F87)","v":3.0398352890567387E-5},{"$f":"IF(TDPrimas_!G87=\"\",\"\",TDPrimas_!G87)","v":""},{"$f":"IF(TDPrimas_!H87=\"\",\"\",TDPrimas_!H87)","v":""},{"$f":"IF(TDPrimas_!I87=\"\",\"\",TDPrimas_!I87)","v":""},{"$f":"IF(TDPrimas_!J87=\"\",\"\",TDPrimas_!J87)","v":""},{"$f":"IF(TDPrimas_!K87=\"\",\"\",TDPrimas_!K87)","v":""}]
[null,{"$f":"IF(TDPrimas_!A88=\"\",\"\",TDPrimas_!A88)","v":79},{"$f":"IF(TDPrimas_!B88=\"\",\"\",TDPrimas_!B88)","v":"Zurich Daños"},{"$f":"IF(TDPrimas_!C88=\"\",\"\",TDPrimas_!C88)","v":0},{"$f":"IF(TDPrimas_!D88=\"\",\"\",TDPrimas_!D88)","v":7183909.4036900001},{"$f":"IF(TDPrimas_!E88=\"\",\"\",TDPrimas_!E88)","v":""},{"$f":"IF(TDPrimas_!F88=\"\",\"\",TDPrimas_!F88)","v":1.1341873822679776},{"$f":"IF(TDPrimas_!G88=\"\",\"\",TDPrimas_!G88)","v":""},{"$f":"IF(TDPrimas_!H88=\"\",\"\",TDPrimas_!H88)","v":""},{"$f":"IF(TDPrimas_!I88=\"\",\"\",TDPrimas_!I88)","v":""},{"$f":"IF(TDPrimas_!J88=\"\",\"\",TDPrimas_!J88)","v":""},{"$f":"IF(TDPrimas_!K88=\"\",\"\",TDPrimas_!K88)","v":""}]
[null,{"$f":"IF(TDPrimas_!A89=\"\",\"\",TDPrimas_!A89)","v":79},{"$f":"IF(TDPrimas_!B89=\"\",\"\",TDPrimas_!B89)","v":"Zurich Vida"},{"$f":"IF(TDPrimas_!C89=\"\",\"\",TDPrimas_!C89)","v":0},{"$f":"IF(TDPrimas_!D89=\"\",\"\",TDPrimas_!D89)","v":1834835.98364},{"$f":"IF(TDPrimas_!E89=\"\",\"\",TDPrimas_!E89)","v":""},{"$f":"IF(TDPrimas_!F89=\"\",\"\",TDPrimas_!F89)","v":0.28968180195964272},{"$f":"IF(TDPrimas_!G89=\"\",\"\",TDPrimas_!G89)","v":""},{"$f":"IF(TDPrimas_!H89=\"\",\"\",TDPrimas_!H89)","v":""},{"$f":"IF(TDPrimas_!I89=\"\",\"\",TDPrimas_!I89)","v":""},{"$f":"IF(TDPrimas_!J89=\"\",\"\",TDPrimas_!J89)","v":""},{"$f":"IF(TDPrimas_!K89=\"\",\"\",TDPrimas_!K89)","v":""}]
[null,{"$f":"IF(TDPrimas_!A90=\"\",\"\",TDPrimas_!A90)","v":150.1},{"$f":"IF(TDPrimas_!B90=\"\",\"\",TDPrimas_!B90)","v":"TOTAL RESTO"},{"$f":"IF(TDPrimas_!C90=\"\",\"\",TDPrimas_!C90)","v":149887888.3001},{"$f":"IF(TDPrimas_!D90=\"\",\"\",TDPrimas_!D90)","v":138768712.40372995},{"$f":"IF(TDPrimas_!E90=\"\",\"\",TDPrimas_!E90)","v":22.473961108574485},{"$f":"IF(TDPrimas_!F90=\"\",\"\",TDPrimas_!F90)","v":21.908645253939508},{"$f":"IF(TDPrimas_!G90=\"\",\"\",TDPrimas_!G90)","v":11119175.896370053},{"$f":"IF(TDPrimas_!H90=\"\",\"\",TDPrimas_!H90)","v":8.0127398343368803},{"$f":"IF(TDPrimas_!I90=\"\",\"\",TDPrimas_!I90)","v":100},{"$f":"IF(TDPrimas_!J90=\"\",\"\",TDPrimas_!J90)","v":100},{"$f":"IF(TDPrimas_!K90=\"\",\"\",TDPrimas_!K90)","v":22.473961108574485}]
[null,{"$f":"IF(TDPrimas_!A91=\"\",\"\",TDPrimas_!A91)","v":200},{"$f":"IF(TDPrimas_!B91=\"\",\"\",TDPrimas_!B91)","v":"Patria"},{"$f":"IF(TDPrimas_!C91=\"\",\"\",TDPrimas_!C91)","v":0},{"$f":"IF(TDPrimas_!D91=\"\",\"\",TDPrimas_!D91)","v":0},{"$f":"IF(TDPrimas_!E91=\"\",\"\",TDPrimas_!E91)","v":""},{"$f":"IF(TDPrimas_!F91=\"\",\"\",TDPrimas_!F91)","v":""},{"$f":"IF(TDPrimas_!G91=\"\",\"\",TDPrimas_!G91)","v":""},{"$f":"IF(TDPrimas_!H91=\"\",\"\",TDPrimas_!H91)","v":""},{"$f":"IF(TDPrimas_!I91=\"\",\"\",TDPrimas_!I91)","v":""},{"$f":"IF(TDPrimas_!J91=\"\",\"\",TDPrimas_!J91)","v":""},{"$f":"IF(TDPrimas_!K91=\"\",\"\",TDPrimas_!K91)","v":""}]
[null,{"$f":"IF(TDPrimas_!A92=\"\",\"\",TDPrimas_!A92)","v":201.1},{"$f":"IF(TDPrimas_!B92=\"\",\"\",TDPrimas_!B92)","v":"TOTAL"},{"$f":"IF(TDPrimas_!C92=\"\",\"\",TDPrimas_!C92)","v":666940231.74629986},{"$f":"IF(TDPrimas_!D92=\"\",\"\",TDPrimas_!D92)","v":633397048.49517012},{"$f":"IF(TDPrimas_!E92=\"\",\"\",TDPrimas_!E92)","v":99.999999999999972},{"$f":"IF(TDPrimas_!F92=\"\",\"\",TDPrimas_!F92)","v":100.00000000000004},{"$f":"IF(TDPrimas_!G92=\"\",\"\",TDPrimas_!G92)","v":33543183.251129746},{"$f":"IF(TDPrimas_!H92=\"\",\"\",TDPrimas_!H92)","v":5.2957593236062417},{"$f":"IF(TDPrimas_!I92=\"\",\"\",TDPrimas_!I92)","v":100},{"$f":"IF(TDPrimas_!J92=\"\",\"\",TDPrimas_!J92)","v":100},{"$f":"IF(TDPrimas_!K92=\"\",\"\",TDPrimas_!K92)","v":99.999999999999972}]
[null,{"$f":"IF(TDPrimas_!A93=\"\",\"\",TDPrimas_!A93)","v":""},{"$f":"IF(TDPrimas_!B93=\"\",\"\",TDPrimas_!B93)","v":""},{"$f":"IF(TDPrimas_!C93=\"\",\"\",TDPrimas_!C93)","v":""},{"$f":"IF(TDPrimas_!D93=\"\",\"\",TDPrimas_!D93)","v":""},{"$f":"IF(TDPrimas_!E93=\"\",\"\",TDPrimas_!E93)","v":""},{"$f":"IF(TDPrimas_!F93=\"\",\"\",TDPrimas_!F93)","v":""},{"$f":"IF(TDPrimas_!G93=\"\",\"\",TDPrimas_!G93)","v":""},{"$f":"IF(TDPrimas_!H93=\"\",\"\",TDPrimas_!H93)","v":""},{"$f":"IF(TDPrimas_!I93=\"\",\"\",TDPrimas_!I93)","v":""},{"$f":"IF(TDPrimas_!J93=\"\",\"\",TDPrimas_!J93)","v":""},{"$f":"IF(TDPrimas_!K93=\"\",\"\",TDPrimas_!K93)","v":""}]
[null,{"$f":"IF(TDPrimas_!A94=\"\",\"\",TDPrimas_!A94)","v":""},{"$f":"IF(TDPrimas_!B94=\"\",\"\",TDPrimas_!B94)","v":""},{"$f":"IF(TDPrimas_!C94=\"\",\"\",TDPrimas_!C94)","v":""},{"$f":"IF(TDPrimas_!D94=\"\",\"\",TDPrimas_!D94)","v":""},{"$f":"IF(TDPrimas_!E94=\"\",\"\",TDPrimas_!E94)","v":""},{"$f":"IF(TDPrimas_!F94=\"\",\"\",TDPrimas_!F94)","v":""},{"$f":"IF(TDPrimas_!G94=\"\",\"\",TDPrimas_!G94)","v":""},{"$f":"IF(TDPrimas_!H94=\"\",\"\",TDPrimas_!H94)","v":""},{"$f":"IF(TDPrimas_!I94=\"\",\"\",TDPrimas_!I94)","v":""},{"$f":"IF(TDPrimas_!J94=\"\",\"\",TDPrimas_!J94)","v":""},{"$f":"IF(TDPrimas_!K94=\"\",\"\",TDPrimas_!K94)","v":""}]
[null,{"$f":"IF(TDPrimas_!A95=\"\",\"\",TDPrimas_!A95)","v":""},{"$f":"IF(TDPrimas_!B95=\"\",\"\",TDPrimas_!B95)","v":""},{"$f":"IF(TDPrimas_!C95=\"\",\"\",TDPrimas_!C95)","v":""},{"$f":"IF(TDPrimas_!D95=\"\",\"\",TDPrimas_!D95)","v":""},{"$f":"IF(TDPrimas_!E95=\"\",\"\",TDPrimas_!E95)","v":""},{"$f":"IF(TDPrimas_!F95=\"\",\"\",TDPrimas_!F95)","v":""},{"$f":"IF(TDPrimas_!G95=\"\",\"\",TDPrimas_!G95)","v":""},{"$f":"IF(TDPrimas_!H95=\"\",\"\",TDPrimas_!H95)","v":""},{"$f":"IF(TDPrimas_!I95=\"\",\"\",TDPrimas_!I95)","v":""},{"$f":"IF(TDPrimas_!J95=\"\",\"\",TDPrimas_!J95)","v":""},{"$f":"IF(TDPrimas_!K95=\"\",\"\",TDPrimas_!K95)","v":""}]
[null,{"$f":"IF(TDPrimas_!A96=\"\",\"\",TDPrimas_!A96)","v":""},{"$f":"IF(TDPrimas_!B96=\"\",\"\",TDPrimas_!B96)","v":""},{"$f":"IF(TDPrimas_!C96=\"\",\"\",TDPrimas_!C96)","v":""},{"$f":"IF(TDPrimas_!D96=\"\",\"\",TDPrimas_!D96)","v":""},{"$f":"IF(TDPrimas_!E96=\"\",\"\",TDPrimas_!E96)","v":""},{"$f":"IF(TDPrimas_!F96=\"\",\"\",TDPrimas_!F96)","v":""},{"$f":"IF(TDPrimas_!G96=\"\",\"\",TDPrimas_!G96)","v":""},{"$f":"IF(TDPrimas_!H96=\"\",\"\",TDPrimas_!H96)","v":""},{"$f":"IF(TDPrimas_!I96=\"\",\"\",TDPrimas_!I96)","v":""},{"$f":"IF(TDPrimas_!J96=\"\",\"\",TDPrimas_!J96)","v":""},{"$f":"IF(TDPrimas_!K96=\"\",\"\",TDPrimas_!K96)","v":""}]
[null,{"$f":"IF(TDPrimas_!A97=\"\",\"\",TDPrimas_!A97)","v":""},{"$f":"IF(TDPrimas_!B97=\"\",\"\",TDPrimas_!B97)","v":""},{"$f":"IF(TDPrimas_!C97=\"\",\"\",TDPrimas_!C97)","v":""},{"$f":"IF(TDPrimas_!D97=\"\",\"\",TDPrimas_!D97)","v":""},{"$f":"IF(TDPrimas_!E97=\"\",\"\",TDPrimas_!E97)","v":""},{"$f":"IF(TDPrimas_!F97=\"\",\"\",TDPrimas_!F97)","v":""},{"$f":"IF(TDPrimas_!G97=\"\",\"\",TDPrimas_!G97)","v":""},{"$f":"IF(TDPrimas_!H97=\"\",\"\",TDPrimas_!H97)","v":""},{"$f":"IF(TDPrimas_!I97=\"\",\"\",TDPrimas_!I97)","v":""},{"$f":"IF(TDPrimas_!J97=\"\",\"\",TDPrimas_!J97)","v":""},{"$f":"IF(TDPrimas_!K97=\"\",\"\",TDPrimas_!K97)","v":""}]
[null,{"$f":"IF(TDPrimas_!A98=\"\",\"\",TDPrimas_!A98)","v":""},{"$f":"IF(TDPrimas_!B98=\"\",\"\",TDPrimas_!B98)","v":""},{"$f":"IF(TDPrimas_!C98=\"\",\"\",TDPrimas_!C98)","v":""},{"$f":"IF(TDPrimas_!D98=\"\",\"\",TDPrimas_!D98)","v":""},{"$f":"IF(TDPrimas_!E98=\"\",\"\",TDPrimas_!E98)","v":""},{"$f":"IF(TDPrimas_!F98=\"\",\"\",TDPrimas_!F98)","v":""},{"$f":"IF(TDPrimas_!G98=\"\",\"\",TDPrimas_!G98)","v":""},{"$f":"IF(TDPrimas_!H98=\"\",\"\",TDPrimas_!H98)","v":""},{"$f":"IF(TDPrimas_!I98=\"\",\"\",TDPrimas_!I98)","v":""},{"$f":"IF(TDPrimas_!J98=\"\",\"\",TDPrimas_!J98)","v":""},{"$f":"IF(TDPrimas_!K98=\"\",\"\",TDPrimas_!K98)","v":""}]
[null,{"$f":"IF(TDPrimas_!A99=\"\",\"\",TDPrimas_!A99)","v":""},{"$f":"IF(TDPrimas_!B99=\"\",\"\",TDPrimas_!B99)","v":""},{"$f":"IF(TDPrimas_!C99=\"\",\"\",TDPrimas_!C99)","v":""},{"$f":"IF(TDPrimas_!D99=\"\",\"\",TDPrimas_!D99)","v":""},{"$f":"IF(TDPrimas_!E99=\"\",\"\",TDPrimas_!E99)","v":""},{"$f":"IF(TDPrimas_!F99=\"\",\"\",TDPrimas_!F99)","v":""},{"$f":"IF(TDPrimas_!G99=\"\",\"\",TDPrimas_!G99)","v":""},{"$f":"IF(TDPrimas_!H99=\"\",\"\",TDPrimas_!H99)","v":""},{"$f":"IF(TDPrimas_!I99=\"\",\"\",TDPrimas_!I99)","v":""},{"$f":"IF(TDPrimas_!J99=\"\",\"\",TDPrimas_!J99)","v":""},{"$f":"IF(TDPrimas_!K99=\"\",\"\",TDPrimas_!K99)","v":""}]
[null,{"$f":"IF(TDPrimas_!A100=\"\",\"\",TDPrimas_!A100)","v":""},{"$f":"IF(TDPrimas_!B100=\"\",\"\",TDPrimas_!B100)","v":""},{"$f":"IF(TDPrimas_!C100=\"\",\"\",TDPrimas_!C100)","v":""},{"$f":"IF(TDPrimas_!D100=\"\",\"\",TDPrimas_!D100)","v":""},{"$f":"IF(TDPrimas_!E100=\"\",\"\",TDPrimas_!E100)","v":""},{"$f":"IF(TDPrimas_!F100=\"\",\"\",TDPrimas_!F100)","v":""},{"$f":"IF(TDPrimas_!G100=\"\",\"\",TDPrimas_!G100)","v":""},{"$f":"IF(TDPrimas_!H100=\"\",\"\",TDPrimas_!H100)","v":""},{"$f":"IF(TDPrimas_!I100=\"\",\"\",TDPrimas_!I100)","v":""},{"$f":"IF(TDPrimas_!J100=\"\",\"\",TDPrimas_!J100)","v":""},{"$f":"IF(TDPrimas_!K100=\"\",\"\",TDPrimas_!K100)","v":""}]
[null,{"$f":"IF(TDPrimas_!A101=\"\",\"\",TDPrimas_!A101)","v":""},{"$f":"IF(TDPrimas_!B101=\"\",\"\",TDPrimas_!B101)","v":""},{"$f":"IF(TDPrimas_!C101=\"\",\"\",TDPrimas_!C101)","v":""},{"$f":"IF(TDPrimas_!D101=\"\",\"\",TDPrimas_!D101)","v":""},{"$f":"IF(TDPrimas_!E101=\"\",\"\",TDPrimas_!E101)","v":""},{"$f":"IF(TDPrimas_!F101=\"\",\"\",TDPrimas_!F101)","v":""},{"$f":"IF(TDPrimas_!G101=\"\",\"\",TDPrimas_!G101)","v":""},{"$f":"IF(TDPrimas_!H101=\"\",\"\",TDPrimas_!H101)","v":""},{"$f":"IF(TDPrimas_!I101=\"\",\"\",TDPrimas_!I101)","v":""},{"$f":"IF(TDPrimas_!J101=\"\",\"\",TDPrimas_!J101)","v":""},{"$f":"IF(TDPrimas_!K101=\"\",\"\",TDPrimas_!K101)","v":""}]
[null,{"$f":"IF(TDPrimas_!A102=\"\",\"\",TDPrimas_!A102)","v":""},{"$f":"IF(TDPrimas_!B102=\"\",\"\",TDPrimas_!B102)","v":""},{"$f":"IF(TDPrimas_!C102=\"\",\"\",TDPrimas_!C102)","v":""},{"$f":"IF(TDPrimas_!D102=\"\",\"\",TDPrimas_!D102)","v":""},{"$f":"IF(TDPrimas_!E102=\"\",\"\",TDPrimas_!E102)","v":""},{"$f":"IF(TDPrimas_!F102=\"\",\"\",TDPrimas_!F102)","v":""},{"$f":"IF(TDPrimas_!G102=\"\",\"\",TDPrimas_!G102)","v":""},{"$f":"IF(TDPrimas_!H102=\"\",\"\",TDPrimas_!H102)","v":""},{"$f":"IF(TDPrimas_!I102=\"\",\"\",TDPrimas_!I102)","v":""},{"$f":"IF(TDPrimas_!J102=\"\",\"\",TDPrimas_!J102)","v":""},{"$f":"IF(TDPrimas_!K102=\"\",\"\",TDPrimas_!K102)","v":""}]
[null,{"$f":"IF(TDPrimas_!A103=\"\",\"\",TDPrimas_!A103)","v":""},{"$f":"IF(TDPrimas_!B103=\"\",\"\",TDPrimas_!B103)","v":""},{"$f":"IF(TDPrimas_!C103=\"\",\"\",TDPrimas_!C103)","v":""},{"$f":"IF(TDPrimas_!D103=\"\",\"\",TDPrimas_!D103)","v":""},{"$f":"IF(TDPrimas_!E103=\"\",\"\",TDPrimas_!E103)","v":""},{"$f":"IF(TDPrimas_!F103=\"\",\"\",TDPrimas_!F103)","v":""},{"$f":"IF(TDPrimas_!G103=\"\",\"\",TDPrimas_!G103)","v":""},{"$f":"IF(TDPrimas_!H103=\"\",\"\",TDPrimas_!H103)","v":""},{"$f":"IF(TDPrimas_!I103=\"\",\"\",TDPrimas_!I103)","v":""},{"$f":"IF(TDPrimas_!J103=\"\",\"\",TDPrimas_!J103)","v":""},{"$f":"IF(TDPrimas_!K103=\"\",\"\",TDPrimas_!K103)","v":""}]
[null,{"$f":"IF(TDPrimas_!A104=\"\",\"\",TDPrimas_!A104)","v":""},{"$f":"IF(TDPrimas_!B104=\"\",\"\",TDPrimas_!B104)","v":""},{"$f":"IF(TDPrimas_!C104=\"\",\"\",TDPrimas_!C104)","v":""},{"$f":"IF(TDPrimas_!D104=\"\",\"\",TDPrimas_!D104)","v":""},{"$f":"IF(TDPrimas_!E104=\"\",\"\",TDPrimas_!E104)","v":""},{"$f":"IF(TDPrimas_!F104=\"\",\"\",TDPrimas_!F104)","v":""},{"$f":"IF(TDPrimas_!G104=\"\",\"\",TDPrimas_!G104)","v":""},{"$f":"IF(TDPrimas_!H104=\"\",\"\",TDPrimas_!H104)","v":""},{"$f":"IF(TDPrimas_!I104=\"\",\"\",TDPrimas_!I104)","v":""},{"$f":"IF(TDPrimas_!J104=\"\",\"\",TDPrimas_!J104)","v":""},{"$f":"IF(TDPrimas_!K104=\"\",\"\",TDPrimas_!K104)","v":""}]
[null,{"$f":"IF(TDPrimas_!A105=\"\",\"\",TDPrimas_!A105)","v":""},{"$f":"IF(TDPrimas_!B105=\"\",\"\",TDPrimas_!B105)","v":""},{"$f":"IF(TDPrimas_!C105=\"\",\"\",TDPrimas_!C105)","v":""},{"$f":"IF(TDPrimas_!D105=\"\",\"\",TDPrimas_!D105)","v":""},{"$f":"IF(TDPrimas_!E105=\"\",\"\",TDPrimas_!E105)","v":""},{"$f":"IF(TDPrimas_!F105=\"\",\"\",TDPrimas_!F105)","v":""},{"$f":"IF(TDPrimas_!G105=\"\",\"\",TDPrimas_!G105)","v":""},{"$f":"IF(TDPrimas_!H105=\"\",\"\",TDPrimas_!H105)","v":""},{"$f":"IF(TDPrimas_!I105=\"\",\"\",TDPrimas_!I105)","v":""},{"$f":"IF(TDPrimas_!J105=\"\",\"\",TDPrimas_!J105)","v":""},{"$f":"IF(TDPrimas_!K105=\"\",\"\",TDPrimas_!K105)","v":""}]
[null,{"$f":"IF(TDPrimas_!A106=\"\",\"\",TDPrimas_!A106)","v":""},{"$f":"IF(TDPrimas_!B106=\"\",\"\",TDPrimas_!B106)","v":""},{"$f":"IF(TDPrimas_!C106=\"\",\"\",TDPrimas_!C106)","v":""},{"$f":"IF(TDPrimas_!D106=\"\",\"\",TDPrimas_!D106)","v":""},{"$f":"IF(TDPrimas_!E106=\"\",\"\",TDPrimas_!E106)","v":""},{"$f":"IF(TDPrimas_!F106=\"\",\"\",TDPrimas_!F106)","v":""},{"$f":"IF(TDPrimas_!G106=\"\",\"\",TDPrimas_!G106)","v":""},{"$f":"IF(TDPrimas_!H106=\"\",\"\",TDPrimas_!H106)","v":""},{"$f":"IF(TDPrimas_!I106=\"\",\"\",TDPrimas_!I106)","v":""},{"$f":"IF(TDPrimas_!J106=\"\",\"\",TDPrimas_!J106)","v":""},{"$f":"IF(TDPrimas_!K106=\"\",\"\",TDPrimas_!K106)","v":""}]
[null,{"$f":"IF(TDPrimas_!A107=\"\",\"\",TDPrimas_!A107)","v":""},{"$f":"IF(TDPrimas_!B107=\"\",\"\",TDPrimas_!B107)","v":""},{"$f":"IF(TDPrimas_!C107=\"\",\"\",TDPrimas_!C107)","v":""},{"$f":"IF(TDPrimas_!D107=\"\",\"\",TDPrimas_!D107)","v":""},{"$f":"IF(TDPrimas_!E107=\"\",\"\",TDPrimas_!E107)","v":""},{"$f":"IF(TDPrimas_!F107=\"\",\"\",TDPrimas_!F107)","v":""},{"$f":"IF(TDPrimas_!G107=\"\",\"\",TDPrimas_!G107)","v":""},{"$f":"IF(TDPrimas_!H107=\"\",\"\",TDPrimas_!H107)","v":""},{"$f":"IF(TDPrimas_!I107=\"\",\"\",TDPrimas_!I107)","v":""},{"$f":"IF(TDPrimas_!J107=\"\",\"\",TDPrimas_!J107)","v":""},{"$f":"IF(TDPrimas_!K107=\"\",\"\",TDPrimas_!K107)","v":""}]
[null,{"$f":"IF(TDPrimas_!A108=\"\",\"\",TDPrimas_!A108)","v":""},{"$f":"IF(TDPrimas_!B108=\"\",\"\",TDPrimas_!B108)","v":""},{"$f":"IF(TDPrimas_!C108=\"\",\"\",TDPrimas_!C108)","v":""},{"$f":"IF(TDPrimas_!D108=\"\",\"\",TDPrimas_!D108)","v":""},{"$f":"IF(TDPrimas_!E108=\"\",\"\",TDPrimas_!E108)","v":""},{"$f":"IF(TDPrimas_!F108=\"\",\"\",TDPrimas_!F108)","v":""},{"$f":"IF(TDPrimas_!G108=\"\",\"\",TDPrimas_!G108)","v":""},{"$f":"IF(TDPrimas_!H108=\"\",\"\",TDPrimas_!H108)","v":""},{"$f":"IF(TDPrimas_!I108=\"\",\"\",TDPrimas_!I108)","v":""},{"$f":"IF(TDPrimas_!J108=\"\",\"\",TDPrimas_!J108)","v":""},{"$f":"IF(TDPrimas_!K108=\"\",\"\",TDPrimas_!K108)","v":""}]
[null,{"$f":"IF(TDPrimas_!A109=\"\",\"\",TDPrimas_!A109)","v":""},{"$f":"IF(TDPrimas_!B109=\"\",\"\",TDPrimas_!B109)","v":""},{"$f":"IF(TDPrimas_!C109=\"\",\"\",TDPrimas_!C109)","v":""},{"$f":"IF(TDPrimas_!D109=\"\",\"\",TDPrimas_!D109)","v":""},{"$f":"IF(TDPrimas_!E109=\"\",\"\",TDPrimas_!E109)","v":""},{"$f":"IF(TDPrimas_!F109=\"\",\"\",TDPrimas_!F109)","v":""},{"$f":"IF(TDPrimas_!G109=\"\",\"\",TDPrimas_!G109)","v":""},{"$f":"IF(TDPrimas_!H109=\"\",\"\",TDPrimas_!H109)","v":""},{"$f":"IF(TDPrimas_!I109=\"\",\"\",TDPrimas_!I109)","v":""},{"$f":"IF(TDPrimas_!J109=\"\",\"\",TDPrimas_!J109)","v":""},{"$f":"IF(TDPrimas_!K109=\"\",\"\",TDPrimas_!K109)","v":""}]
[null,{"$f":"IF(TDPrimas_!A110=\"\",\"\",TDPrimas_!A110)","v":""},{"$f":"IF(TDPrimas_!B110=\"\",\"\",TDPrimas_!B110)","v":""},{"$f":"IF(TDPrimas_!C110=\"\",\"\",TDPrimas_!C110)","v":""},{"$f":"IF(TDPrimas_!D110=\"\",\"\",TDPrimas_!D110)","v":""},{"$f":"IF(TDPrimas_!E110=\"\",\"\",TDPrimas_!E110)","v":""},{"$f":"IF(TDPrimas_!F110=\"\",\"\",TDPrimas_!F110)","v":""},{"$f":"IF(TDPrimas_!G110=\"\",\"\",TDPrimas_!G110)","v":""},{"$f":"IF(TDPrimas_!H110=\"\",\"\",TDPrimas_!H110)","v":""},{"$f":"IF(TDPrimas_!I110=\"\",\"\",TDPrimas_!I110)","v":""},{"$f":"IF(TDPrimas_!J110=\"\",\"\",TDPrimas_!J110)","v":""},{"$f":"IF(TDPrimas_!K110=\"\",\"\",TDPrimas_!K110)","v":""}]
[null,{"$f":"IF(TDPrimas_!A111=\"\",\"\",TDPrimas_!A111)","v":""},{"$f":"IF(TDPrimas_!B111=\"\",\"\",TDPrimas_!B111)","v":""},{"$f":"IF(TDPrimas_!C111=\"\",\"\",TDPrimas_!C111)","v":""},{"$f":"IF(TDPrimas_!D111=\"\",\"\",TDPrimas_!D111)","v":""},{"$f":"IF(TDPrimas_!E111=\"\",\"\",TDPrimas_!E111)","v":""},{"$f":"IF(TDPrimas_!F111=\"\",\"\",TDPrimas_!F111)","v":""},{"$f":"IF(TDPrimas_!G111=\"\",\"\",TDPrimas_!G111)","v":""},{"$f":"IF(TDPrimas_!H111=\"\",\"\",TDPrimas_!H111)","v":""},{"$f":"IF(TDPrimas_!I111=\"\",\"\",TDPrimas_!I111)","v":""},{"$f":"IF(TDPrimas_!J111=\"\",\"\",TDPrimas_!J111)","v":""},{"$f":"IF(TDPrimas_!K111=\"\",\"\",TDPrimas_!K111)","v":""}]
[null,{"$f":"IF(TDPrimas_!A112=\"\",\"\",TDPrimas_!A112)","v":""},{"$f":"IF(TDPrimas_!B112=\"\",\"\",TDPrimas_!B112)","v":""},{"$f":"IF(TDPrimas_!C112=\"\",\"\",TDPrimas_!C112)","v":""},{"$f":"IF(TDPrimas_!D112=\"\",\"\",TDPrimas_!D112)","v":""},{"$f":"IF(TDPrimas_!E112=\"\",\"\",TDPrimas_!E112)","v":""},{"$f":"IF(TDPrimas_!F112=\"\",\"\",TDPrimas_!F112)","v":""},{"$f":"IF(TDPrimas_!G112=\"\",\"\",TDPrimas_!G112)","v":""},{"$f":"IF(TDPrimas_!H112=\"\",\"\",TDPrimas_!H112)","v":""},{"$f":"IF(TDPrimas_!I112=\"\",\"\",TDPrimas_!I112)","v":""},{"$f":"IF(TDPrimas_!J112=\"\",\"\",TDPrimas_!J112)","v":""},{"$f":"IF(TDPrimas_!K112=\"\",\"\",TDPrimas_!K112)","v":""}]
[null,{"$f":"IF(TDPrimas_!A113=\"\",\"\",TDPrimas_!A113)","v":""},{"$f":"IF(TDPrimas_!B113=\"\",\"\",TDPrimas_!B113)","v":""},{"$f":"IF(TDPrimas_!C113=\"\",\"\",TDPrimas_!C113)","v":""},{"$f":"IF(TDPrimas_!D113=\"\",\"\",TDPrimas_!D113)","v":""},{"$f":"IF(TDPrimas_!E113=\"\",\"\",TDPrimas_!E113)","v":""},{"$f":"IF(TDPrimas_!F113=\"\",\"\",TDPrimas_!F113)","v":""},{"$f":"IF(TDPrimas_!G113=\"\",\"\",TDPrimas_!G113)","v":""},{"$f":"IF(TDPrimas_!H113=\"\",\"\",TDPrimas_!H113)","v":""},{"$f":"IF(TDPrimas_!I113=\"\",\"\",TDPrimas_!I113)","v":""},{"$f":"IF(TDPrimas_!J113=\"\",\"\",TDPrimas_!J113)","v":""},{"$f":"IF(TDPrimas_!K113=\"\",\"\",TDPrimas_!K113)","v":""}]
[null,{"$f":"IF(TDPrimas_!A114=\"\",\"\",TDPrimas_!A114)","v":""},{"$f":"IF(TDPrimas_!B114=\"\",\"\",TDPrimas_!B114)","v":""},{"$f":"IF(TDPrimas_!C114=\"\",\"\",TDPrimas_!C114)","v":""},{"$f":"IF(TDPrimas_!D114=\"\",\"\",TDPrimas_!D114)","v":""},{"$f":"IF(TDPrimas_!E114=\"\",\"\",TDPrimas_!E114)","v":""},{"$f":"IF(TDPrimas_!F114=\"\",\"\",TDPrimas_!F114)","v":""},{"$f":"IF(TDPrimas_!G114=\"\",\"\",TDPrimas_!G114)","v":""},{"$f":"IF(TDPrimas_!H114=\"\",\"\",TDPrimas_!H114)","v":""},{"$f":"IF(TDPrimas_!I114=\"\",\"\",TDPrimas_!I114)","v":""},{"$f":"IF(TDPrimas_!J114=\"\",\"\",TDPrimas_!J114)","v":""},{"$f":"IF(TDPrimas_!K114=\"\",\"\",TDPrimas_!K114)","v":""}]
[null,{"$f":"IF(TDPrimas_!A115=\"\",\"\",TDPrimas_!A115)","v":""},{"$f":"IF(TDPrimas_!B115=\"\",\"\",TDPrimas_!B115)","v":""},{"$f":"IF(TDPrimas_!C115=\"\",\"\",TDPrimas_!C115)","v":""},{"$f":"IF(TDPrimas_!D115=\"\",\"\",TDPrimas_!D115)","v":""},{"$f":"IF(TDPrimas_!E115=\"\",\"\",TDPrimas_!E115)","v":""},{"$f":"IF(TDPrimas_!F115=\"\",\"\",TDPrimas_!F115)","v":""},{"$f":"IF(TDPrimas_!G115=\"\",\"\",TDPrimas_!G115)","v":""},{"$f":"IF(TDPrimas_!H115=\"\",\"\",TDPrimas_!H115)","v":""},{"$f":"IF(TDPrimas_!I115=\"\",\"\",TDPrimas_!I115)","v":""},{"$f":"IF(TDPrimas_!J115=\"\",\"\",TDPrimas_!J115)","v":""},{"$f":"IF(TDPrimas_!K115=\"\",\"\",TDPrimas_!K115)","v":""}]
[null,{"$f":"IF(TDPrimas_!A116=\"\",\"\",TDPrimas_!A116)","v":""},{"$f":"IF(TDPrimas_!B116=\"\",\"\",TDPrimas_!B116)","v":""},{"$f":"IF(TDPrimas_!C116=\"\",\"\",TDPrimas_!C116)","v":""},{"$f":"IF(TDPrimas_!D116=\"\",\"\",TDPrimas_!D116)","v":""},{"$f":"IF(TDPrimas_!E116=\"\",\"\",TDPrimas_!E116)","v":""},{"$f":"IF(TDPrimas_!F116=\"\",\"\",TDPrimas_!F116)","v":""},{"$f":"IF(TDPrimas_!G116=\"\",\"\",TDPrimas_!G116)","v":""},{"$f":"IF(TDPrimas_!H116=\"\",\"\",TDPrimas_!H116)","v":""},{"$f":"IF(TDPrimas_!I116=\"\",\"\",TDPrimas_!I116)","v":""},{"$f":"IF(TDPrimas_!J116=\"\",\"\",TDPrimas_!J116)","v":""},{"$f":"IF(TDPrimas_!K116=\"\",\"\",TDPrimas_!K116)","v":""}]
[null,{"$f":"IF(TDPrimas_!A117=\"\",\"\",TDPrimas_!A117)","v":""},{"$f":"IF(TDPrimas_!B117=\"\",\"\",TDPrimas_!B117)","v":""},{"$f":"IF(TDPrimas_!C117=\"\",\"\",TDPrimas_!C117)","v":""},{"$f":"IF(TDPrimas_!D117=\"\",\"\",TDPrimas_!D117)","v":""},{"$f":"IF(TDPrimas_!E117=\"\",\"\",TDPrimas_!E117)","v":""},{"$f":"IF(TDPrimas_!F117=\"\",\"\",TDPrimas_!F117)","v":""},{"$f":"IF(TDPrimas_!G117=\"\",\"\",TDPrimas_!G117)","v":""},{"$f":"IF(TDPrimas_!H117=\"\",\"\",TDPrimas_!H117)","v":""},{"$f":"IF(TDPrimas_!I117=\"\",\"\",TDPrimas_!I117)","v":""},{"$f":"IF(TDPrimas_!J117=\"\",\"\",TDPrimas_!J117)","v":""},{"$f":"IF(TDPrimas_!K117=\"\",\"\",TDPrimas_!K117)","v":""}]
[null,{"$f":"IF(TDPrimas_!A118=\"\",\"\",TDPrimas_!A118)","v":""},{"$f":"IF(TDPrimas_!B118=\"\",\"\",TDPrimas_!B118)","v":""},{"$f":"IF(TDPrimas_!C118=\"\",\"\",TDPrimas_!C118)","v":""},{"$f":"IF(TDPrimas_!D118=\"\",\"\",TDPrimas_!D118)","v":""},{"$f":"IF(TDPrimas_!E118=\"\",\"\",TDPrimas_!E118)","v":""},{"$f":"IF(TDPrimas_!F118=\"\",\"\",TDPrimas_!F118)","v":""},{"$f":"IF(TDPrimas_!G118=\"\",\"\",TDPrimas_!G118)","v":""},{"$f":"IF(TDPrimas_!H118=\"\",\"\",TDPrimas_!H118)","v":""},{"$f":"IF(TDPrimas_!I118=\"\",\"\",TDPrimas_!I118)","v":""},{"$f":"IF(TDPrimas_!J118=\"\",\"\",TDPrimas_!J118)","v":""},{"$f":"IF(TDPrimas_!K118=\"\",\"\",TDPrimas_!K118)","v":""}]
[null,{"$f":"IF(TDPrimas_!A119=\"\",\"\",TDPrimas_!A119)","v":""},{"$f":"IF(TDPrimas_!B119=\"\",\"\",TDPrimas_!B119)","v":""},{"$f":"IF(TDPrimas_!C119=\"\",\"\",TDPrimas_!C119)","v":""},{"$f":"IF(TDPrimas_!D119=\"\",\"\",TDPrimas_!D119)","v":""},{"$f":"IF(TDPrimas_!E119=\"\",\"\",TDPrimas_!E119)","v":""},{"$f":"IF(TDPrimas_!F119=\"\",\"\",TDPrimas_!F119)","v":""},{"$f":"IF(TDPrimas_!G119=\"\",\"\",TDPrimas_!G119)","v":""},{"$f":"IF(TDPrimas_!H119=\"\",\"\",TDPrimas_!H119)","v":""},{"$f":"IF(TDPrimas_!I119=\"\",\"\",TDPrimas_!I119)","v":""},{"$f":"IF(TDPrimas_!J119=\"\",\"\",TDPrimas_!J119)","v":""},{"$f":"IF(TDPrimas_!K119=\"\",\"\",TDPrimas_!K119)","v":""}]
[null,{"$f":"IF(TDPrimas_!A120=\"\",\"\",TDPrimas_!A120)","v":""},{"$f":"IF(TDPrimas_!B120=\"\",\"\",TDPrimas_!B120)","v":""},{"$f":"IF(TDPrimas_!C120=\"\",\"\",TDPrimas_!C120)","v":""},{"$f":"IF(TDPrimas_!D120=\"\",\"\",TDPrimas_!D120)","v":""},{"$f":"IF(TDPrimas_!E120=\"\",\"\",TDPrimas_!E120)","v":""},{"$f":"IF(TDPrimas_!F120=\"\",\"\",TDPrimas_!F120)","v":""},{"$f":"IF(TDPrimas_!G120=\"\",\"\",TDPrimas_!G120)","v":""},{"$f":"IF(TDPrimas_!H120=\"\",\"\",TDPrimas_!H120)","v":""},{"$f":"IF(TDPrimas_!I120=\"\",\"\",TDPrimas_!I120)","v":""},{"$f":"IF(TDPrimas_!J120=\"\",\"\",TDPrimas_!J120)","v":""},{"$f":"IF(TDPrimas_!K120=\"\",\"\",TDPrimas_!K120)","v":""}]
[null,{"$f":"IF(TDPrimas_!A121=\"\",\"\",TDPrimas_!A121)","v":""},{"$f":"IF(TDPrimas_!B121=\"\",\"\",TDPrimas_!B121)","v":""},{"$f":"IF(TDPrimas_!C121=\"\",\"\",TDPrimas_!C121)","v":""},{"$f":"IF(TDPrimas_!D121=\"\",\"\",TDPrimas_!D121)","v":""},{"$f":"IF(TDPrimas_!E121=\"\",\"\",TDPrimas_!E121)","v":""},{"$f":"IF(TDPrimas_!F121=\"\",\"\",TDPrimas_!F121)","v":""},{"$f":"IF(TDPrimas_!G121=\"\",\"\",TDPrimas_!G121)","v":""},{"$f":"IF(TDPrimas_!H121=\"\",\"\",TDPrimas_!H121)","v":""},{"$f":"IF(TDPrimas_!I121=\"\",\"\",TDPrimas_!I121)","v":""},{"$f":"IF(TDPrimas_!J121=\"\",\"\",TDPrimas_!J121)","v":""},{"$f":"IF(TDPrimas_!K121=\"\",\"\",TDPrimas_!K121)","v":""}]
[null,{"$f":"IF(TDPrimas_!A122=\"\",\"\",TDPrimas_!A122)","v":""},{"$f":"IF(TDPrimas_!B122=\"\",\"\",TDPrimas_!B122)","v":""},{"$f":"IF(TDPrimas_!C122=\"\",\"\",TDPrimas_!C122)","v":""},{"$f":"IF(TDPrimas_!D122=\"\",\"\",TDPrimas_!D122)","v":""},{"$f":"IF(TDPrimas_!E122=\"\",\"\",TDPrimas_!E122)","v":""},{"$f":"IF(TDPrimas_!F122=\"\",\"\",TDPrimas_!F122)","v":""},{"$f":"IF(TDPrimas_!G122=\"\",\"\",TDPrimas_!G122)","v":""},{"$f":"IF(TDPrimas_!H122=\"\",\"\",TDPrimas_!H122)","v":""},{"$f":"IF(TDPrimas_!I122=\"\",\"\",TDPrimas_!I122)","v":""},{"$f":"IF(TDPrimas_!J122=\"\",\"\",TDPrimas_!J122)","v":""},{"$f":"IF(TDPrimas_!K122=\"\",\"\",TDPrimas_!K122)","v":""}]
[null,{"$f":"IF(TDPrimas_!A123=\"\",\"\",TDPrimas_!A123)","v":""},{"$f":"IF(TDPrimas_!B123=\"\",\"\",TDPrimas_!B123)","v":""},{"$f":"IF(TDPrimas_!C123=\"\",\"\",TDPrimas_!C123)","v":""},{"$f":"IF(TDPrimas_!D123=\"\",\"\",TDPrimas_!D123)","v":""},{"$f":"IF(TDPrimas_!E123=\"\",\"\",TDPrimas_!E123)","v":""},{"$f":"IF(TDPrimas_!F123=\"\",\"\",TDPrimas_!F123)","v":""},{"$f":"IF(TDPrimas_!G123=\"\",\"\",TDPrimas_!G123)","v":""},{"$f":"IF(TDPrimas_!H123=\"\",\"\",TDPrimas_!H123)","v":""},{"$f":"IF(TDPrimas_!I123=\"\",\"\",TDPrimas_!I123)","v":""},{"$f":"IF(TDPrimas_!J123=\"\",\"\",TDPrimas_!J123)","v":""},{"$f":"IF(TDPrimas_!K123=\"\",\"\",TDPrimas_!K123)","v":""}]
[]
[]
[null,"NE  = No Existe"]
[null,"* % Extraordinario mayor de 1000%"]

{"sheet":"Siniestros","index":9,"n_rows":124,"n_cols":9,"rows_kept":124,"cut":false,"hidden":false,"merged":[[4,4,5,4],[4,5,5,5],[4,6,4,7],[4,8,5,8],[1,1,1,8],[3,3,3,8]]}
[null,"SINIESTROS DIRECTOS",null,null,null,null,null,null,{"$f":"'Primas Directas'!L1","v":"Cuarto Trimestre 2022"}]
[null,{"$f":"UPPER(RIGHT(TDPrimas_!$B$4,LEN(TDPrimas_!$B$4)-3))","v":"TOTAL GENERAL"}]
[]
[null,null,null,"Siniestros Directos"]
[null,"Compañías",null,"Importe","Incr. %","Inc. Rva.\nDividendos","% vs. Prima Directa",null,"%  Participac de Mercado"]
[null,null,null,{"$f":"'Primas Directas'!D6","v":"2022"},null,null,{"$f":"'Primas Directas'!D6","v":"2022"},{"$f":"'Primas Directas'!E6","v":2021}]
[null,null,"TOTAL",{"$f":"VLOOKUP(C7,'TD Siniestros_'!$B$7:$M$154,2,0)","v":412329448.11011004},{"$f":"VLOOKUP(C7,'TD Siniestros_'!$B$7:$M$154,3,0)","v":3.1569994371409615},{"$f":"VLOOKUP(C7,'TD Siniestros_'!$B$7:$M$154,4,0)","v":2425971.5861499999},{"$f":"VLOOKUP(C7,'TD Siniestros_'!$B$7:$M$154,5,0)","v":61.824047865650087},{"$f":"VLOOKUP(C7,'TD Siniestros_'!$B$7:$M$154,6,0)","v":63.105849336373701},{"$f":"IFERROR(D7/VLOOKUP(\"TOTAL\",$C$8:$D$124,2,0)*100,\"\")","v":100}]
[null,{"$f":"IF('TD Siniestros_'!A6=\"\",\"\",'TD Siniestros_'!A6)","v":1},{"$f":"IF('TD Siniestros_'!B6=\"\",\"\",'TD Siniestros_'!B6)","v":"G.N.P."},{"$f":"IF('TD Siniestros_'!C6=\"\",\"\",'TD Siniestros_'!C6)","v":57942254.663420014},{"$f":"IF('TD Siniestros_'!D6=\"\",\"\",'TD Siniestros_'!D6)","v":6.910792097174201},{"$f":"IF('TD Siniestros_'!E6=\"\",\"\",'TD Siniestros_'!E6)","v":235991.34099},{"$f":"IF('TD Siniestros_'!F6=\"\",\"\",'TD Siniestros_'!F6)","v":65.179652554286733},{"$f":"IF('TD Siniestros_'!G6=\"\",\"\",'TD Siniestros_'!G6)","v":68.69560592969998},{"$f":"IF('TD Siniestros_'!H6=\"\",\"\",'TD Siniestros_'!H6)","v":14.052417291317724}]
[null,{"$f":"IF('TD Siniestros_'!A7=\"\",\"\",'TD Siniestros_'!A7)","v":2},{"$f":"IF('TD Siniestros_'!B7=\"\",\"\",'TD Siniestros_'!B7)","v":"Metlife México"},{"$f":"IF('TD Siniestros_'!C7=\"\",\"\",'TD Siniestros_'!C7)","v":47812737.470249996},{"$f":"IF('TD Siniestros_'!D7=\"\",\"\",'TD Siniestros_'!D7)","v":-6.5635628888394919},{"$f":"IF('TD Siniestros_'!E7=\"\",\"\",'TD Siniestros_'!E7)","v":33669.212209999998},{"$f":"IF('TD Siniestros_'!F7=\"\",\"\",'TD Siniestros_'!F7)","v":68.617673939500264},{"$f":"IF('TD Siniestros_'!G7=\"\",\"\",'TD Siniestros_'!G7)","v":81.951563507185227},{"$f":"IF('TD Siniestros_'!H7=\"\",\"\",'TD Siniestros_'!H7)","v":11.595761032688094}]
[null,{"$f":"IF('TD Siniestros_'!A8=\"\",\"\",'TD Siniestros_'!A8)","v":3},{"$f":"IF('TD Siniestros_'!B8=\"\",\"\",'TD Siniestros_'!B8)","v":"BBVA Bancomer"},{"$f":"IF('TD Siniestros_'!C8=\"\",\"\",'TD Siniestros_'!C8)","v":28668011.941679999},{"$f":"IF('TD Siniestros_'!D8=\"\",\"\",'TD Siniestros_'!D8)","v":5.233439550466934},{"$f":"IF('TD Siniestros_'!E8=\"\",\"\",'TD Siniestros_'!E8)","v":0},{"$f":"IF('TD Siniestros_'!F8=\"\",\"\",'TD Siniestros_'!F8)","v":52.529856047981802},{"$f":"IF('TD Siniestros_'!G8=\"\",\"\",'TD Siniestros_'!G8)","v":58.35522982758603},{"$f":"IF('TD Siniestros_'!H8=\"\",\"\",'TD Siniestros_'!H8)","v":6.9526957322787171}]
[null,{"$f":"IF('TD Siniestros_'!A9=\"\",\"\",'TD Siniestros_'!A9)","v":4},{"$f":"IF('TD Siniestros_'!B9=\"\",\"\",'TD Siniestros_'!B9)","v":"AXA Seguros"},{"$f":"IF('TD Siniestros_'!C9=\"\",\"\",'TD Siniestros_'!C9)","v":32411884.008069992},{"$f":"IF('TD Siniestros_'!D9=\"\",\"\",'TD Siniestros_'!D9)","v":2.9352522335778009},{"$f":"IF('TD Siniestros_'!E9=\"\",\"\",'TD Siniestros_'!E9)","v":519435.79534000001},{"$f":"IF('TD Siniestros_'!F9=\"\",\"\",'TD Siniestros_'!F9)","v":68.940312848406322},{"$f":"IF('TD Siniestros_'!G9=\"\",\"\",'TD Siniestros_'!G9)","v":70.472114725055093},{"$f":"IF('TD Siniestros_'!H9=\"\",\"\",'TD Siniestros_'!H9)","v":7.8606764946399394}]
[null,{"$f":"IF('TD Siniestros_'!A10=\"\",\"\",'TD Siniestros_'!A10)","v":5},{"$f":"IF('TD Siniestros_'!B10=\"\",\"\",'TD Siniestros_'!B10)","v":"Quálitas"},{"$f":"IF('TD Siniestros_'!C10=\"\",\"\",'TD Siniestros_'!C10)","v":25385948.864360008},{"$f":"IF('TD Siniestros_'!D10=\"\",\"\",'TD Siniestros_'!D10)","v":20.046109727454308},{"$f":"IF('TD Siniestros_'!E10=\"\",\"\",'TD Siniestros_'!E10)","v":102597.07334},{"$f":"IF('TD Siniestros_'!F10=\"\",\"\",'TD Siniestros_'!F10)","v":65.74403521882698},{"$f":"IF('TD Siniestros_'!G10=\"\",\"\",'TD Siniestros_'!G10)","v":60.445506926139949},{"$f":"IF('TD Siniestros_'!H10=\"\",\"\",'TD Siniestros_'!H10)","v":6.1567149716604419}]
[null,{"$f":"IF('TD Siniestros_'!A11=\"\",\"\",'TD Siniestros_'!A11)","v":5.0999999999999996},{"$f":"IF('TD Siniestros_'!B11=\"\",\"\",'TD Siniestros_'!B11)","v":"TOTAL GRANDES"},{"$f":"IF('TD Siniestros_'!C11=\"\",\"\",'TD Siniestros_'!C11)","v":192220836.94778001},{"$f":"IF('TD Siniestros_'!D11=\"\",\"\",'TD Siniestros_'!D11)","v":3.7657321783436837},{"$f":"IF('TD Siniestros_'!E11=\"\",\"\",'TD Siniestros_'!E11)","v":891693.42188000004},{"$f":"IF('TD Siniestros_'!F11=\"\",\"\",'TD Siniestros_'!F11)","v":64.33554952124058},{"$f":"IF('TD Siniestros_'!G11=\"\",\"\",'TD Siniestros_'!G11)","v":69.202683604590902},{"$f":"IF('TD Siniestros_'!H11=\"\",\"\",'TD Siniestros_'!H11)","v":46.61826552258492}]
[null,{"$f":"IF('TD Siniestros_'!A12=\"\",\"\",'TD Siniestros_'!A12)","v":6},{"$f":"IF('TD Siniestros_'!B12=\"\",\"\",'TD Siniestros_'!B12)","v":"Monterrey New York Life"},{"$f":"IF('TD Siniestros_'!C12=\"\",\"\",'TD Siniestros_'!C12)","v":24612258.157529999},{"$f":"IF('TD Siniestros_'!D12=\"\",\"\",'TD Siniestros_'!D12)","v":-2.1482344605443737},{"$f":"IF('TD Siniestros_'!E12=\"\",\"\",'TD Siniestros_'!E12)","v":69856.265939999997},{"$f":"IF('TD Siniestros_'!F12=\"\",\"\",'TD Siniestros_'!F12)","v":65.594862613631861},{"$f":"IF('TD Siniestros_'!G12=\"\",\"\",'TD Siniestros_'!G12)","v":72.839659195843311},{"$f":"IF('TD Siniestros_'!H12=\"\",\"\",'TD Siniestros_'!H12)","v":5.9690760071440394}]
[null,{"$f":"IF('TD Siniestros_'!A13=\"\",\"\",'TD Siniestros_'!A13)","v":7},{"$f":"IF('TD Siniestros_'!B13=\"\",\"\",'TD Siniestros_'!B13)","v":"Banorte"},{"$f":"IF('TD Siniestros_'!C13=\"\",\"\",'TD Siniestros_'!C13)","v":16965249.233969994},{"$f":"IF('TD Siniestros_'!D13=\"\",\"\",'TD Siniestros_'!D13)","v":-13.64701137121116},{"$f":"IF('TD Siniestros_'!E13=\"\",\"\",'TD Siniestros_'!E13)","v":46229.844859999997},{"$f":"IF('TD Siniestros_'!F13=\"\",\"\",'TD Siniestros_'!F13)","v":58.674471839636958},{"$f":"IF('TD Siniestros_'!G13=\"\",\"\",'TD Siniestros_'!G13)","v":70.703220350723242},{"$f":"IF('TD Siniestros_'!H13=\"\",\"\",'TD Siniestros_'!H13)","v":4.1144888660582728}]
[null,{"$f":"IF('TD Siniestros_'!A14=\"\",\"\",'TD Siniestros_'!A14)","v":8},{"$f":"IF('TD Siniestros_'!B14=\"\",\"\",'TD Siniestros_'!B14)","v":"Inbursa"},{"$f":"IF('TD Siniestros_'!C14=\"\",\"\",'TD Siniestros_'!C14)","v":12593961.632089997},{"$f":"IF('TD Siniestros_'!D14=\"\",\"\",'TD Siniestros_'!D14)","v":16.843919299235878},{"$f":"IF('TD Siniestros_'!E14=\"\",\"\",'TD Siniestros_'!E14)","v":263889.94474000001},{"$f":"IF('TD Siniestros_'!F14=\"\",\"\",'TD Siniestros_'!F14)","v":54.649797259936797},{"$f":"IF('TD Siniestros_'!G14=\"\",\"\",'TD Siniestros_'!G14)","v":52.029799976085947},{"$f":"IF('TD Siniestros_'!H14=\"\",\"\",'TD Siniestros_'!H14)","v":3.054344454371074}]
[null,{"$f":"IF('TD Siniestros_'!A15=\"\",\"\",'TD Siniestros_'!A15)","v":9},{"$f":"IF('TD Siniestros_'!B15=\"\",\"\",'TD Siniestros_'!B15)","v":"Mapfre México"},{"$f":"IF('TD Siniestros_'!C15=\"\",\"\",'TD Siniestros_'!C15)","v":13307614.649420004},{"$f":"IF('TD Siniestros_'!D15=\"\",\"\",'TD Siniestros_'!D15)","v":-23.87991099270419},{"$f":"IF('TD Siniestros_'!E15=\"\",\"\",'TD Siniestros_'!E15)","v":308715.47612000001},{"$f":"IF('TD Siniestros_'!F15=\"\",\"\",'TD Siniestros_'!F15)","v":62.869620943675955},{"$f":"IF('TD Siniestros_'!G15=\"\",\"\",'TD Siniestros_'!G15)","v":56.443670488321644},{"$f":"IF('TD Siniestros_'!H15=\"\",\"\",'TD Siniestros_'!H15)","v":3.2274228072757718}]
[null,{"$f":"IF('TD Siniestros_'!A16=\"\",\"\",'TD Siniestros_'!A16)","v":10},{"$f":"IF('TD Siniestros_'!B16=\"\",\"\",'TD Siniestros_'!B16)","v":"Chubb Seguros México"},{"$f":"IF('TD Siniestros_'!C16=\"\",\"\",'TD Siniestros_'!C16)","v":12052095.718539998},{"$f":"IF('TD Siniestros_'!D16=\"\",\"\",'TD Siniestros_'!D16)","v":15.896527594606358},{"$f":"IF('TD Siniestros_'!E16=\"\",\"\",'TD Siniestros_'!E16)","v":115661.08706999999},{"$f":"IF('TD Siniestros_'!F16=\"\",\"\",'TD Siniestros_'!F16)","v":57.572217849575289},{"$f":"IF('TD Siniestros_'!G16=\"\",\"\",'TD Siniestros_'!G16)","v":55.774888569748384},{"$f":"IF('TD Siniestros_'!H16=\"\",\"\",'TD Siniestros_'!H16)","v":2.9229286857342203}]
[null,{"$f":"IF('TD Siniestros_'!A17=\"\",\"\",'TD Siniestros_'!A17)","v":11},{"$f":"IF('TD Siniestros_'!B17=\"\",\"\",'TD Siniestros_'!B17)","v":"Allianz México"},{"$f":"IF('TD Siniestros_'!C17=\"\",\"\",'TD Siniestros_'!C17)","v":12238873.853329998},{"$f":"IF('TD Siniestros_'!D17=\"\",\"\",'TD Siniestros_'!D17)","v":26.602715552906719},{"$f":"IF('TD Siniestros_'!E17=\"\",\"\",'TD Siniestros_'!E17)","v":37724.765490000005},{"$f":"IF('TD Siniestros_'!F17=\"\",\"\",'TD Siniestros_'!F17)","v":64.586879369891392},{"$f":"IF('TD Siniestros_'!G17=\"\",\"\",'TD Siniestros_'!G17)","v":58.373342300468444},{"$f":"IF('TD Siniestros_'!H17=\"\",\"\",'TD Siniestros_'!H17)","v":2.9682269625480853}]
[null,{"$f":"IF('TD Siniestros_'!A18=\"\",\"\",'TD Siniestros_'!A18)","v":12},{"$f":"IF('TD Siniestros_'!B18=\"\",\"\",'TD Siniestros_'!B18)","v":"Pensiones Banorte"},{"$f":"IF('TD Siniestros_'!C18=\"\",\"\",'TD Siniestros_'!C18)","v":11802256.32618},{"$f":"IF('TD Siniestros_'!D18=\"\",\"\",'TD Siniestros_'!D18)","v":18.722822293954167},{"$f":"IF('TD Siniestros_'!E18=\"\",\"\",'TD Siniestros_'!E18)","v":0},{"$f":"IF('TD Siniestros_'!F18=\"\",\"\",'TD Siniestros_'!F18)","v":63.001069278485758},{"$f":"IF('TD Siniestros_'!G18=\"\",\"\",'TD Siniestros_'!G18)","v":43.890742127797004},{"$f":"IF('TD Siniestros_'!H18=\"\",\"\",'TD Siniestros_'!H18)","v":2.8623365079246743}]
[null,{"$f":"IF('TD Siniestros_'!A19=\"\",\"\",'TD Siniestros_'!A19)","v":13},{"$f":"IF('TD Siniestros_'!B19=\"\",\"\",'TD Siniestros_'!B19)","v":"Atlas"},{"$f":"IF('TD Siniestros_'!C19=\"\",\"\",'TD Siniestros_'!C19)","v":10098998.712919997},{"$f":"IF('TD Siniestros_'!D19=\"\",\"\",'TD Siniestros_'!D19)","v":6.7553001911256683},{"$f":"IF('TD Siniestros_'!E19=\"\",\"\",'TD Siniestros_'!E19)","v":39291.694859999996},{"$f":"IF('TD Siniestros_'!F19=\"\",\"\",'TD Siniestros_'!F19)","v":58.049163060905741},{"$f":"IF('TD Siniestros_'!G19=\"\",\"\",'TD Siniestros_'!G19)","v":59.001132739620246},{"$f":"IF('TD Siniestros_'!H19=\"\",\"\",'TD Siniestros_'!H19)","v":2.4492547789657571}]
[null,{"$f":"IF('TD Siniestros_'!A20=\"\",\"\",'TD Siniestros_'!A20)","v":14},{"$f":"IF('TD Siniestros_'!B20=\"\",\"\",'TD Siniestros_'!B20)","v":"Citibanamex Seguros"},{"$f":"IF('TD Siniestros_'!C20=\"\",\"\",'TD Siniestros_'!C20)","v":27048070.603949998},{"$f":"IF('TD Siniestros_'!D20=\"\",\"\",'TD Siniestros_'!D20)","v":11.896636682345996},{"$f":"IF('TD Siniestros_'!E20=\"\",\"\",'TD Siniestros_'!E20)","v":0},{"$f":"IF('TD Siniestros_'!F20=\"\",\"\",'TD Siniestros_'!F20)","v":158.41687408387597},{"$f":"IF('TD Siniestros_'!G20=\"\",\"\",'TD Siniestros_'!G20)","v":99.454891043416566},{"$f":"IF('TD Siniestros_'!H20=\"\",\"\",'TD Siniestros_'!H20)","v":6.5598202427508854}]
[null,{"$f":"IF('TD Siniestros_'!A21=\"\",\"\",'TD Siniestros_'!A21)","v":15},{"$f":"IF('TD Siniestros_'!B21=\"\",\"\",'TD Siniestros_'!B21)","v":"Zurich Santander"},{"$f":"IF('TD Siniestros_'!C21=\"\",\"\",'TD Siniestros_'!C21)","v":3023917.7224300001},{"$f":"IF('TD Siniestros_'!D21=\"\",\"\",'TD Siniestros_'!D21)","v":-21.812023340219788},{"$f":"IF('TD Siniestros_'!E21=\"\",\"\",'TD Siniestros_'!E21)","v":0},{"$f":"IF('TD Siniestros_'!F21=\"\",\"\",'TD Siniestros_'!F21)","v":20.800050239749737},{"$f":"IF('TD Siniestros_'!G21=\"\",\"\",'TD Siniestros_'!G21)","v":26.233465379004279},{"$f":"IF('TD Siniestros_'!H21=\"\",\"\",'TD Siniestros_'!H21)","v":0.73337418326291426}]
[null,{"$f":"IF('TD Siniestros_'!A22=\"\",\"\",'TD Siniestros_'!A22)","v":15.1},{"$f":"IF('TD Siniestros_'!B22=\"\",\"\",'TD Siniestros_'!B22)","v":"TOTAL MEDIANAS"},{"$f":"IF('TD Siniestros_'!C22=\"\",\"\",'TD Siniestros_'!C22)","v":143743296.61035997},{"$f":"IF('TD Siniestros_'!D22=\"\",\"\",'TD Siniestros_'!D22)","v":2.259753266547504},{"$f":"IF('TD Siniestros_'!E22=\"\",\"\",'TD Siniestros_'!E22)","v":881369.07907999994},{"$f":"IF('TD Siniestros_'!F22=\"\",\"\",'TD Siniestros_'!F22)","v":65.854590075903872},{"$f":"IF('TD Siniestros_'!G22=\"\",\"\",'TD Siniestros_'!G22)","v":61.939098407761328},{"$f":"IF('TD Siniestros_'!H22=\"\",\"\",'TD Siniestros_'!H22)","v":34.861273496035686}]
[null,{"$f":"IF('TD Siniestros_'!A23=\"\",\"\",'TD Siniestros_'!A23)","v":16},{"$f":"IF('TD Siniestros_'!B23=\"\",\"\",'TD Siniestros_'!B23)","v":"GMX Seguros"},{"$f":"IF('TD Siniestros_'!C23=\"\",\"\",'TD Siniestros_'!C23)","v":5157067.1514400002},{"$f":"IF('TD Siniestros_'!D23=\"\",\"\",'TD Siniestros_'!D23)","v":3.03074725881467},{"$f":"IF('TD Siniestros_'!E23=\"\",\"\",'TD Siniestros_'!E23)","v":0},{"$f":"IF('TD Siniestros_'!F23=\"\",\"\",'TD Siniestros_'!F23)","v":40.652839052711208},{"$f":"IF('TD Siniestros_'!G23=\"\",\"\",'TD Siniestros_'!G23)","v":46.172101271041889},{"$f":"IF('TD Siniestros_'!H23=\"\",\"\",'TD Siniestros_'!H23)","v":1.2507152169405178}]
[null,{"$f":"IF('TD Siniestros_'!A24=\"\",\"\",'TD Siniestros_'!A24)","v":17},{"$f":"IF('TD Siniestros_'!B24=\"\",\"\",'TD Siniestros_'!B24)","v":"Pensiones BBVA Bancomer"},{"$f":"IF('TD Siniestros_'!C24=\"\",\"\",'TD Siniestros_'!C24)","v":7674691.8097700011},{"$f":"IF('TD Siniestros_'!D24=\"\",\"\",'TD Siniestros_'!D24)","v":14.206876891784148},{"$f":"IF('TD Siniestros_'!E24=\"\",\"\",'TD Siniestros_'!E24)","v":0},{"$f":"IF('TD Siniestros_'!F24=\"\",\"\",'TD Siniestros_'!F24)","v":64.445747755873214},{"$f":"IF('TD Siniestros_'!G24=\"\",\"\",'TD Siniestros_'!G24)","v":68.411958847697292},{"$f":"IF('TD Siniestros_'!H24=\"\",\"\",'TD Siniestros_'!H24)","v":1.8613009196763761}]
[null,{"$f":"IF('TD Siniestros_'!A25=\"\",\"\",'TD Siniestros_'!A25)","v":18},{"$f":"IF('TD Siniestros_'!B25=\"\",\"\",'TD Siniestros_'!B25)","v":"ProFuturo G.N.P."},{"$f":"IF('TD Siniestros_'!C25=\"\",\"\",'TD Siniestros_'!C25)","v":4846781.6973800007},{"$f":"IF('TD Siniestros_'!D25=\"\",\"\",'TD Siniestros_'!D25)","v":19.764696031260943},{"$f":"IF('TD Siniestros_'!E25=\"\",\"\",'TD Siniestros_'!E25)","v":0},{"$f":"IF('TD Siniestros_'!F25=\"\",\"\",'TD Siniestros_'!F25)","v":48.639513049962687},{"$f":"IF('TD Siniestros_'!G25=\"\",\"\",'TD Siniestros_'!G25)","v":27.145062509132593},{"$f":"IF('TD Siniestros_'!H25=\"\",\"\",'TD Siniestros_'!H25)","v":1.1754633872489504}]
[null,{"$f":"IF('TD Siniestros_'!A26=\"\",\"\",'TD Siniestros_'!A26)","v":19},{"$f":"IF('TD Siniestros_'!B26=\"\",\"\",'TD Siniestros_'!B26)","v":"HDI Seguros"},{"$f":"IF('TD Siniestros_'!C26=\"\",\"\",'TD Siniestros_'!C26)","v":5853239.9675500002},{"$f":"IF('TD Siniestros_'!D26=\"\",\"\",'TD Siniestros_'!D26)","v":8.3683227266911473},{"$f":"IF('TD Siniestros_'!E26=\"\",\"\",'TD Siniestros_'!E26)","v":0},{"$f":"IF('TD Siniestros_'!F26=\"\",\"\",'TD Siniestros_'!F26)","v":60.588834984778991},{"$f":"IF('TD Siniestros_'!G26=\"\",\"\",'TD Siniestros_'!G26)","v":62.220525919891323},{"$f":"IF('TD Siniestros_'!H26=\"\",\"\",'TD Siniestros_'!H26)","v":1.4195541924977744}]
[null,{"$f":"IF('TD Siniestros_'!A27=\"\",\"\",'TD Siniestros_'!A27)","v":20},{"$f":"IF('TD Siniestros_'!B27=\"\",\"\",'TD Siniestros_'!B27)","v":"Afirme"},{"$f":"IF('TD Siniestros_'!C27=\"\",\"\",'TD Siniestros_'!C27)","v":5905353.597959999},{"$f":"IF('TD Siniestros_'!D27=\"\",\"\",'TD Siniestros_'!D27)","v":10.077442787765101},{"$f":"IF('TD Siniestros_'!E27=\"\",\"\",'TD Siniestros_'!E27)","v":14012.8626},{"$f":"IF('TD Siniestros_'!F27=\"\",\"\",'TD Siniestros_'!F27)","v":77.776878283481807},{"$f":"IF('TD Siniestros_'!G27=\"\",\"\",'TD Siniestros_'!G27)","v":52.599071748285262},{"$f":"IF('TD Siniestros_'!H27=\"\",\"\",'TD Siniestros_'!H27)","v":1.4321930255107593}]
[null,{"$f":"IF('TD Siniestros_'!A28=\"\",\"\",'TD Siniestros_'!A28)","v":21},{"$f":"IF('TD Siniestros_'!B28=\"\",\"\",'TD Siniestros_'!B28)","v":"Seguros SURA"},{"$f":"IF('TD Siniestros_'!C28=\"\",\"\",'TD Siniestros_'!C28)","v":3724756.8455599993},{"$f":"IF('TD Siniestros_'!D28=\"\",\"\",'TD Siniestros_'!D28)","v":6.1399102610237843},{"$f":"IF('TD Siniestros_'!E28=\"\",\"\",'TD Siniestros_'!E28)","v":13072.738839999998},{"$f":"IF('TD Siniestros_'!F28=\"\",\"\",'TD Siniestros_'!F28)","v":53.869898435408125},{"$f":"IF('TD Siniestros_'!G28=\"\",\"\",'TD Siniestros_'!G28)","v":59.478852375676652},{"$f":"IF('TD Siniestros_'!H28=\"\",\"\",'TD Siniestros_'!H28)","v":0.90334485267356601}]
[null,{"$f":"IF('TD Siniestros_'!A29=\"\",\"\",'TD Siniestros_'!A29)","v":22},{"$f":"IF('TD Siniestros_'!B29=\"\",\"\",'TD Siniestros_'!B29)","v":"Agroasemex"},{"$f":"IF('TD Siniestros_'!C29=\"\",\"\",'TD Siniestros_'!C29)","v":1340021.9866499999},{"$f":"IF('TD Siniestros_'!D29=\"\",\"\",'TD Siniestros_'!D29)","v":""},{"$f":"IF('TD Siniestros_'!E29=\"\",\"\",'TD Siniestros_'!E29)","v":-6173.5351500000015},{"$f":"IF('TD Siniestros_'!F29=\"\",\"\",'TD Siniestros_'!F29)","v":19.401589631645411},{"$f":"IF('TD Siniestros_'!G29=\"\",\"\",'TD Siniestros_'!G29)","v":""},{"$f":"IF('TD Siniestros_'!H29=\"\",\"\",'TD Siniestros_'!H29)","v":0.32498818427641285}]
[null,{"$f":"IF('TD Siniestros_'!A30=\"\",\"\",'TD Siniestros_'!A30)","v":23},{"$f":"IF('TD Siniestros_'!B30=\"\",\"\",'TD Siniestros_'!B30)","v":"HSBC Seguros"},{"$f":"IF('TD Siniestros_'!C30=\"\",\"\",'TD Siniestros_'!C30)","v":2724139.5727400002},{"$f":"IF('TD Siniestros_'!D30=\"\",\"\",'TD Siniestros_'!D30)","v":19.976328937445764},{"$f":"IF('TD Siniestros_'!E30=\"\",\"\",'TD Siniestros_'!E30)","v":0},{"$f":"IF('TD Siniestros_'!F30=\"\",\"\",'TD Siniestros_'!F30)","v":41.149065807278014},{"$f":"IF('TD Siniestros_'!G30=\"\",\"\",'TD Siniestros_'!G30)","v":35.102494335615859},{"$f":"IF('TD Siniestros_'!H30=\"\",\"\",'TD Siniestros_'!H30)","v":0.66067063248233893}]
[null,{"$f":"IF('TD Siniestros_'!A31=\"\",\"\",'TD Siniestros_'!A31)","v":24},{"$f":"IF('TD Siniestros_'!B31=\"\",\"\",'TD Siniestros_'!B31)","v":"AIG Seguros"},{"$f":"IF('TD Siniestros_'!C31=\"\",\"\",'TD Siniestros_'!C31)","v":1592581.9720599998},{"$f":"IF('TD Siniestros_'!D31=\"\",\"\",'TD Siniestros_'!D31)","v":72.322187160269763},{"$f":"IF('TD Siniestros_'!E31=\"\",\"\",'TD Siniestros_'!E31)","v":11439.484260000001},{"$f":"IF('TD Siniestros_'!F31=\"\",\"\",'TD Siniestros_'!F31)","v":25.250577485597585},{"$f":"IF('TD Siniestros_'!G31=\"\",\"\",'TD Siniestros_'!G31)","v":17.472713455020759},{"$f":"IF('TD Siniestros_'!H31=\"\",\"\",'TD Siniestros_'!H31)","v":0.38624017259972937}]
[null,{"$f":"IF('TD Siniestros_'!A32=\"\",\"\",'TD Siniestros_'!A32)","v":25},{"$f":"IF('TD Siniestros_'!B32=\"\",\"\",'TD Siniestros_'!B32)","v":"Zurich Aseguradora Mexicana"},{"$f":"IF('TD Siniestros_'!C32=\"\",\"\",'TD Siniestros_'!C32)","v":4431024.1784399999},{"$f":"IF('TD Siniestros_'!D32=\"\",\"\",'TD Siniestros_'!D32)","v":1778.5706119748611},{"$f":"IF('TD Siniestros_'!E32=\"\",\"\",'TD Siniestros_'!E32)","v":10858.88839},{"$f":"IF('TD Siniestros_'!F32=\"\",\"\",'TD Siniestros_'!F32)","v":81.800133141017071},{"$f":"IF('TD Siniestros_'!G32=\"\",\"\",'TD Siniestros_'!G32)","v":91.56661631950962},{"$f":"IF('TD Siniestros_'!H32=\"\",\"\",'TD Siniestros_'!H32)","v":1.0746319960287494}]
[null,{"$f":"IF('TD Siniestros_'!A33=\"\",\"\",'TD Siniestros_'!A33)","v":26},{"$f":"IF('TD Siniestros_'!B33=\"\",\"\",'TD Siniestros_'!B33)","v":"BUPA México"},{"$f":"IF('TD Siniestros_'!C33=\"\",\"\",'TD Siniestros_'!C33)","v":2861700.0891800001},{"$f":"IF('TD Siniestros_'!D33=\"\",\"\",'TD Siniestros_'!D33)","v":12.113724955380544},{"$f":"IF('TD Siniestros_'!E33=\"\",\"\",'TD Siniestros_'!E33)","v":0},{"$f":"IF('TD Siniestros_'!F33=\"\",\"\",'TD Siniestros_'!F33)","v":70.990007759074047},{"$f":"IF('TD Siniestros_'!G33=\"\",\"\",'TD Siniestros_'!G33)","v":71.017077946784227},{"$f":"IF('TD Siniestros_'!H33=\"\",\"\",'TD Siniestros_'!H33)","v":0.69403243020755623}]
[null,{"$f":"IF('TD Siniestros_'!A34=\"\",\"\",'TD Siniestros_'!A34)","v":27},{"$f":"IF('TD Siniestros_'!B34=\"\",\"\",'TD Siniestros_'!B34)","v":"Seguros Azteca"},{"$f":"IF('TD Siniestros_'!C34=\"\",\"\",'TD Siniestros_'!C34)","v":2753059.7028299994},{"$f":"IF('TD Siniestros_'!D34=\"\",\"\",'TD Siniestros_'!D34)","v":-38.738102075464667},{"$f":"IF('TD Siniestros_'!E34=\"\",\"\",'TD Siniestros_'!E34)","v":0},{"$f":"IF('TD Siniestros_'!F34=\"\",\"\",'TD Siniestros_'!F34)","v":70.293733188226454},{"$f":"IF('TD Siniestros_'!G34=\"\",\"\",'TD Siniestros_'!G34)","v":90.183592673885698},{"$f":"IF('TD Siniestros_'!H34=\"\",\"\",'TD Siniestros_'!H34)","v":0.66768447304661416}]
[null,{"$f":"IF('TD Siniestros_'!A35=\"\",\"\",'TD Siniestros_'!A35)","v":28},{"$f":"IF('TD Siniestros_'!B35=\"\",\"\",'TD Siniestros_'!B35)","v":"Seguros Argos"},{"$f":"IF('TD Siniestros_'!C35=\"\",\"\",'TD Siniestros_'!C35)","v":2710936.0535400007},{"$f":"IF('TD Siniestros_'!D35=\"\",\"\",'TD Siniestros_'!D35)","v":-17.079164000858281},{"$f":"IF('TD Siniestros_'!E35=\"\",\"\",'TD Siniestros_'!E35)","v":9679.2178299999996},{"$f":"IF('TD Siniestros_'!F35=\"\",\"\",'TD Siniestros_'!F35)","v":72.104442960777291},{"$f":"IF('TD Siniestros_'!G35=\"\",\"\",'TD Siniestros_'!G35)","v":106.59122864259267},{"$f":"IF('TD Siniestros_'!H35=\"\",\"\",'TD Siniestros_'!H35)","v":0.65746845537359322}]
[null,{"$f":"IF('TD Siniestros_'!A36=\"\",\"\",'TD Siniestros_'!A36)","v":29},{"$f":"IF('TD Siniestros_'!B36=\"\",\"\",'TD Siniestros_'!B36)","v":"Hir Seguros"},{"$f":"IF('TD Siniestros_'!C36=\"\",\"\",'TD Siniestros_'!C36)","v":1478646.5841399999},{"$f":"IF('TD Siniestros_'!D36=\"\",\"\",'TD Siniestros_'!D36)","v":-13.476918294051099},{"$f":"IF('TD Siniestros_'!E36=\"\",\"\",'TD Siniestros_'!E36)","v":393008.11544999998},{"$f":"IF('TD Siniestros_'!F36=\"\",\"\",'TD Siniestros_'!F36)","v":39.898916365678105},{"$f":"IF('TD Siniestros_'!G36=\"\",\"\",'TD Siniestros_'!G36)","v":87.645630618318876},{"$f":"IF('TD Siniestros_'!H36=\"\",\"\",'TD Siniestros_'!H36)","v":0.35860804774369087}]
[null,{"$f":"IF('TD Siniestros_'!A37=\"\",\"\",'TD Siniestros_'!A37)","v":30},{"$f":"IF('TD Siniestros_'!B37=\"\",\"\",'TD Siniestros_'!B37)","v":"FM Global"},{"$f":"IF('TD Siniestros_'!C37=\"\",\"\",'TD Siniestros_'!C37)","v":264444.23681999999},{"$f":"IF('TD Siniestros_'!D37=\"\",\"\",'TD Siniestros_'!D37)","v":19.518461401744247},{"$f":"IF('TD Siniestros_'!E37=\"\",\"\",'TD Siniestros_'!E37)","v":0},{"$f":"IF('TD Siniestros_'!F37=\"\",\"\",'TD Siniestros_'!F37)","v":7.5039227510194024},{"$f":"IF('TD Siniestros_'!G37=\"\",\"\",'TD Siniestros_'!G37)","v":7.0138135977470286},{"$f":"IF('TD Siniestros_'!H37=\"\",\"\",'TD Siniestros_'!H37)","v":6.4134210649291756E-2}]
[null,{"$f":"IF('TD Siniestros_'!A38=\"\",\"\",'TD Siniestros_'!A38)","v":31},{"$f":"IF('TD Siniestros_'!B38=\"\",\"\",'TD Siniestros_'!B38)","v":"ANA"},{"$f":"IF('TD Siniestros_'!C38=\"\",\"\",'TD Siniestros_'!C38)","v":2008183.85962},{"$f":"IF('TD Siniestros_'!D38=\"\",\"\",'TD Siniestros_'!D38)","v":36.455998830698768},{"$f":"IF('TD Siniestros_'!E38=\"\",\"\",'TD Siniestros_'!E38)","v":10762.346810000001},{"$f":"IF('TD Siniestros_'!F38=\"\",\"\",'TD Siniestros_'!F38)","v":64.595484712441348},{"$f":"IF('TD Siniestros_'!G38=\"\",\"\",'TD Siniestros_'!G38)","v":51.706061688304452},{"$f":"IF('TD Siniestros_'!H38=\"\",\"\",'TD Siniestros_'!H38)","v":0.48703381939475926}]
[null,{"$f":"IF('TD Siniestros_'!A39=\"\",\"\",'TD Siniestros_'!A39)","v":32},{"$f":"IF('TD Siniestros_'!B39=\"\",\"\",'TD Siniestros_'!B39)","v":"Ve Por Más"},{"$f":"IF('TD Siniestros_'!C39=\"\",\"\",'TD Siniestros_'!C39)","v":1875257.6643799995},{"$f":"IF('TD Siniestros_'!D39=\"\",\"\",'TD Siniestros_'!D39)","v":-14.696253996185716},{"$f":"IF('TD Siniestros_'!E39=\"\",\"\",'TD Siniestros_'!E39)","v":6802.4608699999999},{"$f":"IF('TD Siniestros_'!F39=\"\",\"\",'TD Siniestros_'!F39)","v":60.977976577122071},{"$f":"IF('TD Siniestros_'!G39=\"\",\"\",'TD Siniestros_'!G39)","v":70.033405665240309},{"$f":"IF('TD Siniestros_'!H39=\"\",\"\",'TD Siniestros_'!H39)","v":0.45479595817740964}]
[null,{"$f":"IF('TD Siniestros_'!A40=\"\",\"\",'TD Siniestros_'!A40)","v":33},{"$f":"IF('TD Siniestros_'!B40=\"\",\"\",'TD Siniestros_'!B40)","v":"Seguros Azteca Daños"},{"$f":"IF('TD Siniestros_'!C40=\"\",\"\",'TD Siniestros_'!C40)","v":923246.81686000002},{"$f":"IF('TD Siniestros_'!D40=\"\",\"\",'TD Siniestros_'!D40)","v":16.948283985421519},{"$f":"IF('TD Siniestros_'!E40=\"\",\"\",'TD Siniestros_'!E40)","v":31342.309350000003},{"$f":"IF('TD Siniestros_'!F40=\"\",\"\",'TD Siniestros_'!F40)","v":30.355114568128872},{"$f":"IF('TD Siniestros_'!G40=\"\",\"\",'TD Siniestros_'!G40)","v":42.804906632749137},{"$f":"IF('TD Siniestros_'!H40=\"\",\"\",'TD Siniestros_'!H40)","v":0.22390998777595267}]
[null,{"$f":"IF('TD Siniestros_'!A41=\"\",\"\",'TD Siniestros_'!A41)","v":34},{"$f":"IF('TD Siniestros_'!B41=\"\",\"\",'TD Siniestros_'!B41)","v":"Cardif Vida"},{"$f":"IF('TD Siniestros_'!C41=\"\",\"\",'TD Siniestros_'!C41)","v":853584.88870000001},{"$f":"IF('TD Siniestros_'!D41=\"\",\"\",'TD Siniestros_'!D41)","v":-51.418690516262558},{"$f":"IF('TD Siniestros_'!E41=\"\",\"\",'TD Siniestros_'!E41)","v":56978.556810000002},{"$f":"IF('TD Siniestros_'!F41=\"\",\"\",'TD Siniestros_'!F41)","v":28.913299007053329},{"$f":"IF('TD Siniestros_'!G41=\"\",\"\",'TD Siniestros_'!G41)","v":62.098910069593863},{"$f":"IF('TD Siniestros_'!H41=\"\",\"\",'TD Siniestros_'!H41)","v":0.20701526233752188}]
[null,{"$f":"IF('TD Siniestros_'!A42=\"\",\"\",'TD Siniestros_'!A42)","v":35},{"$f":"IF('TD Siniestros_'!B42=\"\",\"\",'TD Siniestros_'!B42)","v":"Plan Seguro"},{"$f":"IF('TD Siniestros_'!C42=\"\",\"\",'TD Siniestros_'!C42)","v":1967867.2851199999},{"$f":"IF('TD Siniestros_'!D42=\"\",\"\",'TD Siniestros_'!D42)","v":12.8934701039356},{"$f":"IF('TD Siniestros_'!E42=\"\",\"\",'TD Siniestros_'!E42)","v":0},{"$f":"IF('TD Siniestros_'!F42=\"\",\"\",'TD Siniestros_'!F42)","v":67.035573348030297},{"$f":"IF('TD Siniestros_'!G42=\"\",\"\",'TD Siniestros_'!G42)","v":67.141974525340103},{"$f":"IF('TD Siniestros_'!H42=\"\",\"\",'TD Siniestros_'!H42)","v":0.4772560616612796}]
[null,{"$f":"IF('TD Siniestros_'!A43=\"\",\"\",'TD Siniestros_'!A43)","v":36},{"$f":"IF('TD Siniestros_'!B43=\"\",\"\",'TD Siniestros_'!B43)","v":"General de Seguros"},{"$f":"IF('TD Siniestros_'!C43=\"\",\"\",'TD Siniestros_'!C43)","v":2052103.73126},{"$f":"IF('TD Siniestros_'!D43=\"\",\"\",'TD Siniestros_'!D43)","v":38.141660799843493},{"$f":"IF('TD Siniestros_'!E43=\"\",\"\",'TD Siniestros_'!E43)","v":16906.32705},{"$f":"IF('TD Siniestros_'!F43=\"\",\"\",'TD Siniestros_'!F43)","v":76.734922499379039},{"$f":"IF('TD Siniestros_'!G43=\"\",\"\",'TD Siniestros_'!G43)","v":59.040273304325318},{"$f":"IF('TD Siniestros_'!H43=\"\",\"\",'TD Siniestros_'!H43)","v":0.49768546502455951}]
[null,{"$f":"IF('TD Siniestros_'!A44=\"\",\"\",'TD Siniestros_'!A44)","v":37},{"$f":"IF('TD Siniestros_'!B44=\"\",\"\",'TD Siniestros_'!B44)","v":"Patrimonial Vida"},{"$f":"IF('TD Siniestros_'!C44=\"\",\"\",'TD Siniestros_'!C44)","v":1823633.7538699999},{"$f":"IF('TD Siniestros_'!D44=\"\",\"\",'TD Siniestros_'!D44)","v":14.406977390562158},{"$f":"IF('TD Siniestros_'!E44=\"\",\"\",'TD Siniestros_'!E44)","v":1484.7720200000001},{"$f":"IF('TD Siniestros_'!F44=\"\",\"\",'TD Siniestros_'!F44)","v":69.121664454237802},{"$f":"IF('TD Siniestros_'!G44=\"\",\"\",'TD Siniestros_'!G44)","v":109.56107740948613},{"$f":"IF('TD Siniestros_'!H44=\"\",\"\",'TD Siniestros_'!H44)","v":0.44227589424634317}]
[null,{"$f":"IF('TD Siniestros_'!A45=\"\",\"\",'TD Siniestros_'!A45)","v":38},{"$f":"IF('TD Siniestros_'!B45=\"\",\"\",'TD Siniestros_'!B45)","v":"El Potosí"},{"$f":"IF('TD Siniestros_'!C45=\"\",\"\",'TD Siniestros_'!C45)","v":1370824.13301},{"$f":"IF('TD Siniestros_'!D45=\"\",\"\",'TD Siniestros_'!D45)","v":30.00221666719969},{"$f":"IF('TD Siniestros_'!E45=\"\",\"\",'TD Siniestros_'!E45)","v":2247.8542699999998},{"$f":"IF('TD Siniestros_'!F45=\"\",\"\",'TD Siniestros_'!F45)","v":63.405142632687102},{"$f":"IF('TD Siniestros_'!G45=\"\",\"\",'TD Siniestros_'!G45)","v":54.409980014274225},{"$f":"IF('TD Siniestros_'!H45=\"\",\"\",'TD Siniestros_'!H45)","v":0.33245845992642525}]
[null,{"$f":"IF('TD Siniestros_'!A46=\"\",\"\",'TD Siniestros_'!A46)","v":39},{"$f":"IF('TD Siniestros_'!B46=\"\",\"\",'TD Siniestros_'!B46)","v":"Cardif Seguros Generales"},{"$f":"IF('TD Siniestros_'!C46=\"\",\"\",'TD Siniestros_'!C46)","v":178083.60459},{"$f":"IF('TD Siniestros_'!D46=\"\",\"\",'TD Siniestros_'!D46)","v":-22.438894681596121},{"$f":"IF('TD Siniestros_'!E46=\"\",\"\",'TD Siniestros_'!E46)","v":0},{"$f":"IF('TD Siniestros_'!F46=\"\",\"\",'TD Siniestros_'!F46)","v":8.7106509947325979},{"$f":"IF('TD Siniestros_'!G46=\"\",\"\",'TD Siniestros_'!G46)","v":14.711816365280999},{"$f":"IF('TD Siniestros_'!H46=\"\",\"\",'TD Siniestros_'!H46)","v":4.3189640081793032E-2}]
[null,{"$f":"IF('TD Siniestros_'!A47=\"\",\"\",'TD Siniestros_'!A47)","v":40},{"$f":"IF('TD Siniestros_'!B47=\"\",\"\",'TD Siniestros_'!B47)","v":"Insignia Life"},{"$f":"IF('TD Siniestros_'!C47=\"\",\"\",'TD Siniestros_'!C47)","v":850788.55688000005},{"$f":"IF('TD Siniestros_'!D47=\"\",\"\",'TD Siniestros_'!D47)","v":-33.926058744291318},{"$f":"IF('TD Siniestros_'!E47=\"\",\"\",'TD Siniestros_'!E47)","v":23132.752670000002},{"$f":"IF('TD Siniestros_'!F47=\"\",\"\",'TD Siniestros_'!F47)","v":43.238750890383379},{"$f":"IF('TD Siniestros_'!G47=\"\",\"\",'TD Siniestros_'!G47)","v":74.046974965324765},{"$f":"IF('TD Siniestros_'!H47=\"\",\"\",'TD Siniestros_'!H47)","v":0.20633708331518502}]
[null,{"$f":"IF('TD Siniestros_'!A48=\"\",\"\",'TD Siniestros_'!A48)","v":41},{"$f":"IF('TD Siniestros_'!B48=\"\",\"\",'TD Siniestros_'!B48)","v":"Prudential"},{"$f":"IF('TD Siniestros_'!C48=\"\",\"\",'TD Siniestros_'!C48)","v":167226.42745999998},{"$f":"IF('TD Siniestros_'!D48=\"\",\"\",'TD Siniestros_'!D48)","v":-2.9582296575294875},{"$f":"IF('TD Siniestros_'!E48=\"\",\"\",'TD Siniestros_'!E48)","v":0},{"$f":"IF('TD Siniestros_'!F48=\"\",\"\",'TD Siniestros_'!F48)","v":10.366657954427904},{"$f":"IF('TD Siniestros_'!G48=\"\",\"\",'TD Siniestros_'!G48)","v":14.641508562932101},{"$f":"IF('TD Siniestros_'!H48=\"\",\"\",'TD Siniestros_'!H48)","v":4.0556508448880729E-2}]
[null,{"$f":"IF('TD Siniestros_'!A49=\"\",\"\",'TD Siniestros_'!A49)","v":42},{"$f":"IF('TD Siniestros_'!B49=\"\",\"\",'TD Siniestros_'!B49)","v":"El Águila"},{"$f":"IF('TD Siniestros_'!C49=\"\",\"\",'TD Siniestros_'!C49)","v":593424.9589000002},{"$f":"IF('TD Siniestros_'!D49=\"\",\"\",'TD Siniestros_'!D49)","v":-8.9600223347663146},{"$f":"IF('TD Siniestros_'!E49=\"\",\"\",'TD Siniestros_'!E49)","v":0},{"$f":"IF('TD Siniestros_'!F49=\"\",\"\",'TD Siniestros_'!F49)","v":41.584904017947608},{"$f":"IF('TD Siniestros_'!G49=\"\",\"\",'TD Siniestros_'!G49)","v":52.117808896267562},{"$f":"IF('TD Siniestros_'!H49=\"\",\"\",'TD Siniestros_'!H49)","v":0.14392010117636078}]
[null,{"$f":"IF('TD Siniestros_'!A50=\"\",\"\",'TD Siniestros_'!A50)","v":43},{"$f":"IF('TD Siniestros_'!B50=\"\",\"\",'TD Siniestros_'!B50)","v":"Tokio Marine"},{"$f":"IF('TD Siniestros_'!C50=\"\",\"\",'TD Siniestros_'!C50)","v":595057.62798999995},{"$f":"IF('TD Siniestros_'!D50=\"\",\"\",'TD Siniestros_'!D50)","v":-21.400201602180246},{"$f":"IF('TD Siniestros_'!E50=\"\",\"\",'TD Siniestros_'!E50)","v":-1321.50783},{"$f":"IF('TD Siniestros_'!F50=\"\",\"\",'TD Siniestros_'!F50)","v":42.689015341250617},{"$f":"IF('TD Siniestros_'!G50=\"\",\"\",'TD Siniestros_'!G50)","v":55.082910403509558},{"$f":"IF('TD Siniestros_'!H50=\"\",\"\",'TD Siniestros_'!H50)","v":0.14431606345785269}]
[null,{"$f":"IF('TD Siniestros_'!A51=\"\",\"\",'TD Siniestros_'!A51)","v":44},{"$f":"IF('TD Siniestros_'!B51=\"\",\"\",'TD Siniestros_'!B51)","v":"La Latinoamericana"},{"$f":"IF('TD Siniestros_'!C51=\"\",\"\",'TD Siniestros_'!C51)","v":773285.09016000002},{"$f":"IF('TD Siniestros_'!D51=\"\",\"\",'TD Siniestros_'!D51)","v":-3.0158512184783604},{"$f":"IF('TD Siniestros_'!E51=\"\",\"\",'TD Siniestros_'!E51)","v":3424.2853799999998},{"$f":"IF('TD Siniestros_'!F51=\"\",\"\",'TD Siniestros_'!F51)","v":57.510440682626992},{"$f":"IF('TD Siniestros_'!G51=\"\",\"\",'TD Siniestros_'!G51)","v":60.307229899631878},{"$f":"IF('TD Siniestros_'!H51=\"\",\"\",'TD Siniestros_'!H51)","v":0.1875405925296656}]
[null,{"$f":"IF('TD Siniestros_'!A52=\"\",\"\",'TD Siniestros_'!A52)","v":45},{"$f":"IF('TD Siniestros_'!B52=\"\",\"\",'TD Siniestros_'!B52)","v":"HDI Global Seguros"},{"$f":"IF('TD Siniestros_'!C52=\"\",\"\",'TD Siniestros_'!C52)","v":389690.04205000005},{"$f":"IF('TD Siniestros_'!D52=\"\",\"\",'TD Siniestros_'!D52)","v":59.26142399047891},{"$f":"IF('TD Siniestros_'!E52=\"\",\"\",'TD Siniestros_'!E52)","v":0},{"$f":"IF('TD Siniestros_'!F52=\"\",\"\",'TD Siniestros_'!F52)","v":34.583189664004699},{"$f":"IF('TD Siniestros_'!G52=\"\",\"\",'TD Siniestros_'!G52)","v":23.451065321980902},{"$f":"IF('TD Siniestros_'!H52=\"\",\"\",'TD Siniestros_'!H52)","v":9.4509388993709684E-2}]
[null,{"$f":"IF('TD Siniestros_'!A53=\"\",\"\",'TD Siniestros_'!A53)","v":46},{"$f":"IF('TD Siniestros_'!B53=\"\",\"\",'TD Siniestros_'!B53)","v":"Assurant Vida"},{"$f":"IF('TD Siniestros_'!C53=\"\",\"\",'TD Siniestros_'!C53)","v":246251.05924999999},{"$f":"IF('TD Siniestros_'!D53=\"\",\"\",'TD Siniestros_'!D53)","v":-51.154740694470988},{"$f":"IF('TD Siniestros_'!E53=\"\",\"\",'TD Siniestros_'!E53)","v":8345.4773299999997},{"$f":"IF('TD Siniestros_'!F53=\"\",\"\",'TD Siniestros_'!F53)","v":22.93711530548104},{"$f":"IF('TD Siniestros_'!G53=\"\",\"\",'TD Siniestros_'!G53)","v":49.203916297140509},{"$f":"IF('TD Siniestros_'!H53=\"\",\"\",'TD Siniestros_'!H53)","v":5.972191905736509E-2}]
[null,{"$f":"IF('TD Siniestros_'!A54=\"\",\"\",'TD Siniestros_'!A54)","v":47},{"$f":"IF('TD Siniestros_'!B54=\"\",\"\",'TD Siniestros_'!B54)","v":"General de Salud"},{"$f":"IF('TD Siniestros_'!C54=\"\",\"\",'TD Siniestros_'!C54)","v":677020.87106999988},{"$f":"IF('TD Siniestros_'!D54=\"\",\"\",'TD Siniestros_'!D54)","v":67.081517594834054},{"$f":"IF('TD Siniestros_'!E54=\"\",\"\",'TD Siniestros_'!E54)","v":0},{"$f":"IF('TD Siniestros_'!F54=\"\",\"\",'TD Siniestros_'!F54)","v":64.249506622854128},{"$f":"IF('TD Siniestros_'!G54=\"\",\"\",'TD Siniestros_'!G54)","v":78.848356973458195},{"$f":"IF('TD Siniestros_'!H54=\"\",\"\",'TD Siniestros_'!H54)","v":0.16419415934832912}]
[null,{"$f":"IF('TD Siniestros_'!A55=\"\",\"\",'TD Siniestros_'!A55)","v":48},{"$f":"IF('TD Siniestros_'!B55=\"\",\"\",'TD Siniestros_'!B55)","v":"Primero Seguros"},{"$f":"IF('TD Siniestros_'!C55=\"\",\"\",'TD Siniestros_'!C55)","v":548948.88995000022},{"$f":"IF('TD Siniestros_'!D55=\"\",\"\",'TD Siniestros_'!D55)","v":4.3725892912037434},{"$f":"IF('TD Siniestros_'!E55=\"\",\"\",'TD Siniestros_'!E55)","v":0},{"$f":"IF('TD Siniestros_'!F55=\"\",\"\",'TD Siniestros_'!F55)","v":55.547746018902068},{"$f":"IF('TD Siniestros_'!G55=\"\",\"\",'TD Siniestros_'!G55)","v":69.86847090797184},{"$f":"IF('TD Siniestros_'!H55=\"\",\"\",'TD Siniestros_'!H55)","v":0.13313356406293034}]
[null,{"$f":"IF('TD Siniestros_'!A56=\"\",\"\",'TD Siniestros_'!A56)","v":49},{"$f":"IF('TD Siniestros_'!B56=\"\",\"\",'TD Siniestros_'!B56)","v":"BBVA Bancomer Salud"},{"$f":"IF('TD Siniestros_'!C56=\"\",\"\",'TD Siniestros_'!C56)","v":715689.00641000003},{"$f":"IF('TD Siniestros_'!D56=\"\",\"\",'TD Siniestros_'!D56)","v":-1.3289901808228088},{"$f":"IF('TD Siniestros_'!E56=\"\",\"\",'TD Siniestros_'!E56)","v":0},{"$f":"IF('TD Siniestros_'!F56=\"\",\"\",'TD Siniestros_'!F56)","v":73.625917169447064},{"$f":"IF('TD Siniestros_'!G56=\"\",\"\",'TD Siniestros_'!G56)","v":60.897436962787474},{"$f":"IF('TD Siniestros_'!H56=\"\",\"\",'TD Siniestros_'!H56)","v":0.17357213017171647}]
[null,{"$f":"IF('TD Siniestros_'!A57=\"\",\"\",'TD Siniestros_'!A57)","v":50},{"$f":"IF('TD Siniestros_'!B57=\"\",\"\",'TD Siniestros_'!B57)","v":"Pan-American México"},{"$f":"IF('TD Siniestros_'!C57=\"\",\"\",'TD Siniestros_'!C57)","v":521869.18918999995},{"$f":"IF('TD Siniestros_'!D57=\"\",\"\",'TD Siniestros_'!D57)","v":-13.813302311425701},{"$f":"IF('TD Siniestros_'!E57=\"\",\"\",'TD Siniestros_'!E57)","v":11078.403279999999},{"$f":"IF('TD Siniestros_'!F57=\"\",\"\",'TD Siniestros_'!F57)","v":54.720167172940414},{"$f":"IF('TD Siniestros_'!G57=\"\",\"\",'TD Siniestros_'!G57)","v":78.690470573558642},{"$f":"IF('TD Siniestros_'!H57=\"\",\"\",'TD Siniestros_'!H57)","v":0.12656607273187973}]
[null,{"$f":"IF('TD Siniestros_'!A58=\"\",\"\",'TD Siniestros_'!A58)","v":51},{"$f":"IF('TD Siniestros_'!B58=\"\",\"\",'TD Siniestros_'!B58)","v":"Atradius"},{"$f":"IF('TD Siniestros_'!C58=\"\",\"\",'TD Siniestros_'!C58)","v":181850.31085000001},{"$f":"IF('TD Siniestros_'!D58=\"\",\"\",'TD Siniestros_'!D58)","v":1476.5614788062094},{"$f":"IF('TD Siniestros_'!E58=\"\",\"\",'TD Siniestros_'!E58)","v":19191.945},{"$f":"IF('TD Siniestros_'!F58=\"\",\"\",'TD Siniestros_'!F58)","v":22.486218388567824},{"$f":"IF('TD Siniestros_'!G58=\"\",\"\",'TD Siniestros_'!G58)","v":1.8549142101333409},{"$f":"IF('TD Siniestros_'!H58=\"\",\"\",'TD Siniestros_'!H58)","v":4.4103158695916883E-2}]
[null,{"$f":"IF('TD Siniestros_'!A59=\"\",\"\",'TD Siniestros_'!A59)","v":52},{"$f":"IF('TD Siniestros_'!B59=\"\",\"\",'TD Siniestros_'!B59)","v":"Sompo Japan"},{"$f":"IF('TD Siniestros_'!C59=\"\",\"\",'TD Siniestros_'!C59)","v":29032.571579999996},{"$f":"IF('TD Siniestros_'!D59=\"\",\"\",'TD Siniestros_'!D59)","v":-86.982122467020645},{"$f":"IF('TD Siniestros_'!E59=\"\",\"\",'TD Siniestros_'!E59)","v":9.4211000000000009},{"$f":"IF('TD Siniestros_'!F59=\"\",\"\",'TD Siniestros_'!F59)","v":4.1460568292242517},{"$f":"IF('TD Siniestros_'!G59=\"\",\"\",'TD Siniestros_'!G59)","v":36.810386932366718},{"$f":"IF('TD Siniestros_'!H59=\"\",\"\",'TD Siniestros_'!H59)","v":7.0411103822608954E-3}]
[null,{"$f":"IF('TD Siniestros_'!A60=\"\",\"\",'TD Siniestros_'!A60)","v":53},{"$f":"IF('TD Siniestros_'!B60=\"\",\"\",'TD Siniestros_'!B60)","v":"Solunion Crédito"},{"$f":"IF('TD Siniestros_'!C60=\"\",\"\",'TD Siniestros_'!C60)","v":142452.92807000002},{"$f":"IF('TD Siniestros_'!D60=\"\",\"\",'TD Siniestros_'!D60)","v":-38.974430745315445},{"$f":"IF('TD Siniestros_'!E60=\"\",\"\",'TD Siniestros_'!E60)","v":733.84481999999991},{"$f":"IF('TD Siniestros_'!F60=\"\",\"\",'TD Siniestros_'!F60)","v":21.104123773858745},{"$f":"IF('TD Siniestros_'!G60=\"\",\"\",'TD Siniestros_'!G60)","v":43.303701113148946},{"$f":"IF('TD Siniestros_'!H60=\"\",\"\",'TD Siniestros_'!H60)","v":3.4548327489808323E-2}]
[null,{"$f":"IF('TD Siniestros_'!A61=\"\",\"\",'TD Siniestros_'!A61)","v":54},{"$f":"IF('TD Siniestros_'!B61=\"\",\"\",'TD Siniestros_'!B61)","v":"Swiss Re Corporate Solutions"},{"$f":"IF('TD Siniestros_'!C61=\"\",\"\",'TD Siniestros_'!C61)","v":34790.268200000006},{"$f":"IF('TD Siniestros_'!D61=\"\",\"\",'TD Siniestros_'!D61)","v":-248.24333382883469},{"$f":"IF('TD Siniestros_'!E61=\"\",\"\",'TD Siniestros_'!E61)","v":-293.24920000000009},{"$f":"IF('TD Siniestros_'!F61=\"\",\"\",'TD Siniestros_'!F61)","v":5.1715886083797686},{"$f":"IF('TD Siniestros_'!G61=\"\",\"\",'TD Siniestros_'!G61)","v":-7.3915201497928278},{"$f":"IF('TD Siniestros_'!H61=\"\",\"\",'TD Siniestros_'!H61)","v":8.4374929705989601E-3}]
[null,{"$f":"IF('TD Siniestros_'!A62=\"\",\"\",'TD Siniestros_'!A62)","v":55},{"$f":"IF('TD Siniestros_'!B62=\"\",\"\",'TD Siniestros_'!B62)","v":"Berkley Seguros"},{"$f":"IF('TD Siniestros_'!C62=\"\",\"\",'TD Siniestros_'!C62)","v":412985.07958000008},{"$f":"IF('TD Siniestros_'!D62=\"\",\"\",'TD Siniestros_'!D62)","v":146.53625746875232},{"$f":"IF('TD Siniestros_'!E62=\"\",\"\",'TD Siniestros_'!E62)","v":2418.8379399999999},{"$f":"IF('TD Siniestros_'!F62=\"\",\"\",'TD Siniestros_'!F62)","v":64.928948103689024},{"$f":"IF('TD Siniestros_'!G62=\"\",\"\",'TD Siniestros_'!G62)","v":36.024530667953584},{"$f":"IF('TD Siniestros_'!H62=\"\",\"\",'TD Siniestros_'!H62)","v":0.10015900670517112}]
[null,{"$f":"IF('TD Siniestros_'!A63=\"\",\"\",'TD Siniestros_'!A63)","v":56},{"$f":"IF('TD Siniestros_'!B63=\"\",\"\",'TD Siniestros_'!B63)","v":"PREVEM Seguros"},{"$f":"IF('TD Siniestros_'!C63=\"\",\"\",'TD Siniestros_'!C63)","v":355377.57276000007},{"$f":"IF('TD Siniestros_'!D63=\"\",\"\",'TD Siniestros_'!D63)","v":39.632691822837216},{"$f":"IF('TD Siniestros_'!E63=\"\",\"\",'TD Siniestros_'!E63)","v":0},{"$f":"IF('TD Siniestros_'!F63=\"\",\"\",'TD Siniestros_'!F63)","v":61.186440708665437},{"$f":"IF('TD Siniestros_'!G63=\"\",\"\",'TD Siniestros_'!G63)","v":51.32703378828851},{"$f":"IF('TD Siniestros_'!H63=\"\",\"\",'TD Siniestros_'!H63)","v":8.6187773972694476E-2}]
[null,{"$f":"IF('TD Siniestros_'!A64=\"\",\"\",'TD Siniestros_'!A64)","v":57},{"$f":"IF('TD Siniestros_'!B64=\"\",\"\",'TD Siniestros_'!B64)","v":"Patrimonial Inbursa"},{"$f":"IF('TD Siniestros_'!C64=\"\",\"\",'TD Siniestros_'!C64)","v":61401.306289999993},{"$f":"IF('TD Siniestros_'!D64=\"\",\"\",'TD Siniestros_'!D64)","v":-68.214341672493632},{"$f":"IF('TD Siniestros_'!E64=\"\",\"\",'TD Siniestros_'!E64)","v":0},{"$f":"IF('TD Siniestros_'!F64=\"\",\"\",'TD Siniestros_'!F64)","v":10.67058582821798},{"$f":"IF('TD Siniestros_'!G64=\"\",\"\",'TD Siniestros_'!G64)","v":30.50713462423132},{"$f":"IF('TD Siniestros_'!H64=\"\",\"\",'TD Siniestros_'!H64)","v":1.4891322114253449E-2}]
[null,{"$f":"IF('TD Siniestros_'!A65=\"\",\"\",'TD Siniestros_'!A65)","v":58},{"$f":"IF('TD Siniestros_'!B65=\"\",\"\",'TD Siniestros_'!B65)","v":"AXA Salud"},{"$f":"IF('TD Siniestros_'!C65=\"\",\"\",'TD Siniestros_'!C65)","v":523388.0101500001},{"$f":"IF('TD Siniestros_'!D65=\"\",\"\",'TD Siniestros_'!D65)","v":14.902125627042452},{"$f":"IF('TD Siniestros_'!E65=\"\",\"\",'TD Siniestros_'!E65)","v":0},{"$f":"IF('TD Siniestros_'!F65=\"\",\"\",'TD Siniestros_'!F65)","v":91.214868075561043},{"$f":"IF('TD Siniestros_'!G65=\"\",\"\",'TD Siniestros_'!G65)","v":278.14080396697841},{"$f":"IF('TD Siniestros_'!H65=\"\",\"\",'TD Siniestros_'!H65)","v":0.12693442405070055}]
[null,{"$f":"IF('TD Siniestros_'!A66=\"\",\"\",'TD Siniestros_'!A66)","v":59},{"$f":"IF('TD Siniestros_'!B66=\"\",\"\",'TD Siniestros_'!B66)","v":"Dentegra"},{"$f":"IF('TD Siniestros_'!C66=\"\",\"\",'TD Siniestros_'!C66)","v":165464.52375999998},{"$f":"IF('TD Siniestros_'!D66=\"\",\"\",'TD Siniestros_'!D66)","v":19.595434546599797},{"$f":"IF('TD Siniestros_'!E66=\"\",\"\",'TD Siniestros_'!E66)","v":53.536449999999995},{"$f":"IF('TD Siniestros_'!F66=\"\",\"\",'TD Siniestros_'!F66)","v":32.695989768174513},{"$f":"IF('TD Siniestros_'!G66=\"\",\"\",'TD Siniestros_'!G66)","v":30.751400119083588},{"$f":"IF('TD Siniestros_'!H66=\"\",\"\",'TD Siniestros_'!H66)","v":4.0129203606096495E-2}]
[null,{"$f":"IF('TD Siniestros_'!A67=\"\",\"\",'TD Siniestros_'!A67)","v":60},{"$f":"IF('TD Siniestros_'!B67=\"\",\"\",'TD Siniestros_'!B67)","v":"Skandia Life"},{"$f":"IF('TD Siniestros_'!C67=\"\",\"\",'TD Siniestros_'!C67)","v":66540.004449999993},{"$f":"IF('TD Siniestros_'!D67=\"\",\"\",'TD Siniestros_'!D67)","v":-9.1288208463990994E-2},{"$f":"IF('TD Siniestros_'!E67=\"\",\"\",'TD Siniestros_'!E67)","v":0},{"$f":"IF('TD Siniestros_'!F67=\"\",\"\",'TD Siniestros_'!F67)","v":14.881086651336824},{"$f":"IF('TD Siniestros_'!G67=\"\",\"\",'TD Siniestros_'!G67)","v":15.599255909962991},{"$f":"IF('TD Siniestros_'!H67=\"\",\"\",'TD Siniestros_'!H67)","v":1.6137582400428244E-2}]
[null,{"$f":"IF('TD Siniestros_'!A68=\"\",\"\",'TD Siniestros_'!A68)","v":61},{"$f":"IF('TD Siniestros_'!B68=\"\",\"\",'TD Siniestros_'!B68)","v":"Coface"},{"$f":"IF('TD Siniestros_'!C68=\"\",\"\",'TD Siniestros_'!C68)","v":46682.784039999999},{"$f":"IF('TD Siniestros_'!D68=\"\",\"\",'TD Siniestros_'!D68)","v":243.40014759205516},{"$f":"IF('TD Siniestros_'!E68=\"\",\"\",'TD Siniestros_'!E68)","v":13239.2675},{"$f":"IF('TD Siniestros_'!F68=\"\",\"\",'TD Siniestros_'!F68)","v":12.107048067434111},{"$f":"IF('TD Siniestros_'!G68=\"\",\"\",'TD Siniestros_'!G68)","v":4.1143033846339998},{"$f":"IF('TD Siniestros_'!H68=\"\",\"\",'TD Siniestros_'!H68)","v":1.1321719623463244E-2}]
[null,{"$f":"IF('TD Siniestros_'!A69=\"\",\"\",'TD Siniestros_'!A69)","v":62},{"$f":"IF('TD Siniestros_'!B69=\"\",\"\",'TD Siniestros_'!B69)","v":"SHF Cred Vivienda"},{"$f":"IF('TD Siniestros_'!C69=\"\",\"\",'TD Siniestros_'!C69)","v":64047.909359999998},{"$f":"IF('TD Siniestros_'!D69=\"\",\"\",'TD Siniestros_'!D69)","v":-158.79339886023817},{"$f":"IF('TD Siniestros_'!E69=\"\",\"\",'TD Siniestros_'!E69)","v":0},{"$f":"IF('TD Siniestros_'!F69=\"\",\"\",'TD Siniestros_'!F69)","v":16.914945030861119},{"$f":"IF('TD Siniestros_'!G69=\"\",\"\",'TD Siniestros_'!G69)","v":-25.967428824345234},{"$f":"IF('TD Siniestros_'!H69=\"\",\"\",'TD Siniestros_'!H69)","v":1.5533188243905496E-2}]
[null,{"$f":"IF('TD Siniestros_'!A70=\"\",\"\",'TD Siniestros_'!A70)","v":63},{"$f":"IF('TD Siniestros_'!B70=\"\",\"\",'TD Siniestros_'!B70)","v":"MediAccess"},{"$f":"IF('TD Siniestros_'!C70=\"\",\"\",'TD Siniestros_'!C70)","v":143738.29771000001},{"$f":"IF('TD Siniestros_'!D70=\"\",\"\",'TD Siniestros_'!D70)","v":5.1114959617087008},{"$f":"IF('TD Siniestros_'!E70=\"\",\"\",'TD Siniestros_'!E70)","v":0},{"$f":"IF('TD Siniestros_'!F70=\"\",\"\",'TD Siniestros_'!F70)","v":50.021505667166188},{"$f":"IF('TD Siniestros_'!G70=\"\",\"\",'TD Siniestros_'!G70)","v":61.52235207251293},{"$f":"IF('TD Siniestros_'!H70=\"\",\"\",'TD Siniestros_'!H70)","v":3.4860061140143367E-2}]
[null,{"$f":"IF('TD Siniestros_'!A71=\"\",\"\",'TD Siniestros_'!A71)","v":64},{"$f":"IF('TD Siniestros_'!B71=\"\",\"\",'TD Siniestros_'!B71)","v":"Patrimonial Daños"},{"$f":"IF('TD Siniestros_'!C71=\"\",\"\",'TD Siniestros_'!C71)","v":41259.521149999993},{"$f":"IF('TD Siniestros_'!D71=\"\",\"\",'TD Siniestros_'!D71)","v":-20.87175369837977},{"$f":"IF('TD Siniestros_'!E71=\"\",\"\",'TD Siniestros_'!E71)","v":0},{"$f":"IF('TD Siniestros_'!F71=\"\",\"\",'TD Siniestros_'!F71)","v":14.478399574140678},{"$f":"IF('TD Siniestros_'!G71=\"\",\"\",'TD Siniestros_'!G71)","v":30.172641285293583},{"$f":"IF('TD Siniestros_'!H71=\"\",\"\",'TD Siniestros_'!H71)","v":1.0006445413760966E-2}]
[null,{"$f":"IF('TD Siniestros_'!A72=\"\",\"\",'TD Siniestros_'!A72)","v":65},{"$f":"IF('TD Siniestros_'!B72=\"\",\"\",'TD Siniestros_'!B72)","v":"Assurant Daños"},{"$f":"IF('TD Siniestros_'!C72=\"\",\"\",'TD Siniestros_'!C72)","v":62642.315240000004},{"$f":"IF('TD Siniestros_'!D72=\"\",\"\",'TD Siniestros_'!D72)","v":12.582810050090899},{"$f":"IF('TD Siniestros_'!E72=\"\",\"\",'TD Siniestros_'!E72)","v":511.87678000000005},{"$f":"IF('TD Siniestros_'!F72=\"\",\"\",'TD Siniestros_'!F72)","v":32.115002479613622},{"$f":"IF('TD Siniestros_'!G72=\"\",\"\",'TD Siniestros_'!G72)","v":31.655677210257661},{"$f":"IF('TD Siniestros_'!H72=\"\",\"\",'TD Siniestros_'!H72)","v":1.519229720969912E-2}]
[null,{"$f":"IF('TD Siniestros_'!A73=\"\",\"\",'TD Siniestros_'!A73)","v":66},{"$f":"IF('TD Siniestros_'!B73=\"\",\"\",'TD Siniestros_'!B73)","v":"Centauro"},{"$f":"IF('TD Siniestros_'!C73=\"\",\"\",'TD Siniestros_'!C73)","v":94180.369840000014},{"$f":"IF('TD Siniestros_'!D73=\"\",\"\",'TD Siniestros_'!D73)","v":25.658914141938638},{"$f":"IF('TD Siniestros_'!E73=\"\",\"\",'TD Siniestros_'!E73)","v":-38.20543},{"$f":"IF('TD Siniestros_'!F73=\"\",\"\",'TD Siniestros_'!F73)","v":51.445196769075174},{"$f":"IF('TD Siniestros_'!G73=\"\",\"\",'TD Siniestros_'!G73)","v":46.305121566890286},{"$f":"IF('TD Siniestros_'!H73=\"\",\"\",'TD Siniestros_'!H73)","v":2.2841048649731605E-2}]
[null,{"$f":"IF('TD Siniestros_'!A74=\"\",\"\",'TD Siniestros_'!A74)","v":67},{"$f":"IF('TD Siniestros_'!B74=\"\",\"\",'TD Siniestros_'!B74)","v":"Tláloc Seguros"},{"$f":"IF('TD Siniestros_'!C74=\"\",\"\",'TD Siniestros_'!C74)","v":74814.19031000002},{"$f":"IF('TD Siniestros_'!D74=\"\",\"\",'TD Siniestros_'!D74)","v":-21.161031831741596},{"$f":"IF('TD Siniestros_'!E74=\"\",\"\",'TD Siniestros_'!E74)","v":0},{"$f":"IF('TD Siniestros_'!F74=\"\",\"\",'TD Siniestros_'!F74)","v":65.220028285122225},{"$f":"IF('TD Siniestros_'!G74=\"\",\"\",'TD Siniestros_'!G74)","v":77.344466649618681},{"$f":"IF('TD Siniestros_'!H74=\"\",\"\",'TD Siniestros_'!H74)","v":1.8144275324720776E-2}]
[null,{"$f":"IF('TD Siniestros_'!A75=\"\",\"\",'TD Siniestros_'!A75)","v":68},{"$f":"IF('TD Siniestros_'!B75=\"\",\"\",'TD Siniestros_'!B75)","v":"Virginia Surety"},{"$f":"IF('TD Siniestros_'!C75=\"\",\"\",'TD Siniestros_'!C75)","v":28969.155190000001},{"$f":"IF('TD Siniestros_'!D75=\"\",\"\",'TD Siniestros_'!D75)","v":104.21531430967067},{"$f":"IF('TD Siniestros_'!E75=\"\",\"\",'TD Siniestros_'!E75)","v":0},{"$f":"IF('TD Siniestros_'!F75=\"\",\"\",'TD Siniestros_'!F75)","v":26.624834154889328},{"$f":"IF('TD Siniestros_'!G75=\"\",\"\",'TD Siniestros_'!G75)","v":19.920640009713981},{"$f":"IF('TD Siniestros_'!H75=\"\",\"\",'TD Siniestros_'!H75)","v":7.0257303529443716E-3}]
[null,{"$f":"IF('TD Siniestros_'!A76=\"\",\"\",'TD Siniestros_'!A76)","v":69},{"$f":"IF('TD Siniestros_'!B76=\"\",\"\",'TD Siniestros_'!B76)","v":"Odontoprev"},{"$f":"IF('TD Siniestros_'!C76=\"\",\"\",'TD Siniestros_'!C76)","v":21827.24595},{"$f":"IF('TD Siniestros_'!D76=\"\",\"\",'TD Siniestros_'!D76)","v":22.022712214389518},{"$f":"IF('TD Siniestros_'!E76=\"\",\"\",'TD Siniestros_'!E76)","v":0},{"$f":"IF('TD Siniestros_'!F76=\"\",\"\",'TD Siniestros_'!F76)","v":26.84632873870833},{"$f":"IF('TD Siniestros_'!G76=\"\",\"\",'TD Siniestros_'!G76)","v":23.232811382818621},{"$f":"IF('TD Siniestros_'!H76=\"\",\"\",'TD Siniestros_'!H76)","v":5.2936422683473186E-3}]
[null,{"$f":"IF('TD Siniestros_'!A77=\"\",\"\",'TD Siniestros_'!A77)","v":70},{"$f":"IF('TD Siniestros_'!B77=\"\",\"\",'TD Siniestros_'!B77)","v":"Genworth Seg. de Crédito"},{"$f":"IF('TD Siniestros_'!C77=\"\",\"\",'TD Siniestros_'!C77)","v":11744.406199999999},{"$f":"IF('TD Siniestros_'!D77=\"\",\"\",'TD Siniestros_'!D77)","v":-243.29019271556888},{"$f":"IF('TD Siniestros_'!E77=\"\",\"\",'TD Siniestros_'!E77)","v":0},{"$f":"IF('TD Siniestros_'!F77=\"\",\"\",'TD Siniestros_'!F77)","v":16.691019394095754},{"$f":"IF('TD Siniestros_'!G77=\"\",\"\",'TD Siniestros_'!G77)","v":-12.434347259341139},{"$f":"IF('TD Siniestros_'!H77=\"\",\"\",'TD Siniestros_'!H77)","v":2.8483064340492441E-3}]
[null,{"$f":"IF('TD Siniestros_'!A78=\"\",\"\",'TD Siniestros_'!A78)","v":71},{"$f":"IF('TD Siniestros_'!B78=\"\",\"\",'TD Siniestros_'!B78)","v":"Crabi"},{"$f":"IF('TD Siniestros_'!C78=\"\",\"\",'TD Siniestros_'!C78)","v":34438.83939999999},{"$f":"IF('TD Siniestros_'!D78=\"\",\"\",'TD Siniestros_'!D78)","v":-17.993897575499197},{"$f":"IF('TD Siniestros_'!E78=\"\",\"\",'TD Siniestros_'!E78)","v":0},{"$f":"IF('TD Siniestros_'!F78=\"\",\"\",'TD Siniestros_'!F78)","v":93.993976851849425},{"$f":"IF('TD Siniestros_'!G78=\"\",\"\",'TD Siniestros_'!G78)","v":103.58088239010156},{"$f":"IF('TD Siniestros_'!H78=\"\",\"\",'TD Siniestros_'!H78)","v":8.3522628708302508E-3}]
[null,{"$f":"IF('TD Siniestros_'!A79=\"\",\"\",'TD Siniestros_'!A79)","v":72},{"$f":"IF('TD Siniestros_'!B79=\"\",\"\",'TD Siniestros_'!B79)","v":"SPT"},{"$f":"IF('TD Siniestros_'!C79=\"\",\"\",'TD Siniestros_'!C79)","v":21183.371439999999},{"$f":"IF('TD Siniestros_'!D79=\"\",\"\",'TD Siniestros_'!D79)","v":""},{"$f":"IF('TD Siniestros_'!E79=\"\",\"\",'TD Siniestros_'!E79)","v":0},{"$f":"IF('TD Siniestros_'!F79=\"\",\"\",'TD Siniestros_'!F79)","v":68.007555452670232},{"$f":"IF('TD Siniestros_'!G79=\"\",\"\",'TD Siniestros_'!G79)","v":""},{"$f":"IF('TD Siniestros_'!H79=\"\",\"\",'TD Siniestros_'!H79)","v":5.13748691418788E-3}]
[null,{"$f":"IF('TD Siniestros_'!A80=\"\",\"\",'TD Siniestros_'!A80)","v":73},{"$f":"IF('TD Siniestros_'!B80=\"\",\"\",'TD Siniestros_'!B80)","v":"Metlife Más"},{"$f":"IF('TD Siniestros_'!C80=\"\",\"\",'TD Siniestros_'!C80)","v":2858.59672},{"$f":"IF('TD Siniestros_'!D80=\"\",\"\",'TD Siniestros_'!D80)","v":234.91330127873741},{"$f":"IF('TD Siniestros_'!E80=\"\",\"\",'TD Siniestros_'!E80)","v":0},{"$f":"IF('TD Siniestros_'!F80=\"\",\"\",'TD Siniestros_'!F80)","v":9.4736550709284959},{"$f":"IF('TD Siniestros_'!G80=\"\",\"\",'TD Siniestros_'!G80)","v":2.7449171955978939},{"$f":"IF('TD Siniestros_'!H80=\"\",\"\",'TD Siniestros_'!H80)","v":6.9327978709796893E-4}]
[null,{"$f":"IF('TD Siniestros_'!A81=\"\",\"\",'TD Siniestros_'!A81)","v":74},{"$f":"IF('TD Siniestros_'!B81=\"\",\"\",'TD Siniestros_'!B81)","v":"Citibanamex Pensiones"},{"$f":"IF('TD Siniestros_'!C81=\"\",\"\",'TD Siniestros_'!C81)","v":762473.81987999973},{"$f":"IF('TD Siniestros_'!D81=\"\",\"\",'TD Siniestros_'!D81)","v":4.5733609201181302},{"$f":"IF('TD Siniestros_'!E81=\"\",\"\",'TD Siniestros_'!E81)","v":0},{"$f":"IF('TD Siniestros_'!F81=\"\",\"\",'TD Siniestros_'!F81)","v":3605.1690662389469},{"$f":"IF('TD Siniestros_'!G81=\"\",\"\",'TD Siniestros_'!G81)","v":6024.7946932590448},{"$f":"IF('TD Siniestros_'!H81=\"\",\"\",'TD Siniestros_'!H81)","v":0.18491859443334888}]
[null,{"$f":"IF('TD Siniestros_'!A82=\"\",\"\",'TD Siniestros_'!A82)","v":75},{"$f":"IF('TD Siniestros_'!B82=\"\",\"\",'TD Siniestros_'!B82)","v":"Metlife Pensiones"},{"$f":"IF('TD Siniestros_'!C82=\"\",\"\",'TD Siniestros_'!C82)","v":351445.4143},{"$f":"IF('TD Siniestros_'!D82=\"\",\"\",'TD Siniestros_'!D82)","v":5.8708452229715213},{"$f":"IF('TD Siniestros_'!E82=\"\",\"\",'TD Siniestros_'!E82)","v":0},{"$f":"IF('TD Siniestros_'!F82=\"\",\"\",'TD Siniestros_'!F82)","v":1717.5983847852756},{"$f":"IF('TD Siniestros_'!G82=\"\",\"\",'TD Siniestros_'!G82)","v":2075.2678572611358},{"$f":"IF('TD Siniestros_'!H82=\"\",\"\",'TD Siniestros_'!H82)","v":8.5234129143778453E-2}]
[null,{"$f":"IF('TD Siniestros_'!A83=\"\",\"\",'TD Siniestros_'!A83)","v":76},{"$f":"IF('TD Siniestros_'!B83=\"\",\"\",'TD Siniestros_'!B83)","v":"SIS NOVA"},{"$f":"IF('TD Siniestros_'!C83=\"\",\"\",'TD Siniestros_'!C83)","v":130897.27331999998},{"$f":"IF('TD Siniestros_'!D83=\"\",\"\",'TD Siniestros_'!D83)","v":-84.668289919145749},{"$f":"IF('TD Siniestros_'!E83=\"\",\"\",'TD Siniestros_'!E83)","v":0},{"$f":"IF('TD Siniestros_'!F83=\"\",\"\",'TD Siniestros_'!F83)","v":707.29965103782968},{"$f":"IF('TD Siniestros_'!G83=\"\",\"\",'TD Siniestros_'!G83)","v":90.90870398194356},{"$f":"IF('TD Siniestros_'!H83=\"\",\"\",'TD Siniestros_'!H83)","v":3.174579790988994E-2}]
[null,{"$f":"IF('TD Siniestros_'!A84=\"\",\"\",'TD Siniestros_'!A84)","v":77},{"$f":"IF('TD Siniestros_'!B84=\"\",\"\",'TD Siniestros_'!B84)","v":"Pensiones Inbursa"},{"$f":"IF('TD Siniestros_'!C84=\"\",\"\",'TD Siniestros_'!C84)","v":24422.157459999999},{"$f":"IF('TD Siniestros_'!D84=\"\",\"\",'TD Siniestros_'!D84)","v":5.1574159595634494},{"$f":"IF('TD Siniestros_'!E84=\"\",\"\",'TD Siniestros_'!E84)","v":0},{"$f":"IF('TD Siniestros_'!F84=\"\",\"\",'TD Siniestros_'!F84)","v":1842.9375788871919},{"$f":"IF('TD Siniestros_'!G84=\"\",\"\",'TD Siniestros_'!G84)","v":4354.9758066896393},{"$f":"IF('TD Siniestros_'!H84=\"\",\"\",'TD Siniestros_'!H84)","v":5.9229719274084495E-3}]
[null,{"$f":"IF('TD Siniestros_'!A85=\"\",\"\",'TD Siniestros_'!A85)","v":78},{"$f":"IF('TD Siniestros_'!B85=\"\",\"\",'TD Siniestros_'!B85)","v":"Aserta Seguros de Vida"},{"$f":"IF('TD Siniestros_'!C85=\"\",\"\",'TD Siniestros_'!C85)","v":23923.406010000006},{"$f":"IF('TD Siniestros_'!D85=\"\",\"\",'TD Siniestros_'!D85)","v":-93.921712500994175},{"$f":"IF('TD Siniestros_'!E85=\"\",\"\",'TD Siniestros_'!E85)","v":0},{"$f":"IF('TD Siniestros_'!F85=\"\",\"\",'TD Siniestros_'!F85)","v":4010.9926477504209},{"$f":"IF('TD Siniestros_'!G85=\"\",\"\",'TD Siniestros_'!G85)","v":228.09493158283365},{"$f":"IF('TD Siniestros_'!H85=\"\",\"\",'TD Siniestros_'!H85)","v":5.8020124731938665E-3}]
[null,{"$f":"IF('TD Siniestros_'!A86=\"\",\"\",'TD Siniestros_'!A86)","v":79},{"$f":"IF('TD Siniestros_'!B86=\"\",\"\",'TD Siniestros_'!B86)","v":"Principal México"},{"$f":"IF('TD Siniestros_'!C86=\"\",\"\",'TD Siniestros_'!C86)","v":0},{"$f":"IF('TD Siniestros_'!D86=\"\",\"\",'TD Siniestros_'!D86)","v":""},{"$f":"IF('TD Siniestros_'!E86=\"\",\"\",'TD Siniestros_'!E86)","v":0},{"$f":"IF('TD Siniestros_'!F86=\"\",\"\",'TD Siniestros_'!F86)","v":""},{"$f":"IF('TD Siniestros_'!G86=\"\",\"\",'TD Siniestros_'!G86)","v":""},{"$f":"IF('TD Siniestros_'!H86=\"\",\"\",'TD Siniestros_'!H86)","v":""}]
[null,{"$f":"IF('TD Siniestros_'!A87=\"\",\"\",'TD Siniestros_'!A87)","v":79},{"$f":"IF('TD Siniestros_'!B87=\"\",\"\",'TD Siniestros_'!B87)","v":"Zurich Daños"},{"$f":"IF('TD Siniestros_'!C87=\"\",\"\",'TD Siniestros_'!C87)","v":-2.0000003362441454E-5},{"$f":"IF('TD Siniestros_'!D87=\"\",\"\",'TD Siniestros_'!D87)","v":-100.00000000042222},{"$f":"IF('TD Siniestros_'!E87=\"\",\"\",'TD Siniestros_'!E87)","v":0},{"$f":"IF('TD Siniestros_'!F87=\"\",\"\",'TD Siniestros_'!F87)","v":""},{"$f":"IF('TD Siniestros_'!G87=\"\",\"\",'TD Siniestros_'!G87)","v":65.937237807967321},{"$f":"IF('TD Siniestros_'!H87=\"\",\"\",'TD Siniestros_'!H87)","v":-4.850491143455896E-12}]
[null,{"$f":"IF('TD Siniestros_'!A88=\"\",\"\",'TD Siniestros_'!A88)","v":79},{"$f":"IF('TD Siniestros_'!B88=\"\",\"\",'TD Siniestros_'!B88)","v":"Zurich Vida"},{"$f":"IF('TD Siniestros_'!C88=\"\",\"\",'TD Siniestros_'!C88)","v":0},{"$f":"IF('TD Siniestros_'!D88=\"\",\"\",'TD Siniestros_'!D88)","v":""},{"$f":"IF('TD Siniestros_'!E88=\"\",\"\",'TD Siniestros_'!E88)","v":0},{"$f":"IF('TD Siniestros_'!F88=\"\",\"\",'TD Siniestros_'!F88)","v":""},{"$f":"IF('TD Siniestros_'!G88=\"\",\"\",'TD Siniestros_'!G88)","v":""},{"$f":"IF('TD Siniestros_'!H88=\"\",\"\",'TD Siniestros_'!H88)","v":""}]
[null,{"$f":"IF('TD Siniestros_'!A89=\"\",\"\",'TD Siniestros_'!A89)","v":150.1},{"$f":"IF('TD Siniestros_'!B89=\"\",\"\",'TD Siniestros_'!B89)","v":"TOTAL RESTO"},{"$f":"IF('TD Siniestros_'!C89=\"\",\"\",'TD Siniestros_'!C89)","v":76365314.551970005},{"$f":"IF('TD Siniestros_'!D89=\"\",\"\",'TD Siniestros_'!D89)","v":3.3377650470283848},{"$f":"IF('TD Siniestros_'!E89=\"\",\"\",'TD Siniestros_'!E89)","v":652909.08519000001},{"$f":"IF('TD Siniestros_'!F89=\"\",\"\",'TD Siniestros_'!F89)","v":50.948289029914271},{"$f":"IF('TD Siniestros_'!G89=\"\",\"\",'TD Siniestros_'!G89)","v":53.253176953152789},{"$f":"IF('TD Siniestros_'!H89=\"\",\"\",'TD Siniestros_'!H89)","v":18.520460981379422}]
[null,{"$f":"IF('TD Siniestros_'!A90=\"\",\"\",'TD Siniestros_'!A90)","v":200},{"$f":"IF('TD Siniestros_'!B90=\"\",\"\",'TD Siniestros_'!B90)","v":"Patria"},{"$f":"IF('TD Siniestros_'!C90=\"\",\"\",'TD Siniestros_'!C90)","v":0},{"$f":"IF('TD Siniestros_'!D90=\"\",\"\",'TD Siniestros_'!D90)","v":""},{"$f":"IF('TD Siniestros_'!E90=\"\",\"\",'TD Siniestros_'!E90)","v":0},{"$f":"IF('TD Siniestros_'!F90=\"\",\"\",'TD Siniestros_'!F90)","v":""},{"$f":"IF('TD Siniestros_'!G90=\"\",\"\",'TD Siniestros_'!G90)","v":""},{"$f":"IF('TD Siniestros_'!H90=\"\",\"\",'TD Siniestros_'!H90)","v":""}]
[null,{"$f":"IF('TD Siniestros_'!A91=\"\",\"\",'TD Siniestros_'!A91)","v":201.1},{"$f":"IF('TD Siniestros_'!B91=\"\",\"\",'TD Siniestros_'!B91)","v":"TOTAL"},{"$f":"IF('TD Siniestros_'!C91=\"\",\"\",'TD Siniestros_'!C91)","v":412329448.11011004},{"$f":"IF('TD Siniestros_'!D91=\"\",\"\",'TD Siniestros_'!D91)","v":3.1569994371409615},{"$f":"IF('TD Siniestros_'!E91=\"\",\"\",'TD Siniestros_'!E91)","v":2425971.5861499999},{"$f":"IF('TD Siniestros_'!F91=\"\",\"\",'TD Siniestros_'!F91)","v":61.824047865650087},{"$f":"IF('TD Siniestros_'!G91=\"\",\"\",'TD Siniestros_'!G91)","v":63.105849336373701},{"$f":"IF('TD Siniestros_'!H91=\"\",\"\",'TD Siniestros_'!H91)","v":100.00000000000004}]
[null,{"$f":"IF('TD Siniestros_'!A92=\"\",\"\",'TD Siniestros_'!A92)","v":""},{"$f":"IF('TD Siniestros_'!B92=\"\",\"\",'TD Siniestros_'!B92)","v":""},{"$f":"IF('TD Siniestros_'!C92=\"\",\"\",'TD Siniestros_'!C92)","v":""},{"$f":"IF('TD Siniestros_'!D92=\"\",\"\",'TD Siniestros_'!D92)","v":""},{"$f":"IF('TD Siniestros_'!E92=\"\",\"\",'TD Siniestros_'!E92)","v":""},{"$f":"IF('TD Siniestros_'!F92=\"\",\"\",'TD Siniestros_'!F92)","v":""},{"$f":"IF('TD Siniestros_'!G92=\"\",\"\",'TD Siniestros_'!G92)","v":""},{"$f":"IF('TD Siniestros_'!H92=\"\",\"\",'TD Siniestros_'!H92)","v":""}]
[null,{"$f":"IF('TD Siniestros_'!A93=\"\",\"\",'TD Siniestros_'!A93)","v":""},{"$f":"IF('TD Siniestros_'!B93=\"\",\"\",'TD Siniestros_'!B93)","v":""},{"$f":"IF('TD Siniestros_'!C93=\"\",\"\",'TD Siniestros_'!C93)","v":""},{"$f":"IF('TD Siniestros_'!D93=\"\",\"\",'TD Siniestros_'!D93)","v":""},{"$f":"IF('TD Siniestros_'!E93=\"\",\"\",'TD Siniestros_'!E93)","v":""},{"$f":"IF('TD Siniestros_'!F93=\"\",\"\",'TD Siniestros_'!F93)","v":""},{"$f":"IF('TD Siniestros_'!G93=\"\",\"\",'TD Siniestros_'!G93)","v":""},{"$f":"IF('TD Siniestros_'!H93=\"\",\"\",'TD Siniestros_'!H93)","v":""}]
[null,{"$f":"IF('TD Siniestros_'!A94=\"\",\"\",'TD Siniestros_'!A94)","v":""},{"$f":"IF('TD Siniestros_'!B94=\"\",\"\",'TD Siniestros_'!B94)","v":""},{"$f":"IF('TD Siniestros_'!C94=\"\",\"\",'TD Siniestros_'!C94)","v":""},{"$f":"IF('TD Siniestros_'!D94=\"\",\"\",'TD Siniestros_'!D94)","v":""},{"$f":"IF('TD Siniestros_'!E94=\"\",\"\",'TD Siniestros_'!E94)","v":""},{"$f":"IF('TD Siniestros_'!F94=\"\",\"\",'TD Siniestros_'!F94)","v":""},{"$f":"IF('TD Siniestros_'!G94=\"\",\"\",'TD Siniestros_'!G94)","v":""},{"$f":"IF('TD Siniestros_'!H94=\"\",\"\",'TD Siniestros_'!H94)","v":""}]
[null,{"$f":"IF('TD Siniestros_'!A95=\"\",\"\",'TD Siniestros_'!A95)","v":""},{"$f":"IF('TD Siniestros_'!B95=\"\",\"\",'TD Siniestros_'!B95)","v":""},{"$f":"IF('TD Siniestros_'!C95=\"\",\"\",'TD Siniestros_'!C95)","v":""},{"$f":"IF('TD Siniestros_'!D95=\"\",\"\",'TD Siniestros_'!D95)","v":""},{"$f":"IF('TD Siniestros_'!E95=\"\",\"\",'TD Siniestros_'!E95)","v":""},{"$f":"IF('TD Siniestros_'!F95=\"\",\"\",'TD Siniestros_'!F95)","v":""},{"$f":"IF('TD Siniestros_'!G95=\"\",\"\",'TD Siniestros_'!G95)","v":""},{"$f":"IF('TD Siniestros_'!H95=\"\",\"\",'TD Siniestros_'!H95)","v":""}]
[null,{"$f":"IF('TD Siniestros_'!A96=\"\",\"\",'TD Siniestros_'!A96)","v":""},{"$f":"IF('TD Siniestros_'!B96=\"\",\"\",'TD Siniestros_'!B96)","v":""},{"$f":"IF('TD Siniestros_'!C96=\"\",\"\",'TD Siniestros_'!C96)","v":""},{"$f":"IF('TD Siniestros_'!D96=\"\",\"\",'TD Siniestros_'!D96)","v":""},{"$f":"IF('TD Siniestros_'!E96=\"\",\"\",'TD Siniestros_'!E96)","v":""},{"$f":"IF('TD Siniestros_'!F96=\"\",\"\",'TD Siniestros_'!F96)","v":""},{"$f":"IF('TD Siniestros_'!G96=\"\",\"\",'TD Siniestros_'!G96)","v":""},{"$f":"IF('TD Siniestros_'!H96=\"\",\"\",'TD Siniestros_'!H96)","v":""}]
[null,{"$f":"IF('TD Siniestros_'!A97=\"\",\"\",'TD Siniestros_'!A97)","v":""},{"$f":"IF('TD Siniestros_'!B97=\"\",\"\",'TD Siniestros_'!B97)","v":""},{"$f":"IF('TD Siniestros_'!C97=\"\",\"\",'TD Siniestros_'!C97)","v":""},{"$f":"IF('TD Siniestros_'!D97=\"\",\"\",'TD Siniestros_'!D97)","v":""},{"$f":"IF('TD Siniestros_'!E97=\"\",\"\",'TD Siniestros_'!E97)","v":""},{"$f":"IF('TD Siniestros_'!F97=\"\",\"\",'TD Siniestros_'!F97)","v":""},{"$f":"IF('TD Siniestros_'!G97=\"\",\"\",'TD Siniestros_'!G97)","v":""},{"$f":"IF('TD Siniestros_'!H97=\"\",\"\",'TD Siniestros_'!H97)","v":""}]
[null,{"$f":"IF('TD Siniestros_'!A98=\"\",\"\",'TD Siniestros_'!A98)","v":""},{"$f":"IF('TD Siniestros_'!B98=\"\",\"\",'TD Siniestros_'!B98)","v":""},{"$f":"IF('TD Siniestros_'!C98=\"\",\"\",'TD Siniestros_'!C98)","v":""},{"$f":"IF('TD Siniestros_'!D98=\"\",\"\",'TD Siniestros_'!D98)","v":""},{"$f":"IF('TD Siniestros_'!E98=\"\",\"\",'TD Siniestros_'!E98)","v":""},{"$f":"IF('TD Siniestros_'!F98=\"\",\"\",'TD Siniestros_'!F98)","v":""},{"$f":"IF('TD Siniestros_'!G98=\"\",\"\",'TD Siniestros_'!G98)","v":""},{"$f":"IF('TD Siniestros_'!H98=\"\",\"\",'TD Siniestros_'!H98)","v":""}]
[null,{"$f":"IF('TD Siniestros_'!A99=\"\",\"\",'TD Siniestros_'!A99)","v":""},{"$f":"IF('TD Siniestros_'!B99=\"\",\"\",'TD Siniestros_'!B99)","v":""},{"$f":"IF('TD Siniestros_'!C99=\"\",\"\",'TD Siniestros_'!C99)","v":""},{"$f":"IF('TD Siniestros_'!D99=\"\",\"\",'TD Siniestros_'!D99)","v":""},{"$f":"IF('TD Siniestros_'!E99=\"\",\"\",'TD Siniestros_'!E99)","v":""},{"$f":"IF('TD Siniestros_'!F99=\"\",\"\",'TD Siniestros_'!F99)","v":""},{"$f":"IF('TD Siniestros_'!G99=\"\",\"\",'TD Siniestros_'!G99)","v":""},{"$f":"IF('TD Siniestros_'!H99=\"\",\"\",'TD Siniestros_'!H99)","v":""}]
[null,{"$f":"IF('TD Siniestros_'!A100=\"\",\"\",'TD Siniestros_'!A100)","v":""},{"$f":"IF('TD Siniestros_'!B100=\"\",\"\",'TD Siniestros_'!B100)","v":""},{"$f":"IF('TD Siniestros_'!C100=\"\",\"\",'TD Siniestros_'!C100)","v":""},{"$f":"IF('TD Siniestros_'!D100=\"\",\"\",'TD Siniestros_'!D100)","v":""},{"$f":"IF('TD Siniestros_'!E100=\"\",\"\",'TD Siniestros_'!E100)","v":""},{"$f":"IF('TD Siniestros_'!F100=\"\",\"\",'TD Siniestros_'!F100)","v":""},{"$f":"IF('TD Siniestros_'!G100=\"\",\"\",'TD Siniestros_'!G100)","v":""},{"$f":"IF('TD Siniestros_'!H100=\"\",\"\",'TD Siniestros_'!H100)","v":""}]
[null,{"$f":"IF('TD Siniestros_'!A101=\"\",\"\",'TD Siniestros_'!A101)","v":""},{"$f":"IF('TD Siniestros_'!B101=\"\",\"\",'TD Siniestros_'!B101)","v":""},{"$f":"IF('TD Siniestros_'!C101=\"\",\"\",'TD Siniestros_'!C101)","v":""},{"$f":"IF('TD Siniestros_'!D101=\"\",\"\",'TD Siniestros_'!D101)","v":""},{"$f":"IF('TD Siniestros_'!E101=\"\",\"\",'TD Siniestros_'!E101)","v":""},{"$f":"IF('TD Siniestros_'!F101=\"\",\"\",'TD Siniestros_'!F101)","v":""},{"$f":"IF('TD Siniestros_'!G101=\"\",\"\",'TD Siniestros_'!G101)","v":""},{"$f":"IF('TD Siniestros_'!H101=\"\",\"\",'TD Siniestros_'!H101)","v":""}]
[null,{"$f":"IF('TD Siniestros_'!A102=\"\",\"\",'TD Siniestros_'!A102)","v":""},{"$f":"IF('TD Siniestros_'!B102=\"\",\"\",'TD Siniestros_'!B102)","v":""},{"$f":"IF('TD Siniestros_'!C102=\"\",\"\",'TD Siniestros_'!C102)","v":""},{"$f":"IF('TD Siniestros_'!D102=\"\",\"\",'TD Siniestros_'!D102)","v":""},{"$f":"IF('TD Siniestros_'!E102=\"\",\"\",'TD Siniestros_'!E102)","v":""},{"$f":"IF('TD Siniestros_'!F102=\"\",\"\",'TD Siniestros_'!F102)","v":""},{"$f":"IF('TD Siniestros_'!G102=\"\",\"\",'TD Siniestros_'!G102)","v":""},{"$f":"IF('TD Siniestros_'!H102=\"\",\"\",'TD Siniestros_'!H102)","v":""}]
[null,{"$f":"IF('TD Siniestros_'!A103=\"\",\"\",'TD Siniestros_'!A103)","v":""},{"$f":"IF('TD Siniestros_'!B103=\"\",\"\",'TD Siniestros_'!B103)","v":""},{"$f":"IF('TD Siniestros_'!C103=\"\",\"\",'TD Siniestros_'!C103)","v":""},{"$f":"IF('TD Siniestros_'!D103=\"\",\"\",'TD Siniestros_'!D103)","v":""},{"$f":"IF('TD Siniestros_'!E103=\"\",\"\",'TD Siniestros_'!E103)","v":""},{"$f":"IF('TD Siniestros_'!F103=\"\",\"\",'TD Siniestros_'!F103)","v":""},{"$f":"IF('TD Siniestros_'!G103=\"\",\"\",'TD Siniestros_'!G103)","v":""},{"$f":"IF('TD Siniestros_'!H103=\"\",\"\",'TD Siniestros_'!H103)","v":""}]
[null,{"$f":"IF('TD Siniestros_'!A104=\"\",\"\",'TD Siniestros_'!A104)","v":""},{"$f":"IF('TD Siniestros_'!B104=\"\",\"\",'TD Siniestros_'!B104)","v":""},{"$f":"IF('TD Siniestros_'!C104=\"\",\"\",'TD Siniestros_'!C104)","v":""},{"$f":"IF('TD Siniestros_'!D104=\"\",\"\",'TD Siniestros_'!D104)","v":""},{"$f":"IF('TD Siniestros_'!E104=\"\",\"\",'TD Siniestros_'!E104)","v":""},{"$f":"IF('TD Siniestros_'!F104=\"\",\"\",'TD Siniestros_'!F104)","v":""},{"$f":"IF('TD Siniestros_'!G104=\"\",\"\",'TD Siniestros_'!G104)","v":""},{"$f":"IF('TD Siniestros_'!H104=\"\",\"\",'TD Siniestros_'!H104)","v":""}]
[null,{"$f":"IF('TD Siniestros_'!A105=\"\",\"\",'TD Siniestros_'!A105)","v":""},{"$f":"IF('TD Siniestros_'!B105=\"\",\"\",'TD Siniestros_'!B105)","v":""},{"$f":"IF('TD Siniestros_'!C105=\"\",\"\",'TD Siniestros_'!C105)","v":""},{"$f":"IF('TD Siniestros_'!D105=\"\",\"\",'TD Siniestros_'!D105)","v":""},{"$f":"IF('TD Siniestros_'!E105=\"\",\"\",'TD Siniestros_'!E105)","v":""},{"$f":"IF('TD Siniestros_'!F105=\"\",\"\",'TD Siniestros_'!F105)","v":""},{"$f":"IF('TD Siniestros_'!G105=\"\",\"\",'TD Siniestros_'!G105)","v":""},{"$f":"IF('TD Siniestros_'!H105=\"\",\"\",'TD Siniestros_'!H105)","v":""}]
[null,{"$f":"IF('TD Siniestros_'!A106=\"\",\"\",'TD Siniestros_'!A106)","v":""},{"$f":"IF('TD Siniestros_'!B106=\"\",\"\",'TD Siniestros_'!B106)","v":""},{"$f":"IF('TD Siniestros_'!C106=\"\",\"\",'TD Siniestros_'!C106)","v":""},{"$f":"IF('TD Siniestros_'!D106=\"\",\"\",'TD Siniestros_'!D106)","v":""},{"$f":"IF('TD Siniestros_'!E106=\"\",\"\",'TD Siniestros_'!E106)","v":""},{"$f":"IF('TD Siniestros_'!F106=\"\",\"\",'TD Siniestros_'!F106)","v":""},{"$f":"IF('TD Siniestros_'!G106=\"\",\"\",'TD Siniestros_'!G106)","v":""},{"$f":"IF('TD Siniestros_'!H106=\"\",\"\",'TD Siniestros_'!H106)","v":""}]
[null,{"$f":"IF('TD Siniestros_'!A107=\"\",\"\",'TD Siniestros_'!A107)","v":""},{"$f":"IF('TD Siniestros_'!B107=\"\",\"\",'TD Siniestros_'!B107)","v":""},{"$f":"IF('TD Siniestros_'!C107=\"\",\"\",'TD Siniestros_'!C107)","v":""},{"$f":"IF('TD Siniestros_'!D107=\"\",\"\",'TD Siniestros_'!D107)","v":""},{"$f":"IF('TD Siniestros_'!E107=\"\",\"\",'TD Siniestros_'!E107)","v":""},{"$f":"IF('TD Siniestros_'!F107=\"\",\"\",'TD Siniestros_'!F107)","v":""},{"$f":"IF('TD Siniestros_'!G107=\"\",\"\",'TD Siniestros_'!G107)","v":""},{"$f":"IF('TD Siniestros_'!H107=\"\",\"\",'TD Siniestros_'!H107)","v":""}]
[null,{"$f":"IF('TD Siniestros_'!A108=\"\",\"\",'TD Siniestros_'!A108)","v":""},{"$f":"IF('TD Siniestros_'!B108=\"\",\"\",'TD Siniestros_'!B108)","v":""},{"$f":"IF('TD Siniestros_'!C108=\"\",\"\",'TD Siniestros_'!C108)","v":""},{"$f":"IF('TD Siniestros_'!D108=\"\",\"\",'TD Siniestros_'!D108)","v":""},{"$f":"IF('TD Siniestros_'!E108=\"\",\"\",'TD Siniestros_'!E108)","v":""},{"$f":"IF('TD Siniestros_'!F108=\"\",\"\",'TD Siniestros_'!F108)","v":""},{"$f":"IF('TD Siniestros_'!G108=\"\",\"\",'TD Siniestros_'!G108)","v":""},{"$f":"IF('TD Siniestros_'!H108=\"\",\"\",'TD Siniestros_'!H108)","v":""}]
[null,{"$f":"IF('TD Siniestros_'!A109=\"\",\"\",'TD Siniestros_'!A109)","v":""},{"$f":"IF('TD Siniestros_'!B109=\"\",\"\",'TD Siniestros_'!B109)","v":""},{"$f":"IF('TD Siniestros_'!C109=\"\",\"\",'TD Siniestros_'!C109)","v":""},{"$f":"IF('TD Siniestros_'!D109=\"\",\"\",'TD Siniestros_'!D109)","v":""},{"$f":"IF('TD Siniestros_'!E109=\"\",\"\",'TD Siniestros_'!E109)","v":""},{"$f":"IF('TD Siniestros_'!F109=\"\",\"\",'TD Siniestros_'!F109)","v":""},{"$f":"IF('TD Siniestros_'!G109=\"\",\"\",'TD Siniestros_'!G109)","v":""},{"$f":"IF('TD Siniestros_'!H109=\"\",\"\",'TD Siniestros_'!H109)","v":""}]
[null,{"$f":"IF('TD Siniestros_'!A110=\"\",\"\",'TD Siniestros_'!A110)","v":""},{"$f":"IF('TD Siniestros_'!B110=\"\",\"\",'TD Siniestros_'!B110)","v":""},{"$f":"IF('TD Siniestros_'!C110=\"\",\"\",'TD Siniestros_'!C110)","v":""},{"$f":"IF('TD Siniestros_'!D110=\"\",\"\",'TD Siniestros_'!D110)","v":""},{"$f":"IF('TD Siniestros_'!E110=\"\",\"\",'TD Siniestros_'!E110)","v":""},{"$f":"IF('TD Siniestros_'!F110=\"\",\"\",'TD Siniestros_'!F110)","v":""},{"$f":"IF('TD Siniestros_'!G110=\"\",\"\",'TD Siniestros_'!G110)","v":""},{"$f":"IF('TD Siniestros_'!H110=\"\",\"\",'TD Siniestros_'!H110)","v":""}]
[null,{"$f":"IF('TD Siniestros_'!A111=\"\",\"\",'TD Siniestros_'!A111)","v":""},{"$f":"IF('TD Siniestros_'!B111=\"\",\"\",'TD Siniestros_'!B111)","v":""},{"$f":"IF('TD Siniestros_'!C111=\"\",\"\",'TD Siniestros_'!C111)","v":""},{"$f":"IF('TD Siniestros_'!D111=\"\",\"\",'TD Siniestros_'!D111)","v":""},{"$f":"IF('TD Siniestros_'!E111=\"\",\"\",'TD Siniestros_'!E111)","v":""},{"$f":"IF('TD Siniestros_'!F111=\"\",\"\",'TD Siniestros_'!F111)","v":""},{"$f":"IF('TD Siniestros_'!G111=\"\",\"\",'TD Siniestros_'!G111)","v":""},{"$f":"IF('TD Siniestros_'!H111=\"\",\"\",'TD Siniestros_'!H111)","v":""}]
[null,{"$f":"IF('TD Siniestros_'!A112=\"\",\"\",'TD Siniestros_'!A112)","v":""},{"$f":"IF('TD Siniestros_'!B112=\"\",\"\",'TD Siniestros_'!B112)","v":""},{"$f":"IF('TD Siniestros_'!C112=\"\",\"\",'TD Siniestros_'!C112)","v":""},{"$f":"IF('TD Siniestros_'!D112=\"\",\"\",'TD Siniestros_'!D112)","v":""},{"$f":"IF('TD Siniestros_'!E112=\"\",\"\",'TD Siniestros_'!E112)","v":""},{"$f":"IF('TD Siniestros_'!F112=\"\",\"\",'TD Siniestros_'!F112)","v":""},{"$f":"IF('TD Siniestros_'!G112=\"\",\"\",'TD Siniestros_'!G112)","v":""},{"$f":"IF('TD Siniestros_'!H112=\"\",\"\",'TD Siniestros_'!H112)","v":""}]
[null,{"$f":"IF('TD Siniestros_'!A113=\"\",\"\",'TD Siniestros_'!A113)","v":""},{"$f":"IF('TD Siniestros_'!B113=\"\",\"\",'TD Siniestros_'!B113)","v":""},{"$f":"IF('TD Siniestros_'!C113=\"\",\"\",'TD Siniestros_'!C113)","v":""},{"$f":"IF('TD Siniestros_'!D113=\"\",\"\",'TD Siniestros_'!D113)","v":""},{"$f":"IF('TD Siniestros_'!E113=\"\",\"\",'TD Siniestros_'!E113)","v":""},{"$f":"IF('TD Siniestros_'!F113=\"\",\"\",'TD Siniestros_'!F113)","v":""},{"$f":"IF('TD Siniestros_'!G113=\"\",\"\",'TD Siniestros_'!G113)","v":""},{"$f":"IF('TD Siniestros_'!H113=\"\",\"\",'TD Siniestros_'!H113)","v":""}]
[null,{"$f":"IF('TD Siniestros_'!A114=\"\",\"\",'TD Siniestros_'!A114)","v":""},{"$f":"IF('TD Siniestros_'!B114=\"\",\"\",'TD Siniestros_'!B114)","v":""},{"$f":"IF('TD Siniestros_'!C114=\"\",\"\",'TD Siniestros_'!C114)","v":""},{"$f":"IF('TD Siniestros_'!D114=\"\",\"\",'TD Siniestros_'!D114)","v":""},{"$f":"IF('TD Siniestros_'!E114=\"\",\"\",'TD Siniestros_'!E114)","v":""},{"$f":"IF('TD Siniestros_'!F114=\"\",\"\",'TD Siniestros_'!F114)","v":""},{"$f":"IF('TD Siniestros_'!G114=\"\",\"\",'TD Siniestros_'!G114)","v":""},{"$f":"IF('TD Siniestros_'!H114=\"\",\"\",'TD Siniestros_'!H114)","v":""}]
[null,{"$f":"IF('TD Siniestros_'!A115=\"\",\"\",'TD Siniestros_'!A115)","v":""},{"$f":"IF('TD Siniestros_'!B115=\"\",\"\",'TD Siniestros_'!B115)","v":""},{"$f":"IF('TD Siniestros_'!C115=\"\",\"\",'TD Siniestros_'!C115)","v":""},{"$f":"IF('TD Siniestros_'!D115=\"\",\"\",'TD Siniestros_'!D115)","v":""},{"$f":"IF('TD Siniestros_'!E115=\"\",\"\",'TD Siniestros_'!E115)","v":""},{"$f":"IF('TD Siniestros_'!F115=\"\",\"\",'TD Siniestros_'!F115)","v":""},{"$f":"IF('TD Siniestros_'!G115=\"\",\"\",'TD Siniestros_'!G115)","v":""},{"$f":"IF('TD Siniestros_'!H115=\"\",\"\",'TD Siniestros_'!H115)","v":""}]
[null,{"$f":"IF('TD Siniestros_'!A116=\"\",\"\",'TD Siniestros_'!A116)","v":""},{"$f":"IF('TD Siniestros_'!B116=\"\",\"\",'TD Siniestros_'!B116)","v":""},{"$f":"IF('TD Siniestros_'!C116=\"\",\"\",'TD Siniestros_'!C116)","v":""},{"$f":"IF('TD Siniestros_'!D116=\"\",\"\",'TD Siniestros_'!D116)","v":""},{"$f":"IF('TD Siniestros_'!E116=\"\",\"\",'TD Siniestros_'!E116)","v":""},{"$f":"IF('TD Siniestros_'!F116=\"\",\"\",'TD Siniestros_'!F116)","v":""},{"$f":"IF('TD Siniestros_'!G116=\"\",\"\",'TD Siniestros_'!G116)","v":""},{"$f":"IF('TD Siniestros_'!H116=\"\",\"\",'TD Siniestros_'!H116)","v":""}]
[null,{"$f":"IF('TD Siniestros_'!A117=\"\",\"\",'TD Siniestros_'!A117)","v":""},{"$f":"IF('TD Siniestros_'!B117=\"\",\"\",'TD Siniestros_'!B117)","v":""},{"$f":"IF('TD Siniestros_'!C117=\"\",\"\",'TD Siniestros_'!C117)","v":""},{"$f":"IF('TD Siniestros_'!D117=\"\",\"\",'TD Siniestros_'!D117)","v":""},{"$f":"IF('TD Siniestros_'!E117=\"\",\"\",'TD Siniestros_'!E117)","v":""},{"$f":"IF('TD Siniestros_'!F117=\"\",\"\",'TD Siniestros_'!F117)","v":""},{"$f":"IF('TD Siniestros_'!G117=\"\",\"\",'TD Siniestros_'!G117)","v":""},{"$f":"IF('TD Siniestros_'!H117=\"\",\"\",'TD Siniestros_'!H117)","v":""}]
[null,{"$f":"IF('TD Siniestros_'!A118=\"\",\"\",'TD Siniestros_'!A118)","v":""},{"$f":"IF('TD Siniestros_'!B118=\"\",\"\",'TD Siniestros_'!B118)","v":""},{"$f":"IF('TD Siniestros_'!C118=\"\",\"\",'TD Siniestros_'!C118)","v":""},{"$f":"IF('TD Siniestros_'!D118=\"\",\"\",'TD Siniestros_'!D118)","v":""},{"$f":"IF('TD Siniestros_'!E118=\"\",\"\",'TD Siniestros_'!E118)","v":""},{"$f":"IF('TD Siniestros_'!F118=\"\",\"\",'TD Siniestros_'!F118)","v":""},{"$f":"IF('TD Siniestros_'!G118=\"\",\"\",'TD Siniestros_'!G118)","v":""},{"$f":"IF('TD Siniestros_'!H118=\"\",\"\",'TD Siniestros_'!H118)","v":""}]
[null,{"$f":"IF('TD Siniestros_'!A119=\"\",\"\",'TD Siniestros_'!A119)","v":""},{"$f":"IF('TD Siniestros_'!B119=\"\",\"\",'TD Siniestros_'!B119)","v":""},{"$f":"IF('TD Siniestros_'!C119=\"\",\"\",'TD Siniestros_'!C119)","v":""},{"$f":"IF('TD Siniestros_'!D119=\"\",\"\",'TD Siniestros_'!D119)","v":""},{"$f":"IF('TD Siniestros_'!E119=\"\",\"\",'TD Siniestros_'!E119)","v":""},{"$f":"IF('TD Siniestros_'!F119=\"\",\"\",'TD Siniestros_'!F119)","v":""},{"$f":"IF('TD Siniestros_'!G119=\"\",\"\",'TD Siniestros_'!G119)","v":""},{"$f":"IF('TD Siniestros_'!H119=\"\",\"\",'TD Siniestros_'!H119)","v":""}]
[null,{"$f":"IF('TD Siniestros_'!A120=\"\",\"\",'TD Siniestros_'!A120)","v":""},{"$f":"IF('TD Siniestros_'!B120=\"\",\"\",'TD Siniestros_'!B120)","v":""},{"$f":"IF('TD Siniestros_'!C120=\"\",\"\",'TD Siniestros_'!C120)","v":""},{"$f":"IF('TD Siniestros_'!D120=\"\",\"\",'TD Siniestros_'!D120)","v":""},{"$f":"IF('TD Siniestros_'!E120=\"\",\"\",'TD Siniestros_'!E120)","v":""},{"$f":"IF('TD Siniestros_'!F120=\"\",\"\",'TD Siniestros_'!F120)","v":""},{"$f":"IF('TD Siniestros_'!G120=\"\",\"\",'TD Siniestros_'!G120)","v":""},{"$f":"IF('TD Siniestros_'!H120=\"\",\"\",'TD Siniestros_'!H120)","v":""}]
[null,{"$f":"IF('TD Siniestros_'!A121=\"\",\"\",'TD Siniestros_'!A121)","v":""},{"$f":"IF('TD Siniestros_'!B121=\"\",\"\",'TD Siniestros_'!B121)","v":""},{"$f":"IF('TD Siniestros_'!C121=\"\",\"\",'TD Siniestros_'!C121)","v":""},{"$f":"IF('TD Siniestros_'!D121=\"\",\"\",'TD Siniestros_'!D121)","v":""},{"$f":"IF('TD Siniestros_'!E121=\"\",\"\",'TD Siniestros_'!E121)","v":""},{"$f":"IF('TD Siniestros_'!F121=\"\",\"\",'TD Siniestros_'!F121)","v":""},{"$f":"IF('TD Siniestros_'!G121=\"\",\"\",'TD Siniestros_'!G121)","v":""},{"$f":"IF('TD Siniestros_'!H121=\"\",\"\",'TD Siniestros_'!H121)","v":""}]
[null,{"$f":"IF('TD Siniestros_'!A122=\"\",\"\",'TD Siniestros_'!A122)","v":""},{"$f":"IF('TD Siniestros_'!B122=\"\",\"\",'TD Siniestros_'!B122)","v":""},{"$f":"IF('TD Siniestros_'!C122=\"\",\"\",'TD Siniestros_'!C122)","v":""},{"$f":"IF('TD Siniestros_'!D122=\"\",\"\",'TD Siniestros_'!D122)","v":""},{"$f":"IF('TD Siniestros_'!E122=\"\",\"\",'TD Siniestros_'!E122)","v":""},{"$f":"IF('TD Siniestros_'!F122=\"\",\"\",'TD Siniestros_'!F122)","v":""},{"$f":"IF('TD Siniestros_'!G122=\"\",\"\",'TD Siniestros_'!G122)","v":""},{"$f":"IF('TD Siniestros_'!H122=\"\",\"\",'TD Siniestros_'!H122)","v":""}]

{"sheet":"Primas Directas (Vida)","index":10,"n_rows":211,"n_cols":12,"rows_kept":211,"cut":false,"hidden":false,"merged":[[1,2,1,11]]}
[null,null,"Análisis de Primas Directas",null,null,null,null,null,null,null,null,{"$f":"VLOOKUP(RIGHT('TDPrimas Vida'!B2,2),Cat!$N$2:$O$5,2,0)&\" \"&LEFT('TDPrimas Vida'!B2,4)","v":"Cuarto Trimestre 2022"}]
[null,null,{"$f":"UPPER(RIGHT('TDPrimas Vida'!B3,LEN('TDPrimas Vida'!B3)-3))","v":"VIDA TOTAL"}]
[null,null,null,null,null,null,null,null,null,null,null,"Cifras en miles"]
[null,null,null,null,2,3,4,5,6,7,8,9]
[null,null,null,null,"Primas Directas",null,"% Part. en Merc. ",null,"Incremento",null,"% de Cartera"]
[null,null,"Compañías",null,{"$f":"'Primas Directas'!$D$6","v":"2022"},{"$f":"'Primas Directas'!$E$6","v":2021},{"$f":"$E$6","v":"2022"},{"$f":"$F$6","v":2021},"Importe","%","Por ","Total"]
[null,null,null,null,"Importe","Importe",null,null,null,null,"Operación","Cartera"]
[null,{"$f":"IF(C8=\"\",B2,D8)","v":"TOTAL"},151.1,"TOTAL",{"$f":"VLOOKUP($D8,$D$12:$L$211,E$4,0)","v":259244122.69560999},{"$f":"VLOOKUP($D8,$D$12:$L$211,F$4,0)","v":249438867.45685998},100,103.93092517566285,9805255.2387500107,3.9309251756628472,"ND",48.269975290988079]
[null,{"$f":"IF(C9=\"\",B8,D9)","v":"TOTAL"},null,{"$f":"IF(D8=\"\",\"\",\"1er Año\")","v":"1er Año"},{"$f":"IF(E8=\"\",\"\",(VLOOKUP(B9,'TDPrimas Vida'!$B:$N,5,0)))","v":111283402.21527998},{"$f":"IF(E8=\"\",\"\",(VLOOKUP(B9,'TDPrimas Vida'!$B:$N,6,0)))","v":110994421.32792999},{"$f":"IFERROR((E9/VLOOKUP(\"TOTAL\",$D$12:$L$312,2,0))*100,\"\")","v":42.926104190197108},{"$f":"IFERROR((E9/VLOOKUP(\"TOTAL\",$D$12:$L$312,3,0))*100,\"\")","v":44.61349722674084},{"$f":"IF(E8=\"\",\"\",E9-F9)","v":288980.88734999299},{"$f":"IF(E8=\"\",\"\",IFERROR((E9/F9-1)*100,\"ND\"))","v":0.26035622681990223},{"$f":"IF(E8=\"\",\"\",IFERROR((E9/VLOOKUP(B9&\"|\"&VLOOKUP(TDPrimas!$B$4,Cat!R:T,2,0),'TD Operación'!A:D,4,0))*100,\"ND\"))","v":"ND"},{"$f":"IF(E8=\"\",\"\",(VLOOKUP(B9,'TDPrimas Vida'!$B:$N,7,0)))","v":20.720419885991941}]
[null,"TOTAL",null,{"$f":"IF(D9=\"\",\"\",\"Renovación\")","v":"Renovación"},{"$f":"IF(E8=\"\",\"\",(VLOOKUP(B10,'TDPrimas Vida'!$B:$N,8,0)))","v":116493381.94943999},{"$f":"IF(E8=\"\",\"\",(VLOOKUP(B10,'TDPrimas Vida'!$B:$N,9,0)))","v":109310781.83554003},{"$f":"IFERROR((E10/VLOOKUP(\"TOTAL\",$D$12:$L$312,2,0))*100,\"\")","v":44.935785134932466},{"$f":"IFERROR((E10/VLOOKUP(\"TOTAL\",$D$12:$L$312,3,0))*100,\"\")","v":46.702177225683286},{"$f":"IF(E8=\"\",\"\",E10-F10)","v":7182600.1138999611},{"$f":"IF(E8=\"\",\"\",IFERROR((E10/F10-1)*100,\"ND\"))","v":6.5708066425746559},{"$f":"IF(E8=\"\",\"\",IFERROR((E10/VLOOKUP(B10&\"|\"&VLOOKUP(TDPrimas!$B$4,Cat!R:T,2,0),'TD Operación'!A:D,4,0))*100,\"ND\"))","v":"ND"},{"$f":"IF(E8=\"\",\"\",(VLOOKUP(B10,'TDPrimas Vida'!$B:$N,10,0)))","v":21.690492381443395}]
[null,"TOTAL",null,{"$f":"IF(D10=\"\",\"\",\"Únicas\")","v":"Únicas"},{"$f":"IF(E9=\"\",\"\",(VLOOKUP(B11,'TDPrimas Vida'!$B:$N,11,0)))","v":31466785.308849998},{"$f":"IF(E9=\"\",\"\",(VLOOKUP(B11,'TDPrimas Vida'!$B:$N,12,0)))","v":28630589.02318},{"$f":"IFERROR((E11/VLOOKUP(\"TOTAL\",$D$12:$L$312,2,0))*100,\"\")","v":12.137897276767406},{"$f":"IFERROR((E11/VLOOKUP(\"TOTAL\",$D$12:$L$312,3,0))*100,\"\")","v":12.615028936615952},{"$f":"IF(E8=\"\",\"\",E11-F11)","v":2836196.2856699973},{"$f":"IF(E8=\"\",\"\",IFERROR((E11/F11-1)*100,\"ND\"))","v":9.90617511701819},{"$f":"IF(E8=\"\",\"\",IFERROR((E11/VLOOKUP(B11&\"|\"&VLOOKUP(TDPrimas!$B$4,Cat!R:T,2,0),'TD Operación'!A:D,4,0))*100,\"ND\"))","v":"ND"},{"$f":"IF(E8=\"\",\"\",(VLOOKUP(B11,'TDPrimas Vida'!$B:$N,13,0)))","v":5.8589600163411415}]
[null,{"$f":"IF(C12=\"\",B7,D12)","v":"Metlife México"},{"$f":"IF('TDPrimas Vida'!A7=\"\",\"\",'TDPrimas Vida'!A7)","v":1},{"$f":"IF('TDPrimas Vida'!B7=\"\",\"\",'TDPrimas Vida'!B7)","v":"Metlife México"},{"$f":"IF('TDPrimas Vida'!C7=\"\",\"\",'TDPrimas Vida'!C7)","v":48016518.989},{"$f":"IF('TDPrimas Vida'!D7=\"\",\"\",'TDPrimas Vida'!D7)","v":45847773.847999997},{"$f":"IF('TDPrimas Vida'!C7=\"\",\"\",IFERROR((E12/VLOOKUP(\"TOTAL\",$D$12:$L$312,2,0))*100,\"\"))","v":18.521738695452829},{"$f":"IF('TDPrimas Vida'!C7=\"\",\"\",IFERROR((E12/VLOOKUP(\"TOTAL\",$D$12:$L$312,3,0))*100,\"\"))","v":19.249814384802871},{"$f":"IF('TDPrimas Vida'!C7=\"\",\"\",E12-F12)","v":2168745.1410000026},{"$f":"IFERROR(IF('TDPrimas Vida'!C7=\"\",\"\",(E12/F12-1)*100),\"ND\")","v":4.7303172193051024},{"$f":"IFERROR((E12/VLOOKUP(B12&\"|\"&VLOOKUP(TDPrimas!$B$4,Cat!R:T,2,0),'TD Operación'!A:D,4,0))*100,\"ND\")","v":"ND"},{"$f":"IF('TDPrimas Vida'!E7=\"\",\"\",'TDPrimas Vida'!E7)","v":68.91012767773654}]
[null,{"$f":"IF(C13=\"\",B12,D13)","v":"Metlife México"},null,{"$f":"IF(D12=\"\",\"\",\"1er Año\")","v":"1er Año"},{"$f":"IF(E12=\"\",\"\",(VLOOKUP(B13,'TDPrimas Vida'!$B:$N,5,0)))","v":9244390.8396000005},{"$f":"IF(E12=\"\",\"\",(VLOOKUP(B13,'TDPrimas Vida'!$B:$N,6,0)))","v":8748784.9070999995},{"$f":"IFERROR((E13/VLOOKUP(\"TOTAL\",$D$12:$L$312,2,0))*100,\"\")","v":3.5659018007726444},{"$f":"IFERROR((E13/VLOOKUP(\"TOTAL\",$D$12:$L$312,3,0))*100,\"\")","v":3.7060747323986316},{"$f":"IF(E12=\"\",\"\",E13-F13)","v":495605.93250000104},{"$f":"IF(E12=\"\",\"\",IFERROR((E13/F13-1)*100,\"ND\"))","v":5.664854465650393},{"$f":"IF(E12=\"\",\"\",IFERROR((E13/VLOOKUP(B13&\"|\"&VLOOKUP(TDPrimas!$B$4,Cat!R:T,2,0),'TD Operación'!A:D,4,0))*100,\"ND\"))","v":"ND"},{"$f":"IF(E12=\"\",\"\",(VLOOKUP(B13,'TDPrimas Vida'!$B:$N,7,0)))","v":13.266937430546985}]
[null,"Metlife México",null,{"$f":"IF(D13=\"\",\"\",\"Renovación\")","v":"Renovación"},{"$f":"IF(E12=\"\",\"\",(VLOOKUP(B14,'TDPrimas Vida'!$B:$N,8,0)))","v":32002822.344999999},{"$f":"IF(E12=\"\",\"\",(VLOOKUP(B14,'TDPrimas Vida'!$B:$N,9,0)))","v":30911024.155000001},{"$f":"IFERROR((E14/VLOOKUP(\"TOTAL\",$D$12:$L$312,2,0))*100,\"\")","v":12.344666491273143},{"$f":"IFERROR((E14/VLOOKUP(\"TOTAL\",$D$12:$L$312,3,0))*100,\"\")","v":12.829926094230215},{"$f":"IF(E12=\"\",\"\",E14-F14)","v":1091798.1899999976},{"$f":"IF(E12=\"\",\"\",IFERROR((E14/F14-1)*100,\"ND\"))","v":3.5320673444053208},{"$f":"IF(E12=\"\",\"\",IFERROR((E14/VLOOKUP(B14&\"|\"&VLOOKUP(TDPrimas!$B$4,Cat!R:T,2,0),'TD Operación'!A:D,4,0))*100,\"ND\"))","v":"ND"},{"$f":"IF(E12=\"\",\"\",(VLOOKUP(B14,'TDPrimas Vida'!$B:$N,10,0)))","v":45.928330921845486}]
[null,"Metlife México",null,{"$f":"IF(D14=\"\",\"\",\"Únicas\")","v":"Únicas"},{"$f":"IF(E13=\"\",\"\",(VLOOKUP(B15,'TDPrimas Vida'!$B:$N,11,0)))","v":6769305.80473},{"$f":"IF(E13=\"\",\"\",(VLOOKUP(B15,'TDPrimas Vida'!$B:$N,12,0)))","v":6187964.7854199996},{"$f":"IFERROR((E15/VLOOKUP(\"TOTAL\",$D$12:$L$312,2,0))*100,\"\")","v":2.6111704035343331},{"$f":"IFERROR((E15/VLOOKUP(\"TOTAL\",$D$12:$L$312,3,0))*100,\"\")","v":2.7138135583063212},{"$f":"IF(E12=\"\",\"\",E15-F15)","v":581341.01931000035},{"$f":"IF(E12=\"\",\"\",IFERROR((E15/F15-1)*100,\"ND\"))","v":9.3947047126019321},{"$f":"IF(E12=\"\",\"\",IFERROR((E15/VLOOKUP(B15&\"|\"&VLOOKUP(TDPrimas!$B$4,Cat!R:T,2,0),'TD Operación'!A:D,4,0))*100,\"ND\"))","v":"ND"},{"$f":"IF(E12=\"\",\"\",(VLOOKUP(B15,'TDPrimas Vida'!$B:$N,13,0)))","v":9.7148593258176597}]
[null,"BBVA Bancomer",{"$f":"IF('TDPrimas Vida'!A8=\"\",\"\",'TDPrimas Vida'!A8)","v":2},{"$f":"IF('TDPrimas Vida'!B8=\"\",\"\",'TDPrimas Vida'!B8)","v":"BBVA Bancomer"},{"$f":"IF('TDPrimas Vida'!C8=\"\",\"\",'TDPrimas Vida'!C8)","v":43150700.472999997},{"$f":"IF('TDPrimas Vida'!D8=\"\",\"\",'TDPrimas Vida'!D8)","v":37325851.607550003},{"$f":"IF('TDPrimas Vida'!C8=\"\",\"\",IFERROR((E16/VLOOKUP(\"TOTAL\",$D$12:$L$312,2,0))*100,\"\"))","v":16.644813399941626},{"$f":"IF('TDPrimas Vida'!C8=\"\",\"\",IFERROR((E16/VLOOKUP(\"TOTAL\",$D$12:$L$312,3,0))*100,\"\"))","v":17.299108560322036},{"$f":"IF('TDPrimas Vida'!C8=\"\",\"\",E16-F16)","v":5824848.8654499948},{"$f":"IFERROR(IF('TDPrimas Vida'!C8=\"\",\"\",(E16/F16-1)*100),\"ND\")","v":15.605401121703499},{"$f":"IF(E16=\"\",\"\",IFERROR((E16/VLOOKUP(D16&\"|\"&VLOOKUP(TDPrimas!$B$4,Cat!R:T,2,0),'TD Operación'!A:D,4,0))*100,\"ND\"))","v":"ND"},{"$f":"IF('TDPrimas Vida'!E8=\"\",\"\",'TDPrimas Vida'!E8)","v":79.067222688042364}]
[null,"BBVA Bancomer",null,{"$f":"IF(D16=\"\",\"\",\"1er Año\")","v":"1er Año"},{"$f":"IF(E16=\"\",\"\",(VLOOKUP(B17,'TDPrimas Vida'!$B:$N,5,0)))","v":36550558.506899998},{"$f":"IF(E16=\"\",\"\",(VLOOKUP(B17,'TDPrimas Vida'!$B:$N,6,0)))","v":31939704.626949999},{"$f":"IFERROR((E17/VLOOKUP(\"TOTAL\",$D$12:$L$312,2,0))*100,\"\")","v":14.098895715300605},{"$f":"IFERROR((E17/VLOOKUP(\"TOTAL\",$D$12:$L$312,3,0))*100,\"\")","v":14.653112756463807},{"$f":"IF(E16=\"\",\"\",E17-F17)","v":4610853.8799499981},{"$f":"IF(E16=\"\",\"\",IFERROR((E17/F17-1)*100,\"ND\"))","v":14.436119349893616},{"$f":"IF(E16=\"\",\"\",IFERROR((E17/VLOOKUP(B17&\"|\"&VLOOKUP(TDPrimas!$B$4,Cat!R:T,2,0),'TD Operación'!A:D,4,0))*100,\"ND\"))","v":"ND"},{"$f":"IF(E16=\"\",\"\",(VLOOKUP(B17,'TDPrimas Vida'!$B:$N,7,0)))","v":66.973446946606728}]
[null,"BBVA Bancomer",null,{"$f":"IF(D17=\"\",\"\",\"Renovación\")","v":"Renovación"},{"$f":"IF(E16=\"\",\"\",(VLOOKUP(B18,'TDPrimas Vida'!$B:$N,8,0)))","v":4528194.0940000005},{"$f":"IF(E16=\"\",\"\",(VLOOKUP(B18,'TDPrimas Vida'!$B:$N,9,0)))","v":4119155.01107},{"$f":"IFERROR((E18/VLOOKUP(\"TOTAL\",$D$12:$L$312,2,0))*100,\"\")","v":1.7466911291627443},{"$f":"IFERROR((E18/VLOOKUP(\"TOTAL\",$D$12:$L$312,3,0))*100,\"\")","v":1.8153522505000723},{"$f":"IF(E16=\"\",\"\",E18-F18)","v":409039.0829300005},{"$f":"IF(E16=\"\",\"\",IFERROR((E18/F18-1)*100,\"ND\"))","v":9.9301697030272251},{"$f":"IF(E16=\"\",\"\",IFERROR((E18/VLOOKUP(B18&\"|\"&VLOOKUP(TDPrimas!$B$4,Cat!R:T,2,0),'TD Operación'!A:D,4,0))*100,\"ND\"))","v":"ND"},{"$f":"IF(E16=\"\",\"\",(VLOOKUP(B18,'TDPrimas Vida'!$B:$N,10,0)))","v":8.2972402969217551}]
[null,"BBVA Bancomer",null,{"$f":"IF(D18=\"\",\"\",\"Únicas\")","v":"Únicas"},{"$f":"IF(E17=\"\",\"\",(VLOOKUP(B19,'TDPrimas Vida'!$B:$N,11,0)))","v":2071947.8715899999},{"$f":"IF(E17=\"\",\"\",(VLOOKUP(B19,'TDPrimas Vida'!$B:$N,12,0)))","v":1266991.9695299999},{"$f":"IFERROR((E19/VLOOKUP(\"TOTAL\",$D$12:$L$312,2,0))*100,\"\")","v":0.79922655528155051},{"$f":"IFERROR((E19/VLOOKUP(\"TOTAL\",$D$12:$L$312,3,0))*100,\"\")","v":0.83064355315369598},{"$f":"IF(E16=\"\",\"\",E19-F19)","v":804955.90205999999},{"$f":"IF(E16=\"\",\"\",IFERROR((E19/F19-1)*100,\"ND\"))","v":63.53283378414816},{"$f":"IF(E16=\"\",\"\",IFERROR((E19/VLOOKUP(B19&\"|\"&VLOOKUP(TDPrimas!$B$4,Cat!R:T,2,0),'TD Operación'!A:D,4,0))*100,\"ND\"))","v":"ND"},{"$f":"IF(E16=\"\",\"\",(VLOOKUP(B19,'TDPrimas Vida'!$B:$N,13,0)))","v":3.7965354435793777}]
[null,{"$f":"IF(C20=\"\",B16,D20)","v":"G.N.P."},{"$f":"IF('TDPrimas Vida'!A9=\"\",\"\",'TDPrimas Vida'!A9)","v":3},{"$f":"IF('TDPrimas Vida'!B9=\"\",\"\",'TDPrimas Vida'!B9)","v":"G.N.P."},{"$f":"IF('TDPrimas Vida'!C9=\"\",\"\",'TDPrimas Vida'!C9)","v":35246575.565329999},{"$f":"IF('TDPrimas Vida'!D9=\"\",\"\",'TDPrimas Vida'!D9)","v":32138338.20321},{"$f":"IF('TDPrimas Vida'!C9=\"\",\"\",IFERROR((E20/VLOOKUP(\"TOTAL\",$D$12:$L$312,2,0))*100,\"\"))","v":13.595901499651186},{"$f":"IF('TDPrimas Vida'!C9=\"\",\"\",IFERROR((E20/VLOOKUP(\"TOTAL\",$D$12:$L$312,3,0))*100,\"\"))","v":14.130346214559298},{"$f":"IF('TDPrimas Vida'!C9=\"\",\"\",E20-F20)","v":3108237.3621199988},{"$f":"IFERROR(IF('TDPrimas Vida'!C9=\"\",\"\",(E20/F20-1)*100),\"ND\")","v":9.6714314924022595},{"$f":"IF(E20=\"\",\"\",IFERROR((E20/VLOOKUP(D20&\"|\"&VLOOKUP(TDPrimas!$B$4,Cat!R:T,2,0),'TD Operación'!A:D,4,0))*100,\"ND\"))","v":"ND"},{"$f":"IF('TDPrimas Vida'!E9=\"\",\"\",'TDPrimas Vida'!E9)","v":39.649122430974131}]
[null,{"$f":"IF(C21=\"\",B20,D21)","v":"G.N.P."},null,{"$f":"IF(D20=\"\",\"\",\"1er Año\")","v":"1er Año"},{"$f":"IF(E20=\"\",\"\",(VLOOKUP(B21,'TDPrimas Vida'!$B:$N,5,0)))","v":8615839.5867400002},{"$f":"IF(E20=\"\",\"\",(VLOOKUP(B21,'TDPrimas Vida'!$B:$N,6,0)))","v":7791578.7823199993},{"$f":"IFERROR((E21/VLOOKUP(\"TOTAL\",$D$12:$L$312,2,0))*100,\"\")","v":3.3234464477546668},{"$f":"IFERROR((E21/VLOOKUP(\"TOTAL\",$D$12:$L$312,3,0))*100,\"\")","v":3.454088640869128},{"$f":"IF(E20=\"\",\"\",E21-F21)","v":824260.80442000087},{"$f":"IF(E20=\"\",\"\",IFERROR((E21/F21-1)*100,\"ND\"))","v":10.578867613972465},{"$f":"IF(E20=\"\",\"\",IFERROR((E21/VLOOKUP(B21&\"|\"&VLOOKUP(TDPrimas!$B$4,Cat!R:T,2,0),'TD Operación'!A:D,4,0))*100,\"ND\"))","v":"ND"},{"$f":"IF(E20=\"\",\"\",(VLOOKUP(B21,'TDPrimas Vida'!$B:$N,7,0)))","v":9.6920189590364103}]
[null,{"$f":"IF(C22=\"\",B21,D22)","v":"G.N.P."},null,{"$f":"IF(D21=\"\",\"\",\"Renovación\")","v":"Renovación"},{"$f":"IF(E20=\"\",\"\",(VLOOKUP(B22,'TDPrimas Vida'!$B:$N,8,0)))","v":18931513.77059},{"$f":"IF(E20=\"\",\"\",(VLOOKUP(B22,'TDPrimas Vida'!$B:$N,9,0)))","v":17995644.965360001},{"$f":"IFERROR((E22/VLOOKUP(\"TOTAL\",$D$12:$L$312,2,0))*100,\"\")","v":7.3025816646259445},{"$f":"IFERROR((E22/VLOOKUP(\"TOTAL\",$D$12:$L$312,3,0))*100,\"\")","v":7.5896406857540653},{"$f":"IF(E20=\"\",\"\",E22-F22)","v":935868.80522999913},{"$f":"IF(E20=\"\",\"\",IFERROR((E22/F22-1)*100,\"ND\"))","v":5.2005293893687243},{"$f":"IF(E20=\"\",\"\",IFERROR((E22/VLOOKUP(B22&\"|\"&VLOOKUP(TDPrimas!$B$4,Cat!R:T,2,0),'TD Operación'!A:D,4,0))*100,\"ND\"))","v":"ND"},{"$f":"IF(E20=\"\",\"\",(VLOOKUP(B22,'TDPrimas Vida'!$B:$N,10,0)))","v":21.29619389272343}]
[null,{"$f":"IF(C23=\"\",B22,D23)","v":"G.N.P."},null,{"$f":"IF(D22=\"\",\"\",\"Únicas\")","v":"Únicas"},{"$f":"IF(E21=\"\",\"\",(VLOOKUP(B23,'TDPrimas Vida'!$B:$N,11,0)))","v":7699222.2079999996},{"$f":"IF(E21=\"\",\"\",(VLOOKUP(B23,'TDPrimas Vida'!$B:$N,12,0)))","v":6351114.4555300009},{"$f":"IFERROR((E23/VLOOKUP(\"TOTAL\",$D$12:$L$312,2,0))*100,\"\")","v":2.9698733872705758},{"$f":"IFERROR((E23/VLOOKUP(\"TOTAL\",$D$12:$L$312,3,0))*100,\"\")","v":3.0866168879361058},{"$f":"IF(E20=\"\",\"\",E23-F23)","v":1348107.7524699988},{"$f":"IF(E20=\"\",\"\",IFERROR((E23/F23-1)*100,\"ND\"))","v":21.226318025117365},{"$f":"IF(E20=\"\",\"\",IFERROR((E23/VLOOKUP(B23&\"|\"&VLOOKUP(TDPrimas!$B$4,Cat!R:T,2,0),'TD Operación'!A:D,4,0))*100,\"ND\"))","v":"ND"},{"$f":"IF(E20=\"\",\"\",(VLOOKUP(B23,'TDPrimas Vida'!$B:$N,13,0)))","v":8.6609095792142909}]
[null,{"$f":"IF(C24=\"\",B20,D24)","v":"Monterrey New York Life"},{"$f":"IF('TDPrimas Vida'!A10=\"\",\"\",'TDPrimas Vida'!A10)","v":4},{"$f":"IF('TDPrimas Vida'!B10=\"\",\"\",'TDPrimas Vida'!B10)","v":"Monterrey New York Life"},{"$f":"IF('TDPrimas Vida'!C10=\"\",\"\",'TDPrimas Vida'!C10)","v":25726165.1074},{"$f":"IF('TDPrimas Vida'!D10=\"\",\"\",'TDPrimas Vida'!D10)","v":23548993.196959998},{"$f":"IF('TDPrimas Vida'!C10=\"\",\"\",IFERROR((E24/VLOOKUP(\"TOTAL\",$D$12:$L$312,2,0))*100,\"\"))","v":9.9235287727645929},{"$f":"IF('TDPrimas Vida'!C10=\"\",\"\",IFERROR((E24/VLOOKUP(\"TOTAL\",$D$12:$L$312,3,0))*100,\"\"))","v":10.313615263607343},{"$f":"IF('TDPrimas Vida'!C10=\"\",\"\",E24-F24)","v":2177171.9104400016},{"$f":"IFERROR(IF('TDPrimas Vida'!C10=\"\",\"\",(E24/F24-1)*100),\"ND\")","v":9.2452865913650086},{"$f":"IF(E24=\"\",\"\",IFERROR((E24/VLOOKUP(D24&\"|\"&VLOOKUP(TDPrimas!$B$4,Cat!R:T,2,0),'TD Operación'!A:D,4,0))*100,\"ND\"))","v":"ND"},{"$f":"IF('TDPrimas Vida'!E10=\"\",\"\",'TDPrimas Vida'!E10)","v":68.563569218017051}]
[null,{"$f":"IF(C25=\"\",B24,D25)","v":"Monterrey New York Life"},null,{"$f":"IF(D24=\"\",\"\",\"1er Año\")","v":"1er Año"},{"$f":"IF(E24=\"\",\"\",(VLOOKUP(B25,'TDPrimas Vida'!$B:$N,5,0)))","v":2404396.2662400003},{"$f":"IF(E24=\"\",\"\",(VLOOKUP(B25,'TDPrimas Vida'!$B:$N,6,0)))","v":2200084.5727999997},{"$f":"IFERROR((E25/VLOOKUP(\"TOTAL\",$D$12:$L$312,2,0))*100,\"\")","v":0.92746413736951272},{"$f":"IFERROR((E25/VLOOKUP(\"TOTAL\",$D$12:$L$312,3,0))*100,\"\")","v":0.9639220586406152},{"$f":"IF(E24=\"\",\"\",E25-F25)","v":204311.69344000053},{"$f":"IF(E24=\"\",\"\",IFERROR((E25/F25-1)*100,\"ND\"))","v":9.2865381615751872},{"$f":"IF(E24=\"\",\"\",IFERROR((E25/VLOOKUP(B25&\"|\"&VLOOKUP(TDPrimas!$B$4,Cat!R:T,2,0),'TD Operación'!A:D,4,0))*100,\"ND\"))","v":"ND"},{"$f":"IF(E24=\"\",\"\",(VLOOKUP(B25,'TDPrimas Vida'!$B:$N,7,0)))","v":6.4080281355447184}]
[null,{"$f":"IF(C26=\"\",B25,D26)","v":"Monterrey New York Life"},null,{"$f":"IF(D25=\"\",\"\",\"Renovación\")","v":"Renovación"},{"$f":"IF(E24=\"\",\"\",(VLOOKUP(B26,'TDPrimas Vida'!$B:$N,8,0)))","v":16907794.12985},{"$f":"IF(E24=\"\",\"\",(VLOOKUP(B26,'TDPrimas Vida'!$B:$N,9,0)))","v":15411250.563300001},{"$f":"IFERROR((E26/VLOOKUP(\"TOTAL\",$D$12:$L$312,2,0))*100,\"\")","v":6.5219585130970117},{"$f":"IFERROR((E26/VLOOKUP(\"TOTAL\",$D$12:$L$312,3,0))*100,\"\")","v":6.7783318222346303},{"$f":"IF(E24=\"\",\"\",E26-F26)","v":1496543.5665499996},{"$f":"IF(E24=\"\",\"\",IFERROR((E26/F26-1)*100,\"ND\"))","v":9.7107211410463634},{"$f":"IF(E24=\"\",\"\",IFERROR((E26/VLOOKUP(B26&\"|\"&VLOOKUP(TDPrimas!$B$4,Cat!R:T,2,0),'TD Operación'!A:D,4,0))*100,\"ND\"))","v":"ND"},{"$f":"IF(E24=\"\",\"\",(VLOOKUP(B26,'TDPrimas Vida'!$B:$N,10,0)))","v":45.061465955238624}]
[null,{"$f":"IF(C27=\"\",B26,D27)","v":"Monterrey New York Life"},null,{"$f":"IF(D26=\"\",\"\",\"Únicas\")","v":"Únicas"},{"$f":"IF(E25=\"\",\"\",(VLOOKUP(B27,'TDPrimas Vida'!$B:$N,11,0)))","v":6413974.7113100002},{"$f":"IF(E25=\"\",\"\",(VLOOKUP(B27,'TDPrimas Vida'!$B:$N,12,0)))","v":5937658.0608600006},{"$f":"IFERROR((E27/VLOOKUP(\"TOTAL\",$D$12:$L$312,2,0))*100,\"\")","v":2.4741061222980676},{"$f":"IFERROR((E27/VLOOKUP(\"TOTAL\",$D$12:$L$312,3,0))*100,\"\")","v":2.571361382732098},{"$f":"IF(E24=\"\",\"\",E27-F27)","v":476316.65044999961},{"$f":"IF(E24=\"\",\"\",IFERROR((E27/F27-1)*100,\"ND\"))","v":8.0219616146270702},{"$f":"IF(E24=\"\",\"\",IFERROR((E27/VLOOKUP(B27&\"|\"&VLOOKUP(TDPrimas!$B$4,Cat!R:T,2,0),'TD Operación'!A:D,4,0))*100,\"ND\"))","v":"ND"},{"$f":"IF(E24=\"\",\"\",(VLOOKUP(B27,'TDPrimas Vida'!$B:$N,13,0)))","v":17.094075127233712}]
[null,{"$f":"IF(C28=\"\",B24,D28)","v":"Citibanamex Seguros"},{"$f":"IF('TDPrimas Vida'!A11=\"\",\"\",'TDPrimas Vida'!A11)","v":5},{"$f":"IF('TDPrimas Vida'!B11=\"\",\"\",'TDPrimas Vida'!B11)","v":"Citibanamex Seguros"},{"$f":"IF('TDPrimas Vida'!C11=\"\",\"\",'TDPrimas Vida'!C11)","v":16107597.506620001},{"$f":"IF('TDPrimas Vida'!D11=\"\",\"\",'TDPrimas Vida'!D11)","v":23397154.32457},{"$f":"IF('TDPrimas Vida'!C11=\"\",\"\",IFERROR((E28/VLOOKUP(\"TOTAL\",$D$12:$L$312,2,0))*100,\"\"))","v":6.2132932230570352},{"$f":"IF('TDPrimas Vida'!C11=\"\",\"\",IFERROR((E28/VLOOKUP(\"TOTAL\",$D$12:$L$312,3,0))*100,\"\"))","v":6.4575331305999377},{"$f":"IF('TDPrimas Vida'!C11=\"\",\"\",E28-F28)","v":-7289556.8179499991},{"$f":"IFERROR(IF('TDPrimas Vida'!C11=\"\",\"\",(E28/F28-1)*100),\"ND\")","v":-31.155741065036413},{"$f":"IF(E28=\"\",\"\",IFERROR((E28/VLOOKUP(D28&\"|\"&VLOOKUP(TDPrimas!$B$4,Cat!R:T,2,0),'TD Operación'!A:D,4,0))*100,\"ND\"))","v":"ND"},{"$f":"IF('TDPrimas Vida'!E11=\"\",\"\",'TDPrimas Vida'!E11)","v":94.340009805628526}]
[null,{"$f":"IF(C29=\"\",B28,D29)","v":"Citibanamex Seguros"},null,{"$f":"IF(D28=\"\",\"\",\"1er Año\")","v":"1er Año"},{"$f":"IF(E28=\"\",\"\",(VLOOKUP(B29,'TDPrimas Vida'!$B:$N,5,0)))","v":8860948.79256},{"$f":"IF(E28=\"\",\"\",(VLOOKUP(B29,'TDPrimas Vida'!$B:$N,6,0)))","v":14333370.963640001},{"$f":"IFERROR((E29/VLOOKUP(\"TOTAL\",$D$12:$L$312,2,0))*100,\"\")","v":3.4179940900585168},{"$f":"IFERROR((E29/VLOOKUP(\"TOTAL\",$D$12:$L$312,3,0))*100,\"\")","v":3.5523528802472955},{"$f":"IF(E28=\"\",\"\",E29-F29)","v":-5472422.1710800007},{"$f":"IF(E28=\"\",\"\",IFERROR((E29/F29-1)*100,\"ND\"))","v":-38.179589330117103},{"$f":"IF(E28=\"\",\"\",IFERROR((E29/VLOOKUP(B29&\"|\"&VLOOKUP(TDPrimas!$B$4,Cat!R:T,2,0),'TD Operación'!A:D,4,0))*100,\"ND\"))","v":"ND"},{"$f":"IF(E28=\"\",\"\",(VLOOKUP(B29,'TDPrimas Vida'!$B:$N,7,0)))","v":51.897373002629465}]
[null,{"$f":"IF(C30=\"\",B29,D30)","v":"Citibanamex Seguros"},null,{"$f":"IF(D29=\"\",\"\",\"Renovación\")","v":"Renovación"},{"$f":"IF(E28=\"\",\"\",(VLOOKUP(B30,'TDPrimas Vida'!$B:$N,8,0)))","v":7246648.7140600001},{"$f":"IF(E28=\"\",\"\",(VLOOKUP(B30,'TDPrimas Vida'!$B:$N,9,0)))","v":9063783.3609299995},{"$f":"IFERROR((E30/VLOOKUP(\"TOTAL\",$D$12:$L$312,2,0))*100,\"\")","v":2.795299132998518},{"$f":"IFERROR((E30/VLOOKUP(\"TOTAL\",$D$12:$L$312,3,0))*100,\"\")","v":2.9051802503526423},{"$f":"IF(E28=\"\",\"\",E30-F30)","v":-1817134.6468699994},{"$f":"IF(E28=\"\",\"\",IFERROR((E30/F30-1)*100,\"ND\"))","v":-20.048301846035631},{"$f":"IF(E28=\"\",\"\",IFERROR((E30/VLOOKUP(B30&\"|\"&VLOOKUP(TDPrimas!$B$4,Cat!R:T,2,0),'TD Operación'!A:D,4,0))*100,\"ND\"))","v":"ND"},{"$f":"IF(E28=\"\",\"\",(VLOOKUP(B30,'TDPrimas Vida'!$B:$N,10,0)))","v":42.442636802999047}]
[null,{"$f":"IF(C31=\"\",B30,D31)","v":"Citibanamex Seguros"},null,{"$f":"IF(D30=\"\",\"\",\"Únicas\")","v":"Únicas"},{"$f":"IF(E29=\"\",\"\",(VLOOKUP(B31,'TDPrimas Vida'!$B:$N,11,0)))","v":0},{"$f":"IF(E29=\"\",\"\",(VLOOKUP(B31,'TDPrimas Vida'!$B:$N,12,0)))","v":0},{"$f":"IFERROR((E31/VLOOKUP(\"TOTAL\",$D$12:$L$312,2,0))*100,\"\")","v":0},{"$f":"IFERROR((E31/VLOOKUP(\"TOTAL\",$D$12:$L$312,3,0))*100,\"\")","v":0},{"$f":"IF(E28=\"\",\"\",E31-F31)","v":0},{"$f":"IF(E28=\"\",\"\",IFERROR((E31/F31-1)*100,\"ND\"))","v":"ND"},{"$f":"IF(E28=\"\",\"\",IFERROR((E31/VLOOKUP(B31&\"|\"&VLOOKUP(TDPrimas!$B$4,Cat!R:T,2,0),'TD Operación'!A:D,4,0))*100,\"ND\"))","v":"ND"},{"$f":"IF(E28=\"\",\"\",(VLOOKUP(B31,'TDPrimas Vida'!$B:$N,13,0)))","v":0}]
[null,{"$f":"IF(C32=\"\",B28,D32)","v":"TOTAL GRANDES"},{"$f":"IF('TDPrimas Vida'!A12=\"\",\"\",'TDPrimas Vida'!A12)","v":5.0999999999999996},{"$f":"IF('TDPrimas Vida'!B12=\"\",\"\",'TDPrimas Vida'!B12)","v":"TOTAL GRANDES"},{"$f":"IF('TDPrimas Vida'!C12=\"\",\"\",'TDPrimas Vida'!C12)","v":168247557.64135},{"$f":"IF('TDPrimas Vida'!D12=\"\",\"\",'TDPrimas Vida'!D12)","v":162258111.18029001},{"$f":"IF('TDPrimas Vida'!C12=\"\",\"\",IFERROR((E32/VLOOKUP(\"TOTAL\",$D$12:$L$312,2,0))*100,\"\"))","v":64.899275590867262},{"$f":"IF('TDPrimas Vida'!C12=\"\",\"\",IFERROR((E32/VLOOKUP(\"TOTAL\",$D$12:$L$312,3,0))*100,\"\"))","v":67.450417553891484},{"$f":"IF('TDPrimas Vida'!C12=\"\",\"\",E32-F32)","v":5989446.4610599875},{"$f":"IFERROR(IF('TDPrimas Vida'!C12=\"\",\"\",(E32/F32-1)*100),\"ND\")","v":3.6913078905528085},{"$f":"IF(E32=\"\",\"\",IFERROR((E32/VLOOKUP(D32&\"|\"&VLOOKUP(TDPrimas!$B$4,Cat!R:T,2,0),'TD Operación'!A:D,4,0))*100,\"ND\"))","v":"ND"},{"$f":"IF('TDPrimas Vida'!E12=\"\",\"\",'TDPrimas Vida'!E12)","v":62.838388235980226}]
[null,{"$f":"IF(C33=\"\",B32,D33)","v":"TOTAL GRANDES"},null,{"$f":"IF(D32=\"\",\"\",\"1er Año\")","v":"1er Año"},{"$f":"IF(E32=\"\",\"\",(VLOOKUP(B33,'TDPrimas Vida'!$B:$N,5,0)))","v":65676133.992039993},{"$f":"IF(E32=\"\",\"\",(VLOOKUP(B33,'TDPrimas Vida'!$B:$N,6,0)))","v":65013523.852810003},{"$f":"IFERROR((E33/VLOOKUP(\"TOTAL\",$D$12:$L$312,2,0))*100,\"\")","v":25.333702191255941},{"$f":"IFERROR((E33/VLOOKUP(\"TOTAL\",$D$12:$L$312,3,0))*100,\"\")","v":26.329551068619477},{"$f":"IF(E32=\"\",\"\",E33-F33)","v":662610.13922999054},{"$f":"IF(E32=\"\",\"\",IFERROR((E33/F33-1)*100,\"ND\"))","v":1.0191881626507859},{"$f":"IF(E32=\"\",\"\",IFERROR((E33/VLOOKUP(B33&\"|\"&VLOOKUP(TDPrimas!$B$4,Cat!R:T,2,0),'TD Operación'!A:D,4,0))*100,\"ND\"))","v":"ND"},{"$f":"IF(E32=\"\",\"\",(VLOOKUP(B33,'TDPrimas Vida'!$B:$N,7,0)))","v":24.52922623951234}]
[null,{"$f":"IF(C34=\"\",B33,D34)","v":"TOTAL GRANDES"},null,{"$f":"IF(D33=\"\",\"\",\"Renovación\")","v":"Renovación"},{"$f":"IF(E32=\"\",\"\",(VLOOKUP(B34,'TDPrimas Vida'!$B:$N,8,0)))","v":79616973.053499997},{"$f":"IF(E32=\"\",\"\",(VLOOKUP(B34,'TDPrimas Vida'!$B:$N,9,0)))","v":77500858.055659994},{"$f":"IFERROR((E34/VLOOKUP(\"TOTAL\",$D$12:$L$312,2,0))*100,\"\")","v":30.71119693115736},{"$f":"IFERROR((E34/VLOOKUP(\"TOTAL\",$D$12:$L$312,3,0))*100,\"\")","v":31.918431103071626},{"$f":"IF(E32=\"\",\"\",E34-F34)","v":2116114.9978400022},{"$f":"IF(E32=\"\",\"\",IFERROR((E34/F34-1)*100,\"ND\"))","v":2.7304407343725634},{"$f":"IF(E32=\"\",\"\",IFERROR((E34/VLOOKUP(B34&\"|\"&VLOOKUP(TDPrimas!$B$4,Cat!R:T,2,0),'TD Operación'!A:D,4,0))*100,\"ND\"))","v":"ND"},{"$f":"IF(E32=\"\",\"\",(VLOOKUP(B34,'TDPrimas Vida'!$B:$N,10,0)))","v":29.735957734222868}]
[null,{"$f":"IF(C35=\"\",B34,D35)","v":"TOTAL GRANDES"},null,{"$f":"IF(D34=\"\",\"\",\"Únicas\")","v":"Únicas"},{"$f":"IF(E33=\"\",\"\",(VLOOKUP(B35,'TDPrimas Vida'!$B:$N,11,0)))","v":22954450.595630001},{"$f":"IF(E33=\"\",\"\",(VLOOKUP(B35,'TDPrimas Vida'!$B:$N,12,0)))","v":19743729.271340001},{"$f":"IFERROR((E35/VLOOKUP(\"TOTAL\",$D$12:$L$312,2,0))*100,\"\")","v":8.8543764683845261},{"$f":"IFERROR((E35/VLOOKUP(\"TOTAL\",$D$12:$L$312,3,0))*100,\"\")","v":9.2024353821282219},{"$f":"IF(E32=\"\",\"\",E35-F35)","v":3210721.3242899999},{"$f":"IF(E32=\"\",\"\",IFERROR((E35/F35-1)*100,\"ND\"))","v":16.261980095881292},{"$f":"IF(E32=\"\",\"\",IFERROR((E35/VLOOKUP(B35&\"|\"&VLOOKUP(TDPrimas!$B$4,Cat!R:T,2,0),'TD Operación'!A:D,4,0))*100,\"ND\"))","v":"ND"},{"$f":"IF(E32=\"\",\"\",(VLOOKUP(B35,'TDPrimas Vida'!$B:$N,13,0)))","v":8.5732042621777911}]
[null,{"$f":"IF(C36=\"\",B32,D36)","v":"Banorte"},{"$f":"IF('TDPrimas Vida'!A13=\"\",\"\",'TDPrimas Vida'!A13)","v":6},{"$f":"IF('TDPrimas Vida'!B13=\"\",\"\",'TDPrimas Vida'!B13)","v":"Banorte"},{"$f":"IF('TDPrimas Vida'!C13=\"\",\"\",'TDPrimas Vida'!C13)","v":15636401.477530001},{"$f":"IF('TDPrimas Vida'!D13=\"\",\"\",'TDPrimas Vida'!D13)","v":15171410.449130001},{"$f":"IF('TDPrimas Vida'!C13=\"\",\"\",IFERROR((E36/VLOOKUP(\"TOTAL\",$D$12:$L$312,2,0))*100,\"\"))","v":6.031535571546744},{"$f":"IF('TDPrimas Vida'!C13=\"\",\"\",IFERROR((E36/VLOOKUP(\"TOTAL\",$D$12:$L$312,3,0))*100,\"\"))","v":6.2686307218077344},{"$f":"IF('TDPrimas Vida'!C13=\"\",\"\",E36-F36)","v":464991.02840000018},{"$f":"IFERROR(IF('TDPrimas Vida'!C13=\"\",\"\",(E36/F36-1)*100),\"ND\")","v":3.0649162776204886},{"$f":"IF(E36=\"\",\"\",IFERROR((E36/VLOOKUP(D36&\"|\"&VLOOKUP(TDPrimas!$B$4,Cat!R:T,2,0),'TD Operación'!A:D,4,0))*100,\"ND\"))","v":"ND"},{"$f":"IF('TDPrimas Vida'!E13=\"\",\"\",'TDPrimas Vida'!E13)","v":54.078639548043924}]
[null,{"$f":"IF(C37=\"\",B36,D37)","v":"Banorte"},null,{"$f":"IF(D36=\"\",\"\",\"1er Año\")","v":"1er Año"},{"$f":"IF(E36=\"\",\"\",(VLOOKUP(B37,'TDPrimas Vida'!$B:$N,5,0)))","v":5176883.0321200006},{"$f":"IF(E36=\"\",\"\",(VLOOKUP(B37,'TDPrimas Vida'!$B:$N,6,0)))","v":3838669.0104100001},{"$f":"IFERROR((E37/VLOOKUP(\"TOTAL\",$D$12:$L$312,2,0))*100,\"\")","v":1.9969143285837991},{"$f":"IFERROR((E37/VLOOKUP(\"TOTAL\",$D$12:$L$312,3,0))*100,\"\")","v":2.0754115366625183},{"$f":"IF(E36=\"\",\"\",E37-F37)","v":1338214.0217100005},{"$f":"IF(E36=\"\",\"\",IFERROR((E37/F37-1)*100,\"ND\"))","v":34.861406859537205},{"$f":"IF(E36=\"\",\"\",IFERROR((E37/VLOOKUP(B37&\"|\"&VLOOKUP(TDPrimas!$B$4,Cat!R:T,2,0),'TD Operación'!A:D,4,0))*100,\"ND\"))","v":"ND"},{"$f":"IF(E36=\"\",\"\",(VLOOKUP(B37,'TDPrimas Vida'!$B:$N,7,0)))","v":17.904297985614644}]
[null,{"$f":"IF(C38=\"\",B37,D38)","v":"Banorte"},null,{"$f":"IF(D37=\"\",\"\",\"Renovación\")","v":"Renovación"},{"$f":"IF(E36=\"\",\"\",(VLOOKUP(B38,'TDPrimas Vida'!$B:$N,8,0)))","v":7984926.7045700001},{"$f":"IF(E36=\"\",\"\",(VLOOKUP(B38,'TDPrimas Vida'!$B:$N,9,0)))","v":7476991.3361799996},{"$f":"IFERROR((E38/VLOOKUP(\"TOTAL\",$D$12:$L$312,2,0))*100,\"\")","v":3.0800801273884448},{"$f":"IFERROR((E38/VLOOKUP(\"TOTAL\",$D$12:$L$312,3,0))*100,\"\")","v":3.2011557725465454},{"$f":"IF(E36=\"\",\"\",E38-F38)","v":507935.36839000043},{"$f":"IF(E36=\"\",\"\",IFERROR((E38/F38-1)*100,\"ND\"))","v":6.79331225023867},{"$f":"IF(E36=\"\",\"\",IFERROR((E38/VLOOKUP(B38&\"|\"&VLOOKUP(TDPrimas!$B$4,Cat!R:T,2,0),'TD Operación'!A:D,4,0))*100,\"ND\"))","v":"ND"},{"$f":"IF(E36=\"\",\"\",(VLOOKUP(B38,'TDPrimas Vida'!$B:$N,10,0)))","v":27.615943073252598}]
[null,{"$f":"IF(C39=\"\",B38,D39)","v":"Banorte"},null,{"$f":"IF(D38=\"\",\"\",\"Únicas\")","v":"Únicas"},{"$f":"IF(E37=\"\",\"\",(VLOOKUP(B39,'TDPrimas Vida'!$B:$N,11,0)))","v":2474591.7408400001},{"$f":"IF(E37=\"\",\"\",(VLOOKUP(B39,'TDPrimas Vida'!$B:$N,12,0)))","v":3855750.1025400003},{"$f":"IFERROR((E39/VLOOKUP(\"TOTAL\",$D$12:$L$312,2,0))*100,\"\")","v":0.95454111557449972},{"$f":"IFERROR((E39/VLOOKUP(\"TOTAL\",$D$12:$L$312,3,0))*100,\"\")","v":0.9920634125986707},{"$f":"IF(E36=\"\",\"\",E39-F39)","v":-1381158.3617000002},{"$f":"IF(E36=\"\",\"\",IFERROR((E39/F39-1)*100,\"ND\"))","v":-35.820743693688897},{"$f":"IF(E36=\"\",\"\",IFERROR((E39/VLOOKUP(B39&\"|\"&VLOOKUP(TDPrimas!$B$4,Cat!R:T,2,0),'TD Operación'!A:D,4,0))*100,\"ND\"))","v":"ND"},{"$f":"IF(E36=\"\",\"\",(VLOOKUP(B39,'TDPrimas Vida'!$B:$N,13,0)))","v":8.5583984891766907}]
[null,{"$f":"IF(C40=\"\",B36,D40)","v":"Allianz México"},{"$f":"IF('TDPrimas Vida'!A14=\"\",\"\",'TDPrimas Vida'!A14)","v":7},{"$f":"IF('TDPrimas Vida'!B14=\"\",\"\",'TDPrimas Vida'!B14)","v":"Allianz México"},{"$f":"IF('TDPrimas Vida'!C14=\"\",\"\",'TDPrimas Vida'!C14)","v":10326844.195729999},{"$f":"IF('TDPrimas Vida'!D14=\"\",\"\",'TDPrimas Vida'!D14)","v":9080227.0518600009},{"$f":"IF('TDPrimas Vida'!C14=\"\",\"\",IFERROR((E40/VLOOKUP(\"TOTAL\",$D$12:$L$312,2,0))*100,\"\"))","v":3.9834439015827581},{"$f":"IF('TDPrimas Vida'!C14=\"\",\"\",IFERROR((E40/VLOOKUP(\"TOTAL\",$D$12:$L$312,3,0))*100,\"\"))","v":4.140030100768481},{"$f":"IF('TDPrimas Vida'!C14=\"\",\"\",E40-F40)","v":1246617.1438699979},{"$f":"IFERROR(IF('TDPrimas Vida'!C14=\"\",\"\",(E40/F40-1)*100),\"ND\")","v":13.728920397586752},{"$f":"IF(E40=\"\",\"\",IFERROR((E40/VLOOKUP(D40&\"|\"&VLOOKUP(TDPrimas!$B$4,Cat!R:T,2,0),'TD Operación'!A:D,4,0))*100,\"ND\"))","v":"ND"},{"$f":"IF('TDPrimas Vida'!E14=\"\",\"\",'TDPrimas Vida'!E14)","v":54.496732978402477}]
[null,{"$f":"IF(C41=\"\",B40,D41)","v":"Allianz México"},null,{"$f":"IF(D40=\"\",\"\",\"1er Año\")","v":"1er Año"},{"$f":"IF(E40=\"\",\"\",(VLOOKUP(B41,'TDPrimas Vida'!$B:$N,5,0)))","v":4570849.7426499994},{"$f":"IF(E40=\"\",\"\",(VLOOKUP(B41,'TDPrimas Vida'!$B:$N,6,0)))","v":4859120.9536200007},{"$f":"IFERROR((E41/VLOOKUP(\"TOTAL\",$D$12:$L$312,2,0))*100,\"\")","v":1.7631449828534151},{"$f":"IFERROR((E41/VLOOKUP(\"TOTAL\",$D$12:$L$312,3,0))*100,\"\")","v":1.8324528928678367},{"$f":"IF(E40=\"\",\"\",E41-F41)","v":-288271.2109700013},{"$f":"IF(E40=\"\",\"\",IFERROR((E41/F41-1)*100,\"ND\"))","v":-5.9325794463964137},{"$f":"IF(E40=\"\",\"\",IFERROR((E41/VLOOKUP(B41&\"|\"&VLOOKUP(TDPrimas!$B$4,Cat!R:T,2,0),'TD Operación'!A:D,4,0))*100,\"ND\"))","v":"ND"},{"$f":"IF(E40=\"\",\"\",(VLOOKUP(B41,'TDPrimas Vida'!$B:$N,7,0)))","v":24.121248775361057}]
[null,{"$f":"IF(C42=\"\",B41,D42)","v":"Allianz México"},null,{"$f":"IF(D41=\"\",\"\",\"Renovación\")","v":"Renovación"},{"$f":"IF(E40=\"\",\"\",(VLOOKUP(B42,'TDPrimas Vida'!$B:$N,8,0)))","v":5755994.4530800004},{"$f":"IF(E40=\"\",\"\",(VLOOKUP(B42,'TDPrimas Vida'!$B:$N,9,0)))","v":4221106.0982400002},{"$f":"IFERROR((E42/VLOOKUP(\"TOTAL\",$D$12:$L$312,2,0))*100,\"\")","v":2.2202989187293434},{"$f":"IFERROR((E42/VLOOKUP(\"TOTAL\",$D$12:$L$312,3,0))*100,\"\")","v":2.3075772079006454},{"$f":"IF(E40=\"\",\"\",E42-F42)","v":1534888.3548400002},{"$f":"IF(E40=\"\",\"\",IFERROR((E42/F42-1)*100,\"ND\"))","v":36.362231109992123},{"$f":"IF(E40=\"\",\"\",IFERROR((E42/VLOOKUP(B42&\"|\"&VLOOKUP(TDPrimas!$B$4,Cat!R:T,2,0),'TD Operación'!A:D,4,0))*100,\"ND\"))","v":"ND"},{"$f":"IF(E40=\"\",\"\",(VLOOKUP(B42,'TDPrimas Vida'!$B:$N,10,0)))","v":30.37548420304142}]
[null,{"$f":"IF(C43=\"\",B42,D43)","v":"Allianz México"},null,{"$f":"IF(D42=\"\",\"\",\"Únicas\")","v":"Únicas"},{"$f":"IF(E41=\"\",\"\",(VLOOKUP(B43,'TDPrimas Vida'!$B:$N,11,0)))","v":0},{"$f":"IF(E41=\"\",\"\",(VLOOKUP(B43,'TDPrimas Vida'!$B:$N,12,0)))","v":0},{"$f":"IFERROR((E43/VLOOKUP(\"TOTAL\",$D$12:$L$312,2,0))*100,\"\")","v":0},{"$f":"IFERROR((E43/VLOOKUP(\"TOTAL\",$D$12:$L$312,3,0))*100,\"\")","v":0},{"$f":"IF(E40=\"\",\"\",E43-F43)","v":0},{"$f":"IF(E40=\"\",\"\",IFERROR((E43/F43-1)*100,\"ND\"))","v":"ND"},{"$f":"IF(E40=\"\",\"\",IFERROR((E43/VLOOKUP(B43&\"|\"&VLOOKUP(TDPrimas!$B$4,Cat!R:T,2,0),'TD Operación'!A:D,4,0))*100,\"ND\"))","v":"ND"},{"$f":"IF(E40=\"\",\"\",(VLOOKUP(B43,'TDPrimas Vida'!$B:$N,13,0)))","v":0}]
[null,{"$f":"IF(C44=\"\",B40,D44)","v":"Zurich Santander"},{"$f":"IF('TDPrimas Vida'!A15=\"\",\"\",'TDPrimas Vida'!A15)","v":8},{"$f":"IF('TDPrimas Vida'!B15=\"\",\"\",'TDPrimas Vida'!B15)","v":"Zurich Santander"},{"$f":"IF('TDPrimas Vida'!C15=\"\",\"\",'TDPrimas Vida'!C15)","v":10124406.058669999},{"$f":"IF('TDPrimas Vida'!D15=\"\",\"\",'TDPrimas Vida'!D15)","v":10872638.540720001},{"$f":"IF('TDPrimas Vida'!C15=\"\",\"\",IFERROR((E44/VLOOKUP(\"TOTAL\",$D$12:$L$312,2,0))*100,\"\"))","v":3.9053560610735669},{"$f":"IF('TDPrimas Vida'!C15=\"\",\"\",IFERROR((E44/VLOOKUP(\"TOTAL\",$D$12:$L$312,3,0))*100,\"\"))","v":4.0588726856775832},{"$f":"IF('TDPrimas Vida'!C15=\"\",\"\",E44-F44)","v":-748232.48205000162},{"$f":"IFERROR(IF('TDPrimas Vida'!C15=\"\",\"\",(E44/F44-1)*100),\"ND\")","v":-6.8817930371522511},{"$f":"IF(E44=\"\",\"\",IFERROR((E44/VLOOKUP(D44&\"|\"&VLOOKUP(TDPrimas!$B$4,Cat!R:T,2,0),'TD Operación'!A:D,4,0))*100,\"ND\"))","v":"ND"},{"$f":"IF('TDPrimas Vida'!E15=\"\",\"\",'TDPrimas Vida'!E15)","v":69.640834836847148}]
[null,{"$f":"IF(C45=\"\",B44,D45)","v":"Zurich Santander"},null,{"$f":"IF(D44=\"\",\"\",\"1er Año\")","v":"1er Año"},{"$f":"IF(E44=\"\",\"\",(VLOOKUP(B45,'TDPrimas Vida'!$B:$N,5,0)))","v":4184166.79415},{"$f":"IF(E44=\"\",\"\",(VLOOKUP(B45,'TDPrimas Vida'!$B:$N,6,0)))","v":6128239.4036500007},{"$f":"IFERROR((E45/VLOOKUP(\"TOTAL\",$D$12:$L$312,2,0))*100,\"\")","v":1.6139871371598329},{"$f":"IFERROR((E45/VLOOKUP(\"TOTAL\",$D$12:$L$312,3,0))*100,\"\")","v":1.6774317638664087},{"$f":"IF(E44=\"\",\"\",E45-F45)","v":-1944072.6095000007},{"$f":"IF(E44=\"\",\"\",IFERROR((E45/F45-1)*100,\"ND\"))","v":-31.723183143630195},{"$f":"IF(E44=\"\",\"\",IFERROR((E45/VLOOKUP(B45&\"|\"&VLOOKUP(TDPrimas!$B$4,Cat!R:T,2,0),'TD Operación'!A:D,4,0))*100,\"ND\"))","v":"ND"},{"$f":"IF(E44=\"\",\"\",(VLOOKUP(B45,'TDPrimas Vida'!$B:$N,7,0)))","v":28.780835829049995}]
[null,{"$f":"IF(C46=\"\",B45,D46)","v":"Zurich Santander"},null,{"$f":"IF(D45=\"\",\"\",\"Renovación\")","v":"Renovación"},{"$f":"IF(E44=\"\",\"\",(VLOOKUP(B46,'TDPrimas Vida'!$B:$N,8,0)))","v":1359424.2652700001},{"$f":"IF(E44=\"\",\"\",(VLOOKUP(B46,'TDPrimas Vida'!$B:$N,9,0)))","v":1224789.94404},{"$f":"IFERROR((E46/VLOOKUP(\"TOTAL\",$D$12:$L$312,2,0))*100,\"\")","v":0.52437997480319365},{"$f":"IFERROR((E46/VLOOKUP(\"TOTAL\",$D$12:$L$312,3,0))*100,\"\")","v":0.54499295924886693},{"$f":"IF(E44=\"\",\"\",E46-F46)","v":134634.32123000012},{"$f":"IF(E44=\"\",\"\",IFERROR((E46/F46-1)*100,\"ND\"))","v":10.992441755841442},{"$f":"IF(E44=\"\",\"\",IFERROR((E46/VLOOKUP(B46&\"|\"&VLOOKUP(TDPrimas!$B$4,Cat!R:T,2,0),'TD Operación'!A:D,4,0))*100,\"ND\"))","v":"ND"},{"$f":"IF(E44=\"\",\"\",(VLOOKUP(B46,'TDPrimas Vida'!$B:$N,10,0)))","v":9.3508142781174595}]
[null,{"$f":"IF(C47=\"\",B46,D47)","v":"Zurich Santander"},null,{"$f":"IF(D46=\"\",\"\",\"Únicas\")","v":"Únicas"},{"$f":"IF(E45=\"\",\"\",(VLOOKUP(B47,'TDPrimas Vida'!$B:$N,11,0)))","v":4580814.9992500003},{"$f":"IF(E45=\"\",\"\",(VLOOKUP(B47,'TDPrimas Vida'!$B:$N,12,0)))","v":3519609.1930300002},{"$f":"IFERROR((E47/VLOOKUP(\"TOTAL\",$D$12:$L$312,2,0))*100,\"\")","v":1.7669889491105411},{"$f":"IFERROR((E47/VLOOKUP(\"TOTAL\",$D$12:$L$312,3,0))*100,\"\")","v":1.8364479625623078},{"$f":"IF(E44=\"\",\"\",E47-F47)","v":1061205.8062200001},{"$f":"IF(E44=\"\",\"\",IFERROR((E47/F47-1)*100,\"ND\"))","v":30.151239754730199},{"$f":"IF(E44=\"\",\"\",IFERROR((E47/VLOOKUP(B47&\"|\"&VLOOKUP(TDPrimas!$B$4,Cat!R:T,2,0),'TD Operación'!A:D,4,0))*100,\"ND\"))","v":"ND"},{"$f":"IF(E44=\"\",\"\",(VLOOKUP(B47,'TDPrimas Vida'!$B:$N,13,0)))","v":31.509184729679696}]
[null,{"$f":"IF(C48=\"\",B44,D48)","v":"HSBC Seguros"},{"$f":"IF('TDPrimas Vida'!A16=\"\",\"\",'TDPrimas Vida'!A16)","v":9},{"$f":"IF('TDPrimas Vida'!B16=\"\",\"\",'TDPrimas Vida'!B16)","v":"HSBC Seguros"},{"$f":"IF('TDPrimas Vida'!C16=\"\",\"\",'TDPrimas Vida'!C16)","v":6262776.06623},{"$f":"IF('TDPrimas Vida'!D16=\"\",\"\",'TDPrimas Vida'!D16)","v":6118480.6822800003},{"$f":"IF('TDPrimas Vida'!C16=\"\",\"\",IFERROR((E48/VLOOKUP(\"TOTAL\",$D$12:$L$312,2,0))*100,\"\"))","v":2.4157832397934063},{"$f":"IF('TDPrimas Vida'!C16=\"\",\"\",IFERROR((E48/VLOOKUP(\"TOTAL\",$D$12:$L$312,3,0))*100,\"\"))","v":2.5107458713558888},{"$f":"IF('TDPrimas Vida'!C16=\"\",\"\",E48-F48)","v":144295.3839499997},{"$f":"IFERROR(IF('TDPrimas Vida'!C16=\"\",\"\",(E48/F48-1)*100),\"ND\")","v":2.3583531834610483},{"$f":"IF(E48=\"\",\"\",IFERROR((E48/VLOOKUP(D48&\"|\"&VLOOKUP(TDPrimas!$B$4,Cat!R:T,2,0),'TD Operación'!A:D,4,0))*100,\"ND\"))","v":"ND"},{"$f":"IF('TDPrimas Vida'!E16=\"\",\"\",'TDPrimas Vida'!E16)","v":94.601387926073173}]
[null,{"$f":"IF(C49=\"\",B48,D49)","v":"HSBC Seguros"},null,{"$f":"IF(D48=\"\",\"\",\"1er Año\")","v":"1er Año"},{"$f":"IF(E48=\"\",\"\",(VLOOKUP(B49,'TDPrimas Vida'!$B:$N,5,0)))","v":3961507.7144999998},{"$f":"IF(E48=\"\",\"\",(VLOOKUP(B49,'TDPrimas Vida'!$B:$N,6,0)))","v":4219031.9230899997},{"$f":"IFERROR((E49/VLOOKUP(\"TOTAL\",$D$12:$L$312,2,0))*100,\"\")","v":1.5280993348309699},{"$f":"IFERROR((E49/VLOOKUP(\"TOTAL\",$D$12:$L$312,3,0))*100,\"\")","v":1.5881677762929771},{"$f":"IF(E48=\"\",\"\",E49-F49)","v":-257524.20858999994},{"$f":"IF(E48=\"\",\"\",IFERROR((E49/F49-1)*100,\"ND\"))","v":-6.1038696384499103},{"$f":"IF(E48=\"\",\"\",IFERROR((E49/VLOOKUP(B49&\"|\"&VLOOKUP(TDPrimas!$B$4,Cat!R:T,2,0),'TD Operación'!A:D,4,0))*100,\"ND\"))","v":"ND"},{"$f":"IF(E48=\"\",\"\",(VLOOKUP(B49,'TDPrimas Vida'!$B:$N,7,0)))","v":59.839937450796086}]
[null,{"$f":"IF(C50=\"\",B49,D50)","v":"HSBC Seguros"},null,{"$f":"IF(D49=\"\",\"\",\"Renovación\")","v":"Renovación"},{"$f":"IF(E48=\"\",\"\",(VLOOKUP(B50,'TDPrimas Vida'!$B:$N,8,0)))","v":2301268.3517299998},{"$f":"IF(E48=\"\",\"\",(VLOOKUP(B50,'TDPrimas Vida'!$B:$N,9,0)))","v":1899448.7591899999},{"$f":"IFERROR((E50/VLOOKUP(\"TOTAL\",$D$12:$L$312,2,0))*100,\"\")","v":0.8876839049624361},{"$f":"IFERROR((E50/VLOOKUP(\"TOTAL\",$D$12:$L$312,3,0))*100,\"\")","v":0.92257809506291166},{"$f":"IF(E48=\"\",\"\",E50-F50)","v":401819.59253999987},{"$f":"IF(E48=\"\",\"\",IFERROR((E50/F50-1)*100,\"ND\"))","v":21.154537104299219},{"$f":"IF(E48=\"\",\"\",IFERROR((E50/VLOOKUP(B50&\"|\"&VLOOKUP(TDPrimas!$B$4,Cat!R:T,2,0),'TD Operación'!A:D,4,0))*100,\"ND\"))","v":"ND"},{"$f":"IF(E48=\"\",\"\",(VLOOKUP(B50,'TDPrimas Vida'!$B:$N,10,0)))","v":34.761450475277073}]
[null,{"$f":"IF(C51=\"\",B50,D51)","v":"HSBC Seguros"},null,{"$f":"IF(D50=\"\",\"\",\"Únicas\")","v":"Únicas"},{"$f":"IF(E49=\"\",\"\",(VLOOKUP(B51,'TDPrimas Vida'!$B:$N,11,0)))","v":0},{"$f":"IF(E49=\"\",\"\",(VLOOKUP(B51,'TDPrimas Vida'!$B:$N,12,0)))","v":0},{"$f":"IFERROR((E51/VLOOKUP(\"TOTAL\",$D$12:$L$312,2,0))*100,\"\")","v":0},{"$f":"IFERROR((E51/VLOOKUP(\"TOTAL\",$D$12:$L$312,3,0))*100,\"\")","v":0},{"$f":"IF(E48=\"\",\"\",E51-F51)","v":0},{"$f":"IF(E48=\"\",\"\",IFERROR((E51/F51-1)*100,\"ND\"))","v":"ND"},{"$f":"IF(E48=\"\",\"\",IFERROR((E51/VLOOKUP(B51&\"|\"&VLOOKUP(TDPrimas!$B$4,Cat!R:T,2,0),'TD Operación'!A:D,4,0))*100,\"ND\"))","v":"ND"},{"$f":"IF(E48=\"\",\"\",(VLOOKUP(B51,'TDPrimas Vida'!$B:$N,13,0)))","v":0}]
[null,{"$f":"IF(C52=\"\",B48,D52)","v":"AXA Seguros"},{"$f":"IF('TDPrimas Vida'!A17=\"\",\"\",'TDPrimas Vida'!A17)","v":10},{"$f":"IF('TDPrimas Vida'!B17=\"\",\"\",'TDPrimas Vida'!B17)","v":"AXA Seguros"},{"$f":"IF('TDPrimas Vida'!C17=\"\",\"\",'TDPrimas Vida'!C17)","v":5473617.5753300004},{"$f":"IF('TDPrimas Vida'!D17=\"\",\"\",'TDPrimas Vida'!D17)","v":5769071.1362500004},{"$f":"IF('TDPrimas Vida'!C17=\"\",\"\",IFERROR((E52/VLOOKUP(\"TOTAL\",$D$12:$L$312,2,0))*100,\"\"))","v":2.1113757636684465},{"$f":"IF('TDPrimas Vida'!C17=\"\",\"\",IFERROR((E52/VLOOKUP(\"TOTAL\",$D$12:$L$312,3,0))*100,\"\"))","v":2.1943723651153335},{"$f":"IF('TDPrimas Vida'!C17=\"\",\"\",E52-F52)","v":-295453.56092000008},{"$f":"IFERROR(IF('TDPrimas Vida'!C17=\"\",\"\",(E52/F52-1)*100),\"ND\")","v":-5.1213367618838213},{"$f":"IF(E52=\"\",\"\",IFERROR((E52/VLOOKUP(D52&\"|\"&VLOOKUP(TDPrimas!$B$4,Cat!R:T,2,0),'TD Operación'!A:D,4,0))*100,\"ND\"))","v":"ND"},{"$f":"IF('TDPrimas Vida'!E17=\"\",\"\",'TDPrimas Vida'!E17)","v":11.642424363910202}]
[null,{"$f":"IF(C53=\"\",B52,D53)","v":"AXA Seguros"},null,{"$f":"IF(D52=\"\",\"\",\"1er Año\")","v":"1er Año"},{"$f":"IF(E52=\"\",\"\",(VLOOKUP(B53,'TDPrimas Vida'!$B:$N,5,0)))","v":1151388.4607500001},{"$f":"IF(E52=\"\",\"\",(VLOOKUP(B53,'TDPrimas Vida'!$B:$N,6,0)))","v":1329927.9210900001},{"$f":"IFERROR((E53/VLOOKUP(\"TOTAL\",$D$12:$L$312,2,0))*100,\"\")","v":0.44413290792397109},{"$f":"IFERROR((E53/VLOOKUP(\"TOTAL\",$D$12:$L$312,3,0))*100,\"\")","v":0.46159144021495796},{"$f":"IF(E52=\"\",\"\",E53-F53)","v":-178539.46033999999},{"$f":"IF(E52=\"\",\"\",IFERROR((E53/F53-1)*100,\"ND\"))","v":-13.424747124165215},{"$f":"IF(E52=\"\",\"\",IFERROR((E53/VLOOKUP(B53&\"|\"&VLOOKUP(TDPrimas!$B$4,Cat!R:T,2,0),'TD Operación'!A:D,4,0))*100,\"ND\"))","v":"ND"},{"$f":"IF(E52=\"\",\"\",(VLOOKUP(B53,'TDPrimas Vida'!$B:$N,7,0)))","v":2.4490116240816642}]
[null,{"$f":"IF(C54=\"\",B53,D54)","v":"AXA Seguros"},null,{"$f":"IF(D53=\"\",\"\",\"Renovación\")","v":"Renovación"},{"$f":"IF(E52=\"\",\"\",(VLOOKUP(B54,'TDPrimas Vida'!$B:$N,8,0)))","v":4315534.0315100001},{"$f":"IF(E52=\"\",\"\",(VLOOKUP(B54,'TDPrimas Vida'!$B:$N,9,0)))","v":4433822.9482800001},{"$f":"IFERROR((E54/VLOOKUP(\"TOTAL\",$D$12:$L$312,2,0))*100,\"\")","v":1.664660315781608},{"$f":"IFERROR((E54/VLOOKUP(\"TOTAL\",$D$12:$L$312,3,0))*100,\"\")","v":1.7300968672239359},{"$f":"IF(E52=\"\",\"\",E54-F54)","v":-118288.91677000001},{"$f":"IF(E52=\"\",\"\",IFERROR((E54/F54-1)*100,\"ND\"))","v":-2.6678764161272461},{"$f":"IF(E52=\"\",\"\",IFERROR((E54/VLOOKUP(B54&\"|\"&VLOOKUP(TDPrimas!$B$4,Cat!R:T,2,0),'TD Operación'!A:D,4,0))*100,\"ND\"))","v":"ND"},{"$f":"IF(E52=\"\",\"\",(VLOOKUP(B54,'TDPrimas Vida'!$B:$N,10,0)))","v":9.1791722494800911}]
[null,{"$f":"IF(C55=\"\",B54,D55)","v":"AXA Seguros"},null,{"$f":"IF(D54=\"\",\"\",\"Únicas\")","v":"Únicas"},{"$f":"IF(E53=\"\",\"\",(VLOOKUP(B55,'TDPrimas Vida'!$B:$N,11,0)))","v":6695.0830700000006},{"$f":"IF(E53=\"\",\"\",(VLOOKUP(B55,'TDPrimas Vida'!$B:$N,12,0)))","v":5320.2668800000001},{"$f":"IFERROR((E55/VLOOKUP(\"TOTAL\",$D$12:$L$312,2,0))*100,\"\")","v":2.5825399628677387E-3},{"$f":"IFERROR((E55/VLOOKUP(\"TOTAL\",$D$12:$L$312,3,0))*100,\"\")","v":2.6840576764396605E-3},{"$f":"IF(E52=\"\",\"\",E55-F55)","v":1374.8161900000005},{"$f":"IF(E52=\"\",\"\",IFERROR((E55/F55-1)*100,\"ND\"))","v":25.841113256333493},{"$f":"IF(E52=\"\",\"\",IFERROR((E55/VLOOKUP(B55&\"|\"&VLOOKUP(TDPrimas!$B$4,Cat!R:T,2,0),'TD Operación'!A:D,4,0))*100,\"ND\"))","v":"ND"},{"$f":"IF(E52=\"\",\"\",(VLOOKUP(B55,'TDPrimas Vida'!$B:$N,13,0)))","v":1.4240490348445902E-2}]
[null,{"$f":"IF(C56=\"\",B52,D56)","v":"Mapfre México"},{"$f":"IF('TDPrimas Vida'!A18=\"\",\"\",'TDPrimas Vida'!A18)","v":11},{"$f":"IF('TDPrimas Vida'!B18=\"\",\"\",'TDPrimas Vida'!B18)","v":"Mapfre México"},{"$f":"IF('TDPrimas Vida'!C18=\"\",\"\",'TDPrimas Vida'!C18)","v":5365137.7045600004},{"$f":"IF('TDPrimas Vida'!D18=\"\",\"\",'TDPrimas Vida'!D18)","v":5405617.6783400001},{"$f":"IF('TDPrimas Vida'!C18=\"\",\"\",IFERROR((E56/VLOOKUP(\"TOTAL\",$D$12:$L$312,2,0))*100,\"\"))","v":2.0695310847449555},{"$f":"IF('TDPrimas Vida'!C18=\"\",\"\",IFERROR((E56/VLOOKUP(\"TOTAL\",$D$12:$L$312,3,0))*100,\"\"))","v":2.1508828031733636},{"$f":"IF('TDPrimas Vida'!C18=\"\",\"\",E56-F56)","v":-40479.973779999651},{"$f":"IFERROR(IF('TDPrimas Vida'!C18=\"\",\"\",(E56/F56-1)*100),\"ND\")","v":-0.74885010721716938},{"$f":"IF(E56=\"\",\"\",IFERROR((E56/VLOOKUP(D56&\"|\"&VLOOKUP(TDPrimas!$B$4,Cat!R:T,2,0),'TD Operación'!A:D,4,0))*100,\"ND\"))","v":"ND"},{"$f":"IF('TDPrimas Vida'!E18=\"\",\"\",'TDPrimas Vida'!E18)","v":25.346704325482701}]
[null,{"$f":"IF(C57=\"\",B56,D57)","v":"Mapfre México"},null,{"$f":"IF(D56=\"\",\"\",\"1er Año\")","v":"1er Año"},{"$f":"IF(E56=\"\",\"\",(VLOOKUP(B57,'TDPrimas Vida'!$B:$N,5,0)))","v":4602141.8392299991},{"$f":"IF(E56=\"\",\"\",(VLOOKUP(B57,'TDPrimas Vida'!$B:$N,6,0)))","v":4596064.5905600004},{"$f":"IFERROR((E57/VLOOKUP(\"TOTAL\",$D$12:$L$312,2,0))*100,\"\")","v":1.7752154962577795},{"$f":"IFERROR((E57/VLOOKUP(\"TOTAL\",$D$12:$L$312,3,0))*100,\"\")","v":1.8449978891224448},{"$f":"IF(E56=\"\",\"\",E57-F57)","v":6077.2486699987203},{"$f":"IF(E56=\"\",\"\",IFERROR((E57/F57-1)*100,\"ND\"))","v":0.13222722505861206},{"$f":"IF(E56=\"\",\"\",IFERROR((E57/VLOOKUP(B57&\"|\"&VLOOKUP(TDPrimas!$B$4,Cat!R:T,2,0),'TD Operación'!A:D,4,0))*100,\"ND\"))","v":"ND"},{"$f":"IF(E56=\"\",\"\",(VLOOKUP(B57,'TDPrimas Vida'!$B:$N,7,0)))","v":21.742056753501803}]
[null,{"$f":"IF(C58=\"\",B57,D58)","v":"Mapfre México"},null,{"$f":"IF(D57=\"\",\"\",\"Renovación\")","v":"Renovación"},{"$f":"IF(E56=\"\",\"\",(VLOOKUP(B58,'TDPrimas Vida'!$B:$N,8,0)))","v":759074.11546},{"$f":"IF(E56=\"\",\"\",(VLOOKUP(B58,'TDPrimas Vida'!$B:$N,9,0)))","v":808465.80151000002},{"$f":"IFERROR((E58/VLOOKUP(\"TOTAL\",$D$12:$L$312,2,0))*100,\"\")","v":0.29280282521631651},{"$f":"IFERROR((E58/VLOOKUP(\"TOTAL\",$D$12:$L$312,3,0))*100,\"\")","v":0.30431268518779681},{"$f":"IF(E56=\"\",\"\",E58-F58)","v":-49391.686050000018},{"$f":"IF(E56=\"\",\"\",IFERROR((E58/F58-1)*100,\"ND\"))","v":-6.1093104937462339},{"$f":"IF(E56=\"\",\"\",IFERROR((E58/VLOOKUP(B58&\"|\"&VLOOKUP(TDPrimas!$B$4,Cat!R:T,2,0),'TD Operación'!A:D,4,0))*100,\"ND\"))","v":"ND"},{"$f":"IF(E56=\"\",\"\",(VLOOKUP(B58,'TDPrimas Vida'!$B:$N,10,0)))","v":3.5861199143759586}]
[null,{"$f":"IF(C59=\"\",B58,D59)","v":"Mapfre México"},null,{"$f":"IF(D58=\"\",\"\",\"Únicas\")","v":"Únicas"},{"$f":"IF(E57=\"\",\"\",(VLOOKUP(B59,'TDPrimas Vida'!$B:$N,11,0)))","v":3368.5274399999998},{"$f":"IF(E57=\"\",\"\",(VLOOKUP(B59,'TDPrimas Vida'!$B:$N,12,0)))","v":1087.2862700000001},{"$f":"IFERROR((E59/VLOOKUP(\"TOTAL\",$D$12:$L$312,2,0))*100,\"\")","v":1.2993650174106888E-3},{"$f":"IFERROR((E59/VLOOKUP(\"TOTAL\",$D$12:$L$312,3,0))*100,\"\")","v":1.3504420840038415E-3},{"$f":"IF(E56=\"\",\"\",E59-F59)","v":2281.2411699999998},{"$f":"IF(E56=\"\",\"\",IFERROR((E59/F59-1)*100,\"ND\"))","v":209.81053775285875},{"$f":"IF(E56=\"\",\"\",IFERROR((E59/VLOOKUP(B59&\"|\"&VLOOKUP(TDPrimas!$B$4,Cat!R:T,2,0),'TD Operación'!A:D,4,0))*100,\"ND\"))","v":"ND"},{"$f":"IF(E56=\"\",\"\",(VLOOKUP(B59,'TDPrimas Vida'!$B:$N,13,0)))","v":1.5914049878232778E-2}]
[null,{"$f":"IF(C60=\"\",B56,D60)","v":"Inbursa"},{"$f":"IF('TDPrimas Vida'!A19=\"\",\"\",'TDPrimas Vida'!A19)","v":12},{"$f":"IF('TDPrimas Vida'!B19=\"\",\"\",'TDPrimas Vida'!B19)","v":"Inbursa"},{"$f":"IF('TDPrimas Vida'!C19=\"\",\"\",'TDPrimas Vida'!C19)","v":5269961.0633900007},{"$f":"IF('TDPrimas Vida'!D19=\"\",\"\",'TDPrimas Vida'!D19)","v":5013331.0683000004},{"$f":"IF('TDPrimas Vida'!C19=\"\",\"\",IFERROR((E60/VLOOKUP(\"TOTAL\",$D$12:$L$312,2,0))*100,\"\"))","v":2.0328179511238895},{"$f":"IF('TDPrimas Vida'!C19=\"\",\"\",IFERROR((E60/VLOOKUP(\"TOTAL\",$D$12:$L$312,3,0))*100,\"\"))","v":2.1127265037400123},{"$f":"IF('TDPrimas Vida'!C19=\"\",\"\",E60-F60)","v":256629.99509000033},{"$f":"IFERROR(IF('TDPrimas Vida'!C19=\"\",\"\",(E60/F60-1)*100),\"ND\")","v":5.1189516828981763},{"$f":"IF(E60=\"\",\"\",IFERROR((E60/VLOOKUP(D60&\"|\"&VLOOKUP(TDPrimas!$B$4,Cat!R:T,2,0),'TD Operación'!A:D,4,0))*100,\"ND\"))","v":"ND"},{"$f":"IF('TDPrimas Vida'!E19=\"\",\"\",'TDPrimas Vida'!E19)","v":22.868284984145202}]
[null,{"$f":"IF(C61=\"\",B60,D61)","v":"Inbursa"},null,{"$f":"IF(D60=\"\",\"\",\"1er Año\")","v":"1er Año"},{"$f":"IF(E60=\"\",\"\",(VLOOKUP(B61,'TDPrimas Vida'!$B:$N,5,0)))","v":2958038.8261100003},{"$f":"IF(E60=\"\",\"\",(VLOOKUP(B61,'TDPrimas Vida'!$B:$N,6,0)))","v":2847270.9672499998},{"$f":"IFERROR((E61/VLOOKUP(\"TOTAL\",$D$12:$L$312,2,0))*100,\"\")","v":1.1410244503722713},{"$f":"IFERROR((E61/VLOOKUP(\"TOTAL\",$D$12:$L$312,3,0))*100,\"\")","v":1.1858772677524234},{"$f":"IF(E60=\"\",\"\",E61-F61)","v":110767.8588600005},{"$f":"IF(E60=\"\",\"\",IFERROR((E61/F61-1)*100,\"ND\"))","v":3.8903167325512467},{"$f":"IF(E60=\"\",\"\",IFERROR((E61/VLOOKUP(B61&\"|\"&VLOOKUP(TDPrimas!$B$4,Cat!R:T,2,0),'TD Operación'!A:D,4,0))*100,\"ND\"))","v":"ND"},{"$f":"IF(E60=\"\",\"\",(VLOOKUP(B61,'TDPrimas Vida'!$B:$N,7,0)))","v":12.836010371988543}]
[null,{"$f":"IF(C62=\"\",B61,D62)","v":"Inbursa"},null,{"$f":"IF(D61=\"\",\"\",\"Renovación\")","v":"Renovación"},{"$f":"IF(E60=\"\",\"\",(VLOOKUP(B62,'TDPrimas Vida'!$B:$N,8,0)))","v":2311922.2372799995},{"$f":"IF(E60=\"\",\"\",(VLOOKUP(B62,'TDPrimas Vida'!$B:$N,9,0)))","v":2166060.1010500002},{"$f":"IFERROR((E62/VLOOKUP(\"TOTAL\",$D$12:$L$312,2,0))*100,\"\")","v":0.89179350075161767},{"$f":"IFERROR((E62/VLOOKUP(\"TOTAL\",$D$12:$L$312,3,0))*100,\"\")","v":0.92684923598758817},{"$f":"IF(E60=\"\",\"\",E62-F62)","v":145862.13622999936},{"$f":"IF(E60=\"\",\"\",IFERROR((E62/F62-1)*100,\"ND\"))","v":6.7339837966311489},{"$f":"IF(E60=\"\",\"\",IFERROR((E62/VLOOKUP(B62&\"|\"&VLOOKUP(TDPrimas!$B$4,Cat!R:T,2,0),'TD Operación'!A:D,4,0))*100,\"ND\"))","v":"ND"},{"$f":"IF(E60=\"\",\"\",(VLOOKUP(B62,'TDPrimas Vida'!$B:$N,10,0)))","v":10.032274612156655}]
[null,{"$f":"IF(C63=\"\",B62,D63)","v":"Inbursa"},null,{"$f":"IF(D62=\"\",\"\",\"Únicas\")","v":"Únicas"},{"$f":"IF(E61=\"\",\"\",(VLOOKUP(B63,'TDPrimas Vida'!$B:$N,11,0)))","v":0},{"$f":"IF(E61=\"\",\"\",(VLOOKUP(B63,'TDPrimas Vida'!$B:$N,12,0)))","v":0},{"$f":"IFERROR((E63/VLOOKUP(\"TOTAL\",$D$12:$L$312,2,0))*100,\"\")","v":0},{"$f":"IFERROR((E63/VLOOKUP(\"TOTAL\",$D$12:$L$312,3,0))*100,\"\")","v":0},{"$f":"IF(E60=\"\",\"\",E63-F63)","v":0},{"$f":"IF(E60=\"\",\"\",IFERROR((E63/F63-1)*100,\"ND\"))","v":"ND"},{"$f":"IF(E60=\"\",\"\",IFERROR((E63/VLOOKUP(B63&\"|\"&VLOOKUP(TDPrimas!$B$4,Cat!R:T,2,0),'TD Operación'!A:D,4,0))*100,\"ND\"))","v":"ND"},{"$f":"IF(E60=\"\",\"\",(VLOOKUP(B63,'TDPrimas Vida'!$B:$N,13,0)))","v":0}]
[null,{"$f":"IF(C64=\"\",B60,D64)","v":"Seguros Azteca"},{"$f":"IF('TDPrimas Vida'!A20=\"\",\"\",'TDPrimas Vida'!A20)","v":13},{"$f":"IF('TDPrimas Vida'!B20=\"\",\"\",'TDPrimas Vida'!B20)","v":"Seguros Azteca"},{"$f":"IF('TDPrimas Vida'!C20=\"\",\"\",'TDPrimas Vida'!C20)","v":3769814.5278000003},{"$f":"IF('TDPrimas Vida'!D20=\"\",\"\",'TDPrimas Vida'!D20)","v":4867012.4177099997},{"$f":"IF('TDPrimas Vida'!C20=\"\",\"\",IFERROR((E64/VLOOKUP(\"TOTAL\",$D$12:$L$312,2,0))*100,\"\"))","v":1.4541562171599571},{"$f":"IF('TDPrimas Vida'!C20=\"\",\"\",IFERROR((E64/VLOOKUP(\"TOTAL\",$D$12:$L$312,3,0))*100,\"\"))","v":1.5113180099937646},{"$f":"IF('TDPrimas Vida'!C20=\"\",\"\",E64-F64)","v":-1097197.8899099994},{"$f":"IFERROR(IF('TDPrimas Vida'!C20=\"\",\"\",(E64/F64-1)*100),\"ND\")","v":-22.543560520156781},{"$f":"IF(E64=\"\",\"\",IFERROR((E64/VLOOKUP(D64&\"|\"&VLOOKUP(TDPrimas!$B$4,Cat!R:T,2,0),'TD Operación'!A:D,4,0))*100,\"ND\"))","v":"ND"},{"$f":"IF('TDPrimas Vida'!E20=\"\",\"\",'TDPrimas Vida'!E20)","v":96.254482354259522}]
[null,{"$f":"IF(C65=\"\",B64,D65)","v":"Seguros Azteca"},null,{"$f":"IF(D64=\"\",\"\",\"1er Año\")","v":"1er Año"},{"$f":"IF(E64=\"\",\"\",(VLOOKUP(B65,'TDPrimas Vida'!$B:$N,5,0)))","v":3667577.85372},{"$f":"IF(E64=\"\",\"\",(VLOOKUP(B65,'TDPrimas Vida'!$B:$N,6,0)))","v":4782784.0524899997},{"$f":"IFERROR((E65/VLOOKUP(\"TOTAL\",$D$12:$L$312,2,0))*100,\"\")","v":1.4147197689901982},{"$f":"IFERROR((E65/VLOOKUP(\"TOTAL\",$D$12:$L$312,3,0))*100,\"\")","v":1.4703313445545134},{"$f":"IF(E64=\"\",\"\",E65-F65)","v":-1115206.1987699997},{"$f":"IF(E64=\"\",\"\",IFERROR((E65/F65-1)*100,\"ND\"))","v":-23.317092859114229},{"$f":"IF(E64=\"\",\"\",IFERROR((E65/VLOOKUP(B65&\"|\"&VLOOKUP(TDPrimas!$B$4,Cat!R:T,2,0),'TD Operación'!A:D,4,0))*100,\"ND\"))","v":"ND"},{"$f":"IF(E64=\"\",\"\",(VLOOKUP(B65,'TDPrimas Vida'!$B:$N,7,0)))","v":93.64407856154709}]
[null,{"$f":"IF(C66=\"\",B65,D66)","v":"Seguros Azteca"},null,{"$f":"IF(D65=\"\",\"\",\"Renovación\")","v":"Renovación"},{"$f":"IF(E64=\"\",\"\",(VLOOKUP(B66,'TDPrimas Vida'!$B:$N,8,0)))","v":11381.524449999999},{"$f":"IF(E64=\"\",\"\",(VLOOKUP(B66,'TDPrimas Vida'!$B:$N,9,0)))","v":9354.4843999999994},{"$f":"IFERROR((E66/VLOOKUP(\"TOTAL\",$D$12:$L$312,2,0))*100,\"\")","v":4.3902728947739934E-3},{"$f":"IFERROR((E66/VLOOKUP(\"TOTAL\",$D$12:$L$312,3,0))*100,\"\")","v":4.5628512372749667E-3},{"$f":"IF(E64=\"\",\"\",E66-F66)","v":2027.0400499999996},{"$f":"IF(E64=\"\",\"\",IFERROR((E66/F66-1)*100,\"ND\"))","v":21.669179864151577},{"$f":"IF(E64=\"\",\"\",IFERROR((E66/VLOOKUP(B66&\"|\"&VLOOKUP(TDPrimas!$B$4,Cat!R:T,2,0),'TD Operación'!A:D,4,0))*100,\"ND\"))","v":"ND"},{"$f":"IF(E64=\"\",\"\",(VLOOKUP(B66,'TDPrimas Vida'!$B:$N,10,0)))","v":0.29060388415883864}]
[null,{"$f":"IF(C67=\"\",B66,D67)","v":"Seguros Azteca"},null,{"$f":"IF(D66=\"\",\"\",\"Únicas\")","v":"Únicas"},{"$f":"IF(E65=\"\",\"\",(VLOOKUP(B67,'TDPrimas Vida'!$B:$N,11,0)))","v":90855.149630000014},{"$f":"IF(E65=\"\",\"\",(VLOOKUP(B67,'TDPrimas Vida'!$B:$N,12,0)))","v":74873.880820000006},{"$f":"IFERROR((E67/VLOOKUP(\"TOTAL\",$D$12:$L$312,2,0))*100,\"\")","v":3.5046175274984756E-2},{"$f":"IFERROR((E67/VLOOKUP(\"TOTAL\",$D$12:$L$312,3,0))*100,\"\")","v":3.6423814201976067E-2},{"$f":"IF(E64=\"\",\"\",E67-F67)","v":15981.268810000009},{"$f":"IF(E64=\"\",\"\",IFERROR((E67/F67-1)*100,\"ND\"))","v":21.344250671899403},{"$f":"IF(E64=\"\",\"\",IFERROR((E67/VLOOKUP(B67&\"|\"&VLOOKUP(TDPrimas!$B$4,Cat!R:T,2,0),'TD Operación'!A:D,4,0))*100,\"ND\"))","v":"ND"},{"$f":"IF(E64=\"\",\"\",(VLOOKUP(B67,'TDPrimas Vida'!$B:$N,13,0)))","v":2.3197999085535925}]
[null,{"$f":"IF(C68=\"\",B64,D68)","v":"Seguros Argos"},{"$f":"IF('TDPrimas Vida'!A21=\"\",\"\",'TDPrimas Vida'!A21)","v":14},{"$f":"IF('TDPrimas Vida'!B21=\"\",\"\",'TDPrimas Vida'!B21)","v":"Seguros Argos"},{"$f":"IF('TDPrimas Vida'!C21=\"\",\"\",'TDPrimas Vida'!C21)","v":3759735.1039999998},{"$f":"IF('TDPrimas Vida'!D21=\"\",\"\",'TDPrimas Vida'!D21)","v":3067143.767},{"$f":"IF('TDPrimas Vida'!C21=\"\",\"\",IFERROR((E68/VLOOKUP(\"TOTAL\",$D$12:$L$312,2,0))*100,\"\"))","v":1.4502682124116932},{"$f":"IF('TDPrimas Vida'!C21=\"\",\"\",IFERROR((E68/VLOOKUP(\"TOTAL\",$D$12:$L$312,3,0))*100,\"\"))","v":1.5072771706880201},{"$f":"IF('TDPrimas Vida'!C21=\"\",\"\",E68-F68)","v":692591.33699999982},{"$f":"IFERROR(IF('TDPrimas Vida'!C21=\"\",\"\",(E68/F68-1)*100),\"ND\")","v":22.580987055505041},{"$f":"IF(E68=\"\",\"\",IFERROR((E68/VLOOKUP(D68&\"|\"&VLOOKUP(TDPrimas!$B$4,Cat!R:T,2,0),'TD Operación'!A:D,4,0))*100,\"ND\"))","v":"ND"},{"$f":"IF('TDPrimas Vida'!E21=\"\",\"\",'TDPrimas Vida'!E21)","v":100}]
[null,{"$f":"IF(C69=\"\",B68,D69)","v":"Seguros Argos"},null,{"$f":"IF(D68=\"\",\"\",\"1er Año\")","v":"1er Año"},{"$f":"IF(E68=\"\",\"\",(VLOOKUP(B69,'TDPrimas Vida'!$B:$N,5,0)))","v":976257.40699000005},{"$f":"IF(E68=\"\",\"\",(VLOOKUP(B69,'TDPrimas Vida'!$B:$N,6,0)))","v":745728.49438000005},{"$f":"IFERROR((E69/VLOOKUP(\"TOTAL\",$D$12:$L$312,2,0))*100,\"\")","v":0.37657841452254143},{"$f":"IFERROR((E69/VLOOKUP(\"TOTAL\",$D$12:$L$312,3,0))*100,\"\")","v":0.39138143022512006},{"$f":"IF(E68=\"\",\"\",E69-F69)","v":230528.91261},{"$f":"IF(E68=\"\",\"\",IFERROR((E69/F69-1)*100,\"ND\"))","v":30.913249841909575},{"$f":"IF(E68=\"\",\"\",IFERROR((E69/VLOOKUP(B69&\"|\"&VLOOKUP(TDPrimas!$B$4,Cat!R:T,2,0),'TD Operación'!A:D,4,0))*100,\"ND\"))","v":"ND"},{"$f":"IF(E68=\"\",\"\",(VLOOKUP(B69,'TDPrimas Vida'!$B:$N,7,0)))","v":25.966122080019822}]
[null,{"$f":"IF(C70=\"\",B69,D70)","v":"Seguros Argos"},null,{"$f":"IF(D69=\"\",\"\",\"Renovación\")","v":"Renovación"},{"$f":"IF(E68=\"\",\"\",(VLOOKUP(B70,'TDPrimas Vida'!$B:$N,8,0)))","v":2511749.5882000001},{"$f":"IF(E68=\"\",\"\",(VLOOKUP(B70,'TDPrimas Vida'!$B:$N,9,0)))","v":1910456.9972000001},{"$f":"IFERROR((E70/VLOOKUP(\"TOTAL\",$D$12:$L$312,2,0))*100,\"\")","v":0.96887426495263562},{"$f":"IFERROR((E70/VLOOKUP(\"TOTAL\",$D$12:$L$312,3,0))*100,\"\")","v":1.0069599873541772},{"$f":"IF(E68=\"\",\"\",E70-F70)","v":601292.59100000001},{"$f":"IF(E68=\"\",\"\",IFERROR((E70/F70-1)*100,\"ND\"))","v":31.473756901163718},{"$f":"IF(E68=\"\",\"\",IFERROR((E70/VLOOKUP(B70&\"|\"&VLOOKUP(TDPrimas!$B$4,Cat!R:T,2,0),'TD Operación'!A:D,4,0))*100,\"ND\"))","v":"ND"},{"$f":"IF(E68=\"\",\"\",(VLOOKUP(B70,'TDPrimas Vida'!$B:$N,10,0)))","v":66.806557343035635}]
[null,{"$f":"IF(C71=\"\",B70,D71)","v":"Seguros Argos"},null,{"$f":"IF(D70=\"\",\"\",\"Únicas\")","v":"Únicas"},{"$f":"IF(E69=\"\",\"\",(VLOOKUP(B71,'TDPrimas Vida'!$B:$N,11,0)))","v":271728.10874},{"$f":"IF(E69=\"\",\"\",(VLOOKUP(B71,'TDPrimas Vida'!$B:$N,12,0)))","v":410958.2758},{"$f":"IFERROR((E71/VLOOKUP(\"TOTAL\",$D$12:$L$312,2,0))*100,\"\")","v":0.10481553290951479},{"$f":"IFERROR((E71/VLOOKUP(\"TOTAL\",$D$12:$L$312,3,0))*100,\"\")","v":0.10893575308066009},{"$f":"IF(E68=\"\",\"\",E71-F71)","v":-139230.16706000001},{"$f":"IF(E68=\"\",\"\",IFERROR((E71/F71-1)*100,\"ND\"))","v":-33.879392449018056},{"$f":"IF(E68=\"\",\"\",IFERROR((E71/VLOOKUP(B71&\"|\"&VLOOKUP(TDPrimas!$B$4,Cat!R:T,2,0),'TD Operación'!A:D,4,0))*100,\"ND\"))","v":"ND"},{"$f":"IF(E68=\"\",\"\",(VLOOKUP(B71,'TDPrimas Vida'!$B:$N,13,0)))","v":7.2273205750827278}]
[null,{"$f":"IF(C72=\"\",B68,D72)","v":"Hir Seguros"},{"$f":"IF('TDPrimas Vida'!A22=\"\",\"\",'TDPrimas Vida'!A22)","v":15},{"$f":"IF('TDPrimas Vida'!B22=\"\",\"\",'TDPrimas Vida'!B22)","v":"Hir Seguros"},{"$f":"IF('TDPrimas Vida'!C22=\"\",\"\",'TDPrimas Vida'!C22)","v":3672557.9548000004},{"$f":"IF('TDPrimas Vida'!D22=\"\",\"\",'TDPrimas Vida'!D22)","v":1927562.53486},{"$f":"IF('TDPrimas Vida'!C22=\"\",\"\",IFERROR((E72/VLOOKUP(\"TOTAL\",$D$12:$L$312,2,0))*100,\"\"))","v":1.4166407772769891},{"$f":"IF('TDPrimas Vida'!C22=\"\",\"\",IFERROR((E72/VLOOKUP(\"TOTAL\",$D$12:$L$312,3,0))*100,\"\"))","v":1.4723278662396762},{"$f":"IF('TDPrimas Vida'!C22=\"\",\"\",E72-F72)","v":1744995.4199400004},{"$f":"IFERROR(IF('TDPrimas Vida'!C22=\"\",\"\",(E72/F72-1)*100),\"ND\")","v":90.528602231145811},{"$f":"IF(E72=\"\",\"\",IFERROR((E72/VLOOKUP(D72&\"|\"&VLOOKUP(TDPrimas!$B$4,Cat!R:T,2,0),'TD Operación'!A:D,4,0))*100,\"ND\"))","v":"ND"},{"$f":"IF('TDPrimas Vida'!E22=\"\",\"\",'TDPrimas Vida'!E22)","v":99.098110568385366}]
[null,{"$f":"IF(C73=\"\",B72,D73)","v":"Hir Seguros"},null,{"$f":"IF(D72=\"\",\"\",\"1er Año\")","v":"1er Año"},{"$f":"IF(E72=\"\",\"\",(VLOOKUP(B73,'TDPrimas Vida'!$B:$N,5,0)))","v":1054319.03798},{"$f":"IF(E72=\"\",\"\",(VLOOKUP(B73,'TDPrimas Vida'!$B:$N,6,0)))","v":547658.76188000001},{"$f":"IFERROR((E73/VLOOKUP(\"TOTAL\",$D$12:$L$312,2,0))*100,\"\")","v":0.40668965877306412},{"$f":"IFERROR((E73/VLOOKUP(\"TOTAL\",$D$12:$L$312,3,0))*100,\"\")","v":0.42267632495659191},{"$f":"IF(E72=\"\",\"\",E73-F73)","v":506660.27610000002},{"$f":"IF(E72=\"\",\"\",IFERROR((E73/F73-1)*100,\"ND\"))","v":92.513862895343692},{"$f":"IF(E72=\"\",\"\",IFERROR((E73/VLOOKUP(B73&\"|\"&VLOOKUP(TDPrimas!$B$4,Cat!R:T,2,0),'TD Operación'!A:D,4,0))*100,\"ND\"))","v":"ND"},{"$f":"IF(E72=\"\",\"\",(VLOOKUP(B73,'TDPrimas Vida'!$B:$N,7,0)))","v":28.449115272242327}]
[null,{"$f":"IF(C74=\"\",B73,D74)","v":"Hir Seguros"},null,{"$f":"IF(D73=\"\",\"\",\"Renovación\")","v":"Renovación"},{"$f":"IF(E72=\"\",\"\",(VLOOKUP(B74,'TDPrimas Vida'!$B:$N,8,0)))","v":2618238.9168199995},{"$f":"IF(E72=\"\",\"\",(VLOOKUP(B74,'TDPrimas Vida'!$B:$N,9,0)))","v":1379903.7729799999},{"$f":"IFERROR((E74/VLOOKUP(\"TOTAL\",$D$12:$L$312,2,0))*100,\"\")","v":1.0099511185039245},{"$f":"IFERROR((E74/VLOOKUP(\"TOTAL\",$D$12:$L$312,3,0))*100,\"\")","v":1.0496515412830838},{"$f":"IF(E72=\"\",\"\",E74-F74)","v":1238335.1438399996},{"$f":"IF(E72=\"\",\"\",IFERROR((E74/F74-1)*100,\"ND\"))","v":89.740688306527858},{"$f":"IF(E72=\"\",\"\",IFERROR((E74/VLOOKUP(B74&\"|\"&VLOOKUP(TDPrimas!$B$4,Cat!R:T,2,0),'TD Operación'!A:D,4,0))*100,\"ND\"))","v":"ND"},{"$f":"IF(E72=\"\",\"\",(VLOOKUP(B74,'TDPrimas Vida'!$B:$N,10,0)))","v":70.648995296143013}]
[null,{"$f":"IF(C75=\"\",B74,D75)","v":"Hir Seguros"},null,{"$f":"IF(D74=\"\",\"\",\"Únicas\")","v":"Únicas"},{"$f":"IF(E73=\"\",\"\",(VLOOKUP(B75,'TDPrimas Vida'!$B:$N,11,0)))","v":0},{"$f":"IF(E73=\"\",\"\",(VLOOKUP(B75,'TDPrimas Vida'!$B:$N,12,0)))","v":0},{"$f":"IFERROR((E75/VLOOKUP(\"TOTAL\",$D$12:$L$312,2,0))*100,\"\")","v":0},{"$f":"IFERROR((E75/VLOOKUP(\"TOTAL\",$D$12:$L$312,3,0))*100,\"\")","v":0},{"$f":"IF(E72=\"\",\"\",E75-F75)","v":0},{"$f":"IF(E72=\"\",\"\",IFERROR((E75/F75-1)*100,\"ND\"))","v":"ND"},{"$f":"IF(E72=\"\",\"\",IFERROR((E75/VLOOKUP(B75&\"|\"&VLOOKUP(TDPrimas!$B$4,Cat!R:T,2,0),'TD Operación'!A:D,4,0))*100,\"ND\"))","v":"ND"},{"$f":"IF(E72=\"\",\"\",(VLOOKUP(B75,'TDPrimas Vida'!$B:$N,13,0)))","v":0}]
[null,{"$f":"IF(C76=\"\",B72,D76)","v":"TOTAL MEDIANAS"},{"$f":"IF('TDPrimas Vida'!A23=\"\",\"\",'TDPrimas Vida'!A23)","v":15.1},{"$f":"IF('TDPrimas Vida'!B23=\"\",\"\",'TDPrimas Vida'!B23)","v":"TOTAL MEDIANAS"},{"$f":"IF('TDPrimas Vida'!C23=\"\",\"\",'TDPrimas Vida'!C23)","v":69661251.72804001},{"$f":"IF('TDPrimas Vida'!D23=\"\",\"\",'TDPrimas Vida'!D23)","v":67292495.326450005},{"$f":"IF('TDPrimas Vida'!C23=\"\",\"\",IFERROR((E76/VLOOKUP(\"TOTAL\",$D$12:$L$312,2,0))*100,\"\"))","v":26.870908780382408},{"$f":"IF('TDPrimas Vida'!C23=\"\",\"\",IFERROR((E76/VLOOKUP(\"TOTAL\",$D$12:$L$312,3,0))*100,\"\"))","v":27.927184098559859},{"$f":"IF('TDPrimas Vida'!C23=\"\",\"\",E76-F76)","v":2368756.4015900046},{"$f":"IFERROR(IF('TDPrimas Vida'!C23=\"\",\"\",(E76/F76-1)*100),\"ND\")","v":3.5200900042399619},{"$f":"IF(E76=\"\",\"\",IFERROR((E76/VLOOKUP(D76&\"|\"&VLOOKUP(TDPrimas!$B$4,Cat!R:T,2,0),'TD Operación'!A:D,4,0))*100,\"ND\"))","v":"ND"},{"$f":"IF('TDPrimas Vida'!E23=\"\",\"\",'TDPrimas Vida'!E23)","v":40.587954575385247}]
[null,{"$f":"IF(C77=\"\",B76,D77)","v":"TOTAL MEDIANAS"},null,{"$f":"IF(D76=\"\",\"\",\"1er Año\")","v":"1er Año"},{"$f":"IF(E76=\"\",\"\",(VLOOKUP(B77,'TDPrimas Vida'!$B:$N,5,0)))","v":32303130.7082},{"$f":"IF(E76=\"\",\"\",(VLOOKUP(B77,'TDPrimas Vida'!$B:$N,6,0)))","v":33894496.078419998},{"$f":"IFERROR((E77/VLOOKUP(\"TOTAL\",$D$12:$L$312,2,0))*100,\"\")","v":12.460506480267842},{"$f":"IFERROR((E77/VLOOKUP(\"TOTAL\",$D$12:$L$312,3,0))*100,\"\")","v":12.950319666515794},{"$f":"IF(E76=\"\",\"\",E77-F77)","v":-1591365.3702199981},{"$f":"IF(E76=\"\",\"\",IFERROR((E77/F77-1)*100,\"ND\"))","v":-4.6950554052732851},{"$f":"IF(E76=\"\",\"\",IFERROR((E77/VLOOKUP(B77&\"|\"&VLOOKUP(TDPrimas!$B$4,Cat!R:T,2,0),'TD Operación'!A:D,4,0))*100,\"ND\"))","v":"ND"},{"$f":"IF(E76=\"\",\"\",(VLOOKUP(B77,'TDPrimas Vida'!$B:$N,7,0)))","v":18.821338539046138}]
[null,{"$f":"IF(C78=\"\",B77,D78)","v":"TOTAL MEDIANAS"},null,{"$f":"IF(D77=\"\",\"\",\"Renovación\")","v":"Renovación"},{"$f":"IF(E76=\"\",\"\",(VLOOKUP(B78,'TDPrimas Vida'!$B:$N,8,0)))","v":29929514.188370001},{"$f":"IF(E76=\"\",\"\",(VLOOKUP(B78,'TDPrimas Vida'!$B:$N,9,0)))","v":25530400.243070003},{"$f":"IFERROR((E78/VLOOKUP(\"TOTAL\",$D$12:$L$312,2,0))*100,\"\")","v":11.544915223984296},{"$f":"IFERROR((E78/VLOOKUP(\"TOTAL\",$D$12:$L$312,3,0))*100,\"\")","v":11.998737203032826},{"$f":"IF(E76=\"\",\"\",E78-F78)","v":4399113.9452999979},{"$f":"IF(E76=\"\",\"\",IFERROR((E78/F78-1)*100,\"ND\"))","v":17.230885154235274},{"$f":"IF(E76=\"\",\"\",IFERROR((E78/VLOOKUP(B78&\"|\"&VLOOKUP(TDPrimas!$B$4,Cat!R:T,2,0),'TD Operación'!A:D,4,0))*100,\"ND\"))","v":"ND"},{"$f":"IF(E76=\"\",\"\",(VLOOKUP(B78,'TDPrimas Vida'!$B:$N,10,0)))","v":17.438356793866486}]
[null,{"$f":"IF(C79=\"\",B78,D79)","v":"TOTAL MEDIANAS"},null,{"$f":"IF(D78=\"\",\"\",\"Únicas\")","v":"Únicas"},{"$f":"IF(E77=\"\",\"\",(VLOOKUP(B79,'TDPrimas Vida'!$B:$N,11,0)))","v":7428053.6089700004},{"$f":"IF(E77=\"\",\"\",(VLOOKUP(B79,'TDPrimas Vida'!$B:$N,12,0)))","v":7867599.0053400006},{"$f":"IFERROR((E79/VLOOKUP(\"TOTAL\",$D$12:$L$312,2,0))*100,\"\")","v":2.8652736778498182},{"$f":"IFERROR((E79/VLOOKUP(\"TOTAL\",$D$12:$L$312,3,0))*100,\"\")","v":2.9779054422040581},{"$f":"IF(E76=\"\",\"\",E79-F79)","v":-439545.39637000021},{"$f":"IF(E76=\"\",\"\",IFERROR((E79/F79-1)*100,\"ND\"))","v":-5.5867793474434375},{"$f":"IF(E76=\"\",\"\",IFERROR((E79/VLOOKUP(B79&\"|\"&VLOOKUP(TDPrimas!$B$4,Cat!R:T,2,0),'TD Operación'!A:D,4,0))*100,\"ND\"))","v":"ND"},{"$f":"IF(E76=\"\",\"\",(VLOOKUP(B79,'TDPrimas Vida'!$B:$N,13,0)))","v":4.3279369087628012}]
[null,{"$f":"IF(C80=\"\",B76,D80)","v":"Cardif Vida"},{"$f":"IF('TDPrimas Vida'!A24=\"\",\"\",'TDPrimas Vida'!A24)","v":16},{"$f":"IF('TDPrimas Vida'!B24=\"\",\"\",'TDPrimas Vida'!B24)","v":"Cardif Vida"},{"$f":"IF('TDPrimas Vida'!C24=\"\",\"\",'TDPrimas Vida'!C24)","v":2711266.1441299999},{"$f":"IF('TDPrimas Vida'!D24=\"\",\"\",'TDPrimas Vida'!D24)","v":2596506.4369800002},{"$f":"IF('TDPrimas Vida'!C24=\"\",\"\",IFERROR((E80/VLOOKUP(\"TOTAL\",$D$12:$L$312,2,0))*100,\"\"))","v":1.0458351440867253},{"$f":"IF('TDPrimas Vida'!C24=\"\",\"\",IFERROR((E80/VLOOKUP(\"TOTAL\",$D$12:$L$312,3,0))*100,\"\"))","v":1.0869461410615604},{"$f":"IF('TDPrimas Vida'!C24=\"\",\"\",E80-F80)","v":114759.70714999968},{"$f":"IFERROR(IF('TDPrimas Vida'!C24=\"\",\"\",(E80/F80-1)*100),\"ND\")","v":4.4197736433681634},{"$f":"IF(E80=\"\",\"\",IFERROR((E80/VLOOKUP(D80&\"|\"&VLOOKUP(TDPrimas!$B$4,Cat!R:T,2,0),'TD Operación'!A:D,4,0))*100,\"ND\"))","v":"ND"},{"$f":"IF('TDPrimas Vida'!E24=\"\",\"\",'TDPrimas Vida'!E24)","v":91.838140237370908}]
[null,{"$f":"IF(C81=\"\",B80,D81)","v":"Cardif Vida"},null,{"$f":"IF(D80=\"\",\"\",\"1er Año\")","v":"1er Año"},{"$f":"IF(E80=\"\",\"\",(VLOOKUP(B81,'TDPrimas Vida'!$B:$N,5,0)))","v":339064.63670000003},{"$f":"IF(E80=\"\",\"\",(VLOOKUP(B81,'TDPrimas Vida'!$B:$N,6,0)))","v":149862.93523999999},{"$f":"IFERROR((E81/VLOOKUP(\"TOTAL\",$D$12:$L$312,2,0))*100,\"\")","v":0.13078971016755156},{"$f":"IFERROR((E81/VLOOKUP(\"TOTAL\",$D$12:$L$312,3,0))*100,\"\")","v":0.13593095581170431},{"$f":"IF(E80=\"\",\"\",E81-F81)","v":189201.70146000004},{"$f":"IF(E80=\"\",\"\",IFERROR((E81/F81-1)*100,\"ND\"))","v":126.24983032462325},{"$f":"IF(E80=\"\",\"\",IFERROR((E81/VLOOKUP(B81&\"|\"&VLOOKUP(TDPrimas!$B$4,Cat!R:T,2,0),'TD Operación'!A:D,4,0))*100,\"ND\"))","v":"ND"},{"$f":"IF(E80=\"\",\"\",(VLOOKUP(B81,'TDPrimas Vida'!$B:$N,7,0)))","v":11.48506417276856}]
[null,{"$f":"IF(C82=\"\",B81,D82)","v":"Cardif Vida"},null,{"$f":"IF(D81=\"\",\"\",\"Renovación\")","v":"Renovación"},{"$f":"IF(E80=\"\",\"\",(VLOOKUP(B82,'TDPrimas Vida'!$B:$N,8,0)))","v":1708593.71627},{"$f":"IF(E80=\"\",\"\",(VLOOKUP(B82,'TDPrimas Vida'!$B:$N,9,0)))","v":1893173.15439},{"$f":"IFERROR((E82/VLOOKUP(\"TOTAL\",$D$12:$L$312,2,0))*100,\"\")","v":0.65906748376939506},{"$f":"IFERROR((E82/VLOOKUP(\"TOTAL\",$D$12:$L$312,3,0))*100,\"\")","v":0.68497493341349391},{"$f":"IF(E80=\"\",\"\",E82-F82)","v":-184579.43812000006},{"$f":"IF(E80=\"\",\"\",IFERROR((E82/F82-1)*100,\"ND\"))","v":-9.7497388282728696},{"$f":"IF(E80=\"\",\"\",IFERROR((E82/VLOOKUP(B82&\"|\"&VLOOKUP(TDPrimas!$B$4,Cat!R:T,2,0),'TD Operación'!A:D,4,0))*100,\"ND\"))","v":"ND"},{"$f":"IF(E80=\"\",\"\",(VLOOKUP(B82,'TDPrimas Vida'!$B:$N,10,0)))","v":57.87483079196052}]
[null,{"$f":"IF(C83=\"\",B82,D83)","v":"Cardif Vida"},null,{"$f":"IF(D82=\"\",\"\",\"Únicas\")","v":"Únicas"},{"$f":"IF(E81=\"\",\"\",(VLOOKUP(B83,'TDPrimas Vida'!$B:$N,11,0)))","v":663607.79116000002},{"$f":"IF(E81=\"\",\"\",(VLOOKUP(B83,'TDPrimas Vida'!$B:$N,12,0)))","v":553470.34735000005},{"$f":"IFERROR((E83/VLOOKUP(\"TOTAL\",$D$12:$L$312,2,0))*100,\"\")","v":0.25597795014977887},{"$f":"IFERROR((E83/VLOOKUP(\"TOTAL\",$D$12:$L$312,3,0))*100,\"\")","v":0.26604025183636221},{"$f":"IF(E80=\"\",\"\",E83-F83)","v":110137.44380999997},{"$f":"IF(E80=\"\",\"\",IFERROR((E83/F83-1)*100,\"ND\"))","v":19.899429903938824},{"$f":"IF(E80=\"\",\"\",IFERROR((E83/VLOOKUP(B83&\"|\"&VLOOKUP(TDPrimas!$B$4,Cat!R:T,2,0),'TD Operación'!A:D,4,0))*100,\"ND\"))","v":"ND"},{"$f":"IF(E80=\"\",\"\",(VLOOKUP(B83,'TDPrimas Vida'!$B:$N,13,0)))","v":22.478245272641832}]
[null,{"$f":"IF(C84=\"\",B80,D84)","v":"Patrimonial Vida"},{"$f":"IF('TDPrimas Vida'!A25=\"\",\"\",'TDPrimas Vida'!A25)","v":17},{"$f":"IF('TDPrimas Vida'!B25=\"\",\"\",'TDPrimas Vida'!B25)","v":"Patrimonial Vida"},{"$f":"IF('TDPrimas Vida'!C25=\"\",\"\",'TDPrimas Vida'!C25)","v":2638295.4870500001},{"$f":"IF('TDPrimas Vida'!D25=\"\",\"\",'TDPrimas Vida'!D25)","v":1454885.5009999999},{"$f":"IF('TDPrimas Vida'!C25=\"\",\"\",IFERROR((E84/VLOOKUP(\"TOTAL\",$D$12:$L$312,2,0))*100,\"\"))","v":1.0176876758543683},{"$f":"IF('TDPrimas Vida'!C25=\"\",\"\",IFERROR((E84/VLOOKUP(\"TOTAL\",$D$12:$L$312,3,0))*100,\"\"))","v":1.0576922169141458},{"$f":"IF('TDPrimas Vida'!C25=\"\",\"\",E84-F84)","v":1183409.9860500002},{"$f":"IFERROR(IF('TDPrimas Vida'!C25=\"\",\"\",(E84/F84-1)*100),\"ND\")","v":81.340420619807958},{"$f":"IF(E84=\"\",\"\",IFERROR((E84/VLOOKUP(D84&\"|\"&VLOOKUP(TDPrimas!$B$4,Cat!R:T,2,0),'TD Operación'!A:D,4,0))*100,\"ND\"))","v":"ND"},{"$f":"IF('TDPrimas Vida'!E25=\"\",\"\",'TDPrimas Vida'!E25)","v":100}]
[null,{"$f":"IF(C85=\"\",B84,D85)","v":"Patrimonial Vida"},null,{"$f":"IF(D84=\"\",\"\",\"1er Año\")","v":"1er Año"},{"$f":"IF(E84=\"\",\"\",(VLOOKUP(B85,'TDPrimas Vida'!$B:$N,5,0)))","v":2638295.4870500001},{"$f":"IF(E84=\"\",\"\",(VLOOKUP(B85,'TDPrimas Vida'!$B:$N,6,0)))","v":1454885.5009999999},{"$f":"IFERROR((E85/VLOOKUP(\"TOTAL\",$D$12:$L$312,2,0))*100,\"\")","v":1.0176876758543683},{"$f":"IFERROR((E85/VLOOKUP(\"TOTAL\",$D$12:$L$312,3,0))*100,\"\")","v":1.0576922169141458},{"$f":"IF(E84=\"\",\"\",E85-F85)","v":1183409.9860500002},{"$f":"IF(E84=\"\",\"\",IFERROR((E85/F85-1)*100,\"ND\"))","v":81.340420619807958},{"$f":"IF(E84=\"\",\"\",IFERROR((E85/VLOOKUP(B85&\"|\"&VLOOKUP(TDPrimas!$B$4,Cat!R:T,2,0),'TD Operación'!A:D,4,0))*100,\"ND\"))","v":"ND"},{"$f":"IF(E84=\"\",\"\",(VLOOKUP(B85,'TDPrimas Vida'!$B:$N,7,0)))","v":100}]
[null,{"$f":"IF(C86=\"\",B85,D86)","v":"Patrimonial Vida"},null,{"$f":"IF(D85=\"\",\"\",\"Renovación\")","v":"Renovación"},{"$f":"IF(E84=\"\",\"\",(VLOOKUP(B86,'TDPrimas Vida'!$B:$N,8,0)))","v":0},{"$f":"IF(E84=\"\",\"\",(VLOOKUP(B86,'TDPrimas Vida'!$B:$N,9,0)))","v":0},{"$f":"IFERROR((E86/VLOOKUP(\"TOTAL\",$D$12:$L$312,2,0))*100,\"\")","v":0},{"$f":"IFERROR((E86/VLOOKUP(\"TOTAL\",$D$12:$L$312,3,0))*100,\"\")","v":0},{"$f":"IF(E84=\"\",\"\",E86-F86)","v":0},{"$f":"IF(E84=\"\",\"\",IFERROR((E86/F86-1)*100,\"ND\"))","v":"ND"},{"$f":"IF(E84=\"\",\"\",IFERROR((E86/VLOOKUP(B86&\"|\"&VLOOKUP(TDPrimas!$B$4,Cat!R:T,2,0),'TD Operación'!A:D,4,0))*100,\"ND\"))","v":"ND"},{"$f":"IF(E84=\"\",\"\",(VLOOKUP(B86,'TDPrimas Vida'!$B:$N,10,0)))","v":0}]
[null,{"$f":"IF(C87=\"\",B86,D87)","v":"Patrimonial Vida"},null,{"$f":"IF(D86=\"\",\"\",\"Únicas\")","v":"Únicas"},{"$f":"IF(E85=\"\",\"\",(VLOOKUP(B87,'TDPrimas Vida'!$B:$N,11,0)))","v":0},{"$f":"IF(E85=\"\",\"\",(VLOOKUP(B87,'TDPrimas Vida'!$B:$N,12,0)))","v":0},{"$f":"IFERROR((E87/VLOOKUP(\"TOTAL\",$D$12:$L$312,2,0))*100,\"\")","v":0},{"$f":"IFERROR((E87/VLOOKUP(\"TOTAL\",$D$12:$L$312,3,0))*100,\"\")","v":0},{"$f":"IF(E84=\"\",\"\",E87-F87)","v":0},{"$f":"IF(E84=\"\",\"\",IFERROR((E87/F87-1)*100,\"ND\"))","v":"ND"},{"$f":"IF(E84=\"\",\"\",IFERROR((E87/VLOOKUP(B87&\"|\"&VLOOKUP(TDPrimas!$B$4,Cat!R:T,2,0),'TD Operación'!A:D,4,0))*100,\"ND\"))","v":"ND"},{"$f":"IF(E84=\"\",\"\",(VLOOKUP(B87,'TDPrimas Vida'!$B:$N,13,0)))","v":0}]
[null,{"$f":"IF(C88=\"\",B84,D88)","v":"Atlas"},{"$f":"IF('TDPrimas Vida'!A26=\"\",\"\",'TDPrimas Vida'!A26)","v":18},{"$f":"IF('TDPrimas Vida'!B26=\"\",\"\",'TDPrimas Vida'!B26)","v":"Atlas"},{"$f":"IF('TDPrimas Vida'!C26=\"\",\"\",'TDPrimas Vida'!C26)","v":2612427.2826199997},{"$f":"IF('TDPrimas Vida'!D26=\"\",\"\",'TDPrimas Vida'!D26)","v":2388659.0771900001},{"$f":"IF('TDPrimas Vida'!C26=\"\",\"\",IFERROR((E88/VLOOKUP(\"TOTAL\",$D$12:$L$312,2,0))*100,\"\"))","v":1.0077093572869023},{"$f":"IF('TDPrimas Vida'!C26=\"\",\"\",IFERROR((E88/VLOOKUP(\"TOTAL\",$D$12:$L$312,3,0))*100,\"\"))","v":1.0473216581100036},{"$f":"IF('TDPrimas Vida'!C26=\"\",\"\",E88-F88)","v":223768.20542999962},{"$f":"IFERROR(IF('TDPrimas Vida'!C26=\"\",\"\",(E88/F88-1)*100),\"ND\")","v":9.3679423558944652},{"$f":"IF(E88=\"\",\"\",IFERROR((E88/VLOOKUP(D88&\"|\"&VLOOKUP(TDPrimas!$B$4,Cat!R:T,2,0),'TD Operación'!A:D,4,0))*100,\"ND\"))","v":"ND"},{"$f":"IF('TDPrimas Vida'!E26=\"\",\"\",'TDPrimas Vida'!E26)","v":15.016262663699242}]
[null,{"$f":"IF(C89=\"\",B88,D89)","v":"Atlas"},null,{"$f":"IF(D88=\"\",\"\",\"1er Año\")","v":"1er Año"},{"$f":"IF(E88=\"\",\"\",(VLOOKUP(B89,'TDPrimas Vida'!$B:$N,5,0)))","v":1824502.26039},{"$f":"IF(E88=\"\",\"\",(VLOOKUP(B89,'TDPrimas Vida'!$B:$N,6,0)))","v":1602285.86897},{"$f":"IFERROR((E89/VLOOKUP(\"TOTAL\",$D$12:$L$312,2,0))*100,\"\")","v":0.70377767542766201},{"$f":"IFERROR((E89/VLOOKUP(\"TOTAL\",$D$12:$L$312,3,0))*100,\"\")","v":0.73144264925174285},{"$f":"IF(E88=\"\",\"\",E89-F89)","v":222216.39142},{"$f":"IF(E88=\"\",\"\",IFERROR((E89/F89-1)*100,\"ND\"))","v":13.868710679127915},{"$f":"IF(E88=\"\",\"\",IFERROR((E89/VLOOKUP(B89&\"|\"&VLOOKUP(TDPrimas!$B$4,Cat!R:T,2,0),'TD Operación'!A:D,4,0))*100,\"ND\"))","v":"ND"},{"$f":"IF(E88=\"\",\"\",(VLOOKUP(B89,'TDPrimas Vida'!$B:$N,7,0)))","v":10.487260393733374}]
[null,{"$f":"IF(C90=\"\",B89,D90)","v":"Atlas"},null,{"$f":"IF(D89=\"\",\"\",\"Renovación\")","v":"Renovación"},{"$f":"IF(E88=\"\",\"\",(VLOOKUP(B90,'TDPrimas Vida'!$B:$N,8,0)))","v":708213.5183},{"$f":"IF(E88=\"\",\"\",(VLOOKUP(B90,'TDPrimas Vida'!$B:$N,9,0)))","v":646101.10583000001},{"$f":"IFERROR((E90/VLOOKUP(\"TOTAL\",$D$12:$L$312,2,0))*100,\"\")","v":0.27318402088966348},{"$f":"IFERROR((E90/VLOOKUP(\"TOTAL\",$D$12:$L$312,3,0))*100,\"\")","v":0.28392268034270335},{"$f":"IF(E88=\"\",\"\",E90-F90)","v":62112.412469999981},{"$f":"IF(E88=\"\",\"\",IFERROR((E90/F90-1)*100,\"ND\"))","v":9.6134199291004983},{"$f":"IF(E88=\"\",\"\",IFERROR((E90/VLOOKUP(B90&\"|\"&VLOOKUP(TDPrimas!$B$4,Cat!R:T,2,0),'TD Operación'!A:D,4,0))*100,\"ND\"))","v":"ND"},{"$f":"IF(E88=\"\",\"\",(VLOOKUP(B90,'TDPrimas Vida'!$B:$N,10,0)))","v":4.0708196103777574}]
[null,{"$f":"IF(C91=\"\",B90,D91)","v":"Atlas"},null,{"$f":"IF(D90=\"\",\"\",\"Únicas\")","v":"Únicas"},{"$f":"IF(E89=\"\",\"\",(VLOOKUP(B91,'TDPrimas Vida'!$B:$N,11,0)))","v":79711.503930000006},{"$f":"IF(E89=\"\",\"\",(VLOOKUP(B91,'TDPrimas Vida'!$B:$N,12,0)))","v":140272.10238999999},{"$f":"IFERROR((E91/VLOOKUP(\"TOTAL\",$D$12:$L$312,2,0))*100,\"\")","v":3.0747660969576852E-2},{"$f":"IFERROR((E91/VLOOKUP(\"TOTAL\",$D$12:$L$312,3,0))*100,\"\")","v":3.1956328515557415E-2},{"$f":"IF(E88=\"\",\"\",E91-F91)","v":-60560.598459999979},{"$f":"IF(E88=\"\",\"\",IFERROR((E91/F91-1)*100,\"ND\"))","v":-43.173658502403221},{"$f":"IF(E88=\"\",\"\",IFERROR((E91/VLOOKUP(B91&\"|\"&VLOOKUP(TDPrimas!$B$4,Cat!R:T,2,0),'TD Operación'!A:D,4,0))*100,\"ND\"))","v":"ND"},{"$f":"IF(E88=\"\",\"\",(VLOOKUP(B91,'TDPrimas Vida'!$B:$N,13,0)))","v":0.4581826595881115}]
[null,{"$f":"IF(C92=\"\",B88,D92)","v":"Afirme"},{"$f":"IF('TDPrimas Vida'!A27=\"\",\"\",'TDPrimas Vida'!A27)","v":19},{"$f":"IF('TDPrimas Vida'!B27=\"\",\"\",'TDPrimas Vida'!B27)","v":"Afirme"},{"$f":"IF('TDPrimas Vida'!C27=\"\",\"\",'TDPrimas Vida'!C27)","v":2172231.3791300002},{"$f":"IF('TDPrimas Vida'!D27=\"\",\"\",'TDPrimas Vida'!D27)","v":2880992.4101},{"$f":"IF('TDPrimas Vida'!C27=\"\",\"\",IFERROR((E92/VLOOKUP(\"TOTAL\",$D$12:$L$312,2,0))*100,\"\"))","v":0.8379095952275506},{"$f":"IF('TDPrimas Vida'!C27=\"\",\"\",IFERROR((E92/VLOOKUP(\"TOTAL\",$D$12:$L$312,3,0))*100,\"\"))","v":0.87084719445564507},{"$f":"IF('TDPrimas Vida'!C27=\"\",\"\",E92-F92)","v":-708761.03096999973},{"$f":"IFERROR(IF('TDPrimas Vida'!C27=\"\",\"\",(E92/F92-1)*100),\"ND\")","v":-24.601280742193921},{"$f":"IF(E92=\"\",\"\",IFERROR((E92/VLOOKUP(D92&\"|\"&VLOOKUP(TDPrimas!$B$4,Cat!R:T,2,0),'TD Operación'!A:D,4,0))*100,\"ND\"))","v":"ND"},{"$f":"IF('TDPrimas Vida'!E27=\"\",\"\",'TDPrimas Vida'!E27)","v":28.609527401799838}]
[null,{"$f":"IF(C93=\"\",B92,D93)","v":"Afirme"},null,{"$f":"IF(D92=\"\",\"\",\"1er Año\")","v":"1er Año"},{"$f":"IF(E92=\"\",\"\",(VLOOKUP(B93,'TDPrimas Vida'!$B:$N,5,0)))","v":2172231.3791300002},{"$f":"IF(E92=\"\",\"\",(VLOOKUP(B93,'TDPrimas Vida'!$B:$N,6,0)))","v":2880992.4101000004},{"$f":"IFERROR((E93/VLOOKUP(\"TOTAL\",$D$12:$L$312,2,0))*100,\"\")","v":0.8379095952275506},{"$f":"IFERROR((E93/VLOOKUP(\"TOTAL\",$D$12:$L$312,3,0))*100,\"\")","v":0.87084719445564507},{"$f":"IF(E92=\"\",\"\",E93-F93)","v":-708761.0309700002},{"$f":"IF(E92=\"\",\"\",IFERROR((E93/F93-1)*100,\"ND\"))","v":-24.601280742193932},{"$f":"IF(E92=\"\",\"\",IFERROR((E93/VLOOKUP(B93&\"|\"&VLOOKUP(TDPrimas!$B$4,Cat!R:T,2,0),'TD Operación'!A:D,4,0))*100,\"ND\"))","v":"ND"},{"$f":"IF(E92=\"\",\"\",(VLOOKUP(B93,'TDPrimas Vida'!$B:$N,7,0)))","v":28.609527401799838}]
[null,{"$f":"IF(C94=\"\",B93,D94)","v":"Afirme"},null,{"$f":"IF(D93=\"\",\"\",\"Renovación\")","v":"Renovación"},{"$f":"IF(E92=\"\",\"\",(VLOOKUP(B94,'TDPrimas Vida'!$B:$N,8,0)))","v":0},{"$f":"IF(E92=\"\",\"\",(VLOOKUP(B94,'TDPrimas Vida'!$B:$N,9,0)))","v":0},{"$f":"IFERROR((E94/VLOOKUP(\"TOTAL\",$D$12:$L$312,2,0))*100,\"\")","v":0},{"$f":"IFERROR((E94/VLOOKUP(\"TOTAL\",$D$12:$L$312,3,0))*100,\"\")","v":0},{"$f":"IF(E92=\"\",\"\",E94-F94)","v":0},{"$f":"IF(E92=\"\",\"\",IFERROR((E94/F94-1)*100,\"ND\"))","v":"ND"},{"$f":"IF(E92=\"\",\"\",IFERROR((E94/VLOOKUP(B94&\"|\"&VLOOKUP(TDPrimas!$B$4,Cat!R:T,2,0),'TD Operación'!A:D,4,0))*100,\"ND\"))","v":"ND"},{"$f":"IF(E92=\"\",\"\",(VLOOKUP(B94,'TDPrimas Vida'!$B:$N,10,0)))","v":0}]
[null,{"$f":"IF(C95=\"\",B94,D95)","v":"Afirme"},null,{"$f":"IF(D94=\"\",\"\",\"Únicas\")","v":"Únicas"},{"$f":"IF(E93=\"\",\"\",(VLOOKUP(B95,'TDPrimas Vida'!$B:$N,11,0)))","v":0},{"$f":"IF(E93=\"\",\"\",(VLOOKUP(B95,'TDPrimas Vida'!$B:$N,12,0)))","v":0},{"$f":"IFERROR((E95/VLOOKUP(\"TOTAL\",$D$12:$L$312,2,0))*100,\"\")","v":0},{"$f":"IFERROR((E95/VLOOKUP(\"TOTAL\",$D$12:$L$312,3,0))*100,\"\")","v":0},{"$f":"IF(E92=\"\",\"\",E95-F95)","v":0},{"$f":"IF(E92=\"\",\"\",IFERROR((E95/F95-1)*100,\"ND\"))","v":"ND"},{"$f":"IF(E92=\"\",\"\",IFERROR((E95/VLOOKUP(B95&\"|\"&VLOOKUP(TDPrimas!$B$4,Cat!R:T,2,0),'TD Operación'!A:D,4,0))*100,\"ND\"))","v":"ND"},{"$f":"IF(E92=\"\",\"\",(VLOOKUP(B95,'TDPrimas Vida'!$B:$N,13,0)))","v":0}]
[null,{"$f":"IF(C96=\"\",B92,D96)","v":"Insignia Life"},{"$f":"IF('TDPrimas Vida'!A28=\"\",\"\",'TDPrimas Vida'!A28)","v":20},{"$f":"IF('TDPrimas Vida'!B28=\"\",\"\",'TDPrimas Vida'!B28)","v":"Insignia Life"},{"$f":"IF('TDPrimas Vida'!C28=\"\",\"\",'TDPrimas Vida'!C28)","v":1967652.9487100001},{"$f":"IF('TDPrimas Vida'!D28=\"\",\"\",'TDPrimas Vida'!D28)","v":1738938.03253},{"$f":"IF('TDPrimas Vida'!C28=\"\",\"\",IFERROR((E96/VLOOKUP(\"TOTAL\",$D$12:$L$312,2,0))*100,\"\"))","v":0.75899616479263787},{"$f":"IF('TDPrimas Vida'!C28=\"\",\"\",IFERROR((E96/VLOOKUP(\"TOTAL\",$D$12:$L$312,3,0))*100,\"\"))","v":0.78883173611678725},{"$f":"IF('TDPrimas Vida'!C28=\"\",\"\",E96-F96)","v":228714.91618000017},{"$f":"IFERROR(IF('TDPrimas Vida'!C28=\"\",\"\",(E96/F96-1)*100),\"ND\")","v":13.152562765404596},{"$f":"IF(E96=\"\",\"\",IFERROR((E96/VLOOKUP(D96&\"|\"&VLOOKUP(TDPrimas!$B$4,Cat!R:T,2,0),'TD Operación'!A:D,4,0))*100,\"ND\"))","v":"ND"},{"$f":"IF('TDPrimas Vida'!E28=\"\",\"\",'TDPrimas Vida'!E28)","v":100}]
[null,{"$f":"IF(C97=\"\",B96,D97)","v":"Insignia Life"},null,{"$f":"IF(D96=\"\",\"\",\"1er Año\")","v":"1er Año"},{"$f":"IF(E96=\"\",\"\",(VLOOKUP(B97,'TDPrimas Vida'!$B:$N,5,0)))","v":577363.15594999993},{"$f":"IF(E96=\"\",\"\",(VLOOKUP(B97,'TDPrimas Vida'!$B:$N,6,0)))","v":489251.24956000003},{"$f":"IFERROR((E97/VLOOKUP(\"TOTAL\",$D$12:$L$312,2,0))*100,\"\")","v":0.22271021998362048},{"$f":"IFERROR((E97/VLOOKUP(\"TOTAL\",$D$12:$L$312,3,0))*100,\"\")","v":0.23146479208973073},{"$f":"IF(E96=\"\",\"\",E97-F97)","v":88111.906389999902},{"$f":"IF(E96=\"\",\"\",IFERROR((E97/F97-1)*100,\"ND\"))","v":18.009541410316654},{"$f":"IF(E96=\"\",\"\",IFERROR((E97/VLOOKUP(B97&\"|\"&VLOOKUP(TDPrimas!$B$4,Cat!R:T,2,0),'TD Operación'!A:D,4,0))*100,\"ND\"))","v":"ND"},{"$f":"IF(E96=\"\",\"\",(VLOOKUP(B97,'TDPrimas Vida'!$B:$N,7,0)))","v":29.34273324615101}]
[null,{"$f":"IF(C98=\"\",B97,D98)","v":"Insignia Life"},null,{"$f":"IF(D97=\"\",\"\",\"Renovación\")","v":"Renovación"},{"$f":"IF(E96=\"\",\"\",(VLOOKUP(B98,'TDPrimas Vida'!$B:$N,8,0)))","v":1392872.77639},{"$f":"IF(E96=\"\",\"\",(VLOOKUP(B98,'TDPrimas Vida'!$B:$N,9,0)))","v":1255059.7612100001},{"$f":"IFERROR((E98/VLOOKUP(\"TOTAL\",$D$12:$L$312,2,0))*100,\"\")","v":0.53728229666576999},{"$f":"IFERROR((E98/VLOOKUP(\"TOTAL\",$D$12:$L$312,3,0))*100,\"\")","v":0.55840246172978425},{"$f":"IF(E96=\"\",\"\",E98-F98)","v":137813.01517999987},{"$f":"IF(E96=\"\",\"\",IFERROR((E98/F98-1)*100,\"ND\"))","v":10.980593868066869},{"$f":"IF(E96=\"\",\"\",IFERROR((E98/VLOOKUP(B98&\"|\"&VLOOKUP(TDPrimas!$B$4,Cat!R:T,2,0),'TD Operación'!A:D,4,0))*100,\"ND\"))","v":"ND"},{"$f":"IF(E96=\"\",\"\",(VLOOKUP(B98,'TDPrimas Vida'!$B:$N,10,0)))","v":70.788539071545713}]
[null,{"$f":"IF(C99=\"\",B98,D99)","v":"Insignia Life"},null,{"$f":"IF(D98=\"\",\"\",\"Únicas\")","v":"Únicas"},{"$f":"IF(E97=\"\",\"\",(VLOOKUP(B99,'TDPrimas Vida'!$B:$N,11,0)))","v":-2582.9836500000001},{"$f":"IF(E97=\"\",\"\",(VLOOKUP(B99,'TDPrimas Vida'!$B:$N,12,0)))","v":-5372.9782400000004},{"$f":"IFERROR((E99/VLOOKUP(\"TOTAL\",$D$12:$L$312,2,0))*100,\"\")","v":-9.963518644674524E-4},{"$f":"IFERROR((E99/VLOOKUP(\"TOTAL\",$D$12:$L$312,3,0))*100,\"\")","v":-1.0355177107459897E-3},{"$f":"IF(E96=\"\",\"\",E99-F99)","v":2789.9945900000002},{"$f":"IF(E96=\"\",\"\",IFERROR((E99/F99-1)*100,\"ND\"))","v":-51.926407764495238},{"$f":"IF(E96=\"\",\"\",IFERROR((E99/VLOOKUP(B99&\"|\"&VLOOKUP(TDPrimas!$B$4,Cat!R:T,2,0),'TD Operación'!A:D,4,0))*100,\"ND\"))","v":"ND"},{"$f":"IF(E96=\"\",\"\",(VLOOKUP(B99,'TDPrimas Vida'!$B:$N,13,0)))","v":-0.13127231871318631}]
[null,{"$f":"IF(C100=\"\",B96,D100)","v":"Seguros SURA"},{"$f":"IF('TDPrimas Vida'!A29=\"\",\"\",'TDPrimas Vida'!A29)","v":21},{"$f":"IF('TDPrimas Vida'!B29=\"\",\"\",'TDPrimas Vida'!B29)","v":"Seguros SURA"},{"$f":"IF('TDPrimas Vida'!C29=\"\",\"\",'TDPrimas Vida'!C29)","v":1862741.3330000001},{"$f":"IF('TDPrimas Vida'!D29=\"\",\"\",'TDPrimas Vida'!D29)","v":1457579.496},{"$f":"IF('TDPrimas Vida'!C29=\"\",\"\",IFERROR((E100/VLOOKUP(\"TOTAL\",$D$12:$L$312,2,0))*100,\"\"))","v":0.71852789318087151},{"$f":"IF('TDPrimas Vida'!C29=\"\",\"\",IFERROR((E100/VLOOKUP(\"TOTAL\",$D$12:$L$312,3,0))*100,\"\"))","v":0.74677268702807831},{"$f":"IF('TDPrimas Vida'!C29=\"\",\"\",E100-F100)","v":405161.83700000006},{"$f":"IFERROR(IF('TDPrimas Vida'!C29=\"\",\"\",(E100/F100-1)*100),\"ND\")","v":27.796894653902292},{"$f":"IF(E100=\"\",\"\",IFERROR((E100/VLOOKUP(D100&\"|\"&VLOOKUP(TDPrimas!$B$4,Cat!R:T,2,0),'TD Operación'!A:D,4,0))*100,\"ND\"))","v":"ND"},{"$f":"IF('TDPrimas Vida'!E29=\"\",\"\",'TDPrimas Vida'!E29)","v":26.940197865469056}]
[null,{"$f":"IF(C101=\"\",B100,D101)","v":"Seguros SURA"},null,{"$f":"IF(D100=\"\",\"\",\"1er Año\")","v":"1er Año"},{"$f":"IF(E100=\"\",\"\",(VLOOKUP(B101,'TDPrimas Vida'!$B:$N,5,0)))","v":1602380.4598700001},{"$f":"IF(E100=\"\",\"\",(VLOOKUP(B101,'TDPrimas Vida'!$B:$N,6,0)))","v":1190642.4419500001},{"$f":"IFERROR((E101/VLOOKUP(\"TOTAL\",$D$12:$L$312,2,0))*100,\"\")","v":0.61809712143462014},{"$f":"IFERROR((E101/VLOOKUP(\"TOTAL\",$D$12:$L$312,3,0))*100,\"\")","v":0.64239405679114103},{"$f":"IF(E100=\"\",\"\",E101-F101)","v":411738.01792000001},{"$f":"IF(E100=\"\",\"\",IFERROR((E101/F101-1)*100,\"ND\"))","v":34.581164202887592},{"$f":"IF(E100=\"\",\"\",IFERROR((E101/VLOOKUP(B101&\"|\"&VLOOKUP(TDPrimas!$B$4,Cat!R:T,2,0),'TD Operación'!A:D,4,0))*100,\"ND\"))","v":"ND"},{"$f":"IF(E100=\"\",\"\",(VLOOKUP(B101,'TDPrimas Vida'!$B:$N,7,0)))","v":23.174686619067522}]
[null,{"$f":"IF(C102=\"\",B101,D102)","v":"Seguros SURA"},null,{"$f":"IF(D101=\"\",\"\",\"Renovación\")","v":"Renovación"},{"$f":"IF(E100=\"\",\"\",(VLOOKUP(B102,'TDPrimas Vida'!$B:$N,8,0)))","v":255559.07928999997},{"$f":"IF(E100=\"\",\"\",(VLOOKUP(B102,'TDPrimas Vida'!$B:$N,9,0)))","v":261495.03055},{"$f":"IFERROR((E102/VLOOKUP(\"TOTAL\",$D$12:$L$312,2,0))*100,\"\")","v":9.8578543124799481E-2},{"$f":"IFERROR((E102/VLOOKUP(\"TOTAL\",$D$12:$L$312,3,0))*100,\"\")","v":0.10245359189429389},{"$f":"IF(E100=\"\",\"\",E102-F102)","v":-5935.9512600000307},{"$f":"IF(E100=\"\",\"\",IFERROR((E102/F102-1)*100,\"ND\"))","v":-2.2700053792666708},{"$f":"IF(E100=\"\",\"\",IFERROR((E102/VLOOKUP(B102&\"|\"&VLOOKUP(TDPrimas!$B$4,Cat!R:T,2,0),'TD Operación'!A:D,4,0))*100,\"ND\"))","v":"ND"},{"$f":"IF(E100=\"\",\"\",(VLOOKUP(B102,'TDPrimas Vida'!$B:$N,10,0)))","v":3.6960645262010159}]
[null,{"$f":"IF(C103=\"\",B102,D103)","v":"Seguros SURA"},null,{"$f":"IF(D102=\"\",\"\",\"Únicas\")","v":"Únicas"},{"$f":"IF(E101=\"\",\"\",(VLOOKUP(B103,'TDPrimas Vida'!$B:$N,11,0)))","v":4801.7945},{"$f":"IF(E101=\"\",\"\",(VLOOKUP(B103,'TDPrimas Vida'!$B:$N,12,0)))","v":5442.0234299999993},{"$f":"IFERROR((E103/VLOOKUP(\"TOTAL\",$D$12:$L$312,2,0))*100,\"\")","v":1.8522288760382043E-3},{"$f":"IFERROR((E103/VLOOKUP(\"TOTAL\",$D$12:$L$312,3,0))*100,\"\")","v":1.9250386072372874E-3},{"$f":"IF(E100=\"\",\"\",E103-F103)","v":-640.22892999999931},{"$f":"IF(E100=\"\",\"\",IFERROR((E103/F103-1)*100,\"ND\"))","v":-11.764538286818793},{"$f":"IF(E100=\"\",\"\",IFERROR((E103/VLOOKUP(B103&\"|\"&VLOOKUP(TDPrimas!$B$4,Cat!R:T,2,0),'TD Operación'!A:D,4,0))*100,\"ND\"))","v":"ND"},{"$f":"IF(E100=\"\",\"\",(VLOOKUP(B103,'TDPrimas Vida'!$B:$N,13,0)))","v":6.9446729745874514E-2}]
[null,{"$f":"IF(C104=\"\",B100,D104)","v":"Prudential"},{"$f":"IF('TDPrimas Vida'!A30=\"\",\"\",'TDPrimas Vida'!A30)","v":22},{"$f":"IF('TDPrimas Vida'!B30=\"\",\"\",'TDPrimas Vida'!B30)","v":"Prudential"},{"$f":"IF('TDPrimas Vida'!C30=\"\",\"\",'TDPrimas Vida'!C30)","v":1613118.0192799999},{"$f":"IF('TDPrimas Vida'!D30=\"\",\"\",'TDPrimas Vida'!D30)","v":1176956.4009700001},{"$f":"IF('TDPrimas Vida'!C30=\"\",\"\",IFERROR((E104/VLOOKUP(\"TOTAL\",$D$12:$L$312,2,0))*100,\"\"))","v":0.62223899331134813},{"$f":"IF('TDPrimas Vida'!C30=\"\",\"\",IFERROR((E104/VLOOKUP(\"TOTAL\",$D$12:$L$312,3,0))*100,\"\"))","v":0.64669874255221504},{"$f":"IF('TDPrimas Vida'!C30=\"\",\"\",E104-F104)","v":436161.61830999982},{"$f":"IFERROR(IF('TDPrimas Vida'!C30=\"\",\"\",(E104/F104-1)*100),\"ND\")","v":37.058434615805048},{"$f":"IF(E104=\"\",\"\",IFERROR((E104/VLOOKUP(D104&\"|\"&VLOOKUP(TDPrimas!$B$4,Cat!R:T,2,0),'TD Operación'!A:D,4,0))*100,\"ND\"))","v":"ND"},{"$f":"IF('TDPrimas Vida'!E30=\"\",\"\",'TDPrimas Vida'!E30)","v":100}]
[null,{"$f":"IF(C105=\"\",B104,D105)","v":"Prudential"},null,{"$f":"IF(D104=\"\",\"\",\"1er Año\")","v":"1er Año"},{"$f":"IF(E104=\"\",\"\",(VLOOKUP(B105,'TDPrimas Vida'!$B:$N,5,0)))","v":555658.74002000003},{"$f":"IF(E104=\"\",\"\",(VLOOKUP(B105,'TDPrimas Vida'!$B:$N,6,0)))","v":445529.68565},{"$f":"IFERROR((E105/VLOOKUP(\"TOTAL\",$D$12:$L$312,2,0))*100,\"\")","v":0.21433802789520653},{"$f":"IFERROR((E105/VLOOKUP(\"TOTAL\",$D$12:$L$312,3,0))*100,\"\")","v":0.22276349539475851},{"$f":"IF(E104=\"\",\"\",E105-F105)","v":110129.05437000003},{"$f":"IF(E104=\"\",\"\",IFERROR((E105/F105-1)*100,\"ND\"))","v":24.718679342169668},{"$f":"IF(E104=\"\",\"\",IFERROR((E105/VLOOKUP(B105&\"|\"&VLOOKUP(TDPrimas!$B$4,Cat!R:T,2,0),'TD Operación'!A:D,4,0))*100,\"ND\"))","v":"ND"},{"$f":"IF(E104=\"\",\"\",(VLOOKUP(B105,'TDPrimas Vida'!$B:$N,7,0)))","v":34.446254606219888}]
[null,{"$f":"IF(C106=\"\",B105,D106)","v":"Prudential"},null,{"$f":"IF(D105=\"\",\"\",\"Renovación\")","v":"Renovación"},{"$f":"IF(E104=\"\",\"\",(VLOOKUP(B106,'TDPrimas Vida'!$B:$N,8,0)))","v":1023104.96704},{"$f":"IF(E104=\"\",\"\",(VLOOKUP(B106,'TDPrimas Vida'!$B:$N,9,0)))","v":695859.72439999995},{"$f":"IFERROR((E106/VLOOKUP(\"TOTAL\",$D$12:$L$312,2,0))*100,\"\")","v":0.39464924272990087},{"$f":"IFERROR((E106/VLOOKUP(\"TOTAL\",$D$12:$L$312,3,0))*100,\"\")","v":0.4101626091679334},{"$f":"IF(E104=\"\",\"\",E106-F106)","v":327245.24264000007},{"$f":"IF(E104=\"\",\"\",IFERROR((E106/F106-1)*100,\"ND\"))","v":47.027472803109127},{"$f":"IF(E104=\"\",\"\",IFERROR((E106/VLOOKUP(B106&\"|\"&VLOOKUP(TDPrimas!$B$4,Cat!R:T,2,0),'TD Operación'!A:D,4,0))*100,\"ND\"))","v":"ND"},{"$f":"IF(E104=\"\",\"\",(VLOOKUP(B106,'TDPrimas Vida'!$B:$N,10,0)))","v":63.424061650284791}]
[null,{"$f":"IF(C107=\"\",B106,D107)","v":"Prudential"},null,{"$f":"IF(D106=\"\",\"\",\"Únicas\")","v":"Únicas"},{"$f":"IF(E105=\"\",\"\",(VLOOKUP(B107,'TDPrimas Vida'!$B:$N,11,0)))","v":34354.312220000007},{"$f":"IF(E105=\"\",\"\",(VLOOKUP(B107,'TDPrimas Vida'!$B:$N,12,0)))","v":35566.990919999997},{"$f":"IFERROR((E107/VLOOKUP(\"TOTAL\",$D$12:$L$312,2,0))*100,\"\")","v":1.325172268624077E-2},{"$f":"IFERROR((E107/VLOOKUP(\"TOTAL\",$D$12:$L$312,3,0))*100,\"\")","v":1.3772637989523233E-2},{"$f":"IF(E104=\"\",\"\",E107-F107)","v":-1212.6786999999895},{"$f":"IF(E104=\"\",\"\",IFERROR((E107/F107-1)*100,\"ND\"))","v":-3.4095622616139742},{"$f":"IF(E104=\"\",\"\",IFERROR((E107/VLOOKUP(B107&\"|\"&VLOOKUP(TDPrimas!$B$4,Cat!R:T,2,0),'TD Operación'!A:D,4,0))*100,\"ND\"))","v":"ND"},{"$f":"IF(E104=\"\",\"\",(VLOOKUP(B107,'TDPrimas Vida'!$B:$N,13,0)))","v":2.1296837434953293}]
[null,{"$f":"IF(C108=\"\",B104,D108)","v":"Assurant Vida"},{"$f":"IF('TDPrimas Vida'!A31=\"\",\"\",'TDPrimas Vida'!A31)","v":23},{"$f":"IF('TDPrimas Vida'!B31=\"\",\"\",'TDPrimas Vida'!B31)","v":"Assurant Vida"},{"$f":"IF('TDPrimas Vida'!C31=\"\",\"\",'TDPrimas Vida'!C31)","v":1073592.1059400002},{"$f":"IF('TDPrimas Vida'!D31=\"\",\"\",'TDPrimas Vida'!D31)","v":1024603.9286700001},{"$f":"IF('TDPrimas Vida'!C31=\"\",\"\",IFERROR((E108/VLOOKUP(\"TOTAL\",$D$12:$L$312,2,0))*100,\"\"))","v":0.41412399045996978},{"$f":"IF('TDPrimas Vida'!C31=\"\",\"\",IFERROR((E108/VLOOKUP(\"TOTAL\",$D$12:$L$312,3,0))*100,\"\"))","v":0.43040289465942039},{"$f":"IF('TDPrimas Vida'!C31=\"\",\"\",E108-F108)","v":48988.177270000102},{"$f":"IFERROR(IF('TDPrimas Vida'!C31=\"\",\"\",(E108/F108-1)*100),\"ND\")","v":4.7811818693287433},{"$f":"IF(E108=\"\",\"\",IFERROR((E108/VLOOKUP(D108&\"|\"&VLOOKUP(TDPrimas!$B$4,Cat!R:T,2,0),'TD Operación'!A:D,4,0))*100,\"ND\"))","v":"ND"},{"$f":"IF('TDPrimas Vida'!E31=\"\",\"\",'TDPrimas Vida'!E31)","v":100}]
[null,{"$f":"IF(C109=\"\",B108,D109)","v":"Assurant Vida"},null,{"$f":"IF(D108=\"\",\"\",\"1er Año\")","v":"1er Año"},{"$f":"IF(E108=\"\",\"\",(VLOOKUP(B109,'TDPrimas Vida'!$B:$N,5,0)))","v":1062278.15708},{"$f":"IF(E108=\"\",\"\",(VLOOKUP(B109,'TDPrimas Vida'!$B:$N,6,0)))","v":1013361.02646},{"$f":"IFERROR((E109/VLOOKUP(\"TOTAL\",$D$12:$L$312,2,0))*100,\"\")","v":0.40975978395748164},{"$f":"IFERROR((E109/VLOOKUP(\"TOTAL\",$D$12:$L$312,3,0))*100,\"\")","v":0.42586713446480795},{"$f":"IF(E108=\"\",\"\",E109-F109)","v":48917.130620000069},{"$f":"IF(E108=\"\",\"\",IFERROR((E109/F109-1)*100,\"ND\"))","v":4.8272164946863594},{"$f":"IF(E108=\"\",\"\",IFERROR((E109/VLOOKUP(B109&\"|\"&VLOOKUP(TDPrimas!$B$4,Cat!R:T,2,0),'TD Operación'!A:D,4,0))*100,\"ND\"))","v":"ND"},{"$f":"IF(E108=\"\",\"\",(VLOOKUP(B109,'TDPrimas Vida'!$B:$N,7,0)))","v":98.946159458755147}]
[null,{"$f":"IF(C110=\"\",B109,D110)","v":"Assurant Vida"},null,{"$f":"IF(D109=\"\",\"\",\"Renovación\")","v":"Renovación"},{"$f":"IF(E108=\"\",\"\",(VLOOKUP(B110,'TDPrimas Vida'!$B:$N,8,0)))","v":11313.948859999999},{"$f":"IF(E108=\"\",\"\",(VLOOKUP(B110,'TDPrimas Vida'!$B:$N,9,0)))","v":11242.90221},{"$f":"IFERROR((E110/VLOOKUP(\"TOTAL\",$D$12:$L$312,2,0))*100,\"\")","v":4.3642065024880848E-3},{"$f":"IFERROR((E110/VLOOKUP(\"TOTAL\",$D$12:$L$312,3,0))*100,\"\")","v":4.5357601946123035E-3},{"$f":"IF(E108=\"\",\"\",E110-F110)","v":71.046649999998408},{"$f":"IF(E108=\"\",\"\",IFERROR((E110/F110-1)*100,\"ND\"))","v":0.63192446819297921},{"$f":"IF(E108=\"\",\"\",IFERROR((E110/VLOOKUP(B110&\"|\"&VLOOKUP(TDPrimas!$B$4,Cat!R:T,2,0),'TD Operación'!A:D,4,0))*100,\"ND\"))","v":"ND"},{"$f":"IF(E108=\"\",\"\",(VLOOKUP(B110,'TDPrimas Vida'!$B:$N,10,0)))","v":1.0538405412448424}]
[null,{"$f":"IF(C111=\"\",B110,D111)","v":"Assurant Vida"},null,{"$f":"IF(D110=\"\",\"\",\"Únicas\")","v":"Únicas"},{"$f":"IF(E109=\"\",\"\",(VLOOKUP(B111,'TDPrimas Vida'!$B:$N,11,0)))","v":0},{"$f":"IF(E109=\"\",\"\",(VLOOKUP(B111,'TDPrimas Vida'!$B:$N,12,0)))","v":0},{"$f":"IFERROR((E111/VLOOKUP(\"TOTAL\",$D$12:$L$312,2,0))*100,\"\")","v":0},{"$f":"IFERROR((E111/VLOOKUP(\"TOTAL\",$D$12:$L$312,3,0))*100,\"\")","v":0},{"$f":"IF(E108=\"\",\"\",E111-F111)","v":0},{"$f":"IF(E108=\"\",\"\",IFERROR((E111/F111-1)*100,\"ND\"))","v":"ND"},{"$f":"IF(E108=\"\",\"\",IFERROR((E111/VLOOKUP(B111&\"|\"&VLOOKUP(TDPrimas!$B$4,Cat!R:T,2,0),'TD Operación'!A:D,4,0))*100,\"ND\"))","v":"ND"},{"$f":"IF(E108=\"\",\"\",(VLOOKUP(B111,'TDPrimas Vida'!$B:$N,13,0)))","v":0}]
[null,{"$f":"IF(C112=\"\",B108,D112)","v":"Chubb Seguros México"},{"$f":"IF('TDPrimas Vida'!A32=\"\",\"\",'TDPrimas Vida'!A32)","v":24},{"$f":"IF('TDPrimas Vida'!B32=\"\",\"\",'TDPrimas Vida'!B32)","v":"Chubb Seguros México"},{"$f":"IF('TDPrimas Vida'!C32=\"\",\"\",'TDPrimas Vida'!C32)","v":969501.00555},{"$f":"IF('TDPrimas Vida'!D32=\"\",\"\",'TDPrimas Vida'!D32)","v":1024740.44845},{"$f":"IF('TDPrimas Vida'!C32=\"\",\"\",IFERROR((E112/VLOOKUP(\"TOTAL\",$D$12:$L$312,2,0))*100,\"\"))","v":0.37397222180744827},{"$f":"IF('TDPrimas Vida'!C32=\"\",\"\",IFERROR((E112/VLOOKUP(\"TOTAL\",$D$12:$L$312,3,0))*100,\"\"))","v":0.38867279002446303},{"$f":"IF('TDPrimas Vida'!C32=\"\",\"\",E112-F112)","v":-55239.442900000024},{"$f":"IFERROR(IF('TDPrimas Vida'!C32=\"\",\"\",(E112/F112-1)*100),\"ND\")","v":-5.3905789493870371},{"$f":"IF(E112=\"\",\"\",IFERROR((E112/VLOOKUP(D112&\"|\"&VLOOKUP(TDPrimas!$B$4,Cat!R:T,2,0),'TD Operación'!A:D,4,0))*100,\"ND\"))","v":"ND"},{"$f":"IF('TDPrimas Vida'!E32=\"\",\"\",'TDPrimas Vida'!E32)","v":4.6312545469617747}]
[null,{"$f":"IF(C113=\"\",B112,D113)","v":"Chubb Seguros México"},null,{"$f":"IF(D112=\"\",\"\",\"1er Año\")","v":"1er Año"},{"$f":"IF(E112=\"\",\"\",(VLOOKUP(B113,'TDPrimas Vida'!$B:$N,5,0)))","v":969501.00555},{"$f":"IF(E112=\"\",\"\",(VLOOKUP(B113,'TDPrimas Vida'!$B:$N,6,0)))","v":1024740.44845},{"$f":"IFERROR((E113/VLOOKUP(\"TOTAL\",$D$12:$L$312,2,0))*100,\"\")","v":0.37397222180744827},{"$f":"IFERROR((E113/VLOOKUP(\"TOTAL\",$D$12:$L$312,3,0))*100,\"\")","v":0.38867279002446303},{"$f":"IF(E112=\"\",\"\",E113-F113)","v":-55239.442900000024},{"$f":"IF(E112=\"\",\"\",IFERROR((E113/F113-1)*100,\"ND\"))","v":-5.3905789493870371},{"$f":"IF(E112=\"\",\"\",IFERROR((E113/VLOOKUP(B113&\"|\"&VLOOKUP(TDPrimas!$B$4,Cat!R:T,2,0),'TD Operación'!A:D,4,0))*100,\"ND\"))","v":"ND"},{"$f":"IF(E112=\"\",\"\",(VLOOKUP(B113,'TDPrimas Vida'!$B:$N,7,0)))","v":4.6312545469617747}]
[null,{"$f":"IF(C114=\"\",B113,D114)","v":"Chubb Seguros México"},null,{"$f":"IF(D113=\"\",\"\",\"Renovación\")","v":"Renovación"},{"$f":"IF(E112=\"\",\"\",(VLOOKUP(B114,'TDPrimas Vida'!$B:$N,8,0)))","v":0},{"$f":"IF(E112=\"\",\"\",(VLOOKUP(B114,'TDPrimas Vida'!$B:$N,9,0)))","v":0},{"$f":"IFERROR((E114/VLOOKUP(\"TOTAL\",$D$12:$L$312,2,0))*100,\"\")","v":0},{"$f":"IFERROR((E114/VLOOKUP(\"TOTAL\",$D$12:$L$312,3,0))*100,\"\")","v":0},{"$f":"IF(E112=\"\",\"\",E114-F114)","v":0},{"$f":"IF(E112=\"\",\"\",IFERROR((E114/F114-1)*100,\"ND\"))","v":"ND"},{"$f":"IF(E112=\"\",\"\",IFERROR((E114/VLOOKUP(B114&\"|\"&VLOOKUP(TDPrimas!$B$4,Cat!R:T,2,0),'TD Operación'!A:D,4,0))*100,\"ND\"))","v":"ND"},{"$f":"IF(E112=\"\",\"\",(VLOOKUP(B114,'TDPrimas Vida'!$B:$N,10,0)))","v":0}]
[null,{"$f":"IF(C115=\"\",B114,D115)","v":"Chubb Seguros México"},null,{"$f":"IF(D114=\"\",\"\",\"Únicas\")","v":"Únicas"},{"$f":"IF(E113=\"\",\"\",(VLOOKUP(B115,'TDPrimas Vida'!$B:$N,11,0)))","v":0},{"$f":"IF(E113=\"\",\"\",(VLOOKUP(B115,'TDPrimas Vida'!$B:$N,12,0)))","v":0},{"$f":"IFERROR((E115/VLOOKUP(\"TOTAL\",$D$12:$L$312,2,0))*100,\"\")","v":0},{"$f":"IFERROR((E115/VLOOKUP(\"TOTAL\",$D$12:$L$312,3,0))*100,\"\")","v":0},{"$f":"IF(E112=\"\",\"\",E115-F115)","v":0},{"$f":"IF(E112=\"\",\"\",IFERROR((E115/F115-1)*100,\"ND\"))","v":"ND"},{"$f":"IF(E112=\"\",\"\",IFERROR((E115/VLOOKUP(B115&\"|\"&VLOOKUP(TDPrimas!$B$4,Cat!R:T,2,0),'TD Operación'!A:D,4,0))*100,\"ND\"))","v":"ND"},{"$f":"IF(E112=\"\",\"\",(VLOOKUP(B115,'TDPrimas Vida'!$B:$N,13,0)))","v":0}]
[null,{"$f":"IF(C116=\"\",B112,D116)","v":"General de Seguros"},{"$f":"IF('TDPrimas Vida'!A33=\"\",\"\",'TDPrimas Vida'!A33)","v":25},{"$f":"IF('TDPrimas Vida'!B33=\"\",\"\",'TDPrimas Vida'!B33)","v":"General de Seguros"},{"$f":"IF('TDPrimas Vida'!C33=\"\",\"\",'TDPrimas Vida'!C33)","v":593549.91121000005},{"$f":"IF('TDPrimas Vida'!D33=\"\",\"\",'TDPrimas Vida'!D33)","v":706075.57554999995},{"$f":"IF('TDPrimas Vida'!C33=\"\",\"\",IFERROR((E116/VLOOKUP(\"TOTAL\",$D$12:$L$312,2,0))*100,\"\"))","v":0.22895404726567836},{"$f":"IF('TDPrimas Vida'!C33=\"\",\"\",IFERROR((E116/VLOOKUP(\"TOTAL\",$D$12:$L$312,3,0))*100,\"\"))","v":0.23795405955034393},{"$f":"IF('TDPrimas Vida'!C33=\"\",\"\",E116-F116)","v":-112525.6643399999},{"$f":"IFERROR(IF('TDPrimas Vida'!C33=\"\",\"\",(E116/F116-1)*100),\"ND\")","v":-15.936773376185354},{"$f":"IF(E116=\"\",\"\",IFERROR((E116/VLOOKUP(D116&\"|\"&VLOOKUP(TDPrimas!$B$4,Cat!R:T,2,0),'TD Operación'!A:D,4,0))*100,\"ND\"))","v":"ND"},{"$f":"IF('TDPrimas Vida'!E33=\"\",\"\",'TDPrimas Vida'!E33)","v":22.194787594020514}]
[null,{"$f":"IF(C117=\"\",B116,D117)","v":"General de Seguros"},null,{"$f":"IF(D116=\"\",\"\",\"1er Año\")","v":"1er Año"},{"$f":"IF(E116=\"\",\"\",(VLOOKUP(B117,'TDPrimas Vida'!$B:$N,5,0)))","v":172497.48657000001},{"$f":"IF(E116=\"\",\"\",(VLOOKUP(B117,'TDPrimas Vida'!$B:$N,6,0)))","v":445757.19783999998},{"$f":"IFERROR((E117/VLOOKUP(\"TOTAL\",$D$12:$L$312,2,0))*100,\"\")","v":6.6538629603779667E-2},{"$f":"IFERROR((E117/VLOOKUP(\"TOTAL\",$D$12:$L$312,3,0))*100,\"\")","v":6.9154213346415694E-2},{"$f":"IF(E116=\"\",\"\",E117-F117)","v":-273259.71126999997},{"$f":"IF(E116=\"\",\"\",IFERROR((E117/F117-1)*100,\"ND\"))","v":-61.302366533649064},{"$f":"IF(E116=\"\",\"\",IFERROR((E117/VLOOKUP(B117&\"|\"&VLOOKUP(TDPrimas!$B$4,Cat!R:T,2,0),'TD Operación'!A:D,4,0))*100,\"ND\"))","v":"ND"},{"$f":"IF(E116=\"\",\"\",(VLOOKUP(B117,'TDPrimas Vida'!$B:$N,7,0)))","v":6.4502495958911927}]
[null,{"$f":"IF(C118=\"\",B117,D118)","v":"General de Seguros"},null,{"$f":"IF(D117=\"\",\"\",\"Renovación\")","v":"Renovación"},{"$f":"IF(E116=\"\",\"\",(VLOOKUP(B118,'TDPrimas Vida'!$B:$N,8,0)))","v":421052.42463999998},{"$f":"IF(E116=\"\",\"\",(VLOOKUP(B118,'TDPrimas Vida'!$B:$N,9,0)))","v":260318.37771},{"$f":"IFERROR((E118/VLOOKUP(\"TOTAL\",$D$12:$L$312,2,0))*100,\"\")","v":0.16241541766189865},{"$f":"IFERROR((E118/VLOOKUP(\"TOTAL\",$D$12:$L$312,3,0))*100,\"\")","v":0.16879984620392821},{"$f":"IF(E116=\"\",\"\",E118-F118)","v":160734.04692999998},{"$f":"IF(E116=\"\",\"\",IFERROR((E118/F118-1)*100,\"ND\"))","v":61.745178478739994},{"$f":"IF(E116=\"\",\"\",IFERROR((E118/VLOOKUP(B118&\"|\"&VLOOKUP(TDPrimas!$B$4,Cat!R:T,2,0),'TD Operación'!A:D,4,0))*100,\"ND\"))","v":"ND"},{"$f":"IF(E116=\"\",\"\",(VLOOKUP(B118,'TDPrimas Vida'!$B:$N,10,0)))","v":15.744537998129319}]
[null,{"$f":"IF(C119=\"\",B118,D119)","v":"General de Seguros"},null,{"$f":"IF(D118=\"\",\"\",\"Únicas\")","v":"Únicas"},{"$f":"IF(E117=\"\",\"\",(VLOOKUP(B119,'TDPrimas Vida'!$B:$N,11,0)))","v":0},{"$f":"IF(E117=\"\",\"\",(VLOOKUP(B119,'TDPrimas Vida'!$B:$N,12,0)))","v":0},{"$f":"IFERROR((E119/VLOOKUP(\"TOTAL\",$D$12:$L$312,2,0))*100,\"\")","v":0},{"$f":"IFERROR((E119/VLOOKUP(\"TOTAL\",$D$12:$L$312,3,0))*100,\"\")","v":0},{"$f":"IF(E116=\"\",\"\",E119-F119)","v":0},{"$f":"IF(E116=\"\",\"\",IFERROR((E119/F119-1)*100,\"ND\"))","v":"ND"},{"$f":"IF(E116=\"\",\"\",IFERROR((E119/VLOOKUP(B119&\"|\"&VLOOKUP(TDPrimas!$B$4,Cat!R:T,2,0),'TD Operación'!A:D,4,0))*100,\"ND\"))","v":"ND"},{"$f":"IF(E116=\"\",\"\",(VLOOKUP(B119,'TDPrimas Vida'!$B:$N,13,0)))","v":0}]
[null,{"$f":"IF(C120=\"\",B116,D120)","v":"Ve Por Más"},{"$f":"IF('TDPrimas Vida'!A34=\"\",\"\",'TDPrimas Vida'!A34)","v":26},{"$f":"IF('TDPrimas Vida'!B34=\"\",\"\",'TDPrimas Vida'!B34)","v":"Ve Por Más"},{"$f":"IF('TDPrimas Vida'!C34=\"\",\"\",'TDPrimas Vida'!C34)","v":570808.76127999998},{"$f":"IF('TDPrimas Vida'!D34=\"\",\"\",'TDPrimas Vida'!D34)","v":674385.09612},{"$f":"IF('TDPrimas Vida'!C34=\"\",\"\",IFERROR((E120/VLOOKUP(\"TOTAL\",$D$12:$L$312,2,0))*100,\"\"))","v":0.22018194871488442},{"$f":"IF('TDPrimas Vida'!C34=\"\",\"\",IFERROR((E120/VLOOKUP(\"TOTAL\",$D$12:$L$312,3,0))*100,\"\"))","v":0.22883713636918288},{"$f":"IF('TDPrimas Vida'!C34=\"\",\"\",E120-F120)","v":-103576.33484000002},{"$f":"IFERROR(IF('TDPrimas Vida'!C34=\"\",\"\",(E120/F120-1)*100),\"ND\")","v":-15.35863343302143},{"$f":"IF(E120=\"\",\"\",IFERROR((E120/VLOOKUP(D120&\"|\"&VLOOKUP(TDPrimas!$B$4,Cat!R:T,2,0),'TD Operación'!A:D,4,0))*100,\"ND\"))","v":"ND"},{"$f":"IF('TDPrimas Vida'!E34=\"\",\"\",'TDPrimas Vida'!E34)","v":18.561056401204347}]
[null,{"$f":"IF(C121=\"\",B120,D121)","v":"Ve Por Más"},null,{"$f":"IF(D120=\"\",\"\",\"1er Año\")","v":"1er Año"},{"$f":"IF(E120=\"\",\"\",(VLOOKUP(B121,'TDPrimas Vida'!$B:$N,5,0)))","v":196413.03160000002},{"$f":"IF(E120=\"\",\"\",(VLOOKUP(B121,'TDPrimas Vida'!$B:$N,6,0)))","v":89826.774940000003},{"$f":"IFERROR((E121/VLOOKUP(\"TOTAL\",$D$12:$L$312,2,0))*100,\"\")","v":7.5763735570050797E-2},{"$f":"IFERROR((E121/VLOOKUP(\"TOTAL\",$D$12:$L$312,3,0))*100,\"\")","v":7.8741951325596568E-2},{"$f":"IF(E120=\"\",\"\",E121-F121)","v":106586.25666000001},{"$f":"IF(E120=\"\",\"\",IFERROR((E121/F121-1)*100,\"ND\"))","v":118.65755698253059},{"$f":"IF(E120=\"\",\"\",IFERROR((E121/VLOOKUP(B121&\"|\"&VLOOKUP(TDPrimas!$B$4,Cat!R:T,2,0),'TD Operación'!A:D,4,0))*100,\"ND\"))","v":"ND"},{"$f":"IF(E120=\"\",\"\",(VLOOKUP(B121,'TDPrimas Vida'!$B:$N,7,0)))","v":6.3867859163269438}]
[null,{"$f":"IF(C122=\"\",B121,D122)","v":"Ve Por Más"},null,{"$f":"IF(D121=\"\",\"\",\"Renovación\")","v":"Renovación"},{"$f":"IF(E120=\"\",\"\",(VLOOKUP(B122,'TDPrimas Vida'!$B:$N,8,0)))","v":291572.72967999999},{"$f":"IF(E120=\"\",\"\",(VLOOKUP(B122,'TDPrimas Vida'!$B:$N,9,0)))","v":430576.45000999997},{"$f":"IFERROR((E122/VLOOKUP(\"TOTAL\",$D$12:$L$312,2,0))*100,\"\")","v":0.11247033361768762},{"$f":"IFERROR((E122/VLOOKUP(\"TOTAL\",$D$12:$L$312,3,0))*100,\"\")","v":0.11689145827701732},{"$f":"IF(E120=\"\",\"\",E122-F122)","v":-139003.72032999998},{"$f":"IF(E120=\"\",\"\",IFERROR((E122/F122-1)*100,\"ND\"))","v":-32.283168372717938},{"$f":"IF(E120=\"\",\"\",IFERROR((E122/VLOOKUP(B122&\"|\"&VLOOKUP(TDPrimas!$B$4,Cat!R:T,2,0),'TD Operación'!A:D,4,0))*100,\"ND\"))","v":"ND"},{"$f":"IF(E120=\"\",\"\",(VLOOKUP(B122,'TDPrimas Vida'!$B:$N,10,0)))","v":9.4811051402010271}]
[null,{"$f":"IF(C123=\"\",B122,D123)","v":"Ve Por Más"},null,{"$f":"IF(D122=\"\",\"\",\"Únicas\")","v":"Únicas"},{"$f":"IF(E121=\"\",\"\",(VLOOKUP(B123,'TDPrimas Vida'!$B:$N,11,0)))","v":82823},{"$f":"IF(E121=\"\",\"\",(VLOOKUP(B123,'TDPrimas Vida'!$B:$N,12,0)))","v":153981.87117},{"$f":"IFERROR((E123/VLOOKUP(\"TOTAL\",$D$12:$L$312,2,0))*100,\"\")","v":3.1947879527145985E-2},{"$f":"IFERROR((E123/VLOOKUP(\"TOTAL\",$D$12:$L$312,3,0))*100,\"\")","v":3.3203726766569006E-2},{"$f":"IF(E120=\"\",\"\",E123-F123)","v":-71158.871169999999},{"$f":"IF(E120=\"\",\"\",IFERROR((E123/F123-1)*100,\"ND\"))","v":-46.212499321714795},{"$f":"IF(E120=\"\",\"\",IFERROR((E123/VLOOKUP(B123&\"|\"&VLOOKUP(TDPrimas!$B$4,Cat!R:T,2,0),'TD Operación'!A:D,4,0))*100,\"ND\"))","v":"ND"},{"$f":"IF(E120=\"\",\"\",(VLOOKUP(B123,'TDPrimas Vida'!$B:$N,13,0)))","v":2.6931653446763786}]
[null,{"$f":"IF(C124=\"\",B120,D124)","v":"Zurich Aseguradora Mexicana"},{"$f":"IF('TDPrimas Vida'!A35=\"\",\"\",'TDPrimas Vida'!A35)","v":27},{"$f":"IF('TDPrimas Vida'!B35=\"\",\"\",'TDPrimas Vida'!B35)","v":"Zurich Aseguradora Mexicana"},{"$f":"IF('TDPrimas Vida'!C35=\"\",\"\",'TDPrimas Vida'!C35)","v":483896.76513999997},{"$f":"IF('TDPrimas Vida'!D35=\"\",\"\",'TDPrimas Vida'!D35)","v":251614.97323},{"$f":"IF('TDPrimas Vida'!C35=\"\",\"\",IFERROR((E124/VLOOKUP(\"TOTAL\",$D$12:$L$312,2,0))*100,\"\"))","v":0.18665679287478568},{"$f":"IF('TDPrimas Vida'!C35=\"\",\"\",IFERROR((E124/VLOOKUP(\"TOTAL\",$D$12:$L$312,3,0))*100,\"\"))","v":0.19399413173798549},{"$f":"IF('TDPrimas Vida'!C35=\"\",\"\",E124-F124)","v":232281.79190999997},{"$f":"IFERROR(IF('TDPrimas Vida'!C35=\"\",\"\",(E124/F124-1)*100),\"ND\")","v":92.316362944613914},{"$f":"IF(E124=\"\",\"\",IFERROR((E124/VLOOKUP(D124&\"|\"&VLOOKUP(TDPrimas!$B$4,Cat!R:T,2,0),'TD Operación'!A:D,4,0))*100,\"ND\"))","v":"ND"},{"$f":"IF('TDPrimas Vida'!E35=\"\",\"\",'TDPrimas Vida'!E35)","v":8.9331085141799225}]
[null,{"$f":"IF(C125=\"\",B124,D125)","v":"Zurich Aseguradora Mexicana"},null,{"$f":"IF(D124=\"\",\"\",\"1er Año\")","v":"1er Año"},{"$f":"IF(E124=\"\",\"\",(VLOOKUP(B125,'TDPrimas Vida'!$B:$N,5,0)))","v":225631.47756},{"$f":"IF(E124=\"\",\"\",(VLOOKUP(B125,'TDPrimas Vida'!$B:$N,6,0)))","v":251614.97323},{"$f":"IFERROR((E125/VLOOKUP(\"TOTAL\",$D$12:$L$312,2,0))*100,\"\")","v":8.7034365606399461E-2},{"$f":"IFERROR((E125/VLOOKUP(\"TOTAL\",$D$12:$L$312,3,0))*100,\"\")","v":9.0455621395499869E-2},{"$f":"IF(E124=\"\",\"\",E125-F125)","v":-25983.495670000004},{"$f":"IF(E124=\"\",\"\",IFERROR((E125/F125-1)*100,\"ND\"))","v":-10.326688963080354},{"$f":"IF(E124=\"\",\"\",IFERROR((E125/VLOOKUP(B125&\"|\"&VLOOKUP(TDPrimas!$B$4,Cat!R:T,2,0),'TD Operación'!A:D,4,0))*100,\"ND\"))","v":"ND"},{"$f":"IF(E124=\"\",\"\",(VLOOKUP(B125,'TDPrimas Vida'!$B:$N,7,0)))","v":4.165331571652656}]
[null,{"$f":"IF(C126=\"\",B125,D126)","v":"Zurich Aseguradora Mexicana"},null,{"$f":"IF(D125=\"\",\"\",\"Renovación\")","v":"Renovación"},{"$f":"IF(E124=\"\",\"\",(VLOOKUP(B126,'TDPrimas Vida'!$B:$N,8,0)))","v":138342.24518999999},{"$f":"IF(E124=\"\",\"\",(VLOOKUP(B126,'TDPrimas Vida'!$B:$N,9,0)))","v":0},{"$f":"IFERROR((E126/VLOOKUP(\"TOTAL\",$D$12:$L$312,2,0))*100,\"\")","v":5.3363695867633516E-2},{"$f":"IFERROR((E126/VLOOKUP(\"TOTAL\",$D$12:$L$312,3,0))*100,\"\")","v":5.5461382823158482E-2},{"$f":"IF(E124=\"\",\"\",E126-F126)","v":138342.24518999999},{"$f":"IF(E124=\"\",\"\",IFERROR((E126/F126-1)*100,\"ND\"))","v":"ND"},{"$f":"IF(E124=\"\",\"\",IFERROR((E126/VLOOKUP(B126&\"|\"&VLOOKUP(TDPrimas!$B$4,Cat!R:T,2,0),'TD Operación'!A:D,4,0))*100,\"ND\"))","v":"ND"},{"$f":"IF(E124=\"\",\"\",(VLOOKUP(B126,'TDPrimas Vida'!$B:$N,10,0)))","v":2.5539048355076499}]
[null,{"$f":"IF(C127=\"\",B126,D127)","v":"Zurich Aseguradora Mexicana"},null,{"$f":"IF(D126=\"\",\"\",\"Únicas\")","v":"Únicas"},{"$f":"IF(E125=\"\",\"\",(VLOOKUP(B127,'TDPrimas Vida'!$B:$N,11,0)))","v":119923.04239},{"$f":"IF(E125=\"\",\"\",(VLOOKUP(B127,'TDPrimas Vida'!$B:$N,12,0)))","v":0},{"$f":"IFERROR((E127/VLOOKUP(\"TOTAL\",$D$12:$L$312,2,0))*100,\"\")","v":4.6258731400752706E-2},{"$f":"IFERROR((E127/VLOOKUP(\"TOTAL\",$D$12:$L$312,3,0))*100,\"\")","v":4.8077127519327148E-2},{"$f":"IF(E124=\"\",\"\",E127-F127)","v":119923.04239},{"$f":"IF(E124=\"\",\"\",IFERROR((E127/F127-1)*100,\"ND\"))","v":"ND"},{"$f":"IF(E124=\"\",\"\",IFERROR((E127/VLOOKUP(B127&\"|\"&VLOOKUP(TDPrimas!$B$4,Cat!R:T,2,0),'TD Operación'!A:D,4,0))*100,\"ND\"))","v":"ND"},{"$f":"IF(E124=\"\",\"\",(VLOOKUP(B127,'TDPrimas Vida'!$B:$N,13,0)))","v":2.2138721070196179}]
[null,{"$f":"IF(C128=\"\",B124,D128)","v":"Pan-American México"},{"$f":"IF('TDPrimas Vida'!A36=\"\",\"\",'TDPrimas Vida'!A36)","v":28},{"$f":"IF('TDPrimas Vida'!B36=\"\",\"\",'TDPrimas Vida'!B36)","v":"Pan-American México"},{"$f":"IF('TDPrimas Vida'!C36=\"\",\"\",'TDPrimas Vida'!C36)","v":481604.77100999997},{"$f":"IF('TDPrimas Vida'!D36=\"\",\"\",'TDPrimas Vida'!D36)","v":343072.03895000002},{"$f":"IF('TDPrimas Vida'!C36=\"\",\"\",IFERROR((E128/VLOOKUP(\"TOTAL\",$D$12:$L$312,2,0))*100,\"\"))","v":0.18577268637849639},{"$f":"IF('TDPrimas Vida'!C36=\"\",\"\",IFERROR((E128/VLOOKUP(\"TOTAL\",$D$12:$L$312,3,0))*100,\"\"))","v":0.19307527167685393},{"$f":"IF('TDPrimas Vida'!C36=\"\",\"\",E128-F128)","v":138532.73205999995},{"$f":"IFERROR(IF('TDPrimas Vida'!C36=\"\",\"\",(E128/F128-1)*100),\"ND\")","v":40.38007075248413},{"$f":"IF(E128=\"\",\"\",IFERROR((E128/VLOOKUP(D128&\"|\"&VLOOKUP(TDPrimas!$B$4,Cat!R:T,2,0),'TD Operación'!A:D,4,0))*100,\"ND\"))","v":"ND"},{"$f":"IF('TDPrimas Vida'!E36=\"\",\"\",'TDPrimas Vida'!E36)","v":50.498274523269885}]
[null,{"$f":"IF(C129=\"\",B128,D129)","v":"Pan-American México"},null,{"$f":"IF(D128=\"\",\"\",\"1er Año\")","v":"1er Año"},{"$f":"IF(E128=\"\",\"\",(VLOOKUP(B129,'TDPrimas Vida'!$B:$N,5,0)))","v":76118.232189999995},{"$f":"IF(E128=\"\",\"\",(VLOOKUP(B129,'TDPrimas Vida'!$B:$N,6,0)))","v":59914.646480000003},{"$f":"IFERROR((E129/VLOOKUP(\"TOTAL\",$D$12:$L$312,2,0))*100,\"\")","v":2.9361603803598584E-2},{"$f":"IFERROR((E129/VLOOKUP(\"TOTAL\",$D$12:$L$312,3,0))*100,\"\")","v":3.0515786479492622E-2},{"$f":"IF(E128=\"\",\"\",E129-F129)","v":16203.585709999992},{"$f":"IF(E128=\"\",\"\",IFERROR((E129/F129-1)*100,\"ND\"))","v":27.044448497929263},{"$f":"IF(E128=\"\",\"\",IFERROR((E129/VLOOKUP(B129&\"|\"&VLOOKUP(TDPrimas!$B$4,Cat!R:T,2,0),'TD Operación'!A:D,4,0))*100,\"ND\"))","v":"ND"},{"$f":"IF(E128=\"\",\"\",(VLOOKUP(B129,'TDPrimas Vida'!$B:$N,7,0)))","v":7.9813150050309725}]
[null,{"$f":"IF(C130=\"\",B129,D130)","v":"Pan-American México"},null,{"$f":"IF(D129=\"\",\"\",\"Renovación\")","v":"Renovación"},{"$f":"IF(E128=\"\",\"\",(VLOOKUP(B130,'TDPrimas Vida'!$B:$N,8,0)))","v":304129.51472000004},{"$f":"IF(E128=\"\",\"\",(VLOOKUP(B130,'TDPrimas Vida'!$B:$N,9,0)))","v":195470.33705},{"$f":"IFERROR((E130/VLOOKUP(\"TOTAL\",$D$12:$L$312,2,0))*100,\"\")","v":0.11731394777928755},{"$f":"IFERROR((E130/VLOOKUP(\"TOTAL\",$D$12:$L$312,3,0))*100,\"\")","v":0.12192547128710754},{"$f":"IF(E128=\"\",\"\",E130-F130)","v":108659.17767000003},{"$f":"IF(E128=\"\",\"\",IFERROR((E130/F130-1)*100,\"ND\"))","v":55.588576410039003},{"$f":"IF(E128=\"\",\"\",IFERROR((E130/VLOOKUP(B130&\"|\"&VLOOKUP(TDPrimas!$B$4,Cat!R:T,2,0),'TD Operación'!A:D,4,0))*100,\"ND\"))","v":"ND"},{"$f":"IF(E128=\"\",\"\",(VLOOKUP(B130,'TDPrimas Vida'!$B:$N,10,0)))","v":31.88925162172141}]
[null,{"$f":"IF(C131=\"\",B130,D131)","v":"Pan-American México"},null,{"$f":"IF(D130=\"\",\"\",\"Únicas\")","v":"Únicas"},{"$f":"IF(E129=\"\",\"\",(VLOOKUP(B131,'TDPrimas Vida'!$B:$N,11,0)))","v":101357.0241},{"$f":"IF(E129=\"\",\"\",(VLOOKUP(B131,'TDPrimas Vida'!$B:$N,12,0)))","v":87687.055420000004},{"$f":"IFERROR((E131/VLOOKUP(\"TOTAL\",$D$12:$L$312,2,0))*100,\"\")","v":3.9097134795610299E-2},{"$f":"IFERROR((E131/VLOOKUP(\"TOTAL\",$D$12:$L$312,3,0))*100,\"\")","v":4.0634013910253793E-2},{"$f":"IF(E128=\"\",\"\",E131-F131)","v":13669.968679999991},{"$f":"IF(E128=\"\",\"\",IFERROR((E131/F131-1)*100,\"ND\"))","v":15.589494497818546},{"$f":"IF(E128=\"\",\"\",IFERROR((E131/VLOOKUP(B131&\"|\"&VLOOKUP(TDPrimas!$B$4,Cat!R:T,2,0),'TD Operación'!A:D,4,0))*100,\"ND\"))","v":"ND"},{"$f":"IF(E128=\"\",\"\",(VLOOKUP(B131,'TDPrimas Vida'!$B:$N,13,0)))","v":10.627707896517505}]
[null,{"$f":"IF(C132=\"\",B128,D132)","v":"Skandia Life"},{"$f":"IF('TDPrimas Vida'!A37=\"\",\"\",'TDPrimas Vida'!A37)","v":29},{"$f":"IF('TDPrimas Vida'!B37=\"\",\"\",'TDPrimas Vida'!B37)","v":"Skandia Life"},{"$f":"IF('TDPrimas Vida'!C37=\"\",\"\",'TDPrimas Vida'!C37)","v":447144.79532999999},{"$f":"IF('TDPrimas Vida'!D37=\"\",\"\",'TDPrimas Vida'!D37)","v":426948.58981999999},{"$f":"IF('TDPrimas Vida'!C37=\"\",\"\",IFERROR((E132/VLOOKUP(\"TOTAL\",$D$12:$L$312,2,0))*100,\"\"))","v":0.17248020540662845},{"$f":"IF('TDPrimas Vida'!C37=\"\",\"\",IFERROR((E132/VLOOKUP(\"TOTAL\",$D$12:$L$312,3,0))*100,\"\"))","v":0.17926027322399263},{"$f":"IF('TDPrimas Vida'!C37=\"\",\"\",E132-F132)","v":20196.20551},{"$f":"IFERROR(IF('TDPrimas Vida'!C37=\"\",\"\",(E132/F132-1)*100),\"ND\")","v":4.7303600460455009},{"$f":"IF(E132=\"\",\"\",IFERROR((E132/VLOOKUP(D132&\"|\"&VLOOKUP(TDPrimas!$B$4,Cat!R:T,2,0),'TD Operación'!A:D,4,0))*100,\"ND\"))","v":"ND"},{"$f":"IF('TDPrimas Vida'!E37=\"\",\"\",'TDPrimas Vida'!E37)","v":100}]
[null,{"$f":"IF(C133=\"\",B132,D133)","v":"Skandia Life"},null,{"$f":"IF(D132=\"\",\"\",\"1er Año\")","v":"1er Año"},{"$f":"IF(E132=\"\",\"\",(VLOOKUP(B133,'TDPrimas Vida'!$B:$N,5,0)))","v":212633.80112000002},{"$f":"IF(E132=\"\",\"\",(VLOOKUP(B133,'TDPrimas Vida'!$B:$N,6,0)))","v":215625.46465000001},{"$f":"IFERROR((E133/VLOOKUP(\"TOTAL\",$D$12:$L$312,2,0))*100,\"\")","v":8.2020683404137484E-2},{"$f":"IFERROR((E133/VLOOKUP(\"TOTAL\",$D$12:$L$312,3,0))*100,\"\")","v":8.5244855097321451E-2},{"$f":"IF(E132=\"\",\"\",E133-F133)","v":-2991.6635299999907},{"$f":"IF(E132=\"\",\"\",IFERROR((E133/F133-1)*100,\"ND\"))","v":-1.3874351690585374},{"$f":"IF(E132=\"\",\"\",IFERROR((E133/VLOOKUP(B133&\"|\"&VLOOKUP(TDPrimas!$B$4,Cat!R:T,2,0),'TD Operación'!A:D,4,0))*100,\"ND\"))","v":"ND"},{"$f":"IF(E132=\"\",\"\",(VLOOKUP(B133,'TDPrimas Vida'!$B:$N,7,0)))","v":47.553679108145019}]
[null,{"$f":"IF(C134=\"\",B133,D134)","v":"Skandia Life"},null,{"$f":"IF(D133=\"\",\"\",\"Renovación\")","v":"Renovación"},{"$f":"IF(E132=\"\",\"\",(VLOOKUP(B134,'TDPrimas Vida'!$B:$N,8,0)))","v":234510.99421},{"$f":"IF(E132=\"\",\"\",(VLOOKUP(B134,'TDPrimas Vida'!$B:$N,9,0)))","v":211323.12517000001},{"$f":"IFERROR((E134/VLOOKUP(\"TOTAL\",$D$12:$L$312,2,0))*100,\"\")","v":9.045952200249098E-2},{"$f":"IFERROR((E134/VLOOKUP(\"TOTAL\",$D$12:$L$312,3,0))*100,\"\")","v":9.4015418126671177E-2},{"$f":"IF(E132=\"\",\"\",E134-F134)","v":23187.86903999999},{"$f":"IF(E132=\"\",\"\",IFERROR((E134/F134-1)*100,\"ND\"))","v":10.972707800599846},{"$f":"IF(E132=\"\",\"\",IFERROR((E134/VLOOKUP(B134&\"|\"&VLOOKUP(TDPrimas!$B$4,Cat!R:T,2,0),'TD Operación'!A:D,4,0))*100,\"ND\"))","v":"ND"},{"$f":"IF(E132=\"\",\"\",(VLOOKUP(B134,'TDPrimas Vida'!$B:$N,10,0)))","v":52.446320891854981}]
[null,{"$f":"IF(C135=\"\",B134,D135)","v":"Skandia Life"},null,{"$f":"IF(D134=\"\",\"\",\"Únicas\")","v":"Únicas"},{"$f":"IF(E133=\"\",\"\",(VLOOKUP(B135,'TDPrimas Vida'!$B:$N,11,0)))","v":0},{"$f":"IF(E133=\"\",\"\",(VLOOKUP(B135,'TDPrimas Vida'!$B:$N,12,0)))","v":0},{"$f":"IFERROR((E135/VLOOKUP(\"TOTAL\",$D$12:$L$312,2,0))*100,\"\")","v":0},{"$f":"IFERROR((E135/VLOOKUP(\"TOTAL\",$D$12:$L$312,3,0))*100,\"\")","v":0},{"$f":"IF(E132=\"\",\"\",E135-F135)","v":0},{"$f":"IF(E132=\"\",\"\",IFERROR((E135/F135-1)*100,\"ND\"))","v":"ND"},{"$f":"IF(E132=\"\",\"\",IFERROR((E135/VLOOKUP(B135&\"|\"&VLOOKUP(TDPrimas!$B$4,Cat!R:T,2,0),'TD Operación'!A:D,4,0))*100,\"ND\"))","v":"ND"},{"$f":"IF(E132=\"\",\"\",(VLOOKUP(B135,'TDPrimas Vida'!$B:$N,13,0)))","v":0}]
[null,{"$f":"IF(C136=\"\",B132,D136)","v":"Patrimonial Inbursa"},{"$f":"IF('TDPrimas Vida'!A38=\"\",\"\",'TDPrimas Vida'!A38)","v":30},{"$f":"IF('TDPrimas Vida'!B38=\"\",\"\",'TDPrimas Vida'!B38)","v":"Patrimonial Inbursa"},{"$f":"IF('TDPrimas Vida'!C38=\"\",\"\",'TDPrimas Vida'!C38)","v":382702.68060000002},{"$f":"IF('TDPrimas Vida'!D38=\"\",\"\",'TDPrimas Vida'!D38)","v":455803.15737999999},{"$f":"IF('TDPrimas Vida'!C38=\"\",\"\",IFERROR((E136/VLOOKUP(\"TOTAL\",$D$12:$L$312,2,0))*100,\"\"))","v":0.14762250986470701},{"$f":"IF('TDPrimas Vida'!C38=\"\",\"\",IFERROR((E136/VLOOKUP(\"TOTAL\",$D$12:$L$312,3,0))*100,\"\"))","v":0.15342544026992416},{"$f":"IF('TDPrimas Vida'!C38=\"\",\"\",E136-F136)","v":-73100.476779999968},{"$f":"IFERROR(IF('TDPrimas Vida'!C38=\"\",\"\",(E136/F136-1)*100),\"ND\")","v":-16.037729356722419},{"$f":"IF(E136=\"\",\"\",IFERROR((E136/VLOOKUP(D136&\"|\"&VLOOKUP(TDPrimas!$B$4,Cat!R:T,2,0),'TD Operación'!A:D,4,0))*100,\"ND\"))","v":"ND"},{"$f":"IF('TDPrimas Vida'!E38=\"\",\"\",'TDPrimas Vida'!E38)","v":66.507734880169323}]
[null,{"$f":"IF(C137=\"\",B136,D137)","v":"Patrimonial Inbursa"},null,{"$f":"IF(D136=\"\",\"\",\"1er Año\")","v":"1er Año"},{"$f":"IF(E136=\"\",\"\",(VLOOKUP(B137,'TDPrimas Vida'!$B:$N,5,0)))","v":382702.68059999996},{"$f":"IF(E136=\"\",\"\",(VLOOKUP(B137,'TDPrimas Vida'!$B:$N,6,0)))","v":455803.15737999999},{"$f":"IFERROR((E137/VLOOKUP(\"TOTAL\",$D$12:$L$312,2,0))*100,\"\")","v":0.14762250986470699},{"$f":"IFERROR((E137/VLOOKUP(\"TOTAL\",$D$12:$L$312,3,0))*100,\"\")","v":0.15342544026992413},{"$f":"IF(E136=\"\",\"\",E137-F137)","v":-73100.476780000026},{"$f":"IF(E136=\"\",\"\",IFERROR((E137/F137-1)*100,\"ND\"))","v":-16.037729356722441},{"$f":"IF(E136=\"\",\"\",IFERROR((E137/VLOOKUP(B137&\"|\"&VLOOKUP(TDPrimas!$B$4,Cat!R:T,2,0),'TD Operación'!A:D,4,0))*100,\"ND\"))","v":"ND"},{"$f":"IF(E136=\"\",\"\",(VLOOKUP(B137,'TDPrimas Vida'!$B:$N,7,0)))","v":66.507734880169309}]
[null,{"$f":"IF(C138=\"\",B137,D138)","v":"Patrimonial Inbursa"},null,{"$f":"IF(D137=\"\",\"\",\"Renovación\")","v":"Renovación"},{"$f":"IF(E136=\"\",\"\",(VLOOKUP(B138,'TDPrimas Vida'!$B:$N,8,0)))","v":0},{"$f":"IF(E136=\"\",\"\",(VLOOKUP(B138,'TDPrimas Vida'!$B:$N,9,0)))","v":0},{"$f":"IFERROR((E138/VLOOKUP(\"TOTAL\",$D$12:$L$312,2,0))*100,\"\")","v":0},{"$f":"IFERROR((E138/VLOOKUP(\"TOTAL\",$D$12:$L$312,3,0))*100,\"\")","v":0},{"$f":"IF(E136=\"\",\"\",E138-F138)","v":0},{"$f":"IF(E136=\"\",\"\",IFERROR((E138/F138-1)*100,\"ND\"))","v":"ND"},{"$f":"IF(E136=\"\",\"\",IFERROR((E138/VLOOKUP(B138&\"|\"&VLOOKUP(TDPrimas!$B$4,Cat!R:T,2,0),'TD Operación'!A:D,4,0))*100,\"ND\"))","v":"ND"},{"$f":"IF(E136=\"\",\"\",(VLOOKUP(B138,'TDPrimas Vida'!$B:$N,10,0)))","v":0}]
[null,{"$f":"IF(C139=\"\",B138,D139)","v":"Patrimonial Inbursa"},null,{"$f":"IF(D138=\"\",\"\",\"Únicas\")","v":"Únicas"},{"$f":"IF(E137=\"\",\"\",(VLOOKUP(B139,'TDPrimas Vida'!$B:$N,11,0)))","v":0},{"$f":"IF(E137=\"\",\"\",(VLOOKUP(B139,'TDPrimas Vida'!$B:$N,12,0)))","v":0},{"$f":"IFERROR((E139/VLOOKUP(\"TOTAL\",$D$12:$L$312,2,0))*100,\"\")","v":0},{"$f":"IFERROR((E139/VLOOKUP(\"TOTAL\",$D$12:$L$312,3,0))*100,\"\")","v":0},{"$f":"IF(E136=\"\",\"\",E139-F139)","v":0},{"$f":"IF(E136=\"\",\"\",IFERROR((E139/F139-1)*100,\"ND\"))","v":"ND"},{"$f":"IF(E136=\"\",\"\",IFERROR((E139/VLOOKUP(B139&\"|\"&VLOOKUP(TDPrimas!$B$4,Cat!R:T,2,0),'TD Operación'!A:D,4,0))*100,\"ND\"))","v":"ND"},{"$f":"IF(E136=\"\",\"\",(VLOOKUP(B139,'TDPrimas Vida'!$B:$N,13,0)))","v":0}]
[null,{"$f":"IF(C140=\"\",B136,D140)","v":"La Latinoamericana"},{"$f":"IF('TDPrimas Vida'!A39=\"\",\"\",'TDPrimas Vida'!A39)","v":31},{"$f":"IF('TDPrimas Vida'!B39=\"\",\"\",'TDPrimas Vida'!B39)","v":"La Latinoamericana"},{"$f":"IF('TDPrimas Vida'!C39=\"\",\"\",'TDPrimas Vida'!C39)","v":335301.61682999996},{"$f":"IF('TDPrimas Vida'!D39=\"\",\"\",'TDPrimas Vida'!D39)","v":289231.40327000001},{"$f":"IF('TDPrimas Vida'!C39=\"\",\"\",IFERROR((E140/VLOOKUP(\"TOTAL\",$D$12:$L$312,2,0))*100,\"\"))","v":0.1293381748999928},{"$f":"IF('TDPrimas Vida'!C39=\"\",\"\",IFERROR((E140/VLOOKUP(\"TOTAL\",$D$12:$L$312,3,0))*100,\"\"))","v":0.13442236177887945},{"$f":"IF('TDPrimas Vida'!C39=\"\",\"\",E140-F140)","v":46070.213559999946},{"$f":"IFERROR(IF('TDPrimas Vida'!C39=\"\",\"\",(E140/F140-1)*100),\"ND\")","v":15.928496366279088},{"$f":"IF(E140=\"\",\"\",IFERROR((E140/VLOOKUP(D140&\"|\"&VLOOKUP(TDPrimas!$B$4,Cat!R:T,2,0),'TD Operación'!A:D,4,0))*100,\"ND\"))","v":"ND"},{"$f":"IF('TDPrimas Vida'!E39=\"\",\"\",'TDPrimas Vida'!E39)","v":24.936913941403848}]
[null,{"$f":"IF(C141=\"\",B140,D141)","v":"La Latinoamericana"},null,{"$f":"IF(D140=\"\",\"\",\"1er Año\")","v":"1er Año"},{"$f":"IF(E140=\"\",\"\",(VLOOKUP(B141,'TDPrimas Vida'!$B:$N,5,0)))","v":133472.19946},{"$f":"IF(E140=\"\",\"\",(VLOOKUP(B141,'TDPrimas Vida'!$B:$N,6,0)))","v":105684.60047},{"$f":"IFERROR((E141/VLOOKUP(\"TOTAL\",$D$12:$L$312,2,0))*100,\"\")","v":5.1485139980093443E-2},{"$f":"IFERROR((E141/VLOOKUP(\"TOTAL\",$D$12:$L$312,3,0))*100,\"\")","v":5.3508982309296203E-2},{"$f":"IF(E140=\"\",\"\",E141-F141)","v":27787.598989999999},{"$f":"IF(E140=\"\",\"\",IFERROR((E141/F141-1)*100,\"ND\"))","v":26.29294983982826},{"$f":"IF(E140=\"\",\"\",IFERROR((E141/VLOOKUP(B141&\"|\"&VLOOKUP(TDPrimas!$B$4,Cat!R:T,2,0),'TD Operación'!A:D,4,0))*100,\"ND\"))","v":"ND"},{"$f":"IF(E140=\"\",\"\",(VLOOKUP(B141,'TDPrimas Vida'!$B:$N,7,0)))","v":9.9265395227468325}]
[null,{"$f":"IF(C142=\"\",B141,D142)","v":"La Latinoamericana"},null,{"$f":"IF(D141=\"\",\"\",\"Renovación\")","v":"Renovación"},{"$f":"IF(E140=\"\",\"\",(VLOOKUP(B142,'TDPrimas Vida'!$B:$N,8,0)))","v":201829.41736999998},{"$f":"IF(E140=\"\",\"\",(VLOOKUP(B142,'TDPrimas Vida'!$B:$N,9,0)))","v":183546.8028},{"$f":"IFERROR((E142/VLOOKUP(\"TOTAL\",$D$12:$L$312,2,0))*100,\"\")","v":7.7853034919899353E-2},{"$f":"IFERROR((E142/VLOOKUP(\"TOTAL\",$D$12:$L$312,3,0))*100,\"\")","v":8.0913379469583283E-2},{"$f":"IF(E140=\"\",\"\",E142-F142)","v":18282.614569999976},{"$f":"IF(E140=\"\",\"\",IFERROR((E142/F142-1)*100,\"ND\"))","v":9.9607371477461459},{"$f":"IF(E140=\"\",\"\",IFERROR((E142/VLOOKUP(B142&\"|\"&VLOOKUP(TDPrimas!$B$4,Cat!R:T,2,0),'TD Operación'!A:D,4,0))*100,\"ND\"))","v":"ND"},{"$f":"IF(E140=\"\",\"\",(VLOOKUP(B142,'TDPrimas Vida'!$B:$N,10,0)))","v":15.010374418657015}]
[null,{"$f":"IF(C143=\"\",B142,D143)","v":"La Latinoamericana"},null,{"$f":"IF(D142=\"\",\"\",\"Únicas\")","v":"Únicas"},{"$f":"IF(E141=\"\",\"\",(VLOOKUP(B143,'TDPrimas Vida'!$B:$N,11,0)))","v":0},{"$f":"IF(E141=\"\",\"\",(VLOOKUP(B143,'TDPrimas Vida'!$B:$N,12,0)))","v":0},{"$f":"IFERROR((E143/VLOOKUP(\"TOTAL\",$D$12:$L$312,2,0))*100,\"\")","v":0},{"$f":"IFERROR((E143/VLOOKUP(\"TOTAL\",$D$12:$L$312,3,0))*100,\"\")","v":0},{"$f":"IF(E140=\"\",\"\",E143-F143)","v":0},{"$f":"IF(E140=\"\",\"\",IFERROR((E143/F143-1)*100,\"ND\"))","v":"ND"},{"$f":"IF(E140=\"\",\"\",IFERROR((E143/VLOOKUP(B143&\"|\"&VLOOKUP(TDPrimas!$B$4,Cat!R:T,2,0),'TD Operación'!A:D,4,0))*100,\"ND\"))","v":"ND"},{"$f":"IF(E140=\"\",\"\",(VLOOKUP(B143,'TDPrimas Vida'!$B:$N,13,0)))","v":0}]
[null,{"$f":"IF(C144=\"\",B140,D144)","v":"El Potosí"},{"$f":"IF('TDPrimas Vida'!A40=\"\",\"\",'TDPrimas Vida'!A40)","v":32},{"$f":"IF('TDPrimas Vida'!B40=\"\",\"\",'TDPrimas Vida'!B40)","v":"El Potosí"},{"$f":"IF('TDPrimas Vida'!C40=\"\",\"\",'TDPrimas Vida'!C40)","v":266560.37183999998},{"$f":"IF('TDPrimas Vida'!D40=\"\",\"\",'TDPrimas Vida'!D40)","v":238010.45843},{"$f":"IF('TDPrimas Vida'!C40=\"\",\"\",IFERROR((E144/VLOOKUP(\"TOTAL\",$D$12:$L$312,2,0))*100,\"\"))","v":0.10282214658072705},{"$f":"IF('TDPrimas Vida'!C40=\"\",\"\",IFERROR((E144/VLOOKUP(\"TOTAL\",$D$12:$L$312,3,0))*100,\"\"))","v":0.10686400822682582},{"$f":"IF('TDPrimas Vida'!C40=\"\",\"\",E144-F144)","v":28549.913409999979},{"$f":"IFERROR(IF('TDPrimas Vida'!C40=\"\",\"\",(E144/F144-1)*100),\"ND\")","v":11.995234830572233},{"$f":"IF(E144=\"\",\"\",IFERROR((E144/VLOOKUP(D144&\"|\"&VLOOKUP(TDPrimas!$B$4,Cat!R:T,2,0),'TD Operación'!A:D,4,0))*100,\"ND\"))","v":"ND"},{"$f":"IF('TDPrimas Vida'!E40=\"\",\"\",'TDPrimas Vida'!E40)","v":12.329297383776082}]
[null,{"$f":"IF(C145=\"\",B144,D145)","v":"El Potosí"},null,{"$f":"IF(D144=\"\",\"\",\"1er Año\")","v":"1er Año"},{"$f":"IF(E144=\"\",\"\",(VLOOKUP(B145,'TDPrimas Vida'!$B:$N,5,0)))","v":71968.596229999996},{"$f":"IF(E144=\"\",\"\",(VLOOKUP(B145,'TDPrimas Vida'!$B:$N,6,0)))","v":75680.601299999995},{"$f":"IFERROR((E145/VLOOKUP(\"TOTAL\",$D$12:$L$312,2,0))*100,\"\")","v":2.776093648013055E-2},{"$f":"IFERROR((E145/VLOOKUP(\"TOTAL\",$D$12:$L$312,3,0))*100,\"\")","v":2.8852198121227773E-2},{"$f":"IF(E144=\"\",\"\",E145-F145)","v":-3712.0050699999993},{"$f":"IF(E144=\"\",\"\",IFERROR((E145/F145-1)*100,\"ND\"))","v":-4.9048303082126825},{"$f":"IF(E144=\"\",\"\",IFERROR((E145/VLOOKUP(B145&\"|\"&VLOOKUP(TDPrimas!$B$4,Cat!R:T,2,0),'TD Operación'!A:D,4,0))*100,\"ND\"))","v":"ND"},{"$f":"IF(E144=\"\",\"\",(VLOOKUP(B145,'TDPrimas Vida'!$B:$N,7,0)))","v":3.3287852169758443}]
[null,{"$f":"IF(C146=\"\",B145,D146)","v":"El Potosí"},null,{"$f":"IF(D145=\"\",\"\",\"Renovación\")","v":"Renovación"},{"$f":"IF(E144=\"\",\"\",(VLOOKUP(B146,'TDPrimas Vida'!$B:$N,8,0)))","v":194288.82590999999},{"$f":"IF(E144=\"\",\"\",(VLOOKUP(B146,'TDPrimas Vida'!$B:$N,9,0)))","v":162329.85712999999},{"$f":"IFERROR((E146/VLOOKUP(\"TOTAL\",$D$12:$L$312,2,0))*100,\"\")","v":7.4944351250779598E-2},{"$f":"IFERROR((E146/VLOOKUP(\"TOTAL\",$D$12:$L$312,3,0))*100,\"\")","v":7.7890357621833703E-2},{"$f":"IF(E144=\"\",\"\",E146-F146)","v":31958.968779999996},{"$f":"IF(E144=\"\",\"\",IFERROR((E146/F146-1)*100,\"ND\"))","v":19.687671353277935},{"$f":"IF(E144=\"\",\"\",IFERROR((E146/VLOOKUP(B146&\"|\"&VLOOKUP(TDPrimas!$B$4,Cat!R:T,2,0),'TD Operación'!A:D,4,0))*100,\"ND\"))","v":"ND"},{"$f":"IF(E144=\"\",\"\",(VLOOKUP(B146,'TDPrimas Vida'!$B:$N,10,0)))","v":8.9864997428309774}]
[null,{"$f":"IF(C147=\"\",B146,D147)","v":"El Potosí"},null,{"$f":"IF(D146=\"\",\"\",\"Únicas\")","v":"Únicas"},{"$f":"IF(E145=\"\",\"\",(VLOOKUP(B147,'TDPrimas Vida'!$B:$N,11,0)))","v":302.94970000000001},{"$f":"IF(E145=\"\",\"\",(VLOOKUP(B147,'TDPrimas Vida'!$B:$N,12,0)))","v":0},{"$f":"IFERROR((E147/VLOOKUP(\"TOTAL\",$D$12:$L$312,2,0))*100,\"\")","v":1.1685884981689891E-4},{"$f":"IFERROR((E147/VLOOKUP(\"TOTAL\",$D$12:$L$312,3,0))*100,\"\")","v":1.2145248376434143E-4},{"$f":"IF(E144=\"\",\"\",E147-F147)","v":302.94970000000001},{"$f":"IF(E144=\"\",\"\",IFERROR((E147/F147-1)*100,\"ND\"))","v":"ND"},{"$f":"IF(E144=\"\",\"\",IFERROR((E147/VLOOKUP(B147&\"|\"&VLOOKUP(TDPrimas!$B$4,Cat!R:T,2,0),'TD Operación'!A:D,4,0))*100,\"ND\"))","v":"ND"},{"$f":"IF(E144=\"\",\"\",(VLOOKUP(B147,'TDPrimas Vida'!$B:$N,13,0)))","v":1.4012423969260281E-2}]
[null,{"$f":"IF(C148=\"\",B144,D148)","v":"Tokio Marine"},{"$f":"IF('TDPrimas Vida'!A41=\"\",\"\",'TDPrimas Vida'!A41)","v":33},{"$f":"IF('TDPrimas Vida'!B41=\"\",\"\",'TDPrimas Vida'!B41)","v":"Tokio Marine"},{"$f":"IF('TDPrimas Vida'!C41=\"\",\"\",'TDPrimas Vida'!C41)","v":77681.760609999998},{"$f":"IF('TDPrimas Vida'!D41=\"\",\"\",'TDPrimas Vida'!D41)","v":64153.745750000002},{"$f":"IF('TDPrimas Vida'!C41=\"\",\"\",IFERROR((E148/VLOOKUP(\"TOTAL\",$D$12:$L$312,2,0))*100,\"\"))","v":2.9964714263246612E-2},{"$f":"IF('TDPrimas Vida'!C41=\"\",\"\",IFERROR((E148/VLOOKUP(\"TOTAL\",$D$12:$L$312,3,0))*100,\"\"))","v":3.1142604760036014E-2},{"$f":"IF('TDPrimas Vida'!C41=\"\",\"\",E148-F148)","v":13528.014859999996},{"$f":"IFERROR(IF('TDPrimas Vida'!C41=\"\",\"\",(E148/F148-1)*100),\"ND\")","v":21.086866716586062},{"$f":"IF(E148=\"\",\"\",IFERROR((E148/VLOOKUP(D148&\"|\"&VLOOKUP(TDPrimas!$B$4,Cat!R:T,2,0),'TD Operación'!A:D,4,0))*100,\"ND\"))","v":"ND"},{"$f":"IF('TDPrimas Vida'!E41=\"\",\"\",'TDPrimas Vida'!E41)","v":5.5728348220945358}]
[null,{"$f":"IF(C149=\"\",B148,D149)","v":"Tokio Marine"},null,{"$f":"IF(D148=\"\",\"\",\"1er Año\")","v":"1er Año"},{"$f":"IF(E148=\"\",\"\",(VLOOKUP(B149,'TDPrimas Vida'!$B:$N,5,0)))","v":32215.679040000003},{"$f":"IF(E148=\"\",\"\",(VLOOKUP(B149,'TDPrimas Vida'!$B:$N,6,0)))","v":40967.138370000001},{"$f":"IFERROR((E149/VLOOKUP(\"TOTAL\",$D$12:$L$312,2,0))*100,\"\")","v":1.2426773153050748E-2},{"$f":"IFERROR((E149/VLOOKUP(\"TOTAL\",$D$12:$L$312,3,0))*100,\"\")","v":1.2915260307446533E-2},{"$f":"IF(E148=\"\",\"\",E149-F149)","v":-8751.4593299999979},{"$f":"IF(E148=\"\",\"\",IFERROR((E149/F149-1)*100,\"ND\"))","v":-21.362144582714226},{"$f":"IF(E148=\"\",\"\",IFERROR((E149/VLOOKUP(B149&\"|\"&VLOOKUP(TDPrimas!$B$4,Cat!R:T,2,0),'TD Operación'!A:D,4,0))*100,\"ND\"))","v":"ND"},{"$f":"IF(E148=\"\",\"\",(VLOOKUP(B149,'TDPrimas Vida'!$B:$N,7,0)))","v":2.3111301361058723}]
[null,{"$f":"IF(C150=\"\",B149,D150)","v":"Tokio Marine"},null,{"$f":"IF(D149=\"\",\"\",\"Renovación\")","v":"Renovación"},{"$f":"IF(E148=\"\",\"\",(VLOOKUP(B150,'TDPrimas Vida'!$B:$N,8,0)))","v":45466.081570000002},{"$f":"IF(E148=\"\",\"\",(VLOOKUP(B150,'TDPrimas Vida'!$B:$N,9,0)))","v":23186.607380000001},{"$f":"IFERROR((E150/VLOOKUP(\"TOTAL\",$D$12:$L$312,2,0))*100,\"\")","v":1.7537941110195868E-2},{"$f":"IFERROR((E150/VLOOKUP(\"TOTAL\",$D$12:$L$312,3,0))*100,\"\")","v":1.8227344452589486E-2},{"$f":"IF(E148=\"\",\"\",E150-F150)","v":22279.474190000001},{"$f":"IF(E148=\"\",\"\",IFERROR((E150/F150-1)*100,\"ND\"))","v":96.087684691713633},{"$f":"IF(E148=\"\",\"\",IFERROR((E150/VLOOKUP(B150&\"|\"&VLOOKUP(TDPrimas!$B$4,Cat!R:T,2,0),'TD Operación'!A:D,4,0))*100,\"ND\"))","v":"ND"},{"$f":"IF(E148=\"\",\"\",(VLOOKUP(B150,'TDPrimas Vida'!$B:$N,10,0)))","v":3.2617046859886636}]
[null,{"$f":"IF(C151=\"\",B150,D151)","v":"Tokio Marine"},null,{"$f":"IF(D150=\"\",\"\",\"Únicas\")","v":"Únicas"},{"$f":"IF(E149=\"\",\"\",(VLOOKUP(B151,'TDPrimas Vida'!$B:$N,11,0)))","v":0},{"$f":"IF(E149=\"\",\"\",(VLOOKUP(B151,'TDPrimas Vida'!$B:$N,12,0)))","v":0},{"$f":"IFERROR((E151/VLOOKUP(\"TOTAL\",$D$12:$L$312,2,0))*100,\"\")","v":0},{"$f":"IFERROR((E151/VLOOKUP(\"TOTAL\",$D$12:$L$312,3,0))*100,\"\")","v":0},{"$f":"IF(E148=\"\",\"\",E151-F151)","v":0},{"$f":"IF(E148=\"\",\"\",IFERROR((E151/F151-1)*100,\"ND\"))","v":"ND"},{"$f":"IF(E148=\"\",\"\",IFERROR((E151/VLOOKUP(B151&\"|\"&VLOOKUP(TDPrimas!$B$4,Cat!R:T,2,0),'TD Operación'!A:D,4,0))*100,\"ND\"))","v":"ND"},{"$f":"IF(E148=\"\",\"\",(VLOOKUP(B151,'TDPrimas Vida'!$B:$N,13,0)))","v":0}]
[null,{"$f":"IF(C152=\"\",B148,D152)","v":"Agroasemex"},{"$f":"IF('TDPrimas Vida'!A42=\"\",\"\",'TDPrimas Vida'!A42)","v":34},{"$f":"IF('TDPrimas Vida'!B42=\"\",\"\",'TDPrimas Vida'!B42)","v":"Agroasemex"},{"$f":"IF('TDPrimas Vida'!C42=\"\",\"\",'TDPrimas Vida'!C42)","v":58592.337049999995},{"$f":"IF('TDPrimas Vida'!D42=\"\",\"\",'TDPrimas Vida'!D42)","v":0},{"$f":"IF('TDPrimas Vida'!C42=\"\",\"\",IFERROR((E152/VLOOKUP(\"TOTAL\",$D$12:$L$312,2,0))*100,\"\"))","v":2.2601220980733999E-2},{"$f":"IF('TDPrimas Vida'!C42=\"\",\"\",IFERROR((E152/VLOOKUP(\"TOTAL\",$D$12:$L$312,3,0))*100,\"\"))","v":2.3489658066272866E-2},{"$f":"IF('TDPrimas Vida'!C42=\"\",\"\",E152-F152)","v":58592.337049999995},{"$f":"IFERROR(IF('TDPrimas Vida'!C42=\"\",\"\",(E152/F152-1)*100),\"ND\")","v":"ND"},{"$f":"IF(E152=\"\",\"\",IFERROR((E152/VLOOKUP(D152&\"|\"&VLOOKUP(TDPrimas!$B$4,Cat!R:T,2,0),'TD Operación'!A:D,4,0))*100,\"ND\"))","v":"ND"},{"$f":"IF('TDPrimas Vida'!E42=\"\",\"\",'TDPrimas Vida'!E42)","v":0.84833270672302008}]
[null,{"$f":"IF(C153=\"\",B152,D153)","v":"Agroasemex"},null,{"$f":"IF(D152=\"\",\"\",\"1er Año\")","v":"1er Año"},{"$f":"IF(E152=\"\",\"\",(VLOOKUP(B153,'TDPrimas Vida'!$B:$N,5,0)))","v":58592.337049999995},{"$f":"IF(E152=\"\",\"\",(VLOOKUP(B153,'TDPrimas Vida'!$B:$N,6,0)))","v":0},{"$f":"IFERROR((E153/VLOOKUP(\"TOTAL\",$D$12:$L$312,2,0))*100,\"\")","v":2.2601220980733999E-2},{"$f":"IFERROR((E153/VLOOKUP(\"TOTAL\",$D$12:$L$312,3,0))*100,\"\")","v":2.3489658066272866E-2},{"$f":"IF(E152=\"\",\"\",E153-F153)","v":58592.337049999995},{"$f":"IF(E152=\"\",\"\",IFERROR((E153/F153-1)*100,\"ND\"))","v":"ND"},{"$f":"IF(E152=\"\",\"\",IFERROR((E153/VLOOKUP(B153&\"|\"&VLOOKUP(TDPrimas!$B$4,Cat!R:T,2,0),'TD Operación'!A:D,4,0))*100,\"ND\"))","v":"ND"},{"$f":"IF(E152=\"\",\"\",(VLOOKUP(B153,'TDPrimas Vida'!$B:$N,7,0)))","v":0.84833270672302008}]
[null,{"$f":"IF(C154=\"\",B153,D154)","v":"Agroasemex"},null,{"$f":"IF(D153=\"\",\"\",\"Renovación\")","v":"Renovación"},{"$f":"IF(E152=\"\",\"\",(VLOOKUP(B154,'TDPrimas Vida'!$B:$N,8,0)))","v":0},{"$f":"IF(E152=\"\",\"\",(VLOOKUP(B154,'TDPrimas Vida'!$B:$N,9,0)))","v":0},{"$f":"IFERROR((E154/VLOOKUP(\"TOTAL\",$D$12:$L$312,2,0))*100,\"\")","v":0},{"$f":"IFERROR((E154/VLOOKUP(\"TOTAL\",$D$12:$L$312,3,0))*100,\"\")","v":0},{"$f":"IF(E152=\"\",\"\",E154-F154)","v":0},{"$f":"IF(E152=\"\",\"\",IFERROR((E154/F154-1)*100,\"ND\"))","v":"ND"},{"$f":"IF(E152=\"\",\"\",IFERROR((E154/VLOOKUP(B154&\"|\"&VLOOKUP(TDPrimas!$B$4,Cat!R:T,2,0),'TD Operación'!A:D,4,0))*100,\"ND\"))","v":"ND"},{"$f":"IF(E152=\"\",\"\",(VLOOKUP(B154,'TDPrimas Vida'!$B:$N,10,0)))","v":0}]
[null,{"$f":"IF(C155=\"\",B154,D155)","v":"Agroasemex"},null,{"$f":"IF(D154=\"\",\"\",\"Únicas\")","v":"Únicas"},{"$f":"IF(E153=\"\",\"\",(VLOOKUP(B155,'TDPrimas Vida'!$B:$N,11,0)))","v":0},{"$f":"IF(E153=\"\",\"\",(VLOOKUP(B155,'TDPrimas Vida'!$B:$N,12,0)))","v":0},{"$f":"IFERROR((E155/VLOOKUP(\"TOTAL\",$D$12:$L$312,2,0))*100,\"\")","v":0},{"$f":"IFERROR((E155/VLOOKUP(\"TOTAL\",$D$12:$L$312,3,0))*100,\"\")","v":0},{"$f":"IF(E152=\"\",\"\",E155-F155)","v":0},{"$f":"IF(E152=\"\",\"\",IFERROR((E155/F155-1)*100,\"ND\"))","v":"ND"},{"$f":"IF(E152=\"\",\"\",IFERROR((E155/VLOOKUP(B155&\"|\"&VLOOKUP(TDPrimas!$B$4,Cat!R:T,2,0),'TD Operación'!A:D,4,0))*100,\"ND\"))","v":"ND"},{"$f":"IF(E152=\"\",\"\",(VLOOKUP(B155,'TDPrimas Vida'!$B:$N,13,0)))","v":0}]
[null,{"$f":"IF(C156=\"\",B152,D156)","v":"HDI Seguros"},{"$f":"IF('TDPrimas Vida'!A43=\"\",\"\",'TDPrimas Vida'!A43)","v":35},{"$f":"IF('TDPrimas Vida'!B43=\"\",\"\",'TDPrimas Vida'!B43)","v":"HDI Seguros"},{"$f":"IF('TDPrimas Vida'!C43=\"\",\"\",'TDPrimas Vida'!C43)","v":16047.403890000001},{"$f":"IF('TDPrimas Vida'!D43=\"\",\"\",'TDPrimas Vida'!D43)","v":19418.209889999998},{"$f":"IF('TDPrimas Vida'!C43=\"\",\"\",IFERROR((E156/VLOOKUP(\"TOTAL\",$D$12:$L$312,2,0))*100,\"\"))","v":6.1900743296086098E-3},{"$f":"IF('TDPrimas Vida'!C43=\"\",\"\",IFERROR((E156/VLOOKUP(\"TOTAL\",$D$12:$L$312,3,0))*100,\"\"))","v":6.4334015198234378E-3},{"$f":"IF('TDPrimas Vida'!C43=\"\",\"\",E156-F156)","v":-3370.8059999999969},{"$f":"IFERROR(IF('TDPrimas Vida'!C43=\"\",\"\",(E156/F156-1)*100),\"ND\")","v":-17.358994567959108},{"$f":"IF(E156=\"\",\"\",IFERROR((E156/VLOOKUP(D156&\"|\"&VLOOKUP(TDPrimas!$B$4,Cat!R:T,2,0),'TD Operación'!A:D,4,0))*100,\"ND\"))","v":"ND"},{"$f":"IF('TDPrimas Vida'!E43=\"\",\"\",'TDPrimas Vida'!E43)","v":0.16611201857700103}]
[null,{"$f":"IF(C157=\"\",B156,D157)","v":"HDI Seguros"},null,{"$f":"IF(D156=\"\",\"\",\"1er Año\")","v":"1er Año"},{"$f":"IF(E156=\"\",\"\",(VLOOKUP(B157,'TDPrimas Vida'!$B:$N,5,0)))","v":0},{"$f":"IF(E156=\"\",\"\",(VLOOKUP(B157,'TDPrimas Vida'!$B:$N,6,0)))","v":0},{"$f":"IFERROR((E157/VLOOKUP(\"TOTAL\",$D$12:$L$312,2,0))*100,\"\")","v":0},{"$f":"IFERROR((E157/VLOOKUP(\"TOTAL\",$D$12:$L$312,3,0))*100,\"\")","v":0},{"$f":"IF(E156=\"\",\"\",E157-F157)","v":0},{"$f":"IF(E156=\"\",\"\",IFERROR((E157/F157-1)*100,\"ND\"))","v":"ND"},{"$f":"IF(E156=\"\",\"\",IFERROR((E157/VLOOKUP(B157&\"|\"&VLOOKUP(TDPrimas!$B$4,Cat!R:T,2,0),'TD Operación'!A:D,4,0))*100,\"ND\"))","v":"ND"},{"$f":"IF(E156=\"\",\"\",(VLOOKUP(B157,'TDPrimas Vida'!$B:$N,7,0)))","v":0}]
[null,{"$f":"IF(C158=\"\",B157,D158)","v":"HDI Seguros"},null,{"$f":"IF(D157=\"\",\"\",\"Renovación\")","v":"Renovación"},{"$f":"IF(E156=\"\",\"\",(VLOOKUP(B158,'TDPrimas Vida'!$B:$N,8,0)))","v":16047.403890000001},{"$f":"IF(E156=\"\",\"\",(VLOOKUP(B158,'TDPrimas Vida'!$B:$N,9,0)))","v":19418.209889999998},{"$f":"IFERROR((E158/VLOOKUP(\"TOTAL\",$D$12:$L$312,2,0))*100,\"\")","v":6.1900743296086098E-3},{"$f":"IFERROR((E158/VLOOKUP(\"TOTAL\",$D$12:$L$312,3,0))*100,\"\")","v":6.4334015198234378E-3},{"$f":"IF(E156=\"\",\"\",E158-F158)","v":-3370.8059999999969},{"$f":"IF(E156=\"\",\"\",IFERROR((E158/F158-1)*100,\"ND\"))","v":-17.358994567959108},{"$f":"IF(E156=\"\",\"\",IFERROR((E158/VLOOKUP(B158&\"|\"&VLOOKUP(TDPrimas!$B$4,Cat!R:T,2,0),'TD Operación'!A:D,4,0))*100,\"ND\"))","v":"ND"},{"$f":"IF(E156=\"\",\"\",(VLOOKUP(B158,'TDPrimas Vida'!$B:$N,10,0)))","v":0.16611201857700103}]
[null,{"$f":"IF(C159=\"\",B158,D159)","v":"HDI Seguros"},null,{"$f":"IF(D158=\"\",\"\",\"Únicas\")","v":"Únicas"},{"$f":"IF(E157=\"\",\"\",(VLOOKUP(B159,'TDPrimas Vida'!$B:$N,11,0)))","v":0},{"$f":"IF(E157=\"\",\"\",(VLOOKUP(B159,'TDPrimas Vida'!$B:$N,12,0)))","v":0},{"$f":"IFERROR((E159/VLOOKUP(\"TOTAL\",$D$12:$L$312,2,0))*100,\"\")","v":0},{"$f":"IFERROR((E159/VLOOKUP(\"TOTAL\",$D$12:$L$312,3,0))*100,\"\")","v":0},{"$f":"IF(E156=\"\",\"\",E159-F159)","v":0},{"$f":"IF(E156=\"\",\"\",IFERROR((E159/F159-1)*100,\"ND\"))","v":"ND"},{"$f":"IF(E156=\"\",\"\",IFERROR((E159/VLOOKUP(B159&\"|\"&VLOOKUP(TDPrimas!$B$4,Cat!R:T,2,0),'TD Operación'!A:D,4,0))*100,\"ND\"))","v":"ND"},{"$f":"IF(E156=\"\",\"\",(VLOOKUP(B159,'TDPrimas Vida'!$B:$N,13,0)))","v":0}]
[null,{"$f":"IF(C160=\"\",B156,D160)","v":"Aserta Seguros de Vida"},{"$f":"IF('TDPrimas Vida'!A44=\"\",\"\",'TDPrimas Vida'!A44)","v":36},{"$f":"IF('TDPrimas Vida'!B44=\"\",\"\",'TDPrimas Vida'!B44)","v":"Aserta Seguros de Vida"},{"$f":"IF('TDPrimas Vida'!C44=\"\",\"\",'TDPrimas Vida'!C44)","v":596.44601999999998},{"$f":"IF('TDPrimas Vida'!D44=\"\",\"\",'TDPrimas Vida'!D44)","v":172610.6998},{"$f":"IF('TDPrimas Vida'!C44=\"\",\"\",IFERROR((E160/VLOOKUP(\"TOTAL\",$D$12:$L$312,2,0))*100,\"\"))","v":2.300711830216933E-4},{"$f":"IF('TDPrimas Vida'!C44=\"\",\"\",IFERROR((E160/VLOOKUP(\"TOTAL\",$D$12:$L$312,3,0))*100,\"\"))","v":2.3911510907703839E-4},{"$f":"IF('TDPrimas Vida'!C44=\"\",\"\",E160-F160)","v":-172014.25378},{"$f":"IFERROR(IF('TDPrimas Vida'!C44=\"\",\"\",(E160/F160-1)*100),\"ND\")","v":-99.65445594004828},{"$f":"IF(E160=\"\",\"\",IFERROR((E160/VLOOKUP(D160&\"|\"&VLOOKUP(TDPrimas!$B$4,Cat!R:T,2,0),'TD Operación'!A:D,4,0))*100,\"ND\"))","v":"ND"},{"$f":"IF('TDPrimas Vida'!E44=\"\",\"\",'TDPrimas Vida'!E44)","v":100}]
[null,{"$f":"IF(C161=\"\",B160,D161)","v":"Aserta Seguros de Vida"},null,{"$f":"IF(D160=\"\",\"\",\"1er Año\")","v":"1er Año"},{"$f":"IF(E160=\"\",\"\",(VLOOKUP(B161,'TDPrimas Vida'!$B:$N,5,0)))","v":616.71187999999995},{"$f":"IF(E160=\"\",\"\",(VLOOKUP(B161,'TDPrimas Vida'!$B:$N,6,0)))","v":93975.274659999995},{"$f":"IFERROR((E161/VLOOKUP(\"TOTAL\",$D$12:$L$312,2,0))*100,\"\")","v":2.3788847113965578E-4},{"$f":"IFERROR((E161/VLOOKUP(\"TOTAL\",$D$12:$L$312,3,0))*100,\"\")","v":2.4723968894168398E-4},{"$f":"IF(E160=\"\",\"\",E161-F161)","v":-93358.562779999993},{"$f":"IF(E160=\"\",\"\",IFERROR((E161/F161-1)*100,\"ND\"))","v":-99.343750915087782},{"$f":"IF(E160=\"\",\"\",IFERROR((E161/VLOOKUP(B161&\"|\"&VLOOKUP(TDPrimas!$B$4,Cat!R:T,2,0),'TD Operación'!A:D,4,0))*100,\"ND\"))","v":"ND"},{"$f":"IF(E160=\"\",\"\",(VLOOKUP(B161,'TDPrimas Vida'!$B:$N,7,0)))","v":103.39776934046772}]
[null,{"$f":"IF(C162=\"\",B161,D162)","v":"Aserta Seguros de Vida"},null,{"$f":"IF(D161=\"\",\"\",\"Renovación\")","v":"Renovación"},{"$f":"IF(E160=\"\",\"\",(VLOOKUP(B162,'TDPrimas Vida'!$B:$N,8,0)))","v":-2.9357600000000001},{"$f":"IF(E160=\"\",\"\",(VLOOKUP(B162,'TDPrimas Vida'!$B:$N,9,0)))","v":30422.091079999998},{"$f":"IFERROR((E162/VLOOKUP(\"TOTAL\",$D$12:$L$312,2,0))*100,\"\")","v":-1.1324306871353863E-6},{"$f":"IFERROR((E162/VLOOKUP(\"TOTAL\",$D$12:$L$312,3,0))*100,\"\")","v":-1.1769456901129231E-6},{"$f":"IF(E160=\"\",\"\",E162-F162)","v":-30425.026839999999},{"$f":"IF(E160=\"\",\"\",IFERROR((E162/F162-1)*100,\"ND\"))","v":-100.00965009273123},{"$f":"IF(E160=\"\",\"\",IFERROR((E162/VLOOKUP(B162&\"|\"&VLOOKUP(TDPrimas!$B$4,Cat!R:T,2,0),'TD Operación'!A:D,4,0))*100,\"ND\"))","v":"ND"},{"$f":"IF(E160=\"\",\"\",(VLOOKUP(B162,'TDPrimas Vida'!$B:$N,10,0)))","v":-0.49220883391928749}]
[null,{"$f":"IF(C163=\"\",B162,D163)","v":"Aserta Seguros de Vida"},null,{"$f":"IF(D162=\"\",\"\",\"Únicas\")","v":"Únicas"},{"$f":"IF(E161=\"\",\"\",(VLOOKUP(B163,'TDPrimas Vida'!$B:$N,11,0)))","v":-17.330100000000002},{"$f":"IF(E161=\"\",\"\",(VLOOKUP(B163,'TDPrimas Vida'!$B:$N,12,0)))","v":48213.334059999994},{"$f":"IFERROR((E163/VLOOKUP(\"TOTAL\",$D$12:$L$312,2,0))*100,\"\")","v":-6.6848574308270981E-6},{"$f":"IFERROR((E163/VLOOKUP(\"TOTAL\",$D$12:$L$312,3,0))*100,\"\")","v":-6.9476341745326481E-6},{"$f":"IF(E160=\"\",\"\",E163-F163)","v":-48230.664159999993},{"$f":"IF(E160=\"\",\"\",IFERROR((E163/F163-1)*100,\"ND\"))","v":-100.03594462058656},{"$f":"IF(E160=\"\",\"\",IFERROR((E163/VLOOKUP(B163&\"|\"&VLOOKUP(TDPrimas!$B$4,Cat!R:T,2,0),'TD Operación'!A:D,4,0))*100,\"ND\"))","v":"ND"},{"$f":"IF(E160=\"\",\"\",(VLOOKUP(B163,'TDPrimas Vida'!$B:$N,13,0)))","v":-2.9055605065484387}]
[null,{"$f":"IF(C164=\"\",B160,D164)","v":"Zurich Vida"},{"$f":"IF('TDPrimas Vida'!A45=\"\",\"\",'TDPrimas Vida'!A45)","v":37},{"$f":"IF('TDPrimas Vida'!B45=\"\",\"\",'TDPrimas Vida'!B45)","v":"Zurich Vida"},{"$f":"IF('TDPrimas Vida'!C45=\"\",\"\",'TDPrimas Vida'!C45)","v":0},{"$f":"IF('TDPrimas Vida'!D45=\"\",\"\",'TDPrimas Vida'!D45)","v":502882.72777},{"$f":"IF('TDPrimas Vida'!C45=\"\",\"\",IFERROR((E164/VLOOKUP(\"TOTAL\",$D$12:$L$312,2,0))*100,\"\"))","v":0},{"$f":"IF('TDPrimas Vida'!C45=\"\",\"\",IFERROR((E164/VLOOKUP(\"TOTAL\",$D$12:$L$312,3,0))*100,\"\"))","v":0},{"$f":"IF('TDPrimas Vida'!C45=\"\",\"\",E164-F164)","v":-502882.72777},{"$f":"IFERROR(IF('TDPrimas Vida'!C45=\"\",\"\",(E164/F164-1)*100),\"ND\")","v":-100},{"$f":"IF(E164=\"\",\"\",IFERROR((E164/VLOOKUP(D164&\"|\"&VLOOKUP(TDPrimas!$B$4,Cat!R:T,2,0),'TD Operación'!A:D,4,0))*100,\"ND\"))","v":"ND"},{"$f":"IF('TDPrimas Vida'!E45=\"\",\"\",'TDPrimas Vida'!E45)","v":0}]
[null,{"$f":"IF(C165=\"\",B164,D165)","v":"Zurich Vida"},null,{"$f":"IF(D164=\"\",\"\",\"1er Año\")","v":"1er Año"},{"$f":"IF(E164=\"\",\"\",(VLOOKUP(B165,'TDPrimas Vida'!$B:$N,5,0)))","v":0},{"$f":"IF(E164=\"\",\"\",(VLOOKUP(B165,'TDPrimas Vida'!$B:$N,6,0)))","v":0},{"$f":"IFERROR((E165/VLOOKUP(\"TOTAL\",$D$12:$L$312,2,0))*100,\"\")","v":0},{"$f":"IFERROR((E165/VLOOKUP(\"TOTAL\",$D$12:$L$312,3,0))*100,\"\")","v":0},{"$f":"IF(E164=\"\",\"\",E165-F165)","v":0},{"$f":"IF(E164=\"\",\"\",IFERROR((E165/F165-1)*100,\"ND\"))","v":"ND"},{"$f":"IF(E164=\"\",\"\",IFERROR((E165/VLOOKUP(B165&\"|\"&VLOOKUP(TDPrimas!$B$4,Cat!R:T,2,0),'TD Operación'!A:D,4,0))*100,\"ND\"))","v":"ND"},{"$f":"IF(E164=\"\",\"\",(VLOOKUP(B165,'TDPrimas Vida'!$B:$N,7,0)))","v":0}]
[null,{"$f":"IF(C166=\"\",B165,D166)","v":"Zurich Vida"},null,{"$f":"IF(D165=\"\",\"\",\"Renovación\")","v":"Renovación"},{"$f":"IF(E164=\"\",\"\",(VLOOKUP(B166,'TDPrimas Vida'!$B:$N,8,0)))","v":0},{"$f":"IF(E164=\"\",\"\",(VLOOKUP(B166,'TDPrimas Vida'!$B:$N,9,0)))","v":0},{"$f":"IFERROR((E166/VLOOKUP(\"TOTAL\",$D$12:$L$312,2,0))*100,\"\")","v":0},{"$f":"IFERROR((E166/VLOOKUP(\"TOTAL\",$D$12:$L$312,3,0))*100,\"\")","v":0},{"$f":"IF(E164=\"\",\"\",E166-F166)","v":0},{"$f":"IF(E164=\"\",\"\",IFERROR((E166/F166-1)*100,\"ND\"))","v":"ND"},{"$f":"IF(E164=\"\",\"\",IFERROR((E166/VLOOKUP(B166&\"|\"&VLOOKUP(TDPrimas!$B$4,Cat!R:T,2,0),'TD Operación'!A:D,4,0))*100,\"ND\"))","v":"ND"},{"$f":"IF(E164=\"\",\"\",(VLOOKUP(B166,'TDPrimas Vida'!$B:$N,10,0)))","v":0}]
[null,{"$f":"IF(C167=\"\",B166,D167)","v":"Zurich Vida"},null,{"$f":"IF(D166=\"\",\"\",\"Únicas\")","v":"Únicas"},{"$f":"IF(E165=\"\",\"\",(VLOOKUP(B167,'TDPrimas Vida'!$B:$N,11,0)))","v":0},{"$f":"IF(E165=\"\",\"\",(VLOOKUP(B167,'TDPrimas Vida'!$B:$N,12,0)))","v":0},{"$f":"IFERROR((E167/VLOOKUP(\"TOTAL\",$D$12:$L$312,2,0))*100,\"\")","v":0},{"$f":"IFERROR((E167/VLOOKUP(\"TOTAL\",$D$12:$L$312,3,0))*100,\"\")","v":0},{"$f":"IF(E164=\"\",\"\",E167-F167)","v":0},{"$f":"IF(E164=\"\",\"\",IFERROR((E167/F167-1)*100,\"ND\"))","v":"ND"},{"$f":"IF(E164=\"\",\"\",IFERROR((E167/VLOOKUP(B167&\"|\"&VLOOKUP(TDPrimas!$B$4,Cat!R:T,2,0),'TD Operación'!A:D,4,0))*100,\"ND\"))","v":"ND"},{"$f":"IF(E164=\"\",\"\",(VLOOKUP(B167,'TDPrimas Vida'!$B:$N,13,0)))","v":0}]
[null,{"$f":"IF(C168=\"\",B164,D168)","v":"Principal México"},{"$f":"IF('TDPrimas Vida'!A46=\"\",\"\",'TDPrimas Vida'!A46)","v":38},{"$f":"IF('TDPrimas Vida'!B46=\"\",\"\",'TDPrimas Vida'!B46)","v":"Principal México"},{"$f":"IF('TDPrimas Vida'!C46=\"\",\"\",'TDPrimas Vida'!C46)","v":0},{"$f":"IF('TDPrimas Vida'!D46=\"\",\"\",'TDPrimas Vida'!D46)","v":192.54227},{"$f":"IF('TDPrimas Vida'!C46=\"\",\"\",IFERROR((E168/VLOOKUP(\"TOTAL\",$D$12:$L$312,2,0))*100,\"\"))","v":0},{"$f":"IF('TDPrimas Vida'!C46=\"\",\"\",IFERROR((E168/VLOOKUP(\"TOTAL\",$D$12:$L$312,3,0))*100,\"\"))","v":0},{"$f":"IF('TDPrimas Vida'!C46=\"\",\"\",E168-F168)","v":-192.54227},{"$f":"IFERROR(IF('TDPrimas Vida'!C46=\"\",\"\",(E168/F168-1)*100),\"ND\")","v":-100},{"$f":"IF(E168=\"\",\"\",IFERROR((E168/VLOOKUP(D168&\"|\"&VLOOKUP(TDPrimas!$B$4,Cat!R:T,2,0),'TD Operación'!A:D,4,0))*100,\"ND\"))","v":"ND"},{"$f":"IF('TDPrimas Vida'!E46=\"\",\"\",'TDPrimas Vida'!E46)","v":0}]
[null,{"$f":"IF(C169=\"\",B168,D169)","v":"Principal México"},null,{"$f":"IF(D168=\"\",\"\",\"1er Año\")","v":"1er Año"},{"$f":"IF(E168=\"\",\"\",(VLOOKUP(B169,'TDPrimas Vida'!$B:$N,5,0)))","v":0},{"$f":"IF(E168=\"\",\"\",(VLOOKUP(B169,'TDPrimas Vida'!$B:$N,6,0)))","v":0},{"$f":"IFERROR((E169/VLOOKUP(\"TOTAL\",$D$12:$L$312,2,0))*100,\"\")","v":0},{"$f":"IFERROR((E169/VLOOKUP(\"TOTAL\",$D$12:$L$312,3,0))*100,\"\")","v":0},{"$f":"IF(E168=\"\",\"\",E169-F169)","v":0},{"$f":"IF(E168=\"\",\"\",IFERROR((E169/F169-1)*100,\"ND\"))","v":"ND"},{"$f":"IF(E168=\"\",\"\",IFERROR((E169/VLOOKUP(B169&\"|\"&VLOOKUP(TDPrimas!$B$4,Cat!R:T,2,0),'TD Operación'!A:D,4,0))*100,\"ND\"))","v":"ND"},{"$f":"IF(E168=\"\",\"\",(VLOOKUP(B169,'TDPrimas Vida'!$B:$N,7,0)))","v":0}]
[null,{"$f":"IF(C170=\"\",B169,D170)","v":"Principal México"},null,{"$f":"IF(D169=\"\",\"\",\"Renovación\")","v":"Renovación"},{"$f":"IF(E168=\"\",\"\",(VLOOKUP(B170,'TDPrimas Vida'!$B:$N,8,0)))","v":0},{"$f":"IF(E168=\"\",\"\",(VLOOKUP(B170,'TDPrimas Vida'!$B:$N,9,0)))","v":0},{"$f":"IFERROR((E170/VLOOKUP(\"TOTAL\",$D$12:$L$312,2,0))*100,\"\")","v":0},{"$f":"IFERROR((E170/VLOOKUP(\"TOTAL\",$D$12:$L$312,3,0))*100,\"\")","v":0},{"$f":"IF(E168=\"\",\"\",E170-F170)","v":0},{"$f":"IF(E168=\"\",\"\",IFERROR((E170/F170-1)*100,\"ND\"))","v":"ND"},{"$f":"IF(E168=\"\",\"\",IFERROR((E170/VLOOKUP(B170&\"|\"&VLOOKUP(TDPrimas!$B$4,Cat!R:T,2,0),'TD Operación'!A:D,4,0))*100,\"ND\"))","v":"ND"},{"$f":"IF(E168=\"\",\"\",(VLOOKUP(B170,'TDPrimas Vida'!$B:$N,10,0)))","v":0}]
[null,{"$f":"IF(C171=\"\",B170,D171)","v":"Principal México"},null,{"$f":"IF(D170=\"\",\"\",\"Únicas\")","v":"Únicas"},{"$f":"IF(E169=\"\",\"\",(VLOOKUP(B171,'TDPrimas Vida'!$B:$N,11,0)))","v":0},{"$f":"IF(E169=\"\",\"\",(VLOOKUP(B171,'TDPrimas Vida'!$B:$N,12,0)))","v":0},{"$f":"IFERROR((E171/VLOOKUP(\"TOTAL\",$D$12:$L$312,2,0))*100,\"\")","v":0},{"$f":"IFERROR((E171/VLOOKUP(\"TOTAL\",$D$12:$L$312,3,0))*100,\"\")","v":0},{"$f":"IF(E168=\"\",\"\",E171-F171)","v":0},{"$f":"IF(E168=\"\",\"\",IFERROR((E171/F171-1)*100,\"ND\"))","v":"ND"},{"$f":"IF(E168=\"\",\"\",IFERROR((E171/VLOOKUP(B171&\"|\"&VLOOKUP(TDPrimas!$B$4,Cat!R:T,2,0),'TD Operación'!A:D,4,0))*100,\"ND\"))","v":"ND"},{"$f":"IF(E168=\"\",\"\",(VLOOKUP(B171,'TDPrimas Vida'!$B:$N,13,0)))","v":0}]
[null,{"$f":"IF(C172=\"\",B168,D172)","v":"TOTAL RESTO"},{"$f":"IF('TDPrimas Vida'!A47=\"\",\"\",'TDPrimas Vida'!A47)","v":150.1},{"$f":"IF('TDPrimas Vida'!B47=\"\",\"\",'TDPrimas Vida'!B47)","v":"TOTAL RESTO"},{"$f":"IF('TDPrimas Vida'!C47=\"\",\"\",'TDPrimas Vida'!C47)","v":21335313.326219995},{"$f":"IF('TDPrimas Vida'!D47=\"\",\"\",'TDPrimas Vida'!D47)","v":19888260.950119998},{"$f":"IF('TDPrimas Vida'!C47=\"\",\"\",IFERROR((E172/VLOOKUP(\"TOTAL\",$D$12:$L$312,2,0))*100,\"\"))","v":8.2298156287503303},{"$f":"IF('TDPrimas Vida'!C47=\"\",\"\",IFERROR((E172/VLOOKUP(\"TOTAL\",$D$12:$L$312,3,0))*100,\"\"))","v":8.5533235232115139},{"$f":"IF('TDPrimas Vida'!C47=\"\",\"\",E172-F172)","v":1447052.3760999963},{"$f":"IFERROR(IF('TDPrimas Vida'!C47=\"\",\"\",(E172/F172-1)*100),\"ND\")","v":7.2759120555046186},{"$f":"IF(E172=\"\",\"\",IFERROR((E172/VLOOKUP(D172&\"|\"&VLOOKUP(TDPrimas!$B$4,Cat!R:T,2,0),'TD Operación'!A:D,4,0))*100,\"ND\"))","v":"ND"},{"$f":"IF('TDPrimas Vida'!E47=\"\",\"\",'TDPrimas Vida'!E47)","v":21.838838490880875}]
[null,{"$f":"IF(C173=\"\",B172,D173)","v":"TOTAL RESTO"},null,{"$f":"IF(D172=\"\",\"\",\"1er Año\")","v":"1er Año"},{"$f":"IF(E172=\"\",\"\",(VLOOKUP(B173,'TDPrimas Vida'!$B:$N,5,0)))","v":13304137.515040003},{"$f":"IF(E172=\"\",\"\",(VLOOKUP(B173,'TDPrimas Vida'!$B:$N,6,0)))","v":12086401.3967},{"$f":"IFERROR((E173/VLOOKUP(\"TOTAL\",$D$12:$L$312,2,0))*100,\"\")","v":5.1318955186733319},{"$f":"IFERROR((E173/VLOOKUP(\"TOTAL\",$D$12:$L$312,3,0))*100,\"\")","v":5.3336264916055756},{"$f":"IF(E172=\"\",\"\",E173-F173)","v":1217736.1183400024},{"$f":"IF(E172=\"\",\"\",IFERROR((E173/F173-1)*100,\"ND\"))","v":10.075257956205942},{"$f":"IF(E172=\"\",\"\",IFERROR((E173/VLOOKUP(B173&\"|\"&VLOOKUP(TDPrimas!$B$4,Cat!R:T,2,0),'TD Operación'!A:D,4,0))*100,\"ND\"))","v":"ND"},{"$f":"IF(E172=\"\",\"\",(VLOOKUP(B173,'TDPrimas Vida'!$B:$N,7,0)))","v":13.618122499956947}]
[null,{"$f":"IF(C174=\"\",B173,D174)","v":"TOTAL RESTO"},null,{"$f":"IF(D173=\"\",\"\",\"Renovación\")","v":"Renovación"},{"$f":"IF(E172=\"\",\"\",(VLOOKUP(B174,'TDPrimas Vida'!$B:$N,8,0)))","v":6946894.7075700006},{"$f":"IF(E172=\"\",\"\",(VLOOKUP(B174,'TDPrimas Vida'!$B:$N,9,0)))","v":6279523.5368099986},{"$f":"IFERROR((E174/VLOOKUP(\"TOTAL\",$D$12:$L$312,2,0))*100,\"\")","v":2.6796729797908121},{"$f":"IFERROR((E174/VLOOKUP(\"TOTAL\",$D$12:$L$312,3,0))*100,\"\")","v":2.7850089195788441},{"$f":"IF(E172=\"\",\"\",E174-F174)","v":667371.17076000199},{"$f":"IF(E172=\"\",\"\",IFERROR((E174/F174-1)*100,\"ND\"))","v":10.62773579632168},{"$f":"IF(E172=\"\",\"\",IFERROR((E174/VLOOKUP(B174&\"|\"&VLOOKUP(TDPrimas!$B$4,Cat!R:T,2,0),'TD Operación'!A:D,4,0))*100,\"ND\"))","v":"ND"},{"$f":"IF(E172=\"\",\"\",(VLOOKUP(B174,'TDPrimas Vida'!$B:$N,10,0)))","v":7.1108452550978019}]
[null,{"$f":"IF(C175=\"\",B174,D175)","v":"TOTAL RESTO"},null,{"$f":"IF(D174=\"\",\"\",\"Únicas\")","v":"Únicas"},{"$f":"IF(E173=\"\",\"\",(VLOOKUP(B175,'TDPrimas Vida'!$B:$N,11,0)))","v":1084281.1042500001},{"$f":"IF(E173=\"\",\"\",(VLOOKUP(B175,'TDPrimas Vida'!$B:$N,12,0)))","v":1019260.7465},{"$f":"IFERROR((E175/VLOOKUP(\"TOTAL\",$D$12:$L$312,2,0))*100,\"\")","v":0.41824713053306228},{"$f":"IFERROR((E175/VLOOKUP(\"TOTAL\",$D$12:$L$312,3,0))*100,\"\")","v":0.43468811228367393},{"$f":"IF(E172=\"\",\"\",E175-F175)","v":65020.357750000083},{"$f":"IF(E172=\"\",\"\",IFERROR((E175/F175-1)*100,\"ND\"))","v":6.3791682327874355},{"$f":"IF(E172=\"\",\"\",IFERROR((E175/VLOOKUP(B175&\"|\"&VLOOKUP(TDPrimas!$B$4,Cat!R:T,2,0),'TD Operación'!A:D,4,0))*100,\"ND\"))","v":"ND"},{"$f":"IF(E172=\"\",\"\",(VLOOKUP(B175,'TDPrimas Vida'!$B:$N,13,0)))","v":1.1098707364812361}]
[null,{"$f":"IF(C176=\"\",B172,D176)","v":"TOTAL"},{"$f":"IF('TDPrimas Vida'!A48=\"\",\"\",'TDPrimas Vida'!A48)","v":151.1},{"$f":"IF('TDPrimas Vida'!B48=\"\",\"\",'TDPrimas Vida'!B48)","v":"TOTAL"},{"$f":"IF('TDPrimas Vida'!C48=\"\",\"\",'TDPrimas Vida'!C48)","v":259244122.69560999},{"$f":"IF('TDPrimas Vida'!D48=\"\",\"\",'TDPrimas Vida'!D48)","v":249438867.45685998},{"$f":"IF('TDPrimas Vida'!C48=\"\",\"\",IFERROR((E176/VLOOKUP(\"TOTAL\",$D$12:$L$312,2,0))*100,\"\"))","v":100},{"$f":"IF('TDPrimas Vida'!C48=\"\",\"\",IFERROR((E176/VLOOKUP(\"TOTAL\",$D$12:$L$312,3,0))*100,\"\"))","v":103.93092517566285},{"$f":"IF('TDPrimas Vida'!C48=\"\",\"\",E176-F176)","v":9805255.2387500107},{"$f":"IFERROR(IF('TDPrimas Vida'!C48=\"\",\"\",(E176/F176-1)*100),\"ND\")","v":3.9309251756628472},{"$f":"IF(E176=\"\",\"\",IFERROR((E176/VLOOKUP(D176&\"|\"&VLOOKUP(TDPrimas!$B$4,Cat!R:T,2,0),'TD Operación'!A:D,4,0))*100,\"ND\"))","v":"ND"},{"$f":"IF('TDPrimas Vida'!E48=\"\",\"\",'TDPrimas Vida'!E48)","v":48.269975290988079}]
[null,{"$f":"IF(C177=\"\",B176,D177)","v":"TOTAL"},null,{"$f":"IF(D176=\"\",\"\",\"1er Año\")","v":"1er Año"},{"$f":"IF(E176=\"\",\"\",(VLOOKUP(B177,'TDPrimas Vida'!$B:$N,5,0)))","v":111283402.21527998},{"$f":"IF(E176=\"\",\"\",(VLOOKUP(B177,'TDPrimas Vida'!$B:$N,6,0)))","v":110994421.32792999},{"$f":"IFERROR((E177/VLOOKUP(\"TOTAL\",$D$12:$L$312,2,0))*100,\"\")","v":42.926104190197108},{"$f":"IFERROR((E177/VLOOKUP(\"TOTAL\",$D$12:$L$312,3,0))*100,\"\")","v":44.61349722674084},{"$f":"IF(E176=\"\",\"\",E177-F177)","v":288980.88734999299},{"$f":"IF(E176=\"\",\"\",IFERROR((E177/F177-1)*100,\"ND\"))","v":0.26035622681990223},{"$f":"IF(E176=\"\",\"\",IFERROR((E177/VLOOKUP(B177&\"|\"&VLOOKUP(TDPrimas!$B$4,Cat!R:T,2,0),'TD Operación'!A:D,4,0))*100,\"ND\"))","v":"ND"},{"$f":"IF(E176=\"\",\"\",(VLOOKUP(B177,'TDPrimas Vida'!$B:$N,7,0)))","v":20.720419885991941}]
[null,{"$f":"IF(C178=\"\",B177,D178)","v":"TOTAL"},null,{"$f":"IF(D177=\"\",\"\",\"Renovación\")","v":"Renovación"},{"$f":"IF(E176=\"\",\"\",(VLOOKUP(B178,'TDPrimas Vida'!$B:$N,8,0)))","v":116493381.94943999},{"$f":"IF(E176=\"\",\"\",(VLOOKUP(B178,'TDPrimas Vida'!$B:$N,9,0)))","v":109310781.83554003},{"$f":"IFERROR((E178/VLOOKUP(\"TOTAL\",$D$12:$L$312,2,0))*100,\"\")","v":44.935785134932466},{"$f":"IFERROR((E178/VLOOKUP(\"TOTAL\",$D$12:$L$312,3,0))*100,\"\")","v":46.702177225683286},{"$f":"IF(E176=\"\",\"\",E178-F178)","v":7182600.1138999611},{"$f":"IF(E176=\"\",\"\",IFERROR((E178/F178-1)*100,\"ND\"))","v":6.5708066425746559},{"$f":"IF(E176=\"\",\"\",IFERROR((E178/VLOOKUP(B178&\"|\"&VLOOKUP(TDPrimas!$B$4,Cat!R:T,2,0),'TD Operación'!A:D,4,0))*100,\"ND\"))","v":"ND"},{"$f":"IF(E176=\"\",\"\",(VLOOKUP(B178,'TDPrimas Vida'!$B:$N,10,0)))","v":21.690492381443395}]
[null,{"$f":"IF(C179=\"\",B178,D179)","v":"TOTAL"},null,{"$f":"IF(D178=\"\",\"\",\"Únicas\")","v":"Únicas"},{"$f":"IF(E177=\"\",\"\",(VLOOKUP(B179,'TDPrimas Vida'!$B:$N,11,0)))","v":31466785.308849998},{"$f":"IF(E177=\"\",\"\",(VLOOKUP(B179,'TDPrimas Vida'!$B:$N,12,0)))","v":28630589.02318},{"$f":"IFERROR((E179/VLOOKUP(\"TOTAL\",$D$12:$L$312,2,0))*100,\"\")","v":12.137897276767406},{"$f":"IFERROR((E179/VLOOKUP(\"TOTAL\",$D$12:$L$312,3,0))*100,\"\")","v":12.615028936615952},{"$f":"IF(E176=\"\",\"\",E179-F179)","v":2836196.2856699973},{"$f":"IF(E176=\"\",\"\",IFERROR((E179/F179-1)*100,\"ND\"))","v":9.90617511701819},{"$f":"IF(E176=\"\",\"\",IFERROR((E179/VLOOKUP(B179&\"|\"&VLOOKUP(TDPrimas!$B$4,Cat!R:T,2,0),'TD Operación'!A:D,4,0))*100,\"ND\"))","v":"ND"},{"$f":"IF(E176=\"\",\"\",(VLOOKUP(B179,'TDPrimas Vida'!$B:$N,13,0)))","v":5.8589600163411415}]
[null,{"$f":"IF(C180=\"\",B176,D180)","v":"TOTAL"},{"$f":"IF('TDPrimas Vida'!A49=\"\",\"\",'TDPrimas Vida'!A49)","v":""},{"$f":"IF('TDPrimas Vida'!B49=\"\",\"\",'TDPrimas Vida'!B49)","v":""},{"$f":"IF('TDPrimas Vida'!C49=\"\",\"\",'TDPrimas Vida'!C49)","v":""},{"$f":"IF('TDPrimas Vida'!D49=\"\",\"\",'TDPrimas Vida'!D49)","v":""},{"$f":"IF('TDPrimas Vida'!C49=\"\",\"\",IFERROR((E180/VLOOKUP(\"TOTAL\",$D$12:$L$312,2,0))*100,\"\"))","v":""},{"$f":"IF('TDPrimas Vida'!C49=\"\",\"\",IFERROR((E180/VLOOKUP(\"TOTAL\",$D$12:$L$312,3,0))*100,\"\"))","v":""},{"$f":"IF('TDPrimas Vida'!C49=\"\",\"\",E180-F180)","v":""},{"$f":"IFERROR(IF('TDPrimas Vida'!C49=\"\",\"\",(E180/F180-1)*100),\"ND\")","v":""},{"$f":"IF(E180=\"\",\"\",IFERROR((E180/VLOOKUP(D180&\"|\"&VLOOKUP(TDPrimas!$B$4,Cat!R:T,2,0),'TD Operación'!A:D,4,0))*100,\"ND\"))","v":""},{"$f":"IF('TDPrimas Vida'!E49=\"\",\"\",'TDPrimas Vida'!E49)","v":""}]
[null,{"$f":"IF(C181=\"\",B180,D181)","v":"TOTAL"},null,{"$f":"IF(D180=\"\",\"\",\"1er Año\")","v":""},{"$f":"IF(E180=\"\",\"\",(VLOOKUP(B181,'TDPrimas Vida'!$B:$N,5,0)))","v":""},{"$f":"IF(E180=\"\",\"\",(VLOOKUP(B181,'TDPrimas Vida'!$B:$N,6,0)))","v":""},{"$f":"IFERROR((E181/VLOOKUP(\"TOTAL\",$D$12:$L$312,2,0))*100,\"\")","v":""},{"$f":"IFERROR((E181/VLOOKUP(\"TOTAL\",$D$12:$L$312,3,0))*100,\"\")","v":""},{"$f":"IF(E180=\"\",\"\",E181-F181)","v":""},{"$f":"IF(E180=\"\",\"\",IFERROR((E181/F181-1)*100,\"ND\"))","v":""},{"$f":"IF(E180=\"\",\"\",IFERROR((E181/VLOOKUP(B181&\"|\"&VLOOKUP(TDPrimas!$B$4,Cat!R:T,2,0),'TD Operación'!A:D,4,0))*100,\"ND\"))","v":""},{"$f":"IF(E180=\"\",\"\",(VLOOKUP(B181,'TDPrimas Vida'!$B:$N,7,0)))","v":""}]
[null,"TOTAL",null,{"$f":"IF(D181=\"\",\"\",\"Renovación\")","v":""},{"$f":"IF(E180=\"\",\"\",(VLOOKUP(B182,'TDPrimas Vida'!$B:$N,8,0)))","v":""},{"$f":"IF(E180=\"\",\"\",(VLOOKUP(B182,'TDPrimas Vida'!$B:$N,9,0)))","v":""},{"$f":"IFERROR((E182/VLOOKUP(\"TOTAL\",$D$12:$L$312,2,0))*100,\"\")","v":""},{"$f":"IFERROR((E182/VLOOKUP(\"TOTAL\",$D$12:$L$312,3,0))*100,\"\")","v":""},{"$f":"IF(E180=\"\",\"\",E182-F182)","v":""},{"$f":"IF(E180=\"\",\"\",IFERROR((E182/F182-1)*100,\"ND\"))","v":""},{"$f":"IF(E180=\"\",\"\",IFERROR((E182/VLOOKUP(B182&\"|\"&VLOOKUP(TDPrimas!$B$4,Cat!R:T,2,0),'TD Operación'!A:D,4,0))*100,\"ND\"))","v":""},{"$f":"IF(E180=\"\",\"\",(VLOOKUP(B182,'TDPrimas Vida'!$B:$N,10,0)))","v":""}]
[null,"TOTAL",null,{"$f":"IF(D182=\"\",\"\",\"Únicas\")","v":""},{"$f":"IF(E181=\"\",\"\",(VLOOKUP(B183,'TDPrimas Vida'!$B:$N,11,0)))","v":""},{"$f":"IF(E181=\"\",\"\",(VLOOKUP(B183,'TDPrimas Vida'!$B:$N,12,0)))","v":""},{"$f":"IFERROR((E183/VLOOKUP(\"TOTAL\",$D$12:$L$312,2,0))*100,\"\")","v":""},{"$f":"IFERROR((E183/VLOOKUP(\"TOTAL\",$D$12:$L$312,3,0))*100,\"\")","v":""},{"$f":"IF(E180=\"\",\"\",E183-F183)","v":""},{"$f":"IF(E180=\"\",\"\",IFERROR((E183/F183-1)*100,\"ND\"))","v":""},{"$f":"IF(E180=\"\",\"\",IFERROR((E183/VLOOKUP(B183&\"|\"&VLOOKUP(TDPrimas!$B$4,Cat!R:T,2,0),'TD Operación'!A:D,4,0))*100,\"ND\"))","v":""},{"$f":"IF(E180=\"\",\"\",(VLOOKUP(B183,'TDPrimas Vida'!$B:$N,13,0)))","v":""}]
[null,"TOTAL",{"$f":"IF('TDPrimas Vida'!A51=\"\",\"\",'TDPrimas Vida'!A51)","v":""},{"$f":"IF('TDPrimas Vida'!B51=\"\",\"\",'TDPrimas Vida'!B51)","v":""},{"$f":"IF('TDPrimas Vida'!C51=\"\",\"\",'TDPrimas Vida'!C51)","v":""},{"$f":"IF('TDPrimas Vida'!D51=\"\",\"\",'TDPrimas Vida'!D51)","v":""},{"$f":"IF('TDPrimas Vida'!C51=\"\",\"\",IFERROR((E184/VLOOKUP(\"TOTAL\",$D$12:$L$312,2,0))*100,\"\"))","v":""},{"$f":"IF('TDPrimas Vida'!C51=\"\",\"\",IFERROR((E184/VLOOKUP(\"TOTAL\",$D$12:$L$312,3,0))*100,\"\"))","v":""},{"$f":"IF('TDPrimas Vida'!C51=\"\",\"\",E184-F184)","v":""},{"$f":"IFERROR(IF('TDPrimas Vida'!C51=\"\",\"\",(E184/F184-1)*100),\"ND\")","v":""},{"$f":"IF(E184=\"\",\"\",IFERROR((E184/VLOOKUP(D184&\"|\"&VLOOKUP(TDPrimas!$B$4,Cat!R:T,2,0),'TD Operación'!A:D,4,0))*100,\"ND\"))","v":""},{"$f":"IF('TDPrimas Vida'!E51=\"\",\"\",'TDPrimas Vida'!E51)","v":""}]
[null,"TOTAL",null,{"$f":"IF(D184=\"\",\"\",\"1er Año\")","v":""},{"$f":"IF(E184=\"\",\"\",(VLOOKUP(B185,'TDPrimas Vida'!$B:$N,5,0)))","v":""},{"$f":"IF(E184=\"\",\"\",(VLOOKUP(B185,'TDPrimas Vida'!$B:$N,6,0)))","v":""},{"$f":"IFERROR((E185/VLOOKUP(\"TOTAL\",$D$12:$L$312,2,0))*100,\"\")","v":""},{"$f":"IFERROR((E185/VLOOKUP(\"TOTAL\",$D$12:$L$312,3,0))*100,\"\")","v":""},{"$f":"IF(E184=\"\",\"\",E185-F185)","v":""},{"$f":"IF(E184=\"\",\"\",IFERROR((E185/F185-1)*100,\"ND\"))","v":""},{"$f":"IF(E184=\"\",\"\",IFERROR((E185/VLOOKUP(B185&\"|\"&VLOOKUP(TDPrimas!$B$4,Cat!R:T,2,0),'TD Operación'!A:D,4,0))*100,\"ND\"))","v":""},{"$f":"IF(E184=\"\",\"\",(VLOOKUP(B185,'TDPrimas Vida'!$B:$N,7,0)))","v":""}]
[null,"TOTAL",null,{"$f":"IF(D185=\"\",\"\",\"Renovación\")","v":""},{"$f":"IF(E184=\"\",\"\",(VLOOKUP(B186,'TDPrimas Vida'!$B:$N,8,0)))","v":""},{"$f":"IF(E184=\"\",\"\",(VLOOKUP(B186,'TDPrimas Vida'!$B:$N,9,0)))","v":""},{"$f":"IFERROR((E186/VLOOKUP(\"TOTAL\",$D$12:$L$312,2,0))*100,\"\")","v":""},{"$f":"IFERROR((E186/VLOOKUP(\"TOTAL\",$D$12:$L$312,3,0))*100,\"\")","v":""},{"$f":"IF(E184=\"\",\"\",E186-F186)","v":""},{"$f":"IF(E184=\"\",\"\",IFERROR((E186/F186-1)*100,\"ND\"))","v":""},{"$f":"IF(E184=\"\",\"\",IFERROR((E186/VLOOKUP(B186&\"|\"&VLOOKUP(TDPrimas!$B$4,Cat!R:T,2,0),'TD Operación'!A:D,4,0))*100,\"ND\"))","v":""},{"$f":"IF(E184=\"\",\"\",(VLOOKUP(B186,'TDPrimas Vida'!$B:$N,10,0)))","v":""}]
[null,"TOTAL",null,{"$f":"IF(D186=\"\",\"\",\"Únicas\")","v":""},{"$f":"IF(E185=\"\",\"\",(VLOOKUP(B187,'TDPrimas Vida'!$B:$N,11,0)))","v":""},{"$f":"IF(E185=\"\",\"\",(VLOOKUP(B187,'TDPrimas Vida'!$B:$N,12,0)))","v":""},{"$f":"IFERROR((E187/VLOOKUP(\"TOTAL\",$D$12:$L$312,2,0))*100,\"\")","v":""},{"$f":"IFERROR((E187/VLOOKUP(\"TOTAL\",$D$12:$L$312,3,0))*100,\"\")","v":""},{"$f":"IF(E184=\"\",\"\",E187-F187)","v":""},{"$f":"IF(E184=\"\",\"\",IFERROR((E187/F187-1)*100,\"ND\"))","v":""},{"$f":"IF(E184=\"\",\"\",IFERROR((E187/VLOOKUP(B187&\"|\"&VLOOKUP(TDPrimas!$B$4,Cat!R:T,2,0),'TD Operación'!A:D,4,0))*100,\"ND\"))","v":""},{"$f":"IF(E184=\"\",\"\",(VLOOKUP(B187,'TDPrimas Vida'!$B:$N,13,0)))","v":""}]
[null,{"$f":"IF(C188=\"\",B184,D188)","v":"TOTAL"},{"$f":"IF('TDPrimas Vida'!A52=\"\",\"\",'TDPrimas Vida'!A52)","v":""},{"$f":"IF('TDPrimas Vida'!B52=\"\",\"\",'TDPrimas Vida'!B52)","v":""},{"$f":"IF('TDPrimas Vida'!C52=\"\",\"\",'TDPrimas Vida'!C52)","v":""},{"$f":"IF('TDPrimas Vida'!D52=\"\",\"\",'TDPrimas Vida'!D52)","v":""},{"$f":"IF('TDPrimas Vida'!C52=\"\",\"\",IFERROR((E188/VLOOKUP(\"TOTAL\",$D$12:$L$312,2,0))*100,\"\"))","v":""},{"$f":"IF('TDPrimas Vida'!C52=\"\",\"\",IFERROR((E188/VLOOKUP(\"TOTAL\",$D$12:$L$312,3,0))*100,\"\"))","v":""},{"$f":"IF('TDPrimas Vida'!C52=\"\",\"\",E188-F188)","v":""},{"$f":"IFERROR(IF('TDPrimas Vida'!C52=\"\",\"\",(E188/F188-1)*100),\"ND\")","v":""},{"$f":"IF(E188=\"\",\"\",IFERROR((E188/VLOOKUP(D188&\"|\"&VLOOKUP(TDPrimas!$B$4,Cat!R:T,2,0),'TD Operación'!A:D,4,0))*100,\"ND\"))","v":""},{"$f":"IF('TDPrimas Vida'!E52=\"\",\"\",'TDPrimas Vida'!E52)","v":""}]
[null,{"$f":"IF(C189=\"\",B188,D189)","v":"TOTAL"},null,{"$f":"IF(D188=\"\",\"\",\"1er Año\")","v":""},{"$f":"IF(E188=\"\",\"\",(VLOOKUP(B189,'TDPrimas Vida'!$B:$N,5,0)))","v":""},{"$f":"IF(E188=\"\",\"\",(VLOOKUP(B189,'TDPrimas Vida'!$B:$N,6,0)))","v":""},{"$f":"IFERROR((E189/VLOOKUP(\"TOTAL\",$D$12:$L$312,2,0))*100,\"\")","v":""},{"$f":"IFERROR((E189/VLOOKUP(\"TOTAL\",$D$12:$L$312,3,0))*100,\"\")","v":""},{"$f":"IF(E188=\"\",\"\",E189-F189)","v":""},{"$f":"IF(E188=\"\",\"\",IFERROR((E189/F189-1)*100,\"ND\"))","v":""},{"$f":"IF(E188=\"\",\"\",IFERROR((E189/VLOOKUP(B189&\"|\"&VLOOKUP(TDPrimas!$B$4,Cat!R:T,2,0),'TD Operación'!A:D,4,0))*100,\"ND\"))","v":""},{"$f":"IF(E188=\"\",\"\",(VLOOKUP(B189,'TDPrimas Vida'!$B:$N,7,0)))","v":""}]
[null,{"$f":"IF(C190=\"\",B189,D190)","v":"TOTAL"},null,{"$f":"IF(D189=\"\",\"\",\"Renovación\")","v":""},{"$f":"IF(E188=\"\",\"\",(VLOOKUP(B190,'TDPrimas Vida'!$B:$N,8,0)))","v":""},{"$f":"IF(E188=\"\",\"\",(VLOOKUP(B190,'TDPrimas Vida'!$B:$N,9,0)))","v":""},{"$f":"IFERROR((E190/VLOOKUP(\"TOTAL\",$D$12:$L$312,2,0))*100,\"\")","v":""},{"$f":"IFERROR((E190/VLOOKUP(\"TOTAL\",$D$12:$L$312,3,0))*100,\"\")","v":""},{"$f":"IF(E188=\"\",\"\",E190-F190)","v":""},{"$f":"IF(E188=\"\",\"\",IFERROR((E190/F190-1)*100,\"ND\"))","v":""},{"$f":"IF(E188=\"\",\"\",IFERROR((E190/VLOOKUP(B190&\"|\"&VLOOKUP(TDPrimas!$B$4,Cat!R:T,2,0),'TD Operación'!A:D,4,0))*100,\"ND\"))","v":""},{"$f":"IF(E188=\"\",\"\",(VLOOKUP(B190,'TDPrimas Vida'!$B:$N,10,0)))","v":""}]
[null,{"$f":"IF(C191=\"\",B190,D191)","v":"TOTAL"},null,{"$f":"IF(D190=\"\",\"\",\"Únicas\")","v":""},{"$f":"IF(E189=\"\",\"\",(VLOOKUP(B191,'TDPrimas Vida'!$B:$N,11,0)))","v":""},{"$f":"IF(E189=\"\",\"\",(VLOOKUP(B191,'TDPrimas Vida'!$B:$N,12,0)))","v":""},{"$f":"IFERROR((E191/VLOOKUP(\"TOTAL\",$D$12:$L$312,2,0))*100,\"\")","v":""},{"$f":"IFERROR((E191/VLOOKUP(\"TOTAL\",$D$12:$L$312,3,0))*100,\"\")","v":""},{"$f":"IF(E188=\"\",\"\",E191-F191)","v":""},{"$f":"IF(E188=\"\",\"\",IFERROR((E191/F191-1)*100,\"ND\"))","v":""},{"$f":"IF(E188=\"\",\"\",IFERROR((E191/VLOOKUP(B191&\"|\"&VLOOKUP(TDPrimas!$B$4,Cat!R:T,2,0),'TD Operación'!A:D,4,0))*100,\"ND\"))","v":""},{"$f":"IF(E188=\"\",\"\",(VLOOKUP(B191,'TDPrimas Vida'!$B:$N,13,0)))","v":""}]
[null,{"$f":"IF(C192=\"\",B188,D192)","v":"TOTAL"},{"$f":"IF('TDPrimas Vida'!A53=\"\",\"\",'TDPrimas Vida'!A53)","v":""},{"$f":"IF('TDPrimas Vida'!B53=\"\",\"\",'TDPrimas Vida'!B53)","v":""},{"$f":"IF('TDPrimas Vida'!C53=\"\",\"\",'TDPrimas Vida'!C53)","v":""},{"$f":"IF('TDPrimas Vida'!D53=\"\",\"\",'TDPrimas Vida'!D53)","v":""},{"$f":"IF('TDPrimas Vida'!C53=\"\",\"\",IFERROR((E192/VLOOKUP(\"TOTAL\",$D$12:$L$312,2,0))*100,\"\"))","v":""},{"$f":"IF('TDPrimas Vida'!C53=\"\",\"\",IFERROR((E192/VLOOKUP(\"TOTAL\",$D$12:$L$312,3,0))*100,\"\"))","v":""},{"$f":"IF('TDPrimas Vida'!C53=\"\",\"\",E192-F192)","v":""},{"$f":"IFERROR(IF('TDPrimas Vida'!C53=\"\",\"\",(E192/F192-1)*100),\"ND\")","v":""},{"$f":"IF(E192=\"\",\"\",IFERROR((E192/VLOOKUP(D192&\"|\"&VLOOKUP(TDPrimas!$B$4,Cat!R:T,2,0),'TD Operación'!A:D,4,0))*100,\"ND\"))","v":""},{"$f":"IF('TDPrimas Vida'!E53=\"\",\"\",'TDPrimas Vida'!E53)","v":""}]
[null,{"$f":"IF(C193=\"\",B192,D193)","v":"TOTAL"},null,{"$f":"IF(D192=\"\",\"\",\"1er Año\")","v":""},{"$f":"IF(E192=\"\",\"\",(VLOOKUP(B193,'TDPrimas Vida'!$B:$N,5,0)))","v":""},{"$f":"IF(E192=\"\",\"\",(VLOOKUP(B193,'TDPrimas Vida'!$B:$N,6,0)))","v":""},{"$f":"IFERROR((E193/VLOOKUP(\"TOTAL\",$D$12:$L$312,2,0))*100,\"\")","v":""},{"$f":"IFERROR((E193/VLOOKUP(\"TOTAL\",$D$12:$L$312,3,0))*100,\"\")","v":""},{"$f":"IF(E192=\"\",\"\",E193-F193)","v":""},{"$f":"IF(E192=\"\",\"\",IFERROR((E193/F193-1)*100,\"ND\"))","v":""},{"$f":"IF(E192=\"\",\"\",IFERROR((E193/VLOOKUP(B193&\"|\"&VLOOKUP(TDPrimas!$B$4,Cat!R:T,2,0),'TD Operación'!A:D,4,0))*100,\"ND\"))","v":""},{"$f":"IF(E192=\"\",\"\",(VLOOKUP(B193,'TDPrimas Vida'!$B:$N,7,0)))","v":""}]
[null,{"$f":"IF(C194=\"\",B193,D194)","v":"TOTAL"},null,{"$f":"IF(D193=\"\",\"\",\"Renovación\")","v":""},{"$f":"IF(E192=\"\",\"\",(VLOOKUP(B194,'TDPrimas Vida'!$B:$N,8,0)))","v":""},{"$f":"IF(E192=\"\",\"\",(VLOOKUP(B194,'TDPrimas Vida'!$B:$N,9,0)))","v":""},{"$f":"IFERROR((E194/VLOOKUP(\"TOTAL\",$D$12:$L$312,2,0))*100,\"\")","v":""},{"$f":"IFERROR((E194/VLOOKUP(\"TOTAL\",$D$12:$L$312,3,0))*100,\"\")","v":""},{"$f":"IF(E192=\"\",\"\",E194-F194)","v":""},{"$f":"IF(E192=\"\",\"\",IFERROR((E194/F194-1)*100,\"ND\"))","v":""},{"$f":"IF(E192=\"\",\"\",IFERROR((E194/VLOOKUP(B194&\"|\"&VLOOKUP(TDPrimas!$B$4,Cat!R:T,2,0),'TD Operación'!A:D,4,0))*100,\"ND\"))","v":""},{"$f":"IF(E192=\"\",\"\",(VLOOKUP(B194,'TDPrimas Vida'!$B:$N,10,0)))","v":""}]
[null,{"$f":"IF(C195=\"\",B194,D195)","v":"TOTAL"},null,{"$f":"IF(D194=\"\",\"\",\"Únicas\")","v":""},{"$f":"IF(E193=\"\",\"\",(VLOOKUP(B195,'TDPrimas Vida'!$B:$N,11,0)))","v":""},{"$f":"IF(E193=\"\",\"\",(VLOOKUP(B195,'TDPrimas Vida'!$B:$N,12,0)))","v":""},{"$f":"IFERROR((E195/VLOOKUP(\"TOTAL\",$D$12:$L$312,2,0))*100,\"\")","v":""},{"$f":"IFERROR((E195/VLOOKUP(\"TOTAL\",$D$12:$L$312,3,0))*100,\"\")","v":""},{"$f":"IF(E192=\"\",\"\",E195-F195)","v":""},{"$f":"IF(E192=\"\",\"\",IFERROR((E195/F195-1)*100,\"ND\"))","v":""},{"$f":"IF(E192=\"\",\"\",IFERROR((E195/VLOOKUP(B195&\"|\"&VLOOKUP(TDPrimas!$B$4,Cat!R:T,2,0),'TD Operación'!A:D,4,0))*100,\"ND\"))","v":""},{"$f":"IF(E192=\"\",\"\",(VLOOKUP(B195,'TDPrimas Vida'!$B:$N,13,0)))","v":""}]
[null,{"$f":"IF(C196=\"\",B192,D196)","v":"TOTAL"},{"$f":"IF('TDPrimas Vida'!A54=\"\",\"\",'TDPrimas Vida'!A54)","v":""},{"$f":"IF('TDPrimas Vida'!B54=\"\",\"\",'TDPrimas Vida'!B54)","v":""},{"$f":"IF('TDPrimas Vida'!C54=\"\",\"\",'TDPrimas Vida'!C54)","v":""},{"$f":"IF('TDPrimas Vida'!D54=\"\",\"\",'TDPrimas Vida'!D54)","v":""},{"$f":"IF('TDPrimas Vida'!C54=\"\",\"\",IFERROR((E196/VLOOKUP(\"TOTAL\",$D$12:$L$312,2,0))*100,\"\"))","v":""},{"$f":"IF('TDPrimas Vida'!C54=\"\",\"\",IFERROR((E196/VLOOKUP(\"TOTAL\",$D$12:$L$312,3,0))*100,\"\"))","v":""},{"$f":"IF('TDPrimas Vida'!C54=\"\",\"\",E196-F196)","v":""},{"$f":"IFERROR(IF('TDPrimas Vida'!C54=\"\",\"\",(E196/F196-1)*100),\"ND\")","v":""},{"$f":"IF(E196=\"\",\"\",IFERROR((E196/VLOOKUP(D196&\"|\"&VLOOKUP(TDPrimas!$B$4,Cat!R:T,2,0),'TD Operación'!A:D,4,0))*100,\"ND\"))","v":""},{"$f":"IF('TDPrimas Vida'!E54=\"\",\"\",'TDPrimas Vida'!E54)","v":""}]
[null,{"$f":"IF(C197=\"\",B196,D197)","v":"TOTAL"},null,{"$f":"IF(D196=\"\",\"\",\"1er Año\")","v":""},{"$f":"IF(E196=\"\",\"\",(VLOOKUP(B197,'TDPrimas Vida'!$B:$N,5,0)))","v":""},{"$f":"IF(E196=\"\",\"\",(VLOOKUP(B197,'TDPrimas Vida'!$B:$N,6,0)))","v":""},{"$f":"IFERROR((E197/VLOOKUP(\"TOTAL\",$D$12:$L$312,2,0))*100,\"\")","v":""},{"$f":"IFERROR((E197/VLOOKUP(\"TOTAL\",$D$12:$L$312,3,0))*100,\"\")","v":""},{"$f":"IF(E196=\"\",\"\",E197-F197)","v":""},{"$f":"IF(E196=\"\",\"\",IFERROR((E197/F197-1)*100,\"ND\"))","v":""},{"$f":"IF(E196=\"\",\"\",IFERROR((E197/VLOOKUP(B197&\"|\"&VLOOKUP(TDPrimas!$B$4,Cat!R:T,2,0),'TD Operación'!A:D,4,0))*100,\"ND\"))","v":""},{"$f":"IF(E196=\"\",\"\",(VLOOKUP(B197,'TDPrimas Vida'!$B:$N,7,0)))","v":""}]
[null,{"$f":"IF(C198=\"\",B197,D198)","v":"TOTAL"},null,{"$f":"IF(D197=\"\",\"\",\"Renovación\")","v":""},{"$f":"IF(E196=\"\",\"\",(VLOOKUP(B198,'TDPrimas Vida'!$B:$N,8,0)))","v":""},{"$f":"IF(E196=\"\",\"\",(VLOOKUP(B198,'TDPrimas Vida'!$B:$N,9,0)))","v":""},{"$f":"IFERROR((E198/VLOOKUP(\"TOTAL\",$D$12:$L$312,2,0))*100,\"\")","v":""},{"$f":"IFERROR((E198/VLOOKUP(\"TOTAL\",$D$12:$L$312,3,0))*100,\"\")","v":""},{"$f":"IF(E196=\"\",\"\",E198-F198)","v":""},{"$f":"IF(E196=\"\",\"\",IFERROR((E198/F198-1)*100,\"ND\"))","v":""},{"$f":"IF(E196=\"\",\"\",IFERROR((E198/VLOOKUP(B198&\"|\"&VLOOKUP(TDPrimas!$B$4,Cat!R:T,2,0),'TD Operación'!A:D,4,0))*100,\"ND\"))","v":""},{"$f":"IF(E196=\"\",\"\",(VLOOKUP(B198,'TDPrimas Vida'!$B:$N,10,0)))","v":""}]
[null,{"$f":"IF(C199=\"\",B198,D199)","v":"TOTAL"},null,{"$f":"IF(D198=\"\",\"\",\"Únicas\")","v":""},{"$f":"IF(E197=\"\",\"\",(VLOOKUP(B199,'TDPrimas Vida'!$B:$N,11,0)))","v":""},{"$f":"IF(E197=\"\",\"\",(VLOOKUP(B199,'TDPrimas Vida'!$B:$N,12,0)))","v":""},{"$f":"IFERROR((E199/VLOOKUP(\"TOTAL\",$D$12:$L$312,2,0))*100,\"\")","v":""},{"$f":"IFERROR((E199/VLOOKUP(\"TOTAL\",$D$12:$L$312,3,0))*100,\"\")","v":""},{"$f":"IF(E196=\"\",\"\",E199-F199)","v":""},{"$f":"IF(E196=\"\",\"\",IFERROR((E199/F199-1)*100,\"ND\"))","v":""},{"$f":"IF(E196=\"\",\"\",IFERROR((E199/VLOOKUP(B199&\"|\"&VLOOKUP(TDPrimas!$B$4,Cat!R:T,2,0),'TD Operación'!A:D,4,0))*100,\"ND\"))","v":""},{"$f":"IF(E196=\"\",\"\",(VLOOKUP(B199,'TDPrimas Vida'!$B:$N,13,0)))","v":""}]
[null,{"$f":"IF(C200=\"\",B196,D200)","v":"TOTAL"},{"$f":"IF('TDPrimas Vida'!A55=\"\",\"\",'TDPrimas Vida'!A55)","v":""},{"$f":"IF('TDPrimas Vida'!B55=\"\",\"\",'TDPrimas Vida'!B55)","v":""},{"$f":"IF('TDPrimas Vida'!C55=\"\",\"\",'TDPrimas Vida'!C55)","v":""},{"$f":"IF('TDPrimas Vida'!D55=\"\",\"\",'TDPrimas Vida'!D55)","v":""},{"$f":"IF('TDPrimas Vida'!C55=\"\",\"\",IFERROR((E200/VLOOKUP(\"TOTAL\",$D$12:$L$312,2,0))*100,\"\"))","v":""},{"$f":"IF('TDPrimas Vida'!C55=\"\",\"\",IFERROR((E200/VLOOKUP(\"TOTAL\",$D$12:$L$312,3,0))*100,\"\"))","v":""},{"$f":"IF('TDPrimas Vida'!C55=\"\",\"\",E200-F200)","v":""},{"$f":"IFERROR(IF('TDPrimas Vida'!C55=\"\",\"\",(E200/F200-1)*100),\"ND\")","v":""},{"$f":"IF(E200=\"\",\"\",IFERROR((E200/VLOOKUP(D200&\"|\"&VLOOKUP(TDPrimas!$B$4,Cat!R:T,2,0),'TD Operación'!A:D,4,0))*100,\"ND\"))","v":""},{"$f":"IF('TDPrimas Vida'!E55=\"\",\"\",'TDPrimas Vida'!E55)","v":""}]
[null,{"$f":"IF(C201=\"\",B200,D201)","v":"TOTAL"},null,{"$f":"IF(D200=\"\",\"\",\"1er Año\")","v":""},{"$f":"IF(E200=\"\",\"\",(VLOOKUP(B201,'TDPrimas Vida'!$B:$N,5,0)))","v":""},{"$f":"IF(E200=\"\",\"\",(VLOOKUP(B201,'TDPrimas Vida'!$B:$N,6,0)))","v":""},{"$f":"IFERROR((E201/VLOOKUP(\"TOTAL\",$D$12:$L$312,2,0))*100,\"\")","v":""},{"$f":"IFERROR((E201/VLOOKUP(\"TOTAL\",$D$12:$L$312,3,0))*100,\"\")","v":""},{"$f":"IF(E200=\"\",\"\",E201-F201)","v":""},{"$f":"IF(E200=\"\",\"\",IFERROR((E201/F201-1)*100,\"ND\"))","v":""},{"$f":"IF(E200=\"\",\"\",IFERROR((E201/VLOOKUP(B201&\"|\"&VLOOKUP(TDPrimas!$B$4,Cat!R:T,2,0),'TD Operación'!A:D,4,0))*100,\"ND\"))","v":""},{"$f":"IF(E200=\"\",\"\",(VLOOKUP(B201,'TDPrimas Vida'!$B:$N,7,0)))","v":""}]
[null,{"$f":"IF(C202=\"\",B201,D202)","v":"TOTAL"},null,{"$f":"IF(D201=\"\",\"\",\"Renovación\")","v":""},{"$f":"IF(E200=\"\",\"\",(VLOOKUP(B202,'TDPrimas Vida'!$B:$N,8,0)))","v":""},{"$f":"IF(E200=\"\",\"\",(VLOOKUP(B202,'TDPrimas Vida'!$B:$N,9,0)))","v":""},{"$f":"IFERROR((E202/VLOOKUP(\"TOTAL\",$D$12:$L$312,2,0))*100,\"\")","v":""},{"$f":"IFERROR((E202/VLOOKUP(\"TOTAL\",$D$12:$L$312,3,0))*100,\"\")","v":""},{"$f":"IF(E200=\"\",\"\",E202-F202)","v":""},{"$f":"IF(E200=\"\",\"\",IFERROR((E202/F202-1)*100,\"ND\"))","v":""},{"$f":"IF(E200=\"\",\"\",IFERROR((E202/VLOOKUP(B202&\"|\"&VLOOKUP(TDPrimas!$B$4,Cat!R:T,2,0),'TD Operación'!A:D,4,0))*100,\"ND\"))","v":""},{"$f":"IF(E200=\"\",\"\",(VLOOKUP(B202,'TDPrimas Vida'!$B:$N,10,0)))","v":""}]
[null,{"$f":"IF(C203=\"\",B202,D203)","v":"TOTAL"},null,{"$f":"IF(D202=\"\",\"\",\"Únicas\")","v":""},{"$f":"IF(E201=\"\",\"\",(VLOOKUP(B203,'TDPrimas Vida'!$B:$N,11,0)))","v":""},{"$f":"IF(E201=\"\",\"\",(VLOOKUP(B203,'TDPrimas Vida'!$B:$N,12,0)))","v":""},{"$f":"IFERROR((E203/VLOOKUP(\"TOTAL\",$D$12:$L$312,2,0))*100,\"\")","v":""},{"$f":"IFERROR((E203/VLOOKUP(\"TOTAL\",$D$12:$L$312,3,0))*100,\"\")","v":""},{"$f":"IF(E200=\"\",\"\",E203-F203)","v":""},{"$f":"IF(E200=\"\",\"\",IFERROR((E203/F203-1)*100,\"ND\"))","v":""},{"$f":"IF(E200=\"\",\"\",IFERROR((E203/VLOOKUP(B203&\"|\"&VLOOKUP(TDPrimas!$B$4,Cat!R:T,2,0),'TD Operación'!A:D,4,0))*100,\"ND\"))","v":""},{"$f":"IF(E200=\"\",\"\",(VLOOKUP(B203,'TDPrimas Vida'!$B:$N,13,0)))","v":""}]
[null,{"$f":"IF(C204=\"\",B200,D204)","v":"TOTAL"},{"$f":"IF('TDPrimas Vida'!A56=\"\",\"\",'TDPrimas Vida'!A56)","v":""},{"$f":"IF('TDPrimas Vida'!B56=\"\",\"\",'TDPrimas Vida'!B56)","v":""},{"$f":"IF('TDPrimas Vida'!C56=\"\",\"\",'TDPrimas Vida'!C56)","v":""},{"$f":"IF('TDPrimas Vida'!D56=\"\",\"\",'TDPrimas Vida'!D56)","v":""},{"$f":"IF('TDPrimas Vida'!C56=\"\",\"\",IFERROR((E204/VLOOKUP(\"TOTAL\",$D$12:$L$312,2,0))*100,\"\"))","v":""},{"$f":"IF('TDPrimas Vida'!C56=\"\",\"\",IFERROR((E204/VLOOKUP(\"TOTAL\",$D$12:$L$312,3,0))*100,\"\"))","v":""},{"$f":"IF('TDPrimas Vida'!C56=\"\",\"\",E204-F204)","v":""},{"$f":"IFERROR(IF('TDPrimas Vida'!C56=\"\",\"\",(E204/F204-1)*100),\"ND\")","v":""},{"$f":"IF(E204=\"\",\"\",IFERROR((E204/VLOOKUP(D204&\"|\"&VLOOKUP(TDPrimas!$B$4,Cat!R:T,2,0),'TD Operación'!A:D,4,0))*100,\"ND\"))","v":""},{"$f":"IF('TDPrimas Vida'!E56=\"\",\"\",'TDPrimas Vida'!E56)","v":""}]
[null,{"$f":"IF(C205=\"\",B204,D205)","v":"TOTAL"},null,{"$f":"IF(D204=\"\",\"\",\"1er Año\")","v":""},{"$f":"IF(E204=\"\",\"\",(VLOOKUP(B205,'TDPrimas Vida'!$B:$N,5,0)))","v":""},{"$f":"IF(E204=\"\",\"\",(VLOOKUP(B205,'TDPrimas Vida'!$B:$N,6,0)))","v":""},{"$f":"IFERROR((E205/VLOOKUP(\"TOTAL\",$D$12:$L$312,2,0))*100,\"\")","v":""},{"$f":"IFERROR((E205/VLOOKUP(\"TOTAL\",$D$12:$L$312,3,0))*100,\"\")","v":""},{"$f":"IF(E204=\"\",\"\",E205-F205)","v":""},{"$f":"IF(E204=\"\",\"\",IFERROR((E205/F205-1)*100,\"ND\"))","v":""},{"$f":"IF(E204=\"\",\"\",IFERROR((E205/VLOOKUP(B205&\"|\"&VLOOKUP(TDPrimas!$B$4,Cat!R:T,2,0),'TD Operación'!A:D,4,0))*100,\"ND\"))","v":""},{"$f":"IF(E204=\"\",\"\",(VLOOKUP(B205,'TDPrimas Vida'!$B:$N,7,0)))","v":""}]
[null,{"$f":"IF(C206=\"\",B205,D206)","v":"TOTAL"},null,{"$f":"IF(D205=\"\",\"\",\"Renovación\")","v":""},{"$f":"IF(E204=\"\",\"\",(VLOOKUP(B206,'TDPrimas Vida'!$B:$N,8,0)))","v":""},{"$f":"IF(E204=\"\",\"\",(VLOOKUP(B206,'TDPrimas Vida'!$B:$N,9,0)))","v":""},{"$f":"IFERROR((E206/VLOOKUP(\"TOTAL\",$D$12:$L$312,2,0))*100,\"\")","v":""},{"$f":"IFERROR((E206/VLOOKUP(\"TOTAL\",$D$12:$L$312,3,0))*100,\"\")","v":""},{"$f":"IF(E204=\"\",\"\",E206-F206)","v":""},{"$f":"IF(E204=\"\",\"\",IFERROR((E206/F206-1)*100,\"ND\"))","v":""},{"$f":"IF(E204=\"\",\"\",IFERROR((E206/VLOOKUP(B206&\"|\"&VLOOKUP(TDPrimas!$B$4,Cat!R:T,2,0),'TD Operación'!A:D,4,0))*100,\"ND\"))","v":""},{"$f":"IF(E204=\"\",\"\",(VLOOKUP(B206,'TDPrimas Vida'!$B:$N,10,0)))","v":""}]
[null,{"$f":"IF(C207=\"\",B206,D207)","v":"TOTAL"},null,{"$f":"IF(D206=\"\",\"\",\"Únicas\")","v":""},{"$f":"IF(E205=\"\",\"\",(VLOOKUP(B207,'TDPrimas Vida'!$B:$N,11,0)))","v":""},{"$f":"IF(E205=\"\",\"\",(VLOOKUP(B207,'TDPrimas Vida'!$B:$N,12,0)))","v":""},{"$f":"IFERROR((E207/VLOOKUP(\"TOTAL\",$D$12:$L$312,2,0))*100,\"\")","v":""},{"$f":"IFERROR((E207/VLOOKUP(\"TOTAL\",$D$12:$L$312,3,0))*100,\"\")","v":""},{"$f":"IF(E204=\"\",\"\",E207-F207)","v":""},{"$f":"IF(E204=\"\",\"\",IFERROR((E207/F207-1)*100,\"ND\"))","v":""},{"$f":"IF(E204=\"\",\"\",IFERROR((E207/VLOOKUP(B207&\"|\"&VLOOKUP(TDPrimas!$B$4,Cat!R:T,2,0),'TD Operación'!A:D,4,0))*100,\"ND\"))","v":""},{"$f":"IF(E204=\"\",\"\",(VLOOKUP(B207,'TDPrimas Vida'!$B:$N,13,0)))","v":""}]
[null,{"$f":"IF(C208=\"\",B204,D208)","v":"TOTAL"},{"$f":"IF('TDPrimas Vida'!A57=\"\",\"\",'TDPrimas Vida'!A57)","v":""},{"$f":"IF('TDPrimas Vida'!B57=\"\",\"\",'TDPrimas Vida'!B57)","v":""},{"$f":"IF('TDPrimas Vida'!C57=\"\",\"\",'TDPrimas Vida'!C57)","v":""},{"$f":"IF('TDPrimas Vida'!D57=\"\",\"\",'TDPrimas Vida'!D57)","v":""},{"$f":"IF('TDPrimas Vida'!C57=\"\",\"\",IFERROR((E208/VLOOKUP(\"TOTAL\",$D$12:$L$312,2,0))*100,\"\"))","v":""},{"$f":"IF('TDPrimas Vida'!C57=\"\",\"\",IFERROR((E208/VLOOKUP(\"TOTAL\",$D$12:$L$312,3,0))*100,\"\"))","v":""},{"$f":"IF('TDPrimas Vida'!C57=\"\",\"\",E208-F208)","v":""},{"$f":"IFERROR(IF('TDPrimas Vida'!C57=\"\",\"\",(E208/F208-1)*100),\"ND\")","v":""},{"$f":"IF(E208=\"\",\"\",IFERROR((E208/VLOOKUP(D208&\"|\"&VLOOKUP(TDPrimas!$B$4,Cat!R:T,2,0),'TD Operación'!A:D,4,0))*100,\"ND\"))","v":""},{"$f":"IF('TDPrimas Vida'!E57=\"\",\"\",'TDPrimas Vida'!E57)","v":""}]
[null,{"$f":"IF(C209=\"\",B208,D209)","v":"TOTAL"},null,{"$f":"IF(D208=\"\",\"\",\"1er Año\")","v":""},{"$f":"IF(E208=\"\",\"\",(VLOOKUP(B209,'TDPrimas Vida'!$B:$N,5,0)))","v":""},{"$f":"IF(E208=\"\",\"\",(VLOOKUP(B209,'TDPrimas Vida'!$B:$N,6,0)))","v":""},{"$f":"IFERROR((E209/VLOOKUP(\"TOTAL\",$D$12:$L$312,2,0))*100,\"\")","v":""},{"$f":"IFERROR((E209/VLOOKUP(\"TOTAL\",$D$12:$L$312,3,0))*100,\"\")","v":""},{"$f":"IF(E208=\"\",\"\",E209-F209)","v":""},{"$f":"IF(E208=\"\",\"\",IFERROR((E209/F209-1)*100,\"ND\"))","v":""},{"$f":"IF(E208=\"\",\"\",IFERROR((E209/VLOOKUP(B209&\"|\"&VLOOKUP(TDPrimas!$B$4,Cat!R:T,2,0),'TD Operación'!A:D,4,0))*100,\"ND\"))","v":""},{"$f":"IF(E208=\"\",\"\",(VLOOKUP(B209,'TDPrimas Vida'!$B:$N,7,0)))","v":""}]
[null,{"$f":"IF(C210=\"\",B209,D210)","v":"TOTAL"},null,{"$f":"IF(D209=\"\",\"\",\"Renovación\")","v":""},{"$f":"IF(E208=\"\",\"\",(VLOOKUP(B210,'TDPrimas Vida'!$B:$N,8,0)))","v":""},{"$f":"IF(E208=\"\",\"\",(VLOOKUP(B210,'TDPrimas Vida'!$B:$N,9,0)))","v":""},{"$f":"IFERROR((E210/VLOOKUP(\"TOTAL\",$D$12:$L$312,2,0))*100,\"\")","v":""},{"$f":"IFERROR((E210/VLOOKUP(\"TOTAL\",$D$12:$L$312,3,0))*100,\"\")","v":""},{"$f":"IF(E208=\"\",\"\",E210-F210)","v":""},{"$f":"IF(E208=\"\",\"\",IFERROR((E210/F210-1)*100,\"ND\"))","v":""},{"$f":"IF(E208=\"\",\"\",IFERROR((E210/VLOOKUP(B210&\"|\"&VLOOKUP(TDPrimas!$B$4,Cat!R:T,2,0),'TD Operación'!A:D,4,0))*100,\"ND\"))","v":""},{"$f":"IF(E208=\"\",\"\",(VLOOKUP(B210,'TDPrimas Vida'!$B:$N,10,0)))","v":""}]
[null,{"$f":"IF(C211=\"\",B210,D211)","v":"TOTAL"},null,{"$f":"IF(D210=\"\",\"\",\"Únicas\")","v":""},{"$f":"IF(E209=\"\",\"\",(VLOOKUP(B211,'TDPrimas Vida'!$B:$N,11,0)))","v":""},{"$f":"IF(E209=\"\",\"\",(VLOOKUP(B211,'TDPrimas Vida'!$B:$N,12,0)))","v":""},{"$f":"IFERROR((E211/VLOOKUP(\"TOTAL\",$D$12:$L$312,2,0))*100,\"\")","v":""},{"$f":"IFERROR((E211/VLOOKUP(\"TOTAL\",$D$12:$L$312,3,0))*100,\"\")","v":""},{"$f":"IF(E208=\"\",\"\",E211-F211)","v":""},{"$f":"IF(E208=\"\",\"\",IFERROR((E211/F211-1)*100,\"ND\"))","v":""},{"$f":"IF(E208=\"\",\"\",IFERROR((E211/VLOOKUP(B211&\"|\"&VLOOKUP(TDPrimas!$B$4,Cat!R:T,2,0),'TD Operación'!A:D,4,0))*100,\"ND\"))","v":""},{"$f":"IF(E208=\"\",\"\",(VLOOKUP(B211,'TDPrimas Vida'!$B:$N,13,0)))","v":""}]

{"sheet":"Siniestros (Daños)","index":11,"n_rows":124,"n_cols":16,"rows_kept":124,"cut":false,"hidden":false,"merged":[[1,1,1,15],[3,3,3,8],[3,10,3,15],[4,4,5,4],[4,5,5,5],[4,6,4,7],[4,8,5,8],[4,14,4,15]]}
[null,"SINIESTROS DIRECTOS",null,null,null,null,null,null,null,null,null,null,null,null,null,{"$f":"'Primas Directas (Vida)'!L1","v":"Cuarto Trimestre 2022"}]
[null,{"$f":"UPPER(RIGHT('TD Siniestros Daños'!$B$2,LEN('TD Siniestros Daños'!$B$2)-3))","v":"DAÑOS SIN AUTOS TOTAL"}]
[null,null,null,null,null,null,null,null,null,null,null,null,null,null,null,"Cifras en miles"]
[null,null,null,"Siniestros Directos",null,null,null,null,null,null,"Siniestros Retenidos"]
[null,"Compañías",null,"Importe","Incr. %","Inc. Rva.\nDividendos","% vs. Prima Directa",null,"%  Participac de Mercado",null,"Importe","% de","Prima Dev.","% de","% vs. Prima Dev. Ret."]
[null,null,null,{"$f":"'Primas Directas'!D6","v":"2022"},null,null,{"$f":"'Primas Directas'!D6","v":"2022"},{"$f":"'Primas Directas'!E6","v":2021},null,null,{"$f":"D6","v":"2022"},"Incr.","Retenida","Incr.",{"$f":"G6","v":"2022"},{"$f":"H6","v":2021}]
[null,null,"TOTAL",{"$f":"VLOOKUP(C7,'TD Siniestros Daños'!$B$7:$M$154,2,0)","v":40049919.445770003},{"$f":"VLOOKUP(C7,'TD Siniestros Daños'!$B$7:$M$154,3,0)","v":8.0759420111960587},{"$f":"VLOOKUP(C7,'TD Siniestros Daños'!$B$7:$M$154,4,0)","v":328848.31026999996},{"$f":"VLOOKUP(C7,'TD Siniestros Daños'!$B$7:$M$154,5,0)","v":34.804028894717071},{"$f":"VLOOKUP(C7,'TD Siniestros Daños'!$B$7:$M$154,6,0)","v":32.634602576734935},{"$f":"IFERROR(D7/VLOOKUP(\"TOTAL\",$C$8:$D$124,2,0)*100,\"\")","v":100},null,{"$f":"VLOOKUP(C7,'TD Siniestros Daños'!$B$7:$M$154,7,0)","v":11031209.285780001},{"$f":"VLOOKUP(C7,'TD Siniestros Daños'!$B$7:$M$154,8,0)","v":16.383061627036021},{"$f":"VLOOKUP(C7,'TD Siniestros Daños'!$B$7:$M$154,9,0)","v":40407343.143289998},{"$f":"VLOOKUP(C7,'TD Siniestros Daños'!$B$7:$M$154,10,0)","v":35.826255008824191},{"$f":"VLOOKUP(C7,'TD Siniestros Daños'!$B$7:$M$154,11,0)","v":27.300011403030915},{"$f":"VLOOKUP(C7,'TD Siniestros Daños'!$B$7:$M$154,12,0)","v":31.860807395279046}]
[null,{"$f":"IF('TD Siniestros Daños'!A7=\"\",\"\",'TD Siniestros Daños'!A7)","v":1},{"$f":"IF('TD Siniestros Daños'!B7=\"\",\"\",'TD Siniestros Daños'!B7)","v":"GMX Seguros"},{"$f":"IF('TD Siniestros Daños'!C7=\"\",\"\",'TD Siniestros Daños'!C7)","v":5157067.1514399992},{"$f":"IF('TD Siniestros Daños'!D7=\"\",\"\",'TD Siniestros Daños'!D7)","v":3.0307472588146478},{"$f":"IF('TD Siniestros Daños'!E7=\"\",\"\",'TD Siniestros Daños'!E7)","v":0},{"$f":"IF('TD Siniestros Daños'!F7=\"\",\"\",'TD Siniestros Daños'!F7)","v":40.652839052711201},{"$f":"IF('TD Siniestros Daños'!G7=\"\",\"\",'TD Siniestros Daños'!G7)","v":46.172101271041889},{"$f":"IFERROR(D8/VLOOKUP(\"TOTAL\",$C$8:$D$124,2,0)*100,\"\")","v":12.876598062632755},null,{"$f":"IF('TD Siniestros Daños'!H7=\"\",\"\",'TD Siniestros Daños'!H7)","v":798619.18355999992},{"$f":"IF('TD Siniestros Daños'!I7=\"\",\"\",'TD Siniestros Daños'!I7)","v":-7.1276883838525045},{"$f":"IF('TD Siniestros Daños'!J7=\"\",\"\",'TD Siniestros Daños'!J7)","v":2734021.3787099998},{"$f":"IF('TD Siniestros Daños'!K7=\"\",\"\",'TD Siniestros Daños'!K7)","v":29.600135619950429},{"$f":"IF('TD Siniestros Daños'!L7=\"\",\"\",'TD Siniestros Daños'!L7)","v":29.210422046400179},{"$f":"IF('TD Siniestros Daños'!M7=\"\",\"\",'TD Siniestros Daños'!M7)","v":40.762145281535631}]
[null,{"$f":"IF('TD Siniestros Daños'!A8=\"\",\"\",'TD Siniestros Daños'!A8)","v":2},{"$f":"IF('TD Siniestros Daños'!B8=\"\",\"\",'TD Siniestros Daños'!B8)","v":"Mapfre México"},{"$f":"IF('TD Siniestros Daños'!C8=\"\",\"\",'TD Siniestros Daños'!C8)","v":4690793.6754000001},{"$f":"IF('TD Siniestros Daños'!D8=\"\",\"\",'TD Siniestros Daños'!D8)","v":-41.183763097257717},{"$f":"IF('TD Siniestros Daños'!E8=\"\",\"\",'TD Siniestros Daños'!E8)","v":221213.33433000001},{"$f":"IF('TD Siniestros Daños'!F8=\"\",\"\",'TD Siniestros Daños'!F8)","v":52.650544628515419},{"$f":"IF('TD Siniestros Daños'!G8=\"\",\"\",'TD Siniestros Daños'!G8)","v":42.243265493585284},{"$f":"IFERROR(D9/VLOOKUP(\"TOTAL\",$C$8:$D$124,2,0)*100,\"\")","v":11.7123673163728},null,{"$f":"IF('TD Siniestros Daños'!H8=\"\",\"\",'TD Siniestros Daños'!H8)","v":946802.49910999998},{"$f":"IF('TD Siniestros Daños'!I8=\"\",\"\",'TD Siniestros Daños'!I8)","v":-8.0495888500350272},{"$f":"IF('TD Siniestros Daños'!J8=\"\",\"\",'TD Siniestros Daños'!J8)","v":2088869.7064799999},{"$f":"IF('TD Siniestros Daños'!K8=\"\",\"\",'TD Siniestros Daños'!K8)","v":29.775485244603338},{"$f":"IF('TD Siniestros Daños'!L8=\"\",\"\",'TD Siniestros Daños'!L8)","v":45.326067785504804},{"$f":"IF('TD Siniestros Daños'!M8=\"\",\"\",'TD Siniestros Daños'!M8)","v":63.971573019941964}]
[null,{"$f":"IF('TD Siniestros Daños'!A9=\"\",\"\",'TD Siniestros Daños'!A9)","v":3},{"$f":"IF('TD Siniestros Daños'!B9=\"\",\"\",'TD Siniestros Daños'!B9)","v":"AXA Seguros"},{"$f":"IF('TD Siniestros Daños'!C9=\"\",\"\",'TD Siniestros Daños'!C9)","v":3021416.8386599999},{"$f":"IF('TD Siniestros Daños'!D9=\"\",\"\",'TD Siniestros Daños'!D9)","v":34.704922308271115},{"$f":"IF('TD Siniestros Daños'!E9=\"\",\"\",'TD Siniestros Daños'!E9)","v":0},{"$f":"IF('TD Siniestros Daños'!F9=\"\",\"\",'TD Siniestros Daños'!F9)","v":34.357521138943255},{"$f":"IF('TD Siniestros Daños'!G9=\"\",\"\",'TD Siniestros Daños'!G9)","v":25.161781978867953},7.544127130520649,null,{"$f":"IF('TD Siniestros Daños'!H9=\"\",\"\",'TD Siniestros Daños'!H9)","v":1094409.0218600002},{"$f":"IF('TD Siniestros Daños'!I9=\"\",\"\",'TD Siniestros Daños'!I9)","v":-16.634244355720153},{"$f":"IF('TD Siniestros Daños'!J9=\"\",\"\",'TD Siniestros Daños'!J9)","v":3746530.7035599998},{"$f":"IF('TD Siniestros Daños'!K9=\"\",\"\",'TD Siniestros Daños'!K9)","v":11.245386962260806},{"$f":"IF('TD Siniestros Daños'!L9=\"\",\"\",'TD Siniestros Daños'!L9)","v":29.21126525988641},{"$f":"IF('TD Siniestros Daños'!M9=\"\",\"\",'TD Siniestros Daños'!M9)","v":38.98025613009942}]
[null,{"$f":"IF('TD Siniestros Daños'!A10=\"\",\"\",'TD Siniestros Daños'!A10)","v":4},{"$f":"IF('TD Siniestros Daños'!B10=\"\",\"\",'TD Siniestros Daños'!B10)","v":"Inbursa"},{"$f":"IF('TD Siniestros Daños'!C10=\"\",\"\",'TD Siniestros Daños'!C10)","v":2045733.6878499999},{"$f":"IF('TD Siniestros Daños'!D10=\"\",\"\",'TD Siniestros Daños'!D10)","v":120.80738972792999},{"$f":"IF('TD Siniestros Daños'!E10=\"\",\"\",'TD Siniestros Daños'!E10)","v":0},{"$f":"IF('TD Siniestros Daños'!F10=\"\",\"\",'TD Siniestros Daños'!F10)","v":24.48840666867553},{"$f":"IF('TD Siniestros Daños'!G10=\"\",\"\",'TD Siniestros Daños'!G10)","v":12.183589576637729},5.1079595568726326,null,{"$f":"IF('TD Siniestros Daños'!H10=\"\",\"\",'TD Siniestros Daños'!H10)","v":661564.10415999999},{"$f":"IF('TD Siniestros Daños'!I10=\"\",\"\",'TD Siniestros Daños'!I10)","v":-5.3942797841483481},{"$f":"IF('TD Siniestros Daños'!J10=\"\",\"\",'TD Siniestros Daños'!J10)","v":1620475.8869299998},{"$f":"IF('TD Siniestros Daños'!K10=\"\",\"\",'TD Siniestros Daños'!K10)","v":13.060087275504252},{"$f":"IF('TD Siniestros Daños'!L10=\"\",\"\",'TD Siniestros Daños'!L10)","v":40.825297648417141},{"$f":"IF('TD Siniestros Daños'!M10=\"\",\"\",'TD Siniestros Daños'!M10)","v":48.788928456411618}]
[null,{"$f":"IF('TD Siniestros Daños'!A11=\"\",\"\",'TD Siniestros Daños'!A11)","v":5},{"$f":"IF('TD Siniestros Daños'!B11=\"\",\"\",'TD Siniestros Daños'!B11)","v":"Agroasemex"},{"$f":"IF('TD Siniestros Daños'!C11=\"\",\"\",'TD Siniestros Daños'!C11)","v":1046396.9407599999},{"$f":"IF('TD Siniestros Daños'!D11=\"\",\"\",'TD Siniestros Daños'!D11)","v":0},{"$f":"IF('TD Siniestros Daños'!E11=\"\",\"\",'TD Siniestros Daños'!E11)","v":-6172.1184500000018},{"$f":"IF('TD Siniestros Daños'!F11=\"\",\"\",'TD Siniestros Daños'!F11)","v":15.279946373413983},{"$f":"IF('TD Siniestros Daños'!G11=\"\",\"\",'TD Siniestros Daños'!G11)","v":0},2.6127316989410785,null,{"$f":"IF('TD Siniestros Daños'!H11=\"\",\"\",'TD Siniestros Daños'!H11)","v":1019694.00554},{"$f":"IF('TD Siniestros Daños'!I11=\"\",\"\",'TD Siniestros Daños'!I11)","v":0},{"$f":"IF('TD Siniestros Daños'!J11=\"\",\"\",'TD Siniestros Daños'!J11)","v":7344206.2298599994},{"$f":"IF('TD Siniestros Daños'!K11=\"\",\"\",'TD Siniestros Daños'!K11)","v":0},{"$f":"IF('TD Siniestros Daños'!L11=\"\",\"\",'TD Siniestros Daños'!L11)","v":13.884332406055517},{"$f":"IF('TD Siniestros Daños'!M11=\"\",\"\",'TD Siniestros Daños'!M11)","v":0}]
[null,{"$f":"IF('TD Siniestros Daños'!A12=\"\",\"\",'TD Siniestros Daños'!A12)","v":5.0999999999999996},{"$f":"IF('TD Siniestros Daños'!B12=\"\",\"\",'TD Siniestros Daños'!B12)","v":"TOTAL GRANDES"},{"$f":"IF('TD Siniestros Daños'!C12=\"\",\"\",'TD Siniestros Daños'!C12)","v":15961408.29411},{"$f":"IF('TD Siniestros Daños'!D12=\"\",\"\",'TD Siniestros Daños'!D12)","v":-1.1688097769906425},{"$f":"IF('TD Siniestros Daños'!E12=\"\",\"\",'TD Siniestros Daños'!E12)","v":215041.21588},{"$f":"IF('TD Siniestros Daños'!F12=\"\",\"\",'TD Siniestros Daños'!F12)","v":35.009975625192922},{"$f":"IF('TD Siniestros Daños'!G12=\"\",\"\",'TD Siniestros Daños'!G12)","v":34.927743366362826},39.853783765339919,null,{"$f":"IF('TD Siniestros Daños'!H12=\"\",\"\",'TD Siniestros Daños'!H12)","v":4521088.8142300006},{"$f":"IF('TD Siniestros Daños'!I12=\"\",\"\",'TD Siniestros Daños'!I12)","v":15.875892819413062},{"$f":"IF('TD Siniestros Daños'!J12=\"\",\"\",'TD Siniestros Daños'!J12)","v":17534103.905539997},{"$f":"IF('TD Siniestros Daños'!K12=\"\",\"\",'TD Siniestros Daños'!K12)","v":105.79258107682863},{"$f":"IF('TD Siniestros Daños'!L12=\"\",\"\",'TD Siniestros Daños'!L12)","v":25.784544443138252},{"$f":"IF('TD Siniestros Daños'!M12=\"\",\"\",'TD Siniestros Daños'!M12)","v":45.792682358125866}]
[null,{"$f":"IF('TD Siniestros Daños'!A13=\"\",\"\",'TD Siniestros Daños'!A13)","v":6},{"$f":"IF('TD Siniestros Daños'!B13=\"\",\"\",'TD Siniestros Daños'!B13)","v":"Chubb Seguros México"},{"$f":"IF('TD Siniestros Daños'!C13=\"\",\"\",'TD Siniestros Daños'!C13)","v":2052224.2878399999},{"$f":"IF('TD Siniestros Daños'!D13=\"\",\"\",'TD Siniestros Daños'!D13)","v":1.4709752827618328},{"$f":"IF('TD Siniestros Daños'!E13=\"\",\"\",'TD Siniestros Daños'!E13)","v":1624.6720800000001},{"$f":"IF('TD Siniestros Daños'!F13=\"\",\"\",'TD Siniestros Daños'!F13)","v":33.410559733255987},{"$f":"IF('TD Siniestros Daños'!G13=\"\",\"\",'TD Siniestros Daños'!G13)","v":35.338113204830385},5.1241658316412719,null,{"$f":"IF('TD Siniestros Daños'!H13=\"\",\"\",'TD Siniestros Daños'!H13)","v":327057.75578999997},{"$f":"IF('TD Siniestros Daños'!I13=\"\",\"\",'TD Siniestros Daños'!I13)","v":3664.1581606391933},{"$f":"IF('TD Siniestros Daños'!J13=\"\",\"\",'TD Siniestros Daños'!J13)","v":1956349.4000200001},{"$f":"IF('TD Siniestros Daños'!K13=\"\",\"\",'TD Siniestros Daños'!K13)","v":32.479495041106674},{"$f":"IF('TD Siniestros Daños'!L13=\"\",\"\",'TD Siniestros Daños'!L13)","v":16.71775787017679},{"$f":"IF('TD Siniestros Daños'!M13=\"\",\"\",'TD Siniestros Daños'!M13)","v":0.58838125985769396}]
[null,{"$f":"IF('TD Siniestros Daños'!A14=\"\",\"\",'TD Siniestros Daños'!A14)","v":7},{"$f":"IF('TD Siniestros Daños'!B14=\"\",\"\",'TD Siniestros Daños'!B14)","v":"Atlas"},{"$f":"IF('TD Siniestros Daños'!C14=\"\",\"\",'TD Siniestros Daños'!C14)","v":2145327.8799100001},{"$f":"IF('TD Siniestros Daños'!D14=\"\",\"\",'TD Siniestros Daños'!D14)","v":12.79461654950742},{"$f":"IF('TD Siniestros Daños'!E14=\"\",\"\",'TD Siniestros Daños'!E14)","v":8446.7888699999985},{"$f":"IF('TD Siniestros Daños'!F14=\"\",\"\",'TD Siniestros Daños'!F14)","v":35.20253960319058},{"$f":"IF('TD Siniestros Daños'!G14=\"\",\"\",'TD Siniestros Daños'!G14)","v":30.06900679186197},5.3566346938972078,null,{"$f":"IF('TD Siniestros Daños'!H14=\"\",\"\",'TD Siniestros Daños'!H14)","v":350369.64214999997},{"$f":"IF('TD Siniestros Daños'!I14=\"\",\"\",'TD Siniestros Daños'!I14)","v":-6.6850757945192356},{"$f":"IF('TD Siniestros Daños'!J14=\"\",\"\",'TD Siniestros Daños'!J14)","v":871743.02801999985},{"$f":"IF('TD Siniestros Daños'!K14=\"\",\"\",'TD Siniestros Daños'!K14)","v":-14.100831157660853},{"$f":"IF('TD Siniestros Daños'!L14=\"\",\"\",'TD Siniestros Daños'!L14)","v":40.191849075730339},{"$f":"IF('TD Siniestros Daños'!M14=\"\",\"\",'TD Siniestros Daños'!M14)","v":36.99779493191933}]
[null,{"$f":"IF('TD Siniestros Daños'!A15=\"\",\"\",'TD Siniestros Daños'!A15)","v":8},{"$f":"IF('TD Siniestros Daños'!B15=\"\",\"\",'TD Siniestros Daños'!B15)","v":"Allianz México"},{"$f":"IF('TD Siniestros Daños'!C15=\"\",\"\",'TD Siniestros Daños'!C15)","v":3051551.6161699994},{"$f":"IF('TD Siniestros Daños'!D15=\"\",\"\",'TD Siniestros Daños'!D15)","v":110.63841548629343},{"$f":"IF('TD Siniestros Daños'!E15=\"\",\"\",'TD Siniestros Daños'!E15)","v":2874.2492599999996},{"$f":"IF('TD Siniestros Daños'!F15=\"\",\"\",'TD Siniestros Daños'!F15)","v":52.748724969652486},{"$f":"IF('TD Siniestros Daños'!G15=\"\",\"\",'TD Siniestros Daños'!G15)","v":29.09235744447561},7.6193701720224025,null,{"$f":"IF('TD Siniestros Daños'!H15=\"\",\"\",'TD Siniestros Daños'!H15)","v":167983.43222999998},{"$f":"IF('TD Siniestros Daños'!I15=\"\",\"\",'TD Siniestros Daños'!I15)","v":-35.642506345148661},{"$f":"IF('TD Siniestros Daños'!J15=\"\",\"\",'TD Siniestros Daños'!J15)","v":486449.48493000004},{"$f":"IF('TD Siniestros Daños'!K15=\"\",\"\",'TD Siniestros Daños'!K15)","v":-13.367096586876226},{"$f":"IF('TD Siniestros Daños'!L15=\"\",\"\",'TD Siniestros Daños'!L15)","v":34.532554239249066},{"$f":"IF('TD Siniestros Daños'!M15=\"\",\"\",'TD Siniestros Daños'!M15)","v":46.484958722313579}]
[null,{"$f":"IF('TD Siniestros Daños'!A16=\"\",\"\",'TD Siniestros Daños'!A16)","v":9},{"$f":"IF('TD Siniestros Daños'!B16=\"\",\"\",'TD Siniestros Daños'!B16)","v":"AIG Seguros"},{"$f":"IF('TD Siniestros Daños'!C16=\"\",\"\",'TD Siniestros Daños'!C16)","v":1258688.8599299998},{"$f":"IF('TD Siniestros Daños'!D16=\"\",\"\",'TD Siniestros Daños'!D16)","v":82.093067098902651},{"$f":"IF('TD Siniestros Daños'!E16=\"\",\"\",'TD Siniestros Daños'!E16)","v":11277.278039999999},{"$f":"IF('TD Siniestros Daños'!F16=\"\",\"\",'TD Siniestros Daños'!F16)","v":22.504553626951392},{"$f":"IF('TD Siniestros Daños'!G16=\"\",\"\",'TD Siniestros Daños'!G16)","v":14.810487733010683},3.1427999789970613,null,{"$f":"IF('TD Siniestros Daños'!H16=\"\",\"\",'TD Siniestros Daños'!H16)","v":229231.31068999998},{"$f":"IF('TD Siniestros Daños'!I16=\"\",\"\",'TD Siniestros Daños'!I16)","v":43.171125010982877},{"$f":"IF('TD Siniestros Daños'!J16=\"\",\"\",'TD Siniestros Daños'!J16)","v":552244.40269999998},{"$f":"IF('TD Siniestros Daños'!K16=\"\",\"\",'TD Siniestros Daños'!K16)","v":-15.319619530737338},{"$f":"IF('TD Siniestros Daños'!L16=\"\",\"\",'TD Siniestros Daños'!L16)","v":41.509032879148457},{"$f":"IF('TD Siniestros Daños'!M16=\"\",\"\",'TD Siniestros Daños'!M16)","v":24.551044750453581}]
[null,{"$f":"IF('TD Siniestros Daños'!A17=\"\",\"\",'TD Siniestros Daños'!A17)","v":10},{"$f":"IF('TD Siniestros Daños'!B17=\"\",\"\",'TD Siniestros Daños'!B17)","v":"G.N.P."},{"$f":"IF('TD Siniestros Daños'!C17=\"\",\"\",'TD Siniestros Daños'!C17)","v":2948656.1970399991},{"$f":"IF('TD Siniestros Daños'!D17=\"\",\"\",'TD Siniestros Daños'!D17)","v":54.453075494983104},{"$f":"IF('TD Siniestros Daños'!E17=\"\",\"\",'TD Siniestros Daños'!E17)","v":0},{"$f":"IF('TD Siniestros Daños'!F17=\"\",\"\",'TD Siniestros Daños'!F17)","v":56.409855802812203},{"$f":"IF('TD Siniestros Daños'!G17=\"\",\"\",'TD Siniestros Daños'!G17)","v":35.376992228259411},7.3624522541990549,null,{"$f":"IF('TD Siniestros Daños'!H17=\"\",\"\",'TD Siniestros Daños'!H17)","v":964625.29393999989},{"$f":"IF('TD Siniestros Daños'!I17=\"\",\"\",'TD Siniestros Daños'!I17)","v":41.68062113286728},{"$f":"IF('TD Siniestros Daños'!J17=\"\",\"\",'TD Siniestros Daños'!J17)","v":1716977.89298},{"$f":"IF('TD Siniestros Daños'!K17=\"\",\"\",'TD Siniestros Daños'!K17)","v":18.208477585324289},{"$f":"IF('TD Siniestros Daños'!L17=\"\",\"\",'TD Siniestros Daños'!L17)","v":56.181579150433258},{"$f":"IF('TD Siniestros Daños'!M17=\"\",\"\",'TD Siniestros Daños'!M17)","v":46.874010620578019}]
[null,{"$f":"IF('TD Siniestros Daños'!A18=\"\",\"\",'TD Siniestros Daños'!A18)","v":11},{"$f":"IF('TD Siniestros Daños'!B18=\"\",\"\",'TD Siniestros Daños'!B18)","v":"BBVA Bancomer"},{"$f":"IF('TD Siniestros Daños'!C18=\"\",\"\",'TD Siniestros Daños'!C18)","v":529734.09739000001},{"$f":"IF('TD Siniestros Daños'!D18=\"\",\"\",'TD Siniestros Daños'!D18)","v":-36.609076458680192},{"$f":"IF('TD Siniestros Daños'!E18=\"\",\"\",'TD Siniestros Daños'!E18)","v":0},{"$f":"IF('TD Siniestros Daños'!F18=\"\",\"\",'TD Siniestros Daños'!F18)","v":11.929647280591917},{"$f":"IF('TD Siniestros Daños'!G18=\"\",\"\",'TD Siniestros Daños'!G18)","v":24.045925873868715},1.3226845514815373,null,{"$f":"IF('TD Siniestros Daños'!H18=\"\",\"\",'TD Siniestros Daños'!H18)","v":481338.13504999992},{"$f":"IF('TD Siniestros Daños'!I18=\"\",\"\",'TD Siniestros Daños'!I18)","v":-40.049441003312594},{"$f":"IF('TD Siniestros Daños'!J18=\"\",\"\",'TD Siniestros Daños'!J18)","v":3916324.2358300001},{"$f":"IF('TD Siniestros Daños'!K18=\"\",\"\",'TD Siniestros Daños'!K18)","v":28.616293976498831},{"$f":"IF('TD Siniestros Daños'!L18=\"\",\"\",'TD Siniestros Daños'!L18)","v":12.290558852259798},{"$f":"IF('TD Siniestros Daños'!M18=\"\",\"\",'TD Siniestros Daños'!M18)","v":26.367829707226786}]
[null,{"$f":"IF('TD Siniestros Daños'!A19=\"\",\"\",'TD Siniestros Daños'!A19)","v":12},{"$f":"IF('TD Siniestros Daños'!B19=\"\",\"\",'TD Siniestros Daños'!B19)","v":"Banorte"},{"$f":"IF('TD Siniestros Daños'!C19=\"\",\"\",'TD Siniestros Daños'!C19)","v":620231.05617},{"$f":"IF('TD Siniestros Daños'!D19=\"\",\"\",'TD Siniestros Daños'!D19)","v":-8.9575132283983621},{"$f":"IF('TD Siniestros Daños'!E19=\"\",\"\",'TD Siniestros Daños'!E19)","v":0},{"$f":"IF('TD Siniestros Daños'!F19=\"\",\"\",'TD Siniestros Daños'!F19)","v":14.811913011890995},{"$f":"IF('TD Siniestros Daños'!G19=\"\",\"\",'TD Siniestros Daños'!G19)","v":16.177185905213161},1.5486449529813164,null,{"$f":"IF('TD Siniestros Daños'!H19=\"\",\"\",'TD Siniestros Daños'!H19)","v":439760.76316999999},{"$f":"IF('TD Siniestros Daños'!I19=\"\",\"\",'TD Siniestros Daños'!I19)","v":41.168550909597371},{"$f":"IF('TD Siniestros Daños'!J19=\"\",\"\",'TD Siniestros Daños'!J19)","v":1909209.7738200002},{"$f":"IF('TD Siniestros Daños'!K19=\"\",\"\",'TD Siniestros Daños'!K19)","v":8.8726850823709125},{"$f":"IF('TD Siniestros Daños'!L19=\"\",\"\",'TD Siniestros Daños'!L19)","v":23.033653462296833},{"$f":"IF('TD Siniestros Daños'!M19=\"\",\"\",'TD Siniestros Daños'!M19)","v":17.764124399796589}]
[null,{"$f":"IF('TD Siniestros Daños'!A20=\"\",\"\",'TD Siniestros Daños'!A20)","v":13},{"$f":"IF('TD Siniestros Daños'!B20=\"\",\"\",'TD Siniestros Daños'!B20)","v":"FM Global"},{"$f":"IF('TD Siniestros Daños'!C20=\"\",\"\",'TD Siniestros Daños'!C20)","v":264444.23681999999},{"$f":"IF('TD Siniestros Daños'!D20=\"\",\"\",'TD Siniestros Daños'!D20)","v":19.518461401744247},{"$f":"IF('TD Siniestros Daños'!E20=\"\",\"\",'TD Siniestros Daños'!E20)","v":0},{"$f":"IF('TD Siniestros Daños'!F20=\"\",\"\",'TD Siniestros Daños'!F20)","v":7.5039227510194024},{"$f":"IF('TD Siniestros Daños'!G20=\"\",\"\",'TD Siniestros Daños'!G20)","v":7.0138135977470286},0.66028656356743332,null,{"$f":"IF('TD Siniestros Daños'!H20=\"\",\"\",'TD Siniestros Daños'!H20)","v":12407.304610000001},{"$f":"IF('TD Siniestros Daños'!I20=\"\",\"\",'TD Siniestros Daños'!I20)","v":429.49318175732986},{"$f":"IF('TD Siniestros Daños'!J20=\"\",\"\",'TD Siniestros Daños'!J20)","v":8175.2947000000004},{"$f":"IF('TD Siniestros Daños'!K20=\"\",\"\",'TD Siniestros Daños'!K20)","v":-193.84924820858032},{"$f":"IF('TD Siniestros Daños'!L20=\"\",\"\",'TD Siniestros Daños'!L20)","v":151.76583921800398},{"$f":"IF('TD Siniestros Daños'!M20=\"\",\"\",'TD Siniestros Daños'!M20)","v":-26.899515244148425}]
[null,{"$f":"IF('TD Siniestros Daños'!A21=\"\",\"\",'TD Siniestros Daños'!A21)","v":14},{"$f":"IF('TD Siniestros Daños'!B21=\"\",\"\",'TD Siniestros Daños'!B21)","v":"Zurich Santander"},{"$f":"IF('TD Siniestros Daños'!C21=\"\",\"\",'TD Siniestros Daños'!C21)","v":289082.07816999999},{"$f":"IF('TD Siniestros Daños'!D21=\"\",\"\",'TD Siniestros Daños'!D21)","v":26.668134334683646},{"$f":"IF('TD Siniestros Daños'!E21=\"\",\"\",'TD Siniestros Daños'!E21)","v":0},{"$f":"IF('TD Siniestros Daños'!F21=\"\",\"\",'TD Siniestros Daños'!F21)","v":8.4020055156064952},{"$f":"IF('TD Siniestros Daños'!G21=\"\",\"\",'TD Siniestros Daños'!G21)","v":7.7509254857662357},0.72180439354299952,null,{"$f":"IF('TD Siniestros Daños'!H21=\"\",\"\",'TD Siniestros Daños'!H21)","v":273013.18395999999},{"$f":"IF('TD Siniestros Daños'!I21=\"\",\"\",'TD Siniestros Daños'!I21)","v":45.37021808797477},{"$f":"IF('TD Siniestros Daños'!J21=\"\",\"\",'TD Siniestros Daños'!J21)","v":2637962.30914},{"$f":"IF('TD Siniestros Daños'!K21=\"\",\"\",'TD Siniestros Daños'!K21)","v":13.563334548654549},{"$f":"IF('TD Siniestros Daños'!L21=\"\",\"\",'TD Siniestros Daños'!L21)","v":10.349396692062852},{"$f":"IF('TD Siniestros Daños'!M21=\"\",\"\",'TD Siniestros Daños'!M21)","v":8.0849572517405193}]
[null,{"$f":"IF('TD Siniestros Daños'!A22=\"\",\"\",'TD Siniestros Daños'!A22)","v":15},{"$f":"IF('TD Siniestros Daños'!B22=\"\",\"\",'TD Siniestros Daños'!B22)","v":"Seguros SURA"},{"$f":"IF('TD Siniestros Daños'!C22=\"\",\"\",'TD Siniestros Daños'!C22)","v":1410481.0415100004},{"$f":"IF('TD Siniestros Daños'!D22=\"\",\"\",'TD Siniestros Daños'!D22)","v":13.532830783316886},{"$f":"IF('TD Siniestros Daños'!E22=\"\",\"\",'TD Siniestros Daños'!E22)","v":2777.9345399999997},{"$f":"IF('TD Siniestros Daños'!F22=\"\",\"\",'TD Siniestros Daños'!F22)","v":43.617296071708637},{"$f":"IF('TD Siniestros Daños'!G22=\"\",\"\",'TD Siniestros Daños'!G22)","v":42.880936144990841},3.5218074368910437,null,{"$f":"IF('TD Siniestros Daños'!H22=\"\",\"\",'TD Siniestros Daños'!H22)","v":660605.19282999996},{"$f":"IF('TD Siniestros Daños'!I22=\"\",\"\",'TD Siniestros Daños'!I22)","v":33.655825442656415},{"$f":"IF('TD Siniestros Daños'!J22=\"\",\"\",'TD Siniestros Daños'!J22)","v":2037893.5476199999},{"$f":"IF('TD Siniestros Daños'!K22=\"\",\"\",'TD Siniestros Daños'!K22)","v":31.156971647928899},{"$f":"IF('TD Siniestros Daños'!L22=\"\",\"\",'TD Siniestros Daños'!L22)","v":32.416079515120046},{"$f":"IF('TD Siniestros Daños'!M22=\"\",\"\",'TD Siniestros Daños'!M22)","v":31.810022554727404}]
[null,{"$f":"IF('TD Siniestros Daños'!A23=\"\",\"\",'TD Siniestros Daños'!A23)","v":15.1},{"$f":"IF('TD Siniestros Daños'!B23=\"\",\"\",'TD Siniestros Daños'!B23)","v":"TOTAL MEDIANAS"},{"$f":"IF('TD Siniestros Daños'!C23=\"\",\"\",'TD Siniestros Daños'!C23)","v":14570421.350949997},{"$f":"IF('TD Siniestros Daños'!D23=\"\",\"\",'TD Siniestros Daños'!D23)","v":30.299593508954302},{"$f":"IF('TD Siniestros Daños'!E23=\"\",\"\",'TD Siniestros Daños'!E23)","v":27000.922789999993},{"$f":"IF('TD Siniestros Daños'!F23=\"\",\"\",'TD Siniestros Daños'!F23)","v":30.566245741407215},{"$f":"IF('TD Siniestros Daños'!G23=\"\",\"\",'TD Siniestros Daños'!G23)","v":25.545028209017644},36.380650829221324,null,{"$f":"IF('TD Siniestros Daños'!H23=\"\",\"\",'TD Siniestros Daños'!H23)","v":3906392.0144199999},{"$f":"IF('TD Siniestros Daños'!I23=\"\",\"\",'TD Siniestros Daños'!I23)","v":18.918088116083975},{"$f":"IF('TD Siniestros Daños'!J23=\"\",\"\",'TD Siniestros Daños'!J23)","v":16093329.369760003},{"$f":"IF('TD Siniestros Daños'!K23=\"\",\"\",'TD Siniestros Daños'!K23)","v":16.413541497769057},{"$f":"IF('TD Siniestros Daños'!L23=\"\",\"\",'TD Siniestros Daños'!L23)","v":24.273361494485187},{"$f":"IF('TD Siniestros Daños'!M23=\"\",\"\",'TD Siniestros Daños'!M23)","v":23.762137622580994}]
[null,{"$f":"IF('TD Siniestros Daños'!A24=\"\",\"\",'TD Siniestros Daños'!A24)","v":16},{"$f":"IF('TD Siniestros Daños'!B24=\"\",\"\",'TD Siniestros Daños'!B24)","v":"Afirme"},{"$f":"IF('TD Siniestros Daños'!C24=\"\",\"\",'TD Siniestros Daños'!C24)","v":1908601.2289700001},{"$f":"IF('TD Siniestros Daños'!D24=\"\",\"\",'TD Siniestros Daños'!D24)","v":-8.9689746963743762},{"$f":"IF('TD Siniestros Daños'!E24=\"\",\"\",'TD Siniestros Daños'!E24)","v":0},{"$f":"IF('TD Siniestros Daños'!F24=\"\",\"\",'TD Siniestros Daños'!F24)","v":62.581515941788105},{"$f":"IF('TD Siniestros Daños'!G24=\"\",\"\",'TD Siniestros Daños'!G24)","v":42.423656463157265},4.7655557249106595,null,{"$f":"IF('TD Siniestros Daños'!H24=\"\",\"\",'TD Siniestros Daños'!H24)","v":399299.23251999996},{"$f":"IF('TD Siniestros Daños'!I24=\"\",\"\",'TD Siniestros Daños'!I24)","v":7.0399835005480194},{"$f":"IF('TD Siniestros Daños'!J24=\"\",\"\",'TD Siniestros Daños'!J24)","v":745476.87584999995},{"$f":"IF('TD Siniestros Daños'!K24=\"\",\"\",'TD Siniestros Daños'!K24)","v":-22.240145127494092},{"$f":"IF('TD Siniestros Daños'!L24=\"\",\"\",'TD Siniestros Daños'!L24)","v":53.56292669235583},{"$f":"IF('TD Siniestros Daños'!M24=\"\",\"\",'TD Siniestros Daños'!M24)","v":38.911117789203864}]
[null,{"$f":"IF('TD Siniestros Daños'!A25=\"\",\"\",'TD Siniestros Daños'!A25)","v":17},{"$f":"IF('TD Siniestros Daños'!B25=\"\",\"\",'TD Siniestros Daños'!B25)","v":"Seguros Azteca Daños"},{"$f":"IF('TD Siniestros Daños'!C25=\"\",\"\",'TD Siniestros Daños'!C25)","v":869467.74249000009},{"$f":"IF('TD Siniestros Daños'!D25=\"\",\"\",'TD Siniestros Daños'!D25)","v":33.619899273379602},{"$f":"IF('TD Siniestros Daños'!E25=\"\",\"\",'TD Siniestros Daños'!E25)","v":31342.309350000003},{"$f":"IF('TD Siniestros Daños'!F25=\"\",\"\",'TD Siniestros Daños'!F25)","v":31.162513543055287},{"$f":"IF('TD Siniestros Daños'!G25=\"\",\"\",'TD Siniestros Daños'!G25)","v":43.637377159031203},2.1709600281900983,null,{"$f":"IF('TD Siniestros Daños'!H25=\"\",\"\",'TD Siniestros Daños'!H25)","v":31353.458060000001},{"$f":"IF('TD Siniestros Daños'!I25=\"\",\"\",'TD Siniestros Daños'!I25)","v":-29.180103038822246},{"$f":"IF('TD Siniestros Daños'!J25=\"\",\"\",'TD Siniestros Daños'!J25)","v":95589.989580000009},{"$f":"IF('TD Siniestros Daños'!K25=\"\",\"\",'TD Siniestros Daños'!K25)","v":-25.858013836178696},{"$f":"IF('TD Siniestros Daños'!L25=\"\",\"\",'TD Siniestros Daños'!L25)","v":32.799938777857122},{"$f":"IF('TD Siniestros Daños'!M25=\"\",\"\",'TD Siniestros Daños'!M25)","v":34.338550483562102}]
[null,{"$f":"IF('TD Siniestros Daños'!A26=\"\",\"\",'TD Siniestros Daños'!A26)","v":18},{"$f":"IF('TD Siniestros Daños'!B26=\"\",\"\",'TD Siniestros Daños'!B26)","v":"Zurich Aseguradora Mexicana"},{"$f":"IF('TD Siniestros Daños'!C26=\"\",\"\",'TD Siniestros Daños'!C26)","v":2546791.32565},{"$f":"IF('TD Siniestros Daños'!D26=\"\",\"\",'TD Siniestros Daños'!D26)","v":-8782.1431738401025},{"$f":"IF('TD Siniestros Daños'!E26=\"\",\"\",'TD Siniestros Daños'!E26)","v":776.72173999999995},{"$f":"IF('TD Siniestros Daños'!F26=\"\",\"\",'TD Siniestros Daños'!F26)","v":104.56048757693557},{"$f":"IF('TD Siniestros Daños'!G26=\"\",\"\",'TD Siniestros Daños'!G26)","v":-1362.0408837865775},6.3590423174221575,null,{"$f":"IF('TD Siniestros Daños'!H26=\"\",\"\",'TD Siniestros Daños'!H26)","v":480601.47296999994},{"$f":"IF('TD Siniestros Daños'!I26=\"\",\"\",'TD Siniestros Daños'!I26)","v":-1890.3346046183738},{"$f":"IF('TD Siniestros Daños'!J26=\"\",\"\",'TD Siniestros Daños'!J26)","v":908380.51935000019},{"$f":"IF('TD Siniestros Daños'!K26=\"\",\"\",'TD Siniestros Daños'!K26)","v":34327.123090489222},{"$f":"IF('TD Siniestros Daños'!L26=\"\",\"\",'TD Siniestros Daños'!L26)","v":52.907505470713822},{"$f":"IF('TD Siniestros Daños'!M26=\"\",\"\",'TD Siniestros Daños'!M26)","v":-1017.3814428612108}]
[null,{"$f":"IF('TD Siniestros Daños'!A27=\"\",\"\",'TD Siniestros Daños'!A27)","v":19},{"$f":"IF('TD Siniestros Daños'!B27=\"\",\"\",'TD Siniestros Daños'!B27)","v":"HDI Seguros"},{"$f":"IF('TD Siniestros Daños'!C27=\"\",\"\",'TD Siniestros Daños'!C27)","v":989737.95117000013},{"$f":"IF('TD Siniestros Daños'!D27=\"\",\"\",'TD Siniestros Daños'!D27)","v":2.8368693732316874},{"$f":"IF('TD Siniestros Daños'!E27=\"\",\"\",'TD Siniestros Daños'!E27)","v":0},{"$f":"IF('TD Siniestros Daños'!F27=\"\",\"\",'TD Siniestros Daños'!F27)","v":49.208723123358688},{"$f":"IF('TD Siniestros Daños'!G27=\"\",\"\",'TD Siniestros Daños'!G27)","v":51.26118219311779},2.4712607787143361,null,{"$f":"IF('TD Siniestros Daños'!H27=\"\",\"\",'TD Siniestros Daños'!H27)","v":800076.80880999996},{"$f":"IF('TD Siniestros Daños'!I27=\"\",\"\",'TD Siniestros Daños'!I27)","v":19.502071060651804},{"$f":"IF('TD Siniestros Daños'!J27=\"\",\"\",'TD Siniestros Daños'!J27)","v":1751050.3745599999},{"$f":"IF('TD Siniestros Daños'!K27=\"\",\"\",'TD Siniestros Daños'!K27)","v":31.573360294984433},{"$f":"IF('TD Siniestros Daños'!L27=\"\",\"\",'TD Siniestros Daños'!L27)","v":45.691250259493046},{"$f":"IF('TD Siniestros Daños'!M27=\"\",\"\",'TD Siniestros Daños'!M27)","v":50.306670665727538}]
[null,{"$f":"IF('TD Siniestros Daños'!A28=\"\",\"\",'TD Siniestros Daños'!A28)","v":20},{"$f":"IF('TD Siniestros Daños'!B28=\"\",\"\",'TD Siniestros Daños'!B28)","v":"Tokio Marine"},{"$f":"IF('TD Siniestros Daños'!C28=\"\",\"\",'TD Siniestros Daños'!C28)","v":555667.66243000003},{"$f":"IF('TD Siniestros Daños'!D28=\"\",\"\",'TD Siniestros Daños'!D28)","v":-17.924130041376518},{"$f":"IF('TD Siniestros Daños'!E28=\"\",\"\",'TD Siniestros Daños'!E28)","v":-714.63794999999993},{"$f":"IF('TD Siniestros Daños'!F28=\"\",\"\",'TD Siniestros Daños'!F28)","v":42.85916818600262},{"$f":"IF('TD Siniestros Daños'!G28=\"\",\"\",'TD Siniestros Daños'!G28)","v":52.433377036060747},1.3874376531079105,null,{"$f":"IF('TD Siniestros Daños'!H28=\"\",\"\",'TD Siniestros Daños'!H28)","v":95857.686839999995},{"$f":"IF('TD Siniestros Daños'!I28=\"\",\"\",'TD Siniestros Daños'!I28)","v":51.92807840935825},{"$f":"IF('TD Siniestros Daños'!J28=\"\",\"\",'TD Siniestros Daños'!J28)","v":145766.39387999999},{"$f":"IF('TD Siniestros Daños'!K28=\"\",\"\",'TD Siniestros Daños'!K28)","v":-2.2288664434103933},{"$f":"IF('TD Siniestros Daños'!L28=\"\",\"\",'TD Siniestros Daños'!L28)","v":65.761170519806782},{"$f":"IF('TD Siniestros Daños'!M28=\"\",\"\",'TD Siniestros Daños'!M28)","v":42.319657123588392}]
[null,{"$f":"IF('TD Siniestros Daños'!A29=\"\",\"\",'TD Siniestros Daños'!A29)","v":21},{"$f":"IF('TD Siniestros Daños'!B29=\"\",\"\",'TD Siniestros Daños'!B29)","v":"HDI Global Seguros"},{"$f":"IF('TD Siniestros Daños'!C29=\"\",\"\",'TD Siniestros Daños'!C29)","v":389690.04205000005},{"$f":"IF('TD Siniestros Daños'!D29=\"\",\"\",'TD Siniestros Daños'!D29)","v":59.261423990478932},{"$f":"IF('TD Siniestros Daños'!E29=\"\",\"\",'TD Siniestros Daños'!E29)","v":0},{"$f":"IF('TD Siniestros Daños'!F29=\"\",\"\",'TD Siniestros Daños'!F29)","v":34.583189664004699},{"$f":"IF('TD Siniestros Daños'!G29=\"\",\"\",'TD Siniestros Daños'!G29)","v":23.451065321980899},0.97301080112698801,null,{"$f":"IF('TD Siniestros Daños'!H29=\"\",\"\",'TD Siniestros Daños'!H29)","v":1590.9799800000003},{"$f":"IF('TD Siniestros Daños'!I29=\"\",\"\",'TD Siniestros Daños'!I29)","v":-120.94720961053112},{"$f":"IF('TD Siniestros Daños'!J29=\"\",\"\",'TD Siniestros Daños'!J29)","v":-5477.8924600000009},{"$f":"IF('TD Siniestros Daños'!K29=\"\",\"\",'TD Siniestros Daños'!K29)","v":231.3324861628017},{"$f":"IF('TD Siniestros Daños'!L29=\"\",\"\",'TD Siniestros Daños'!L29)","v":-29.043651214722825},{"$f":"IF('TD Siniestros Daños'!M29=\"\",\"\",'TD Siniestros Daños'!M29)","v":459.39795052136265}]
[null,{"$f":"IF('TD Siniestros Daños'!A30=\"\",\"\",'TD Siniestros Daños'!A30)","v":22},{"$f":"IF('TD Siniestros Daños'!B30=\"\",\"\",'TD Siniestros Daños'!B30)","v":"Cardif Seguros Generales"},{"$f":"IF('TD Siniestros Daños'!C30=\"\",\"\",'TD Siniestros Daños'!C30)","v":103678.00115999999},{"$f":"IF('TD Siniestros Daños'!D30=\"\",\"\",'TD Siniestros Daños'!D30)","v":-28.316699010042477},{"$f":"IF('TD Siniestros Daños'!E30=\"\",\"\",'TD Siniestros Daños'!E30)","v":0},{"$f":"IF('TD Siniestros Daños'!F30=\"\",\"\",'TD Siniestros Daños'!F30)","v":9.9287620135294841},{"$f":"IF('TD Siniestros Daños'!G30=\"\",\"\",'TD Siniestros Daños'!G30)","v":14.757278485867456},0.25887193431284233,null,{"$f":"IF('TD Siniestros Daños'!H30=\"\",\"\",'TD Siniestros Daños'!H30)","v":158746.95491999999},{"$f":"IF('TD Siniestros Daños'!I30=\"\",\"\",'TD Siniestros Daños'!I30)","v":-23.31672350527748},{"$f":"IF('TD Siniestros Daños'!J30=\"\",\"\",'TD Siniestros Daños'!J30)","v":1115634.5454899997},{"$f":"IF('TD Siniestros Daños'!K30=\"\",\"\",'TD Siniestros Daños'!K30)","v":26.9887440594919},{"$f":"IF('TD Siniestros Daños'!L30=\"\",\"\",'TD Siniestros Daños'!L30)","v":14.229297179953896},{"$f":"IF('TD Siniestros Daños'!M30=\"\",\"\",'TD Siniestros Daños'!M30)","v":23.563945886636358}]
[null,{"$f":"IF('TD Siniestros Daños'!A31=\"\",\"\",'TD Siniestros Daños'!A31)","v":23},{"$f":"IF('TD Siniestros Daños'!B31=\"\",\"\",'TD Siniestros Daños'!B31)","v":"Atradius"},{"$f":"IF('TD Siniestros Daños'!C31=\"\",\"\",'TD Siniestros Daños'!C31)","v":181850.31085000001},{"$f":"IF('TD Siniestros Daños'!D31=\"\",\"\",'TD Siniestros Daños'!D31)","v":1476.5614788062094},{"$f":"IF('TD Siniestros Daños'!E31=\"\",\"\",'TD Siniestros Daños'!E31)","v":19191.945},{"$f":"IF('TD Siniestros Daños'!F31=\"\",\"\",'TD Siniestros Daños'!F31)","v":22.486218388567824},{"$f":"IF('TD Siniestros Daños'!G31=\"\",\"\",'TD Siniestros Daños'!G31)","v":1.8549142101333409},0.45405911763751799,null,{"$f":"IF('TD Siniestros Daños'!H31=\"\",\"\",'TD Siniestros Daños'!H31)","v":67491.691160000002},{"$f":"IF('TD Siniestros Daños'!I31=\"\",\"\",'TD Siniestros Daños'!I31)","v":1169.6359146781949},{"$f":"IF('TD Siniestros Daños'!J31=\"\",\"\",'TD Siniestros Daños'!J31)","v":231698.53830000001},{"$f":"IF('TD Siniestros Daños'!K31=\"\",\"\",'TD Siniestros Daños'!K31)","v":41.583218395220165},{"$f":"IF('TD Siniestros Daños'!L31=\"\",\"\",'TD Siniestros Daños'!L31)","v":29.129096650844083},{"$f":"IF('TD Siniestros Daños'!M31=\"\",\"\",'TD Siniestros Daños'!M31)","v":3.2483259217011535}]
[null,{"$f":"IF('TD Siniestros Daños'!A32=\"\",\"\",'TD Siniestros Daños'!A32)","v":24},{"$f":"IF('TD Siniestros Daños'!B32=\"\",\"\",'TD Siniestros Daños'!B32)","v":"General de Seguros"},{"$f":"IF('TD Siniestros Daños'!C32=\"\",\"\",'TD Siniestros Daños'!C32)","v":328978.66015000001},{"$f":"IF('TD Siniestros Daños'!D32=\"\",\"\",'TD Siniestros Daños'!D32)","v":32.064692767828952},{"$f":"IF('TD Siniestros Daños'!E32=\"\",\"\",'TD Siniestros Daños'!E32)","v":17500},{"$f":"IF('TD Siniestros Daños'!F32=\"\",\"\",'TD Siniestros Daños'!F32)","v":44.412797201713701},{"$f":"IF('TD Siniestros Daños'!G32=\"\",\"\",'TD Siniestros Daños'!G32)","v":40.327114778972955},0.82142152768985444,null,{"$f":"IF('TD Siniestros Daños'!H32=\"\",\"\",'TD Siniestros Daños'!H32)","v":132374.12755},{"$f":"IF('TD Siniestros Daños'!I32=\"\",\"\",'TD Siniestros Daños'!I32)","v":12.57619140409898},{"$f":"IF('TD Siniestros Daños'!J32=\"\",\"\",'TD Siniestros Daños'!J32)","v":234437.67410999999},{"$f":"IF('TD Siniestros Daños'!K32=\"\",\"\",'TD Siniestros Daños'!K32)","v":16.762235856324438},{"$f":"IF('TD Siniestros Daños'!L32=\"\",\"\",'TD Siniestros Daños'!L32)","v":56.464528601272946},{"$f":"IF('TD Siniestros Daños'!M32=\"\",\"\",'TD Siniestros Daños'!M32)","v":58.564111326100132}]
[null,{"$f":"IF('TD Siniestros Daños'!A33=\"\",\"\",'TD Siniestros Daños'!A33)","v":25},{"$f":"IF('TD Siniestros Daños'!B33=\"\",\"\",'TD Siniestros Daños'!B33)","v":"El Águila"},{"$f":"IF('TD Siniestros Daños'!C33=\"\",\"\",'TD Siniestros Daños'!C33)","v":222423.72371000005},{"$f":"IF('TD Siniestros Daños'!D33=\"\",\"\",'TD Siniestros Daños'!D33)","v":-30.812384842444484},{"$f":"IF('TD Siniestros Daños'!E33=\"\",\"\",'TD Siniestros Daños'!E33)","v":0},{"$f":"IF('TD Siniestros Daños'!F33=\"\",\"\",'TD Siniestros Daños'!F33)","v":30.976833033867212},{"$f":"IF('TD Siniestros Daños'!G33=\"\",\"\",'TD Siniestros Daños'!G33)","v":52.193631964602247},0.55536621992754598,null,{"$f":"IF('TD Siniestros Daños'!H33=\"\",\"\",'TD Siniestros Daños'!H33)","v":105290.79363},{"$f":"IF('TD Siniestros Daños'!I33=\"\",\"\",'TD Siniestros Daños'!I33)","v":27.31501707080848},{"$f":"IF('TD Siniestros Daños'!J33=\"\",\"\",'TD Siniestros Daños'!J33)","v":352181.51420999999},{"$f":"IF('TD Siniestros Daños'!K33=\"\",\"\",'TD Siniestros Daños'!K33)","v":16.676076475467937},{"$f":"IF('TD Siniestros Daños'!L33=\"\",\"\",'TD Siniestros Daños'!L33)","v":29.89674056748386},{"$f":"IF('TD Siniestros Daños'!M33=\"\",\"\",'TD Siniestros Daños'!M33)","v":27.398452037114591}]
[null,{"$f":"IF('TD Siniestros Daños'!A34=\"\",\"\",'TD Siniestros Daños'!A34)","v":26},{"$f":"IF('TD Siniestros Daños'!B34=\"\",\"\",'TD Siniestros Daños'!B34)","v":"Sompo Japan"},{"$f":"IF('TD Siniestros Daños'!C34=\"\",\"\",'TD Siniestros Daños'!C34)","v":28224.795059999993},{"$f":"IF('TD Siniestros Daños'!D34=\"\",\"\",'TD Siniestros Daños'!D34)","v":-87.341232468206243},{"$f":"IF('TD Siniestros Daños'!E34=\"\",\"\",'TD Siniestros Daños'!E34)","v":9.4211000000000009},{"$f":"IF('TD Siniestros Daños'!F34=\"\",\"\",'TD Siniestros Daños'!F34)","v":4.0327670358590817},{"$f":"IF('TD Siniestros Daños'!G34=\"\",\"\",'TD Siniestros Daños'!G34)","v":36.801011079914112},7.0474037028259343E-2,null,{"$f":"IF('TD Siniestros Daños'!H34=\"\",\"\",'TD Siniestros Daños'!H34)","v":-8453.0425300000006},{"$f":"IF('TD Siniestros Daños'!I34=\"\",\"\",'TD Siniestros Daños'!I34)","v":-146.03281941406163},{"$f":"IF('TD Siniestros Daños'!J34=\"\",\"\",'TD Siniestros Daños'!J34)","v":145454.53146999999},{"$f":"IF('TD Siniestros Daños'!K34=\"\",\"\",'TD Siniestros Daños'!K34)","v":22.591490208800913},{"$f":"IF('TD Siniestros Daños'!L34=\"\",\"\",'TD Siniestros Daños'!L34)","v":-5.8114672981112596},{"$f":"IF('TD Siniestros Daños'!M34=\"\",\"\",'TD Siniestros Daños'!M34)","v":15.476706520338517}]
[null,{"$f":"IF('TD Siniestros Daños'!A35=\"\",\"\",'TD Siniestros Daños'!A35)","v":27},{"$f":"IF('TD Siniestros Daños'!B35=\"\",\"\",'TD Siniestros Daños'!B35)","v":"El Potosí"},{"$f":"IF('TD Siniestros Daños'!C35=\"\",\"\",'TD Siniestros Daños'!C35)","v":388984.26897999999},{"$f":"IF('TD Siniestros Daños'!D35=\"\",\"\",'TD Siniestros Daños'!D35)","v":97.49156418365466},{"$f":"IF('TD Siniestros Daños'!E35=\"\",\"\",'TD Siniestros Daños'!E35)","v":0},{"$f":"IF('TD Siniestros Daños'!F35=\"\",\"\",'TD Siniestros Daños'!F35)","v":57.315768931213803},{"$f":"IF('TD Siniestros Daños'!G35=\"\",\"\",'TD Siniestros Daños'!G35)","v":30.570567520578134},0.97124856769489398,null,{"$f":"IF('TD Siniestros Daños'!H35=\"\",\"\",'TD Siniestros Daños'!H35)","v":166305.08913000001},{"$f":"IF('TD Siniestros Daños'!I35=\"\",\"\",'TD Siniestros Daños'!I35)","v":73.285641494411479},{"$f":"IF('TD Siniestros Daños'!J35=\"\",\"\",'TD Siniestros Daños'!J35)","v":258968.43809000004},{"$f":"IF('TD Siniestros Daños'!K35=\"\",\"\",'TD Siniestros Daños'!K35)","v":32.269857297817751},{"$f":"IF('TD Siniestros Daños'!L35=\"\",\"\",'TD Siniestros Daños'!L35)","v":64.218284805889553},{"$f":"IF('TD Siniestros Daños'!M35=\"\",\"\",'TD Siniestros Daños'!M35)","v":49.018160384970891}]
[null,{"$f":"IF('TD Siniestros Daños'!A36=\"\",\"\",'TD Siniestros Daños'!A36)","v":28},{"$f":"IF('TD Siniestros Daños'!B36=\"\",\"\",'TD Siniestros Daños'!B36)","v":"Solunion Crédito"},{"$f":"IF('TD Siniestros Daños'!C36=\"\",\"\",'TD Siniestros Daños'!C36)","v":142452.92807000002},{"$f":"IF('TD Siniestros Daños'!D36=\"\",\"\",'TD Siniestros Daños'!D36)","v":-38.974430745315438},{"$f":"IF('TD Siniestros Daños'!E36=\"\",\"\",'TD Siniestros Daños'!E36)","v":733.84481999999991},{"$f":"IF('TD Siniestros Daños'!F36=\"\",\"\",'TD Siniestros Daños'!F36)","v":21.104123773858745},{"$f":"IF('TD Siniestros Daños'!G36=\"\",\"\",'TD Siniestros Daños'!G36)","v":43.303701113148939},0.35568842594774713,null,{"$f":"IF('TD Siniestros Daños'!H36=\"\",\"\",'TD Siniestros Daños'!H36)","v":15347.580039999999},{"$f":"IF('TD Siniestros Daños'!I36=\"\",\"\",'TD Siniestros Daños'!I36)","v":-39.600181679187308},{"$f":"IF('TD Siniestros Daños'!J36=\"\",\"\",'TD Siniestros Daños'!J36)","v":28981.643649999998},{"$f":"IF('TD Siniestros Daños'!K36=\"\",\"\",'TD Siniestros Daños'!K36)","v":-0.39154563869258086},{"$f":"IF('TD Siniestros Daños'!L36=\"\",\"\",'TD Siniestros Daños'!L36)","v":52.956209887012392},{"$f":"IF('TD Siniestros Daños'!M36=\"\",\"\",'TD Siniestros Daños'!M36)","v":87.332815931015148}]
[null,{"$f":"IF('TD Siniestros Daños'!A37=\"\",\"\",'TD Siniestros Daños'!A37)","v":29},{"$f":"IF('TD Siniestros Daños'!B37=\"\",\"\",'TD Siniestros Daños'!B37)","v":"Swiss Re Corporate Solutions"},{"$f":"IF('TD Siniestros Daños'!C37=\"\",\"\",'TD Siniestros Daños'!C37)","v":34790.268200000006},{"$f":"IF('TD Siniestros Daños'!D37=\"\",\"\",'TD Siniestros Daños'!D37)","v":-248.24333382883469},{"$f":"IF('TD Siniestros Daños'!E37=\"\",\"\",'TD Siniestros Daños'!E37)","v":-293.24920000000009},{"$f":"IF('TD Siniestros Daños'!F37=\"\",\"\",'TD Siniestros Daños'!F37)","v":5.1715886083797686},{"$f":"IF('TD Siniestros Daños'!G37=\"\",\"\",'TD Siniestros Daños'!G37)","v":-7.3915201497928278},8.6867261361431997E-2,null,{"$f":"IF('TD Siniestros Daños'!H37=\"\",\"\",'TD Siniestros Daños'!H37)","v":6155.6331999999993},{"$f":"IF('TD Siniestros Daños'!I37=\"\",\"\",'TD Siniestros Daños'!I37)","v":260.18624868560164},{"$f":"IF('TD Siniestros Daños'!J37=\"\",\"\",'TD Siniestros Daños'!J37)","v":-9218.0895},{"$f":"IF('TD Siniestros Daños'!K37=\"\",\"\",'TD Siniestros Daños'!K37)","v":-1751.6604966511736},{"$f":"IF('TD Siniestros Daños'!L37=\"\",\"\",'TD Siniestros Daños'!L37)","v":-66.777754761439439},{"$f":"IF('TD Siniestros Daños'!M37=\"\",\"\",'TD Siniestros Daños'!M37)","v":306.21429884404779}]
[null,{"$f":"IF('TD Siniestros Daños'!A38=\"\",\"\",'TD Siniestros Daños'!A38)","v":30},{"$f":"IF('TD Siniestros Daños'!B38=\"\",\"\",'TD Siniestros Daños'!B38)","v":"Berkley Seguros"},{"$f":"IF('TD Siniestros Daños'!C38=\"\",\"\",'TD Siniestros Daños'!C38)","v":412985.07957999996},{"$f":"IF('TD Siniestros Daños'!D38=\"\",\"\",'TD Siniestros Daños'!D38)","v":146.53625746875224},{"$f":"IF('TD Siniestros Daños'!E38=\"\",\"\",'TD Siniestros Daños'!E38)","v":2418.8379399999999},{"$f":"IF('TD Siniestros Daños'!F38=\"\",\"\",'TD Siniestros Daños'!F38)","v":64.928948103688995},{"$f":"IF('TD Siniestros Daños'!G38=\"\",\"\",'TD Siniestros Daños'!G38)","v":36.024530667953584},1.0311758058320357,null,{"$f":"IF('TD Siniestros Daños'!H38=\"\",\"\",'TD Siniestros Daños'!H38)","v":25840.975859999999},{"$f":"IF('TD Siniestros Daños'!I38=\"\",\"\",'TD Siniestros Daños'!I38)","v":186.80820303437255},{"$f":"IF('TD Siniestros Daños'!J38=\"\",\"\",'TD Siniestros Daños'!J38)","v":17068.813389999999},{"$f":"IF('TD Siniestros Daños'!K38=\"\",\"\",'TD Siniestros Daños'!K38)","v":-10.504889295246256},{"$f":"IF('TD Siniestros Daños'!L38=\"\",\"\",'TD Siniestros Daños'!L38)","v":151.39292503566352},{"$f":"IF('TD Siniestros Daños'!M38=\"\",\"\",'TD Siniestros Daños'!M38)","v":47.240373331858365}]
[null,{"$f":"IF('TD Siniestros Daños'!A39=\"\",\"\",'TD Siniestros Daños'!A39)","v":31},{"$f":"IF('TD Siniestros Daños'!B39=\"\",\"\",'TD Siniestros Daños'!B39)","v":"Ve Por Más"},{"$f":"IF('TD Siniestros Daños'!C39=\"\",\"\",'TD Siniestros Daños'!C39)","v":45834.757559999998},{"$f":"IF('TD Siniestros Daños'!D39=\"\",\"\",'TD Siniestros Daños'!D39)","v":-67.201694856499302},{"$f":"IF('TD Siniestros Daños'!E39=\"\",\"\",'TD Siniestros Daños'!E39)","v":0},{"$f":"IF('TD Siniestros Daños'!F39=\"\",\"\",'TD Siniestros Daños'!F39)","v":10.507206331122335},{"$f":"IF('TD Siniestros Daños'!G39=\"\",\"\",'TD Siniestros Daños'!G39)","v":26.223125245974018},0.11444406928723794,null,{"$f":"IF('TD Siniestros Daños'!H39=\"\",\"\",'TD Siniestros Daños'!H39)","v":22774.257950000003},{"$f":"IF('TD Siniestros Daños'!I39=\"\",\"\",'TD Siniestros Daños'!I39)","v":-33.528477171340953},{"$f":"IF('TD Siniestros Daños'!J39=\"\",\"\",'TD Siniestros Daños'!J39)","v":88506.388430000006},{"$f":"IF('TD Siniestros Daños'!K39=\"\",\"\",'TD Siniestros Daños'!K39)","v":19.930813520075198},{"$f":"IF('TD Siniestros Daños'!L39=\"\",\"\",'TD Siniestros Daños'!L39)","v":25.731767337916224},{"$f":"IF('TD Siniestros Daños'!M39=\"\",\"\",'TD Siniestros Daños'!M39)","v":46.426374164773257}]
[null,{"$f":"IF('TD Siniestros Daños'!A40=\"\",\"\",'TD Siniestros Daños'!A40)","v":32},{"$f":"IF('TD Siniestros Daños'!B40=\"\",\"\",'TD Siniestros Daños'!B40)","v":"Coface"},{"$f":"IF('TD Siniestros Daños'!C40=\"\",\"\",'TD Siniestros Daños'!C40)","v":46682.784039999999},{"$f":"IF('TD Siniestros Daños'!D40=\"\",\"\",'TD Siniestros Daños'!D40)","v":243.40014759205516},{"$f":"IF('TD Siniestros Daños'!E40=\"\",\"\",'TD Siniestros Daños'!E40)","v":13239.2675},{"$f":"IF('TD Siniestros Daños'!F40=\"\",\"\",'TD Siniestros Daños'!F40)","v":12.107048067434111},{"$f":"IF('TD Siniestros Daños'!G40=\"\",\"\",'TD Siniestros Daños'!G40)","v":4.1143033846339998},0.11656149297181806,null,{"$f":"IF('TD Siniestros Daños'!H40=\"\",\"\",'TD Siniestros Daños'!H40)","v":22519.924309999999},{"$f":"IF('TD Siniestros Daños'!I40=\"\",\"\",'TD Siniestros Daños'!I40)","v":137.27709222613532},{"$f":"IF('TD Siniestros Daños'!J40=\"\",\"\",'TD Siniestros Daños'!J40)","v":78430.455300000001},{"$f":"IF('TD Siniestros Daños'!K40=\"\",\"\",'TD Siniestros Daños'!K40)","v":33.723065259462118},{"$f":"IF('TD Siniestros Daños'!L40=\"\",\"\",'TD Siniestros Daños'!L40)","v":28.713239294430053},{"$f":"IF('TD Siniestros Daños'!M40=\"\",\"\",'TD Siniestros Daños'!M40)","v":16.182018820090292}]
[null,{"$f":"IF('TD Siniestros Daños'!A41=\"\",\"\",'TD Siniestros Daños'!A41)","v":33},{"$f":"IF('TD Siniestros Daños'!B41=\"\",\"\",'TD Siniestros Daños'!B41)","v":"SHF Cred Vivienda"},{"$f":"IF('TD Siniestros Daños'!C41=\"\",\"\",'TD Siniestros Daños'!C41)","v":64047.909359999998},{"$f":"IF('TD Siniestros Daños'!D41=\"\",\"\",'TD Siniestros Daños'!D41)","v":-158.79339886023817},{"$f":"IF('TD Siniestros Daños'!E41=\"\",\"\",'TD Siniestros Daños'!E41)","v":0},{"$f":"IF('TD Siniestros Daños'!F41=\"\",\"\",'TD Siniestros Daños'!F41)","v":16.914945030861119},{"$f":"IF('TD Siniestros Daños'!G41=\"\",\"\",'TD Siniestros Daños'!G41)","v":-25.967428824345234},0.15992019521218942,null,{"$f":"IF('TD Siniestros Daños'!H41=\"\",\"\",'TD Siniestros Daños'!H41)","v":55474.469969999998},{"$f":"IF('TD Siniestros Daños'!I41=\"\",\"\",'TD Siniestros Daños'!I41)","v":-146.57589984612912},{"$f":"IF('TD Siniestros Daños'!J41=\"\",\"\",'TD Siniestros Daños'!J41)","v":-1269.53341},{"$f":"IF('TD Siniestros Daños'!K41=\"\",\"\",'TD Siniestros Daños'!K41)","v":-100.38419090590037},{"$f":"IF('TD Siniestros Daños'!L41=\"\",\"\",'TD Siniestros Daños'!L41)","v":-4369.6738922373061},{"$f":"IF('TD Siniestros Daños'!M41=\"\",\"\",'TD Siniestros Daños'!M41)","v":-36.044155382803332}]
[null,{"$f":"IF('TD Siniestros Daños'!A42=\"\",\"\",'TD Siniestros Daños'!A42)","v":34},{"$f":"IF('TD Siniestros Daños'!B42=\"\",\"\",'TD Siniestros Daños'!B42)","v":"Primero Seguros"},{"$f":"IF('TD Siniestros Daños'!C42=\"\",\"\",'TD Siniestros Daños'!C42)","v":124400.23939999999},{"$f":"IF('TD Siniestros Daños'!D42=\"\",\"\",'TD Siniestros Daños'!D42)","v":39.896602763823807},{"$f":"IF('TD Siniestros Daños'!E42=\"\",\"\",'TD Siniestros Daños'!E42)","v":0},{"$f":"IF('TD Siniestros Daños'!F42=\"\",\"\",'TD Siniestros Daños'!F42)","v":43.520713691065623},{"$f":"IF('TD Siniestros Daños'!G42=\"\",\"\",'TD Siniestros Daños'!G42)","v":37.109642120676362},0.31061295783240062,null,{"$f":"IF('TD Siniestros Daños'!H42=\"\",\"\",'TD Siniestros Daños'!H42)","v":35607.669070000004},{"$f":"IF('TD Siniestros Daños'!I42=\"\",\"\",'TD Siniestros Daños'!I42)","v":32.87696087856866},{"$f":"IF('TD Siniestros Daños'!J42=\"\",\"\",'TD Siniestros Daños'!J42)","v":66383.750349999988},{"$f":"IF('TD Siniestros Daños'!K42=\"\",\"\",'TD Siniestros Daños'!K42)","v":20.468388230105418},{"$f":"IF('TD Siniestros Daños'!L42=\"\",\"\",'TD Siniestros Daños'!L42)","v":53.639134400004586},{"$f":"IF('TD Siniestros Daños'!M42=\"\",\"\",'TD Siniestros Daños'!M42)","v":48.630101294473256}]
[null,{"$f":"IF('TD Siniestros Daños'!A43=\"\",\"\",'TD Siniestros Daños'!A43)","v":35},{"$f":"IF('TD Siniestros Daños'!B43=\"\",\"\",'TD Siniestros Daños'!B43)","v":"La Latinoamericana"},{"$f":"IF('TD Siniestros Daños'!C43=\"\",\"\",'TD Siniestros Daños'!C43)","v":6056.7007899999999},{"$f":"IF('TD Siniestros Daños'!D43=\"\",\"\",'TD Siniestros Daños'!D43)","v":-14.169371304678346},{"$f":"IF('TD Siniestros Daños'!E43=\"\",\"\",'TD Siniestros Daños'!E43)","v":2089.8345199999999},{"$f":"IF('TD Siniestros Daños'!F43=\"\",\"\",'TD Siniestros Daños'!F43)","v":3.105926199295121},{"$f":"IF('TD Siniestros Daños'!G43=\"\",\"\",'TD Siniestros Daños'!G43)","v":3.5536653243078997},1.5122878831756796E-2,null,{"$f":"IF('TD Siniestros Daños'!H43=\"\",\"\",'TD Siniestros Daños'!H43)","v":5504.3218499999994},{"$f":"IF('TD Siniestros Daños'!I43=\"\",\"\",'TD Siniestros Daños'!I43)","v":3.3928199556986449},{"$f":"IF('TD Siniestros Daños'!J43=\"\",\"\",'TD Siniestros Daños'!J43)","v":111288.77075},{"$f":"IF('TD Siniestros Daños'!K43=\"\",\"\",'TD Siniestros Daños'!K43)","v":0.40804213845522241},{"$f":"IF('TD Siniestros Daños'!L43=\"\",\"\",'TD Siniestros Daños'!L43)","v":4.9459813536488362},{"$f":"IF('TD Siniestros Daños'!M43=\"\",\"\",'TD Siniestros Daños'!M43)","v":4.8031991427061795}]
[null,{"$f":"IF('TD Siniestros Daños'!A44=\"\",\"\",'TD Siniestros Daños'!A44)","v":36},{"$f":"IF('TD Siniestros Daños'!B44=\"\",\"\",'TD Siniestros Daños'!B44)","v":"Assurant Daños"},{"$f":"IF('TD Siniestros Daños'!C44=\"\",\"\",'TD Siniestros Daños'!C44)","v":55339.929609999999},{"$f":"IF('TD Siniestros Daños'!D44=\"\",\"\",'TD Siniestros Daños'!D44)","v":4.8276709565635345},{"$f":"IF('TD Siniestros Daños'!E44=\"\",\"\",'TD Siniestros Daños'!E44)","v":511.87678000000005},{"$f":"IF('TD Siniestros Daños'!F44=\"\",\"\",'TD Siniestros Daños'!F44)","v":31.049109260466416},{"$f":"IF('TD Siniestros Daños'!G44=\"\",\"\",'TD Siniestros Daños'!G44)","v":31.555225309754952},0.13817738056860163,null,{"$f":"IF('TD Siniestros Daños'!H44=\"\",\"\",'TD Siniestros Daños'!H44)","v":14481.3274},{"$f":"IF('TD Siniestros Daños'!I44=\"\",\"\",'TD Siniestros Daños'!I44)","v":22.479088092531541},{"$f":"IF('TD Siniestros Daños'!J44=\"\",\"\",'TD Siniestros Daños'!J44)","v":41237.512619999994},{"$f":"IF('TD Siniestros Daños'!K44=\"\",\"\",'TD Siniestros Daños'!K44)","v":-1.5478867963290344},{"$f":"IF('TD Siniestros Daños'!L44=\"\",\"\",'TD Siniestros Daños'!L44)","v":35.116878977265536},{"$f":"IF('TD Siniestros Daños'!M44=\"\",\"\",'TD Siniestros Daños'!M44)","v":28.227928524560745}]
[null,{"$f":"IF('TD Siniestros Daños'!A45=\"\",\"\",'TD Siniestros Daños'!A45)","v":37},{"$f":"IF('TD Siniestros Daños'!B45=\"\",\"\",'TD Siniestros Daños'!B45)","v":"Citibanamex Seguros"},{"$f":"IF('TD Siniestros Daños'!C45=\"\",\"\",'TD Siniestros Daños'!C45)","v":4196.3914800000002},{"$f":"IF('TD Siniestros Daños'!D45=\"\",\"\",'TD Siniestros Daños'!D45)","v":-89.176286880477107},{"$f":"IF('TD Siniestros Daños'!E45=\"\",\"\",'TD Siniestros Daños'!E45)","v":0},{"$f":"IF('TD Siniestros Daños'!F45=\"\",\"\",'TD Siniestros Daños'!F45)","v":3.0575705274126288},{"$f":"IF('TD Siniestros Daños'!G45=\"\",\"\",'TD Siniestros Daños'!G45)","v":24.823652740677122},1.0477902422955349E-2,null,{"$f":"IF('TD Siniestros Daños'!H45=\"\",\"\",'TD Siniestros Daños'!H45)","v":-20251.444630000002},{"$f":"IF('TD Siniestros Daños'!I45=\"\",\"\",'TD Siniestros Daños'!I45)","v":-361.8334169912232},{"$f":"IF('TD Siniestros Daños'!J45=\"\",\"\",'TD Siniestros Daños'!J45)","v":26.404719999999994},{"$f":"IF('TD Siniestros Daños'!K45=\"\",\"\",'TD Siniestros Daños'!K45)","v":-97.6095861130771},{"$f":"IF('TD Siniestros Daños'!L45=\"\",\"\",'TD Siniestros Daños'!L45)","v":-76696.305168166931},{"$f":"IF('TD Siniestros Daños'!M45=\"\",\"\",'TD Siniestros Daños'!M45)","v":700.20058958253196}]
[null,{"$f":"IF('TD Siniestros Daños'!A46=\"\",\"\",'TD Siniestros Daños'!A46)","v":38},{"$f":"IF('TD Siniestros Daños'!B46=\"\",\"\",'TD Siniestros Daños'!B46)","v":"Patrimonial Inbursa"},{"$f":"IF('TD Siniestros Daños'!C46=\"\",\"\",'TD Siniestros Daños'!C46)","v":3476.1753200000003},{"$f":"IF('TD Siniestros Daños'!D46=\"\",\"\",'TD Siniestros Daños'!D46)","v":340.37881005055908},{"$f":"IF('TD Siniestros Daños'!E46=\"\",\"\",'TD Siniestros Daños'!E46)","v":0},{"$f":"IF('TD Siniestros Daños'!F46=\"\",\"\",'TD Siniestros Daños'!F46)","v":2.5559142700145543},{"$f":"IF('TD Siniestros Daños'!G46=\"\",\"\",'TD Siniestros Daños'!G46)","v":0.54483512692131586},8.6796062716354531E-3,null,{"$f":"IF('TD Siniestros Daños'!H46=\"\",\"\",'TD Siniestros Daños'!H46)","v":3421.9827199999995},{"$f":"IF('TD Siniestros Daños'!I46=\"\",\"\",'TD Siniestros Daños'!I46)","v":350.65290480055484},{"$f":"IF('TD Siniestros Daños'!J46=\"\",\"\",'TD Siniestros Daños'!J46)","v":136153.29412000001},{"$f":"IF('TD Siniestros Daños'!K46=\"\",\"\",'TD Siniestros Daños'!K46)","v":-6.9307067702015672},{"$f":"IF('TD Siniestros Daños'!L46=\"\",\"\",'TD Siniestros Daños'!L46)","v":2.5133308320722687},{"$f":"IF('TD Siniestros Daños'!M46=\"\",\"\",'TD Siniestros Daños'!M46)","v":0.51905562285713081}]
[null,{"$f":"IF('TD Siniestros Daños'!A47=\"\",\"\",'TD Siniestros Daños'!A47)","v":39},{"$f":"IF('TD Siniestros Daños'!B47=\"\",\"\",'TD Siniestros Daños'!B47)","v":"Tláloc Seguros"},{"$f":"IF('TD Siniestros Daños'!C47=\"\",\"\",'TD Siniestros Daños'!C47)","v":74814.190309999991},{"$f":"IF('TD Siniestros Daños'!D47=\"\",\"\",'TD Siniestros Daños'!D47)","v":-21.161031831741617},{"$f":"IF('TD Siniestros Daños'!E47=\"\",\"\",'TD Siniestros Daños'!E47)","v":0},{"$f":"IF('TD Siniestros Daños'!F47=\"\",\"\",'TD Siniestros Daños'!F47)","v":65.220028285122197},{"$f":"IF('TD Siniestros Daños'!G47=\"\",\"\",'TD Siniestros Daños'!G47)","v":77.344466649618667},0.18680234903169507,null,{"$f":"IF('TD Siniestros Daños'!H47=\"\",\"\",'TD Siniestros Daños'!H47)","v":10420.348619999999},{"$f":"IF('TD Siniestros Daños'!I47=\"\",\"\",'TD Siniestros Daños'!I47)","v":-23.532638088187007},{"$f":"IF('TD Siniestros Daños'!J47=\"\",\"\",'TD Siniestros Daños'!J47)","v":21251.59837},{"$f":"IF('TD Siniestros Daños'!K47=\"\",\"\",'TD Siniestros Daños'!K47)","v":7.6158114285316714},{"$f":"IF('TD Siniestros Daños'!L47=\"\",\"\",'TD Siniestros Daños'!L47)","v":49.033246528458648},{"$f":"IF('TD Siniestros Daños'!M47=\"\",\"\",'TD Siniestros Daños'!M47)","v":69.006599419773323}]
[null,{"$f":"IF('TD Siniestros Daños'!A48=\"\",\"\",'TD Siniestros Daños'!A48)","v":40},{"$f":"IF('TD Siniestros Daños'!B48=\"\",\"\",'TD Siniestros Daños'!B48)","v":"Virginia Surety"},{"$f":"IF('TD Siniestros Daños'!C48=\"\",\"\",'TD Siniestros Daños'!C48)","v":28699.854490000005},{"$f":"IF('TD Siniestros Daños'!D48=\"\",\"\",'TD Siniestros Daños'!D48)","v":105.43294757604551},{"$f":"IF('TD Siniestros Daños'!E48=\"\",\"\",'TD Siniestros Daños'!E48)","v":0},{"$f":"IF('TD Siniestros Daños'!F48=\"\",\"\",'TD Siniestros Daños'!F48)","v":26.714121156605934},{"$f":"IF('TD Siniestros Daños'!G48=\"\",\"\",'TD Siniestros Daños'!G48)","v":19.981915139626853},7.1660205281714309E-2,null,{"$f":"IF('TD Siniestros Daños'!H48=\"\",\"\",'TD Siniestros Daños'!H48)","v":17905.108800000002},{"$f":"IF('TD Siniestros Daños'!I48=\"\",\"\",'TD Siniestros Daños'!I48)","v":67.151786186716535},{"$f":"IF('TD Siniestros Daños'!J48=\"\",\"\",'TD Siniestros Daños'!J48)","v":45022.961920000002},{"$f":"IF('TD Siniestros Daños'!K48=\"\",\"\",'TD Siniestros Daños'!K48)","v":70.659502376491588},{"$f":"IF('TD Siniestros Daños'!L48=\"\",\"\",'TD Siniestros Daños'!L48)","v":39.768838024950625},{"$f":"IF('TD Siniestros Daños'!M48=\"\",\"\",'TD Siniestros Daños'!M48)","v":40.603395645727922}]
[null,{"$f":"IF('TD Siniestros Daños'!A49=\"\",\"\",'TD Siniestros Daños'!A49)","v":41},{"$f":"IF('TD Siniestros Daños'!B49=\"\",\"\",'TD Siniestros Daños'!B49)","v":"Genworth Seg. de Crédito"},{"$f":"IF('TD Siniestros Daños'!C49=\"\",\"\",'TD Siniestros Daños'!C49)","v":11744.406199999999},{"$f":"IF('TD Siniestros Daños'!D49=\"\",\"\",'TD Siniestros Daños'!D49)","v":-243.29019271556888},{"$f":"IF('TD Siniestros Daños'!E49=\"\",\"\",'TD Siniestros Daños'!E49)","v":0},{"$f":"IF('TD Siniestros Daños'!F49=\"\",\"\",'TD Siniestros Daños'!F49)","v":16.691019394095754},{"$f":"IF('TD Siniestros Daños'!G49=\"\",\"\",'TD Siniestros Daños'!G49)","v":-12.434347259341139},2.9324419031360679E-2,null,{"$f":"IF('TD Siniestros Daños'!H49=\"\",\"\",'TD Siniestros Daños'!H49)","v":11118.92807},{"$f":"IF('TD Siniestros Daños'!I49=\"\",\"\",'TD Siniestros Daños'!I49)","v":-27.643496130648295},{"$f":"IF('TD Siniestros Daños'!J49=\"\",\"\",'TD Siniestros Daños'!J49)","v":174321.64306},{"$f":"IF('TD Siniestros Daños'!K49=\"\",\"\",'TD Siniestros Daños'!K49)","v":29.946843228169563},{"$f":"IF('TD Siniestros Daños'!L49=\"\",\"\",'TD Siniestros Daños'!L49)","v":6.3783979285767529},{"$f":"IF('TD Siniestros Daños'!M49=\"\",\"\",'TD Siniestros Daños'!M49)","v":11.45512333166673}]
[null,{"$f":"IF('TD Siniestros Daños'!A50=\"\",\"\",'TD Siniestros Daños'!A50)","v":42},{"$f":"IF('TD Siniestros Daños'!B50=\"\",\"\",'TD Siniestros Daños'!B50)","v":"Quálitas"},{"$f":"IF('TD Siniestros Daños'!C50=\"\",\"\",'TD Siniestros Daños'!C50)","v":3308.701},{"$f":"IF('TD Siniestros Daños'!D50=\"\",\"\",'TD Siniestros Daños'!D50)","v":3044.8233136772824},{"$f":"IF('TD Siniestros Daños'!E50=\"\",\"\",'TD Siniestros Daños'!E50)","v":0},{"$f":"IF('TD Siniestros Daños'!F50=\"\",\"\",'TD Siniestros Daños'!F50)","v":88.505611909993334},{"$f":"IF('TD Siniestros Daños'!G50=\"\",\"\",'TD Siniestros Daños'!G50)","v":3.5633280511968657},8.2614423344351037E-3,null,{"$f":"IF('TD Siniestros Daños'!H50=\"\",\"\",'TD Siniestros Daños'!H50)","v":1708.3482300000001},{"$f":"IF('TD Siniestros Daños'!I50=\"\",\"\",'TD Siniestros Daños'!I50)","v":1523.7349163866184},{"$f":"IF('TD Siniestros Daños'!J50=\"\",\"\",'TD Siniestros Daños'!J50)","v":2562.7517900000003},{"$f":"IF('TD Siniestros Daños'!K50=\"\",\"\",'TD Siniestros Daños'!K50)","v":163.38659060775024},{"$f":"IF('TD Siniestros Daños'!L50=\"\",\"\",'TD Siniestros Daños'!L50)","v":66.660697952336605},{"$f":"IF('TD Siniestros Daños'!M50=\"\",\"\",'TD Siniestros Daños'!M50)","v":10.813054387147544}]
[null,{"$f":"IF('TD Siniestros Daños'!A51=\"\",\"\",'TD Siniestros Daños'!A51)","v":43},{"$f":"IF('TD Siniestros Daños'!B51=\"\",\"\",'TD Siniestros Daños'!B51)","v":"Zurich Daños"},{"$f":"IF('TD Siniestros Daños'!C51=\"\",\"\",'TD Siniestros Daños'!C51)","v":-54836.227370000008},{"$f":"IF('TD Siniestros Daños'!D51=\"\",\"\",'TD Siniestros Daños'!D51)","v":-101.67953806579642},{"$f":"IF('TD Siniestros Daños'!E51=\"\",\"\",'TD Siniestros Daños'!E51)","v":0},{"$f":"IF('TD Siniestros Daños'!F51=\"\",\"\",'TD Siniestros Daños'!F51)","v":0},{"$f":"IF('TD Siniestros Daños'!G51=\"\",\"\",'TD Siniestros Daños'!G51)","v":64.875316100784389},-0.136919694543335,null,{"$f":"IF('TD Siniestros Daños'!H51=\"\",\"\",'TD Siniestros Daños'!H51)","v":-54836.227370000001},{"$f":"IF('TD Siniestros Daños'!I51=\"\",\"\",'TD Siniestros Daños'!I51)","v":-109.19604717239362},{"$f":"IF('TD Siniestros Daños'!J51=\"\",\"\",'TD Siniestros Daños'!J51)","v":0},{"$f":"IF('TD Siniestros Daños'!K51=\"\",\"\",'TD Siniestros Daños'!K51)","v":-100},{"$f":"IF('TD Siniestros Daños'!L51=\"\",\"\",'TD Siniestros Daños'!L51)","v":0},{"$f":"IF('TD Siniestros Daños'!M51=\"\",\"\",'TD Siniestros Daños'!M51)","v":30.914983508498374}]
[null,{"$f":"IF('TD Siniestros Daños'!A52=\"\",\"\",'TD Siniestros Daños'!A52)","v":145},{"$f":"IF('TD Siniestros Daños'!B52=\"\",\"\",'TD Siniestros Daños'!B52)","v":"HSBC Seguros"},{"$f":"IF('TD Siniestros Daños'!C52=\"\",\"\",'TD Siniestros Daños'!C52)","v":""},{"$f":"IF('TD Siniestros Daños'!D52=\"\",\"\",'TD Siniestros Daños'!D52)","v":0},{"$f":"IF('TD Siniestros Daños'!E52=\"\",\"\",'TD Siniestros Daños'!E52)","v":0},{"$f":"IF('TD Siniestros Daños'!F52=\"\",\"\",'TD Siniestros Daños'!F52)","v":0},{"$f":"IF('TD Siniestros Daños'!G52=\"\",\"\",'TD Siniestros Daños'!G52)","v":0},"",null,{"$f":"IF('TD Siniestros Daños'!H52=\"\",\"\",'TD Siniestros Daños'!H52)","v":0},{"$f":"IF('TD Siniestros Daños'!I52=\"\",\"\",'TD Siniestros Daños'!I52)","v":0},{"$f":"IF('TD Siniestros Daños'!J52=\"\",\"\",'TD Siniestros Daños'!J52)","v":0},{"$f":"IF('TD Siniestros Daños'!K52=\"\",\"\",'TD Siniestros Daños'!K52)","v":0},{"$f":"IF('TD Siniestros Daños'!L52=\"\",\"\",'TD Siniestros Daños'!L52)","v":0},{"$f":"IF('TD Siniestros Daños'!M52=\"\",\"\",'TD Siniestros Daños'!M52)","v":0}]
[null,{"$f":"IF('TD Siniestros Daños'!A53=\"\",\"\",'TD Siniestros Daños'!A53)","v":150.1},{"$f":"IF('TD Siniestros Daños'!B53=\"\",\"\",'TD Siniestros Daños'!B53)","v":"TOTAL RESTO"},{"$f":"IF('TD Siniestros Daños'!C53=\"\",\"\",'TD Siniestros Daños'!C53)","v":9518089.800710002},{"$f":"IF('TD Siniestros Daños'!D53=\"\",\"\",'TD Siniestros Daños'!D53)","v":-2.1254178233581889},{"$f":"IF('TD Siniestros Daños'!E53=\"\",\"\",'TD Siniestros Daños'!E53)","v":86806.171599999987},{"$f":"IF('TD Siniestros Daños'!F53=\"\",\"\",'TD Siniestros Daños'!F53)","v":43.634370170247372},{"$f":"IF('TD Siniestros Daños'!G53=\"\",\"\",'TD Siniestros Daños'!G53)","v":41.314522452068545},23.76556540543875,null,{"$f":"IF('TD Siniestros Daños'!H53=\"\",\"\",'TD Siniestros Daños'!H53)","v":2603728.45713},{"$f":"IF('TD Siniestros Daños'!I53=\"\",\"\",'TD Siniestros Daños'!I53)","v":13.612863152698118},{"$f":"IF('TD Siniestros Daños'!J53=\"\",\"\",'TD Siniestros Daños'!J53)","v":6779909.8679899983},{"$f":"IF('TD Siniestros Daños'!K53=\"\",\"\",'TD Siniestros Daños'!K53)","v":-8.438141011601008},{"$f":"IF('TD Siniestros Daños'!L53=\"\",\"\",'TD Siniestros Daños'!L53)","v":38.403585118778473},{"$f":"IF('TD Siniestros Daños'!M53=\"\",\"\",'TD Siniestros Daños'!M53)","v":30.949872643985611}]
[null,{"$f":"IF('TD Siniestros Daños'!A54=\"\",\"\",'TD Siniestros Daños'!A54)","v":151.1},{"$f":"IF('TD Siniestros Daños'!B54=\"\",\"\",'TD Siniestros Daños'!B54)","v":"TOTAL"},{"$f":"IF('TD Siniestros Daños'!C54=\"\",\"\",'TD Siniestros Daños'!C54)","v":40049919.445770003},{"$f":"IF('TD Siniestros Daños'!D54=\"\",\"\",'TD Siniestros Daños'!D54)","v":8.0759420111960587},{"$f":"IF('TD Siniestros Daños'!E54=\"\",\"\",'TD Siniestros Daños'!E54)","v":328848.31026999996},{"$f":"IF('TD Siniestros Daños'!F54=\"\",\"\",'TD Siniestros Daños'!F54)","v":34.804028894717071},{"$f":"IF('TD Siniestros Daños'!G54=\"\",\"\",'TD Siniestros Daños'!G54)","v":32.634602576734935},100,null,{"$f":"IF('TD Siniestros Daños'!H54=\"\",\"\",'TD Siniestros Daños'!H54)","v":11031209.285780001},{"$f":"IF('TD Siniestros Daños'!I54=\"\",\"\",'TD Siniestros Daños'!I54)","v":16.383061627036021},{"$f":"IF('TD Siniestros Daños'!J54=\"\",\"\",'TD Siniestros Daños'!J54)","v":40407343.143289998},{"$f":"IF('TD Siniestros Daños'!K54=\"\",\"\",'TD Siniestros Daños'!K54)","v":35.826255008824191},{"$f":"IF('TD Siniestros Daños'!L54=\"\",\"\",'TD Siniestros Daños'!L54)","v":27.300011403030915},{"$f":"IF('TD Siniestros Daños'!M54=\"\",\"\",'TD Siniestros Daños'!M54)","v":31.860807395279046}]
[null,{"$f":"IF('TD Siniestros Daños'!A55=\"\",\"\",'TD Siniestros Daños'!A55)","v":200},{"$f":"IF('TD Siniestros Daños'!B55=\"\",\"\",'TD Siniestros Daños'!B55)","v":"Patria"},{"$f":"IF('TD Siniestros Daños'!C55=\"\",\"\",'TD Siniestros Daños'!C55)","v":0},{"$f":"IF('TD Siniestros Daños'!D55=\"\",\"\",'TD Siniestros Daños'!D55)","v":0},{"$f":"IF('TD Siniestros Daños'!E55=\"\",\"\",'TD Siniestros Daños'!E55)","v":0},{"$f":"IF('TD Siniestros Daños'!F55=\"\",\"\",'TD Siniestros Daños'!F55)","v":0},{"$f":"IF('TD Siniestros Daños'!G55=\"\",\"\",'TD Siniestros Daños'!G55)","v":0},0,null,{"$f":"IF('TD Siniestros Daños'!H55=\"\",\"\",'TD Siniestros Daños'!H55)","v":3250422.8240200002},{"$f":"IF('TD Siniestros Daños'!I55=\"\",\"\",'TD Siniestros Daños'!I55)","v":30.824035840048268},{"$f":"IF('TD Siniestros Daños'!J55=\"\",\"\",'TD Siniestros Daños'!J55)","v":7620216.5829400001},{"$f":"IF('TD Siniestros Daños'!K55=\"\",\"\",'TD Siniestros Daños'!K55)","v":29.767832741250277},{"$f":"IF('TD Siniestros Daños'!L55=\"\",\"\",'TD Siniestros Daños'!L55)","v":42.655255118299216},{"$f":"IF('TD Siniestros Daños'!M55=\"\",\"\",'TD Siniestros Daños'!M55)","v":42.310879466327663}]
[null,{"$f":"IF('TD Siniestros Daños'!A56=\"\",\"\",'TD Siniestros Daños'!A56)","v":""},{"$f":"IF('TD Siniestros Daños'!B56=\"\",\"\",'TD Siniestros Daños'!B56)","v":""},{"$f":"IF('TD Siniestros Daños'!C56=\"\",\"\",'TD Siniestros Daños'!C56)","v":""},{"$f":"IF('TD Siniestros Daños'!D56=\"\",\"\",'TD Siniestros Daños'!D56)","v":""},{"$f":"IF('TD Siniestros Daños'!E56=\"\",\"\",'TD Siniestros Daños'!E56)","v":""},{"$f":"IF('TD Siniestros Daños'!F56=\"\",\"\",'TD Siniestros Daños'!F56)","v":""},{"$f":"IF('TD Siniestros Daños'!G56=\"\",\"\",'TD Siniestros Daños'!G56)","v":""},"",null,{"$f":"IF('TD Siniestros Daños'!H56=\"\",\"\",'TD Siniestros Daños'!H56)","v":""},{"$f":"IF('TD Siniestros Daños'!I56=\"\",\"\",'TD Siniestros Daños'!I56)","v":""},{"$f":"IF('TD Siniestros Daños'!J56=\"\",\"\",'TD Siniestros Daños'!J56)","v":""},{"$f":"IF('TD Siniestros Daños'!K56=\"\",\"\",'TD Siniestros Daños'!K56)","v":""},{"$f":"IF('TD Siniestros Daños'!L56=\"\",\"\",'TD Siniestros Daños'!L56)","v":""},{"$f":"IF('TD Siniestros Daños'!M56=\"\",\"\",'TD Siniestros Daños'!M56)","v":""}]
[null,{"$f":"IF('TD Siniestros Daños'!A57=\"\",\"\",'TD Siniestros Daños'!A57)","v":""},{"$f":"IF('TD Siniestros Daños'!B57=\"\",\"\",'TD Siniestros Daños'!B57)","v":""},{"$f":"IF('TD Siniestros Daños'!C57=\"\",\"\",'TD Siniestros Daños'!C57)","v":""},{"$f":"IF('TD Siniestros Daños'!D57=\"\",\"\",'TD Siniestros Daños'!D57)","v":""},{"$f":"IF('TD Siniestros Daños'!E57=\"\",\"\",'TD Siniestros Daños'!E57)","v":""},{"$f":"IF('TD Siniestros Daños'!F57=\"\",\"\",'TD Siniestros Daños'!F57)","v":""},{"$f":"IF('TD Siniestros Daños'!G57=\"\",\"\",'TD Siniestros Daños'!G57)","v":""},"",null,{"$f":"IF('TD Siniestros Daños'!H57=\"\",\"\",'TD Siniestros Daños'!H57)","v":""},{"$f":"IF('TD Siniestros Daños'!I57=\"\",\"\",'TD Siniestros Daños'!I57)","v":""},{"$f":"IF('TD Siniestros Daños'!J57=\"\",\"\",'TD Siniestros Daños'!J57)","v":""},{"$f":"IF('TD Siniestros Daños'!K57=\"\",\"\",'TD Siniestros Daños'!K57)","v":""},{"$f":"IF('TD Siniestros Daños'!L57=\"\",\"\",'TD Siniestros Daños'!L57)","v":""},{"$f":"IF('TD Siniestros Daños'!M57=\"\",\"\",'TD Siniestros Daños'!M57)","v":""}]
[null,{"$f":"IF('TD Siniestros Daños'!A58=\"\",\"\",'TD Siniestros Daños'!A58)","v":""},{"$f":"IF('TD Siniestros Daños'!B58=\"\",\"\",'TD Siniestros Daños'!B58)","v":""},{"$f":"IF('TD Siniestros Daños'!C58=\"\",\"\",'TD Siniestros Daños'!C58)","v":""},{"$f":"IF('TD Siniestros Daños'!D58=\"\",\"\",'TD Siniestros Daños'!D58)","v":""},{"$f":"IF('TD Siniestros Daños'!E58=\"\",\"\",'TD Siniestros Daños'!E58)","v":""},{"$f":"IF('TD Siniestros Daños'!F58=\"\",\"\",'TD Siniestros Daños'!F58)","v":""},{"$f":"IF('TD Siniestros Daños'!G58=\"\",\"\",'TD Siniestros Daños'!G58)","v":""},"",null,{"$f":"IF('TD Siniestros Daños'!H58=\"\",\"\",'TD Siniestros Daños'!H58)","v":""},{"$f":"IF('TD Siniestros Daños'!I58=\"\",\"\",'TD Siniestros Daños'!I58)","v":""},{"$f":"IF('TD Siniestros Daños'!J58=\"\",\"\",'TD Siniestros Daños'!J58)","v":""},{"$f":"IF('TD Siniestros Daños'!K58=\"\",\"\",'TD Siniestros Daños'!K58)","v":""},{"$f":"IF('TD Siniestros Daños'!L58=\"\",\"\",'TD Siniestros Daños'!L58)","v":""},{"$f":"IF('TD Siniestros Daños'!M58=\"\",\"\",'TD Siniestros Daños'!M58)","v":""}]
[null,{"$f":"IF('TD Siniestros Daños'!A59=\"\",\"\",'TD Siniestros Daños'!A59)","v":""},{"$f":"IF('TD Siniestros Daños'!B59=\"\",\"\",'TD Siniestros Daños'!B59)","v":""},{"$f":"IF('TD Siniestros Daños'!C59=\"\",\"\",'TD Siniestros Daños'!C59)","v":""},{"$f":"IF('TD Siniestros Daños'!D59=\"\",\"\",'TD Siniestros Daños'!D59)","v":""},{"$f":"IF('TD Siniestros Daños'!E59=\"\",\"\",'TD Siniestros Daños'!E59)","v":""},{"$f":"IF('TD Siniestros Daños'!F59=\"\",\"\",'TD Siniestros Daños'!F59)","v":""},{"$f":"IF('TD Siniestros Daños'!G59=\"\",\"\",'TD Siniestros Daños'!G59)","v":""},"",null,{"$f":"IF('TD Siniestros Daños'!H59=\"\",\"\",'TD Siniestros Daños'!H59)","v":""},{"$f":"IF('TD Siniestros Daños'!I59=\"\",\"\",'TD Siniestros Daños'!I59)","v":""},{"$f":"IF('TD Siniestros Daños'!J59=\"\",\"\",'TD Siniestros Daños'!J59)","v":""},{"$f":"IF('TD Siniestros Daños'!K59=\"\",\"\",'TD Siniestros Daños'!K59)","v":""},{"$f":"IF('TD Siniestros Daños'!L59=\"\",\"\",'TD Siniestros Daños'!L59)","v":""},{"$f":"IF('TD Siniestros Daños'!M59=\"\",\"\",'TD Siniestros Daños'!M59)","v":""}]
[null,{"$f":"IF('TD Siniestros Daños'!A60=\"\",\"\",'TD Siniestros Daños'!A60)","v":""},{"$f":"IF('TD Siniestros Daños'!B60=\"\",\"\",'TD Siniestros Daños'!B60)","v":""},{"$f":"IF('TD Siniestros Daños'!C60=\"\",\"\",'TD Siniestros Daños'!C60)","v":""},{"$f":"IF('TD Siniestros Daños'!D60=\"\",\"\",'TD Siniestros Daños'!D60)","v":""},{"$f":"IF('TD Siniestros Daños'!E60=\"\",\"\",'TD Siniestros Daños'!E60)","v":""},{"$f":"IF('TD Siniestros Daños'!F60=\"\",\"\",'TD Siniestros Daños'!F60)","v":""},{"$f":"IF('TD Siniestros Daños'!G60=\"\",\"\",'TD Siniestros Daños'!G60)","v":""},"",null,{"$f":"IF('TD Siniestros Daños'!H60=\"\",\"\",'TD Siniestros Daños'!H60)","v":""},{"$f":"IF('TD Siniestros Daños'!I60=\"\",\"\",'TD Siniestros Daños'!I60)","v":""},{"$f":"IF('TD Siniestros Daños'!J60=\"\",\"\",'TD Siniestros Daños'!J60)","v":""},{"$f":"IF('TD Siniestros Daños'!K60=\"\",\"\",'TD Siniestros Daños'!K60)","v":""},{"$f":"IF('TD Siniestros Daños'!L60=\"\",\"\",'TD Siniestros Daños'!L60)","v":""},{"$f":"IF('TD Siniestros Daños'!M60=\"\",\"\",'TD Siniestros Daños'!M60)","v":""}]
[null,{"$f":"IF('TD Siniestros Daños'!A61=\"\",\"\",'TD Siniestros Daños'!A61)","v":""},{"$f":"IF('TD Siniestros Daños'!B61=\"\",\"\",'TD Siniestros Daños'!B61)","v":""},{"$f":"IF('TD Siniestros Daños'!C61=\"\",\"\",'TD Siniestros Daños'!C61)","v":""},{"$f":"IF('TD Siniestros Daños'!D61=\"\",\"\",'TD Siniestros Daños'!D61)","v":""},{"$f":"IF('TD Siniestros Daños'!E61=\"\",\"\",'TD Siniestros Daños'!E61)","v":""},{"$f":"IF('TD Siniestros Daños'!F61=\"\",\"\",'TD Siniestros Daños'!F61)","v":""},{"$f":"IF('TD Siniestros Daños'!G61=\"\",\"\",'TD Siniestros Daños'!G61)","v":""},"",null,{"$f":"IF('TD Siniestros Daños'!H61=\"\",\"\",'TD Siniestros Daños'!H61)","v":""},{"$f":"IF('TD Siniestros Daños'!I61=\"\",\"\",'TD Siniestros Daños'!I61)","v":""},{"$f":"IF('TD Siniestros Daños'!J61=\"\",\"\",'TD Siniestros Daños'!J61)","v":""},{"$f":"IF('TD Siniestros Daños'!K61=\"\",\"\",'TD Siniestros Daños'!K61)","v":""},{"$f":"IF('TD Siniestros Daños'!L61=\"\",\"\",'TD Siniestros Daños'!L61)","v":""},{"$f":"IF('TD Siniestros Daños'!M61=\"\",\"\",'TD Siniestros Daños'!M61)","v":""}]
[null,{"$f":"IF('TD Siniestros Daños'!A62=\"\",\"\",'TD Siniestros Daños'!A62)","v":""},{"$f":"IF('TD Siniestros Daños'!B62=\"\",\"\",'TD Siniestros Daños'!B62)","v":""},{"$f":"IF('TD Siniestros Daños'!C62=\"\",\"\",'TD Siniestros Daños'!C62)","v":""},{"$f":"IF('TD Siniestros Daños'!D62=\"\",\"\",'TD Siniestros Daños'!D62)","v":""},{"$f":"IF('TD Siniestros Daños'!E62=\"\",\"\",'TD Siniestros Daños'!E62)","v":""},{"$f":"IF('TD Siniestros Daños'!F62=\"\",\"\",'TD Siniestros Daños'!F62)","v":""},{"$f":"IF('TD Siniestros Daños'!G62=\"\",\"\",'TD Siniestros Daños'!G62)","v":""},"",null,{"$f":"IF('TD Siniestros Daños'!H62=\"\",\"\",'TD Siniestros Daños'!H62)","v":""},{"$f":"IF('TD Siniestros Daños'!I62=\"\",\"\",'TD Siniestros Daños'!I62)","v":""},{"$f":"IF('TD Siniestros Daños'!J62=\"\",\"\",'TD Siniestros Daños'!J62)","v":""},{"$f":"IF('TD Siniestros Daños'!K62=\"\",\"\",'TD Siniestros Daños'!K62)","v":""},{"$f":"IF('TD Siniestros Daños'!L62=\"\",\"\",'TD Siniestros Daños'!L62)","v":""},{"$f":"IF('TD Siniestros Daños'!M62=\"\",\"\",'TD Siniestros Daños'!M62)","v":""}]
[null,{"$f":"IF('TD Siniestros Daños'!A63=\"\",\"\",'TD Siniestros Daños'!A63)","v":""},{"$f":"IF('TD Siniestros Daños'!B63=\"\",\"\",'TD Siniestros Daños'!B63)","v":""},{"$f":"IF('TD Siniestros Daños'!C63=\"\",\"\",'TD Siniestros Daños'!C63)","v":""},{"$f":"IF('TD Siniestros Daños'!D63=\"\",\"\",'TD Siniestros Daños'!D63)","v":""},{"$f":"IF('TD Siniestros Daños'!E63=\"\",\"\",'TD Siniestros Daños'!E63)","v":""},{"$f":"IF('TD Siniestros Daños'!F63=\"\",\"\",'TD Siniestros Daños'!F63)","v":""},{"$f":"IF('TD Siniestros Daños'!G63=\"\",\"\",'TD Siniestros Daños'!G63)","v":""},"",null,{"$f":"IF('TD Siniestros Daños'!H63=\"\",\"\",'TD Siniestros Daños'!H63)","v":""},{"$f":"IF('TD Siniestros Daños'!I63=\"\",\"\",'TD Siniestros Daños'!I63)","v":""},{"$f":"IF('TD Siniestros Daños'!J63=\"\",\"\",'TD Siniestros Daños'!J63)","v":""},{"$f":"IF('TD Siniestros Daños'!K63=\"\",\"\",'TD Siniestros Daños'!K63)","v":""},{"$f":"IF('TD Siniestros Daños'!L63=\"\",\"\",'TD Siniestros Daños'!L63)","v":""},{"$f":"IF('TD Siniestros Daños'!M63=\"\",\"\",'TD Siniestros Daños'!M63)","v":""}]
[null,{"$f":"IF('TD Siniestros Daños'!A64=\"\",\"\",'TD Siniestros Daños'!A64)","v":""},{"$f":"IF('TD Siniestros Daños'!B64=\"\",\"\",'TD Siniestros Daños'!B64)","v":""},{"$f":"IF('TD Siniestros Daños'!C64=\"\",\"\",'TD Siniestros Daños'!C64)","v":""},{"$f":"IF('TD Siniestros Daños'!D64=\"\",\"\",'TD Siniestros Daños'!D64)","v":""},{"$f":"IF('TD Siniestros Daños'!E64=\"\",\"\",'TD Siniestros Daños'!E64)","v":""},{"$f":"IF('TD Siniestros Daños'!F64=\"\",\"\",'TD Siniestros Daños'!F64)","v":""},{"$f":"IF('TD Siniestros Daños'!G64=\"\",\"\",'TD Siniestros Daños'!G64)","v":""},"",null,{"$f":"IF('TD Siniestros Daños'!H64=\"\",\"\",'TD Siniestros Daños'!H64)","v":""},{"$f":"IF('TD Siniestros Daños'!I64=\"\",\"\",'TD Siniestros Daños'!I64)","v":""},{"$f":"IF('TD Siniestros Daños'!J64=\"\",\"\",'TD Siniestros Daños'!J64)","v":""},{"$f":"IF('TD Siniestros Daños'!K64=\"\",\"\",'TD Siniestros Daños'!K64)","v":""},{"$f":"IF('TD Siniestros Daños'!L64=\"\",\"\",'TD Siniestros Daños'!L64)","v":""},{"$f":"IF('TD Siniestros Daños'!M64=\"\",\"\",'TD Siniestros Daños'!M64)","v":""}]
[null,{"$f":"IF('TD Siniestros Daños'!A65=\"\",\"\",'TD Siniestros Daños'!A65)","v":""},{"$f":"IF('TD Siniestros Daños'!B65=\"\",\"\",'TD Siniestros Daños'!B65)","v":""},{"$f":"IF('TD Siniestros Daños'!C65=\"\",\"\",'TD Siniestros Daños'!C65)","v":""},{"$f":"IF('TD Siniestros Daños'!D65=\"\",\"\",'TD Siniestros Daños'!D65)","v":""},{"$f":"IF('TD Siniestros Daños'!E65=\"\",\"\",'TD Siniestros Daños'!E65)","v":""},{"$f":"IF('TD Siniestros Daños'!F65=\"\",\"\",'TD Siniestros Daños'!F65)","v":""},{"$f":"IF('TD Siniestros Daños'!G65=\"\",\"\",'TD Siniestros Daños'!G65)","v":""},"",null,{"$f":"IF('TD Siniestros Daños'!H65=\"\",\"\",'TD Siniestros Daños'!H65)","v":""},{"$f":"IF('TD Siniestros Daños'!I65=\"\",\"\",'TD Siniestros Daños'!I65)","v":""},{"$f":"IF('TD Siniestros Daños'!J65=\"\",\"\",'TD Siniestros Daños'!J65)","v":""},{"$f":"IF('TD Siniestros Daños'!K65=\"\",\"\",'TD Siniestros Daños'!K65)","v":""},{"$f":"IF('TD Siniestros Daños'!L65=\"\",\"\",'TD Siniestros Daños'!L65)","v":""},{"$f":"IF('TD Siniestros Daños'!M65=\"\",\"\",'TD Siniestros Daños'!M65)","v":""}]
[null,{"$f":"IF('TD Siniestros Daños'!A66=\"\",\"\",'TD Siniestros Daños'!A66)","v":""},{"$f":"IF('TD Siniestros Daños'!B66=\"\",\"\",'TD Siniestros Daños'!B66)","v":""},{"$f":"IF('TD Siniestros Daños'!C66=\"\",\"\",'TD Siniestros Daños'!C66)","v":""},{"$f":"IF('TD Siniestros Daños'!D66=\"\",\"\",'TD Siniestros Daños'!D66)","v":""},{"$f":"IF('TD Siniestros Daños'!E66=\"\",\"\",'TD Siniestros Daños'!E66)","v":""},{"$f":"IF('TD Siniestros Daños'!F66=\"\",\"\",'TD Siniestros Daños'!F66)","v":""},{"$f":"IF('TD Siniestros Daños'!G66=\"\",\"\",'TD Siniestros Daños'!G66)","v":""},"",null,{"$f":"IF('TD Siniestros Daños'!H66=\"\",\"\",'TD Siniestros Daños'!H66)","v":""},{"$f":"IF('TD Siniestros Daños'!I66=\"\",\"\",'TD Siniestros Daños'!I66)","v":""},{"$f":"IF('TD Siniestros Daños'!J66=\"\",\"\",'TD Siniestros Daños'!J66)","v":""},{"$f":"IF('TD Siniestros Daños'!K66=\"\",\"\",'TD Siniestros Daños'!K66)","v":""},{"$f":"IF('TD Siniestros Daños'!L66=\"\",\"\",'TD Siniestros Daños'!L66)","v":""},{"$f":"IF('TD Siniestros Daños'!M66=\"\",\"\",'TD Siniestros Daños'!M66)","v":""}]
[null,{"$f":"IF('TD Siniestros Daños'!A67=\"\",\"\",'TD Siniestros Daños'!A67)","v":""},{"$f":"IF('TD Siniestros Daños'!B67=\"\",\"\",'TD Siniestros Daños'!B67)","v":""},{"$f":"IF('TD Siniestros Daños'!C67=\"\",\"\",'TD Siniestros Daños'!C67)","v":""},{"$f":"IF('TD Siniestros Daños'!D67=\"\",\"\",'TD Siniestros Daños'!D67)","v":""},{"$f":"IF('TD Siniestros Daños'!E67=\"\",\"\",'TD Siniestros Daños'!E67)","v":""},{"$f":"IF('TD Siniestros Daños'!F67=\"\",\"\",'TD Siniestros Daños'!F67)","v":""},{"$f":"IF('TD Siniestros Daños'!G67=\"\",\"\",'TD Siniestros Daños'!G67)","v":""},"",null,{"$f":"IF('TD Siniestros Daños'!H67=\"\",\"\",'TD Siniestros Daños'!H67)","v":""},{"$f":"IF('TD Siniestros Daños'!I67=\"\",\"\",'TD Siniestros Daños'!I67)","v":""},{"$f":"IF('TD Siniestros Daños'!J67=\"\",\"\",'TD Siniestros Daños'!J67)","v":""},{"$f":"IF('TD Siniestros Daños'!K67=\"\",\"\",'TD Siniestros Daños'!K67)","v":""},{"$f":"IF('TD Siniestros Daños'!L67=\"\",\"\",'TD Siniestros Daños'!L67)","v":""},{"$f":"IF('TD Siniestros Daños'!M67=\"\",\"\",'TD Siniestros Daños'!M67)","v":""}]
[null,{"$f":"IF('TD Siniestros Daños'!A68=\"\",\"\",'TD Siniestros Daños'!A68)","v":""},{"$f":"IF('TD Siniestros Daños'!B68=\"\",\"\",'TD Siniestros Daños'!B68)","v":""},{"$f":"IF('TD Siniestros Daños'!C68=\"\",\"\",'TD Siniestros Daños'!C68)","v":""},{"$f":"IF('TD Siniestros Daños'!D68=\"\",\"\",'TD Siniestros Daños'!D68)","v":""},{"$f":"IF('TD Siniestros Daños'!E68=\"\",\"\",'TD Siniestros Daños'!E68)","v":""},{"$f":"IF('TD Siniestros Daños'!F68=\"\",\"\",'TD Siniestros Daños'!F68)","v":""},{"$f":"IF('TD Siniestros Daños'!G68=\"\",\"\",'TD Siniestros Daños'!G68)","v":""},"",null,{"$f":"IF('TD Siniestros Daños'!H68=\"\",\"\",'TD Siniestros Daños'!H68)","v":""},{"$f":"IF('TD Siniestros Daños'!I68=\"\",\"\",'TD Siniestros Daños'!I68)","v":""},{"$f":"IF('TD Siniestros Daños'!J68=\"\",\"\",'TD Siniestros Daños'!J68)","v":""},{"$f":"IF('TD Siniestros Daños'!K68=\"\",\"\",'TD Siniestros Daños'!K68)","v":""},{"$f":"IF('TD Siniestros Daños'!L68=\"\",\"\",'TD Siniestros Daños'!L68)","v":""},{"$f":"IF('TD Siniestros Daños'!M68=\"\",\"\",'TD Siniestros Daños'!M68)","v":""}]
[null,{"$f":"IF('TD Siniestros Daños'!A69=\"\",\"\",'TD Siniestros Daños'!A69)","v":""},{"$f":"IF('TD Siniestros Daños'!B69=\"\",\"\",'TD Siniestros Daños'!B69)","v":""},{"$f":"IF('TD Siniestros Daños'!C69=\"\",\"\",'TD Siniestros Daños'!C69)","v":""},{"$f":"IF('TD Siniestros Daños'!D69=\"\",\"\",'TD Siniestros Daños'!D69)","v":""},{"$f":"IF('TD Siniestros Daños'!E69=\"\",\"\",'TD Siniestros Daños'!E69)","v":""},{"$f":"IF('TD Siniestros Daños'!F69=\"\",\"\",'TD Siniestros Daños'!F69)","v":""},{"$f":"IF('TD Siniestros Daños'!G69=\"\",\"\",'TD Siniestros Daños'!G69)","v":""},"",null,{"$f":"IF('TD Siniestros Daños'!H69=\"\",\"\",'TD Siniestros Daños'!H69)","v":""},{"$f":"IF('TD Siniestros Daños'!I69=\"\",\"\",'TD Siniestros Daños'!I69)","v":""},{"$f":"IF('TD Siniestros Daños'!J69=\"\",\"\",'TD Siniestros Daños'!J69)","v":""},{"$f":"IF('TD Siniestros Daños'!K69=\"\",\"\",'TD Siniestros Daños'!K69)","v":""},{"$f":"IF('TD Siniestros Daños'!L69=\"\",\"\",'TD Siniestros Daños'!L69)","v":""},{"$f":"IF('TD Siniestros Daños'!M69=\"\",\"\",'TD Siniestros Daños'!M69)","v":""}]
[null,{"$f":"IF('TD Siniestros Daños'!A70=\"\",\"\",'TD Siniestros Daños'!A70)","v":""},{"$f":"IF('TD Siniestros Daños'!B70=\"\",\"\",'TD Siniestros Daños'!B70)","v":""},{"$f":"IF('TD Siniestros Daños'!C70=\"\",\"\",'TD Siniestros Daños'!C70)","v":""},{"$f":"IF('TD Siniestros Daños'!D70=\"\",\"\",'TD Siniestros Daños'!D70)","v":""},{"$f":"IF('TD Siniestros Daños'!E70=\"\",\"\",'TD Siniestros Daños'!E70)","v":""},{"$f":"IF('TD Siniestros Daños'!F70=\"\",\"\",'TD Siniestros Daños'!F70)","v":""},{"$f":"IF('TD Siniestros Daños'!G70=\"\",\"\",'TD Siniestros Daños'!G70)","v":""},"",null,{"$f":"IF('TD Siniestros Daños'!H70=\"\",\"\",'TD Siniestros Daños'!H70)","v":""},{"$f":"IF('TD Siniestros Daños'!I70=\"\",\"\",'TD Siniestros Daños'!I70)","v":""},{"$f":"IF('TD Siniestros Daños'!J70=\"\",\"\",'TD Siniestros Daños'!J70)","v":""},{"$f":"IF('TD Siniestros Daños'!K70=\"\",\"\",'TD Siniestros Daños'!K70)","v":""},{"$f":"IF('TD Siniestros Daños'!L70=\"\",\"\",'TD Siniestros Daños'!L70)","v":""},{"$f":"IF('TD Siniestros Daños'!M70=\"\",\"\",'TD Siniestros Daños'!M70)","v":""}]
[null,{"$f":"IF('TD Siniestros Daños'!A71=\"\",\"\",'TD Siniestros Daños'!A71)","v":""},{"$f":"IF('TD Siniestros Daños'!B71=\"\",\"\",'TD Siniestros Daños'!B71)","v":""},{"$f":"IF('TD Siniestros Daños'!C71=\"\",\"\",'TD Siniestros Daños'!C71)","v":""},{"$f":"IF('TD Siniestros Daños'!D71=\"\",\"\",'TD Siniestros Daños'!D71)","v":""},{"$f":"IF('TD Siniestros Daños'!E71=\"\",\"\",'TD Siniestros Daños'!E71)","v":""},{"$f":"IF('TD Siniestros Daños'!F71=\"\",\"\",'TD Siniestros Daños'!F71)","v":""},{"$f":"IF('TD Siniestros Daños'!G71=\"\",\"\",'TD Siniestros Daños'!G71)","v":""},"",null,{"$f":"IF('TD Siniestros Daños'!H71=\"\",\"\",'TD Siniestros Daños'!H71)","v":""},{"$f":"IF('TD Siniestros Daños'!I71=\"\",\"\",'TD Siniestros Daños'!I71)","v":""},{"$f":"IF('TD Siniestros Daños'!J71=\"\",\"\",'TD Siniestros Daños'!J71)","v":""},{"$f":"IF('TD Siniestros Daños'!K71=\"\",\"\",'TD Siniestros Daños'!K71)","v":""},{"$f":"IF('TD Siniestros Daños'!L71=\"\",\"\",'TD Siniestros Daños'!L71)","v":""},{"$f":"IF('TD Siniestros Daños'!M71=\"\",\"\",'TD Siniestros Daños'!M71)","v":""}]
[null,{"$f":"IF('TD Siniestros Daños'!A72=\"\",\"\",'TD Siniestros Daños'!A72)","v":""},{"$f":"IF('TD Siniestros Daños'!B72=\"\",\"\",'TD Siniestros Daños'!B72)","v":""},{"$f":"IF('TD Siniestros Daños'!C72=\"\",\"\",'TD Siniestros Daños'!C72)","v":""},{"$f":"IF('TD Siniestros Daños'!D72=\"\",\"\",'TD Siniestros Daños'!D72)","v":""},{"$f":"IF('TD Siniestros Daños'!E72=\"\",\"\",'TD Siniestros Daños'!E72)","v":""},{"$f":"IF('TD Siniestros Daños'!F72=\"\",\"\",'TD Siniestros Daños'!F72)","v":""},{"$f":"IF('TD Siniestros Daños'!G72=\"\",\"\",'TD Siniestros Daños'!G72)","v":""},{"$f":"IFERROR(D73/VLOOKUP(\"TOTAL\",$C$8:$D$124,2,0)*100,\"\")","v":""},null,{"$f":"IF('TD Siniestros Daños'!H72=\"\",\"\",'TD Siniestros Daños'!H72)","v":""},{"$f":"IF('TD Siniestros Daños'!I72=\"\",\"\",'TD Siniestros Daños'!I72)","v":""},{"$f":"IF('TD Siniestros Daños'!J72=\"\",\"\",'TD Siniestros Daños'!J72)","v":""},{"$f":"IF('TD Siniestros Daños'!K72=\"\",\"\",'TD Siniestros Daños'!K72)","v":""},{"$f":"IF('TD Siniestros Daños'!L72=\"\",\"\",'TD Siniestros Daños'!L72)","v":""},{"$f":"IF('TD Siniestros Daños'!M72=\"\",\"\",'TD Siniestros Daños'!M72)","v":""}]
[null,{"$f":"IF('TD Siniestros Daños'!A73=\"\",\"\",'TD Siniestros Daños'!A73)","v":""},{"$f":"IF('TD Siniestros Daños'!B73=\"\",\"\",'TD Siniestros Daños'!B73)","v":""},{"$f":"IF('TD Siniestros Daños'!C73=\"\",\"\",'TD Siniestros Daños'!C73)","v":""},{"$f":"IF('TD Siniestros Daños'!D73=\"\",\"\",'TD Siniestros Daños'!D73)","v":""},{"$f":"IF('TD Siniestros Daños'!E73=\"\",\"\",'TD Siniestros Daños'!E73)","v":""},{"$f":"IF('TD Siniestros Daños'!F73=\"\",\"\",'TD Siniestros Daños'!F73)","v":""},{"$f":"IF('TD Siniestros Daños'!G73=\"\",\"\",'TD Siniestros Daños'!G73)","v":""},"",null,{"$f":"IF('TD Siniestros Daños'!H73=\"\",\"\",'TD Siniestros Daños'!H73)","v":""},{"$f":"IF('TD Siniestros Daños'!I73=\"\",\"\",'TD Siniestros Daños'!I73)","v":""},{"$f":"IF('TD Siniestros Daños'!J73=\"\",\"\",'TD Siniestros Daños'!J73)","v":""},{"$f":"IF('TD Siniestros Daños'!K73=\"\",\"\",'TD Siniestros Daños'!K73)","v":""},{"$f":"IF('TD Siniestros Daños'!L73=\"\",\"\",'TD Siniestros Daños'!L73)","v":""},{"$f":"IF('TD Siniestros Daños'!M73=\"\",\"\",'TD Siniestros Daños'!M73)","v":""}]
[null,{"$f":"IF('TD Siniestros Daños'!A74=\"\",\"\",'TD Siniestros Daños'!A74)","v":""},{"$f":"IF('TD Siniestros Daños'!B74=\"\",\"\",'TD Siniestros Daños'!B74)","v":""},{"$f":"IF('TD Siniestros Daños'!C74=\"\",\"\",'TD Siniestros Daños'!C74)","v":""},{"$f":"IF('TD Siniestros Daños'!D74=\"\",\"\",'TD Siniestros Daños'!D74)","v":""},{"$f":"IF('TD Siniestros Daños'!E74=\"\",\"\",'TD Siniestros Daños'!E74)","v":""},{"$f":"IF('TD Siniestros Daños'!F74=\"\",\"\",'TD Siniestros Daños'!F74)","v":""},{"$f":"IF('TD Siniestros Daños'!G74=\"\",\"\",'TD Siniestros Daños'!G74)","v":""},"",null,{"$f":"IF('TD Siniestros Daños'!H74=\"\",\"\",'TD Siniestros Daños'!H74)","v":""},{"$f":"IF('TD Siniestros Daños'!I74=\"\",\"\",'TD Siniestros Daños'!I74)","v":""},{"$f":"IF('TD Siniestros Daños'!J74=\"\",\"\",'TD Siniestros Daños'!J74)","v":""},{"$f":"IF('TD Siniestros Daños'!K74=\"\",\"\",'TD Siniestros Daños'!K74)","v":""},{"$f":"IF('TD Siniestros Daños'!L74=\"\",\"\",'TD Siniestros Daños'!L74)","v":""},{"$f":"IF('TD Siniestros Daños'!M74=\"\",\"\",'TD Siniestros Daños'!M74)","v":""}]
[null,{"$f":"IF('TD Siniestros Daños'!A75=\"\",\"\",'TD Siniestros Daños'!A75)","v":""},{"$f":"IF('TD Siniestros Daños'!B75=\"\",\"\",'TD Siniestros Daños'!B75)","v":""},{"$f":"IF('TD Siniestros Daños'!C75=\"\",\"\",'TD Siniestros Daños'!C75)","v":""},{"$f":"IF('TD Siniestros Daños'!D75=\"\",\"\",'TD Siniestros Daños'!D75)","v":""},{"$f":"IF('TD Siniestros Daños'!E75=\"\",\"\",'TD Siniestros Daños'!E75)","v":""},{"$f":"IF('TD Siniestros Daños'!F75=\"\",\"\",'TD Siniestros Daños'!F75)","v":""},{"$f":"IF('TD Siniestros Daños'!G75=\"\",\"\",'TD Siniestros Daños'!G75)","v":""},"",null,{"$f":"IF('TD Siniestros Daños'!H75=\"\",\"\",'TD Siniestros Daños'!H75)","v":""},{"$f":"IF('TD Siniestros Daños'!I75=\"\",\"\",'TD Siniestros Daños'!I75)","v":""},{"$f":"IF('TD Siniestros Daños'!J75=\"\",\"\",'TD Siniestros Daños'!J75)","v":""},{"$f":"IF('TD Siniestros Daños'!K75=\"\",\"\",'TD Siniestros Daños'!K75)","v":""},{"$f":"IF('TD Siniestros Daños'!L75=\"\",\"\",'TD Siniestros Daños'!L75)","v":""},{"$f":"IF('TD Siniestros Daños'!M75=\"\",\"\",'TD Siniestros Daños'!M75)","v":""}]
[null,{"$f":"IF('TD Siniestros Daños'!A76=\"\",\"\",'TD Siniestros Daños'!A76)","v":""},{"$f":"IF('TD Siniestros Daños'!B76=\"\",\"\",'TD Siniestros Daños'!B76)","v":""},{"$f":"IF('TD Siniestros Daños'!C76=\"\",\"\",'TD Siniestros Daños'!C76)","v":""},{"$f":"IF('TD Siniestros Daños'!D76=\"\",\"\",'TD Siniestros Daños'!D76)","v":""},{"$f":"IF('TD Siniestros Daños'!E76=\"\",\"\",'TD Siniestros Daños'!E76)","v":""},{"$f":"IF('TD Siniestros Daños'!F76=\"\",\"\",'TD Siniestros Daños'!F76)","v":""},{"$f":"IF('TD Siniestros Daños'!G76=\"\",\"\",'TD Siniestros Daños'!G76)","v":""},"",null,{"$f":"IF('TD Siniestros Daños'!H76=\"\",\"\",'TD Siniestros Daños'!H76)","v":""},{"$f":"IF('TD Siniestros Daños'!I76=\"\",\"\",'TD Siniestros Daños'!I76)","v":""},{"$f":"IF('TD Siniestros Daños'!J76=\"\",\"\",'TD Siniestros Daños'!J76)","v":""},{"$f":"IF('TD Siniestros Daños'!K76=\"\",\"\",'TD Siniestros Daños'!K76)","v":""},{"$f":"IF('TD Siniestros Daños'!L76=\"\",\"\",'TD Siniestros Daños'!L76)","v":""},{"$f":"IF('TD Siniestros Daños'!M76=\"\",\"\",'TD Siniestros Daños'!M76)","v":""}]
[null,{"$f":"IF('TD Siniestros Daños'!A77=\"\",\"\",'TD Siniestros Daños'!A77)","v":""},{"$f":"IF('TD Siniestros Daños'!B77=\"\",\"\",'TD Siniestros Daños'!B77)","v":""},{"$f":"IF('TD Siniestros Daños'!C77=\"\",\"\",'TD Siniestros Daños'!C77)","v":""},{"$f":"IF('TD Siniestros Daños'!D77=\"\",\"\",'TD Siniestros Daños'!D77)","v":""},{"$f":"IF('TD Siniestros Daños'!E77=\"\",\"\",'TD Siniestros Daños'!E77)","v":""},{"$f":"IF('TD Siniestros Daños'!F77=\"\",\"\",'TD Siniestros Daños'!F77)","v":""},{"$f":"IF('TD Siniestros Daños'!G77=\"\",\"\",'TD Siniestros Daños'!G77)","v":""},"",null,{"$f":"IF('TD Siniestros Daños'!H77=\"\",\"\",'TD Siniestros Daños'!H77)","v":""},{"$f":"IF('TD Siniestros Daños'!I77=\"\",\"\",'TD Siniestros Daños'!I77)","v":""},{"$f":"IF('TD Siniestros Daños'!J77=\"\",\"\",'TD Siniestros Daños'!J77)","v":""},{"$f":"IF('TD Siniestros Daños'!K77=\"\",\"\",'TD Siniestros Daños'!K77)","v":""},{"$f":"IF('TD Siniestros Daños'!L77=\"\",\"\",'TD Siniestros Daños'!L77)","v":""},{"$f":"IF('TD Siniestros Daños'!M77=\"\",\"\",'TD Siniestros Daños'!M77)","v":""}]
[null,{"$f":"IF('TD Siniestros Daños'!A78=\"\",\"\",'TD Siniestros Daños'!A78)","v":""},{"$f":"IF('TD Siniestros Daños'!B78=\"\",\"\",'TD Siniestros Daños'!B78)","v":""},{"$f":"IF('TD Siniestros Daños'!C78=\"\",\"\",'TD Siniestros Daños'!C78)","v":""},{"$f":"IF('TD Siniestros Daños'!D78=\"\",\"\",'TD Siniestros Daños'!D78)","v":""},{"$f":"IF('TD Siniestros Daños'!E78=\"\",\"\",'TD Siniestros Daños'!E78)","v":""},{"$f":"IF('TD Siniestros Daños'!F78=\"\",\"\",'TD Siniestros Daños'!F78)","v":""},{"$f":"IF('TD Siniestros Daños'!G78=\"\",\"\",'TD Siniestros Daños'!G78)","v":""},"",null,{"$f":"IF('TD Siniestros Daños'!H78=\"\",\"\",'TD Siniestros Daños'!H78)","v":""},{"$f":"IF('TD Siniestros Daños'!I78=\"\",\"\",'TD Siniestros Daños'!I78)","v":""},{"$f":"IF('TD Siniestros Daños'!J78=\"\",\"\",'TD Siniestros Daños'!J78)","v":""},{"$f":"IF('TD Siniestros Daños'!K78=\"\",\"\",'TD Siniestros Daños'!K78)","v":""},{"$f":"IF('TD Siniestros Daños'!L78=\"\",\"\",'TD Siniestros Daños'!L78)","v":""},{"$f":"IF('TD Siniestros Daños'!M78=\"\",\"\",'TD Siniestros Daños'!M78)","v":""}]
[null,{"$f":"IF('TD Siniestros Daños'!A79=\"\",\"\",'TD Siniestros Daños'!A79)","v":""},{"$f":"IF('TD Siniestros Daños'!B79=\"\",\"\",'TD Siniestros Daños'!B79)","v":""},{"$f":"IF('TD Siniestros Daños'!C79=\"\",\"\",'TD Siniestros Daños'!C79)","v":""},{"$f":"IF('TD Siniestros Daños'!D79=\"\",\"\",'TD Siniestros Daños'!D79)","v":""},{"$f":"IF('TD Siniestros Daños'!E79=\"\",\"\",'TD Siniestros Daños'!E79)","v":""},{"$f":"IF('TD Siniestros Daños'!F79=\"\",\"\",'TD Siniestros Daños'!F79)","v":""},{"$f":"IF('TD Siniestros Daños'!G79=\"\",\"\",'TD Siniestros Daños'!G79)","v":""},"",null,{"$f":"IF('TD Siniestros Daños'!H79=\"\",\"\",'TD Siniestros Daños'!H79)","v":""},{"$f":"IF('TD Siniestros Daños'!I79=\"\",\"\",'TD Siniestros Daños'!I79)","v":""},{"$f":"IF('TD Siniestros Daños'!J79=\"\",\"\",'TD Siniestros Daños'!J79)","v":""},{"$f":"IF('TD Siniestros Daños'!K79=\"\",\"\",'TD Siniestros Daños'!K79)","v":""},{"$f":"IF('TD Siniestros Daños'!L79=\"\",\"\",'TD Siniestros Daños'!L79)","v":""},{"$f":"IF('TD Siniestros Daños'!M79=\"\",\"\",'TD Siniestros Daños'!M79)","v":""}]
[null,{"$f":"IF('TD Siniestros Daños'!A80=\"\",\"\",'TD Siniestros Daños'!A80)","v":""},{"$f":"IF('TD Siniestros Daños'!B80=\"\",\"\",'TD Siniestros Daños'!B80)","v":""},{"$f":"IF('TD Siniestros Daños'!C80=\"\",\"\",'TD Siniestros Daños'!C80)","v":""},{"$f":"IF('TD Siniestros Daños'!D80=\"\",\"\",'TD Siniestros Daños'!D80)","v":""},{"$f":"IF('TD Siniestros Daños'!E80=\"\",\"\",'TD Siniestros Daños'!E80)","v":""},{"$f":"IF('TD Siniestros Daños'!F80=\"\",\"\",'TD Siniestros Daños'!F80)","v":""},{"$f":"IF('TD Siniestros Daños'!G80=\"\",\"\",'TD Siniestros Daños'!G80)","v":""},"",null,{"$f":"IF('TD Siniestros Daños'!H80=\"\",\"\",'TD Siniestros Daños'!H80)","v":""},{"$f":"IF('TD Siniestros Daños'!I80=\"\",\"\",'TD Siniestros Daños'!I80)","v":""},{"$f":"IF('TD Siniestros Daños'!J80=\"\",\"\",'TD Siniestros Daños'!J80)","v":""},{"$f":"IF('TD Siniestros Daños'!K80=\"\",\"\",'TD Siniestros Daños'!K80)","v":""},{"$f":"IF('TD Siniestros Daños'!L80=\"\",\"\",'TD Siniestros Daños'!L80)","v":""},{"$f":"IF('TD Siniestros Daños'!M80=\"\",\"\",'TD Siniestros Daños'!M80)","v":""}]
[null,{"$f":"IF('TD Siniestros Daños'!A81=\"\",\"\",'TD Siniestros Daños'!A81)","v":""},{"$f":"IF('TD Siniestros Daños'!B81=\"\",\"\",'TD Siniestros Daños'!B81)","v":""},{"$f":"IF('TD Siniestros Daños'!C81=\"\",\"\",'TD Siniestros Daños'!C81)","v":""},{"$f":"IF('TD Siniestros Daños'!D81=\"\",\"\",'TD Siniestros Daños'!D81)","v":""},{"$f":"IF('TD Siniestros Daños'!E81=\"\",\"\",'TD Siniestros Daños'!E81)","v":""},{"$f":"IF('TD Siniestros Daños'!F81=\"\",\"\",'TD Siniestros Daños'!F81)","v":""},{"$f":"IF('TD Siniestros Daños'!G81=\"\",\"\",'TD Siniestros Daños'!G81)","v":""},"",null,{"$f":"IF('TD Siniestros Daños'!H81=\"\",\"\",'TD Siniestros Daños'!H81)","v":""},{"$f":"IF('TD Siniestros Daños'!I81=\"\",\"\",'TD Siniestros Daños'!I81)","v":""},{"$f":"IF('TD Siniestros Daños'!J81=\"\",\"\",'TD Siniestros Daños'!J81)","v":""},{"$f":"IF('TD Siniestros Daños'!K81=\"\",\"\",'TD Siniestros Daños'!K81)","v":""},{"$f":"IF('TD Siniestros Daños'!L81=\"\",\"\",'TD Siniestros Daños'!L81)","v":""},{"$f":"IF('TD Siniestros Daños'!M81=\"\",\"\",'TD Siniestros Daños'!M81)","v":""}]
[null,{"$f":"IF('TD Siniestros Daños'!A82=\"\",\"\",'TD Siniestros Daños'!A82)","v":""},{"$f":"IF('TD Siniestros Daños'!B82=\"\",\"\",'TD Siniestros Daños'!B82)","v":""},{"$f":"IF('TD Siniestros Daños'!C82=\"\",\"\",'TD Siniestros Daños'!C82)","v":""},{"$f":"IF('TD Siniestros Daños'!D82=\"\",\"\",'TD Siniestros Daños'!D82)","v":""},{"$f":"IF('TD Siniestros Daños'!E82=\"\",\"\",'TD Siniestros Daños'!E82)","v":""},{"$f":"IF('TD Siniestros Daños'!F82=\"\",\"\",'TD Siniestros Daños'!F82)","v":""},{"$f":"IF('TD Siniestros Daños'!G82=\"\",\"\",'TD Siniestros Daños'!G82)","v":""},"",null,{"$f":"IF('TD Siniestros Daños'!H82=\"\",\"\",'TD Siniestros Daños'!H82)","v":""},{"$f":"IF('TD Siniestros Daños'!I82=\"\",\"\",'TD Siniestros Daños'!I82)","v":""},{"$f":"IF('TD Siniestros Daños'!J82=\"\",\"\",'TD Siniestros Daños'!J82)","v":""},{"$f":"IF('TD Siniestros Daños'!K82=\"\",\"\",'TD Siniestros Daños'!K82)","v":""},{"$f":"IF('TD Siniestros Daños'!L82=\"\",\"\",'TD Siniestros Daños'!L82)","v":""},{"$f":"IF('TD Siniestros Daños'!M82=\"\",\"\",'TD Siniestros Daños'!M82)","v":""}]
[null,{"$f":"IF('TD Siniestros Daños'!A83=\"\",\"\",'TD Siniestros Daños'!A83)","v":""},{"$f":"IF('TD Siniestros Daños'!B83=\"\",\"\",'TD Siniestros Daños'!B83)","v":""},{"$f":"IF('TD Siniestros Daños'!C83=\"\",\"\",'TD Siniestros Daños'!C83)","v":""},{"$f":"IF('TD Siniestros Daños'!D83=\"\",\"\",'TD Siniestros Daños'!D83)","v":""},{"$f":"IF('TD Siniestros Daños'!E83=\"\",\"\",'TD Siniestros Daños'!E83)","v":""},{"$f":"IF('TD Siniestros Daños'!F83=\"\",\"\",'TD Siniestros Daños'!F83)","v":""},{"$f":"IF('TD Siniestros Daños'!G83=\"\",\"\",'TD Siniestros Daños'!G83)","v":""},"",null,{"$f":"IF('TD Siniestros Daños'!H83=\"\",\"\",'TD Siniestros Daños'!H83)","v":""},{"$f":"IF('TD Siniestros Daños'!I83=\"\",\"\",'TD Siniestros Daños'!I83)","v":""},{"$f":"IF('TD Siniestros Daños'!J83=\"\",\"\",'TD Siniestros Daños'!J83)","v":""},{"$f":"IF('TD Siniestros Daños'!K83=\"\",\"\",'TD Siniestros Daños'!K83)","v":""},{"$f":"IF('TD Siniestros Daños'!L83=\"\",\"\",'TD Siniestros Daños'!L83)","v":""},{"$f":"IF('TD Siniestros Daños'!M83=\"\",\"\",'TD Siniestros Daños'!M83)","v":""}]
[null,{"$f":"IF('TD Siniestros Daños'!A84=\"\",\"\",'TD Siniestros Daños'!A84)","v":""},{"$f":"IF('TD Siniestros Daños'!B84=\"\",\"\",'TD Siniestros Daños'!B84)","v":""},{"$f":"IF('TD Siniestros Daños'!C84=\"\",\"\",'TD Siniestros Daños'!C84)","v":""},{"$f":"IF('TD Siniestros Daños'!D84=\"\",\"\",'TD Siniestros Daños'!D84)","v":""},{"$f":"IF('TD Siniestros Daños'!E84=\"\",\"\",'TD Siniestros Daños'!E84)","v":""},{"$f":"IF('TD Siniestros Daños'!F84=\"\",\"\",'TD Siniestros Daños'!F84)","v":""},{"$f":"IF('TD Siniestros Daños'!G84=\"\",\"\",'TD Siniestros Daños'!G84)","v":""},"",null,{"$f":"IF('TD Siniestros Daños'!H84=\"\",\"\",'TD Siniestros Daños'!H84)","v":""},{"$f":"IF('TD Siniestros Daños'!I84=\"\",\"\",'TD Siniestros Daños'!I84)","v":""},{"$f":"IF('TD Siniestros Daños'!J84=\"\",\"\",'TD Siniestros Daños'!J84)","v":""},{"$f":"IF('TD Siniestros Daños'!K84=\"\",\"\",'TD Siniestros Daños'!K84)","v":""},{"$f":"IF('TD Siniestros Daños'!L84=\"\",\"\",'TD Siniestros Daños'!L84)","v":""},{"$f":"IF('TD Siniestros Daños'!M84=\"\",\"\",'TD Siniestros Daños'!M84)","v":""}]
[null,{"$f":"IF('TD Siniestros Daños'!A85=\"\",\"\",'TD Siniestros Daños'!A85)","v":""},{"$f":"IF('TD Siniestros Daños'!B85=\"\",\"\",'TD Siniestros Daños'!B85)","v":""},{"$f":"IF('TD Siniestros Daños'!C85=\"\",\"\",'TD Siniestros Daños'!C85)","v":""},{"$f":"IF('TD Siniestros Daños'!D85=\"\",\"\",'TD Siniestros Daños'!D85)","v":""},{"$f":"IF('TD Siniestros Daños'!E85=\"\",\"\",'TD Siniestros Daños'!E85)","v":""},{"$f":"IF('TD Siniestros Daños'!F85=\"\",\"\",'TD Siniestros Daños'!F85)","v":""},{"$f":"IF('TD Siniestros Daños'!G85=\"\",\"\",'TD Siniestros Daños'!G85)","v":""},"",null,{"$f":"IF('TD Siniestros Daños'!H85=\"\",\"\",'TD Siniestros Daños'!H85)","v":""},{"$f":"IF('TD Siniestros Daños'!I85=\"\",\"\",'TD Siniestros Daños'!I85)","v":""},{"$f":"IF('TD Siniestros Daños'!J85=\"\",\"\",'TD Siniestros Daños'!J85)","v":""},{"$f":"IF('TD Siniestros Daños'!K85=\"\",\"\",'TD Siniestros Daños'!K85)","v":""},{"$f":"IF('TD Siniestros Daños'!L85=\"\",\"\",'TD Siniestros Daños'!L85)","v":""},{"$f":"IF('TD Siniestros Daños'!M85=\"\",\"\",'TD Siniestros Daños'!M85)","v":""}]
[null,{"$f":"IF('TD Siniestros Daños'!A86=\"\",\"\",'TD Siniestros Daños'!A86)","v":""},{"$f":"IF('TD Siniestros Daños'!B86=\"\",\"\",'TD Siniestros Daños'!B86)","v":""},{"$f":"IF('TD Siniestros Daños'!C86=\"\",\"\",'TD Siniestros Daños'!C86)","v":""},{"$f":"IF('TD Siniestros Daños'!D86=\"\",\"\",'TD Siniestros Daños'!D86)","v":""},{"$f":"IF('TD Siniestros Daños'!E86=\"\",\"\",'TD Siniestros Daños'!E86)","v":""},{"$f":"IF('TD Siniestros Daños'!F86=\"\",\"\",'TD Siniestros Daños'!F86)","v":""},{"$f":"IF('TD Siniestros Daños'!G86=\"\",\"\",'TD Siniestros Daños'!G86)","v":""},"",null,{"$f":"IF('TD Siniestros Daños'!H86=\"\",\"\",'TD Siniestros Daños'!H86)","v":""},{"$f":"IF('TD Siniestros Daños'!I86=\"\",\"\",'TD Siniestros Daños'!I86)","v":""},{"$f":"IF('TD Siniestros Daños'!J86=\"\",\"\",'TD Siniestros Daños'!J86)","v":""},{"$f":"IF('TD Siniestros Daños'!K86=\"\",\"\",'TD Siniestros Daños'!K86)","v":""},{"$f":"IF('TD Siniestros Daños'!L86=\"\",\"\",'TD Siniestros Daños'!L86)","v":""},{"$f":"IF('TD Siniestros Daños'!M86=\"\",\"\",'TD Siniestros Daños'!M86)","v":""}]
[null,{"$f":"IF('TD Siniestros Daños'!A87=\"\",\"\",'TD Siniestros Daños'!A87)","v":""},{"$f":"IF('TD Siniestros Daños'!B87=\"\",\"\",'TD Siniestros Daños'!B87)","v":""},{"$f":"IF('TD Siniestros Daños'!C87=\"\",\"\",'TD Siniestros Daños'!C87)","v":""},{"$f":"IF('TD Siniestros Daños'!D87=\"\",\"\",'TD Siniestros Daños'!D87)","v":""},{"$f":"IF('TD Siniestros Daños'!E87=\"\",\"\",'TD Siniestros Daños'!E87)","v":""},{"$f":"IF('TD Siniestros Daños'!F87=\"\",\"\",'TD Siniestros Daños'!F87)","v":""},{"$f":"IF('TD Siniestros Daños'!G87=\"\",\"\",'TD Siniestros Daños'!G87)","v":""},"",null,{"$f":"IF('TD Siniestros Daños'!H87=\"\",\"\",'TD Siniestros Daños'!H87)","v":""},{"$f":"IF('TD Siniestros Daños'!I87=\"\",\"\",'TD Siniestros Daños'!I87)","v":""},{"$f":"IF('TD Siniestros Daños'!J87=\"\",\"\",'TD Siniestros Daños'!J87)","v":""},{"$f":"IF('TD Siniestros Daños'!K87=\"\",\"\",'TD Siniestros Daños'!K87)","v":""},{"$f":"IF('TD Siniestros Daños'!L87=\"\",\"\",'TD Siniestros Daños'!L87)","v":""},{"$f":"IF('TD Siniestros Daños'!M87=\"\",\"\",'TD Siniestros Daños'!M87)","v":""}]
[null,{"$f":"IF('TD Siniestros Daños'!A88=\"\",\"\",'TD Siniestros Daños'!A88)","v":""},{"$f":"IF('TD Siniestros Daños'!B88=\"\",\"\",'TD Siniestros Daños'!B88)","v":""},{"$f":"IF('TD Siniestros Daños'!C88=\"\",\"\",'TD Siniestros Daños'!C88)","v":""},{"$f":"IF('TD Siniestros Daños'!D88=\"\",\"\",'TD Siniestros Daños'!D88)","v":""},{"$f":"IF('TD Siniestros Daños'!E88=\"\",\"\",'TD Siniestros Daños'!E88)","v":""},{"$f":"IF('TD Siniestros Daños'!F88=\"\",\"\",'TD Siniestros Daños'!F88)","v":""},{"$f":"IF('TD Siniestros Daños'!G88=\"\",\"\",'TD Siniestros Daños'!G88)","v":""},"",null,{"$f":"IF('TD Siniestros Daños'!H88=\"\",\"\",'TD Siniestros Daños'!H88)","v":""},{"$f":"IF('TD Siniestros Daños'!I88=\"\",\"\",'TD Siniestros Daños'!I88)","v":""},{"$f":"IF('TD Siniestros Daños'!J88=\"\",\"\",'TD Siniestros Daños'!J88)","v":""},{"$f":"IF('TD Siniestros Daños'!K88=\"\",\"\",'TD Siniestros Daños'!K88)","v":""},{"$f":"IF('TD Siniestros Daños'!L88=\"\",\"\",'TD Siniestros Daños'!L88)","v":""},{"$f":"IF('TD Siniestros Daños'!M88=\"\",\"\",'TD Siniestros Daños'!M88)","v":""}]
[null,{"$f":"IF('TD Siniestros Daños'!A89=\"\",\"\",'TD Siniestros Daños'!A89)","v":""},{"$f":"IF('TD Siniestros Daños'!B89=\"\",\"\",'TD Siniestros Daños'!B89)","v":""},{"$f":"IF('TD Siniestros Daños'!C89=\"\",\"\",'TD Siniestros Daños'!C89)","v":""},{"$f":"IF('TD Siniestros Daños'!D89=\"\",\"\",'TD Siniestros Daños'!D89)","v":""},{"$f":"IF('TD Siniestros Daños'!E89=\"\",\"\",'TD Siniestros Daños'!E89)","v":""},{"$f":"IF('TD Siniestros Daños'!F89=\"\",\"\",'TD Siniestros Daños'!F89)","v":""},{"$f":"IF('TD Siniestros Daños'!G89=\"\",\"\",'TD Siniestros Daños'!G89)","v":""},"",null,{"$f":"IF('TD Siniestros Daños'!H89=\"\",\"\",'TD Siniestros Daños'!H89)","v":""},{"$f":"IF('TD Siniestros Daños'!I89=\"\",\"\",'TD Siniestros Daños'!I89)","v":""},{"$f":"IF('TD Siniestros Daños'!J89=\"\",\"\",'TD Siniestros Daños'!J89)","v":""},{"$f":"IF('TD Siniestros Daños'!K89=\"\",\"\",'TD Siniestros Daños'!K89)","v":""},{"$f":"IF('TD Siniestros Daños'!L89=\"\",\"\",'TD Siniestros Daños'!L89)","v":""},{"$f":"IF('TD Siniestros Daños'!M89=\"\",\"\",'TD Siniestros Daños'!M89)","v":""}]
[null,{"$f":"IF('TD Siniestros Daños'!A90=\"\",\"\",'TD Siniestros Daños'!A90)","v":""},{"$f":"IF('TD Siniestros Daños'!B90=\"\",\"\",'TD Siniestros Daños'!B90)","v":""},{"$f":"IF('TD Siniestros Daños'!C90=\"\",\"\",'TD Siniestros Daños'!C90)","v":""},{"$f":"IF('TD Siniestros Daños'!D90=\"\",\"\",'TD Siniestros Daños'!D90)","v":""},{"$f":"IF('TD Siniestros Daños'!E90=\"\",\"\",'TD Siniestros Daños'!E90)","v":""},{"$f":"IF('TD Siniestros Daños'!F90=\"\",\"\",'TD Siniestros Daños'!F90)","v":""},{"$f":"IF('TD Siniestros Daños'!G90=\"\",\"\",'TD Siniestros Daños'!G90)","v":""},"",null,{"$f":"IF('TD Siniestros Daños'!H90=\"\",\"\",'TD Siniestros Daños'!H90)","v":""},{"$f":"IF('TD Siniestros Daños'!I90=\"\",\"\",'TD Siniestros Daños'!I90)","v":""},{"$f":"IF('TD Siniestros Daños'!J90=\"\",\"\",'TD Siniestros Daños'!J90)","v":""},{"$f":"IF('TD Siniestros Daños'!K90=\"\",\"\",'TD Siniestros Daños'!K90)","v":""},{"$f":"IF('TD Siniestros Daños'!L90=\"\",\"\",'TD Siniestros Daños'!L90)","v":""},{"$f":"IF('TD Siniestros Daños'!M90=\"\",\"\",'TD Siniestros Daños'!M90)","v":""}]
[null,{"$f":"IF('TD Siniestros Daños'!A91=\"\",\"\",'TD Siniestros Daños'!A91)","v":""},{"$f":"IF('TD Siniestros Daños'!B91=\"\",\"\",'TD Siniestros Daños'!B91)","v":""},{"$f":"IF('TD Siniestros Daños'!C91=\"\",\"\",'TD Siniestros Daños'!C91)","v":""},{"$f":"IF('TD Siniestros Daños'!D91=\"\",\"\",'TD Siniestros Daños'!D91)","v":""},{"$f":"IF('TD Siniestros Daños'!E91=\"\",\"\",'TD Siniestros Daños'!E91)","v":""},{"$f":"IF('TD Siniestros Daños'!F91=\"\",\"\",'TD Siniestros Daños'!F91)","v":""},{"$f":"IF('TD Siniestros Daños'!G91=\"\",\"\",'TD Siniestros Daños'!G91)","v":""},"",null,{"$f":"IF('TD Siniestros Daños'!H91=\"\",\"\",'TD Siniestros Daños'!H91)","v":""},{"$f":"IF('TD Siniestros Daños'!I91=\"\",\"\",'TD Siniestros Daños'!I91)","v":""},{"$f":"IF('TD Siniestros Daños'!J91=\"\",\"\",'TD Siniestros Daños'!J91)","v":""},{"$f":"IF('TD Siniestros Daños'!K91=\"\",\"\",'TD Siniestros Daños'!K91)","v":""},{"$f":"IF('TD Siniestros Daños'!L91=\"\",\"\",'TD Siniestros Daños'!L91)","v":""},{"$f":"IF('TD Siniestros Daños'!M91=\"\",\"\",'TD Siniestros Daños'!M91)","v":""}]
[null,{"$f":"IF('TD Siniestros Daños'!A92=\"\",\"\",'TD Siniestros Daños'!A92)","v":""},{"$f":"IF('TD Siniestros Daños'!B92=\"\",\"\",'TD Siniestros Daños'!B92)","v":""},{"$f":"IF('TD Siniestros Daños'!C92=\"\",\"\",'TD Siniestros Daños'!C92)","v":""},{"$f":"IF('TD Siniestros Daños'!D92=\"\",\"\",'TD Siniestros Daños'!D92)","v":""},{"$f":"IF('TD Siniestros Daños'!E92=\"\",\"\",'TD Siniestros Daños'!E92)","v":""},{"$f":"IF('TD Siniestros Daños'!F92=\"\",\"\",'TD Siniestros Daños'!F92)","v":""},{"$f":"IF('TD Siniestros Daños'!G92=\"\",\"\",'TD Siniestros Daños'!G92)","v":""},"",null,{"$f":"IF('TD Siniestros Daños'!H92=\"\",\"\",'TD Siniestros Daños'!H92)","v":""},{"$f":"IF('TD Siniestros Daños'!I92=\"\",\"\",'TD Siniestros Daños'!I92)","v":""},{"$f":"IF('TD Siniestros Daños'!J92=\"\",\"\",'TD Siniestros Daños'!J92)","v":""},{"$f":"IF('TD Siniestros Daños'!K92=\"\",\"\",'TD Siniestros Daños'!K92)","v":""},{"$f":"IF('TD Siniestros Daños'!L92=\"\",\"\",'TD Siniestros Daños'!L92)","v":""},{"$f":"IF('TD Siniestros Daños'!M92=\"\",\"\",'TD Siniestros Daños'!M92)","v":""}]
[null,{"$f":"IF('TD Siniestros Daños'!A93=\"\",\"\",'TD Siniestros Daños'!A93)","v":""},{"$f":"IF('TD Siniestros Daños'!B93=\"\",\"\",'TD Siniestros Daños'!B93)","v":""},{"$f":"IF('TD Siniestros Daños'!C93=\"\",\"\",'TD Siniestros Daños'!C93)","v":""},{"$f":"IF('TD Siniestros Daños'!D93=\"\",\"\",'TD Siniestros Daños'!D93)","v":""},{"$f":"IF('TD Siniestros Daños'!E93=\"\",\"\",'TD Siniestros Daños'!E93)","v":""},{"$f":"IF('TD Siniestros Daños'!F93=\"\",\"\",'TD Siniestros Daños'!F93)","v":""},{"$f":"IF('TD Siniestros Daños'!G93=\"\",\"\",'TD Siniestros Daños'!G93)","v":""},"",null,{"$f":"IF('TD Siniestros Daños'!H93=\"\",\"\",'TD Siniestros Daños'!H93)","v":""},{"$f":"IF('TD Siniestros Daños'!I93=\"\",\"\",'TD Siniestros Daños'!I93)","v":""},{"$f":"IF('TD Siniestros Daños'!J93=\"\",\"\",'TD Siniestros Daños'!J93)","v":""},{"$f":"IF('TD Siniestros Daños'!K93=\"\",\"\",'TD Siniestros Daños'!K93)","v":""},{"$f":"IF('TD Siniestros Daños'!L93=\"\",\"\",'TD Siniestros Daños'!L93)","v":""},{"$f":"IF('TD Siniestros Daños'!M93=\"\",\"\",'TD Siniestros Daños'!M93)","v":""}]
[null,{"$f":"IF('TD Siniestros Daños'!A94=\"\",\"\",'TD Siniestros Daños'!A94)","v":""},{"$f":"IF('TD Siniestros Daños'!B94=\"\",\"\",'TD Siniestros Daños'!B94)","v":""},{"$f":"IF('TD Siniestros Daños'!C94=\"\",\"\",'TD Siniestros Daños'!C94)","v":""},{"$f":"IF('TD Siniestros Daños'!D94=\"\",\"\",'TD Siniestros Daños'!D94)","v":""},{"$f":"IF('TD Siniestros Daños'!E94=\"\",\"\",'TD Siniestros Daños'!E94)","v":""},{"$f":"IF('TD Siniestros Daños'!F94=\"\",\"\",'TD Siniestros Daños'!F94)","v":""},{"$f":"IF('TD Siniestros Daños'!G94=\"\",\"\",'TD Siniestros Daños'!G94)","v":""},"",null,{"$f":"IF('TD Siniestros Daños'!H94=\"\",\"\",'TD Siniestros Daños'!H94)","v":""},{"$f":"IF('TD Siniestros Daños'!I94=\"\",\"\",'TD Siniestros Daños'!I94)","v":""},{"$f":"IF('TD Siniestros Daños'!J94=\"\",\"\",'TD Siniestros Daños'!J94)","v":""},{"$f":"IF('TD Siniestros Daños'!K94=\"\",\"\",'TD Siniestros Daños'!K94)","v":""},{"$f":"IF('TD Siniestros Daños'!L94=\"\",\"\",'TD Siniestros Daños'!L94)","v":""},{"$f":"IF('TD Siniestros Daños'!M94=\"\",\"\",'TD Siniestros Daños'!M94)","v":""}]
[null,{"$f":"IF('TD Siniestros Daños'!A95=\"\",\"\",'TD Siniestros Daños'!A95)","v":""},{"$f":"IF('TD Siniestros Daños'!B95=\"\",\"\",'TD Siniestros Daños'!B95)","v":""},{"$f":"IF('TD Siniestros Daños'!C95=\"\",\"\",'TD Siniestros Daños'!C95)","v":""},{"$f":"IF('TD Siniestros Daños'!D95=\"\",\"\",'TD Siniestros Daños'!D95)","v":""},{"$f":"IF('TD Siniestros Daños'!E95=\"\",\"\",'TD Siniestros Daños'!E95)","v":""},{"$f":"IF('TD Siniestros Daños'!F95=\"\",\"\",'TD Siniestros Daños'!F95)","v":""},{"$f":"IF('TD Siniestros Daños'!G95=\"\",\"\",'TD Siniestros Daños'!G95)","v":""},"",null,{"$f":"IF('TD Siniestros Daños'!H95=\"\",\"\",'TD Siniestros Daños'!H95)","v":""},{"$f":"IF('TD Siniestros Daños'!I95=\"\",\"\",'TD Siniestros Daños'!I95)","v":""},{"$f":"IF('TD Siniestros Daños'!J95=\"\",\"\",'TD Siniestros Daños'!J95)","v":""},{"$f":"IF('TD Siniestros Daños'!K95=\"\",\"\",'TD Siniestros Daños'!K95)","v":""},{"$f":"IF('TD Siniestros Daños'!L95=\"\",\"\",'TD Siniestros Daños'!L95)","v":""},{"$f":"IF('TD Siniestros Daños'!M95=\"\",\"\",'TD Siniestros Daños'!M95)","v":""}]
[null,{"$f":"IF('TD Siniestros Daños'!A96=\"\",\"\",'TD Siniestros Daños'!A96)","v":""},{"$f":"IF('TD Siniestros Daños'!B96=\"\",\"\",'TD Siniestros Daños'!B96)","v":""},{"$f":"IF('TD Siniestros Daños'!C96=\"\",\"\",'TD Siniestros Daños'!C96)","v":""},{"$f":"IF('TD Siniestros Daños'!D96=\"\",\"\",'TD Siniestros Daños'!D96)","v":""},{"$f":"IF('TD Siniestros Daños'!E96=\"\",\"\",'TD Siniestros Daños'!E96)","v":""},{"$f":"IF('TD Siniestros Daños'!F96=\"\",\"\",'TD Siniestros Daños'!F96)","v":""},{"$f":"IF('TD Siniestros Daños'!G96=\"\",\"\",'TD Siniestros Daños'!G96)","v":""},"",null,{"$f":"IF('TD Siniestros Daños'!H96=\"\",\"\",'TD Siniestros Daños'!H96)","v":""},{"$f":"IF('TD Siniestros Daños'!I96=\"\",\"\",'TD Siniestros Daños'!I96)","v":""},{"$f":"IF('TD Siniestros Daños'!J96=\"\",\"\",'TD Siniestros Daños'!J96)","v":""},{"$f":"IF('TD Siniestros Daños'!K96=\"\",\"\",'TD Siniestros Daños'!K96)","v":""},{"$f":"IF('TD Siniestros Daños'!L96=\"\",\"\",'TD Siniestros Daños'!L96)","v":""},{"$f":"IF('TD Siniestros Daños'!M96=\"\",\"\",'TD Siniestros Daños'!M96)","v":""}]
[null,{"$f":"IF('TD Siniestros Daños'!A97=\"\",\"\",'TD Siniestros Daños'!A97)","v":""},{"$f":"IF('TD Siniestros Daños'!B97=\"\",\"\",'TD Siniestros Daños'!B97)","v":""},{"$f":"IF('TD Siniestros Daños'!C97=\"\",\"\",'TD Siniestros Daños'!C97)","v":""},{"$f":"IF('TD Siniestros Daños'!D97=\"\",\"\",'TD Siniestros Daños'!D97)","v":""},{"$f":"IF('TD Siniestros Daños'!E97=\"\",\"\",'TD Siniestros Daños'!E97)","v":""},{"$f":"IF('TD Siniestros Daños'!F97=\"\",\"\",'TD Siniestros Daños'!F97)","v":""},{"$f":"IF('TD Siniestros Daños'!G97=\"\",\"\",'TD Siniestros Daños'!G97)","v":""},"",null,{"$f":"IF('TD Siniestros Daños'!H97=\"\",\"\",'TD Siniestros Daños'!H97)","v":""},{"$f":"IF('TD Siniestros Daños'!I97=\"\",\"\",'TD Siniestros Daños'!I97)","v":""},{"$f":"IF('TD Siniestros Daños'!J97=\"\",\"\",'TD Siniestros Daños'!J97)","v":""},{"$f":"IF('TD Siniestros Daños'!K97=\"\",\"\",'TD Siniestros Daños'!K97)","v":""},{"$f":"IF('TD Siniestros Daños'!L97=\"\",\"\",'TD Siniestros Daños'!L97)","v":""},{"$f":"IF('TD Siniestros Daños'!M97=\"\",\"\",'TD Siniestros Daños'!M97)","v":""}]
[null,{"$f":"IF('TD Siniestros Daños'!A98=\"\",\"\",'TD Siniestros Daños'!A98)","v":""},{"$f":"IF('TD Siniestros Daños'!B98=\"\",\"\",'TD Siniestros Daños'!B98)","v":""},{"$f":"IF('TD Siniestros Daños'!C98=\"\",\"\",'TD Siniestros Daños'!C98)","v":""},{"$f":"IF('TD Siniestros Daños'!D98=\"\",\"\",'TD Siniestros Daños'!D98)","v":""},{"$f":"IF('TD Siniestros Daños'!E98=\"\",\"\",'TD Siniestros Daños'!E98)","v":""},{"$f":"IF('TD Siniestros Daños'!F98=\"\",\"\",'TD Siniestros Daños'!F98)","v":""},{"$f":"IF('TD Siniestros Daños'!G98=\"\",\"\",'TD Siniestros Daños'!G98)","v":""},"",null,{"$f":"IF('TD Siniestros Daños'!H98=\"\",\"\",'TD Siniestros Daños'!H98)","v":""},{"$f":"IF('TD Siniestros Daños'!I98=\"\",\"\",'TD Siniestros Daños'!I98)","v":""},{"$f":"IF('TD Siniestros Daños'!J98=\"\",\"\",'TD Siniestros Daños'!J98)","v":""},{"$f":"IF('TD Siniestros Daños'!K98=\"\",\"\",'TD Siniestros Daños'!K98)","v":""},{"$f":"IF('TD Siniestros Daños'!L98=\"\",\"\",'TD Siniestros Daños'!L98)","v":""},{"$f":"IF('TD Siniestros Daños'!M98=\"\",\"\",'TD Siniestros Daños'!M98)","v":""}]
[null,{"$f":"IF('TD Siniestros Daños'!A99=\"\",\"\",'TD Siniestros Daños'!A99)","v":""},{"$f":"IF('TD Siniestros Daños'!B99=\"\",\"\",'TD Siniestros Daños'!B99)","v":""},{"$f":"IF('TD Siniestros Daños'!C99=\"\",\"\",'TD Siniestros Daños'!C99)","v":""},{"$f":"IF('TD Siniestros Daños'!D99=\"\",\"\",'TD Siniestros Daños'!D99)","v":""},{"$f":"IF('TD Siniestros Daños'!E99=\"\",\"\",'TD Siniestros Daños'!E99)","v":""},{"$f":"IF('TD Siniestros Daños'!F99=\"\",\"\",'TD Siniestros Daños'!F99)","v":""},{"$f":"IF('TD Siniestros Daños'!G99=\"\",\"\",'TD Siniestros Daños'!G99)","v":""},"",null,{"$f":"IF('TD Siniestros Daños'!H99=\"\",\"\",'TD Siniestros Daños'!H99)","v":""},{"$f":"IF('TD Siniestros Daños'!I99=\"\",\"\",'TD Siniestros Daños'!I99)","v":""},{"$f":"IF('TD Siniestros Daños'!J99=\"\",\"\",'TD Siniestros Daños'!J99)","v":""},{"$f":"IF('TD Siniestros Daños'!K99=\"\",\"\",'TD Siniestros Daños'!K99)","v":""},{"$f":"IF('TD Siniestros Daños'!L99=\"\",\"\",'TD Siniestros Daños'!L99)","v":""},{"$f":"IF('TD Siniestros Daños'!M99=\"\",\"\",'TD Siniestros Daños'!M99)","v":""}]
[null,{"$f":"IF('TD Siniestros Daños'!A100=\"\",\"\",'TD Siniestros Daños'!A100)","v":""},{"$f":"IF('TD Siniestros Daños'!B100=\"\",\"\",'TD Siniestros Daños'!B100)","v":""},{"$f":"IF('TD Siniestros Daños'!C100=\"\",\"\",'TD Siniestros Daños'!C100)","v":""},{"$f":"IF('TD Siniestros Daños'!D100=\"\",\"\",'TD Siniestros Daños'!D100)","v":""},{"$f":"IF('TD Siniestros Daños'!E100=\"\",\"\",'TD Siniestros Daños'!E100)","v":""},{"$f":"IF('TD Siniestros Daños'!F100=\"\",\"\",'TD Siniestros Daños'!F100)","v":""},{"$f":"IF('TD Siniestros Daños'!G100=\"\",\"\",'TD Siniestros Daños'!G100)","v":""},"",null,{"$f":"IF('TD Siniestros Daños'!H100=\"\",\"\",'TD Siniestros Daños'!H100)","v":""},{"$f":"IF('TD Siniestros Daños'!I100=\"\",\"\",'TD Siniestros Daños'!I100)","v":""},{"$f":"IF('TD Siniestros Daños'!J100=\"\",\"\",'TD Siniestros Daños'!J100)","v":""},{"$f":"IF('TD Siniestros Daños'!K100=\"\",\"\",'TD Siniestros Daños'!K100)","v":""},{"$f":"IF('TD Siniestros Daños'!L100=\"\",\"\",'TD Siniestros Daños'!L100)","v":""},{"$f":"IF('TD Siniestros Daños'!M100=\"\",\"\",'TD Siniestros Daños'!M100)","v":""}]
[null,{"$f":"IF('TD Siniestros Daños'!A101=\"\",\"\",'TD Siniestros Daños'!A101)","v":""},{"$f":"IF('TD Siniestros Daños'!B101=\"\",\"\",'TD Siniestros Daños'!B101)","v":""},{"$f":"IF('TD Siniestros Daños'!C101=\"\",\"\",'TD Siniestros Daños'!C101)","v":""},{"$f":"IF('TD Siniestros Daños'!D101=\"\",\"\",'TD Siniestros Daños'!D101)","v":""},{"$f":"IF('TD Siniestros Daños'!E101=\"\",\"\",'TD Siniestros Daños'!E101)","v":""},{"$f":"IF('TD Siniestros Daños'!F101=\"\",\"\",'TD Siniestros Daños'!F101)","v":""},{"$f":"IF('TD Siniestros Daños'!G101=\"\",\"\",'TD Siniestros Daños'!G101)","v":""},"",null,{"$f":"IF('TD Siniestros Daños'!H101=\"\",\"\",'TD Siniestros Daños'!H101)","v":""},{"$f":"IF('TD Siniestros Daños'!I101=\"\",\"\",'TD Siniestros Daños'!I101)","v":""},{"$f":"IF('TD Siniestros Daños'!J101=\"\",\"\",'TD Siniestros Daños'!J101)","v":""},{"$f":"IF('TD Siniestros Daños'!K101=\"\",\"\",'TD Siniestros Daños'!K101)","v":""},{"$f":"IF('TD Siniestros Daños'!L101=\"\",\"\",'TD Siniestros Daños'!L101)","v":""},{"$f":"IF('TD Siniestros Daños'!M101=\"\",\"\",'TD Siniestros Daños'!M101)","v":""}]
[null,{"$f":"IF('TD Siniestros Daños'!A102=\"\",\"\",'TD Siniestros Daños'!A102)","v":""},{"$f":"IF('TD Siniestros Daños'!B102=\"\",\"\",'TD Siniestros Daños'!B102)","v":""},{"$f":"IF('TD Siniestros Daños'!C102=\"\",\"\",'TD Siniestros Daños'!C102)","v":""},{"$f":"IF('TD Siniestros Daños'!D102=\"\",\"\",'TD Siniestros Daños'!D102)","v":""},{"$f":"IF('TD Siniestros Daños'!E102=\"\",\"\",'TD Siniestros Daños'!E102)","v":""},{"$f":"IF('TD Siniestros Daños'!F102=\"\",\"\",'TD Siniestros Daños'!F102)","v":""},{"$f":"IF('TD Siniestros Daños'!G102=\"\",\"\",'TD Siniestros Daños'!G102)","v":""},"",null,{"$f":"IF('TD Siniestros Daños'!H102=\"\",\"\",'TD Siniestros Daños'!H102)","v":""},{"$f":"IF('TD Siniestros Daños'!I102=\"\",\"\",'TD Siniestros Daños'!I102)","v":""},{"$f":"IF('TD Siniestros Daños'!J102=\"\",\"\",'TD Siniestros Daños'!J102)","v":""},{"$f":"IF('TD Siniestros Daños'!K102=\"\",\"\",'TD Siniestros Daños'!K102)","v":""},{"$f":"IF('TD Siniestros Daños'!L102=\"\",\"\",'TD Siniestros Daños'!L102)","v":""},{"$f":"IF('TD Siniestros Daños'!M102=\"\",\"\",'TD Siniestros Daños'!M102)","v":""}]
[null,{"$f":"IF('TD Siniestros Daños'!A103=\"\",\"\",'TD Siniestros Daños'!A103)","v":""},{"$f":"IF('TD Siniestros Daños'!B103=\"\",\"\",'TD Siniestros Daños'!B103)","v":""},{"$f":"IF('TD Siniestros Daños'!C103=\"\",\"\",'TD Siniestros Daños'!C103)","v":""},{"$f":"IF('TD Siniestros Daños'!D103=\"\",\"\",'TD Siniestros Daños'!D103)","v":""},{"$f":"IF('TD Siniestros Daños'!E103=\"\",\"\",'TD Siniestros Daños'!E103)","v":""},{"$f":"IF('TD Siniestros Daños'!F103=\"\",\"\",'TD Siniestros Daños'!F103)","v":""},{"$f":"IF('TD Siniestros Daños'!G103=\"\",\"\",'TD Siniestros Daños'!G103)","v":""},"",null,{"$f":"IF('TD Siniestros Daños'!H103=\"\",\"\",'TD Siniestros Daños'!H103)","v":""},{"$f":"IF('TD Siniestros Daños'!I103=\"\",\"\",'TD Siniestros Daños'!I103)","v":""},{"$f":"IF('TD Siniestros Daños'!J103=\"\",\"\",'TD Siniestros Daños'!J103)","v":""},{"$f":"IF('TD Siniestros Daños'!K103=\"\",\"\",'TD Siniestros Daños'!K103)","v":""},{"$f":"IF('TD Siniestros Daños'!L103=\"\",\"\",'TD Siniestros Daños'!L103)","v":""},{"$f":"IF('TD Siniestros Daños'!M103=\"\",\"\",'TD Siniestros Daños'!M103)","v":""}]
[null,{"$f":"IF('TD Siniestros Daños'!A104=\"\",\"\",'TD Siniestros Daños'!A104)","v":""},{"$f":"IF('TD Siniestros Daños'!B104=\"\",\"\",'TD Siniestros Daños'!B104)","v":""},{"$f":"IF('TD Siniestros Daños'!C104=\"\",\"\",'TD Siniestros Daños'!C104)","v":""},{"$f":"IF('TD Siniestros Daños'!D104=\"\",\"\",'TD Siniestros Daños'!D104)","v":""},{"$f":"IF('TD Siniestros Daños'!E104=\"\",\"\",'TD Siniestros Daños'!E104)","v":""},{"$f":"IF('TD Siniestros Daños'!F104=\"\",\"\",'TD Siniestros Daños'!F104)","v":""},{"$f":"IF('TD Siniestros Daños'!G104=\"\",\"\",'TD Siniestros Daños'!G104)","v":""},"",null,{"$f":"IF('TD Siniestros Daños'!H104=\"\",\"\",'TD Siniestros Daños'!H104)","v":""},{"$f":"IF('TD Siniestros Daños'!I104=\"\",\"\",'TD Siniestros Daños'!I104)","v":""},{"$f":"IF('TD Siniestros Daños'!J104=\"\",\"\",'TD Siniestros Daños'!J104)","v":""},{"$f":"IF('TD Siniestros Daños'!K104=\"\",\"\",'TD Siniestros Daños'!K104)","v":""},{"$f":"IF('TD Siniestros Daños'!L104=\"\",\"\",'TD Siniestros Daños'!L104)","v":""},{"$f":"IF('TD Siniestros Daños'!M104=\"\",\"\",'TD Siniestros Daños'!M104)","v":""}]
[null,{"$f":"IF('TD Siniestros Daños'!A105=\"\",\"\",'TD Siniestros Daños'!A105)","v":""},{"$f":"IF('TD Siniestros Daños'!B105=\"\",\"\",'TD Siniestros Daños'!B105)","v":""},{"$f":"IF('TD Siniestros Daños'!C105=\"\",\"\",'TD Siniestros Daños'!C105)","v":""},{"$f":"IF('TD Siniestros Daños'!D105=\"\",\"\",'TD Siniestros Daños'!D105)","v":""},{"$f":"IF('TD Siniestros Daños'!E105=\"\",\"\",'TD Siniestros Daños'!E105)","v":""},{"$f":"IF('TD Siniestros Daños'!F105=\"\",\"\",'TD Siniestros Daños'!F105)","v":""},{"$f":"IF('TD Siniestros Daños'!G105=\"\",\"\",'TD Siniestros Daños'!G105)","v":""},"",null,{"$f":"IF('TD Siniestros Daños'!H105=\"\",\"\",'TD Siniestros Daños'!H105)","v":""},{"$f":"IF('TD Siniestros Daños'!I105=\"\",\"\",'TD Siniestros Daños'!I105)","v":""},{"$f":"IF('TD Siniestros Daños'!J105=\"\",\"\",'TD Siniestros Daños'!J105)","v":""},{"$f":"IF('TD Siniestros Daños'!K105=\"\",\"\",'TD Siniestros Daños'!K105)","v":""},{"$f":"IF('TD Siniestros Daños'!L105=\"\",\"\",'TD Siniestros Daños'!L105)","v":""},{"$f":"IF('TD Siniestros Daños'!M105=\"\",\"\",'TD Siniestros Daños'!M105)","v":""}]
[null,{"$f":"IF('TD Siniestros Daños'!A106=\"\",\"\",'TD Siniestros Daños'!A106)","v":""},{"$f":"IF('TD Siniestros Daños'!B106=\"\",\"\",'TD Siniestros Daños'!B106)","v":""},{"$f":"IF('TD Siniestros Daños'!C106=\"\",\"\",'TD Siniestros Daños'!C106)","v":""},{"$f":"IF('TD Siniestros Daños'!D106=\"\",\"\",'TD Siniestros Daños'!D106)","v":""},{"$f":"IF('TD Siniestros Daños'!E106=\"\",\"\",'TD Siniestros Daños'!E106)","v":""},{"$f":"IF('TD Siniestros Daños'!F106=\"\",\"\",'TD Siniestros Daños'!F106)","v":""},{"$f":"IF('TD Siniestros Daños'!G106=\"\",\"\",'TD Siniestros Daños'!G106)","v":""},"",null,{"$f":"IF('TD Siniestros Daños'!H106=\"\",\"\",'TD Siniestros Daños'!H106)","v":""},{"$f":"IF('TD Siniestros Daños'!I106=\"\",\"\",'TD Siniestros Daños'!I106)","v":""},{"$f":"IF('TD Siniestros Daños'!J106=\"\",\"\",'TD Siniestros Daños'!J106)","v":""},{"$f":"IF('TD Siniestros Daños'!K106=\"\",\"\",'TD Siniestros Daños'!K106)","v":""},{"$f":"IF('TD Siniestros Daños'!L106=\"\",\"\",'TD Siniestros Daños'!L106)","v":""},{"$f":"IF('TD Siniestros Daños'!M106=\"\",\"\",'TD Siniestros Daños'!M106)","v":""}]
[null,{"$f":"IF('TD Siniestros Daños'!A107=\"\",\"\",'TD Siniestros Daños'!A107)","v":""},{"$f":"IF('TD Siniestros Daños'!B107=\"\",\"\",'TD Siniestros Daños'!B107)","v":""},{"$f":"IF('TD Siniestros Daños'!C107=\"\",\"\",'TD Siniestros Daños'!C107)","v":""},{"$f":"IF('TD Siniestros Daños'!D107=\"\",\"\",'TD Siniestros Daños'!D107)","v":""},{"$f":"IF('TD Siniestros Daños'!E107=\"\",\"\",'TD Siniestros Daños'!E107)","v":""},{"$f":"IF('TD Siniestros Daños'!F107=\"\",\"\",'TD Siniestros Daños'!F107)","v":""},{"$f":"IF('TD Siniestros Daños'!G107=\"\",\"\",'TD Siniestros Daños'!G107)","v":""},"",null,{"$f":"IF('TD Siniestros Daños'!H107=\"\",\"\",'TD Siniestros Daños'!H107)","v":""},{"$f":"IF('TD Siniestros Daños'!I107=\"\",\"\",'TD Siniestros Daños'!I107)","v":""},{"$f":"IF('TD Siniestros Daños'!J107=\"\",\"\",'TD Siniestros Daños'!J107)","v":""},{"$f":"IF('TD Siniestros Daños'!K107=\"\",\"\",'TD Siniestros Daños'!K107)","v":""},{"$f":"IF('TD Siniestros Daños'!L107=\"\",\"\",'TD Siniestros Daños'!L107)","v":""},{"$f":"IF('TD Siniestros Daños'!M107=\"\",\"\",'TD Siniestros Daños'!M107)","v":""}]
[null,{"$f":"IF('TD Siniestros Daños'!A108=\"\",\"\",'TD Siniestros Daños'!A108)","v":""},{"$f":"IF('TD Siniestros Daños'!B108=\"\",\"\",'TD Siniestros Daños'!B108)","v":""},{"$f":"IF('TD Siniestros Daños'!C108=\"\",\"\",'TD Siniestros Daños'!C108)","v":""},{"$f":"IF('TD Siniestros Daños'!D108=\"\",\"\",'TD Siniestros Daños'!D108)","v":""},{"$f":"IF('TD Siniestros Daños'!E108=\"\",\"\",'TD Siniestros Daños'!E108)","v":""},{"$f":"IF('TD Siniestros Daños'!F108=\"\",\"\",'TD Siniestros Daños'!F108)","v":""},{"$f":"IF('TD Siniestros Daños'!G108=\"\",\"\",'TD Siniestros Daños'!G108)","v":""},"",null,{"$f":"IF('TD Siniestros Daños'!H108=\"\",\"\",'TD Siniestros Daños'!H108)","v":""},{"$f":"IF('TD Siniestros Daños'!I108=\"\",\"\",'TD Siniestros Daños'!I108)","v":""},{"$f":"IF('TD Siniestros Daños'!J108=\"\",\"\",'TD Siniestros Daños'!J108)","v":""},{"$f":"IF('TD Siniestros Daños'!K108=\"\",\"\",'TD Siniestros Daños'!K108)","v":""},{"$f":"IF('TD Siniestros Daños'!L108=\"\",\"\",'TD Siniestros Daños'!L108)","v":""},{"$f":"IF('TD Siniestros Daños'!M108=\"\",\"\",'TD Siniestros Daños'!M108)","v":""}]
[null,{"$f":"IF('TD Siniestros Daños'!A109=\"\",\"\",'TD Siniestros Daños'!A109)","v":""},{"$f":"IF('TD Siniestros Daños'!B109=\"\",\"\",'TD Siniestros Daños'!B109)","v":""},{"$f":"IF('TD Siniestros Daños'!C109=\"\",\"\",'TD Siniestros Daños'!C109)","v":""},{"$f":"IF('TD Siniestros Daños'!D109=\"\",\"\",'TD Siniestros Daños'!D109)","v":""},{"$f":"IF('TD Siniestros Daños'!E109=\"\",\"\",'TD Siniestros Daños'!E109)","v":""},{"$f":"IF('TD Siniestros Daños'!F109=\"\",\"\",'TD Siniestros Daños'!F109)","v":""},{"$f":"IF('TD Siniestros Daños'!G109=\"\",\"\",'TD Siniestros Daños'!G109)","v":""},"",null,{"$f":"IF('TD Siniestros Daños'!H109=\"\",\"\",'TD Siniestros Daños'!H109)","v":""},{"$f":"IF('TD Siniestros Daños'!I109=\"\",\"\",'TD Siniestros Daños'!I109)","v":""},{"$f":"IF('TD Siniestros Daños'!J109=\"\",\"\",'TD Siniestros Daños'!J109)","v":""},{"$f":"IF('TD Siniestros Daños'!K109=\"\",\"\",'TD Siniestros Daños'!K109)","v":""},{"$f":"IF('TD Siniestros Daños'!L109=\"\",\"\",'TD Siniestros Daños'!L109)","v":""},{"$f":"IF('TD Siniestros Daños'!M109=\"\",\"\",'TD Siniestros Daños'!M109)","v":""}]
[null,{"$f":"IF('TD Siniestros Daños'!A110=\"\",\"\",'TD Siniestros Daños'!A110)","v":""},{"$f":"IF('TD Siniestros Daños'!B110=\"\",\"\",'TD Siniestros Daños'!B110)","v":""},{"$f":"IF('TD Siniestros Daños'!C110=\"\",\"\",'TD Siniestros Daños'!C110)","v":""},{"$f":"IF('TD Siniestros Daños'!D110=\"\",\"\",'TD Siniestros Daños'!D110)","v":""},{"$f":"IF('TD Siniestros Daños'!E110=\"\",\"\",'TD Siniestros Daños'!E110)","v":""},{"$f":"IF('TD Siniestros Daños'!F110=\"\",\"\",'TD Siniestros Daños'!F110)","v":""},{"$f":"IF('TD Siniestros Daños'!G110=\"\",\"\",'TD Siniestros Daños'!G110)","v":""},"",null,{"$f":"IF('TD Siniestros Daños'!H110=\"\",\"\",'TD Siniestros Daños'!H110)","v":""},{"$f":"IF('TD Siniestros Daños'!I110=\"\",\"\",'TD Siniestros Daños'!I110)","v":""},{"$f":"IF('TD Siniestros Daños'!J110=\"\",\"\",'TD Siniestros Daños'!J110)","v":""},{"$f":"IF('TD Siniestros Daños'!K110=\"\",\"\",'TD Siniestros Daños'!K110)","v":""},{"$f":"IF('TD Siniestros Daños'!L110=\"\",\"\",'TD Siniestros Daños'!L110)","v":""},{"$f":"IF('TD Siniestros Daños'!M110=\"\",\"\",'TD Siniestros Daños'!M110)","v":""}]
[null,{"$f":"IF('TD Siniestros Daños'!A111=\"\",\"\",'TD Siniestros Daños'!A111)","v":""},{"$f":"IF('TD Siniestros Daños'!B111=\"\",\"\",'TD Siniestros Daños'!B111)","v":""},{"$f":"IF('TD Siniestros Daños'!C111=\"\",\"\",'TD Siniestros Daños'!C111)","v":""},{"$f":"IF('TD Siniestros Daños'!D111=\"\",\"\",'TD Siniestros Daños'!D111)","v":""},{"$f":"IF('TD Siniestros Daños'!E111=\"\",\"\",'TD Siniestros Daños'!E111)","v":""},{"$f":"IF('TD Siniestros Daños'!F111=\"\",\"\",'TD Siniestros Daños'!F111)","v":""},{"$f":"IF('TD Siniestros Daños'!G111=\"\",\"\",'TD Siniestros Daños'!G111)","v":""},"",null,{"$f":"IF('TD Siniestros Daños'!H111=\"\",\"\",'TD Siniestros Daños'!H111)","v":""},{"$f":"IF('TD Siniestros Daños'!I111=\"\",\"\",'TD Siniestros Daños'!I111)","v":""},{"$f":"IF('TD Siniestros Daños'!J111=\"\",\"\",'TD Siniestros Daños'!J111)","v":""},{"$f":"IF('TD Siniestros Daños'!K111=\"\",\"\",'TD Siniestros Daños'!K111)","v":""},{"$f":"IF('TD Siniestros Daños'!L111=\"\",\"\",'TD Siniestros Daños'!L111)","v":""},{"$f":"IF('TD Siniestros Daños'!M111=\"\",\"\",'TD Siniestros Daños'!M111)","v":""}]
[null,{"$f":"IF('TD Siniestros Daños'!A112=\"\",\"\",'TD Siniestros Daños'!A112)","v":""},{"$f":"IF('TD Siniestros Daños'!B112=\"\",\"\",'TD Siniestros Daños'!B112)","v":""},{"$f":"IF('TD Siniestros Daños'!C112=\"\",\"\",'TD Siniestros Daños'!C112)","v":""},{"$f":"IF('TD Siniestros Daños'!D112=\"\",\"\",'TD Siniestros Daños'!D112)","v":""},{"$f":"IF('TD Siniestros Daños'!E112=\"\",\"\",'TD Siniestros Daños'!E112)","v":""},{"$f":"IF('TD Siniestros Daños'!F112=\"\",\"\",'TD Siniestros Daños'!F112)","v":""},{"$f":"IF('TD Siniestros Daños'!G112=\"\",\"\",'TD Siniestros Daños'!G112)","v":""},"",null,{"$f":"IF('TD Siniestros Daños'!H112=\"\",\"\",'TD Siniestros Daños'!H112)","v":""},{"$f":"IF('TD Siniestros Daños'!I112=\"\",\"\",'TD Siniestros Daños'!I112)","v":""},{"$f":"IF('TD Siniestros Daños'!J112=\"\",\"\",'TD Siniestros Daños'!J112)","v":""},{"$f":"IF('TD Siniestros Daños'!K112=\"\",\"\",'TD Siniestros Daños'!K112)","v":""},{"$f":"IF('TD Siniestros Daños'!L112=\"\",\"\",'TD Siniestros Daños'!L112)","v":""},{"$f":"IF('TD Siniestros Daños'!M112=\"\",\"\",'TD Siniestros Daños'!M112)","v":""}]
[null,{"$f":"IF('TD Siniestros Daños'!A113=\"\",\"\",'TD Siniestros Daños'!A113)","v":""},{"$f":"IF('TD Siniestros Daños'!B113=\"\",\"\",'TD Siniestros Daños'!B113)","v":""},{"$f":"IF('TD Siniestros Daños'!C113=\"\",\"\",'TD Siniestros Daños'!C113)","v":""},{"$f":"IF('TD Siniestros Daños'!D113=\"\",\"\",'TD Siniestros Daños'!D113)","v":""},{"$f":"IF('TD Siniestros Daños'!E113=\"\",\"\",'TD Siniestros Daños'!E113)","v":""},{"$f":"IF('TD Siniestros Daños'!F113=\"\",\"\",'TD Siniestros Daños'!F113)","v":""},{"$f":"IF('TD Siniestros Daños'!G113=\"\",\"\",'TD Siniestros Daños'!G113)","v":""},"",null,{"$f":"IF('TD Siniestros Daños'!H113=\"\",\"\",'TD Siniestros Daños'!H113)","v":""},{"$f":"IF('TD Siniestros Daños'!I113=\"\",\"\",'TD Siniestros Daños'!I113)","v":""},{"$f":"IF('TD Siniestros Daños'!J113=\"\",\"\",'TD Siniestros Daños'!J113)","v":""},{"$f":"IF('TD Siniestros Daños'!K113=\"\",\"\",'TD Siniestros Daños'!K113)","v":""},{"$f":"IF('TD Siniestros Daños'!L113=\"\",\"\",'TD Siniestros Daños'!L113)","v":""},{"$f":"IF('TD Siniestros Daños'!M113=\"\",\"\",'TD Siniestros Daños'!M113)","v":""}]
[null,{"$f":"IF('TD Siniestros Daños'!A114=\"\",\"\",'TD Siniestros Daños'!A114)","v":""},{"$f":"IF('TD Siniestros Daños'!B114=\"\",\"\",'TD Siniestros Daños'!B114)","v":""},{"$f":"IF('TD Siniestros Daños'!C114=\"\",\"\",'TD Siniestros Daños'!C114)","v":""},{"$f":"IF('TD Siniestros Daños'!D114=\"\",\"\",'TD Siniestros Daños'!D114)","v":""},{"$f":"IF('TD Siniestros Daños'!E114=\"\",\"\",'TD Siniestros Daños'!E114)","v":""},{"$f":"IF('TD Siniestros Daños'!F114=\"\",\"\",'TD Siniestros Daños'!F114)","v":""},{"$f":"IF('TD Siniestros Daños'!G114=\"\",\"\",'TD Siniestros Daños'!G114)","v":""},"",null,{"$f":"IF('TD Siniestros Daños'!H114=\"\",\"\",'TD Siniestros Daños'!H114)","v":""},{"$f":"IF('TD Siniestros Daños'!I114=\"\",\"\",'TD Siniestros Daños'!I114)","v":""},{"$f":"IF('TD Siniestros Daños'!J114=\"\",\"\",'TD Siniestros Daños'!J114)","v":""},{"$f":"IF('TD Siniestros Daños'!K114=\"\",\"\",'TD Siniestros Daños'!K114)","v":""},{"$f":"IF('TD Siniestros Daños'!L114=\"\",\"\",'TD Siniestros Daños'!L114)","v":""},{"$f":"IF('TD Siniestros Daños'!M114=\"\",\"\",'TD Siniestros Daños'!M114)","v":""}]
[null,{"$f":"IF('TD Siniestros Daños'!A115=\"\",\"\",'TD Siniestros Daños'!A115)","v":""},{"$f":"IF('TD Siniestros Daños'!B115=\"\",\"\",'TD Siniestros Daños'!B115)","v":""},{"$f":"IF('TD Siniestros Daños'!C115=\"\",\"\",'TD Siniestros Daños'!C115)","v":""},{"$f":"IF('TD Siniestros Daños'!D115=\"\",\"\",'TD Siniestros Daños'!D115)","v":""},{"$f":"IF('TD Siniestros Daños'!E115=\"\",\"\",'TD Siniestros Daños'!E115)","v":""},{"$f":"IF('TD Siniestros Daños'!F115=\"\",\"\",'TD Siniestros Daños'!F115)","v":""},{"$f":"IF('TD Siniestros Daños'!G115=\"\",\"\",'TD Siniestros Daños'!G115)","v":""},"",null,{"$f":"IF('TD Siniestros Daños'!H115=\"\",\"\",'TD Siniestros Daños'!H115)","v":""},{"$f":"IF('TD Siniestros Daños'!I115=\"\",\"\",'TD Siniestros Daños'!I115)","v":""},{"$f":"IF('TD Siniestros Daños'!J115=\"\",\"\",'TD Siniestros Daños'!J115)","v":""},{"$f":"IF('TD Siniestros Daños'!K115=\"\",\"\",'TD Siniestros Daños'!K115)","v":""},{"$f":"IF('TD Siniestros Daños'!L115=\"\",\"\",'TD Siniestros Daños'!L115)","v":""},{"$f":"IF('TD Siniestros Daños'!M115=\"\",\"\",'TD Siniestros Daños'!M115)","v":""}]
[null,{"$f":"IF('TD Siniestros Daños'!A116=\"\",\"\",'TD Siniestros Daños'!A116)","v":""},{"$f":"IF('TD Siniestros Daños'!B116=\"\",\"\",'TD Siniestros Daños'!B116)","v":""},{"$f":"IF('TD Siniestros Daños'!C116=\"\",\"\",'TD Siniestros Daños'!C116)","v":""},{"$f":"IF('TD Siniestros Daños'!D116=\"\",\"\",'TD Siniestros Daños'!D116)","v":""},{"$f":"IF('TD Siniestros Daños'!E116=\"\",\"\",'TD Siniestros Daños'!E116)","v":""},{"$f":"IF('TD Siniestros Daños'!F116=\"\",\"\",'TD Siniestros Daños'!F116)","v":""},{"$f":"IF('TD Siniestros Daños'!G116=\"\",\"\",'TD Siniestros Daños'!G116)","v":""},"",null,{"$f":"IF('TD Siniestros Daños'!H116=\"\",\"\",'TD Siniestros Daños'!H116)","v":""},{"$f":"IF('TD Siniestros Daños'!I116=\"\",\"\",'TD Siniestros Daños'!I116)","v":""},{"$f":"IF('TD Siniestros Daños'!J116=\"\",\"\",'TD Siniestros Daños'!J116)","v":""},{"$f":"IF('TD Siniestros Daños'!K116=\"\",\"\",'TD Siniestros Daños'!K116)","v":""},{"$f":"IF('TD Siniestros Daños'!L116=\"\",\"\",'TD Siniestros Daños'!L116)","v":""},{"$f":"IF('TD Siniestros Daños'!M116=\"\",\"\",'TD Siniestros Daños'!M116)","v":""}]
[null,{"$f":"IF('TD Siniestros Daños'!A117=\"\",\"\",'TD Siniestros Daños'!A117)","v":""},{"$f":"IF('TD Siniestros Daños'!B117=\"\",\"\",'TD Siniestros Daños'!B117)","v":""},{"$f":"IF('TD Siniestros Daños'!C117=\"\",\"\",'TD Siniestros Daños'!C117)","v":""},{"$f":"IF('TD Siniestros Daños'!D117=\"\",\"\",'TD Siniestros Daños'!D117)","v":""},{"$f":"IF('TD Siniestros Daños'!E117=\"\",\"\",'TD Siniestros Daños'!E117)","v":""},{"$f":"IF('TD Siniestros Daños'!F117=\"\",\"\",'TD Siniestros Daños'!F117)","v":""},{"$f":"IF('TD Siniestros Daños'!G117=\"\",\"\",'TD Siniestros Daños'!G117)","v":""},"",null,{"$f":"IF('TD Siniestros Daños'!H117=\"\",\"\",'TD Siniestros Daños'!H117)","v":""},{"$f":"IF('TD Siniestros Daños'!I117=\"\",\"\",'TD Siniestros Daños'!I117)","v":""},{"$f":"IF('TD Siniestros Daños'!J117=\"\",\"\",'TD Siniestros Daños'!J117)","v":""},{"$f":"IF('TD Siniestros Daños'!K117=\"\",\"\",'TD Siniestros Daños'!K117)","v":""},{"$f":"IF('TD Siniestros Daños'!L117=\"\",\"\",'TD Siniestros Daños'!L117)","v":""},{"$f":"IF('TD Siniestros Daños'!M117=\"\",\"\",'TD Siniestros Daños'!M117)","v":""}]
[null,{"$f":"IF('TD Siniestros Daños'!A118=\"\",\"\",'TD Siniestros Daños'!A118)","v":""},{"$f":"IF('TD Siniestros Daños'!B118=\"\",\"\",'TD Siniestros Daños'!B118)","v":""},{"$f":"IF('TD Siniestros Daños'!C118=\"\",\"\",'TD Siniestros Daños'!C118)","v":""},{"$f":"IF('TD Siniestros Daños'!D118=\"\",\"\",'TD Siniestros Daños'!D118)","v":""},{"$f":"IF('TD Siniestros Daños'!E118=\"\",\"\",'TD Siniestros Daños'!E118)","v":""},{"$f":"IF('TD Siniestros Daños'!F118=\"\",\"\",'TD Siniestros Daños'!F118)","v":""},{"$f":"IF('TD Siniestros Daños'!G118=\"\",\"\",'TD Siniestros Daños'!G118)","v":""},"",null,{"$f":"IF('TD Siniestros Daños'!H118=\"\",\"\",'TD Siniestros Daños'!H118)","v":""},{"$f":"IF('TD Siniestros Daños'!I118=\"\",\"\",'TD Siniestros Daños'!I118)","v":""},{"$f":"IF('TD Siniestros Daños'!J118=\"\",\"\",'TD Siniestros Daños'!J118)","v":""},{"$f":"IF('TD Siniestros Daños'!K118=\"\",\"\",'TD Siniestros Daños'!K118)","v":""},{"$f":"IF('TD Siniestros Daños'!L118=\"\",\"\",'TD Siniestros Daños'!L118)","v":""},{"$f":"IF('TD Siniestros Daños'!M118=\"\",\"\",'TD Siniestros Daños'!M118)","v":""}]
[null,{"$f":"IF('TD Siniestros Daños'!A119=\"\",\"\",'TD Siniestros Daños'!A119)","v":""},{"$f":"IF('TD Siniestros Daños'!B119=\"\",\"\",'TD Siniestros Daños'!B119)","v":""},{"$f":"IF('TD Siniestros Daños'!C119=\"\",\"\",'TD Siniestros Daños'!C119)","v":""},{"$f":"IF('TD Siniestros Daños'!D119=\"\",\"\",'TD Siniestros Daños'!D119)","v":""},{"$f":"IF('TD Siniestros Daños'!E119=\"\",\"\",'TD Siniestros Daños'!E119)","v":""},{"$f":"IF('TD Siniestros Daños'!F119=\"\",\"\",'TD Siniestros Daños'!F119)","v":""},{"$f":"IF('TD Siniestros Daños'!G119=\"\",\"\",'TD Siniestros Daños'!G119)","v":""},"",null,{"$f":"IF('TD Siniestros Daños'!H119=\"\",\"\",'TD Siniestros Daños'!H119)","v":""},{"$f":"IF('TD Siniestros Daños'!I119=\"\",\"\",'TD Siniestros Daños'!I119)","v":""},{"$f":"IF('TD Siniestros Daños'!J119=\"\",\"\",'TD Siniestros Daños'!J119)","v":""},{"$f":"IF('TD Siniestros Daños'!K119=\"\",\"\",'TD Siniestros Daños'!K119)","v":""},{"$f":"IF('TD Siniestros Daños'!L119=\"\",\"\",'TD Siniestros Daños'!L119)","v":""},{"$f":"IF('TD Siniestros Daños'!M119=\"\",\"\",'TD Siniestros Daños'!M119)","v":""}]
[null,{"$f":"IF('TD Siniestros Daños'!A120=\"\",\"\",'TD Siniestros Daños'!A120)","v":""},{"$f":"IF('TD Siniestros Daños'!B120=\"\",\"\",'TD Siniestros Daños'!B120)","v":""},{"$f":"IF('TD Siniestros Daños'!C120=\"\",\"\",'TD Siniestros Daños'!C120)","v":""},{"$f":"IF('TD Siniestros Daños'!D120=\"\",\"\",'TD Siniestros Daños'!D120)","v":""},{"$f":"IF('TD Siniestros Daños'!E120=\"\",\"\",'TD Siniestros Daños'!E120)","v":""},{"$f":"IF('TD Siniestros Daños'!F120=\"\",\"\",'TD Siniestros Daños'!F120)","v":""},{"$f":"IF('TD Siniestros Daños'!G120=\"\",\"\",'TD Siniestros Daños'!G120)","v":""},"",null,{"$f":"IF('TD Siniestros Daños'!H120=\"\",\"\",'TD Siniestros Daños'!H120)","v":""},{"$f":"IF('TD Siniestros Daños'!I120=\"\",\"\",'TD Siniestros Daños'!I120)","v":""},{"$f":"IF('TD Siniestros Daños'!J120=\"\",\"\",'TD Siniestros Daños'!J120)","v":""},{"$f":"IF('TD Siniestros Daños'!K120=\"\",\"\",'TD Siniestros Daños'!K120)","v":""},{"$f":"IF('TD Siniestros Daños'!L120=\"\",\"\",'TD Siniestros Daños'!L120)","v":""},{"$f":"IF('TD Siniestros Daños'!M120=\"\",\"\",'TD Siniestros Daños'!M120)","v":""}]
[null,{"$f":"IF('TD Siniestros Daños'!A121=\"\",\"\",'TD Siniestros Daños'!A121)","v":""},{"$f":"IF('TD Siniestros Daños'!B121=\"\",\"\",'TD Siniestros Daños'!B121)","v":""},{"$f":"IF('TD Siniestros Daños'!C121=\"\",\"\",'TD Siniestros Daños'!C121)","v":""},{"$f":"IF('TD Siniestros Daños'!D121=\"\",\"\",'TD Siniestros Daños'!D121)","v":""},{"$f":"IF('TD Siniestros Daños'!E121=\"\",\"\",'TD Siniestros Daños'!E121)","v":""},{"$f":"IF('TD Siniestros Daños'!F121=\"\",\"\",'TD Siniestros Daños'!F121)","v":""},{"$f":"IF('TD Siniestros Daños'!G121=\"\",\"\",'TD Siniestros Daños'!G121)","v":""},"",null,{"$f":"IF('TD Siniestros Daños'!H121=\"\",\"\",'TD Siniestros Daños'!H121)","v":""},{"$f":"IF('TD Siniestros Daños'!I121=\"\",\"\",'TD Siniestros Daños'!I121)","v":""},{"$f":"IF('TD Siniestros Daños'!J121=\"\",\"\",'TD Siniestros Daños'!J121)","v":""},{"$f":"IF('TD Siniestros Daños'!K121=\"\",\"\",'TD Siniestros Daños'!K121)","v":""},{"$f":"IF('TD Siniestros Daños'!L121=\"\",\"\",'TD Siniestros Daños'!L121)","v":""},{"$f":"IF('TD Siniestros Daños'!M121=\"\",\"\",'TD Siniestros Daños'!M121)","v":""}]
[null,{"$f":"IF('TD Siniestros Daños'!A122=\"\",\"\",'TD Siniestros Daños'!A122)","v":""},{"$f":"IF('TD Siniestros Daños'!B122=\"\",\"\",'TD Siniestros Daños'!B122)","v":""},{"$f":"IF('TD Siniestros Daños'!C122=\"\",\"\",'TD Siniestros Daños'!C122)","v":""},{"$f":"IF('TD Siniestros Daños'!D122=\"\",\"\",'TD Siniestros Daños'!D122)","v":""},{"$f":"IF('TD Siniestros Daños'!E122=\"\",\"\",'TD Siniestros Daños'!E122)","v":""},{"$f":"IF('TD Siniestros Daños'!F122=\"\",\"\",'TD Siniestros Daños'!F122)","v":""},{"$f":"IF('TD Siniestros Daños'!G122=\"\",\"\",'TD Siniestros Daños'!G122)","v":""},"",null,{"$f":"IF('TD Siniestros Daños'!H122=\"\",\"\",'TD Siniestros Daños'!H122)","v":""},{"$f":"IF('TD Siniestros Daños'!I122=\"\",\"\",'TD Siniestros Daños'!I122)","v":""},{"$f":"IF('TD Siniestros Daños'!J122=\"\",\"\",'TD Siniestros Daños'!J122)","v":""},{"$f":"IF('TD Siniestros Daños'!K122=\"\",\"\",'TD Siniestros Daños'!K122)","v":""},{"$f":"IF('TD Siniestros Daños'!L122=\"\",\"\",'TD Siniestros Daños'!L122)","v":""},{"$f":"IF('TD Siniestros Daños'!M122=\"\",\"\",'TD Siniestros Daños'!M122)","v":""}]
[null,{"$f":"IF('TD Siniestros Daños'!A123=\"\",\"\",'TD Siniestros Daños'!A123)","v":""},{"$f":"IF('TD Siniestros Daños'!B123=\"\",\"\",'TD Siniestros Daños'!B123)","v":""},{"$f":"IF('TD Siniestros Daños'!C123=\"\",\"\",'TD Siniestros Daños'!C123)","v":""},{"$f":"IF('TD Siniestros Daños'!D123=\"\",\"\",'TD Siniestros Daños'!D123)","v":""},{"$f":"IF('TD Siniestros Daños'!E123=\"\",\"\",'TD Siniestros Daños'!E123)","v":""},{"$f":"IF('TD Siniestros Daños'!F123=\"\",\"\",'TD Siniestros Daños'!F123)","v":""},{"$f":"IF('TD Siniestros Daños'!G123=\"\",\"\",'TD Siniestros Daños'!G123)","v":""},"",null,{"$f":"IF('TD Siniestros Daños'!H123=\"\",\"\",'TD Siniestros Daños'!H123)","v":""},{"$f":"IF('TD Siniestros Daños'!I123=\"\",\"\",'TD Siniestros Daños'!I123)","v":""},{"$f":"IF('TD Siniestros Daños'!J123=\"\",\"\",'TD Siniestros Daños'!J123)","v":""},{"$f":"IF('TD Siniestros Daños'!K123=\"\",\"\",'TD Siniestros Daños'!K123)","v":""},{"$f":"IF('TD Siniestros Daños'!L123=\"\",\"\",'TD Siniestros Daños'!L123)","v":""},{"$f":"IF('TD Siniestros Daños'!M123=\"\",\"\",'TD Siniestros Daños'!M123)","v":""}]

{"sheet":"Cat","index":12,"n_rows":77,"n_cols":20,"rows_kept":77,"cut":false,"hidden":true,"merged":[]}
[null,"ramo"]
[null,"Total General",1,{"$f":"E2&F2&\" \"&B2","v":"10 Total General"},1,0,null,"Automoviles Total",0,null,"Pensiones Total",1,null,"Q4","Cuarto Trimestre",null,null,"Ramo_"]
[null,"Total General Sin Pensiones",2,{"$f":"E3&F3&\" \"&B3","v":"11 Total General Sin Pensiones"},1,1,null,"Automoviles Residentes",0,null,"Pensiones IMSS",1,null,"Q3","Tercer Trimestre",null,null,"10 Total General","10 Total General",0]
[null,"Vida Total",3,"12 Vida Total",1,2,null,"Camiones",0,null,"Pensiones ISSSTE",1,null,"Q2","Segundo Trimestre",null,null,"11 Total General Sin Pensiones","10 Total General",0]
[null,"Vida Individual",4,"13 Vida Individual",1,3,null,"Automoviles Turistas",0,null,null,null,null,"Q1","Primer Trimestre",null,null,"12 Vida Total","12 Vida Total",0]
[null,"Vida Gpo y Col",5,"14 Vida Gpo y Col",1,4,null,"Otros Automoviles y Obligatorios",0,null,null,null,null,null,null,null,null,"13 Vida Individual","12 Vida Total",0]
[null,"Pensiones Total",6,"15 Pensiones Total",1,5,null,"Total General",0,null,null,null,null,null,null,null,null,"14 Vida Gpo y Col","12 Vida Total",0]
[null,"Pensiones IMSS",7,"16 Pensiones IMSS",1,6,null,"Total General Sin Pensiones",0,null,null,null,null,null,null,null,null,"15 Pensiones Total","15 Pensiones Total",0]
[null,"IMSS Incapacidad Permanente RT",null,"17 IMSS Incapacidad Permanente RT",1,7,null,"Vida Total",0,null,null,null,null,null,null,null,null,"16 Pensiones IMSS","15 Pensiones Total",0]
[null,"IMSS Invalidez (invalidez y vida)",null,"18 IMSS Invalidez (invalidez y vida)",1,8,null,"Vida Individual",0,null,null,null,null,null,null,null,null,"17 Pensiones ISSSTE","15 Pensiones Total",0]
[null,"IMSS Jubilacion (retiro, cesantia y vejez)",null,"19 IMSS Jubilacion (retiro, cesantia y vejez)",1,9,null,"Vida Gpo y Col",0,null,null,null,null,null,null,null,null,"18 Accidentes y Enfermedades Total","18 Accidentes y Enfermedades Total",0]
[null,"IMSS Muerte (invalidez y vida)",null,"20 IMSS Muerte (invalidez y vida)",2,0,null,"Pensiones Total",1,null,null,null,null,null,null,null,null,"19 Accidentes Personales","18 Accidentes y Enfermedades Total",0]
[null,"IMSS Muerte (riesgos de trabajo)",null,"21 IMSS Muerte (riesgos de trabajo)",2,1,null,"Pensiones IMSS",1,null,null,null,null,null,null,null,null,"20 AP Individual","18 Accidentes y Enfermedades Total",0]
[null,"Pensiones ISSSTE",8,"22 Pensiones ISSSTE",2,2,null,"Pensiones ISSSTE",1,null,null,null,null,null,null,null,null,"21 AP Gpo y Col","18 Accidentes y Enfermedades Total",0]
[null,"ISSSTE Incapacidad Permanente RT",null,"23 ISSSTE Incapacidad Permanente RT",2,3,null,"Accidentes y Enfermedades Total",0,null,null,null,null,null,null,null,null,"22 Gastos Medicos","18 Accidentes y Enfermedades Total",0]
[null,"ISSSTE Invalidez (invalidez y vida)",null,"24 ISSSTE Invalidez (invalidez y vida)",2,4,null,"Accidentes Personales",0,null,null,null,null,null,null,null,null,"23 GMM. Individual","18 Accidentes y Enfermedades Total",0]
[null,"ISSSTE Jubilacion (retiro, cesantia y vejez)",null,"25 ISSSTE Jubilacion (retiro, cesantia y vejez)",2,5,null,"AP Individual",0,null,null,null,null,null,null,null,null,"24 GMM. Gpo y Col","18 Accidentes y Enfermedades Total",0]
[null,"ISSSTE Muerte (invalidez y vida)",null,"26 ISSSTE Muerte (invalidez y vida)",2,6,null,"AP Gpo y Col",0,null,null,null,null,null,null,null,null,"25 Salud","18 Accidentes y Enfermedades Total",0]
[null,"ISSSTE Muerte (riesgos de trabajo)",null,"27 ISSSTE Muerte (riesgos de trabajo)",2,7,null,"Gastos Medicos",0,null,null,null,null,null,null,null,null,"26 Salud Individual","18 Accidentes y Enfermedades Total",0]
[null,"Accidentes y Enfermedades Total",14,"28 Accidentes y Enfermedades Total",2,8,null,"GMM. Individual",0,null,null,null,null,null,null,null,null,"27 Salud Gpo y Col","18 Accidentes y Enfermedades Total",0]
[null,"Accidentes Personales",15,"29 Accidentes Personales",2,9,null,"GMM. Gpo y Col",0,null,null,null,null,null,null,null,null,"28 Daños Total","28 Daños Total",1]
[null,"AP Individual",16,"30 AP Individual",3,0,null,"Salud",0,null,null,null,null,null,null,null,null,"29 Automoviles Total","29 Automoviles Total",1]
[null,"AP Gpo y Col",17,"31 AP Gpo y Col",3,1,null,"Salud Individual",0,null,null,null,null,null,null,null,null,"30 Automoviles Residentes","29 Automoviles Total",1]
[null,"Gastos Medicos",18,"32 Gastos Medicos",3,2,null,"Salud Gpo y Col",0,null,null,null,null,null,null,null,null,"31 Camiones","29 Automoviles Total",1]
[null,"GMM. Individual",19,"33 GMM. Individual",3,3,null,"Daños Total",0,null,null,null,null,null,null,null,null,"32 Automoviles Turistas","29 Automoviles Total",1]
[null,"GMM. Gpo y Col",20,"34 GMM. Gpo y Col",3,4,null,"Daños Sin Autos Total",0,null,null,null,null,null,null,null,null,"33 Otros Automoviles y Obligatorios","29 Automoviles Total",1]
[null,"Salud",21,"35 Salud",3,5,null,"Responsabilidad Civil y Riesgos Profesionales",0,null,null,null,null,null,null,null,null,"34 Daños Sin Autos Total","28 Daños Total",1]
[null,"Salud Individual",22,"36 Salud Individual",3,6,null,"RC General",0,null,null,null,null,null,null,null,null,"35 Responsabilidad Civil y Riesgos Profesionales","35 Responsabilidad Civil y Riesgos Profesionales",1]
[null,"Salud Gpo y Col",23,"37 Salud Gpo y Col",3,7,null,"RC Aviones y Barcos",0,null,null,null,null,null,null,null,null,"36 RC General","35 Responsabilidad Civil y Riesgos Profesionales",1]
[null,"Daños Total",24,"38 Daños Total",3,8,null,"RC Viajero",0,null,null,null,null,null,null,null,null,"37 RC Aviones y Barcos","35 Responsabilidad Civil y Riesgos Profesionales",1]
[null,"Daños",null,{"$f":"D30","v":"38 Daños Total"},null,null,null,"RC Otros",0,null,null,null,null,null,null,null,null,"38 RC Viajero","35 Responsabilidad Civil y Riesgos Profesionales",1]
[null,"Automoviles Total",25,"39 Automoviles Total",3,9,null,"Maritimo y Transportes",0,null,null,null,null,null,null,null,null,"39 RC Otros","35 Responsabilidad Civil y Riesgos Profesionales",1]
[null,"Automoviles",null,"39 Automoviles Total",3,9,null,"MyT Carga",0,null,null,null,null,null,null,null,null,"40 Maritimo y Transportes","40 Maritimo y Transportes",1]
[null,"Automoviles Residentes",26,"41 Automoviles Residentes",4,1,null,"MyT Cascos",0,null,null,null,null,null,null,null,null,"41 MyT Carga","40 Maritimo y Transportes",1]
[null,"Camiones",27,"42 Camiones",4,2,null,"Incendio",0,null,null,null,null,null,null,null,null,"42 MyT Cascos","40 Maritimo y Transportes",1]
[null,"Automoviles Turistas",28,"43 Automoviles Turistas",4,3,null,"Riesgos Catastroficos",0,null,null,null,null,null,null,null,null,"43 Incendio","43 Incendio",1]
[null,"Otros Automoviles y Obligatorios",29,"44 Otros Automoviles y Obligatorios",4,4,null,"Terremoto y Erupcion Volcanica",0,null,null,null,null,null,null,null,null,"44 Riesgos Catastroficos","44 Riesgos Catastroficos",1]
[null,"Daños Sin Autos Total",30,"45 Daños Sin Autos Total",4,5,null,"Huracan y Otros Riesgos Hidrometeorologicos",0,null,null,null,null,null,null,null,null,"45 Terremoto y Erupcion Volcanica","44 Riesgos Catastroficos",1]
[null,"Daños Sin Autos",null,"46 Daños Sin Autos Total",null,null,null,"Otros Riesgos Catastroficos",0,null,null,null,null,null,null,null,null,"46 Huracan y Otros Riesgos Hidrometeorologicos","44 Riesgos Catastroficos",1]
[null,"Responsabilidad Civil y Riesgos Profesionales",31,"46 Responsabilidad Civil y Riesgos Profesionales",4,6,null,"Agricola y de Animales",0,null,null,null,null,null,null,null,null,"47 Otros Riesgos Catastroficos","44 Riesgos Catastroficos",1]
[null,"RC General",32,"47 RC General",4,7,null,"AyA Agricola",0,null,null,null,null,null,null,null,null,"48 Agricola y de Animales","48 Agricola y de Animales",1]
[null,"RC Aviones y Barcos",33,"48 RC Aviones y Barcos",4,8,null,"AyA Otros",0,null,null,null,null,null,null,null,null,"49 AyA Agricola","48 Agricola y de Animales",1]
[null,"RC Viajero",34,"49 RC Viajero",4,9,null,"AyA Pecuario",0,null,null,null,null,null,null,null,null,"50 AyA Otros","48 Agricola y de Animales",1]
[null,"RC Otros",35,"50 RC Otros",5,0,null,"Diversos",0,null,null,null,null,null,null,null,null,"51 AyA Pecuario","48 Agricola y de Animales",1]
[null,"Maritimo y Transportes",36,"51 Maritimo y Transportes",5,1,null,"Miscelaneos",0,null,null,null,null,null,null,null,null,"52 Diversos","52 Diversos",1]
[null,"MyT Carga",37,"52 MyT Carga",5,2,null,"Tecnicos",0,null,null,null,null,null,null,null,null,"53 Miscelaneos","52 Diversos",1]
[null,"MyT Cascos",38,"53 MyT Cascos",5,3,null,"Credito",0,null,null,null,null,null,null,null,null,"54 Tecnicos","52 Diversos",1]
[null,"Incendio",39,"54 Incendio",5,4,null,"Credito a la Vivienda",0,null,null,null,null,null,null,null,null,"55 Credito","52 Diversos",1]
[null,"Riesgos Catastroficos",40,"55 Riesgos Catastroficos",5,5,null,null,null,null,null,null,null,null,null,null,null,"56 Credito a la Vivienda","52 Diversos",1]
[null,"Terremoto y Erupcion Volcanica",41,"56 Terremoto y Erupcion Volcanica",5,6]
[null,"Huracan y Otros Riesgos Hidrometeorologicos",42,"57 Huracan y Otros Riesgos Hidrometeorologicos",5,7]
[null,"Otros Riesgos Catastroficos",43,"58 Otros Riesgos Catastroficos",5,8]
[null,"Agricola y de Animales",44,"59 Agricola y de Animales",5,9]
[null,"AyA Agricola",45,"60 AyA Agricola",6,0]
[null,"AyA Otros",46,"61 AyA Otros",6,1]
[null,"AyA Pecuario",47,"62 AyA Pecuario",6,2]
[null,"Diversos",48,"63 Diversos",6,3]
[null,"Miscelaneos",49,"64 Miscelaneos",6,4]
[null,"Tecnicos",50,"65 Tecnicos",6,5]
[null,"Credito",51,"66 Credito",6,6]
[null,"Credito a la Vivienda",52,"67 Credito a la Vivienda",6,7]
[]
[]
[null,"Automoviles"]
[null,"Daños",null,{"$f":"E65&F65&\" \"&B65","v":" Daños"}]
[null,"Daños Sin Autos"]
[null,"IMSS Incapacidad Permanente RT",null,{"$f":"E67&F67&\" \"&B67","v":" IMSS Incapacidad Permanente RT"}]
[null,"IMSS Invalidez (invalidez y vida)",null,{"$f":"E68&F68&\" \"&B68","v":" IMSS Invalidez (invalidez y vida)"}]
[null,"IMSS Jubilacion (retiro, cesantia y vejez)"]
[null,"IMSS Muerte (invalidez y vida)",null,{"$f":"E70&F70&\" \"&B70","v":" IMSS Muerte (invalidez y vida)"}]
[null,"IMSS Muerte (riesgos de trabajo)",null,{"$f":"E71&F71&\" \"&B71","v":" IMSS Muerte (riesgos de trabajo)"}]
[null,"ISSSTE Incapacidad Permanente RT"]
[null,"ISSSTE Invalidez (invalidez y vida)",null,{"$f":"E73&F73&\" \"&B73","v":" ISSSTE Invalidez (invalidez y vida)"}]
[null,"ISSSTE Jubilacion (retiro, cesantia y vejez)",null,{"$f":"E74&F74&\" \"&B74","v":" ISSSTE Jubilacion (retiro, cesantia y vejez)"}]
[null,"ISSSTE Muerte (invalidez y vida)",null,{"$f":"E75&F75&\" \"&B75","v":" ISSSTE Muerte (invalidez y vida)"}]
[null,"ISSSTE Muerte (riesgos de trabajo)",null,{"$f":"E76&F76&\" \"&B76","v":" ISSSTE Muerte (riesgos de trabajo)"}]
[null,null,null," "]