{"text_format":"1","workbook":"xlsx","n_sheets":13,"sheets":["TDPrimas_","TD Siniestros_","TDPrimas","TDPrimas Vida","TD Siniestros","TD Operación","TD Siniestros Daños","Cat","Inicio","Primas Directas","Siniestros","Primas Directas (Vida)","Siniestros (Daños)"],"not_rendered":{"charts":0,"images":2,"macros":0,"external_links":0,"defined_names":7,"comments":0,"pivot_tables":7},"unopened":[],"bounds":{"document_bytes":16777216,"sheet_cells":100000,"rows_first":2000,"rows_last":500,"rows_between":2000,"halvings":0,"cell_chars":16384,"cell_head_chars":4096},"cells_cut":0,"cells_raw":0,"read":"whole","date_system":"1900"}

{"sheet":"TDPrimas_","index":0,"n_rows":92,"n_cols":11,"rows_kept":92,"cut":false,"hidden":true,"merged":[]}
[]
[]
["periodo","2023-Q3"]
["Ramo_","10 Total General"]
[]
["jerarquia","nombre_compania","Suma de Prima_DirectaAct","Suma de Prima_DirectaAnt","Suma de Part_Mercado_Act","Suma de Part_Mercado_Ant","Suma de PD_IncreAbs","Suma de PD_IncreRel","Suma de Part_Operacion_Act","Suma de Part_Cartera_Act","Suma de Part_Sector_Act"]
[1,"G.N.P.",73374373.455160007,64173691.334030002,12.489772763398371,12.48429605734627,9200682.1211300045,14.337155818635395,100,100,12.489772763398371]
[2,"Metlife México",58609536.351640001,54187451.5788,9.9765048249095649,10.541581355849553,4422084.7728400007,8.160717369056103,100,100,9.9765048249095649]
[3,"BBVA Bancomer",52224009.604280002,43568790.652489997,8.8895616008169274,8.4758359704608921,8655218.951790005,19.865639652073639,100,100,8.8895616008169274]
[4,"AXA Seguros",41806699.471960001,36252985.887170002,7.1163289279950481,7.0526254508633128,5553713.5847899988,15.319327357130796,100,100,7.1163289279950481]
[5,"Quálitas",34917926.445830002,26956119.399939999,5.9437232120829186,5.2440208463989695,7961807.0458900034,29.53617665719246,100,100,5.9437232120829186]
[5.0999999999999996,"TOTAL GRANDES",260932545.32887,225139038.85243002,44.415891329202829,43.798359680918999,35793506.476439983,15.89840067670416,100,100,44.415891329202829]
[6,"Banorte",28721849.16367,23159092.691160001,4.8890280421687802,4.5053504569503939,5562756.4725099988,24.01975132054006,100,100,4.8890280421687802]
[7,"Monterrey New York Life",28072029.511569999,27266941.534120001,4.7784158568820549,5.3044879235393747,805087.97744999826,2.9526156295988093,100,100,4.7784158568820549]
[8,"Citibanamex Seguros",24659912.83171,12807317.37809,4.1976059641788996,2.4915247747901446,11852595.45362,92.545496482321269,100,100,4.1976059641788996]
[9,"Mapfre México",22376637.893310003,17630605.921519998,3.8089473113809191,3.4298432803091741,4746031.9717900045,26.919278854715788,100,100,3.8089473113809191]
[10,"Inbursa",20930115.52899,18372239.078710001,3.5627205325100726,3.5741199723278974,2557876.4502799995,13.922507971519394,100,100,3.5627205325100726]
[11,"Chubb Seguros México",17720859.139090002,16513848.83165,3.0164414821842755,3.2125902932321417,1207010.3074400015,7.3090793051628244,100,100,3.0164414821842755]
[12,"Zurich Santander",15536856.45108,11004873.65721,2.6446809341427189,2.1408788859469348,4531982.7938700002,41.181597672416778,100,100,2.6446809341427189]
[13,"Atlas",15095885.725,13447900.97773,2.5696189757954251,2.6161433706842154,1647984.7472699992,12.254587165678089,100,100,2.5696189757954251]
[14,"Allianz México",15031312.08585,14258839.23074,2.5586272624558615,2.7739026178826927,772472.85511000082,5.4175016816562449,100,100,2.5586272624558615]
[15,"Pensiones Banorte",12749688.19545,15140589.78702,2.1702496507539806,2.9454376311333945,-2390901.5915699992,-15.791337227957358,100,100,2.1702496507539806]
[15.1,"TOTAL MEDIANAS",200895146.52572,169602249.08794999,34.196336012452988,32.994279206796364,31292897.437770009,18.450756169832736,100,100,34.196336012452988]
[16,"Pensiones BBVA Bancomer",10006895.612370001,9346393.5645799991,1.7033719864324115,1.8182395605287232,660502.04779000208,7.0669188412213257,100,100,1.7033719864324115]
[17,"GMX Seguros",9804093.92949,10619077.689379999,1.6688511201417591,2.0658264621265503,-814983.7598899994,-7.6747132258487394,100,100,1.6688511201417591]
[18,"HDI Seguros",8672700.5259799995,6937182.1472500004,1.4762655367775162,1.3495535932196066,1735518.3787299991,25.017627357787966,100,100,1.4762655367775162]
[19,"Zurich Aseguradora Mexicana",8533878.8999300003,2761368.2830099999,1.4526353443497808,0.53719426842728701,5772510.6169199999,209.04530020268567,100,100,1.4526353443497808]
[20,"Agroasemex",8513094.40955,6874534.1096700002,1.44909741210416,1.3373660965632355,1638560.2998799998,23.835219576191125,100,100,1.44909741210416]
[21,"ProFuturo G.N.P.",6397672.8354899995,7777037.0970200002,1.0890107290478992,1.5129382703387855,-1379364.2615300007,-17.736372404068177,100,100,1.0890107290478992]
[22,"AIG Seguros",6304657.6626300002,5126170.0104400003,1.0731777029126974,0.99724081193201786,1178487.6521899998,22.989632606602626,100,100,1.0731777029126974]
[23,"HSBC Seguros",6120455.9873400005,4630757.4616799997,1.0418229265967491,0.90086367044811166,1489698.5256600007,32.169651250090524,100,100,1.0418229265967491]
[24,"Afirme",5692551.0252200002,5607417.7616099995,0.96898502026047995,1.0908623455799107,85133.263610000722,1.5182258078370259,100,100,0.96898502026047995]
[25,"Seguros SURA",4306787.9967099996,5306404.11326,0.73310068469493395,1.0323034030415601,-999616.11655000038,-18.837919148526439,100,100,0.73310068469493395]
[26,"Seguros Azteca",3540235.0162600004,3157216.2366900002,0.60261817307557308,0.6142021971392706,383018.77957000025,12.131534581601988,100,100,0.60261817307557308]
[27,"Hir Seguros",3256773.9065,2675564.4328999999,0.55436747352681726,0.52050205943376504,581209.47360000014,21.722873366575477,100,100,0.55436747352681726]
[28,"BUPA México",3098553.8007,2813660.5540900002,0.52743527533570778,0.54736716295934196,284893.2466099998,10.125359514169997,100,100,0.52743527533570778]
[29,"Ve Por Más",2931433.71942,2414387.3695499999,0.49898812490568151,0.46969289271031922,517046.34987000003,21.415219297074461,100,100,0.49898812490568151]
[30,"FM Global",2851934.3307800004,2720564.8749099998,0.48545575314990114,0.5292564076578693,131369.45587000065,4.8287565968941015,100,100,0.48545575314990114]
[31,"Seguros Argos",2824083.3738899999,2440808.7034900002,0.48071496823523485,0.47483287684213521,383274.67039999971,15.702773832786354,100,100,0.48071496823523485]
[32,"ANA",2392641.0795800001,2218461.75648,0.40727493784445828,0.43157768836510968,174179.32310000015,7.8513556788271099,100,100,0.40727493784445828]
[33,"Plan Seguro",2011777.3748599999,2297238.4493300002,0.34244438595312443,0.44690284008248526,-285461.07447000034,-12.426270966919272,100,100,0.34244438595312443]
[34,"General de Seguros",1971809.2153,1927344.37518,0.33564101296104421,0.37494395731368563,44464.840120000066,2.3070521642426955,100,100,0.33564101296104421]
[35,"Cardif Vida",1796205.0709800001,2297569.8314999999,0.30574970683346087,0.44696730689174002,-501364.76051999978,-21.821524362229148,100,100,0.30574970683346087]
[36,"Seguros Azteca Daños",1661194.5349100002,2353425.7515699998,0.28276823746242236,0.45783347070768321,-692231.21665999969,-29.413769106512223,100,100,0.28276823746242236]
[37,"Cardif Seguros Generales",1656218.0302899999,1437113.4423700001,0.28192113773355332,0.27957484304826308,219104.58791999985,15.2461581292195,100,100,0.28192113773355332]
[38,"El Potosí",1612866.84565,1545104.90457,0.27454190681570961,0.30058341147785556,67761.941080000019,4.385588375234506,100,100,0.27454190681570961]
[39,"HDI Global Seguros",1569411.9180699999,917084.84802999999,0.26714501679312141,0.17840891671509124,652327.0700399999,71.130503512436263,100,100,0.26714501679312141]
[40,"BBVA Bancomer Salud",1544159.2500799999,1038359.19056,0.26284651215161481,0.20200152553704448,505800.05951999989,48.711473266511533,100,100,0.26284651215161481]
[41,"Prudential",1351465.83501,1131408.3401899999,0.23004627340479589,0.22010322901890775,220057.49482000014,19.449873843341603,100,100,0.23004627340479589]
[42,"Insignia Life",1239121.6834200001,1114612.1788999999,0.21092307195744908,0.21683571789694578,124509.50452000019,11.170657101816106,100,100,0.21092307195744908]
[43,"El Águila",1212681.1111300001,979590.21016999998,0.20642236245785628,0.19056865741109832,233090.90096000012,23.794735649670184,100,100,0.20642236245785628]
[44,"Primero Seguros",1040269.57398,701519.26627999998,0.1770745013533567,0.13647296934480183,338750.3077,48.288097559503562,100,100,0.1770745013533567]
[45,"La Latinoamericana",957883.89023000002,958536.21765000001,0.1630508249587157,0.18647283137483833,-652.32741999998689,-6.8054540661932617E-2,100,100,0.1630508249587157]
[46,"General de Salud",939209.72964999999,835821.04413000005,0.15987211267527868,0.16259992450124067,103388.68551999994,12.369715532541603,100,100,0.15987211267527868]
[47,"Pan-American México",799499.22270000004,684641.89482000005,0.13609061509927486,0.1331896596645199,114857.32788,16.776263437719852,100,100,0.13609061509927486]
[48,"Tokio Marine",787883.69756,1108402.21826,0.13411342248154437,0.2156276373654599,-320518.52069999999,-28.917167019311695,100,100,0.13411342248154437]
[49,"Swiss Re Corporate Solutions",654924.37927999999,440535.61340999999,0.11148111103689003,8.5701428533824467E-2,214388.76587,48.665478872526833,100,100,0.11148111103689003]
[50,"Atradius",609310.56254999992,658409.08983000007,0.1037167352882214,0.12808635179642278,-49098.527280000155,-7.457146026443418,100,100,0.1037167352882214]
[51,"Assurant Vida",598107.31757000007,970628.45606999996,0.101809720925797,0.18882524528921829,-372521.13849999988,-38.379375359373803,100,100,0.101809720925797]
[52,"Berkley Seguros",570550.37566999998,445437.85141,9.7118983190291761E-2,8.6655105800369989E-2,125112.52425999998,28.087537658500672,100,100,9.7118983190291761E-2]
[53,"AXA Salud",569036.86289999995,550201.60283999995,9.6861353316513646E-2,0.10703575808547236,18835.260060000001,3.4233379115540918,100,100,9.6861353316513646E-2]
[54,"Sompo Japan",538831.89078000002,617465.55573999998,9.1719868349229711E-2,0.12012123103450462,-78633.664959999966,-12.734907110043025,100,100,9.1719868349229711E-2]
[55,"Patrimonial Vida",531626.28642999998,2312178.0759800002,9.0493331661874496E-2,0.4498091825135917,-1780551.7895500003,-77.007554394153914,100,100,9.0493331661874496E-2]
[56,"Solunion Crédito",488652.45827999996,544250.09826,8.3178334298458015E-2,0.10587795737900167,-55597.639980000036,-10.215457959079654,100,100,8.3178334298458015E-2]
[57,"Patrimonial Inbursa",476051.14227999997,516299.34224999999,8.1033340536351722E-2,0.10044044076118398,-40248.199970000016,-7.7955164139084321,100,100,8.1033340536351722E-2]
[58,"PREVEM Seguros",445468.87245999998,399237.98135000002,7.5827632021863892E-2,7.7667421849982723E-2,46230.891109999968,11.579782803648309,100,100,7.5827632021863892E-2]
[59,"Dentegra",407667.88101999997,363244.9645,6.93931540006609E-2,7.0665370557443583E-2,44422.91651999997,12.229465198821753,100,100,6.93931540006609E-2]
[60,"SHF Cred Vivienda",383722.22219999996,283822.53762000002,6.5317128226969834E-2,5.5214598283774063E-2,99899.684579999943,35.197939324237915,100,100,6.5317128226969834E-2]
[61,"Coface",312582.40041,310673.93868000002,5.3207720449488211E-2,6.0438247312201085E-2,1908.4617299999809,0.61429733633555639,100,100,5.3207720449488211E-2]
[62,"Skandia Life",280734.25735000003,345769.43660999998,4.778653521785297E-2,6.726569602724429E-2,-65035.179259999946,-18.808828188407634,100,100,4.778653521785297E-2]
[63,"Patrimonial Daños",231199.61988999997,188268.49596,3.9354758063792461E-2,3.6625595208508305E-2,42931.123929999972,22.803137461257037,100,100,3.9354758063792461E-2]
[64,"Centauro",217174.45709000001,112760.16842,3.6967397353329746E-2,2.193626853571716E-2,104414.28867000001,92.598556860154787,100,100,3.6967397353329746E-2]
[65,"MediAccess",209673.78633,185978.69294000001,3.5690634514288722E-2,3.6180138850607842E-2,23695.093389999995,12.740757027281857,100,100,3.5690634514288722E-2]
[66,"Assurant Daños",198386.6924,167165.52919999999,3.3769347398549553E-2,3.2520241764698025E-2,31221.16320000001,18.676795000389369,100,100,3.3769347398549553E-2]
[67,"Odontoprev",106585.73477,68622.057419999997,1.814300476324586E-2,1.3349677462627208E-2,37963.677349999998,55.3228492081548,100,100,1.814300476324586E-2]
[68,"Virginia Surety",93997.07677,77349.986629999999,1.6000165643642043E-2,1.5047601486633288E-2,16647.09014,21.521775071055373,100,100,1.6000165643642043E-2]
[69,"Genworth Seg. de Crédito",84326.688069999989,49751.018839999997,1.435407380381807E-2,9.678521453912561E-3,34575.669229999992,69.497409372048935,100,100,1.435407380381807E-2]
[70,"Crabi",60704.479759999995,20106.535540000001,1.03331057182526E-2,3.9115085504798754E-3,40597.94421999999,201.91416934674956,100,100,1.03331057182526E-2]
[71,"SPP Seguros",54230.541290000001,39785.980309999999,9.2311130665001968E-3,7.7399312209799499E-3,14444.560980000002,36.305655578805585,100,100,9.2311130665001968E-3]
[72,"Metlife Pensiones",37040.975299999998,17873.450069999999,6.3051082093991953E-3,3.4770859771588538E-3,19167.525229999999,107.24020910866034,100,100,6.3051082093991953E-3]
[73,"Metlife Más",34905.856340000006,27590.89299,5.9416686408212101E-3,5.3675091679051268E-3,7314.9633500000054,26.512238486268735,100,100,5.9416686408212101E-3]
[74,"SPT",32331.358170000003,21801.08078,5.5034380214792232E-3,4.241163959401455E-3,10530.277390000003,48.301630071754651,100,100,5.5034380214792232E-3]
[75,"Quálitas Salud",12852.044910000001,15724.5065,2.1876727924496132E-3,3.0590322984516694E-3,-2872.461589999999,-18.267419648432202,100,100,2.1876727924496132E-3]
[76,"Citibanamex Pensiones",6207.0736399999996,16251.42186,1.0565669679844891E-3,3.1615379703969415E-3,-10044.34822,-61.80596569659167,100,100,1.0565669679844891E-3]
[77,"Pensiones Inbursa",502.70092999999997,1186.17977,8.5569662649126048E-5,2.307584170097785E-4,-683.47883999999999,-57.62017337388918,100,100,8.5569662649126048E-5]
[78,"Momento Seguros",468.89203999999995,0,7.981471942305839E-5,0,0,0,100,100,7.981471942305839E-5]
[79,"Aserta Seguros de Vida",0,596.24644000000001,0,1.1599328206559777E-4,0,0,0,0,0]
[79,"Zurich Daños",0,4063560.4021999999,0,0.7905216304905377,0,0,0,0,0]
[79,"Zurich Vida",0,706727.70837000001,0,0.13748621529804844,0,0,0,0,0]
[150.1,"TOTAL RESTO",125647955.98254001,119294033.22830996,21.387772658344172,23.207361112284627,6353922.7542300522,5.3262703777226195,100,100,21.387772658344172]
[200,"Patria",0,0,0,0,0,0,0,0,0]
[201.1,"TOTAL",587475647.83713007,514035321.16869003,100,100,73440326.668440044,14.287019518711098,100,100,100]

{"sheet":"TD Siniestros_","index":1,"n_rows":91,"n_cols":9,"rows_kept":91,"cut":false,"hidden":true,"merged":[]}
[]
["periodo","2023-Q3"]
["Ramo_","10 Total General"]
[]
["jerarquia","nombre_compania","Suma de CostoSin_Act","Suma de CostoSin_Ant","Suma de SIN_IncreRel","Suma de IncResvDivAct","Suma de SINvsPRIM_ACT","Suma de SINvsPRIM_ANT","Suma de PartSIN_Merc_Act"]
[1,"G.N.P.",45612532.901630007,42018793.544679977,8.5526952436858714,205015.34680999999,62.164119097390859,65.47666601562355,13.823224680861676]
[2,"Metlife México",40022840.239539996,36303404.426990002,10.245418773410563,101995.43384999999,68.287249364019388,66.995961923393253,12.129225846557238]
[3,"BBVA Bancomer",25601627.500459999,20963635.672359999,22.123986032704579,0,49.022715211743964,48.116175267678472,7.7587677469658525]
[4,"AXA Seguros",26588553.586089998,24382622.644860003,9.0471438341970902,305789.95117000001,63.598786610560097,67.256867394994515,8.057863196334754]
[5,"Quálitas",23308919.181210004,18390335.146129988,26.745483407435721,68561.225480000008,66.753446019683736,68.223229290826353,7.0639450697638839]
[5.0999999999999996,"TOTAL GRANDES",161134473.40893,142058791.43501997,13.428019330036012,681361.95731000009,61.75330609136622,63.098249046063501,48.833026540483402]
[6,"Banorte",13363853.592420006,12909105.82583,3.5226898959964892,248778.39859000003,46.528527868337321,55.740982593663965,4.0500173758945239]
[7,"Monterrey New York Life",18189477.925870001,18161196.546690002,0.15572420631697614,30288.243459999998,64.795735265144032,66.60518387793627,5.5124594974617054]
[8,"Citibanamex Seguros",19475883.151130002,21843432.074469998,-10.838722208435014,0,78.977907521579354,170.55431227025301,5.9023143756758465]
[9,"Mapfre México",10792790.82511,10637862.65701,1.456384361175278,359312.09473000001,48.232405943060577,60.337476229477602,3.2708372681427322]
[10,"Inbursa",11007442.207219997,8707650.5676200055,26.411161331529833,147246.60879,52.59140682703709,47.395695920975406,3.335889000511183]
[11,"Chubb Seguros México",9432791.093559999,8763074.978860002,7.6424784258450007,51627.68894,53.229874576184855,53.065006638942499,2.8586790155924691]
[12,"Zurich Santander",3013393.5876099998,2346331.0491199996,28.430026476450742,0,19.395130521403075,21.32083586059861,0.91323182387690394]
[13,"Atlas",7799893.4423699984,6904341.2948099989,12.970855717013684,23400.095229999999,51.669001637000655,51.341404924409616,2.3638169748912818]
[14,"Allianz México",7911204.2356700022,8892244.9044799991,-11.032542168465687,20739.562440000002,52.631494778937885,62.363035030997494,2.3975505565914972]
[15,"Pensiones Banorte",9832201.4798600003,8783080.75801,11.944791932981168,0,77.117191645273593,58.010162626159513,2.979723368064668]
[15.1,"TOTAL MEDIANAS",110818931.54082002,107948320.65690002,2.6592455227199663,881392.69218000001,55.162572843257919,63.647929928642434,33.584519256702819]
[16,"Pensiones BBVA Bancomer",6564723.8150000004,5707463.0995899998,15.019995757337146,0,65.602001552659672,61.065940142083853,1.9894894339293652]
[17,"GMX Seguros",2866637.1282300004,3734911.3428900004,-23.247518748012553,0,29.239184659455013,35.171711255349756,0.86875616373865738]
[18,"HDI Seguros",5116539.3820499973,4277802.6558100004,19.606718535761502,0,58.995919053388945,61.664845538267777,1.5506061375518738]
[19,"Zurich Aseguradora Mexicana",3361605.8283300013,2826435.77666,18.934449389910135,12368.663830000001,39.391299873701925,102.35634971439138,1.0187601893040048]
[20,"Agroasemex",2580444.3645200008,812253.21292000008,217.68964695669996,-1704.4324000000001,30.311473600307487,11.81539286825927,0.78202327207197464]
[21,"ProFuturo G.N.P.",4219744.4610700011,3577190.09473,17.962544604118946,0,65.95749063099457,45.99682437030814,1.2788256224882371]
[22,"AIG Seguros",825718.03278999997,918426.88687000005,-10.094309672918222,5150.3001899999999,13.096952712981249,17.91643439448017,0.25024012402274165]
[23,"HSBC Seguros",2198253.2860799995,2114375.78553,3.9670100804230612,0,35.916495284453113,45.659393803857789,0.66619736168697674]
[24,"Afirme",3485614.4668300003,4592937.3785199998,-24.109253413048204,3918.7258899999997,61.231150171294104,81.908243219625518,1.0563419494761521]
[25,"Seguros SURA",1827817.3305500001,0,0,15648.3316,42.44038322634615,0,0.55393393062069018]
[26,"Seguros Azteca",1626123.3905999998,2265684.9705099999,-28.228177713781466,0,45.93263958837062,71.762109423500419,0.49280904955543714]
[27,"Hir Seguros",1381357.4599800003,1132979.8114,21.922513188746496,270345.76532000001,42.414901974712812,42.345450457793007,0.4186308744368275]
[28,"BUPA México",2168246.1613799999,2040958.1210599998,6.2366806553527665,0,69.976069509916769,72.537467893673863,0.65710347453869455]
[29,"Ve Por Más",1740872.7770099996,1530453.23434,13.748838445281987,12395.944020000001,59.386393950412796,63.388885049761093,0.52758472302565029]
[30,"FM Global",396493.06121999992,252394.07747999998,57.092854625885003,0,13.902601365703942,9.2772673722162047,0.12016023493952557]
[31,"Seguros Argos",1886421.3534799996,1959058.3264299999,-3.7077493798955419,-841.98501999999996,66.797650909348718,80.262673745338276,0.57169432506997109]
[32,"ANA",1753553.625,1473639.0811400001,18.994782877464079,22014.207969999999,73.289455738501971,66.426165645433571,0.53142775036394063]
[33,"Plan Seguro",1258580.9577499998,1388345.3169300002,-9.3466918926873195,0,62.560647787262489,60.435403096048532,0.38142252252364178]
[34,"General de Seguros",1310649.92337,1536300.7836199999,-14.687934983558149,-10340.45652,66.469408561446031,79.710756593591142,0.39720241819875357]
[35,"Cardif Vida",564636.73166999989,688451.92260000005,-17.98458060257876,-28392.713100000001,31.43498149473195,29.964352471956634,0.17111745190241104]
[36,"Seguros Azteca Daños",683175.58984999999,514118.35448000004,32.882941038156723,1.83E-3,41.12556208758614,21.845531100228051,0.20704155358667384]
[37,"Cardif Seguros Generales",127678.02440000002,134843.23135999998,-5.3137312772270517,0,7.7090106534852723,9.3829218615911572,3.8693795450825942E-2]
[38,"El Potosí",745106.81408999977,957908.27058999985,-22.215222796743394,912.05034000000001,46.197664494102419,61.996325800064952,0.22581028167455758]
[39,"HDI Global Seguros",433804.21594000002,205366.59694999998,111.23406745918717,0,27.6411954659727,22.393412931328026,0.13146766388475137]
[40,"BBVA Bancomer Salud",680258.9154099999,517717.20002000005,31.395849970547761,0,44.053676159033273,49.859162872222349,0.20615763323539676]
[41,"Prudential",207228.61200000002,127354.52664,62.717900546860392,0,15.333618255948487,11.256283175233891,6.2802205484991602E-2]
[42,"Insignia Life",589783.52487999992,563440.64371999993,4.6753604756086808,16887.898659999999,47.596901319020247,50.550375672016621,0.17873837866161268]
[43,"El Águila",647739.05333999987,428620.91600999993,51.121662323377556,0,53.4137991756484,43.755124495947776,0.19630224193420068]
[44,"Primero Seguros",458116.53864999977,393778.74730999989,16.3385636679245,0,44.03825220969189,56.132278361807607,0.13883569801823689]
[45,"La Latinoamericana",636604.33436000021,631729.65921000007,0.77163943135043489,2465.41248,66.459446792360552,65.90566402997095,0.19292778074059116]
[46,"General de Salud",619673.02667000017,435666.38752999995,42.235674912453412,0,65.978131093352658,52.124362097568607,0.18779661929326649]
[47,"Pan-American México",434309.95731000009,413094.61950000003,5.135709062412519,41178.094440000001,54.322749163318242,60.337327093984982,0.13162093264978561]
[48,"Tokio Marine",287009.78168000001,428281.53645999997,-32.985721483044664,1072.08484,36.427937596480511,38.639541621662218,8.6980495170570077E-2]
[49,"Swiss Re Corporate Solutions",76226.916000000027,50071.596010000001,52.235842422071869,765.66129000000001,11.639040843738497,11.366072227944738,2.3101146100998816E-2]
[50,"Atradius",218272.81514999998,100396.27343,117.41127204506037,12336.25758,35.82291668086561,15.248312178667236,6.6149235168538822E-2]
[51,"Assurant Vida",166640.92723,197486.89736,-15.619248943777119,488.22853000000003,27.861375765645441,20.346291737583016,5.050179921152969E-2]
[52,"Berkley Seguros",184059.90794,322683.47029999999,-42.959610615046742,3570.2134499999997,32.260062527144527,72.441861255968647,5.578075367312945E-2]
[53,"AXA Salud",536351.11864999996,353196.83483999997,51.85615094568157,0,94.255953105845791,64.194075956320049,0.16254528194959106]
[54,"Sompo Japan",104283.09031,10382.031290000001,904.4574842540278,2.5688400000000002,19.353548313378838,1.6813944022444591,3.1603782909372366E-2]
[55,"Patrimonial Vida",1066316.7120999999,1236859.2317700002,-13.788353216715411,6383.8623899999993,200.57637090531705,53.493251433316445,0.32315538196716209]
[56,"Solunion Crédito",98226.974509999985,83479.234460000007,17.666357562330681,517.20686999999998,20.101602446808016,15.338395845382131,2.9768430999026582E-2]
[57,"Patrimonial Inbursa",29121.332980000003,45561.86404,-36.08397374955161,0,6.1172698463711805,8.8246992222465881,8.8254412368829801E-3]
[58,"PREVEM Seguros",344275.90805000003,262766.69008999999,31.019615892745911,0,77.283942680173141,65.817057084967146,0.10433542990138918]
[59,"Dentegra",139240.40759000002,0,0,92.980289999999997,34.155353922319172,0,4.2197863532865656E-2]
[60,"SHF Cred Vivienda",-170063.96534999998,9932.0290399999994,-1812.2781726179892,0,-44.319550839398843,3.4993799728820845,-5.1539176923615114E-2]
[61,"Coface",45837.32632,31702.563580000009,44.585551273579327,438.96096,14.664077779131929,10.204448984262642,1.3891350034382579E-2]
[62,"Skandia Life",116386.46058000001,51987.613660000003,123.87344289578226,0,41.457876099138637,15.035340939817605,3.5271801236674963E-2]
[63,"Patrimonial Daños",56710.897570000001,30157.435469999989,88.049470010189907,0,24.528975262581262,16.018312206842783,1.7186668424095081E-2]
[64,"Centauro",87856.001090000005,68053.621069999994,29.098201842384363,175.47427999999999,40.454113373743255,60.352535849821841,2.6625428700665265E-2]
[65,"MediAccess",157398.26560000001,98335.532760000002,60.062452688541292,0,75.068165818437151,52.874623004111967,4.7700740374560277E-2]
[66,"Assurant Daños",34063.671070000004,44370.748960000004,-23.229443116436411,-740.39869999999996,17.170340741060716,26.543001522110458,1.0323254349217492E-2]
[67,"Odontoprev",20635.934209999999,15993.896219999997,29.023809621793362,0,19.36087812738733,23.307223393361205,6.2538766636683731E-3]
[68,"Virginia Surety",31675.195059999995,19707.688819999999,60.72506192534857,0,33.698063970122753,25.478593699402687,9.5994085456467312E-3]
[69,"Genworth Seg. de Crédito",17318.47091,6708.0759399999997,158.17344742224253,0,20.537354550938673,13.483293601631093,5.2484942029900269E-3]
[70,"Crabi",41685.980710000003,25384.254690000009,64.219833196134672,0,68.670353283330741,126.24877438234199,1.2633253203437063E-2]
[71,"SPP Seguros",1158.5954800000002,0,0,0,2.1364261769108372,0,3.5112116375581617E-4]
[72,"Metlife Pensiones",279636.72981999995,264832.64598999999,5.5899769360605811,0,754.93889552092855,1481.7097144244854,8.474603578055484E-2]
[73,"Metlife Más",2177.79826,2797.09654,-22.140754569736799,0,6.2390626913351923,10.137752848426382,6.5999831060672824E-4]
[74,"SPT",19594.391730000003,12788.657089999999,53.216960874818533,0,60.604913740312568,58.660656409897484,5.9382293009851376E-3]
[75,"Quálitas Salud",11814.66581,1050.98125,1024.1557173355852,0,91.928295401513665,6.6837153204140316,3.5805242469902025E-3]
[76,"Citibanamex Pensiones",596238.76479000004,568884.14961000008,4.8084685078241263,0,9605.7949264155995,3500.5192438589497,0.18069468816622272]
[77,"Pensiones Inbursa",20801.920860000002,18252.591209999999,13.966946504577994,0,4138.0311072828144,1538.7710759896031,6.3041801791938528E-3]
[78,"Momento Seguros",97.466229999999996,0,0,0,20.786497036716597,0,2.9537881594784084E-5]
[79,"Aserta Seguros de Vida",-1689.6026099999995,24921.084309999998,-106.77981178099067,-296.49778000000003,0,4179.6617368482739,-5.1204690933893873E-4]
[79,"Zurich Daños",0,0,0,0,0,0,0]
[79,"Zurich Vida",0,0,0,0,0,0,0]
[150.1,"TOTAL RESTO",58016873.004139997,52540727.358609982,10.42266812972208,386812.41236999998,46.174147880449404,44.043047197553726,17.582454202813761]
[200,"Patria",0,0,0,0,0,0,0]
[201.1,"TOTAL",329970277.95388991,302547839.45052999,9.0638355088447966,1949567.0618600002,56.167481863923975,58.857402787549574,99.999999999999943]

{"sheet":"TDPrimas","index":2,"n_rows":90,"n_cols":6,"rows_kept":90,"cut":false,"hidden":true,"merged":[]}
[]
[]
["periodo","2023-Q3"]
["Ramo_","10 Total General"]
[]
["Jerarquia 2","nombre_compania","Suma de Prima_DirectaAct","Suma de Prima_DirectaAnt","Suma de %CARTERA","Suma de %SECTOR"]
[1,"G.N.P.",73374373.455160007,64173691.334030002,0,0]
[2,"Metlife México",58609536.351640001,54187451.5788,0,0]
[3,"BBVA Bancomer",52224009.604280002,43568790.652489997,0,0]
[4,"AXA Seguros",41806699.471960001,36252985.887170002,0,0]
[5,"Quálitas",34917926.445830002,26956119.399939999,0,0]
[5.0999999999999996,"TOTAL GRANDES",260932545.32887,225139038.85243002,0,0]
[6,"Banorte",28721849.16367,23159092.691160001,0,0]
[7,"Monterrey New York Life",28072029.511569999,27266941.534120001,0,0]
[8,"Citibanamex Seguros",24659912.83171,12807317.37809,0,0]
[9,"Mapfre México",22376637.893310003,17630605.921519998,0,0]
[10,"Inbursa",20930115.52899,18372239.078710001,0,0]
[11,"Chubb Seguros México",17720859.139090002,16513848.83165,0,0]
[12,"Zurich Santander",15536856.45108,11004873.65721,0,0]
[13,"Atlas",15095885.725,13447900.97773,0,0]
[14,"Allianz México",15031312.08585,14258839.23074,0,0]
[15,"Pensiones Banorte",12749688.19545,15140589.78702,0,0]
[15.1,"TOTAL MEDIANAS",200895146.52572,169602249.08794999,0,0]
[16,"Pensiones BBVA Bancomer",10006895.612370001,9346393.5645799991,0,0]
[17,"GMX Seguros",9804093.92949,10619077.689379999,0,0]
[18,"HDI Seguros",8672700.5259799995,6937182.1472500004,0,0]
[19,"Zurich Aseguradora Mexicana",8533878.8999300003,2761368.2830099999,0,0]
[20,"Agroasemex",8513094.40955,6874534.1096700002,0,0]
[21,"ProFuturo G.N.P.",6397672.8354899995,7777037.0970200002,0,0]
[22,"AIG Seguros",6304657.6626300002,5126170.0104400003,0,0]
[23,"HSBC Seguros",6120455.9873400005,4630757.4616799997,0,0]
[24,"Afirme",5692551.0252200002,5607417.7616099995,0,0]
[25,"Seguros SURA",4306787.9967099996,5306404.11326,0,0]
[26,"Seguros Azteca",3540235.0162600004,3157216.2366900002,0,0]
[27,"Hir Seguros",3256773.9065,2675564.4328999999,0,0]
[28,"BUPA México",3098553.8007,2813660.5540900002,0,0]
[29,"Ve Por Más",2931433.71942,2414387.3695499999,0,0]
[30,"FM Global",2851934.3307800004,2720564.8749099998,0,0]
[31,"Seguros Argos",2824083.3738899999,2440808.7034900002,0,0]
[32,"ANA",2392641.0795800001,2218461.75648,0,0]
[33,"Plan Seguro",2011777.3748599999,2297238.4493300002,0,0]
[34,"General de Seguros",1971809.2153,1927344.37518,0,0]
[35,"Cardif Vida",1796205.0709800001,2297569.8314999999,0,0]
[36,"Seguros Azteca Daños",1661194.5349100002,2353425.7515699998,0,0]
[37,"Cardif Seguros Generales",1656218.0302899999,1437113.4423700001,0,0]
[38,"El Potosí",1612866.84565,1545104.90457,0,0]
[39,"HDI Global Seguros",1569411.9180699999,917084.84802999999,0,0]
[40,"BBVA Bancomer Salud",1544159.2500799999,1038359.19056,0,0]
[41,"Prudential",1351465.83501,1131408.3401899999,0,0]
[42,"Insignia Life",1239121.6834200001,1114612.1788999999,0,0]
[43,"El Águila",1212681.1111300001,979590.21016999998,0,0]
[44,"Primero Seguros",1040269.57398,701519.26627999998,0,0]
[45,"La Latinoamericana",957883.89023000002,958536.21765000001,0,0]
[46,"General de Salud",939209.72964999999,835821.04413000005,0,0]
[47,"Pan-American México",799499.22270000004,684641.89482000005,0,0]
[48,"Tokio Marine",787883.69756,1108402.21826,0,0]
[49,"Swiss Re Corporate Solutions",654924.37927999999,440535.61340999999,0,0]
[50,"Atradius",609310.56254999992,658409.08983000007,0,0]
[51,"Assurant Vida",598107.31757000007,970628.45606999996,0,0]
[52,"Berkley Seguros",570550.37566999998,445437.85141,0,0]
[53,"AXA Salud",569036.86289999995,550201.60283999995,0,0]
[54,"Sompo Japan",538831.89078000002,617465.55573999998,0,0]
[55,"Patrimonial Vida",531626.28642999998,2312178.0759800002,0,0]
[56,"Solunion Crédito",488652.45827999996,544250.09826,0,0]
[57,"Patrimonial Inbursa",476051.14227999997,516299.34224999999,0,0]
[58,"PREVEM Seguros",445468.87245999998,399237.98135000002,0,0]
[59,"Dentegra",407667.88101999997,363244.9645,0,0]
[60,"SHF Cred Vivienda",383722.22219999996,283822.53762000002,0,0]
[61,"Coface",312582.40041,310673.93868000002,0,0]
[62,"Skandia Life",280734.25735000003,345769.43660999998,0,0]
[63,"Patrimonial Daños",231199.61988999997,188268.49596,0,0]
[64,"Centauro",217174.45709000001,112760.16842,0,0]
[65,"MediAccess",209673.78633,185978.69294000001,0,0]
[66,"Assurant Daños",198386.6924,167165.52919999999,0,0]
[67,"Odontoprev",106585.73477,68622.057419999997,0,0]
[68,"Virginia Surety",93997.07677,77349.986629999999,0,0]
[69,"Genworth Seg. de Crédito",84326.688069999989,49751.018839999997,0,0]
[70,"Crabi",60704.479759999995,20106.535540000001,0,0]
[71,"SPP Seguros",54230.541290000001,39785.980309999999,0,0]
[72,"Metlife Pensiones",37040.975299999998,17873.450069999999,0,0]
[73,"Metlife Más",34905.856340000006,27590.89299,0,0]
[74,"SPT",32331.358170000003,21801.08078,0,0]
[75,"Quálitas Salud",12852.044910000001,15724.5065,0,0]
[76,"Citibanamex Pensiones",6207.0736399999996,16251.42186,0,0]
[77,"Pensiones Inbursa",502.70092999999997,1186.17977,0,0]
[78,"Momento Seguros",468.89203999999995,0,0,0]
[79,"Aserta Seguros de Vida",0,596.24644000000001,0,0]
[79,"Zurich Daños",0,4063560.4021999999,0,0]
[79,"Zurich Vida",0,706727.70837000001,0,0]
[150.1,"TOTAL RESTO",125647955.98254001,119294033.22830996,0,0]

{"sheet":"TDPrimas Vida","index":3,"n_rows":47,"n_cols":14,"rows_kept":47,"cut":false,"hidden":true,"merged":[]}
[]
["periodo","2023-Q3"]
["Ramo2","12 Vida Total"]
["subramo","(Varios elementos)"]
[]
["Jerarquia 2","nombre_compania","Suma de Prima_DirectaAct","Suma de Prima_DirectaAnt","Suma de %CARTERA","Suma de Prima_Directa_Act1anio","Suma de Prima_Directa_Ant1anio","Suma de %CARTERA_1anio","Suma de PrimaDirectaAct_Renov","Suma de PrimaDirectaAnt_Renov","Suma de %CARTERA_Renov","Suma de PrimaDirectaAct_Unica","Suma de PrimaDirectaAnt_Unica","Suma de %CARTERA_uni"]
[1,"BBVA Bancomer",41267678.076669998,35057662.305699997,0,35729321.516620003,30724108.500599999,0,3722413.1737500005,2699290.7811500002,0,1815943.3863000001,1634263.0239500001,0]
[2,"Metlife México",39227155.829580002,37640049.23353,0,7346891.2718899995,6841571.3835699996,0,26487530.92814,25829171.535149999,0,5392733.6295500007,4969306.3148099994,0]
[3,"G.N.P.",26297045.353870001,24345185.57375,0,7228265.31666,5810559.5182999996,0,12920964.00151,12826316.061410001,0,6147816.0357000008,5708309.9940400003,0]
[4,"Citibanamex Seguros",24036154.063060001,12114763.91958,0,13383060.374710001,7097320.9285899997,0,10653093.688349999,5017442.9909899998,0,0,0,0]
[5,"Monterrey New York Life",18624780.15876,18430517.94179,0,1907241.1344400002,1671923.47609,0,12176277.456,12108435.421360001,0,4541261.5683200005,4650159.0443399996,0]
[5.0999999999999996,"TOTAL GRANDES",149452813.48194,127588178.97435001,0,65594779.614320002,52145483.807149999,0,65960279.247749999,58480656.790059999,0,17897754.619870003,16962038.37714,0]
[6,"Banorte",17792711.932270002,13859190.93997,0,3941434.7540000007,4048059.02892,0,8957597.7820200007,7755195.2511499999,0,4893679.3962500002,2055936.6599000001,0]
[7,"Zurich Santander",11872659.72023,7465284.1962099997,0,6643921.1358599998,2967066.4872500002,0,1070122.95508,1030190.7735,0,4158615.6292900001,3468026.9354599998,0]
[8,"Allianz México",8022515.0877600005,7691525.3838500008,0,4323169.68738,3379146.2979100007,0,3699345.40038,4312379.0859400006,0,0,0,0]
[9,"HSBC Seguros",5777868.4725500001,4345336.4017599998,0,4351416.9204599997,2657947.8764,0,1426451.5520899999,1687388.5253600001,0,0,0,0]
[10,"Mapfre México",4515190.9059899999,4232465.3305900004,0,3895125.8799000001,3597860.6745799999,0,610219.42483999999,631236.12856999994,0,9845.6012499999997,3368.5274399999998,0]
[11,"AXA Seguros",4432978.3748199996,4020917.3298599999,0,969378.19620999997,837883.56099000003,0,3454818.4391000001,3176990.6058999998,0,8781.7395099999994,6043.1629700000003,0]
[12,"Inbursa",3925225.8454899997,4233175.3850699998,0,2195424.8892200002,2539822.62096,0,1729800.95627,1693352.7641100001,0,0,0,0]
[13,"Seguros Azteca",3210392.0818400001,3037397.6803000001,0,3118270.4233000004,2965811.6330800001,0,6877.1308499999996,6546.9305999999997,0,85244.527690000003,65039.116620000001,0]
[14,"Hir Seguros",3195969.6090100002,2648757.61607,0,1898344.3692000003,980249.75518999994,0,1297625.2398099999,1668507.8608800001,0,0,0,0]
[15,"Seguros Argos",2824083.3738899999,2440808.7034900002,0,1338268.66558,780011.65090999997,0,1319175.6847399999,1441795.8108900001,0,166639.02357000002,219001.24169,0]
[15.1,"TOTAL MEDIANAS",65569595.403850004,53974858.96717,0,32674754.921110004,24753859.586190004,0,23572034.565180004,23403583.736899998,0,9322805.91756,5817415.64408,0]
[16,"Cardif Vida",1950834.3623800001,2104536.2755999998,0,17191.982459999999,268641.35522000003,0,1440545.2287500002,1332520.0624500001,0,493097.15116999997,503374.85793,0]
[17,"Atlas",1807604.94814,2208728.0853400002,0,1207668.68454,1646009.5011100001,0,519261.18193999998,509813.27795999998,0,80675.081659999996,52905.306270000001,0]
[18,"Afirme",1727627.4647899999,1880411.9769300001,0,1727627.4647900001,1880411.9769299999,0,0,0,0,0,0,0]
[19,"Prudential",1351465.83501,1131408.3401899999,0,380060.03561000002,405909.38290999999,0,957224.33007999999,702765.73303,0,14181.46932,22733.224249999999,0]
[20,"Insignia Life",1239121.6834200001,1114612.1788999999,0,428336.97091999999,343327.14463999995,0,813430.74625000008,773380.92376999999,0,-2646.0337500000001,-2095.88951,0]
[21,"Seguros SURA",995730.03105999995,1418532.2284900001,0,753065.772,1222694.7059299999,0,241811.90278,194558.44778999998,0,852.35628000000008,1279.0747699999999,0]
[22,"Chubb Seguros México",813211.66997000005,756970.14388999995,0,813211.66996999993,756970.14388999995,0,0,0,0,0,0,0]
[23,"Assurant Vida",598107.31757000007,970628.45606999996,0,590521.6749199999,962132.0209,0,7585.6426500000007,8496.4351700000007,0,0,0,0]
[24,"Zurich Aseguradora Mexicana",559315.22601999994,321987.75565000001,0,226701.4988,173074.83564,0,113001.05236,60207.016499999998,0,219618.95418,88705.903510000004,0]
[25,"Patrimonial Vida",531626.28642999998,2312178.0759800002,0,531626.28642999998,2312178.0759800002,0,0,0,0,0,0,0]
[26,"Ve Por Más",482017.03414,494207.25472000003,0,170956.77375999998,142693.68237999998,0,281368.94938000001,273122.57233999996,0,29691.311000000002,78391,0]
[27,"General de Seguros",407027.62197000004,473649.80336000002,0,110084.05074000001,148507.66370999999,0,296943.57123,325142.13965000003,0,0,0,0]
[28,"Pan-American México",358347.99618000002,331684.10626999999,0,182645.69811000003,64144.27781,0,140631.99007,199511.05705999999,0,35070.307999999997,68028.771399999998,0]
[29,"Patrimonial Inbursa",288195.22891000001,344189.19500000001,0,288195.22891000001,344189.19499999995,0,0,0,0,0,0,0]
[30,"Skandia Life",280734.25735000003,345769.43660999998,0,100319.04325,170200.62372,0,180415.21410000001,175568.81289,0,0,0,0]
[31,"El Potosí",261093.62521,215099.97128,0,107219.41868,63273.802320000003,0,153425.00653000001,151717.33282000001,0,449.2,108.83614,0]
[32,"La Latinoamericana",189005.17726,255210.89538999999,0,1883.61761,109295.55895999999,0,187121.55965000001,145915.33643000002,0,0,0,0]
[33,"Tokio Marine",73118.543780000007,60690.993699999999,0,36079.129679999998,23236.614799999999,0,37039.414100000002,37454.378900000003,0,0,0,0]
[34,"Agroasemex",58195.679779999999,56430.65034,0,58195.679779999999,56430.65034,0,0,0,0,0,0,0]
[35,"HDI Seguros",1016.02262,1424.02306,0,0,0,0,1016.02262,1424.02306,0,0,0,0]
[36,"Aserta Seguros de Vida",0,596.24644000000001,0,0,616.71187999999995,0,0,-3.1353399999999998,0,0,-17.330100000000002,0]
[36,"Zurich Vida",0,240159.45340999999,0,0,0,0,0,0,0,0,0,0]
[150.1,"TOTAL RESTO",13973396.01199,17039105.54662,0,7731590.6809599996,11093937.924069999,0,5370821.8124899995,4891594.4144799998,0,870989.79785999982,813413.75465999986,0]
[201.1,"TOTAL",228995804.89778,198602143.48813996,0,106001125.21638998,87993281.317409977,0,94903135.625419989,86775834.941439986,0,28091550.335290004,23592867.775880001,0]

{"sheet":"TD Siniestros","index":4,"n_rows":92,"n_cols":13,"rows_kept":92,"cut":false,"hidden":true,"merged":[]}
[]
[]
["periodo","2023-Q3"]
["Ramo_","10 Total General"]
[]
["Jerarquia 2","nombre_compania","Suma de CostoSin_Act","Suma de IncSin","Suma de IncResvDivAct","Suma de %SinvsPrm_Act","Suma de %SinvsPrm_Ant","Suma de Costo_Sin_RetAct","Suma de IncSin_Ret","Suma de Prima_DevengadaAct","Suma de IncSin_PDev","Suma de %SinvsPDev_Act","Suma de %SinvsPDev_Ant"]
[1,"G.N.P.",45612532.901630007,8.5526952436858714,205015.34680999999,62.164119097390859,65.47666601562355,44114194.390699998,12.199333287499181,59607189.387379996,15.558379305417303,74.008177275407377,76.223848847477527]
[2,"Metlife México",40022840.239539996,10.245418773410563,101995.43384999999,68.287249364019388,66.995961923393253,38193952.835769996,9.8030389686585728,50697528.438660003,8.2677109229484245,75.336912887147264,74.2835096633451]
[3,"BBVA Bancomer",25601627.500459999,22.123986032704579,0,49.022715211743964,48.116175267678472,25355312.66722,21.45906187153086,29498037.37046,1.9875408407932227,85.955931063438769,72.176039356480956]
[4,"AXA Seguros",26588553.586089998,9.0471438341970902,305789.95117000001,63.598786610560097,67.256867394994515,25431387.706799999,14.518084370821715,32884973.327980001,12.629622743974123,77.33437230785843,76.059089060307471]
[5,"Quálitas",23308919.181210004,26.745483407435721,68561.225480000008,66.753446019683736,68.223229290826353,23331011.338009998,26.895926946093528,33390337.903790001,23.106372091434558,69.873540678849466,67.786873110675813]
[5.0999999999999996,"TOTAL GRANDES",161134473.40893,13.428019330036012,681361.95731000009,61.75330609136622,63.098249046063501,156425858.93849999,15.383308934454476,206078066.42826998,12.211327023037066,75.906117351381226,73.819395853895969]
[6,"Banorte",13363853.592420006,3.5226898959964892,248778.39859000003,46.528527868337321,55.740982593663965,11892830.81903,6.8239651709148808,18148401.80669,8.9458095394677972,65.531008987502005,66.832651387344129]
[7,"Monterrey New York Life",18189477.925870001,0.15572420631697614,30288.243459999998,64.795735265144032,66.60518387793627,17057184.140280001,7.9748038690707901E-3,23160728.69396,-7.8845553320105788,73.647009840101802,67.834860901775926]
[8,"Citibanamex Seguros",19475883.151130002,-10.838722208435014,0,78.977907521579354,170.55431227025301,19448545.283220001,-10.847336092036308,14629904.0603,-51.410032808576275,132.93692975059187,72.453259072305357]
[9,"Mapfre México",10792790.82511,1.456384361175278,359312.09473000001,48.232405943060577,60.337476229477602,7614988.2172900001,4.1706383242917422,11948835.8694,2.1335529680594156,63.729959140131534,62.483702338733274]
[10,"Inbursa",11007442.207219997,26.411161331529833,147246.60879,52.59140682703709,47.395695920975406,9107122.4313299991,15.730180035025842,12313132.794600001,6.9465329879589754,73.962675326006249,68.349083136623861]
[11,"Chubb Seguros México",9432791.093559999,7.6424784258450007,51627.68894,53.229874576184855,53.065006638942499,4721284.5562800001,12.915291625248448,6866701.9668399999,-2.7501502507312314,68.756217745863466,59.217239302759637]
[12,"Zurich Santander",3013393.5876099998,28.430026476450742,0,19.395130521403075,21.32083586059861,2769564.0494599999,25.785478636666802,8912052.0608900003,8.9128731128984562,31.076614348047443,26.908061184423072]
[13,"Atlas",7799893.4423699984,12.970855717013684,23400.095229999999,51.669001637000655,51.341404924409616,6175509.3335600002,14.508032196351817,8636143.3221299984,12.987682302934388,71.507721713410461,70.558296987474321]
[14,"Allianz México",7911204.2356700022,-11.032542168465687,20739.562440000002,52.631494778937885,62.363035030997494,6943509.4231000002,7.3817018064430417,6481486.3835299993,-43.700310666163034,107.12835007636583,56.166858288550984]
[15,"Pensiones Banorte",9832201.4798600003,11.944791932981168,0,77.117191645273593,58.010162626159513,9832201.4798600003,11.944791932981168,-1045525.69819,-83.845257193086326,-940.40744257949621,-135.71011304996063]
[15.1,"TOTAL MEDIANAS",110818931.54082002,2.6592455227199663,881392.69218000001,55.162572843257919,63.647929928642434,95562739.733410001,3.6375250948583959,110051861.26014999,-10.563600695347519,86.834278529384108,74.935649040028053]
[16,"Pensiones BBVA Bancomer",6564723.8150000004,15.019995757337146,0,65.602001552659672,61.065940142083853,6564723.8150000004,15.019995757337146,-761480.86647000001,-82.801315195460319,-862.09964085271338,-128.90784680964373]
[17,"GMX Seguros",2866637.1282300004,-23.247518748012553,0,29.239184659455013,35.171711255349756,796279.56860999996,28.231037100788335,2029854.2378499999,0.98345520090115102,39.22841127023046,30.892836880015288]
[18,"HDI Seguros",5116539.3820499973,19.606718535761502,0,58.995919053388945,61.664845538267777,5059367.6001000004,25.072406718606089,7642962.7765699998,11.165129165072152,66.19641816927097,58.835786158718186]
[19,"Zurich Aseguradora Mexicana",3361605.8283300013,18.934449389910135,12368.663830000001,39.391299873701925,102.35634971439138,2717400.7182,161.91437633568233,4965029.2731400002,189.30433102423464,54.73080960268846,60.454338093404573]
[20,"Agroasemex",2580444.3645200008,217.68964695669996,-1704.4324000000001,30.311473600307487,11.81539286825927,1195996.2609300001,30.872333495491699,2074504.1105299999,-69.438950685911152,57.652151897854942,13.462816854827302]
[21,"ProFuturo G.N.P.",4219744.4610700011,17.962544604118946,0,65.95749063099457,45.99682437030814,4219744.4610700002,17.962544604118925,-825479.44711000007,-72.886943530192767,-511.18710173140067,-117.49360614756196]
[22,"AIG Seguros",825718.03278999997,-10.094309672918222,5150.3001899999999,13.096952712981249,17.91643439448017,405669.93289,3.5767793102375434,791251.38983,0.65770322474600906,51.269411732364603,49.824499902688004]
[23,"HSBC Seguros",2198253.2860799995,3.9670100804230612,0,35.916495284453113,45.659393803857789,2164705.1519599999,3.845072863238963,3543498.69086,6.2182133643113868,61.089486431689075,62.485546258539813]
[24,"Afirme",3485614.4668300003,-24.109253413048204,3918.7258899999997,61.231150171294104,81.908243219625518,2855456.8788999999,-10.568278655505859,3401234.2704499997,-2.0509505962608476,83.953548972156185,91.949145026707242]
[25,"Seguros SURA",1827817.3305500001,0,15648.3316,42.44038322634615,0,1851836.6185699999,-8.965665859687844,3204492.5770900003,-23.373037410468122,57.788762932684115,48.642936944130518]
[26,"Seguros Azteca",1626123.3905999998,-28.228177713781466,0,45.93263958837062,71.762109423500419,867524.29489999998,-19.800023662904731,2384329.3846300002,11.686436948296741,36.384414858630038,50.668913403774638]
[27,"Hir Seguros",1381357.4599800003,21.922513188746496,270345.76532000001,42.414901974712812,42.345450457793007,755244.70242999995,-16.263439687579663,1541132.1623,27.619761026964174,49.005836157676818,74.687962773192936]
[28,"BUPA México",2168246.1613799999,6.2366806553527665,0,69.976069509916769,72.537467893673863,1976736.703,5.7476358849034792,3251469.6635500002,10.748235566143016,60.795175952580507,63.670061380943785]
[29,"Ve Por Más",1740872.7770099996,13.748838445281987,12395.944020000001,59.386393950412796,63.388885049761093,1457799.13668,32.297723698758787,2048435.53195,6.184139518457954,71.166464062076386,57.119272635480279]
[30,"FM Global",396493.06121999992,57.092854625885003,0,13.902601365703942,9.2772673722162047,-2829.2853500000001,-239.6640323408148,-8212.4455699999999,44.988336831375598,34.451191498125205,-35.764547775502521]
[31,"Seguros Argos",1886421.3534799996,-3.7077493798955419,-841.98501999999996,66.797650909348718,80.262673745338276,1428342.6461,-1.9848459008579344,2168809.7475300003,11.61340948720353,65.858365295835725,74.995308240670184]
[32,"ANA",1753553.625,18.994782877464079,22014.207969999999,73.289455738501971,66.426165645433571,1358888.1331300002,20.058752042887985,1851649.9671800002,7.8917428311233273,73.387959777275853,65.950667889352871]
[33,"Plan Seguro",1258580.9577499998,-9.3466918926873195,0,62.560647787262489,60.435403096048532,932660.68850000005,-9.2635283653508704,1492387.04143,-8.7536396530533125,62.494558221728312,62.845743023641134]
[34,"General de Seguros",1310649.92337,-14.687934983558149,-10340.45652,66.469408561446031,79.710756593591142,1153068.6908399998,-14.653595697007427,1669044.6616800001,5.8317689444010945,69.08555039380208,85.667885675849973]
[35,"Cardif Vida",564636.73166999989,-17.98458060257876,-28392.713100000001,31.43498149473195,29.964352471956634,412270.60610999999,-21.563452555016017,1350596.6515299999,-22.93598724042004,30.525072429504874,29.990924483824926]
[36,"Seguros Azteca Daños",683175.58984999999,32.882941038156723,1.83E-3,41.12556208758614,21.845531100228051,93505.801480000009,0.48060218205820959,260859.84722999998,-6.7523294554221458,35.845225883903851,33.264965985793765]
[37,"Cardif Seguros Generales",127678.02440000002,-5.3137312772270517,0,7.7090106534852723,9.3829218615911572,78941.034879999992,-57.000633494051826,1102610.9703199998,-13.096602886166353,7.1594639455736342,14.469555924696989]
[38,"El Potosí",745106.81408999977,-22.215222796743394,912.05034000000001,46.197664494102419,61.996325800064952,696821.39804999996,-14.016663205111968,1195260.3787400001,6.5385554747538821,58.298711347276786,72.235629884833429]
[39,"HDI Global Seguros",433804.21594000002,111.23406745918717,0,27.6411954659727,22.393412931328026,5156.8687499999996,-937.0534763202711,-5077.3212800000001,-12.263971862449841,-101.56672122194324,10.645748405634238]
[40,"BBVA Bancomer Salud",680258.9154099999,31.395849970547761,0,44.053676159033273,49.859162872222349,608960.41492999997,32.309096656065876,858422.20732000005,17.551046472019461,70.939499204147864,63.026750075436034]
[41,"Prudential",207228.61200000002,62.717900546860392,0,15.333618255948487,11.256283175233891,410702.17138000001,24.327089886655994,1625840.6794,-2.9861881933853529,25.260911267859619,19.711370177150371]
[42,"Insignia Life",589783.52487999992,4.6753604756086808,16887.898659999999,47.596901319020247,50.550375672016621,550286.27599999995,10.081031881681945,921433.0428099999,12.419692634984747,59.720701389419283,60.989461848071855]
[43,"El Águila",647739.05333999987,51.121662323377556,0,53.4137991756484,43.755124495947776,440501.25144999998,28.286930226198947,886067.65182999999,18.579705408221425,49.71417820526802,45.952402133234614]
[44,"Primero Seguros",458116.53864999977,16.3385636679245,0,44.03825220969189,56.132278361807607,376540.18747,10.725821243047417,651225.93302999996,21.515725469100655,57.820207760776313,63.454616221833007]
[45,"La Latinoamericana",636604.33436000021,0.77163943135043489,2465.41248,66.459446792360552,65.90566402997095,368119.05969999998,-1.3959426176739509,625596.63064999995,7.0469950317363805,58.842877609094742,63.881278258665972]
[46,"General de Salud",619673.02667000017,42.235674912453412,0,65.978131093352658,52.124362097568607,424953.18988999998,3.8105939319215576,527832.36085000006,13.293181910572226,80.509120207346214,87.863232986534996]
[47,"Pan-American México",434309.95731000009,5.135709062412519,41178.094440000001,54.322749163318242,60.337327093984982,367684.5148,26.923475928623809,633544.04333000001,19.941154884919634,58.036141081430813,54.843453785377392]
[48,"Tokio Marine",287009.78168000001,-32.985721483044664,1072.08484,36.427937596480511,38.639541621662218,78625.344010000001,-11.395245238966634,188114.49541,13.302883794841769,41.796536645745554,53.447110681270217]
[49,"Swiss Re Corporate Solutions",76226.916000000027,52.235842422071869,765.66129000000001,11.639040843738497,11.366072227944738,-855.1327,-123.7532024035366,-3960.6714900000002,-11.784829170148814,21.590599022389508,-80.183646344685314]
[50,"Atradius",218272.81514999998,117.41127204506037,12336.25758,35.82291668086561,15.248312178667236,76366.585769999991,90.481099110543056,146974.75581999999,-7.9283374372061903,51.958981216833024,25.115089150795445]
[51,"Assurant Vida",166640.92723,-15.619248943777119,488.22853000000003,27.861375765645441,20.346291737583016,23451.053179999999,-21.941866259670959,122877.07616,9.136004119578601,19.084970047190943,26.683412347791606]
[52,"Berkley Seguros",184059.90794,-42.959610615046742,3570.2134499999997,32.260062527144527,72.441861255968647,15221.951499999999,3.0285909189966764,23100.338449999999,40.908544745370065,65.894928478850929,90.122153425890488]
[53,"AXA Salud",536351.11864999996,51.85615094568157,0,94.255953105845791,64.194075956320049,86264.382089999999,88.776048025523806,38337.335829999996,-31.533677391035862,225.01402411613535,81.609308637468558]
[54,"Sompo Japan",104283.09031,904.4574842540278,2.5688400000000002,19.353548313378838,1.6813944022444591,15751.3987,1189.3015278749044,-5359.6441100000002,-104.73700224601492,-293.88889218616418,1.0797725064821078]
[55,"Patrimonial Vida",1066316.7120999999,-13.788353216715411,6383.8623899999993,200.57637090531705,53.493251433316445,479843.64341000002,12.825801607793696,495867.92611,-9.9007566090960069,96.768437348689247,77.276322126611234]
[56,"Solunion Crédito",98226.974509999985,17.666357562330681,517.20686999999998,20.101602446808016,15.338395845382131,12933.10699,40.63544239153218,30215.16894,127.83880229212863,42.803358192972595,69.344296849561744]
[57,"Patrimonial Inbursa",29121.332980000003,-36.08397374955161,0,6.1172698463711805,8.8246992222465881,29064.60715,-36.024600467013613,435771.52763999999,-8.2790341827388545,6.669689345562495,9.5622747640780812]
[58,"PREVEM Seguros",344275.90805000003,31.019615892745911,0,77.283942680173141,65.817057084967146,278833.11163999996,27.465475242225558,440270.79258999997,7.5028624064674698,63.332184721974492,53.413609662767612]
[59,"Dentegra",139240.40759000002,0,92.980289999999997,34.155353922319172,0,139240.40759000002,11.803662281912297,408965.83955999999,12.632836961907579,34.046953099996472,34.29945709553035]
[60,"SHF Cred Vivienda",-170063.96534999998,-1812.2781726179892,0,-44.319550839398843,3.4993799728820845,-159400.67991000001,-3273.6514985825879,369401.65006000001,31.078639689074052,-43.151047074129032,1.7822311473588672]
[61,"Coface",45837.32632,44.585551273579327,438.96096,14.664077779131929,10.204448984262642,10496.21925,-32.417550672107154,55476.768369999998,3.6049047883122354,18.9200264514254,29.004683295538015]
[62,"Skandia Life",116386.46058000001,123.87344289578226,0,41.457876099138637,15.035340939817605,106001.85662000001,129.05598440751083,315788.98389999999,5.60428414048042,33.56730665866651,15.47591694398106]
[63,"Patrimonial Daños",56710.897570000001,88.049470010189907,0,24.528975262581262,16.018312206842783,46108.95377,99.953293085946186,222347.75028000001,20.056618444765096,20.737315179458985,12.451167458387458]
[64,"Centauro",87856.001090000005,29.098201842384363,175.47427999999999,40.454113373743255,60.352535849821841,87856.001090000005,29.098201842384363,197416.01141000001,57.835854918593114,44.502976461994159,54.409474617443998]
[65,"MediAccess",157398.26560000001,60.062452688541292,0,75.068165818437151,52.874623004111967,147894.92874,68.532613101087776,225526.30475000001,32.326362336501433,65.577684564975343,51.489479034712218]
[66,"Assurant Daños",34063.671070000004,-23.229443116436411,-740.39869999999996,17.170340741060716,26.543001522110458,5830.5866900000001,-55.444626836993272,30533.61997,-28.473988054007084,19.095628673340041,30.654757611582177]
[67,"Odontoprev",20635.934209999999,29.023809621793362,0,19.36087812738733,23.307223393361205,20383.434209999999,28.44897293051929,89732.595920000007,66.732477891501475,22.715752287131647,29.486056443999075]
[68,"Virginia Surety",31675.195059999995,60.72506192534857,0,33.698063970122753,25.478593699402687,18977.46629,44.414465792196125,46174.745569999999,42.557944880801642,41.099233045541176,40.570881642703768]
[69,"Genworth Seg. de Crédito",17318.47091,158.17344742224253,0,20.537354550938673,13.483293601631093,13082.063539999999,2973.4676522859763,118421.29392,-2.7064201182404268,11.047053369335453,0.34970511846711078]
[70,"Crabi",41685.980710000003,64.219833196134672,0,68.670353283330741,126.24877438234199,19419.497609999999,183.12720398525232,22077.071889999999,263.08961103007812,87.962288236223145,112.80510163435054]
[71,"SPP Seguros",1158.5954800000002,0,0,2.1364261769108372,0,340.36421999999999,-94.506528515932331,42913.926299999999,242.3391666190592,0.79313232170974757,49.42598843376652]
[72,"Metlife Pensiones",279636.72981999995,5.5899769360605811,0,754.93889552092855,1481.7097144244854,279636.72982000001,5.5899769360606033,33851.454990000006,-148.95338883540384,826.07004603674193,-382.98074630136671]
[73,"Metlife Más",2177.79826,-22.140754569736799,0,6.2390626913351923,10.137752848426382,2345.8842,-15.529297369266681,30201.926629999998,28.736415124672622,7.7673329544142398,11.837697195467742]
[74,"SPT",19594.391730000003,53.216960874818533,0,60.604913740312568,58.660656409897484,19594.391729999999,53.216960874818461,25267.41923,8.301687733334262,77.548053292025898,54.814982649491242]
[75,"Quálitas Salud",11814.66581,1024.1557173355852,0,91.928295401513665,6.6837153204140316,11506.30377,994.81532329905986,22062.51152,2754.4576332142174,52.153190989019372,135.97642538148892]
[76,"Citibanamex Pensiones",596238.76479000004,4.8084685078241263,0,9605.7949264155995,3500.5192438589497,596238.76478999993,4.8084685078241263,43696.324310000004,-116.88835473504329,1364.5055372622026,-219.87014865592292]
[77,"Pensiones Inbursa",20801.920860000002,13.966946504577994,0,4138.0311072828144,1538.7710759896031,20801.920859999998,13.966946504577971,2048.2800200000001,-124.80202255026052,1015.5799332554147,-221.01527836565381]
[78,"Momento Seguros",97.466229999999996,0,0,20.786497036716597,0,94.789289999999994,0,-430.71762999999999,0,-22.007292805729822,0]
[79,"Aserta Seguros de Vida",-1689.6026099999995,-106.77981178099067,-296.49778000000003,0,4179.6617368482739,-4840.0883300000005,-212.9083092063683,1066.2787499999999,-90.117516040287157,-453.92336009697283,39.730382614252058]
[79,"Zurich Daños",0,0,0,0,0,0,-100,0,-100,0,55.341346573232244]
[79,"Zurich Vida",0,0,0,0,0,0,-100,0,-100,0,55.482047969688878]
[150.1,"TOTAL RESTO",58016873.004139997,10.42266812972208,386812.41236999998,46.174147880449404,44.043047197553726,45070169.338930003,7.2227231945044101,57313874.944249995,6.6465249783298264,78.63744927867883,78.214863872815755]
[200,"Patria",0,0,0,0,0,2944789.3082699999,0.79249613014840126,6701736.8261099998,1.9923919995209705,43.94068858086289,44.463785564764194]
[201.1,"TOTAL",329970277.95388991,9.0638355088447966,1949567.0618600002,56.167481863923975,58.857402787549574,297058768.01084,10.097856213205713,373443802.63267016,3.6065873894089107,79.545775272386933,74.855829174885542]

{"sheet":"TD Operación","index":5,"n_rows":1616,"n_cols":4,"rows_kept":1616,"cut":false,"hidden":true,"merged":[]}
[]
[]
[]
[null,"periodo","2023-Q3"]
[]
[null,"nombre_compania","Ramo_","Suma de Prima_DirectaAct"]
[{"$f":"B7&\"|\"&C7","v":"Afirme|10 Total General"},"Afirme","10 Total General",5692551.0252200002]
[{"$f":"B8&\"|\"&C8","v":"Afirme|11 Total General Sin Pensiones"},"Afirme","11 Total General Sin Pensiones",5692551.0252200002]
["Afirme|12 Vida Total","Afirme","12 Vida Total",1727627.4647899999]
["Afirme|13 Vida Individual","Afirme","13 Vida Individual",852728.91596999997]
["Afirme|14 Vida Gpo y Col","Afirme","14 Vida Gpo y Col",874898.54882000003]
["Afirme|38 Daños Total","Afirme","38 Daños Total",3964923.5604299996]
["Afirme|39 Automoviles Total","Afirme","39 Automoviles Total",1750660.3618299998]
["Afirme|41 Automoviles Residentes","Afirme","41 Automoviles Residentes",1124540.43294]
["Afirme|42 Camiones","Afirme","42 Camiones",596874.24199000001]
["Afirme|44 Otros Automoviles y Obligatorios","Afirme","44 Otros Automoviles y Obligatorios",29245.686899999997]
["Afirme|46 Daños Sin Autos Total","Afirme","46 Daños Sin Autos Total",2214263.1986000002]
["Afirme|46 Responsabilidad Civil y Riesgos Profesionales","Afirme","46 Responsabilidad Civil y Riesgos Profesionales",393713.40130999999]
["Afirme|47 RC General","Afirme","47 RC General",224329.25881999999]
["Afirme|48 RC Aviones y Barcos","Afirme","48 RC Aviones y Barcos",64998.318939999997]
["Afirme|49 RC Viajero","Afirme","49 RC Viajero",3843.6985800000002]
["Afirme|50 RC Otros","Afirme","50 RC Otros",100542.12497]
["Afirme|51 Maritimo y Transportes","Afirme","51 Maritimo y Transportes",259828.51330000002]
["Afirme|52 MyT Carga","Afirme","52 MyT Carga",92075.008579999994]
["Afirme|53 MyT Cascos","Afirme","53 MyT Cascos",167753.50472]
["Afirme|54 Incendio","Afirme","54 Incendio",437841.79486000002]
["Afirme|55 Riesgos Catastroficos","Afirme","55 Riesgos Catastroficos",396676.60138999997]
["Afirme|56 Terremoto y Erupcion Volcanica","Afirme","56 Terremoto y Erupcion Volcanica",183330.70353]
["Afirme|57 Huracan y Otros Riesgos Hidrometeorologicos","Afirme","57 Huracan y Otros Riesgos Hidrometeorologicos",213345.89786000003]
["Afirme|63 Diversos","Afirme","63 Diversos",726202.88774000003]
["Afirme|64 Miscelaneos","Afirme","64 Miscelaneos",135090.19111000001]
["Afirme|65 Tecnicos","Afirme","65 Tecnicos",591112.69663000002]
["Agroasemex|10 Total General","Agroasemex","10 Total General",8513094.40955]
["Agroasemex|11 Total General Sin Pensiones","Agroasemex","11 Total General Sin Pensiones",8513094.40955]
["Agroasemex|12 Vida Total","Agroasemex","12 Vida Total",58195.679779999999]
["Agroasemex|14 Vida Gpo y Col","Agroasemex","14 Vida Gpo y Col",58195.679779999999]
["Agroasemex|28 Accidentes y Enfermedades Total","Agroasemex","28 Accidentes y Enfermedades Total",0]
["Agroasemex|29 Accidentes Personales","Agroasemex","29 Accidentes Personales",0]
["Agroasemex|31 AP Gpo y Col","Agroasemex","31 AP Gpo y Col",0]
["Agroasemex|38 Daños Total","Agroasemex","38 Daños Total",8454898.729770001]
["Agroasemex|46 Daños Sin Autos Total","Agroasemex","46 Daños Sin Autos Total",8454898.729770001]
["Agroasemex|46 Responsabilidad Civil y Riesgos Profesionales","Agroasemex","46 Responsabilidad Civil y Riesgos Profesionales",694668.68446000002]
["Agroasemex|47 RC General","Agroasemex","47 RC General",668278.11179999996]
["Agroasemex|48 RC Aviones y Barcos","Agroasemex","48 RC Aviones y Barcos",782.06534999999997]
["Agroasemex|49 RC Viajero","Agroasemex","49 RC Viajero",11183.28709]
["Agroasemex|50 RC Otros","Agroasemex","50 RC Otros",14425.220220000001]
["Agroasemex|51 Maritimo y Transportes","Agroasemex","51 Maritimo y Transportes",439852.35115]
["Agroasemex|52 MyT Carga","Agroasemex","52 MyT Carga",343475.88433999999]
["Agroasemex|53 MyT Cascos","Agroasemex","53 MyT Cascos",96376.466809999998]
["Agroasemex|54 Incendio","Agroasemex","54 Incendio",1284244.2566800001]
["Agroasemex|55 Riesgos Catastroficos","Agroasemex","55 Riesgos Catastroficos",4130457.7068499997]
["Agroasemex|56 Terremoto y Erupcion Volcanica","Agroasemex","56 Terremoto y Erupcion Volcanica",879180.09057]
["Agroasemex|57 Huracan y Otros Riesgos Hidrometeorologicos","Agroasemex","57 Huracan y Otros Riesgos Hidrometeorologicos",3185489.3694099998]
["Agroasemex|58 Otros Riesgos Catastroficos","Agroasemex","58 Otros Riesgos Catastroficos",65788.246870000003]
["Agroasemex|59 Agricola y de Animales","Agroasemex","59 Agricola y de Animales",119797.9565]
["Agroasemex|60 AyA Agricola","Agroasemex","60 AyA Agricola",55715.935829999995]
["Agroasemex|61 AyA Otros","Agroasemex","61 AyA Otros",0]
["Agroasemex|62 AyA Pecuario","Agroasemex","62 AyA Pecuario",64082.020670000005]
["Agroasemex|63 Diversos","Agroasemex","63 Diversos",1785877.77413]
["Agroasemex|64 Miscelaneos","Agroasemex","64 Miscelaneos",889338.21396000008]
["Agroasemex|65 Tecnicos","Agroasemex","65 Tecnicos",896539.56016999995]
["AIG Seguros|10 Total General","AIG Seguros","10 Total General",6304657.6626300002]
["AIG Seguros|11 Total General Sin Pensiones","AIG Seguros","11 Total General Sin Pensiones",6304657.6626300002]
["AIG Seguros|28 Accidentes y Enfermedades Total","AIG Seguros","28 Accidentes y Enfermedades Total",188164.93210000001]
["AIG Seguros|29 Accidentes Personales","AIG Seguros","29 Accidentes Personales",188164.93210000001]
["AIG Seguros|30 AP Individual","AIG Seguros","30 AP Individual",61523.305659999998]
["AIG Seguros|31 AP Gpo y Col","AIG Seguros","31 AP Gpo y Col",126641.62643999999]
["AIG Seguros|38 Daños Total","AIG Seguros","38 Daños Total",6116492.7305299994]
["AIG Seguros|39 Automoviles Total","AIG Seguros","39 Automoviles Total",394640.64455000003]
["AIG Seguros|41 Automoviles Residentes","AIG Seguros","41 Automoviles Residentes",277299.93142000004]
["AIG Seguros|42 Camiones","AIG Seguros","42 Camiones",46930.97537]
[{"$f":"B72&\"|\"&C72","v":"AIG Seguros|43 Automoviles Turistas"},"AIG Seguros","43 Automoviles Turistas",59102.205249999999]
["AIG Seguros|44 Otros Automoviles y Obligatorios","AIG Seguros","44 Otros Automoviles y Obligatorios",11307.532509999999]
["AIG Seguros|46 Daños Sin Autos Total","AIG Seguros","46 Daños Sin Autos Total",5721852.08598]
["AIG Seguros|46 Responsabilidad Civil y Riesgos Profesionales","AIG Seguros","46 Responsabilidad Civil y Riesgos Profesionales",1174795.2187900001]
["AIG Seguros|47 RC General","AIG Seguros","47 RC General",1173151.0254300002]
["AIG Seguros|48 RC Aviones y Barcos","AIG Seguros","48 RC Aviones y Barcos",1644.1933600000002]
["AIG Seguros|51 Maritimo y Transportes","AIG Seguros","51 Maritimo y Transportes",712200.54053999996]
["AIG Seguros|52 MyT Carga","AIG Seguros","52 MyT Carga",711576.80058000004]
["AIG Seguros|53 MyT Cascos","AIG Seguros","53 MyT Cascos",623.73996]
["AIG Seguros|54 Incendio","AIG Seguros","54 Incendio",1928218.3481500002]
["AIG Seguros|55 Riesgos Catastroficos","AIG Seguros","55 Riesgos Catastroficos",494555.88879]
["AIG Seguros|56 Terremoto y Erupcion Volcanica","AIG Seguros","56 Terremoto y Erupcion Volcanica",261336.04697]
["AIG Seguros|57 Huracan y Otros Riesgos Hidrometeorologicos","AIG Seguros","57 Huracan y Otros Riesgos Hidrometeorologicos",233219.84182]
["AIG Seguros|63 Diversos","AIG Seguros","63 Diversos",1395307.7850299999]
["AIG Seguros|64 Miscelaneos","AIG Seguros","64 Miscelaneos",186411.52794]
["AIG Seguros|65 Tecnicos","AIG Seguros","65 Tecnicos",1208896.25709]
["AIG Seguros|66 Credito","AIG Seguros","66 Credito",16774.304680000001]
["Allianz México|10 Total General","Allianz México","10 Total General",15031312.08585]
["Allianz México|11 Total General Sin Pensiones","Allianz México","11 Total General Sin Pensiones",15031312.08585]
["Allianz México|12 Vida Total","Allianz México","12 Vida Total",8022515.0877600005]
["Allianz México|13 Vida Individual","Allianz México","13 Vida Individual",7424679.2016400006]
["Allianz México|14 Vida Gpo y Col","Allianz México","14 Vida Gpo y Col",597835.88611999992]
["Allianz México|28 Accidentes y Enfermedades Total","Allianz México","28 Accidentes y Enfermedades Total",2020110.9390100001]
["Allianz México|29 Accidentes Personales","Allianz México","29 Accidentes Personales",13.32616]
["Allianz México|30 AP Individual","Allianz México","30 AP Individual",0]
["Allianz México|31 AP Gpo y Col","Allianz México","31 AP Gpo y Col",13.32616]
["Allianz México|32 Gastos Medicos","Allianz México","32 Gastos Medicos",2020097.6128499999]
["Allianz México|33 GMM. Individual","Allianz México","33 GMM. Individual",1177892.3631600002]
["Allianz México|34 GMM. Gpo y Col","Allianz México","34 GMM. Gpo y Col",842205.24969000008]
["Allianz México|38 Daños Total","Allianz México","38 Daños Total",4988686.05908]
["Allianz México|39 Automoviles Total","Allianz México","39 Automoviles Total",107674.45804000001]
["Allianz México|41 Automoviles Residentes","Allianz México","41 Automoviles Residentes",107674.45804000001]
["Allianz México|42 Camiones","Allianz México","42 Camiones",0]
["Allianz México|46 Daños Sin Autos Total","Allianz México","46 Daños Sin Autos Total",4881011.6010400001]
["Allianz México|46 Responsabilidad Civil y Riesgos Profesionales","Allianz México","46 Responsabilidad Civil y Riesgos Profesionales",237178.15572000001]
["Allianz México|47 RC General","Allianz México","47 RC General",220328.09269999998]
["Allianz México|48 RC Aviones y Barcos","Allianz México","48 RC Aviones y Barcos",16850.063019999998]
["Allianz México|50 RC Otros","Allianz México","50 RC Otros",0]
["Allianz México|51 Maritimo y Transportes","Allianz México","51 Maritimo y Transportes",217615.12443]
["Allianz México|52 MyT Carga","Allianz México","52 MyT Carga",171866.24179]
["Allianz México|53 MyT Cascos","Allianz México","53 MyT Cascos",45748.882640000003]
["Allianz México|54 Incendio","Allianz México","54 Incendio",767538.74244000006]
["Allianz México|55 Riesgos Catastroficos","Allianz México","55 Riesgos Catastroficos",374474.58070999995]
["Allianz México|56 Terremoto y Erupcion Volcanica","Allianz México","56 Terremoto y Erupcion Volcanica",162226.30306999999]
["Allianz México|57 Huracan y Otros Riesgos Hidrometeorologicos","Allianz México","57 Huracan y Otros Riesgos Hidrometeorologicos",212248.27763999999]
["Allianz México|63 Diversos","Allianz México","63 Diversos",3284204.9977399996]
["Allianz México|64 Miscelaneos","Allianz México","64 Miscelaneos",77965.040790000014]
["Allianz México|65 Tecnicos","Allianz México","65 Tecnicos",3206239.95695]
["ANA|10 Total General","ANA","10 Total General",2392641.0795800001]
["ANA|11 Total General Sin Pensiones","ANA","11 Total General Sin Pensiones",2392641.0795800001]
["ANA|38 Daños Total","ANA","38 Daños Total",2392641.0795800001]
["ANA|39 Automoviles Total","ANA","39 Automoviles Total",2392641.0795800001]
["ANA|41 Automoviles Residentes","ANA","41 Automoviles Residentes",1256508.10314]
["ANA|42 Camiones","ANA","42 Camiones",1008074.34011]
["ANA|43 Automoviles Turistas","ANA","43 Automoviles Turistas",90602.411619999999]
["ANA|44 Otros Automoviles y Obligatorios","ANA","44 Otros Automoviles y Obligatorios",37456.224710000002]
["Aserta Seguros de Vida|10 Total General","Aserta Seguros de Vida","10 Total General",0]
["Aserta Seguros de Vida|11 Total General Sin Pensiones","Aserta Seguros de Vida","11 Total General Sin Pensiones",0]
["Aserta Seguros de Vida|12 Vida Total","Aserta Seguros de Vida","12 Vida Total",0]
["Aserta Seguros de Vida|13 Vida Individual","Aserta Seguros de Vida","13 Vida Individual",0]
["Aserta Seguros de Vida|14 Vida Gpo y Col","Aserta Seguros de Vida","14 Vida Gpo y Col",0]
["Aserta Seguros de Vida|28 Accidentes y Enfermedades Total","Aserta Seguros de Vida","28 Accidentes y Enfermedades Total",0]
["Aserta Seguros de Vida|29 Accidentes Personales","Aserta Seguros de Vida","29 Accidentes Personales",0]
["Aserta Seguros de Vida|30 AP Individual","Aserta Seguros de Vida","30 AP Individual",0]
[{"$f":"B136&\"|\"&C136","v":"Aserta Seguros de Vida|31 AP Gpo y Col"},"Aserta Seguros de Vida","31 AP Gpo y Col",0]
["Aserta Seguros de Vida|32 Gastos Medicos","Aserta Seguros de Vida","32 Gastos Medicos",0]
["Aserta Seguros de Vida|33 GMM. Individual","Aserta Seguros de Vida","33 GMM. Individual",0]
["Assurant Daños|10 Total General","Assurant Daños","10 Total General",198386.6924]
["Assurant Daños|11 Total General Sin Pensiones","Assurant Daños","11 Total General Sin Pensiones",198386.6924]
["Assurant Daños|38 Daños Total","Assurant Daños","38 Daños Total",198386.6924]
["Assurant Daños|39 Automoviles Total","Assurant Daños","39 Automoviles Total",28767.392359999998]
["Assurant Daños|41 Automoviles Residentes","Assurant Daños","41 Automoviles Residentes",28767.392359999998]
["Assurant Daños|46 Daños Sin Autos Total","Assurant Daños","46 Daños Sin Autos Total",169619.30004]
["Assurant Daños|46 Responsabilidad Civil y Riesgos Profesionales","Assurant Daños","46 Responsabilidad Civil y Riesgos Profesionales",0]
["Assurant Daños|47 RC General","Assurant Daños","47 RC General",0]
["Assurant Daños|54 Incendio","Assurant Daños","54 Incendio",0]
["Assurant Daños|55 Riesgos Catastroficos","Assurant Daños","55 Riesgos Catastroficos",0]
["Assurant Daños|56 Terremoto y Erupcion Volcanica","Assurant Daños","56 Terremoto y Erupcion Volcanica",0]
["Assurant Daños|57 Huracan y Otros Riesgos Hidrometeorologicos","Assurant Daños","57 Huracan y Otros Riesgos Hidrometeorologicos",0]
["Assurant Daños|63 Diversos","Assurant Daños","63 Diversos",169619.30004]
["Assurant Daños|64 Miscelaneos","Assurant Daños","64 Miscelaneos",148896.75206]
["Assurant Daños|65 Tecnicos","Assurant Daños","65 Tecnicos",20722.547979999999]
["Assurant Vida|10 Total General","Assurant Vida","10 Total General",598107.31757000007]
["Assurant Vida|11 Total General Sin Pensiones","Assurant Vida","11 Total General Sin Pensiones",598107.31757000007]
["Assurant Vida|12 Vida Total","Assurant Vida","12 Vida Total",598107.31757000007]
["Assurant Vida|14 Vida Gpo y Col","Assurant Vida","14 Vida Gpo y Col",598107.31757000007]
["Assurant Vida|28 Accidentes y Enfermedades Total","Assurant Vida","28 Accidentes y Enfermedades Total",0]
["Assurant Vida|29 Accidentes Personales","Assurant Vida","29 Accidentes Personales",0]
["Assurant Vida|30 AP Individual","Assurant Vida","30 AP Individual",0]
["Assurant Vida|31 AP Gpo y Col","Assurant Vida","31 AP Gpo y Col",0]
["Assurant Vida|32 Gastos Medicos","Assurant Vida","32 Gastos Medicos",0]
["Assurant Vida|33 GMM. Individual","Assurant Vida","33 GMM. Individual",0]
["Atlas|10 Total General","Atlas","10 Total General",15095885.725]
["Atlas|11 Total General Sin Pensiones","Atlas","11 Total General Sin Pensiones",15095885.725]
["Atlas|12 Vida Total","Atlas","12 Vida Total",1807604.94814]
["Atlas|13 Vida Individual","Atlas","13 Vida Individual",708664.21840000001]
["Atlas|14 Vida Gpo y Col","Atlas","14 Vida Gpo y Col",1098940.7297400001]
["Atlas|28 Accidentes y Enfermedades Total","Atlas","28 Accidentes y Enfermedades Total",4595006.7538900003]
["Atlas|29 Accidentes Personales","Atlas","29 Accidentes Personales",32926.317419999999]
["Atlas|30 AP Individual","Atlas","30 AP Individual",4882.65074]
["Atlas|31 AP Gpo y Col","Atlas","31 AP Gpo y Col",28043.666679999998]
["Atlas|32 Gastos Medicos","Atlas","32 Gastos Medicos",4562080.4364700001]
["Atlas|33 GMM. Individual","Atlas","33 GMM. Individual",1101908.6002400001]
["Atlas|34 GMM. Gpo y Col","Atlas","34 GMM. Gpo y Col",3460171.83623]
["Atlas|38 Daños Total","Atlas","38 Daños Total",8693274.0229699984]
["Atlas|39 Automoviles Total","Atlas","39 Automoviles Total",2944133.8407700001]
["Atlas|41 Automoviles Residentes","Atlas","41 Automoviles Residentes",1733613.2028399999]
["Atlas|42 Camiones","Atlas","42 Camiones",1156695.2818800001]
["Atlas|43 Automoviles Turistas","Atlas","43 Automoviles Turistas",1314.9448300000001]
["Atlas|44 Otros Automoviles y Obligatorios","Atlas","44 Otros Automoviles y Obligatorios",52510.411220000002]
["Atlas|46 Daños Sin Autos Total","Atlas","46 Daños Sin Autos Total",5749140.1821999997]
["Atlas|46 Responsabilidad Civil y Riesgos Profesionales","Atlas","46 Responsabilidad Civil y Riesgos Profesionales",731154.46826999995]
["Atlas|47 RC General","Atlas","47 RC General",352934.45364999998]
["Atlas|48 RC Aviones y Barcos","Atlas","48 RC Aviones y Barcos",373425.12414999999]
["Atlas|49 RC Viajero","Atlas","49 RC Viajero",4794.8904699999994]
["Atlas|51 Maritimo y Transportes","Atlas","51 Maritimo y Transportes",1990030.5004100001]
["Atlas|52 MyT Carga","Atlas","52 MyT Carga",623732.19062999997]
["Atlas|53 MyT Cascos","Atlas","53 MyT Cascos",1366298.30978]
["Atlas|54 Incendio","Atlas","54 Incendio",566669.74950999999]
["Atlas|55 Riesgos Catastroficos","Atlas","55 Riesgos Catastroficos",1033670.2931]
["Atlas|56 Terremoto y Erupcion Volcanica","Atlas","56 Terremoto y Erupcion Volcanica",346590.89731000003]
["Atlas|57 Huracan y Otros Riesgos Hidrometeorologicos","Atlas","57 Huracan y Otros Riesgos Hidrometeorologicos",687079.39578999998]
["Atlas|63 Diversos","Atlas","63 Diversos",1427615.1709100001]
["Atlas|64 Miscelaneos","Atlas","64 Miscelaneos",520072.85901999997]
["Atlas|65 Tecnicos","Atlas","65 Tecnicos",907542.31189000001]
["Atradius|10 Total General","Atradius","10 Total General",609310.56254999992]
["Atradius|11 Total General Sin Pensiones","Atradius","11 Total General Sin Pensiones",609310.56254999992]
["Atradius|38 Daños Total","Atradius","38 Daños Total",609310.56254999992]
[{"$f":"B200&\"|\"&C200","v":"Atradius|46 Daños Sin Autos Total"},"Atradius","46 Daños Sin Autos Total",609310.56254999992]
["Atradius|66 Credito","Atradius","66 Credito",609310.56254999992]
["AXA Salud|10 Total General","AXA Salud","10 Total General",569036.86289999995]
["AXA Salud|11 Total General Sin Pensiones","AXA Salud","11 Total General Sin Pensiones",569036.86289999995]
["AXA Salud|28 Accidentes y Enfermedades Total","AXA Salud","28 Accidentes y Enfermedades Total",569036.86289999995]
["AXA Salud|35 Salud","AXA Salud","35 Salud",569036.86289999995]
["AXA Salud|36 Salud Individual","AXA Salud","36 Salud Individual",43575.436229999999]
["AXA Salud|37 Salud Gpo y Col","AXA Salud","37 Salud Gpo y Col",525461.42667000007]
["AXA Seguros|10 Total General","AXA Seguros","10 Total General",41806699.471960001]
["AXA Seguros|11 Total General Sin Pensiones","AXA Seguros","11 Total General Sin Pensiones",41806699.471960001]
["AXA Seguros|12 Vida Total","AXA Seguros","12 Vida Total",4432978.3748199996]
["AXA Seguros|13 Vida Individual","AXA Seguros","13 Vida Individual",2752401.6663200003]
["AXA Seguros|14 Vida Gpo y Col","AXA Seguros","14 Vida Gpo y Col",1680576.7085000002]
["AXA Seguros|28 Accidentes y Enfermedades Total","AXA Seguros","28 Accidentes y Enfermedades Total",20384075.905619998]
["AXA Seguros|29 Accidentes Personales","AXA Seguros","29 Accidentes Personales",235251.94243]
["AXA Seguros|30 AP Individual","AXA Seguros","30 AP Individual",148480.17016000001]
["AXA Seguros|31 AP Gpo y Col","AXA Seguros","31 AP Gpo y Col",86771.772270000001]
["AXA Seguros|32 Gastos Medicos","AXA Seguros","32 Gastos Medicos",20148823.963189997]
["AXA Seguros|33 GMM. Individual","AXA Seguros","33 GMM. Individual",12198525.976299999]
["AXA Seguros|34 GMM. Gpo y Col","AXA Seguros","34 GMM. Gpo y Col",7950297.9868900003]
["AXA Seguros|38 Daños Total","AXA Seguros","38 Daños Total",16989645.191520002]
["AXA Seguros|39 Automoviles Total","AXA Seguros","39 Automoviles Total",9078412.7988600004]
["AXA Seguros|41 Automoviles Residentes","AXA Seguros","41 Automoviles Residentes",5657405.2288199998]
["AXA Seguros|42 Camiones","AXA Seguros","42 Camiones",3379692.0175999999]
["AXA Seguros|43 Automoviles Turistas","AXA Seguros","43 Automoviles Turistas",35596.996939999997]
["AXA Seguros|44 Otros Automoviles y Obligatorios","AXA Seguros","44 Otros Automoviles y Obligatorios",5718.5555000000004]
["AXA Seguros|46 Daños Sin Autos Total","AXA Seguros","46 Daños Sin Autos Total",7911232.3926600013]
["AXA Seguros|46 Responsabilidad Civil y Riesgos Profesionales","AXA Seguros","46 Responsabilidad Civil y Riesgos Profesionales",870184.09302000003]
["AXA Seguros|47 RC General","AXA Seguros","47 RC General",519379.37644000002]
["AXA Seguros|48 RC Aviones y Barcos","AXA Seguros","48 RC Aviones y Barcos",54086.90165]
["AXA Seguros|49 RC Viajero","AXA Seguros","49 RC Viajero",112431.73999]
["AXA Seguros|50 RC Otros","AXA Seguros","50 RC Otros",184286.07493999999]
["AXA Seguros|51 Maritimo y Transportes","AXA Seguros","51 Maritimo y Transportes",757525.71562000003]
["AXA Seguros|52 MyT Carga","AXA Seguros","52 MyT Carga",633683.75383000006]
["AXA Seguros|53 MyT Cascos","AXA Seguros","53 MyT Cascos",123841.96179]
["AXA Seguros|54 Incendio","AXA Seguros","54 Incendio",1525164.8089000001]
["AXA Seguros|55 Riesgos Catastroficos","AXA Seguros","55 Riesgos Catastroficos",2970340.4743600003]
["AXA Seguros|56 Terremoto y Erupcion Volcanica","AXA Seguros","56 Terremoto y Erupcion Volcanica",693368.49496000004]
["AXA Seguros|57 Huracan y Otros Riesgos Hidrometeorologicos","AXA Seguros","57 Huracan y Otros Riesgos Hidrometeorologicos",2276971.9794000001]
["AXA Seguros|58 Otros Riesgos Catastroficos","AXA Seguros","58 Otros Riesgos Catastroficos",0]
["AXA Seguros|59 Agricola y de Animales","AXA Seguros","59 Agricola y de Animales",0]
["AXA Seguros|60 AyA Agricola","AXA Seguros","60 AyA Agricola",0]
["AXA Seguros|63 Diversos","AXA Seguros","63 Diversos",1788017.30076]
["AXA Seguros|64 Miscelaneos","AXA Seguros","64 Miscelaneos",890222.38264999993]
["AXA Seguros|65 Tecnicos","AXA Seguros","65 Tecnicos",897794.91810999997]
["Banorte|10 Total General","Banorte","10 Total General",28721849.16367]
["Banorte|11 Total General Sin Pensiones","Banorte","11 Total General Sin Pensiones",28721849.16367]
["Banorte|12 Vida Total","Banorte","12 Vida Total",17792711.932270002]
["Banorte|13 Vida Individual","Banorte","13 Vida Individual",9028588.4946200009]
["Banorte|14 Vida Gpo y Col","Banorte","14 Vida Gpo y Col",8764123.4376499988]
["Banorte|28 Accidentes y Enfermedades Total","Banorte","28 Accidentes y Enfermedades Total",2175833.9738600003]
["Banorte|29 Accidentes Personales","Banorte","29 Accidentes Personales",169518.21805000002]
["Banorte|30 AP Individual","Banorte","30 AP Individual",124864.74673]
["Banorte|31 AP Gpo y Col","Banorte","31 AP Gpo y Col",44653.471319999997]
["Banorte|32 Gastos Medicos","Banorte","32 Gastos Medicos",2006315.75581]
["Banorte|33 GMM. Individual","Banorte","33 GMM. Individual",570821.11699000001]
["Banorte|34 GMM. Gpo y Col","Banorte","34 GMM. Gpo y Col",1435494.63882]
["Banorte|38 Daños Total","Banorte","38 Daños Total",8753303.2575400006]
["Banorte|39 Automoviles Total","Banorte","39 Automoviles Total",4866517.3384300005]
["Banorte|41 Automoviles Residentes","Banorte","41 Automoviles Residentes",3534130.4414400002]
["Banorte|42 Camiones","Banorte","42 Camiones",1332386.89699]
["Banorte|43 Automoviles Turistas","Banorte","43 Automoviles Turistas",0]
["Banorte|46 Daños Sin Autos Total","Banorte","46 Daños Sin Autos Total",3886785.9191100001]
["Banorte|46 Responsabilidad Civil y Riesgos Profesionales","Banorte","46 Responsabilidad Civil y Riesgos Profesionales",276821.49208]
[{"$f":"B264&\"|\"&C264","v":"Banorte|47 RC General"},"Banorte","47 RC General",178708.09741999998]
["Banorte|48 RC Aviones y Barcos","Banorte","48 RC Aviones y Barcos",46382.569109999997]
["Banorte|49 RC Viajero","Banorte","49 RC Viajero",51730.825549999994]
["Banorte|51 Maritimo y Transportes","Banorte","51 Maritimo y Transportes",198172.77786]
["Banorte|52 MyT Carga","Banorte","52 MyT Carga",62870.913820000002]
["Banorte|53 MyT Cascos","Banorte","53 MyT Cascos",135301.86403999999]
["Banorte|54 Incendio","Banorte","54 Incendio",1317015.6693900002]
["Banorte|55 Riesgos Catastroficos","Banorte","55 Riesgos Catastroficos",1095313.1836199998]
["Banorte|56 Terremoto y Erupcion Volcanica","Banorte","56 Terremoto y Erupcion Volcanica",369051.25274999999]
["Banorte|57 Huracan y Otros Riesgos Hidrometeorologicos","Banorte","57 Huracan y Otros Riesgos Hidrometeorologicos",726261.93087000004]
["Banorte|59 Agricola y de Animales","Banorte","59 Agricola y de Animales",12161.6101]
["Banorte|60 AyA Agricola","Banorte","60 AyA Agricola",12161.6101]
["Banorte|63 Diversos","Banorte","63 Diversos",987301.18605999998]
["Banorte|64 Miscelaneos","Banorte","64 Miscelaneos",693730.01344000001]
["Banorte|65 Tecnicos","Banorte","65 Tecnicos",293571.17262000003]
["BBVA Bancomer|10 Total General","BBVA Bancomer","10 Total General",52224009.604280002]
["BBVA Bancomer|11 Total General Sin Pensiones","BBVA Bancomer","11 Total General Sin Pensiones",52224009.604280002]
["BBVA Bancomer|12 Vida Total","BBVA Bancomer","12 Vida Total",41267678.076669998]
["BBVA Bancomer|13 Vida Individual","BBVA Bancomer","13 Vida Individual",38627450.203309998]
["BBVA Bancomer|14 Vida Gpo y Col","BBVA Bancomer","14 Vida Gpo y Col",2640227.8733600001]
["BBVA Bancomer|28 Accidentes y Enfermedades Total","BBVA Bancomer","28 Accidentes y Enfermedades Total",435849.84804000001]
["BBVA Bancomer|29 Accidentes Personales","BBVA Bancomer","29 Accidentes Personales",435844.85126999998]
["BBVA Bancomer|30 AP Individual","BBVA Bancomer","30 AP Individual",415117.71085999999]
["BBVA Bancomer|31 AP Gpo y Col","BBVA Bancomer","31 AP Gpo y Col",20727.14041]
["BBVA Bancomer|32 Gastos Medicos","BBVA Bancomer","32 Gastos Medicos",4.9967700000000006]
["BBVA Bancomer|33 GMM. Individual","BBVA Bancomer","33 GMM. Individual",4.9967700000000006]
["BBVA Bancomer|38 Daños Total","BBVA Bancomer","38 Daños Total",10520481.679570001]
["BBVA Bancomer|39 Automoviles Total","BBVA Bancomer","39 Automoviles Total",6392940.8352100002]
["BBVA Bancomer|41 Automoviles Residentes","BBVA Bancomer","41 Automoviles Residentes",4981986.31697]
["BBVA Bancomer|42 Camiones","BBVA Bancomer","42 Camiones",1410954.5182400001]
["BBVA Bancomer|46 Daños Sin Autos Total","BBVA Bancomer","46 Daños Sin Autos Total",4127540.84436]
["BBVA Bancomer|46 Responsabilidad Civil y Riesgos Profesionales","BBVA Bancomer","46 Responsabilidad Civil y Riesgos Profesionales",142083.48734999998]
["BBVA Bancomer|47 RC General","BBVA Bancomer","47 RC General",142083.48734999998]
["BBVA Bancomer|51 Maritimo y Transportes","BBVA Bancomer","51 Maritimo y Transportes",-237.63029999999998]
["BBVA Bancomer|52 MyT Carga","BBVA Bancomer","52 MyT Carga",42.679819999999999]
["BBVA Bancomer|53 MyT Cascos","BBVA Bancomer","53 MyT Cascos",-280.31011999999998]
["BBVA Bancomer|54 Incendio","BBVA Bancomer","54 Incendio",763415.16778999998]
["BBVA Bancomer|55 Riesgos Catastroficos","BBVA Bancomer","55 Riesgos Catastroficos",1356066.6367200001]
["BBVA Bancomer|56 Terremoto y Erupcion Volcanica","BBVA Bancomer","56 Terremoto y Erupcion Volcanica",793229.12355999998]
["BBVA Bancomer|57 Huracan y Otros Riesgos Hidrometeorologicos","BBVA Bancomer","57 Huracan y Otros Riesgos Hidrometeorologicos",562837.51315999997]
["BBVA Bancomer|63 Diversos","BBVA Bancomer","63 Diversos",1866213.1828000001]
["BBVA Bancomer|64 Miscelaneos","BBVA Bancomer","64 Miscelaneos",1806040.4985499999]
["BBVA Bancomer|65 Tecnicos","BBVA Bancomer","65 Tecnicos",60172.684249999998]
["BBVA Bancomer Salud|10 Total General","BBVA Bancomer Salud","10 Total General",1544159.2500799999]
["BBVA Bancomer Salud|11 Total General Sin Pensiones","BBVA Bancomer Salud","11 Total General Sin Pensiones",1544159.2500799999]
["BBVA Bancomer Salud|28 Accidentes y Enfermedades Total","BBVA Bancomer Salud","28 Accidentes y Enfermedades Total",1544159.2500799999]
["BBVA Bancomer Salud|32 Gastos Medicos","BBVA Bancomer Salud","32 Gastos Medicos",1529952.4694100001]
["BBVA Bancomer Salud|33 GMM. Individual","BBVA Bancomer Salud","33 GMM. Individual",293389.81911000004]
["BBVA Bancomer Salud|34 GMM. Gpo y Col","BBVA Bancomer Salud","34 GMM. Gpo y Col",1236562.6502999999]
["BBVA Bancomer Salud|35 Salud","BBVA Bancomer Salud","35 Salud",14206.78067]
["BBVA Bancomer Salud|36 Salud Individual","BBVA Bancomer Salud","36 Salud Individual",656.23991000000001]
["BBVA Bancomer Salud|37 Salud Gpo y Col","BBVA Bancomer Salud","37 Salud Gpo y Col",13550.54076]
["Berkley Seguros|10 Total General","Berkley Seguros","10 Total General",570550.37566999998]
["Berkley Seguros|11 Total General Sin Pensiones","Berkley Seguros","11 Total General Sin Pensiones",570550.37566999998]
["Berkley Seguros|38 Daños Total","Berkley Seguros","38 Daños Total",570550.37566999998]
["Berkley Seguros|46 Daños Sin Autos Total","Berkley Seguros","46 Daños Sin Autos Total",570550.37566999998]
["Berkley Seguros|46 Responsabilidad Civil y Riesgos Profesionales","Berkley Seguros","46 Responsabilidad Civil y Riesgos Profesionales",193674.87799000001]
["Berkley Seguros|47 RC General","Berkley Seguros","47 RC General",146082.18036000003]
["Berkley Seguros|50 RC Otros","Berkley Seguros","50 RC Otros",47592.697630000002]
["Berkley Seguros|51 Maritimo y Transportes","Berkley Seguros","51 Maritimo y Transportes",166359.15669]
["Berkley Seguros|52 MyT Carga","Berkley Seguros","52 MyT Carga",166359.15669]
["Berkley Seguros|54 Incendio","Berkley Seguros","54 Incendio",15662.14662]
["Berkley Seguros|55 Riesgos Catastroficos","Berkley Seguros","55 Riesgos Catastroficos",19044.338370000001]
["Berkley Seguros|56 Terremoto y Erupcion Volcanica","Berkley Seguros","56 Terremoto y Erupcion Volcanica",14861.667380000001]
[{"$f":"B328&\"|\"&C328","v":"Berkley Seguros|57 Huracan y Otros Riesgos Hidrometeorologicos"},"Berkley Seguros","57 Huracan y Otros Riesgos Hidrometeorologicos",4182.6709900000005]
["Berkley Seguros|63 Diversos","Berkley Seguros","63 Diversos",175809.856]
["Berkley Seguros|64 Miscelaneos","Berkley Seguros","64 Miscelaneos",32746.17136]
["Berkley Seguros|65 Tecnicos","Berkley Seguros","65 Tecnicos",143063.68463999999]
["BUPA México|10 Total General","BUPA México","10 Total General",3098553.8007]
["BUPA México|11 Total General Sin Pensiones","BUPA México","11 Total General Sin Pensiones",3098553.8007]
["BUPA México|28 Accidentes y Enfermedades Total","BUPA México","28 Accidentes y Enfermedades Total",3098553.8007]
["BUPA México|32 Gastos Medicos","BUPA México","32 Gastos Medicos",3098553.8007]
["BUPA México|33 GMM. Individual","BUPA México","33 GMM. Individual",2596971.0691300002]
["BUPA México|34 GMM. Gpo y Col","BUPA México","34 GMM. Gpo y Col",501582.73157]
["Cardif Seguros Generales|10 Total General","Cardif Seguros Generales","10 Total General",1656218.0302899999]
["Cardif Seguros Generales|11 Total General Sin Pensiones","Cardif Seguros Generales","11 Total General Sin Pensiones",1656218.0302899999]
["Cardif Seguros Generales|38 Daños Total","Cardif Seguros Generales","38 Daños Total",1656218.0302899999]
["Cardif Seguros Generales|39 Automoviles Total","Cardif Seguros Generales","39 Automoviles Total",864680.06487]
["Cardif Seguros Generales|44 Otros Automoviles y Obligatorios","Cardif Seguros Generales","44 Otros Automoviles y Obligatorios",864680.06487]
["Cardif Seguros Generales|46 Daños Sin Autos Total","Cardif Seguros Generales","46 Daños Sin Autos Total",791537.96542000026]
["Cardif Seguros Generales|46 Responsabilidad Civil y Riesgos Profesionales","Cardif Seguros Generales","46 Responsabilidad Civil y Riesgos Profesionales",1676.0868]
["Cardif Seguros Generales|47 RC General","Cardif Seguros Generales","47 RC General",1676.0868]
["Cardif Seguros Generales|54 Incendio","Cardif Seguros Generales","54 Incendio",29105.635480000001]
["Cardif Seguros Generales|55 Riesgos Catastroficos","Cardif Seguros Generales","55 Riesgos Catastroficos",213533.47668000002]
["Cardif Seguros Generales|56 Terremoto y Erupcion Volcanica","Cardif Seguros Generales","56 Terremoto y Erupcion Volcanica",183370.01018000001]
["Cardif Seguros Generales|57 Huracan y Otros Riesgos Hidrometeorologicos","Cardif Seguros Generales","57 Huracan y Otros Riesgos Hidrometeorologicos",30163.466499999999]
["Cardif Seguros Generales|63 Diversos","Cardif Seguros Generales","63 Diversos",547222.76646000007]
["Cardif Seguros Generales|64 Miscelaneos","Cardif Seguros Generales","64 Miscelaneos",537609.89040999999]
["Cardif Seguros Generales|65 Tecnicos","Cardif Seguros Generales","65 Tecnicos",9612.8760500000008]
["Cardif Vida|10 Total General","Cardif Vida","10 Total General",1796205.0709800001]
["Cardif Vida|11 Total General Sin Pensiones","Cardif Vida","11 Total General Sin Pensiones",1796205.0709800001]
["Cardif Vida|12 Vida Total","Cardif Vida","12 Vida Total",1950834.3623800001]
["Cardif Vida|13 Vida Individual","Cardif Vida","13 Vida Individual",-40080.095880000001]
["Cardif Vida|14 Vida Gpo y Col","Cardif Vida","14 Vida Gpo y Col",1990914.45826]
["Cardif Vida|28 Accidentes y Enfermedades Total","Cardif Vida","28 Accidentes y Enfermedades Total",-154629.29140000002]
["Cardif Vida|29 Accidentes Personales","Cardif Vida","29 Accidentes Personales",5207.1266399999995]
["Cardif Vida|30 AP Individual","Cardif Vida","30 AP Individual",-2096.5958700000001]
["Cardif Vida|31 AP Gpo y Col","Cardif Vida","31 AP Gpo y Col",7303.7225099999996]
["Cardif Vida|32 Gastos Medicos","Cardif Vida","32 Gastos Medicos",-159836.41803999999]
["Cardif Vida|33 GMM. Individual","Cardif Vida","33 GMM. Individual",-162861.36224000002]
["Cardif Vida|34 GMM. Gpo y Col","Cardif Vida","34 GMM. Gpo y Col",3024.9442000000004]
["Centauro|10 Total General","Centauro","10 Total General",217174.45709000001]
["Centauro|11 Total General Sin Pensiones","Centauro","11 Total General Sin Pensiones",217174.45709000001]
["Centauro|28 Accidentes y Enfermedades Total","Centauro","28 Accidentes y Enfermedades Total",217174.45709000001]
["Centauro|32 Gastos Medicos","Centauro","32 Gastos Medicos",66752.334530000007]
["Centauro|34 GMM. Gpo y Col","Centauro","34 GMM. Gpo y Col",66752.334530000007]
["Centauro|35 Salud","Centauro","35 Salud",150422.12255999999]
["Centauro|36 Salud Individual","Centauro","36 Salud Individual",731.38499999999999]
["Centauro|37 Salud Gpo y Col","Centauro","37 Salud Gpo y Col",149690.73756000001]
["Chubb Seguros México|10 Total General","Chubb Seguros México","10 Total General",17720859.139090002]
["Chubb Seguros México|11 Total General Sin Pensiones","Chubb Seguros México","11 Total General Sin Pensiones",17720859.139090002]
["Chubb Seguros México|12 Vida Total","Chubb Seguros México","12 Vida Total",813211.66997000005]
["Chubb Seguros México|13 Vida Individual","Chubb Seguros México","13 Vida Individual",195531.20419999998]
["Chubb Seguros México|14 Vida Gpo y Col","Chubb Seguros México","14 Vida Gpo y Col",617680.46577000001]
["Chubb Seguros México|28 Accidentes y Enfermedades Total","Chubb Seguros México","28 Accidentes y Enfermedades Total",1099381.7712999999]
["Chubb Seguros México|29 Accidentes Personales","Chubb Seguros México","29 Accidentes Personales",842034.11337000004]
["Chubb Seguros México|30 AP Individual","Chubb Seguros México","30 AP Individual",547351.72470999998]
["Chubb Seguros México|31 AP Gpo y Col","Chubb Seguros México","31 AP Gpo y Col",294682.38866000006]
["Chubb Seguros México|32 Gastos Medicos","Chubb Seguros México","32 Gastos Medicos",257347.65793000002]
["Chubb Seguros México|33 GMM. Individual","Chubb Seguros México","33 GMM. Individual",251970.56547999999]
["Chubb Seguros México|34 GMM. Gpo y Col","Chubb Seguros México","34 GMM. Gpo y Col",5377.0924500000001]
["Chubb Seguros México|38 Daños Total","Chubb Seguros México","38 Daños Total",15808265.69782]
["Chubb Seguros México|39 Automoviles Total","Chubb Seguros México","39 Automoviles Total",10484087.890889999]
["Chubb Seguros México|41 Automoviles Residentes","Chubb Seguros México","41 Automoviles Residentes",7117504.93738]
["Chubb Seguros México|42 Camiones","Chubb Seguros México","42 Camiones",2957248.7045100001]
["Chubb Seguros México|43 Automoviles Turistas","Chubb Seguros México","43 Automoviles Turistas",409271.68650000001]
["Chubb Seguros México|44 Otros Automoviles y Obligatorios","Chubb Seguros México","44 Otros Automoviles y Obligatorios",62.5625]
["Chubb Seguros México|46 Daños Sin Autos Total","Chubb Seguros México","46 Daños Sin Autos Total",5324177.8069300009]
[{"$f":"B392&\"|\"&C392","v":"Chubb Seguros México|46 Responsabilidad Civil y Riesgos Profesionales"},"Chubb Seguros México","46 Responsabilidad Civil y Riesgos Profesionales",1375785.7430100001]
["Chubb Seguros México|47 RC General","Chubb Seguros México","47 RC General",1369543.4211500001]
["Chubb Seguros México|48 RC Aviones y Barcos","Chubb Seguros México","48 RC Aviones y Barcos",40.436070000000001]
["Chubb Seguros México|49 RC Viajero","Chubb Seguros México","49 RC Viajero",6201.8857900000003]
["Chubb Seguros México|50 RC Otros","Chubb Seguros México","50 RC Otros",0]
["Chubb Seguros México|51 Maritimo y Transportes","Chubb Seguros México","51 Maritimo y Transportes",1227938.6670599999]
["Chubb Seguros México|52 MyT Carga","Chubb Seguros México","52 MyT Carga",1204681.5690599999]
["Chubb Seguros México|53 MyT Cascos","Chubb Seguros México","53 MyT Cascos",23257.098000000002]
["Chubb Seguros México|54 Incendio","Chubb Seguros México","54 Incendio",951986.12653000001]
["Chubb Seguros México|55 Riesgos Catastroficos","Chubb Seguros México","55 Riesgos Catastroficos",946342.44519000011]
["Chubb Seguros México|56 Terremoto y Erupcion Volcanica","Chubb Seguros México","56 Terremoto y Erupcion Volcanica",469872.73861]
["Chubb Seguros México|57 Huracan y Otros Riesgos Hidrometeorologicos","Chubb Seguros México","57 Huracan y Otros Riesgos Hidrometeorologicos",476469.70658]
["Chubb Seguros México|63 Diversos","Chubb Seguros México","63 Diversos",822124.82513999997]
["Chubb Seguros México|64 Miscelaneos","Chubb Seguros México","64 Miscelaneos",405356.59672000003]
["Chubb Seguros México|65 Tecnicos","Chubb Seguros México","65 Tecnicos",416768.22842]
["Citibanamex Pensiones|10 Total General","Citibanamex Pensiones","10 Total General",6207.0736399999996]
["Citibanamex Pensiones|15 Pensiones Total","Citibanamex Pensiones","15 Pensiones Total",6207.0736399999996]
["Citibanamex Pensiones|16 Pensiones IMSS","Citibanamex Pensiones","16 Pensiones IMSS",6207.0736399999996]
["Citibanamex Pensiones|17 IMSS Incapacidad Permanente RT","Citibanamex Pensiones","17 IMSS Incapacidad Permanente RT",890.72958999999992]
["Citibanamex Pensiones|18 IMSS Invalidez (invalidez y vida)","Citibanamex Pensiones","18 IMSS Invalidez (invalidez y vida)",515.70033000000001]
["Citibanamex Pensiones|20 IMSS Muerte (invalidez y vida)","Citibanamex Pensiones","20 IMSS Muerte (invalidez y vida)",4800.64372]
["Citibanamex Pensiones|21 IMSS Muerte (riesgos de trabajo)","Citibanamex Pensiones","21 IMSS Muerte (riesgos de trabajo)",0]
["Citibanamex Seguros|10 Total General","Citibanamex Seguros","10 Total General",24659912.83171]
["Citibanamex Seguros|11 Total General Sin Pensiones","Citibanamex Seguros","11 Total General Sin Pensiones",24659912.83171]
["Citibanamex Seguros|12 Vida Total","Citibanamex Seguros","12 Vida Total",24036154.063060001]
["Citibanamex Seguros|13 Vida Individual","Citibanamex Seguros","13 Vida Individual",22330712.55195]
["Citibanamex Seguros|14 Vida Gpo y Col","Citibanamex Seguros","14 Vida Gpo y Col",1705441.5111100001]
["Citibanamex Seguros|28 Accidentes y Enfermedades Total","Citibanamex Seguros","28 Accidentes y Enfermedades Total",615579.5840700001]
["Citibanamex Seguros|29 Accidentes Personales","Citibanamex Seguros","29 Accidentes Personales",615460.08952000004]
["Citibanamex Seguros|30 AP Individual","Citibanamex Seguros","30 AP Individual",462450.65205000003]
["Citibanamex Seguros|31 AP Gpo y Col","Citibanamex Seguros","31 AP Gpo y Col",153009.43747]
["Citibanamex Seguros|32 Gastos Medicos","Citibanamex Seguros","32 Gastos Medicos",119.49455]
["Citibanamex Seguros|33 GMM. Individual","Citibanamex Seguros","33 GMM. Individual",119.49455]
["Citibanamex Seguros|34 GMM. Gpo y Col","Citibanamex Seguros","34 GMM. Gpo y Col",0]
["Citibanamex Seguros|38 Daños Total","Citibanamex Seguros","38 Daños Total",8179.1845800000001]
["Citibanamex Seguros|39 Automoviles Total","Citibanamex Seguros","39 Automoviles Total",-11.987219999999999]
["Citibanamex Seguros|41 Automoviles Residentes","Citibanamex Seguros","41 Automoviles Residentes",-11.987219999999999]
["Citibanamex Seguros|46 Daños Sin Autos Total","Citibanamex Seguros","46 Daños Sin Autos Total",8191.171800000001]
["Citibanamex Seguros|46 Responsabilidad Civil y Riesgos Profesionales","Citibanamex Seguros","46 Responsabilidad Civil y Riesgos Profesionales",714.81169999999997]
["Citibanamex Seguros|47 RC General","Citibanamex Seguros","47 RC General",714.81169999999997]
["Citibanamex Seguros|54 Incendio","Citibanamex Seguros","54 Incendio",2896.5901600000002]
["Citibanamex Seguros|55 Riesgos Catastroficos","Citibanamex Seguros","55 Riesgos Catastroficos",7323.4930700000004]
["Citibanamex Seguros|56 Terremoto y Erupcion Volcanica","Citibanamex Seguros","56 Terremoto y Erupcion Volcanica",4379.0511200000001]
["Citibanamex Seguros|57 Huracan y Otros Riesgos Hidrometeorologicos","Citibanamex Seguros","57 Huracan y Otros Riesgos Hidrometeorologicos",2944.4419500000004]
["Citibanamex Seguros|63 Diversos","Citibanamex Seguros","63 Diversos",-2743.7231299999999]
["Citibanamex Seguros|64 Miscelaneos","Citibanamex Seguros","64 Miscelaneos",-2623.7003599999998]
["Citibanamex Seguros|65 Tecnicos","Citibanamex Seguros","65 Tecnicos",-120.02277000000001]
["Coface|10 Total General","Coface","10 Total General",312582.40041]
["Coface|11 Total General Sin Pensiones","Coface","11 Total General Sin Pensiones",312582.40041]
["Coface|38 Daños Total","Coface","38 Daños Total",312582.40041]
["Coface|46 Daños Sin Autos Total","Coface","46 Daños Sin Autos Total",312582.40041]
["Coface|66 Credito","Coface","66 Credito",312582.40041]
["Crabi|10 Total General","Crabi","10 Total General",60704.479759999995]
["Crabi|11 Total General Sin Pensiones","Crabi","11 Total General Sin Pensiones",60704.479759999995]
["Crabi|38 Daños Total","Crabi","38 Daños Total",60704.479759999995]
["Crabi|39 Automoviles Total","Crabi","39 Automoviles Total",60704.479759999995]
["Crabi|41 Automoviles Residentes","Crabi","41 Automoviles Residentes",60704.479759999995]
["Dentegra|10 Total General","Dentegra","10 Total General",407667.88101999997]
["Dentegra|11 Total General Sin Pensiones","Dentegra","11 Total General Sin Pensiones",407667.88101999997]
["Dentegra|28 Accidentes y Enfermedades Total","Dentegra","28 Accidentes y Enfermedades Total",407667.88101999997]
["Dentegra|32 Gastos Medicos","Dentegra","32 Gastos Medicos",290878.35506000003]
["Dentegra|34 GMM. Gpo y Col","Dentegra","34 GMM. Gpo y Col",290878.35506000003]
["Dentegra|35 Salud","Dentegra","35 Salud",116789.52596]
["Dentegra|36 Salud Individual","Dentegra","36 Salud Individual",1048.0890899999999]
[{"$f":"B456&\"|\"&C456","v":"Dentegra|37 Salud Gpo y Col"},"Dentegra","37 Salud Gpo y Col",115741.43687000001]
["El Águila|10 Total General","El Águila","10 Total General",1212681.1111300001]
["El Águila|11 Total General Sin Pensiones","El Águila","11 Total General Sin Pensiones",1212681.1111300001]
["El Águila|38 Daños Total","El Águila","38 Daños Total",1212681.1111300001]
["El Águila|39 Automoviles Total","El Águila","39 Automoviles Total",631571.18890999991]
["El Águila|41 Automoviles Residentes","El Águila","41 Automoviles Residentes",595942.93941999995]
["El Águila|43 Automoviles Turistas","El Águila","43 Automoviles Turistas",35628.249490000002]
["El Águila|44 Otros Automoviles y Obligatorios","El Águila","44 Otros Automoviles y Obligatorios",0]
["El Águila|46 Daños Sin Autos Total","El Águila","46 Daños Sin Autos Total",581109.92222000007]
["El Águila|46 Responsabilidad Civil y Riesgos Profesionales","El Águila","46 Responsabilidad Civil y Riesgos Profesionales",57262.848979999995]
["El Águila|47 RC General","El Águila","47 RC General",41993.486770000003]
["El Águila|48 RC Aviones y Barcos","El Águila","48 RC Aviones y Barcos",15269.362210000001]
["El Águila|51 Maritimo y Transportes","El Águila","51 Maritimo y Transportes",59955.848149999998]
["El Águila|52 MyT Carga","El Águila","52 MyT Carga",51384.086470000002]
["El Águila|53 MyT Cascos","El Águila","53 MyT Cascos",8571.7616799999996]
["El Águila|54 Incendio","El Águila","54 Incendio",157756.05109999998]
["El Águila|55 Riesgos Catastroficos","El Águila","55 Riesgos Catastroficos",206282.19575000001]
["El Águila|56 Terremoto y Erupcion Volcanica","El Águila","56 Terremoto y Erupcion Volcanica",70479.533120000007]
["El Águila|57 Huracan y Otros Riesgos Hidrometeorologicos","El Águila","57 Huracan y Otros Riesgos Hidrometeorologicos",135802.66263000001]
["El Águila|63 Diversos","El Águila","63 Diversos",99852.978239999997]
["El Águila|64 Miscelaneos","El Águila","64 Miscelaneos",25397.117249999999]
["El Águila|65 Tecnicos","El Águila","65 Tecnicos",74455.860990000001]
["El Potosí|10 Total General","El Potosí","10 Total General",1612866.84565]
["El Potosí|11 Total General Sin Pensiones","El Potosí","11 Total General Sin Pensiones",1612866.84565]
["El Potosí|12 Vida Total","El Potosí","12 Vida Total",261093.62521]
["El Potosí|13 Vida Individual","El Potosí","13 Vida Individual",63266.067929999997]
["El Potosí|14 Vida Gpo y Col","El Potosí","14 Vida Gpo y Col",197827.55728000001]
["El Potosí|28 Accidentes y Enfermedades Total","El Potosí","28 Accidentes y Enfermedades Total",72839.212459999995]
["El Potosí|29 Accidentes Personales","El Potosí","29 Accidentes Personales",72839.212459999995]
["El Potosí|30 AP Individual","El Potosí","30 AP Individual",14353.769829999999]
["El Potosí|31 AP Gpo y Col","El Potosí","31 AP Gpo y Col",58485.442630000005]
["El Potosí|38 Daños Total","El Potosí","38 Daños Total",1278934.00798]
["El Potosí|39 Automoviles Total","El Potosí","39 Automoviles Total",722181.87097000005]
["El Potosí|41 Automoviles Residentes","El Potosí","41 Automoviles Residentes",374744.42997000006]
["El Potosí|42 Camiones","El Potosí","42 Camiones",329847.49783000001]
["El Potosí|43 Automoviles Turistas","El Potosí","43 Automoviles Turistas",17589.943170000002]
["El Potosí|46 Daños Sin Autos Total","El Potosí","46 Daños Sin Autos Total",556752.13700999995]
["El Potosí|46 Responsabilidad Civil y Riesgos Profesionales","El Potosí","46 Responsabilidad Civil y Riesgos Profesionales",122051.54706999999]
["El Potosí|47 RC General","El Potosí","47 RC General",106866.83116]
["El Potosí|48 RC Aviones y Barcos","El Potosí","48 RC Aviones y Barcos",10534.992910000001]
["El Potosí|49 RC Viajero","El Potosí","49 RC Viajero",4649.723]
["El Potosí|51 Maritimo y Transportes","El Potosí","51 Maritimo y Transportes",123407.40536]
["El Potosí|52 MyT Carga","El Potosí","52 MyT Carga",86352.865790000011]
["El Potosí|53 MyT Cascos","El Potosí","53 MyT Cascos",37054.539570000001]
["El Potosí|54 Incendio","El Potosí","54 Incendio",157995.03305]
["El Potosí|55 Riesgos Catastroficos","El Potosí","55 Riesgos Catastroficos",68763.193980000011]
["El Potosí|56 Terremoto y Erupcion Volcanica","El Potosí","56 Terremoto y Erupcion Volcanica",28054.966769999999]
["El Potosí|57 Huracan y Otros Riesgos Hidrometeorologicos","El Potosí","57 Huracan y Otros Riesgos Hidrometeorologicos",40708.227209999997]
["El Potosí|63 Diversos","El Potosí","63 Diversos",84534.957549999992]
["El Potosí|64 Miscelaneos","El Potosí","64 Miscelaneos",33425.330750000001]
["El Potosí|65 Tecnicos","El Potosí","65 Tecnicos",51109.626799999998]
["FM Global|10 Total General","FM Global","10 Total General",2851934.3307800004]
["FM Global|11 Total General Sin Pensiones","FM Global","11 Total General Sin Pensiones",2851934.3307800004]
["FM Global|38 Daños Total","FM Global","38 Daños Total",2851934.3307800004]
["FM Global|46 Daños Sin Autos Total","FM Global","46 Daños Sin Autos Total",2851934.3307800004]
["FM Global|51 Maritimo y Transportes","FM Global","51 Maritimo y Transportes",3544.1189300000001]
["FM Global|52 MyT Carga","FM Global","52 MyT Carga",3544.1189300000001]
["FM Global|54 Incendio","FM Global","54 Incendio",1424834.89261]
["FM Global|55 Riesgos Catastroficos","FM Global","55 Riesgos Catastroficos",590618.98954999994]
["FM Global|56 Terremoto y Erupcion Volcanica","FM Global","56 Terremoto y Erupcion Volcanica",446652.48310000001]
["FM Global|57 Huracan y Otros Riesgos Hidrometeorologicos","FM Global","57 Huracan y Otros Riesgos Hidrometeorologicos",143966.50644999999]
["FM Global|63 Diversos","FM Global","63 Diversos",832936.32969000004]
["FM Global|64 Miscelaneos","FM Global","64 Miscelaneos",425458.36147]
["FM Global|65 Tecnicos","FM Global","65 Tecnicos",407477.96822000004]
[{"$f":"B520&\"|\"&C520","v":"G.N.P.|10 Total General"},"G.N.P.","10 Total General",73374373.455160007]
["G.N.P.|11 Total General Sin Pensiones","G.N.P.","11 Total General Sin Pensiones",73374373.455160007]
["G.N.P.|12 Vida Total","G.N.P.","12 Vida Total",26297045.353870001]
["G.N.P.|13 Vida Individual","G.N.P.","13 Vida Individual",21806824.108169999]
["G.N.P.|14 Vida Gpo y Col","G.N.P.","14 Vida Gpo y Col",4490221.2456999999]
["G.N.P.|28 Accidentes y Enfermedades Total","G.N.P.","28 Accidentes y Enfermedades Total",28103410.80077]
["G.N.P.|29 Accidentes Personales","G.N.P.","29 Accidentes Personales",157752.15979000001]
["G.N.P.|30 AP Individual","G.N.P.","30 AP Individual",5868.8180199999997]
["G.N.P.|31 AP Gpo y Col","G.N.P.","31 AP Gpo y Col",151883.34177]
["G.N.P.|32 Gastos Medicos","G.N.P.","32 Gastos Medicos",27945658.640979998]
["G.N.P.|33 GMM. Individual","G.N.P.","33 GMM. Individual",15626930.925940001]
["G.N.P.|34 GMM. Gpo y Col","G.N.P.","34 GMM. Gpo y Col",12318727.71504]
["G.N.P.|38 Daños Total","G.N.P.","38 Daños Total",18973917.300519999]
["G.N.P.|39 Automoviles Total","G.N.P.","39 Automoviles Total",14669738.197180001]
["G.N.P.|41 Automoviles Residentes","G.N.P.","41 Automoviles Residentes",9469718.0508500002]
["G.N.P.|42 Camiones","G.N.P.","42 Camiones",3702661.1091900002]
["G.N.P.|43 Automoviles Turistas","G.N.P.","43 Automoviles Turistas",107248.41097]
["G.N.P.|44 Otros Automoviles y Obligatorios","G.N.P.","44 Otros Automoviles y Obligatorios",1390110.6261700001]
["G.N.P.|46 Daños Sin Autos Total","G.N.P.","46 Daños Sin Autos Total",4304179.1033399999]
["G.N.P.|46 Responsabilidad Civil y Riesgos Profesionales","G.N.P.","46 Responsabilidad Civil y Riesgos Profesionales",682098.22563]
["G.N.P.|47 RC General","G.N.P.","47 RC General",673245.61621000001]
["G.N.P.|48 RC Aviones y Barcos","G.N.P.","48 RC Aviones y Barcos",8848.2591499999999]
["G.N.P.|49 RC Viajero","G.N.P.","49 RC Viajero",4.3502700000000001]
["G.N.P.|51 Maritimo y Transportes","G.N.P.","51 Maritimo y Transportes",466198.47668999998]
["G.N.P.|52 MyT Carga","G.N.P.","52 MyT Carga",450251.50142000004]
["G.N.P.|53 MyT Cascos","G.N.P.","53 MyT Cascos",15946.975269999999]
["G.N.P.|54 Incendio","G.N.P.","54 Incendio",1383244.129]
["G.N.P.|55 Riesgos Catastroficos","G.N.P.","55 Riesgos Catastroficos",838790.67912999995]
["G.N.P.|56 Terremoto y Erupcion Volcanica","G.N.P.","56 Terremoto y Erupcion Volcanica",280580.55700999999]
["G.N.P.|57 Huracan y Otros Riesgos Hidrometeorologicos","G.N.P.","57 Huracan y Otros Riesgos Hidrometeorologicos",558210.12211999996]
["G.N.P.|59 Agricola y de Animales","G.N.P.","59 Agricola y de Animales",33.481900000000003]
["G.N.P.|60 AyA Agricola","G.N.P.","60 AyA Agricola",33.481900000000003]
["G.N.P.|62 AyA Pecuario","G.N.P.","62 AyA Pecuario",0]
["G.N.P.|63 Diversos","G.N.P.","63 Diversos",933814.11098999996]
["G.N.P.|64 Miscelaneos","G.N.P.","64 Miscelaneos",303272.93592000002]
["G.N.P.|65 Tecnicos","G.N.P.","65 Tecnicos",630541.17507]
["General de Salud|10 Total General","General de Salud","10 Total General",939209.72964999999]
["General de Salud|11 Total General Sin Pensiones","General de Salud","11 Total General Sin Pensiones",939209.72964999999]
["General de Salud|28 Accidentes y Enfermedades Total","General de Salud","28 Accidentes y Enfermedades Total",939209.72964999999]
["General de Salud|32 Gastos Medicos","General de Salud","32 Gastos Medicos",1619.2811299999998]
["General de Salud|33 GMM. Individual","General de Salud","33 GMM. Individual",1224.5007900000001]
["General de Salud|34 GMM. Gpo y Col","General de Salud","34 GMM. Gpo y Col",394.78034000000002]
["General de Salud|35 Salud","General de Salud","35 Salud",937590.44851999998]
["General de Salud|36 Salud Individual","General de Salud","36 Salud Individual",77627.575360000003]
["General de Salud|37 Salud Gpo y Col","General de Salud","37 Salud Gpo y Col",859962.87315999996]
["General de Seguros|10 Total General","General de Seguros","10 Total General",1971809.2153]
["General de Seguros|11 Total General Sin Pensiones","General de Seguros","11 Total General Sin Pensiones",1971809.2153]
["General de Seguros|12 Vida Total","General de Seguros","12 Vida Total",407027.62197000004]
["General de Seguros|13 Vida Individual","General de Seguros","13 Vida Individual",91153.297099999996]
["General de Seguros|14 Vida Gpo y Col","General de Seguros","14 Vida Gpo y Col",315874.32487000001]
["General de Seguros|28 Accidentes y Enfermedades Total","General de Seguros","28 Accidentes y Enfermedades Total",46927.563710000002]
["General de Seguros|29 Accidentes Personales","General de Seguros","29 Accidentes Personales",46927.563710000002]
["General de Seguros|30 AP Individual","General de Seguros","30 AP Individual",9221.0133800000003]
["General de Seguros|31 AP Gpo y Col","General de Seguros","31 AP Gpo y Col",37706.550329999998]
["General de Seguros|38 Daños Total","General de Seguros","38 Daños Total",1517854.0296199999]
["General de Seguros|39 Automoviles Total","General de Seguros","39 Automoviles Total",1077592.6575999998]
["General de Seguros|41 Automoviles Residentes","General de Seguros","41 Automoviles Residentes",405056.64795000001]
["General de Seguros|42 Camiones","General de Seguros","42 Camiones",662975.28116999997]
["General de Seguros|43 Automoviles Turistas","General de Seguros","43 Automoviles Turistas",9560.7284799999998]
["General de Seguros|44 Otros Automoviles y Obligatorios","General de Seguros","44 Otros Automoviles y Obligatorios",0]
["General de Seguros|46 Daños Sin Autos Total","General de Seguros","46 Daños Sin Autos Total",440261.37201999995]
["General de Seguros|46 Responsabilidad Civil y Riesgos Profesionales","General de Seguros","46 Responsabilidad Civil y Riesgos Profesionales",56520.889320000002]
["General de Seguros|47 RC General","General de Seguros","47 RC General",53273.154029999998]
["General de Seguros|48 RC Aviones y Barcos","General de Seguros","48 RC Aviones y Barcos",0]
[{"$f":"B584&\"|\"&C584","v":"General de Seguros|49 RC Viajero"},"General de Seguros","49 RC Viajero",3247.7352900000001]
["General de Seguros|50 RC Otros","General de Seguros","50 RC Otros",0]
["General de Seguros|51 Maritimo y Transportes","General de Seguros","51 Maritimo y Transportes",89715.713340000002]
["General de Seguros|52 MyT Carga","General de Seguros","52 MyT Carga",78370.854630000002]
["General de Seguros|53 MyT Cascos","General de Seguros","53 MyT Cascos",11344.85871]
["General de Seguros|54 Incendio","General de Seguros","54 Incendio",77137.478860000003]
["General de Seguros|55 Riesgos Catastroficos","General de Seguros","55 Riesgos Catastroficos",56377.103969999996]
["General de Seguros|56 Terremoto y Erupcion Volcanica","General de Seguros","56 Terremoto y Erupcion Volcanica",17396.409190000002]
["General de Seguros|57 Huracan y Otros Riesgos Hidrometeorologicos","General de Seguros","57 Huracan y Otros Riesgos Hidrometeorologicos",38980.694779999998]
["General de Seguros|59 Agricola y de Animales","General de Seguros","59 Agricola y de Animales",77008.617400000003]
["General de Seguros|60 AyA Agricola","General de Seguros","60 AyA Agricola",73359.997409999996]
["General de Seguros|62 AyA Pecuario","General de Seguros","62 AyA Pecuario",3648.6199900000001]
["General de Seguros|63 Diversos","General de Seguros","63 Diversos",83501.569129999989]
["General de Seguros|64 Miscelaneos","General de Seguros","64 Miscelaneos",61674.160960000001]
["General de Seguros|65 Tecnicos","General de Seguros","65 Tecnicos",21827.408170000002]
["Genworth Seg. de Crédito|10 Total General","Genworth Seg. de Crédito","10 Total General",84326.688069999989]
["Genworth Seg. de Crédito|11 Total General Sin Pensiones","Genworth Seg. de Crédito","11 Total General Sin Pensiones",84326.688069999989]
["Genworth Seg. de Crédito|38 Daños Total","Genworth Seg. de Crédito","38 Daños Total",84326.688069999989]
["Genworth Seg. de Crédito|46 Daños Sin Autos Total","Genworth Seg. de Crédito","46 Daños Sin Autos Total",84326.688069999989]
["Genworth Seg. de Crédito|67 Credito a la Vivienda","Genworth Seg. de Crédito","67 Credito a la Vivienda",84326.688069999989]
["GMX Seguros|10 Total General","GMX Seguros","10 Total General",9804093.92949]
["GMX Seguros|11 Total General Sin Pensiones","GMX Seguros","11 Total General Sin Pensiones",9804093.92949]
["GMX Seguros|38 Daños Total","GMX Seguros","38 Daños Total",9804093.92949]
["GMX Seguros|46 Daños Sin Autos Total","GMX Seguros","46 Daños Sin Autos Total",9804093.92949]
["GMX Seguros|46 Responsabilidad Civil y Riesgos Profesionales","GMX Seguros","46 Responsabilidad Civil y Riesgos Profesionales",3357871.77514]
["GMX Seguros|47 RC General","GMX Seguros","47 RC General",1674527.8044700001]
["GMX Seguros|48 RC Aviones y Barcos","GMX Seguros","48 RC Aviones y Barcos",866920.06874000002]
["GMX Seguros|49 RC Viajero","GMX Seguros","49 RC Viajero",4297.7736100000002]
["GMX Seguros|50 RC Otros","GMX Seguros","50 RC Otros",812126.12832000002]
["GMX Seguros|51 Maritimo y Transportes","GMX Seguros","51 Maritimo y Transportes",2467405.2215399998]
["GMX Seguros|52 MyT Carga","GMX Seguros","52 MyT Carga",424592.67067000002]
["GMX Seguros|53 MyT Cascos","GMX Seguros","53 MyT Cascos",2042812.5508699999]
["GMX Seguros|54 Incendio","GMX Seguros","54 Incendio",1046401.64136]
["GMX Seguros|55 Riesgos Catastroficos","GMX Seguros","55 Riesgos Catastroficos",1267078.32914]
["GMX Seguros|56 Terremoto y Erupcion Volcanica","GMX Seguros","56 Terremoto y Erupcion Volcanica",402264.67134]
["GMX Seguros|57 Huracan y Otros Riesgos Hidrometeorologicos","GMX Seguros","57 Huracan y Otros Riesgos Hidrometeorologicos",864813.65779999993]
["GMX Seguros|63 Diversos","GMX Seguros","63 Diversos",1665336.9623099999]
["GMX Seguros|64 Miscelaneos","GMX Seguros","64 Miscelaneos",492693.49479000003]
["GMX Seguros|65 Tecnicos","GMX Seguros","65 Tecnicos",1172643.4675199999]
["HDI Global Seguros|10 Total General","HDI Global Seguros","10 Total General",1569411.9180699999]
["HDI Global Seguros|11 Total General Sin Pensiones","HDI Global Seguros","11 Total General Sin Pensiones",1569411.9180699999]
["HDI Global Seguros|38 Daños Total","HDI Global Seguros","38 Daños Total",1569411.9180699999]
["HDI Global Seguros|46 Daños Sin Autos Total","HDI Global Seguros","46 Daños Sin Autos Total",1569411.9180699999]
["HDI Global Seguros|46 Responsabilidad Civil y Riesgos Profesionales","HDI Global Seguros","46 Responsabilidad Civil y Riesgos Profesionales",257746.00597]
["HDI Global Seguros|47 RC General","HDI Global Seguros","47 RC General",245767.66581000001]
["HDI Global Seguros|50 RC Otros","HDI Global Seguros","50 RC Otros",11978.34016]
["HDI Global Seguros|51 Maritimo y Transportes","HDI Global Seguros","51 Maritimo y Transportes",666914.71476999996]
["HDI Global Seguros|52 MyT Carga","HDI Global Seguros","52 MyT Carga",666914.71476999996]
["HDI Global Seguros|54 Incendio","HDI Global Seguros","54 Incendio",158297.47586999999]
["HDI Global Seguros|55 Riesgos Catastroficos","HDI Global Seguros","55 Riesgos Catastroficos",314199.86749999999]
["HDI Global Seguros|56 Terremoto y Erupcion Volcanica","HDI Global Seguros","56 Terremoto y Erupcion Volcanica",156986.30330999999]
["HDI Global Seguros|57 Huracan y Otros Riesgos Hidrometeorologicos","HDI Global Seguros","57 Huracan y Otros Riesgos Hidrometeorologicos",157213.56419]
["HDI Global Seguros|63 Diversos","HDI Global Seguros","63 Diversos",172253.85396000001]
["HDI Global Seguros|65 Tecnicos","HDI Global Seguros","65 Tecnicos",172253.85396000001]
["HDI Seguros|10 Total General","HDI Seguros","10 Total General",8672700.5259799995]
["HDI Seguros|11 Total General Sin Pensiones","HDI Seguros","11 Total General Sin Pensiones",8672700.5259799995]
["HDI Seguros|12 Vida Total","HDI Seguros","12 Vida Total",1016.02262]
["HDI Seguros|14 Vida Gpo y Col","HDI Seguros","14 Vida Gpo y Col",1016.02262]
["HDI Seguros|28 Accidentes y Enfermedades Total","HDI Seguros","28 Accidentes y Enfermedades Total",53235.213029999999]
["HDI Seguros|29 Accidentes Personales","HDI Seguros","29 Accidentes Personales",27703.142199999998]
["HDI Seguros|31 AP Gpo y Col","HDI Seguros","31 AP Gpo y Col",27703.142199999998]
["HDI Seguros|32 Gastos Medicos","HDI Seguros","32 Gastos Medicos",25532.070829999997]
["HDI Seguros|33 GMM. Individual","HDI Seguros","33 GMM. Individual",25532.070829999997]
["HDI Seguros|34 GMM. Gpo y Col","HDI Seguros","34 GMM. Gpo y Col",0]
[{"$f":"B648&\"|\"&C648","v":"HDI Seguros|38 Daños Total"},"HDI Seguros","38 Daños Total",8618449.2903300002]
["HDI Seguros|39 Automoviles Total","HDI Seguros","39 Automoviles Total",7084407.1026099995]
["HDI Seguros|41 Automoviles Residentes","HDI Seguros","41 Automoviles Residentes",4395959.23728]
["HDI Seguros|42 Camiones","HDI Seguros","42 Camiones",2371853.4013299998]
["HDI Seguros|43 Automoviles Turistas","HDI Seguros","43 Automoviles Turistas",174899.2597]
["HDI Seguros|44 Otros Automoviles y Obligatorios","HDI Seguros","44 Otros Automoviles y Obligatorios",141695.20430000001]
["HDI Seguros|46 Daños Sin Autos Total","HDI Seguros","46 Daños Sin Autos Total",1534042.1877199998]
["HDI Seguros|46 Responsabilidad Civil y Riesgos Profesionales","HDI Seguros","46 Responsabilidad Civil y Riesgos Profesionales",244064.31505999999]
["HDI Seguros|47 RC General","HDI Seguros","47 RC General",237220.65380999999]
["HDI Seguros|49 RC Viajero","HDI Seguros","49 RC Viajero",6843.6612500000001]
["HDI Seguros|51 Maritimo y Transportes","HDI Seguros","51 Maritimo y Transportes",375091.38545999996]
["HDI Seguros|52 MyT Carga","HDI Seguros","52 MyT Carga",348069.39417000004]
["HDI Seguros|53 MyT Cascos","HDI Seguros","53 MyT Cascos",27021.991289999998]
["HDI Seguros|54 Incendio","HDI Seguros","54 Incendio",225770.35996999999]
["HDI Seguros|55 Riesgos Catastroficos","HDI Seguros","55 Riesgos Catastroficos",283033.89132999995]
["HDI Seguros|56 Terremoto y Erupcion Volcanica","HDI Seguros","56 Terremoto y Erupcion Volcanica",87285.450219999999]
["HDI Seguros|57 Huracan y Otros Riesgos Hidrometeorologicos","HDI Seguros","57 Huracan y Otros Riesgos Hidrometeorologicos",195748.44111000001]
["HDI Seguros|63 Diversos","HDI Seguros","63 Diversos",406082.23589999997]
["HDI Seguros|64 Miscelaneos","HDI Seguros","64 Miscelaneos",135093.14177000002]
["HDI Seguros|65 Tecnicos","HDI Seguros","65 Tecnicos",270989.09412999998]
["Hir Seguros|10 Total General","Hir Seguros","10 Total General",3256773.9065]
["Hir Seguros|11 Total General Sin Pensiones","Hir Seguros","11 Total General Sin Pensiones",3256773.9065]
["Hir Seguros|12 Vida Total","Hir Seguros","12 Vida Total",3195969.6090100002]
["Hir Seguros|13 Vida Individual","Hir Seguros","13 Vida Individual",6390.8545599999998]
["Hir Seguros|14 Vida Gpo y Col","Hir Seguros","14 Vida Gpo y Col",3189578.7544499999]
["Hir Seguros|28 Accidentes y Enfermedades Total","Hir Seguros","28 Accidentes y Enfermedades Total",60804.297490000004]
["Hir Seguros|29 Accidentes Personales","Hir Seguros","29 Accidentes Personales",60804.297490000004]
["Hir Seguros|30 AP Individual","Hir Seguros","30 AP Individual",57.916980000000002]
["Hir Seguros|31 AP Gpo y Col","Hir Seguros","31 AP Gpo y Col",60746.380509999995]
["HSBC Seguros|10 Total General","HSBC Seguros","10 Total General",6120455.9873400005]
["HSBC Seguros|11 Total General Sin Pensiones","HSBC Seguros","11 Total General Sin Pensiones",6120455.9873400005]
["HSBC Seguros|12 Vida Total","HSBC Seguros","12 Vida Total",5777868.4725500001]
["HSBC Seguros|13 Vida Individual","HSBC Seguros","13 Vida Individual",5609680.8249399997]
["HSBC Seguros|14 Vida Gpo y Col","HSBC Seguros","14 Vida Gpo y Col",168187.64761000001]
["HSBC Seguros|28 Accidentes y Enfermedades Total","HSBC Seguros","28 Accidentes y Enfermedades Total",342587.51479000004]
["HSBC Seguros|29 Accidentes Personales","HSBC Seguros","29 Accidentes Personales",231012.46903000001]
["HSBC Seguros|30 AP Individual","HSBC Seguros","30 AP Individual",156660.44327000002]
["HSBC Seguros|31 AP Gpo y Col","HSBC Seguros","31 AP Gpo y Col",74352.025760000004]
["HSBC Seguros|32 Gastos Medicos","HSBC Seguros","32 Gastos Medicos",111575.04576000001]
["HSBC Seguros|33 GMM. Individual","HSBC Seguros","33 GMM. Individual",111575.04576000001]
["Inbursa|10 Total General","Inbursa","10 Total General",20930115.52899]
["Inbursa|11 Total General Sin Pensiones","Inbursa","11 Total General Sin Pensiones",20930115.52899]
["Inbursa|12 Vida Total","Inbursa","12 Vida Total",3925225.8454899997]
["Inbursa|13 Vida Individual","Inbursa","13 Vida Individual",2135068.7902600002]
["Inbursa|14 Vida Gpo y Col","Inbursa","14 Vida Gpo y Col",1790157.0552300003]
["Inbursa|28 Accidentes y Enfermedades Total","Inbursa","28 Accidentes y Enfermedades Total",4238751.0255000005]
["Inbursa|29 Accidentes Personales","Inbursa","29 Accidentes Personales",44348.555189999999]
["Inbursa|30 AP Individual","Inbursa","30 AP Individual",2672.6611000000003]
["Inbursa|31 AP Gpo y Col","Inbursa","31 AP Gpo y Col",41675.894090000002]
["Inbursa|32 Gastos Medicos","Inbursa","32 Gastos Medicos",4194402.4703099998]
["Inbursa|33 GMM. Individual","Inbursa","33 GMM. Individual",2084509.0772899999]
["Inbursa|34 GMM. Gpo y Col","Inbursa","34 GMM. Gpo y Col",2109893.3930199998]
["Inbursa|38 Daños Total","Inbursa","38 Daños Total",12766138.658]
["Inbursa|39 Automoviles Total","Inbursa","39 Automoviles Total",3826948.4877499999]
["Inbursa|41 Automoviles Residentes","Inbursa","41 Automoviles Residentes",2340916.1556599997]
["Inbursa|42 Camiones","Inbursa","42 Camiones",1477532.727]
["Inbursa|43 Automoviles Turistas","Inbursa","43 Automoviles Turistas",1689.8363100000001]
["Inbursa|44 Otros Automoviles y Obligatorios","Inbursa","44 Otros Automoviles y Obligatorios",6809.7687800000003]
["Inbursa|46 Daños Sin Autos Total","Inbursa","46 Daños Sin Autos Total",8939190.1702500004]
["Inbursa|46 Responsabilidad Civil y Riesgos Profesionales","Inbursa","46 Responsabilidad Civil y Riesgos Profesionales",1644922.1045299999]
["Inbursa|47 RC General","Inbursa","47 RC General",1402661.51841]
["Inbursa|48 RC Aviones y Barcos","Inbursa","48 RC Aviones y Barcos",230037.38268000001]
["Inbursa|49 RC Viajero","Inbursa","49 RC Viajero",12223.203439999999]
["Inbursa|51 Maritimo y Transportes","Inbursa","51 Maritimo y Transportes",672491.11291999999]
[{"$f":"B712&\"|\"&C712","v":"Inbursa|52 MyT Carga"},"Inbursa","52 MyT Carga",337531.68780000001]
["Inbursa|53 MyT Cascos","Inbursa","53 MyT Cascos",334959.42512000003]
["Inbursa|54 Incendio","Inbursa","54 Incendio",1601372.06651]
["Inbursa|55 Riesgos Catastroficos","Inbursa","55 Riesgos Catastroficos",2982447.68493]
["Inbursa|56 Terremoto y Erupcion Volcanica","Inbursa","56 Terremoto y Erupcion Volcanica",1307490.0900999999]
["Inbursa|57 Huracan y Otros Riesgos Hidrometeorologicos","Inbursa","57 Huracan y Otros Riesgos Hidrometeorologicos",1674957.5948299998]
["Inbursa|63 Diversos","Inbursa","63 Diversos",2037957.2013599998]
["Inbursa|64 Miscelaneos","Inbursa","64 Miscelaneos",556961.15823000006]
["Inbursa|65 Tecnicos","Inbursa","65 Tecnicos",1480996.0431300001]
["Insignia Life|10 Total General","Insignia Life","10 Total General",1239121.6834200001]
["Insignia Life|11 Total General Sin Pensiones","Insignia Life","11 Total General Sin Pensiones",1239121.6834200001]
["Insignia Life|12 Vida Total","Insignia Life","12 Vida Total",1239121.6834200001]
["Insignia Life|13 Vida Individual","Insignia Life","13 Vida Individual",955400.65152999992]
["Insignia Life|14 Vida Gpo y Col","Insignia Life","14 Vida Gpo y Col",283721.03189000004]
["La Latinoamericana|10 Total General","La Latinoamericana","10 Total General",957883.89023000002]
["La Latinoamericana|11 Total General Sin Pensiones","La Latinoamericana","11 Total General Sin Pensiones",957883.89023000002]
["La Latinoamericana|12 Vida Total","La Latinoamericana","12 Vida Total",189005.17726]
["La Latinoamericana|13 Vida Individual","La Latinoamericana","13 Vida Individual",12224.7269]
["La Latinoamericana|14 Vida Gpo y Col","La Latinoamericana","14 Vida Gpo y Col",176780.45036000002]
["La Latinoamericana|28 Accidentes y Enfermedades Total","La Latinoamericana","28 Accidentes y Enfermedades Total",388875.63393999997]
["La Latinoamericana|29 Accidentes Personales","La Latinoamericana","29 Accidentes Personales",46980.12055]
["La Latinoamericana|30 AP Individual","La Latinoamericana","30 AP Individual",171.73048]
["La Latinoamericana|31 AP Gpo y Col","La Latinoamericana","31 AP Gpo y Col",46808.390070000001]
["La Latinoamericana|32 Gastos Medicos","La Latinoamericana","32 Gastos Medicos",341895.51338999998]
["La Latinoamericana|33 GMM. Individual","La Latinoamericana","33 GMM. Individual",182121.07587999999]
["La Latinoamericana|34 GMM. Gpo y Col","La Latinoamericana","34 GMM. Gpo y Col",159774.43750999999]
["La Latinoamericana|38 Daños Total","La Latinoamericana","38 Daños Total",380003.07902999996]
["La Latinoamericana|39 Automoviles Total","La Latinoamericana","39 Automoviles Total",241884.12894999998]
["La Latinoamericana|41 Automoviles Residentes","La Latinoamericana","41 Automoviles Residentes",174246.03688999999]
["La Latinoamericana|42 Camiones","La Latinoamericana","42 Camiones",53581.38867]
["La Latinoamericana|44 Otros Automoviles y Obligatorios","La Latinoamericana","44 Otros Automoviles y Obligatorios",14056.703390000001]
["La Latinoamericana|46 Daños Sin Autos Total","La Latinoamericana","46 Daños Sin Autos Total",138118.95007999998]
["La Latinoamericana|46 Responsabilidad Civil y Riesgos Profesionales","La Latinoamericana","46 Responsabilidad Civil y Riesgos Profesionales",126534.85805]
["La Latinoamericana|47 RC General","La Latinoamericana","47 RC General",125986.18093999999]
["La Latinoamericana|49 RC Viajero","La Latinoamericana","49 RC Viajero",548.67710999999997]
["La Latinoamericana|54 Incendio","La Latinoamericana","54 Incendio",674.53522999999996]
["La Latinoamericana|63 Diversos","La Latinoamericana","63 Diversos",10909.5568]
["La Latinoamericana|64 Miscelaneos","La Latinoamericana","64 Miscelaneos",9246.9178400000001]
["La Latinoamericana|65 Tecnicos","La Latinoamericana","65 Tecnicos",1662.63896]
["Mapfre México|10 Total General","Mapfre México","10 Total General",22376637.893310003]
["Mapfre México|11 Total General Sin Pensiones","Mapfre México","11 Total General Sin Pensiones",22376637.893310003]
["Mapfre México|12 Vida Total","Mapfre México","12 Vida Total",4515190.9059899999]
["Mapfre México|13 Vida Individual","Mapfre México","13 Vida Individual",895604.14945999999]
["Mapfre México|14 Vida Gpo y Col","Mapfre México","14 Vida Gpo y Col",3619586.7565299999]
["Mapfre México|28 Accidentes y Enfermedades Total","Mapfre México","28 Accidentes y Enfermedades Total",3704035.5877299998]
["Mapfre México|29 Accidentes Personales","Mapfre México","29 Accidentes Personales",144910.94532]
["Mapfre México|30 AP Individual","Mapfre México","30 AP Individual",72945.003620000003]
["Mapfre México|31 AP Gpo y Col","Mapfre México","31 AP Gpo y Col",71965.94170000001]
["Mapfre México|32 Gastos Medicos","Mapfre México","32 Gastos Medicos",3559124.6424099999]
["Mapfre México|33 GMM. Individual","Mapfre México","33 GMM. Individual",2524272.7960700002]
["Mapfre México|34 GMM. Gpo y Col","Mapfre México","34 GMM. Gpo y Col",1034851.84634]
["Mapfre México|38 Daños Total","Mapfre México","38 Daños Total",14157411.399590001]
["Mapfre México|39 Automoviles Total","Mapfre México","39 Automoviles Total",2207910.0666700001]
["Mapfre México|41 Automoviles Residentes","Mapfre México","41 Automoviles Residentes",1773374.4931900001]
["Mapfre México|42 Camiones","Mapfre México","42 Camiones",375832.41634]
["Mapfre México|43 Automoviles Turistas","Mapfre México","43 Automoviles Turistas",58703.157140000003]
["Mapfre México|46 Daños Sin Autos Total","Mapfre México","46 Daños Sin Autos Total",11949501.33292]
["Mapfre México|46 Responsabilidad Civil y Riesgos Profesionales","Mapfre México","46 Responsabilidad Civil y Riesgos Profesionales",1116436.0205399999]
["Mapfre México|47 RC General","Mapfre México","47 RC General",869519.96935000003]
["Mapfre México|48 RC Aviones y Barcos","Mapfre México","48 RC Aviones y Barcos",240721.44753999999]
["Mapfre México|50 RC Otros","Mapfre México","50 RC Otros",6194.60365]
["Mapfre México|51 Maritimo y Transportes","Mapfre México","51 Maritimo y Transportes",2996401.1441100002]
["Mapfre México|52 MyT Carga","Mapfre México","52 MyT Carga",801794.11240999994]
["Mapfre México|53 MyT Cascos","Mapfre México","53 MyT Cascos",2194607.0316999997]
[{"$f":"B776&\"|\"&C776","v":"Mapfre México|54 Incendio"},"Mapfre México","54 Incendio",3904445.2729499997]
["Mapfre México|55 Riesgos Catastroficos","Mapfre México","55 Riesgos Catastroficos",2323461.6335300002]
["Mapfre México|56 Terremoto y Erupcion Volcanica","Mapfre México","56 Terremoto y Erupcion Volcanica",1025095.1142899999]
["Mapfre México|57 Huracan y Otros Riesgos Hidrometeorologicos","Mapfre México","57 Huracan y Otros Riesgos Hidrometeorologicos",1298366.5192400001]
["Mapfre México|59 Agricola y de Animales","Mapfre México","59 Agricola y de Animales",43552.626670000005]
["Mapfre México|60 AyA Agricola","Mapfre México","60 AyA Agricola",43022.322650000002]
["Mapfre México|62 AyA Pecuario","Mapfre México","62 AyA Pecuario",530.30402000000004]
["Mapfre México|63 Diversos","Mapfre México","63 Diversos",1565204.63512]
["Mapfre México|64 Miscelaneos","Mapfre México","64 Miscelaneos",382801.31257000001]
["Mapfre México|65 Tecnicos","Mapfre México","65 Tecnicos",1182403.3225499999]
["MediAccess|10 Total General","MediAccess","10 Total General",209673.78633]
["MediAccess|11 Total General Sin Pensiones","MediAccess","11 Total General Sin Pensiones",209673.78633]
["MediAccess|28 Accidentes y Enfermedades Total","MediAccess","28 Accidentes y Enfermedades Total",209673.78633]
["MediAccess|32 Gastos Medicos","MediAccess","32 Gastos Medicos",9.9317199999999985]
["MediAccess|33 GMM. Individual","MediAccess","33 GMM. Individual",9.9317199999999985]
["MediAccess|35 Salud","MediAccess","35 Salud",209663.85461000001]
["MediAccess|36 Salud Individual","MediAccess","36 Salud Individual",86127.622069999998]
["MediAccess|37 Salud Gpo y Col","MediAccess","37 Salud Gpo y Col",123536.23254000001]
["Metlife Más|10 Total General","Metlife Más","10 Total General",34905.856340000006]
["Metlife Más|11 Total General Sin Pensiones","Metlife Más","11 Total General Sin Pensiones",34905.856340000006]
["Metlife Más|28 Accidentes y Enfermedades Total","Metlife Más","28 Accidentes y Enfermedades Total",34905.856340000006]
["Metlife Más|29 Accidentes Personales","Metlife Más","29 Accidentes Personales",34905.856340000006]
["Metlife Más|30 AP Individual","Metlife Más","30 AP Individual",3101.2967000000003]
["Metlife Más|31 AP Gpo y Col","Metlife Más","31 AP Gpo y Col",31804.559639999999]
["Metlife México|10 Total General","Metlife México","10 Total General",58609536.351640001]
["Metlife México|11 Total General Sin Pensiones","Metlife México","11 Total General Sin Pensiones",58609536.351640001]
["Metlife México|12 Vida Total","Metlife México","12 Vida Total",39227155.829580002]
["Metlife México|13 Vida Individual","Metlife México","13 Vida Individual",24129020.187229998]
["Metlife México|14 Vida Gpo y Col","Metlife México","14 Vida Gpo y Col",15098135.642350001]
["Metlife México|28 Accidentes y Enfermedades Total","Metlife México","28 Accidentes y Enfermedades Total",19382380.522060003]
["Metlife México|29 Accidentes Personales","Metlife México","29 Accidentes Personales",3475.4162700000002]
["Metlife México|30 AP Individual","Metlife México","30 AP Individual",0]
["Metlife México|31 AP Gpo y Col","Metlife México","31 AP Gpo y Col",3475.4162700000002]
["Metlife México|32 Gastos Medicos","Metlife México","32 Gastos Medicos",19378905.10579]
["Metlife México|33 GMM. Individual","Metlife México","33 GMM. Individual",3464476.1191999996]
["Metlife México|34 GMM. Gpo y Col","Metlife México","34 GMM. Gpo y Col",15914428.98659]
["Metlife Pensiones|10 Total General","Metlife Pensiones","10 Total General",37040.975299999998]
["Metlife Pensiones|15 Pensiones Total","Metlife Pensiones","15 Pensiones Total",37040.975299999998]
["Metlife Pensiones|16 Pensiones IMSS","Metlife Pensiones","16 Pensiones IMSS",37040.975299999998]
["Metlife Pensiones|17 IMSS Incapacidad Permanente RT","Metlife Pensiones","17 IMSS Incapacidad Permanente RT",1693.62922]
["Metlife Pensiones|18 IMSS Invalidez (invalidez y vida)","Metlife Pensiones","18 IMSS Invalidez (invalidez y vida)",486.45003000000003]
["Metlife Pensiones|20 IMSS Muerte (invalidez y vida)","Metlife Pensiones","20 IMSS Muerte (invalidez y vida)",29228.661410000001]
["Metlife Pensiones|21 IMSS Muerte (riesgos de trabajo)","Metlife Pensiones","21 IMSS Muerte (riesgos de trabajo)",5632.2346399999997]
["Monterrey New York Life|10 Total General","Monterrey New York Life","10 Total General",28072029.511569999]
["Monterrey New York Life|11 Total General Sin Pensiones","Monterrey New York Life","11 Total General Sin Pensiones",28072029.511569999]
["Monterrey New York Life|12 Vida Total","Monterrey New York Life","12 Vida Total",18624780.15876]
["Monterrey New York Life|13 Vida Individual","Monterrey New York Life","13 Vida Individual",17875125.376479998]
["Monterrey New York Life|14 Vida Gpo y Col","Monterrey New York Life","14 Vida Gpo y Col",749654.78227999993]
["Monterrey New York Life|28 Accidentes y Enfermedades Total","Monterrey New York Life","28 Accidentes y Enfermedades Total",9447249.3528099991]
["Monterrey New York Life|29 Accidentes Personales","Monterrey New York Life","29 Accidentes Personales",42254.137200000005]
["Monterrey New York Life|30 AP Individual","Monterrey New York Life","30 AP Individual",9073.7709500000001]
["Monterrey New York Life|31 AP Gpo y Col","Monterrey New York Life","31 AP Gpo y Col",33180.366249999999]
["Monterrey New York Life|32 Gastos Medicos","Monterrey New York Life","32 Gastos Medicos",9404995.2156100012]
["Monterrey New York Life|33 GMM. Individual","Monterrey New York Life","33 GMM. Individual",6625590.6593300002]
["Monterrey New York Life|34 GMM. Gpo y Col","Monterrey New York Life","34 GMM. Gpo y Col",2779404.5562800001]
["Odontoprev|10 Total General","Odontoprev","10 Total General",106585.73477]
["Odontoprev|11 Total General Sin Pensiones","Odontoprev","11 Total General Sin Pensiones",106585.73477]
["Odontoprev|28 Accidentes y Enfermedades Total","Odontoprev","28 Accidentes y Enfermedades Total",106585.73477]
["Odontoprev|29 Accidentes Personales","Odontoprev","29 Accidentes Personales",54.879489999999997]
["Odontoprev|30 AP Individual","Odontoprev","30 AP Individual",24.793800000000001]
["Odontoprev|31 AP Gpo y Col","Odontoprev","31 AP Gpo y Col",30.08569]
["Odontoprev|32 Gastos Medicos","Odontoprev","32 Gastos Medicos",17418.964339999999]
["Odontoprev|33 GMM. Individual","Odontoprev","33 GMM. Individual",871.18191999999999]
["Odontoprev|34 GMM. Gpo y Col","Odontoprev","34 GMM. Gpo y Col",16547.78242]
[{"$f":"B840&\"|\"&C840","v":"Odontoprev|35 Salud"},"Odontoprev","35 Salud",89111.890939999997]
["Odontoprev|36 Salud Individual","Odontoprev","36 Salud Individual",15969.5587]
["Odontoprev|37 Salud Gpo y Col","Odontoprev","37 Salud Gpo y Col",73142.332239999989]
["Pan-American México|10 Total General","Pan-American México","10 Total General",799499.22270000004]
["Pan-American México|11 Total General Sin Pensiones","Pan-American México","11 Total General Sin Pensiones",799499.22270000004]
["Pan-American México|12 Vida Total","Pan-American México","12 Vida Total",358347.99618000002]
["Pan-American México|13 Vida Individual","Pan-American México","13 Vida Individual",35070.307999999997]
["Pan-American México|14 Vida Gpo y Col","Pan-American México","14 Vida Gpo y Col",323277.68818]
["Pan-American México|28 Accidentes y Enfermedades Total","Pan-American México","28 Accidentes y Enfermedades Total",441151.22651999997]
["Pan-American México|29 Accidentes Personales","Pan-American México","29 Accidentes Personales",54827.548560000003]
["Pan-American México|30 AP Individual","Pan-American México","30 AP Individual",236.40473]
["Pan-American México|31 AP Gpo y Col","Pan-American México","31 AP Gpo y Col",54591.143830000001]
["Pan-American México|32 Gastos Medicos","Pan-American México","32 Gastos Medicos",386323.67796]
["Pan-American México|33 GMM. Individual","Pan-American México","33 GMM. Individual",386323.67796]
["Patria|10 Total General","Patria","10 Total General",0]
["Patria|11 Total General Sin Pensiones","Patria","11 Total General Sin Pensiones",0]
["Patria|12 Vida Total","Patria","12 Vida Total",0]
["Patria|13 Vida Individual","Patria","13 Vida Individual",0]
["Patria|14 Vida Gpo y Col","Patria","14 Vida Gpo y Col",0]
["Patria|28 Accidentes y Enfermedades Total","Patria","28 Accidentes y Enfermedades Total",0]
["Patria|29 Accidentes Personales","Patria","29 Accidentes Personales",0]
["Patria|30 AP Individual","Patria","30 AP Individual",0]
["Patria|31 AP Gpo y Col","Patria","31 AP Gpo y Col",0]
["Patria|32 Gastos Medicos","Patria","32 Gastos Medicos",0]
["Patria|33 GMM. Individual","Patria","33 GMM. Individual",0]
["Patria|34 GMM. Gpo y Col","Patria","34 GMM. Gpo y Col",0]
["Patria|35 Salud","Patria","35 Salud",0]
["Patria|36 Salud Individual","Patria","36 Salud Individual",0]
["Patria|37 Salud Gpo y Col","Patria","37 Salud Gpo y Col",0]
["Patria|38 Daños Total","Patria","38 Daños Total",0]
["Patria|39 Automoviles Total","Patria","39 Automoviles Total",0]
["Patria|41 Automoviles Residentes","Patria","41 Automoviles Residentes",0]
["Patria|42 Camiones","Patria","42 Camiones",0]
["Patria|43 Automoviles Turistas","Patria","43 Automoviles Turistas",0]
["Patria|44 Otros Automoviles y Obligatorios","Patria","44 Otros Automoviles y Obligatorios",0]
["Patria|46 Daños Sin Autos Total","Patria","46 Daños Sin Autos Total",0]
["Patria|46 Responsabilidad Civil y Riesgos Profesionales","Patria","46 Responsabilidad Civil y Riesgos Profesionales",0]
["Patria|47 RC General","Patria","47 RC General",0]
["Patria|48 RC Aviones y Barcos","Patria","48 RC Aviones y Barcos",0]
["Patria|49 RC Viajero","Patria","49 RC Viajero",0]
["Patria|50 RC Otros","Patria","50 RC Otros",0]
["Patria|51 Maritimo y Transportes","Patria","51 Maritimo y Transportes",0]
["Patria|52 MyT Carga","Patria","52 MyT Carga",0]
["Patria|53 MyT Cascos","Patria","53 MyT Cascos",0]
["Patria|54 Incendio","Patria","54 Incendio",0]
["Patria|55 Riesgos Catastroficos","Patria","55 Riesgos Catastroficos",0]
["Patria|56 Terremoto y Erupcion Volcanica","Patria","56 Terremoto y Erupcion Volcanica",0]
["Patria|57 Huracan y Otros Riesgos Hidrometeorologicos","Patria","57 Huracan y Otros Riesgos Hidrometeorologicos",0]
["Patria|59 Agricola y de Animales","Patria","59 Agricola y de Animales",0]
["Patria|60 AyA Agricola","Patria","60 AyA Agricola",0]
["Patria|61 AyA Otros","Patria","61 AyA Otros",0]
["Patria|62 AyA Pecuario","Patria","62 AyA Pecuario",0]
["Patria|63 Diversos","Patria","63 Diversos",0]
["Patria|64 Miscelaneos","Patria","64 Miscelaneos",0]
["Patria|65 Tecnicos","Patria","65 Tecnicos",0]
["Patria|66 Credito","Patria","66 Credito",0]
["Patrimonial Daños|10 Total General","Patrimonial Daños","10 Total General",231199.61988999997]
["Patrimonial Daños|11 Total General Sin Pensiones","Patrimonial Daños","11 Total General Sin Pensiones",231199.61988999997]
["Patrimonial Daños|38 Daños Total","Patrimonial Daños","38 Daños Total",231199.61988999997]
["Patrimonial Daños|39 Automoviles Total","Patrimonial Daños","39 Automoviles Total",231199.61988999997]
["Patrimonial Daños|41 Automoviles Residentes","Patrimonial Daños","41 Automoviles Residentes",0]
["Patrimonial Daños|42 Camiones","Patrimonial Daños","42 Camiones",4061.56648]
["Patrimonial Daños|44 Otros Automoviles y Obligatorios","Patrimonial Daños","44 Otros Automoviles y Obligatorios",227138.05340999999]
["Patrimonial Inbursa|10 Total General","Patrimonial Inbursa","10 Total General",476051.14227999997]
[{"$f":"B904&\"|\"&C904","v":"Patrimonial Inbursa|11 Total General Sin Pensiones"},"Patrimonial Inbursa","11 Total General Sin Pensiones",476051.14227999997]
["Patrimonial Inbursa|12 Vida Total","Patrimonial Inbursa","12 Vida Total",288195.22891000001]
["Patrimonial Inbursa|13 Vida Individual","Patrimonial Inbursa","13 Vida Individual",229955.86025999999]
["Patrimonial Inbursa|14 Vida Gpo y Col","Patrimonial Inbursa","14 Vida Gpo y Col",58239.368649999997]
["Patrimonial Inbursa|28 Accidentes y Enfermedades Total","Patrimonial Inbursa","28 Accidentes y Enfermedades Total",40900.654340000001]
["Patrimonial Inbursa|29 Accidentes Personales","Patrimonial Inbursa","29 Accidentes Personales",19246.45364]
["Patrimonial Inbursa|30 AP Individual","Patrimonial Inbursa","30 AP Individual",19246.45364]
["Patrimonial Inbursa|32 Gastos Medicos","Patrimonial Inbursa","32 Gastos Medicos",21654.200699999998]
["Patrimonial Inbursa|33 GMM. Individual","Patrimonial Inbursa","33 GMM. Individual",21654.200699999998]
["Patrimonial Inbursa|38 Daños Total","Patrimonial Inbursa","38 Daños Total",146955.25903000002]
["Patrimonial Inbursa|39 Automoviles Total","Patrimonial Inbursa","39 Automoviles Total",51902.946120000001]
["Patrimonial Inbursa|41 Automoviles Residentes","Patrimonial Inbursa","41 Automoviles Residentes",51902.946120000001]
["Patrimonial Inbursa|46 Daños Sin Autos Total","Patrimonial Inbursa","46 Daños Sin Autos Total",95052.312909999993]
["Patrimonial Inbursa|46 Responsabilidad Civil y Riesgos Profesionales","Patrimonial Inbursa","46 Responsabilidad Civil y Riesgos Profesionales",25060.370920000001]
["Patrimonial Inbursa|47 RC General","Patrimonial Inbursa","47 RC General",25060.370920000001]
["Patrimonial Inbursa|54 Incendio","Patrimonial Inbursa","54 Incendio",42028.910619999995]
["Patrimonial Inbursa|55 Riesgos Catastroficos","Patrimonial Inbursa","55 Riesgos Catastroficos",6175.5593600000002]
["Patrimonial Inbursa|57 Huracan y Otros Riesgos Hidrometeorologicos","Patrimonial Inbursa","57 Huracan y Otros Riesgos Hidrometeorologicos",6175.5593600000002]
["Patrimonial Inbursa|63 Diversos","Patrimonial Inbursa","63 Diversos",21787.472010000001]
["Patrimonial Inbursa|64 Miscelaneos","Patrimonial Inbursa","64 Miscelaneos",21787.472010000001]
["Patrimonial Inbursa|65 Tecnicos","Patrimonial Inbursa","65 Tecnicos",0]
["Patrimonial Vida|10 Total General","Patrimonial Vida","10 Total General",531626.28642999998]
["Patrimonial Vida|11 Total General Sin Pensiones","Patrimonial Vida","11 Total General Sin Pensiones",531626.28642999998]
["Patrimonial Vida|12 Vida Total","Patrimonial Vida","12 Vida Total",531626.28642999998]
["Patrimonial Vida|13 Vida Individual","Patrimonial Vida","13 Vida Individual",0]
["Patrimonial Vida|14 Vida Gpo y Col","Patrimonial Vida","14 Vida Gpo y Col",531626.28642999998]
["Pensiones Banorte|10 Total General","Pensiones Banorte","10 Total General",12749688.19545]
["Pensiones Banorte|15 Pensiones Total","Pensiones Banorte","15 Pensiones Total",12749688.19545]
["Pensiones Banorte|16 Pensiones IMSS","Pensiones Banorte","16 Pensiones IMSS",10338838.04775]
["Pensiones Banorte|17 IMSS Incapacidad Permanente RT","Pensiones Banorte","17 IMSS Incapacidad Permanente RT",336037.06141000002]
["Pensiones Banorte|18 IMSS Invalidez (invalidez y vida)","Pensiones Banorte","18 IMSS Invalidez (invalidez y vida)",4046412.1598]
["Pensiones Banorte|19 IMSS Jubilacion (retiro, cesantia y vejez)","Pensiones Banorte","19 IMSS Jubilacion (retiro, cesantia y vejez)",363052.61001]
["Pensiones Banorte|20 IMSS Muerte (invalidez y vida)","Pensiones Banorte","20 IMSS Muerte (invalidez y vida)",5345864.7546000006]
["Pensiones Banorte|21 IMSS Muerte (riesgos de trabajo)","Pensiones Banorte","21 IMSS Muerte (riesgos de trabajo)",247471.46193000002]
["Pensiones Banorte|22 Pensiones ISSSTE","Pensiones Banorte","22 Pensiones ISSSTE",2410850.1477000001]
["Pensiones Banorte|23 ISSSTE Incapacidad Permanente RT","Pensiones Banorte","23 ISSSTE Incapacidad Permanente RT",108211.12282999999]
["Pensiones Banorte|24 ISSSTE Invalidez (invalidez y vida)","Pensiones Banorte","24 ISSSTE Invalidez (invalidez y vida)",63945.158090000004]
["Pensiones Banorte|25 ISSSTE Jubilacion (retiro, cesantia y vejez)","Pensiones Banorte","25 ISSSTE Jubilacion (retiro, cesantia y vejez)",1056026.7262500001]
["Pensiones Banorte|26 ISSSTE Muerte (invalidez y vida)","Pensiones Banorte","26 ISSSTE Muerte (invalidez y vida)",1040766.97386]
["Pensiones Banorte|27 ISSSTE Muerte (riesgos de trabajo)","Pensiones Banorte","27 ISSSTE Muerte (riesgos de trabajo)",141900.16666999998]
["Pensiones BBVA Bancomer|10 Total General","Pensiones BBVA Bancomer","10 Total General",10006895.612370001]
["Pensiones BBVA Bancomer|15 Pensiones Total","Pensiones BBVA Bancomer","15 Pensiones Total",10006895.612370001]
["Pensiones BBVA Bancomer|16 Pensiones IMSS","Pensiones BBVA Bancomer","16 Pensiones IMSS",6675831.6036900003]
["Pensiones BBVA Bancomer|17 IMSS Incapacidad Permanente RT","Pensiones BBVA Bancomer","17 IMSS Incapacidad Permanente RT",1674811.0005599998]
["Pensiones BBVA Bancomer|18 IMSS Invalidez (invalidez y vida)","Pensiones BBVA Bancomer","18 IMSS Invalidez (invalidez y vida)",1293462.99532]
["Pensiones BBVA Bancomer|19 IMSS Jubilacion (retiro, cesantia y vejez)","Pensiones BBVA Bancomer","19 IMSS Jubilacion (retiro, cesantia y vejez)",224880.90351]
["Pensiones BBVA Bancomer|20 IMSS Muerte (invalidez y vida)","Pensiones BBVA Bancomer","20 IMSS Muerte (invalidez y vida)",3281511.9443800002]
["Pensiones BBVA Bancomer|21 IMSS Muerte (riesgos de trabajo)","Pensiones BBVA Bancomer","21 IMSS Muerte (riesgos de trabajo)",201164.75991999998]
["Pensiones BBVA Bancomer|22 Pensiones ISSSTE","Pensiones BBVA Bancomer","22 Pensiones ISSSTE",3331064.00868]
["Pensiones BBVA Bancomer|23 ISSSTE Incapacidad Permanente RT","Pensiones BBVA Bancomer","23 ISSSTE Incapacidad Permanente RT",254194.86755000002]
["Pensiones BBVA Bancomer|24 ISSSTE Invalidez (invalidez y vida)","Pensiones BBVA Bancomer","24 ISSSTE Invalidez (invalidez y vida)",17014.839359999998]
["Pensiones BBVA Bancomer|25 ISSSTE Jubilacion (retiro, cesantia y vejez)","Pensiones BBVA Bancomer","25 ISSSTE Jubilacion (retiro, cesantia y vejez)",2253661.6543999999]
["Pensiones BBVA Bancomer|26 ISSSTE Muerte (invalidez y vida)","Pensiones BBVA Bancomer","26 ISSSTE Muerte (invalidez y vida)",718705.86852000002]
["Pensiones BBVA Bancomer|27 ISSSTE Muerte (riesgos de trabajo)","Pensiones BBVA Bancomer","27 ISSSTE Muerte (riesgos de trabajo)",87486.778849999988]
["Pensiones Inbursa|10 Total General","Pensiones Inbursa","10 Total General",502.70092999999997]
["Pensiones Inbursa|15 Pensiones Total","Pensiones Inbursa","15 Pensiones Total",502.70092999999997]
["Pensiones Inbursa|16 Pensiones IMSS","Pensiones Inbursa","16 Pensiones IMSS",502.70092999999997]
["Pensiones Inbursa|17 IMSS Incapacidad Permanente RT","Pensiones Inbursa","17 IMSS Incapacidad Permanente RT",0]
["Pensiones Inbursa|18 IMSS Invalidez (invalidez y vida)","Pensiones Inbursa","18 IMSS Invalidez (invalidez y vida)",502.70092999999997]
["Pensiones Inbursa|20 IMSS Muerte (invalidez y vida)","Pensiones Inbursa","20 IMSS Muerte (invalidez y vida)",0]
["Pensiones Inbursa|21 IMSS Muerte (riesgos de trabajo)","Pensiones Inbursa","21 IMSS Muerte (riesgos de trabajo)",0]
["Plan Seguro|10 Total General","Plan Seguro","10 Total General",2011777.3748599999]
["Plan Seguro|11 Total General Sin Pensiones","Plan Seguro","11 Total General Sin Pensiones",2011777.3748599999]
["Plan Seguro|28 Accidentes y Enfermedades Total","Plan Seguro","28 Accidentes y Enfermedades Total",2011777.3748599999]
[{"$f":"B968&\"|\"&C968","v":"Plan Seguro|32 Gastos Medicos"},"Plan Seguro","32 Gastos Medicos",563275.66503999999]
["Plan Seguro|33 GMM. Individual","Plan Seguro","33 GMM. Individual",236150.33606999999]
["Plan Seguro|34 GMM. Gpo y Col","Plan Seguro","34 GMM. Gpo y Col",327125.32897000003]
["Plan Seguro|35 Salud","Plan Seguro","35 Salud",1448501.70982]
["Plan Seguro|36 Salud Individual","Plan Seguro","36 Salud Individual",1392241.18927]
["Plan Seguro|37 Salud Gpo y Col","Plan Seguro","37 Salud Gpo y Col",56260.520549999994]
["PREVEM Seguros|10 Total General","PREVEM Seguros","10 Total General",445468.87245999998]
["PREVEM Seguros|11 Total General Sin Pensiones","PREVEM Seguros","11 Total General Sin Pensiones",445468.87245999998]
["PREVEM Seguros|28 Accidentes y Enfermedades Total","PREVEM Seguros","28 Accidentes y Enfermedades Total",445468.87245999998]
["PREVEM Seguros|29 Accidentes Personales","PREVEM Seguros","29 Accidentes Personales",9696.4307599999993]
["PREVEM Seguros|30 AP Individual","PREVEM Seguros","30 AP Individual",1167.5652700000001]
["PREVEM Seguros|31 AP Gpo y Col","PREVEM Seguros","31 AP Gpo y Col",8528.8654900000001]
["PREVEM Seguros|32 Gastos Medicos","PREVEM Seguros","32 Gastos Medicos",435772.44169999997]
["PREVEM Seguros|33 GMM. Individual","PREVEM Seguros","33 GMM. Individual",219995.36840000001]
["PREVEM Seguros|34 GMM. Gpo y Col","PREVEM Seguros","34 GMM. Gpo y Col",215777.07330000002]
["Primero Seguros|10 Total General","Primero Seguros","10 Total General",1040269.57398]
["Primero Seguros|11 Total General Sin Pensiones","Primero Seguros","11 Total General Sin Pensiones",1040269.57398]
["Primero Seguros|38 Daños Total","Primero Seguros","38 Daños Total",1040269.57398]
["Primero Seguros|39 Automoviles Total","Primero Seguros","39 Automoviles Total",773940.14233000006]
["Primero Seguros|41 Automoviles Residentes","Primero Seguros","41 Automoviles Residentes",436924.30742000003]
["Primero Seguros|42 Camiones","Primero Seguros","42 Camiones",336816.13035000005]
["Primero Seguros|43 Automoviles Turistas","Primero Seguros","43 Automoviles Turistas",199.70455999999999]
["Primero Seguros|46 Daños Sin Autos Total","Primero Seguros","46 Daños Sin Autos Total",266329.43164999998]
["Primero Seguros|46 Responsabilidad Civil y Riesgos Profesionales","Primero Seguros","46 Responsabilidad Civil y Riesgos Profesionales",39866.67787]
["Primero Seguros|47 RC General","Primero Seguros","47 RC General",39866.67787]
["Primero Seguros|51 Maritimo y Transportes","Primero Seguros","51 Maritimo y Transportes",159227.05716999999]
["Primero Seguros|52 MyT Carga","Primero Seguros","52 MyT Carga",159227.05716999999]
["Primero Seguros|54 Incendio","Primero Seguros","54 Incendio",15544.95767]
["Primero Seguros|55 Riesgos Catastroficos","Primero Seguros","55 Riesgos Catastroficos",11530.082539999999]
["Primero Seguros|56 Terremoto y Erupcion Volcanica","Primero Seguros","56 Terremoto y Erupcion Volcanica",2206.6851900000001]
["Primero Seguros|57 Huracan y Otros Riesgos Hidrometeorologicos","Primero Seguros","57 Huracan y Otros Riesgos Hidrometeorologicos",9323.3973499999993]
["Primero Seguros|63 Diversos","Primero Seguros","63 Diversos",40160.6564]
["Primero Seguros|64 Miscelaneos","Primero Seguros","64 Miscelaneos",16276.69973]
["Primero Seguros|65 Tecnicos","Primero Seguros","65 Tecnicos",23883.956670000003]
["ProFuturo G.N.P.|10 Total General","ProFuturo G.N.P.","10 Total General",6397672.8354899995]
["ProFuturo G.N.P.|15 Pensiones Total","ProFuturo G.N.P.","15 Pensiones Total",6397672.8354899995]
["ProFuturo G.N.P.|16 Pensiones IMSS","ProFuturo G.N.P.","16 Pensiones IMSS",4196586.0036500003]
["ProFuturo G.N.P.|17 IMSS Incapacidad Permanente RT","ProFuturo G.N.P.","17 IMSS Incapacidad Permanente RT",1073802.3841500001]
["ProFuturo G.N.P.|18 IMSS Invalidez (invalidez y vida)","ProFuturo G.N.P.","18 IMSS Invalidez (invalidez y vida)",889115.97562000004]
["ProFuturo G.N.P.|19 IMSS Jubilacion (retiro, cesantia y vejez)","ProFuturo G.N.P.","19 IMSS Jubilacion (retiro, cesantia y vejez)",60987.926650000001]
["ProFuturo G.N.P.|20 IMSS Muerte (invalidez y vida)","ProFuturo G.N.P.","20 IMSS Muerte (invalidez y vida)",1944912.46902]
["ProFuturo G.N.P.|21 IMSS Muerte (riesgos de trabajo)","ProFuturo G.N.P.","21 IMSS Muerte (riesgos de trabajo)",227767.24821000002]
["ProFuturo G.N.P.|22 Pensiones ISSSTE","ProFuturo G.N.P.","22 Pensiones ISSSTE",2201086.8318400001]
["ProFuturo G.N.P.|23 ISSSTE Incapacidad Permanente RT","ProFuturo G.N.P.","23 ISSSTE Incapacidad Permanente RT",190657.86875999998]
["ProFuturo G.N.P.|24 ISSSTE Invalidez (invalidez y vida)","ProFuturo G.N.P.","24 ISSSTE Invalidez (invalidez y vida)",49324.488229999995]
["ProFuturo G.N.P.|25 ISSSTE Jubilacion (retiro, cesantia y vejez)","ProFuturo G.N.P.","25 ISSSTE Jubilacion (retiro, cesantia y vejez)",1664219.4353499999]
["ProFuturo G.N.P.|26 ISSSTE Muerte (invalidez y vida)","ProFuturo G.N.P.","26 ISSSTE Muerte (invalidez y vida)",264504.49553000001]
["ProFuturo G.N.P.|27 ISSSTE Muerte (riesgos de trabajo)","ProFuturo G.N.P.","27 ISSSTE Muerte (riesgos de trabajo)",32380.543969999999]
["Prudential|10 Total General","Prudential","10 Total General",1351465.83501]
["Prudential|11 Total General Sin Pensiones","Prudential","11 Total General Sin Pensiones",1351465.83501]
["Prudential|12 Vida Total","Prudential","12 Vida Total",1351465.83501]
["Prudential|13 Vida Individual","Prudential","13 Vida Individual",1330669.7604]
["Prudential|14 Vida Gpo y Col","Prudential","14 Vida Gpo y Col",20796.07461]
["Quálitas|10 Total General","Quálitas","10 Total General",34917926.445830002]
["Quálitas|11 Total General Sin Pensiones","Quálitas","11 Total General Sin Pensiones",34917926.445830002]
["Quálitas|38 Daños Total","Quálitas","38 Daños Total",34917926.445830002]
["Quálitas|39 Automoviles Total","Quálitas","39 Automoviles Total",34915869.099160001]
["Quálitas|41 Automoviles Residentes","Quálitas","41 Automoviles Residentes",17108114.171659999]
["Quálitas|42 Camiones","Quálitas","42 Camiones",16746194.67478]
["Quálitas|43 Automoviles Turistas","Quálitas","43 Automoviles Turistas",271493.15188000002]
["Quálitas|44 Otros Automoviles y Obligatorios","Quálitas","44 Otros Automoviles y Obligatorios",790067.10084000009]
["Quálitas|46 Daños Sin Autos Total","Quálitas","46 Daños Sin Autos Total",2057.3466699999999]
["Quálitas|46 Responsabilidad Civil y Riesgos Profesionales","Quálitas","46 Responsabilidad Civil y Riesgos Profesionales",2057.3466699999999]
["Quálitas|50 RC Otros","Quálitas","50 RC Otros",2057.3466699999999]
[{"$f":"B1032&\"|\"&C1032","v":"Seguros Argos|10 Total General"},"Seguros Argos","10 Total General",2824083.3738899999]
["Seguros Argos|11 Total General Sin Pensiones","Seguros Argos","11 Total General Sin Pensiones",2824083.3738899999]
["Seguros Argos|12 Vida Total","Seguros Argos","12 Vida Total",2824083.3738899999]
["Seguros Argos|13 Vida Individual","Seguros Argos","13 Vida Individual",606386.28910000005]
["Seguros Argos|14 Vida Gpo y Col","Seguros Argos","14 Vida Gpo y Col",2217697.0847899998]
["Seguros Azteca|10 Total General","Seguros Azteca","10 Total General",3540235.0162600004]
["Seguros Azteca|11 Total General Sin Pensiones","Seguros Azteca","11 Total General Sin Pensiones",3540235.0162600004]
["Seguros Azteca|12 Vida Total","Seguros Azteca","12 Vida Total",3210392.0818400001]
["Seguros Azteca|13 Vida Individual","Seguros Azteca","13 Vida Individual",85244.527690000003]
["Seguros Azteca|14 Vida Gpo y Col","Seguros Azteca","14 Vida Gpo y Col",3125147.5541500002]
["Seguros Azteca|28 Accidentes y Enfermedades Total","Seguros Azteca","28 Accidentes y Enfermedades Total",329842.93442000001]
["Seguros Azteca|29 Accidentes Personales","Seguros Azteca","29 Accidentes Personales",291005.93328]
["Seguros Azteca|30 AP Individual","Seguros Azteca","30 AP Individual",55431.792329999997]
["Seguros Azteca|31 AP Gpo y Col","Seguros Azteca","31 AP Gpo y Col",235574.14095]
["Seguros Azteca|32 Gastos Medicos","Seguros Azteca","32 Gastos Medicos",38837.00114]
["Seguros Azteca|33 GMM. Individual","Seguros Azteca","33 GMM. Individual",38837.00114]
["Seguros Azteca Daños|10 Total General","Seguros Azteca Daños","10 Total General",1661194.5349100002]
["Seguros Azteca Daños|11 Total General Sin Pensiones","Seguros Azteca Daños","11 Total General Sin Pensiones",1661194.5349100002]
["Seguros Azteca Daños|38 Daños Total","Seguros Azteca Daños","38 Daños Total",1661194.5349100002]
["Seguros Azteca Daños|39 Automoviles Total","Seguros Azteca Daños","39 Automoviles Total",236048.66324000002]
["Seguros Azteca Daños|41 Automoviles Residentes","Seguros Azteca Daños","41 Automoviles Residentes",236048.66324000002]
["Seguros Azteca Daños|46 Daños Sin Autos Total","Seguros Azteca Daños","46 Daños Sin Autos Total",1425145.87167]
["Seguros Azteca Daños|46 Responsabilidad Civil y Riesgos Profesionales","Seguros Azteca Daños","46 Responsabilidad Civil y Riesgos Profesionales",67374.961939999994]
["Seguros Azteca Daños|47 RC General","Seguros Azteca Daños","47 RC General",37642.311750000001]
["Seguros Azteca Daños|48 RC Aviones y Barcos","Seguros Azteca Daños","48 RC Aviones y Barcos",25675.430219999998]
["Seguros Azteca Daños|49 RC Viajero","Seguros Azteca Daños","49 RC Viajero",509.25385999999997]
["Seguros Azteca Daños|50 RC Otros","Seguros Azteca Daños","50 RC Otros",3547.9661099999998]
["Seguros Azteca Daños|51 Maritimo y Transportes","Seguros Azteca Daños","51 Maritimo y Transportes",25604.314180000001]
["Seguros Azteca Daños|52 MyT Carga","Seguros Azteca Daños","52 MyT Carga",3183.1126099999997]
["Seguros Azteca Daños|53 MyT Cascos","Seguros Azteca Daños","53 MyT Cascos",22421.201570000001]
["Seguros Azteca Daños|54 Incendio","Seguros Azteca Daños","54 Incendio",391860.07650000002]
["Seguros Azteca Daños|55 Riesgos Catastroficos","Seguros Azteca Daños","55 Riesgos Catastroficos",488514.69916000002]
["Seguros Azteca Daños|56 Terremoto y Erupcion Volcanica","Seguros Azteca Daños","56 Terremoto y Erupcion Volcanica",369168.21705000004]
["Seguros Azteca Daños|57 Huracan y Otros Riesgos Hidrometeorologicos","Seguros Azteca Daños","57 Huracan y Otros Riesgos Hidrometeorologicos",119346.48211]
["Seguros Azteca Daños|63 Diversos","Seguros Azteca Daños","63 Diversos",451791.81988999998]
["Seguros Azteca Daños|64 Miscelaneos","Seguros Azteca Daños","64 Miscelaneos",120922.0315]
["Seguros Azteca Daños|65 Tecnicos","Seguros Azteca Daños","65 Tecnicos",330869.78839]
["Seguros SURA|10 Total General","Seguros SURA","10 Total General",4306787.9967099996]
["Seguros SURA|11 Total General Sin Pensiones","Seguros SURA","11 Total General Sin Pensiones",4306787.9967099996]
["Seguros SURA|12 Vida Total","Seguros SURA","12 Vida Total",995730.03105999995]
["Seguros SURA|13 Vida Individual","Seguros SURA","13 Vida Individual",51843.305380000005]
["Seguros SURA|14 Vida Gpo y Col","Seguros SURA","14 Vida Gpo y Col",943886.72567999992]
["Seguros SURA|28 Accidentes y Enfermedades Total","Seguros SURA","28 Accidentes y Enfermedades Total",574187.58960000006]
["Seguros SURA|29 Accidentes Personales","Seguros SURA","29 Accidentes Personales",122345.63659000001]
["Seguros SURA|30 AP Individual","Seguros SURA","30 AP Individual",35337.618549999999]
["Seguros SURA|31 AP Gpo y Col","Seguros SURA","31 AP Gpo y Col",87008.01804000001]
["Seguros SURA|32 Gastos Medicos","Seguros SURA","32 Gastos Medicos",451841.95301]
["Seguros SURA|33 GMM. Individual","Seguros SURA","33 GMM. Individual",131862.39666999999]
["Seguros SURA|34 GMM. Gpo y Col","Seguros SURA","34 GMM. Gpo y Col",319979.55633999995]
["Seguros SURA|38 Daños Total","Seguros SURA","38 Daños Total",2736870.3760500001]
["Seguros SURA|39 Automoviles Total","Seguros SURA","39 Automoviles Total",805233.40048000007]
["Seguros SURA|41 Automoviles Residentes","Seguros SURA","41 Automoviles Residentes",435505.11293]
["Seguros SURA|42 Camiones","Seguros SURA","42 Camiones",355209.88141000003]
["Seguros SURA|43 Automoviles Turistas","Seguros SURA","43 Automoviles Turistas",541.69584999999995]
["Seguros SURA|44 Otros Automoviles y Obligatorios","Seguros SURA","44 Otros Automoviles y Obligatorios",13976.710289999999]
["Seguros SURA|46 Daños Sin Autos Total","Seguros SURA","46 Daños Sin Autos Total",1931636.9755700002]
["Seguros SURA|46 Responsabilidad Civil y Riesgos Profesionales","Seguros SURA","46 Responsabilidad Civil y Riesgos Profesionales",239916.68980000002]
["Seguros SURA|47 RC General","Seguros SURA","47 RC General",236782.30958]
["Seguros SURA|48 RC Aviones y Barcos","Seguros SURA","48 RC Aviones y Barcos",0]
["Seguros SURA|49 RC Viajero","Seguros SURA","49 RC Viajero",3134.38022]
["Seguros SURA|51 Maritimo y Transportes","Seguros SURA","51 Maritimo y Transportes",209161.04922999998]
["Seguros SURA|52 MyT Carga","Seguros SURA","52 MyT Carga",165906.36947999999]
["Seguros SURA|53 MyT Cascos","Seguros SURA","53 MyT Cascos",43254.679750000003]
["Seguros SURA|54 Incendio","Seguros SURA","54 Incendio",549379.91339]
[{"$f":"B1096&\"|\"&C1096","v":"Seguros SURA|55 Riesgos Catastroficos"},"Seguros SURA","55 Riesgos Catastroficos",521879.92454000004]
["Seguros SURA|56 Terremoto y Erupcion Volcanica","Seguros SURA","56 Terremoto y Erupcion Volcanica",214050.01423]
["Seguros SURA|57 Huracan y Otros Riesgos Hidrometeorologicos","Seguros SURA","57 Huracan y Otros Riesgos Hidrometeorologicos",307829.91031000001]
["Seguros SURA|58 Otros Riesgos Catastroficos","Seguros SURA","58 Otros Riesgos Catastroficos",0]
["Seguros SURA|59 Agricola y de Animales","Seguros SURA","59 Agricola y de Animales",23858.857410000001]
["Seguros SURA|60 AyA Agricola","Seguros SURA","60 AyA Agricola",23858.857410000001]
["Seguros SURA|63 Diversos","Seguros SURA","63 Diversos",387440.54119999998]
["Seguros SURA|64 Miscelaneos","Seguros SURA","64 Miscelaneos",76526.320500000002]
["Seguros SURA|65 Tecnicos","Seguros SURA","65 Tecnicos",310914.22070000001]
["SHF Cred Vivienda|10 Total General","SHF Cred Vivienda","10 Total General",383722.22219999996]
["SHF Cred Vivienda|11 Total General Sin Pensiones","SHF Cred Vivienda","11 Total General Sin Pensiones",383722.22219999996]
["SHF Cred Vivienda|38 Daños Total","SHF Cred Vivienda","38 Daños Total",383722.22219999996]
["SHF Cred Vivienda|46 Daños Sin Autos Total","SHF Cred Vivienda","46 Daños Sin Autos Total",383722.22219999996]
["SHF Cred Vivienda|67 Credito a la Vivienda","SHF Cred Vivienda","67 Credito a la Vivienda",383722.22219999996]
["Skandia Life|10 Total General","Skandia Life","10 Total General",280734.25735000003]
["Skandia Life|11 Total General Sin Pensiones","Skandia Life","11 Total General Sin Pensiones",280734.25735000003]
["Skandia Life|12 Vida Total","Skandia Life","12 Vida Total",280734.25735000003]
["Skandia Life|13 Vida Individual","Skandia Life","13 Vida Individual",278592.55614999996]
["Skandia Life|14 Vida Gpo y Col","Skandia Life","14 Vida Gpo y Col",2141.7012]
["Solunion Crédito|10 Total General","Solunion Crédito","10 Total General",488652.45827999996]
["Solunion Crédito|11 Total General Sin Pensiones","Solunion Crédito","11 Total General Sin Pensiones",488652.45827999996]
["Solunion Crédito|38 Daños Total","Solunion Crédito","38 Daños Total",488652.45827999996]
["Solunion Crédito|46 Daños Sin Autos Total","Solunion Crédito","46 Daños Sin Autos Total",488652.45827999996]
["Solunion Crédito|66 Credito","Solunion Crédito","66 Credito",488652.45827999996]
["Sompo Japan|10 Total General","Sompo Japan","10 Total General",538831.89078000002]
["Sompo Japan|11 Total General Sin Pensiones","Sompo Japan","11 Total General Sin Pensiones",538831.89078000002]
["Sompo Japan|38 Daños Total","Sompo Japan","38 Daños Total",538831.89078000002]
["Sompo Japan|39 Automoviles Total","Sompo Japan","39 Automoviles Total",592.68477000000007]
["Sompo Japan|41 Automoviles Residentes","Sompo Japan","41 Automoviles Residentes",374.43096999999995]
["Sompo Japan|42 Camiones","Sompo Japan","42 Camiones",218.25379999999998]
["Sompo Japan|46 Daños Sin Autos Total","Sompo Japan","46 Daños Sin Autos Total",538239.20600999997]
["Sompo Japan|46 Responsabilidad Civil y Riesgos Profesionales","Sompo Japan","46 Responsabilidad Civil y Riesgos Profesionales",36036.712350000002]
["Sompo Japan|47 RC General","Sompo Japan","47 RC General",35153.409399999997]
["Sompo Japan|48 RC Aviones y Barcos","Sompo Japan","48 RC Aviones y Barcos",423.52628000000004]
["Sompo Japan|50 RC Otros","Sompo Japan","50 RC Otros",459.77666999999997]
["Sompo Japan|51 Maritimo y Transportes","Sompo Japan","51 Maritimo y Transportes",117653.33193]
["Sompo Japan|52 MyT Carga","Sompo Japan","52 MyT Carga",117653.33193]
["Sompo Japan|54 Incendio","Sompo Japan","54 Incendio",120947.90128000001]
["Sompo Japan|55 Riesgos Catastroficos","Sompo Japan","55 Riesgos Catastroficos",188896.00203999999]
["Sompo Japan|56 Terremoto y Erupcion Volcanica","Sompo Japan","56 Terremoto y Erupcion Volcanica",75085.473660000003]
["Sompo Japan|57 Huracan y Otros Riesgos Hidrometeorologicos","Sompo Japan","57 Huracan y Otros Riesgos Hidrometeorologicos",113810.52837999999]
["Sompo Japan|63 Diversos","Sompo Japan","63 Diversos",74705.258409999995]
["Sompo Japan|64 Miscelaneos","Sompo Japan","64 Miscelaneos",17983.45768]
["Sompo Japan|65 Tecnicos","Sompo Japan","65 Tecnicos",56721.800729999995]
["SPP Seguros|10 Total General","SPP Seguros","10 Total General",54230.541290000001]
["SPP Seguros|11 Total General Sin Pensiones","SPP Seguros","11 Total General Sin Pensiones",54230.541290000001]
["SPP Seguros|28 Accidentes y Enfermedades Total","SPP Seguros","28 Accidentes y Enfermedades Total",64.418959999999998]
["SPP Seguros|29 Accidentes Personales","SPP Seguros","29 Accidentes Personales",64.418959999999998]
["SPP Seguros|31 AP Gpo y Col","SPP Seguros","31 AP Gpo y Col",64.418959999999998]
["SPP Seguros|38 Daños Total","SPP Seguros","38 Daños Total",54166.122329999998]
["SPP Seguros|46 Daños Sin Autos Total","SPP Seguros","46 Daños Sin Autos Total",54166.122329999998]
["SPP Seguros|63 Diversos","SPP Seguros","63 Diversos",54166.122329999998]
["SPP Seguros|64 Miscelaneos","SPP Seguros","64 Miscelaneos",40109.62401]
["SPP Seguros|65 Tecnicos","SPP Seguros","65 Tecnicos",14056.498320000001]
["Swiss Re Corporate Solutions|10 Total General","Swiss Re Corporate Solutions","10 Total General",654924.37927999999]
["Swiss Re Corporate Solutions|11 Total General Sin Pensiones","Swiss Re Corporate Solutions","11 Total General Sin Pensiones",654924.37927999999]
["Swiss Re Corporate Solutions|38 Daños Total","Swiss Re Corporate Solutions","38 Daños Total",654924.37927999999]
["Swiss Re Corporate Solutions|46 Daños Sin Autos Total","Swiss Re Corporate Solutions","46 Daños Sin Autos Total",654924.37927999999]
["Swiss Re Corporate Solutions|46 Responsabilidad Civil y Riesgos Profesionales","Swiss Re Corporate Solutions","46 Responsabilidad Civil y Riesgos Profesionales",29123.08671]
["Swiss Re Corporate Solutions|47 RC General","Swiss Re Corporate Solutions","47 RC General",28498.82761]
["Swiss Re Corporate Solutions|49 RC Viajero","Swiss Re Corporate Solutions","49 RC Viajero",31.52046]
["Swiss Re Corporate Solutions|50 RC Otros","Swiss Re Corporate Solutions","50 RC Otros",592.73864000000003]
["Swiss Re Corporate Solutions|51 Maritimo y Transportes","Swiss Re Corporate Solutions","51 Maritimo y Transportes",0]
["Swiss Re Corporate Solutions|52 MyT Carga","Swiss Re Corporate Solutions","52 MyT Carga",0]
[{"$f":"B1160&\"|\"&C1160","v":"Swiss Re Corporate Solutions|54 Incendio"},"Swiss Re Corporate Solutions","54 Incendio",218282.10358000002]
["Swiss Re Corporate Solutions|55 Riesgos Catastroficos","Swiss Re Corporate Solutions","55 Riesgos Catastroficos",311219.66595]
["Swiss Re Corporate Solutions|56 Terremoto y Erupcion Volcanica","Swiss Re Corporate Solutions","56 Terremoto y Erupcion Volcanica",97854.74648999999]
["Swiss Re Corporate Solutions|57 Huracan y Otros Riesgos Hidrometeorologicos","Swiss Re Corporate Solutions","57 Huracan y Otros Riesgos Hidrometeorologicos",213364.91946]
["Swiss Re Corporate Solutions|59 Agricola y de Animales","Swiss Re Corporate Solutions","59 Agricola y de Animales",0]
["Swiss Re Corporate Solutions|60 AyA Agricola","Swiss Re Corporate Solutions","60 AyA Agricola",0]
["Swiss Re Corporate Solutions|61 AyA Otros","Swiss Re Corporate Solutions","61 AyA Otros",0]
["Swiss Re Corporate Solutions|62 AyA Pecuario","Swiss Re Corporate Solutions","62 AyA Pecuario",0]
["Swiss Re Corporate Solutions|63 Diversos","Swiss Re Corporate Solutions","63 Diversos",96299.52304]
["Swiss Re Corporate Solutions|64 Miscelaneos","Swiss Re Corporate Solutions","64 Miscelaneos",12316.458550000001]
["Swiss Re Corporate Solutions|65 Tecnicos","Swiss Re Corporate Solutions","65 Tecnicos",83983.06448999999]
["Tokio Marine|10 Total General","Tokio Marine","10 Total General",787883.69756]
["Tokio Marine|11 Total General Sin Pensiones","Tokio Marine","11 Total General Sin Pensiones",787883.69756]
["Tokio Marine|12 Vida Total","Tokio Marine","12 Vida Total",73118.543780000007]
["Tokio Marine|14 Vida Gpo y Col","Tokio Marine","14 Vida Gpo y Col",73118.543780000007]
["Tokio Marine|38 Daños Total","Tokio Marine","38 Daños Total",714765.15377999994]
["Tokio Marine|39 Automoviles Total","Tokio Marine","39 Automoviles Total",19065.77245]
["Tokio Marine|41 Automoviles Residentes","Tokio Marine","41 Automoviles Residentes",16483.99754]
["Tokio Marine|42 Camiones","Tokio Marine","42 Camiones",2580.63283]
["Tokio Marine|43 Automoviles Turistas","Tokio Marine","43 Automoviles Turistas",0]
["Tokio Marine|44 Otros Automoviles y Obligatorios","Tokio Marine","44 Otros Automoviles y Obligatorios",1.14208]
["Tokio Marine|46 Daños Sin Autos Total","Tokio Marine","46 Daños Sin Autos Total",695699.38133]
["Tokio Marine|46 Responsabilidad Civil y Riesgos Profesionales","Tokio Marine","46 Responsabilidad Civil y Riesgos Profesionales",44211.156210000001]
["Tokio Marine|47 RC General","Tokio Marine","47 RC General",37366.638319999998]
["Tokio Marine|50 RC Otros","Tokio Marine","50 RC Otros",6844.5178900000001]
["Tokio Marine|51 Maritimo y Transportes","Tokio Marine","51 Maritimo y Transportes",383595.81881999999]
["Tokio Marine|52 MyT Carga","Tokio Marine","52 MyT Carga",383595.81881999999]
["Tokio Marine|54 Incendio","Tokio Marine","54 Incendio",65438.879229999999]
["Tokio Marine|55 Riesgos Catastroficos","Tokio Marine","55 Riesgos Catastroficos",157472.55225000001]
["Tokio Marine|56 Terremoto y Erupcion Volcanica","Tokio Marine","56 Terremoto y Erupcion Volcanica",65942.234230000002]
["Tokio Marine|57 Huracan y Otros Riesgos Hidrometeorologicos","Tokio Marine","57 Huracan y Otros Riesgos Hidrometeorologicos",91530.318019999992]
["Tokio Marine|63 Diversos","Tokio Marine","63 Diversos",44980.974820000003]
["Tokio Marine|64 Miscelaneos","Tokio Marine","64 Miscelaneos",17423.691569999999]
["Tokio Marine|65 Tecnicos","Tokio Marine","65 Tecnicos",27557.28325]
["TOTAL|10 Total General","TOTAL","10 Total General",587475647.83713007]
["TOTAL|11 Total General Sin Pensiones","TOTAL","11 Total General Sin Pensiones",558277640.44395018]
["TOTAL|12 Vida Total","TOTAL","12 Vida Total",228995804.89778]
["TOTAL|13 Vida Individual","TOTAL","13 Vida Individual",166699783.40950996]
["TOTAL|14 Vida Gpo y Col","TOTAL","14 Vida Gpo y Col",62296021.488269992]
["TOTAL|15 Pensiones Total","TOTAL","15 Pensiones Total",29198007.393180002]
["TOTAL|16 Pensiones IMSS","TOTAL","16 Pensiones IMSS",21255006.404959999]
["TOTAL|17 IMSS Incapacidad Permanente RT","TOTAL","17 IMSS Incapacidad Permanente RT",3087234.8049300001]
["TOTAL|18 IMSS Invalidez (invalidez y vida)","TOTAL","18 IMSS Invalidez (invalidez y vida)",6230495.9820299996]
["TOTAL|19 IMSS Jubilacion (retiro, cesantia y vejez)","TOTAL","19 IMSS Jubilacion (retiro, cesantia y vejez)",648921.44017000007]
["TOTAL|20 IMSS Muerte (invalidez y vida)","TOTAL","20 IMSS Muerte (invalidez y vida)",10606318.473130001]
["TOTAL|21 IMSS Muerte (riesgos de trabajo)","TOTAL","21 IMSS Muerte (riesgos de trabajo)",682035.7047]
["TOTAL|22 Pensiones ISSSTE","TOTAL","22 Pensiones ISSSTE",7943000.9882199997]
["TOTAL|23 ISSSTE Incapacidad Permanente RT","TOTAL","23 ISSSTE Incapacidad Permanente RT",553063.85914000007]
["TOTAL|24 ISSSTE Invalidez (invalidez y vida)","TOTAL","24 ISSSTE Invalidez (invalidez y vida)",130284.48568]
["TOTAL|25 ISSSTE Jubilacion (retiro, cesantia y vejez)","TOTAL","25 ISSSTE Jubilacion (retiro, cesantia y vejez)",4973907.8159999996]
["TOTAL|26 ISSSTE Muerte (invalidez y vida)","TOTAL","26 ISSSTE Muerte (invalidez y vida)",2023977.33791]
["TOTAL|27 ISSSTE Muerte (riesgos de trabajo)","TOTAL","27 ISSSTE Muerte (riesgos de trabajo)",261767.48948999995]
["TOTAL|28 Accidentes y Enfermedades Total","TOTAL","28 Accidentes y Enfermedades Total",111447523.12149]
["TOTAL|29 Accidentes Personales","TOTAL","29 Accidentes Personales",4494915.1678100014]
["TOTAL|30 AP Individual","TOTAL","30 AP Individual",2631549.6882500006]
["TOTAL|31 AP Gpo y Col","TOTAL","31 AP Gpo y Col",1863365.4795599999]
["TOTAL|32 Gastos Medicos","TOTAL","32 Gastos Medicos",103404432.71278998]
["TOTAL|33 GMM. Individual","TOTAL","33 GMM. Individual",51322589.204400003]
["TOTAL|34 GMM. Gpo y Col","TOTAL","34 GMM. Gpo y Col",52081843.508390009]
["TOTAL|35 Salud","TOTAL","35 Salud",3548175.24089]
["TOTAL|36 Salud Individual","TOTAL","36 Salud Individual",1618419.7671599996]
["TOTAL|37 Salud Gpo y Col","TOTAL","37 Salud Gpo y Col",1929755.47373]
["TOTAL|38 Daños Total","TOTAL","38 Daños Total",217834312.42468005]
["TOTAL|39 Automoviles Total","TOTAL","39 Automoviles Total",109557244.07548003]
[{"$f":"B1224&\"|\"&C1224","v":"TOTAL|41 Automoviles Residentes"},"TOTAL","41 Automoviles Residentes",66321044.144889988]
["TOTAL|42 Camiones","TOTAL","42 Camiones",38361197.606799997]
["TOTAL|43 Automoviles Turistas","TOTAL","43 Automoviles Turistas",1276732.5397900001]
["TOTAL|44 Otros Automoviles y Obligatorios","TOTAL","44 Otros Automoviles y Obligatorios",3598269.784]
["TOTAL|46 Daños Sin Autos Total","TOTAL","46 Daños Sin Autos Total",108277068.3492]
["TOTAL|46 Responsabilidad Civil y Riesgos Profesionales","TOTAL","46 Responsabilidad Civil y Riesgos Profesionales",14983501.648239996]
["TOTAL|47 RC General","TOTAL","47 RC General",11414686.111029999]
["TOTAL|48 RC Aviones y Barcos","TOTAL","48 RC Aviones y Barcos",1961793.3407399999]
["TOTAL|49 RC Viajero","TOTAL","49 RC Viajero",228650.71685]
["TOTAL|50 RC Otros","TOTAL","50 RC Otros",1378371.4796199999]
["TOTAL|51 Maritimo y Transportes","TOTAL","51 Maritimo y Transportes",15370005.423349999]
["TOTAL|52 MyT Carga","TOTAL","52 MyT Carga",8648629.173010001]
["TOTAL|53 MyT Cascos","TOTAL","53 MyT Cascos",6721376.2503399998]
["TOTAL|54 Incendio","TOTAL","54 Incendio",23402359.630480003]
["TOTAL|55 Riesgos Catastroficos","TOTAL","55 Riesgos Catastroficos",25634565.464499999]
["TOTAL|56 Terremoto y Erupcion Volcanica","TOTAL","56 Terremoto y Erupcion Volcanica",10273884.96453]
["TOTAL|57 Huracan y Otros Riesgos Hidrometeorologicos","TOTAL","57 Huracan y Otros Riesgos Hidrometeorologicos",15294892.253099995]
["TOTAL|58 Otros Riesgos Catastroficos","TOTAL","58 Otros Riesgos Catastroficos",65788.246870000003]
["TOTAL|59 Agricola y de Animales","TOTAL","59 Agricola y de Animales",276413.14998000005]
["TOTAL|60 AyA Agricola","TOTAL","60 AyA Agricola",208152.20529999997]
["TOTAL|61 AyA Otros","TOTAL","61 AyA Otros",0]
["TOTAL|62 AyA Pecuario","TOTAL","62 AyA Pecuario",68260.944680000001]
["TOTAL|63 Diversos","TOTAL","63 Diversos",26714854.396459997]
["TOTAL|64 Miscelaneos","TOTAL","64 Miscelaneos",11297669.013770001]
["TOTAL|65 Tecnicos","TOTAL","65 Tecnicos",15417185.382690001]
["TOTAL|66 Credito","TOTAL","66 Credito",1427319.7259199999]
["TOTAL|67 Credito a la Vivienda","TOTAL","67 Credito a la Vivienda",468048.91026999993]
["TOTAL GRANDES|10 Total General","TOTAL GRANDES","10 Total General",260932545.32887]
["TOTAL GRANDES|11 Total General Sin Pensiones","TOTAL GRANDES","11 Total General Sin Pensiones",260932545.32887]
["TOTAL GRANDES|12 Vida Total","TOTAL GRANDES","12 Vida Total",149452813.48194]
["TOTAL GRANDES|13 Vida Individual","TOTAL GRANDES","13 Vida Individual",124769132.42714]
["TOTAL GRANDES|14 Vida Gpo y Col","TOTAL GRANDES","14 Vida Gpo y Col",35270017.930640005]
["TOTAL GRANDES|15 Pensiones Total","TOTAL GRANDES","15 Pensiones Total",29197504.692250002]
["TOTAL GRANDES|16 Pensiones IMSS","TOTAL GRANDES","16 Pensiones IMSS",21254503.70403]
["TOTAL GRANDES|17 IMSS Incapacidad Permanente RT","TOTAL GRANDES","17 IMSS Incapacidad Permanente RT",3087234.8049300001]
["TOTAL GRANDES|18 IMSS Invalidez (invalidez y vida)","TOTAL GRANDES","18 IMSS Invalidez (invalidez y vida)",6230009.5319999997]
["TOTAL GRANDES|19 IMSS Jubilacion (retiro, cesantia y vejez)","TOTAL GRANDES","19 IMSS Jubilacion (retiro, cesantia y vejez)",648921.44017000007]
["TOTAL GRANDES|20 IMSS Muerte (invalidez y vida)","TOTAL GRANDES","20 IMSS Muerte (invalidez y vida)",10606318.473130001]
["TOTAL GRANDES|21 IMSS Muerte (riesgos de trabajo)","TOTAL GRANDES","21 IMSS Muerte (riesgos de trabajo)",682035.7047]
["TOTAL GRANDES|22 Pensiones ISSSTE","TOTAL GRANDES","22 Pensiones ISSSTE",7943000.9882199997]
["TOTAL GRANDES|23 ISSSTE Incapacidad Permanente RT","TOTAL GRANDES","23 ISSSTE Incapacidad Permanente RT",553063.85914000007]
["TOTAL GRANDES|24 ISSSTE Invalidez (invalidez y vida)","TOTAL GRANDES","24 ISSSTE Invalidez (invalidez y vida)",130284.48568]
["TOTAL GRANDES|25 ISSSTE Jubilacion (retiro, cesantia y vejez)","TOTAL GRANDES","25 ISSSTE Jubilacion (retiro, cesantia y vejez)",4973907.8159999996]
["TOTAL GRANDES|26 ISSSTE Muerte (invalidez y vida)","TOTAL GRANDES","26 ISSSTE Muerte (invalidez y vida)",2023977.33791]
["TOTAL GRANDES|27 ISSSTE Muerte (riesgos de trabajo)","TOTAL GRANDES","27 ISSSTE Muerte (riesgos de trabajo)",261767.48948999995]
["TOTAL GRANDES|28 Accidentes y Enfermedades Total","TOTAL GRANDES","28 Accidentes y Enfermedades Total",81912123.335150003]
["TOTAL GRANDES|29 Accidentes Personales","TOTAL GRANDES","29 Accidentes Personales",2713657.52195]
["TOTAL GRANDES|30 AP Individual","TOTAL GRANDES","30 AP Individual",2064888.11521]
["TOTAL GRANDES|31 AP Gpo y Col","TOTAL GRANDES","31 AP Gpo y Col",961790.93529000005]
["TOTAL GRANDES|32 Gastos Medicos","TOTAL GRANDES","32 Gastos Medicos",81440463.362039998]
["TOTAL GRANDES|33 GMM. Individual","TOTAL GRANDES","33 GMM. Individual",40512494.749900006]
["TOTAL GRANDES|34 GMM. Gpo y Col","TOTAL GRANDES","34 GMM. Gpo y Col",42423031.081029996]
["TOTAL GRANDES|35 Salud","TOTAL GRANDES","35 Salud",3315214.99841]
["TOTAL GRANDES|36 Salud Individual","TOTAL GRANDES","36 Salud Individual",1615541.3816299997]
["TOTAL GRANDES|37 Salud Gpo y Col","TOTAL GRANDES","37 Salud Gpo y Col",1774392.7068]
["TOTAL GRANDES|38 Daños Total","TOTAL GRANDES","38 Daños Total",100847166.03527999]
["TOTAL GRANDES|39 Automoviles Total","TOTAL GRANDES","39 Automoviles Total",76232515.088699996]
["TOTAL GRANDES|41 Automoviles Residentes","TOTAL GRANDES","41 Automoviles Residentes",44334728.705679998]
["TOTAL GRANDES|42 Camiones","TOTAL GRANDES","42 Camiones",29157649.907410003]
["TOTAL GRANDES|43 Automoviles Turistas","TOTAL GRANDES","43 Automoviles Turistas",1053514.9206699999]
["TOTAL GRANDES|44 Otros Automoviles y Obligatorios","TOTAL GRANDES","44 Otros Automoviles y Obligatorios",3413691.04959]
["TOTAL GRANDES|46 Daños Sin Autos Total","TOTAL GRANDES","46 Daños Sin Autos Total",47058916.555090003]
["TOTAL GRANDES|46 Responsabilidad Civil y Riesgos Profesionales","TOTAL GRANDES","46 Responsabilidad Civil y Riesgos Profesionales",8669810.8620100003]
["TOTAL GRANDES|47 RC General","TOTAL GRANDES","47 RC General",6489403.73881]
[{"$f":"B1288&\"|\"&C1288","v":"TOTAL GRANDES|48 RC Aviones y Barcos"},"TOTAL GRANDES","48 RC Aviones y Barcos",1776102.3420499999]
["TOTAL GRANDES|49 RC Viajero","TOTAL GRANDES","49 RC Viajero",194412.71732]
["TOTAL GRANDES|50 RC Otros","TOTAL GRANDES","50 RC Otros",1332270.96961]
["TOTAL GRANDES|51 Maritimo y Transportes","TOTAL GRANDES","51 Maritimo y Transportes",9439301.2487400007]
["TOTAL GRANDES|52 MyT Carga","TOTAL GRANDES","52 MyT Carga",4018650.9506499995]
["TOTAL GRANDES|53 MyT Cascos","TOTAL GRANDES","53 MyT Cascos",6106430.8221899988]
["TOTAL GRANDES|54 Incendio","TOTAL GRANDES","54 Incendio",10836885.1514]
["TOTAL GRANDES|55 Riesgos Catastroficos","TOTAL GRANDES","55 Riesgos Catastroficos",13762774.136390001]
["TOTAL GRANDES|56 Terremoto y Erupcion Volcanica","TOTAL GRANDES","56 Terremoto y Erupcion Volcanica",4698362.9134799996]
["TOTAL GRANDES|57 Huracan y Otros Riesgos Hidrometeorologicos","TOTAL GRANDES","57 Huracan y Otros Riesgos Hidrometeorologicos",9300599.1206799988]
["TOTAL GRANDES|58 Otros Riesgos Catastroficos","TOTAL GRANDES","58 Otros Riesgos Catastroficos",65788.246870000003]
["TOTAL GRANDES|59 Agricola y de Animales","TOTAL GRANDES","59 Agricola y de Animales",276379.66808000003]
["TOTAL GRANDES|60 AyA Agricola","TOTAL GRANDES","60 AyA Agricola",208118.72339999996]
["TOTAL GRANDES|61 AyA Otros","TOTAL GRANDES","61 AyA Otros",0]
["TOTAL GRANDES|62 AyA Pecuario","TOTAL GRANDES","62 AyA Pecuario",68260.944680000001]
["TOTAL GRANDES|63 Diversos","TOTAL GRANDES","63 Diversos",10843675.7881]
["TOTAL GRANDES|64 Miscelaneos","TOTAL GRANDES","64 Miscelaneos",6127775.0308299996]
["TOTAL GRANDES|65 Tecnicos","TOTAL GRANDES","65 Tecnicos",8251179.0472400011]
["TOTAL GRANDES|66 Credito","TOTAL GRANDES","66 Credito",1427319.7259199999]
["TOTAL GRANDES|67 Credito a la Vivienda","TOTAL GRANDES","67 Credito a la Vivienda",468048.91026999993]
["TOTAL MEDIANAS|10 Total General","TOTAL MEDIANAS","10 Total General",200895146.52572]
["TOTAL MEDIANAS|11 Total General Sin Pensiones","TOTAL MEDIANAS","11 Total General Sin Pensiones",197949552.25975999]
["TOTAL MEDIANAS|12 Vida Total","TOTAL MEDIANAS","12 Vida Total",65569595.403850004]
["TOTAL MEDIANAS|13 Vida Individual","TOTAL MEDIANAS","13 Vida Individual",39559531.326959997]
["TOTAL MEDIANAS|14 Vida Gpo y Col","TOTAL MEDIANAS","14 Vida Gpo y Col",20382568.455270004]
["TOTAL MEDIANAS|15 Pensiones Total","TOTAL MEDIANAS","15 Pensiones Total",502.70092999999997]
["TOTAL MEDIANAS|16 Pensiones IMSS","TOTAL MEDIANAS","16 Pensiones IMSS",502.70092999999997]
["TOTAL MEDIANAS|17 IMSS Incapacidad Permanente RT","TOTAL MEDIANAS","17 IMSS Incapacidad Permanente RT",0]
["TOTAL MEDIANAS|18 IMSS Invalidez (invalidez y vida)","TOTAL MEDIANAS","18 IMSS Invalidez (invalidez y vida)",486.45003000000003]
["TOTAL MEDIANAS|20 IMSS Muerte (invalidez y vida)","TOTAL MEDIANAS","20 IMSS Muerte (invalidez y vida)",0]
["TOTAL MEDIANAS|28 Accidentes y Enfermedades Total","TOTAL MEDIANAS","28 Accidentes y Enfermedades Total",22503820.549910001]
["TOTAL MEDIANAS|29 Accidentes Personales","TOTAL MEDIANAS","29 Accidentes Personales",1437427.3618200002]
["TOTAL MEDIANAS|30 AP Individual","TOTAL MEDIANAS","30 AP Individual",550477.64485000004]
["TOTAL MEDIANAS|31 AP Gpo y Col","TOTAL MEDIANAS","31 AP Gpo y Col",631387.53631999996]
["TOTAL MEDIANAS|32 Gastos Medicos","TOTAL MEDIANAS","32 Gastos Medicos",19912456.434860002]
["TOTAL MEDIANAS|33 GMM. Individual","TOTAL MEDIANAS","33 GMM. Individual",9948582.4577799998]
["TOTAL MEDIANAS|34 GMM. Gpo y Col","TOTAL MEDIANAS","34 GMM. Gpo y Col",8900285.6275499985]
["TOTAL MEDIANAS|35 Salud","TOTAL MEDIANAS","35 Salud",232960.24247999999]
["TOTAL MEDIANAS|36 Salud Individual","TOTAL MEDIANAS","36 Salud Individual",2878.3855300000005]
["TOTAL MEDIANAS|37 Salud Gpo y Col","TOTAL MEDIANAS","37 Salud Gpo y Col",155362.76692999998]
["TOTAL MEDIANAS|38 Daños Total","TOTAL MEDIANAS","38 Daños Total",85843470.52358]
["TOTAL MEDIANAS|39 Automoviles Total","TOTAL MEDIANAS","39 Automoviles Total",28819171.242059998]
["TOTAL MEDIANAS|41 Automoviles Residentes","TOTAL MEDIANAS","41 Automoviles Residentes",19669968.616270002]
["TOTAL MEDIANAS|42 Camiones","TOTAL MEDIANAS","42 Camiones",8713351.7154800016]
["TOTAL MEDIANAS|43 Automoviles Turistas","TOTAL MEDIANAS","43 Automoviles Turistas",223017.91456000003]
["TOTAL MEDIANAS|44 Otros Automoviles y Obligatorios","TOTAL MEDIANAS","44 Otros Automoviles y Obligatorios",183203.36306999999]
["TOTAL MEDIANAS|46 Daños Sin Autos Total","TOTAL MEDIANAS","46 Daños Sin Autos Total",44397569.236490004]
["TOTAL MEDIANAS|46 Responsabilidad Civil y Riesgos Profesionales","TOTAL MEDIANAS","46 Responsabilidad Civil y Riesgos Profesionales",5002969.0601300001]
["TOTAL MEDIANAS|47 RC General","TOTAL MEDIANAS","47 RC General",3803143.2796000005]
["TOTAL MEDIANAS|48 RC Aviones y Barcos","TOTAL MEDIANAS","48 RC Aviones y Barcos",185227.03633999999]
["TOTAL MEDIANAS|49 RC Viajero","TOTAL MEDIANAS","49 RC Viajero",34202.128799999999]
["TOTAL MEDIANAS|50 RC Otros","TOTAL MEDIANAS","50 RC Otros",46100.510009999998]
["TOTAL MEDIANAS|51 Maritimo y Transportes","TOTAL MEDIANAS","51 Maritimo y Transportes",4746954.8228999991]
["TOTAL MEDIANAS|52 MyT Carga","TOTAL MEDIANAS","52 MyT Carga",3801850.90215]
["TOTAL MEDIANAS|53 MyT Cascos","TOTAL MEDIANAS","53 MyT Cascos",577947.97364999994]
["TOTAL MEDIANAS|54 Incendio","TOTAL MEDIANAS","54 Incendio",10054730.288699999]
["TOTAL MEDIANAS|55 Riesgos Catastroficos","TOTAL MEDIANAS","55 Riesgos Catastroficos",8461990.5104799997]
["TOTAL MEDIANAS|56 Terremoto y Erupcion Volcanica","TOTAL MEDIANAS","56 Terremoto y Erupcion Volcanica",4111723.1291399999]
["TOTAL MEDIANAS|57 Huracan y Otros Riesgos Hidrometeorologicos","TOTAL MEDIANAS","57 Huracan y Otros Riesgos Hidrometeorologicos",4272807.8525299998]
["TOTAL MEDIANAS|59 Agricola y de Animales","TOTAL MEDIANAS","59 Agricola y de Animales",33.481900000000003]
["TOTAL MEDIANAS|60 AyA Agricola","TOTAL MEDIANAS","60 AyA Agricola",33.481900000000003]
["TOTAL MEDIANAS|63 Diversos","TOTAL MEDIANAS","63 Diversos",12141721.66712]
["TOTAL MEDIANAS|64 Miscelaneos","TOTAL MEDIANAS","64 Miscelaneos",4080988.2149800002]
["TOTAL MEDIANAS|65 Tecnicos","TOTAL MEDIANAS","65 Tecnicos",5779854.2026500003]
[{"$f":"B1352&\"|\"&C1352","v":"TOTAL RESTO|10 Total General"},"TOTAL RESTO","10 Total General",125647955.98254001]
["TOTAL RESTO|11 Total General Sin Pensiones","TOTAL RESTO","11 Total General Sin Pensiones",99395542.855319992]
["TOTAL RESTO|12 Vida Total","TOTAL RESTO","12 Vida Total",13973396.01199]
["TOTAL RESTO|13 Vida Individual","TOTAL RESTO","13 Vida Individual",2371119.6554100001]
["TOTAL RESTO|14 Vida Gpo y Col","TOTAL RESTO","14 Vida Gpo y Col",6643435.1023599999]
["TOTAL RESTO|28 Accidentes y Enfermedades Total","TOTAL RESTO","28 Accidentes y Enfermedades Total",7031579.2364299996]
["TOTAL RESTO|29 Accidentes Personales","TOTAL RESTO","29 Accidentes Personales",343830.28403999994]
["TOTAL RESTO|30 AP Individual","TOTAL RESTO","30 AP Individual",16183.928190000002]
["TOTAL RESTO|31 AP Gpo y Col","TOTAL RESTO","31 AP Gpo y Col",270187.00795]
["TOTAL RESTO|32 Gastos Medicos","TOTAL RESTO","32 Gastos Medicos",2051512.9158900001]
["TOTAL RESTO|33 GMM. Individual","TOTAL RESTO","33 GMM. Individual",861511.99671999994]
["TOTAL RESTO|34 GMM. Gpo y Col","TOTAL RESTO","34 GMM. Gpo y Col",758526.79981]
["TOTAL RESTO|38 Daños Total","TOTAL RESTO","38 Daños Total",31143675.865820006]
["TOTAL RESTO|39 Automoviles Total","TOTAL RESTO","39 Automoviles Total",4505557.7447199998]
["TOTAL RESTO|41 Automoviles Residentes","TOTAL RESTO","41 Automoviles Residentes",2316346.8229400003]
["TOTAL RESTO|42 Camiones","TOTAL RESTO","42 Camiones",490195.98391000001]
["TOTAL RESTO|43 Automoviles Turistas","TOTAL RESTO","43 Automoviles Turistas",199.70455999999999]
["TOTAL RESTO|44 Otros Automoviles y Obligatorios","TOTAL RESTO","44 Otros Automoviles y Obligatorios",1375.3713400000001]
["TOTAL RESTO|46 Daños Sin Autos Total","TOTAL RESTO","46 Daños Sin Autos Total",16820582.557620004]
["TOTAL RESTO|46 Responsabilidad Civil y Riesgos Profesionales","TOTAL RESTO","46 Responsabilidad Civil y Riesgos Profesionales",1310721.7260999999]
["TOTAL RESTO|47 RC General","TOTAL RESTO","47 RC General",1122139.09262]
["TOTAL RESTO|48 RC Aviones y Barcos","TOTAL RESTO","48 RC Aviones y Barcos",463.96235000000001]
["TOTAL RESTO|49 RC Viajero","TOTAL RESTO","49 RC Viajero",35.870730000000002]
["TOTAL RESTO|51 Maritimo y Transportes","TOTAL RESTO","51 Maritimo y Transportes",1183749.3517100001]
["TOTAL RESTO|52 MyT Carga","TOTAL RESTO","52 MyT Carga",828127.32020999992]
["TOTAL RESTO|53 MyT Cascos","TOTAL RESTO","53 MyT Cascos",36997.454499999993]
["TOTAL RESTO|54 Incendio","TOTAL RESTO","54 Incendio",2510744.19038]
["TOTAL RESTO|55 Riesgos Catastroficos","TOTAL RESTO","55 Riesgos Catastroficos",3409800.8176300004]
["TOTAL RESTO|56 Terremoto y Erupcion Volcanica","TOTAL RESTO","56 Terremoto y Erupcion Volcanica",1463798.92191]
["TOTAL RESTO|57 Huracan y Otros Riesgos Hidrometeorologicos","TOTAL RESTO","57 Huracan y Otros Riesgos Hidrometeorologicos",1721485.2798899999]
["TOTAL RESTO|63 Diversos","TOTAL RESTO","63 Diversos",3729456.9412399996]
["TOTAL RESTO|64 Miscelaneos","TOTAL RESTO","64 Miscelaneos",1088905.7679600001]
["TOTAL RESTO|65 Tecnicos","TOTAL RESTO","65 Tecnicos",1386152.1328]
["Ve Por Más|10 Total General","Ve Por Más","10 Total General",2931433.71942]
["Ve Por Más|11 Total General Sin Pensiones","Ve Por Más","11 Total General Sin Pensiones",2931433.71942]
["Ve Por Más|12 Vida Total","Ve Por Más","12 Vida Total",482017.03414]
["Ve Por Más|13 Vida Individual","Ve Por Más","13 Vida Individual",42121.187270000002]
["Ve Por Más|14 Vida Gpo y Col","Ve Por Más","14 Vida Gpo y Col",439895.84687000001]
["Ve Por Más|28 Accidentes y Enfermedades Total","Ve Por Más","28 Accidentes y Enfermedades Total",1672007.0972200001]
["Ve Por Más|29 Accidentes Personales","Ve Por Más","29 Accidentes Personales",22736.521270000001]
["Ve Por Más|30 AP Individual","Ve Por Más","30 AP Individual",96.686240000000012]
["Ve Por Más|31 AP Gpo y Col","Ve Por Más","31 AP Gpo y Col",22639.835030000002]
["Ve Por Más|32 Gastos Medicos","Ve Por Más","32 Gastos Medicos",1649270.57595]
["Ve Por Más|33 GMM. Individual","Ve Por Más","33 GMM. Individual",1321344.1054100001]
["Ve Por Más|34 GMM. Gpo y Col","Ve Por Más","34 GMM. Gpo y Col",327926.47054000001]
["Ve Por Más|38 Daños Total","Ve Por Más","38 Daños Total",777409.58805999998]
["Ve Por Más|39 Automoviles Total","Ve Por Más","39 Automoviles Total",165216.29803000001]
["Ve Por Más|41 Automoviles Residentes","Ve Por Más","41 Automoviles Residentes",113915.90863999999]
["Ve Por Más|42 Camiones","Ve Por Más","42 Camiones",48619.524579999998]
["Ve Por Más|44 Otros Automoviles y Obligatorios","Ve Por Más","44 Otros Automoviles y Obligatorios",2680.86481]
["Ve Por Más|46 Daños Sin Autos Total","Ve Por Más","46 Daños Sin Autos Total",612193.29003000003]
["Ve Por Más|46 Responsabilidad Civil y Riesgos Profesionales","Ve Por Más","46 Responsabilidad Civil y Riesgos Profesionales",92803.053159999996]
["Ve Por Más|47 RC General","Ve Por Más","47 RC General",84675.742930000008]
["Ve Por Más|48 RC Aviones y Barcos","Ve Por Más","48 RC Aviones y Barcos",5153.1993600000005]
["Ve Por Más|49 RC Viajero","Ve Por Más","49 RC Viajero",2974.11087]
["Ve Por Más|51 Maritimo y Transportes","Ve Por Más","51 Maritimo y Transportes",31186.209170000002]
["Ve Por Más|52 MyT Carga","Ve Por Más","52 MyT Carga",7516.9209800000008]
["Ve Por Más|53 MyT Cascos","Ve Por Más","53 MyT Cascos",23669.288190000003]
["Ve Por Más|54 Incendio","Ve Por Más","54 Incendio",124168.1149]
["Ve Por Más|55 Riesgos Catastroficos","Ve Por Más","55 Riesgos Catastroficos",306283.51357999997]
["Ve Por Más|56 Terremoto y Erupcion Volcanica","Ve Por Más","56 Terremoto y Erupcion Volcanica",100289.37022]
["Ve Por Más|57 Huracan y Otros Riesgos Hidrometeorologicos","Ve Por Más","57 Huracan y Otros Riesgos Hidrometeorologicos",205994.14336000002]
["Ve Por Más|63 Diversos","Ve Por Más","63 Diversos",57752.399219999999]
["Ve Por Más|64 Miscelaneos","Ve Por Más","64 Miscelaneos",15963.478869999999]
[{"$f":"B1416&\"|\"&C1416","v":"Ve Por Más|65 Tecnicos"},"Ve Por Más","65 Tecnicos",41788.92035]
["Virginia Surety|10 Total General","Virginia Surety","10 Total General",93997.07677]
["Virginia Surety|11 Total General Sin Pensiones","Virginia Surety","11 Total General Sin Pensiones",93997.07677]
["Virginia Surety|38 Daños Total","Virginia Surety","38 Daños Total",93997.07677]
["Virginia Surety|39 Automoviles Total","Virginia Surety","39 Automoviles Total",1311.6667600000001]
["Virginia Surety|44 Otros Automoviles y Obligatorios","Virginia Surety","44 Otros Automoviles y Obligatorios",1311.6667600000001]
["Virginia Surety|46 Daños Sin Autos Total","Virginia Surety","46 Daños Sin Autos Total",92685.410010000007]
["Virginia Surety|63 Diversos","Virginia Surety","63 Diversos",92685.410010000007]
["Virginia Surety|64 Miscelaneos","Virginia Surety","64 Miscelaneos",92685.410010000007]
["Zurich Aseguradora Mexicana|10 Total General","Zurich Aseguradora Mexicana","10 Total General",8533878.8999300003]
["Zurich Aseguradora Mexicana|11 Total General Sin Pensiones","Zurich Aseguradora Mexicana","11 Total General Sin Pensiones",8533878.8999300003]
["Zurich Aseguradora Mexicana|12 Vida Total","Zurich Aseguradora Mexicana","12 Vida Total",559315.22601999994]
["Zurich Aseguradora Mexicana|13 Vida Individual","Zurich Aseguradora Mexicana","13 Vida Individual",4755.3483499999993]
["Zurich Aseguradora Mexicana|14 Vida Gpo y Col","Zurich Aseguradora Mexicana","14 Vida Gpo y Col",554559.87766999996]
["Zurich Aseguradora Mexicana|28 Accidentes y Enfermedades Total","Zurich Aseguradora Mexicana","28 Accidentes y Enfermedades Total",846911.50760999997]
["Zurich Aseguradora Mexicana|29 Accidentes Personales","Zurich Aseguradora Mexicana","29 Accidentes Personales",7290.0182400000003]
["Zurich Aseguradora Mexicana|30 AP Individual","Zurich Aseguradora Mexicana","30 AP Individual",0]
["Zurich Aseguradora Mexicana|31 AP Gpo y Col","Zurich Aseguradora Mexicana","31 AP Gpo y Col",7290.0182400000003]
["Zurich Aseguradora Mexicana|32 Gastos Medicos","Zurich Aseguradora Mexicana","32 Gastos Medicos",839621.48936999997]
["Zurich Aseguradora Mexicana|33 GMM. Individual","Zurich Aseguradora Mexicana","33 GMM. Individual",74957.727409999992]
["Zurich Aseguradora Mexicana|34 GMM. Gpo y Col","Zurich Aseguradora Mexicana","34 GMM. Gpo y Col",764663.76196000003]
["Zurich Aseguradora Mexicana|38 Daños Total","Zurich Aseguradora Mexicana","38 Daños Total",7127652.1663000006]
["Zurich Aseguradora Mexicana|39 Automoviles Total","Zurich Aseguradora Mexicana","39 Automoviles Total",2495146.5093499999]
["Zurich Aseguradora Mexicana|41 Automoviles Residentes","Zurich Aseguradora Mexicana","41 Automoviles Residentes",2478059.3029399998]
["Zurich Aseguradora Mexicana|42 Camiones","Zurich Aseguradora Mexicana","42 Camiones",4356.1443499999996]
["Zurich Aseguradora Mexicana|43 Automoviles Turistas","Zurich Aseguradora Mexicana","43 Automoviles Turistas",3290.1570999999999]
["Zurich Aseguradora Mexicana|44 Otros Automoviles y Obligatorios","Zurich Aseguradora Mexicana","44 Otros Automoviles y Obligatorios",9440.9049600000017]
["Zurich Aseguradora Mexicana|46 Daños Sin Autos Total","Zurich Aseguradora Mexicana","46 Daños Sin Autos Total",4632505.6569499997]
["Zurich Aseguradora Mexicana|46 Responsabilidad Civil y Riesgos Profesionales","Zurich Aseguradora Mexicana","46 Responsabilidad Civil y Riesgos Profesionales",612601.68452999997]
["Zurich Aseguradora Mexicana|47 RC General","Zurich Aseguradora Mexicana","47 RC General",424877.74077999999]
["Zurich Aseguradora Mexicana|50 RC Otros","Zurich Aseguradora Mexicana","50 RC Otros",187723.94375000001]
["Zurich Aseguradora Mexicana|51 Maritimo y Transportes","Zurich Aseguradora Mexicana","51 Maritimo y Transportes",553166.78482000006]
["Zurich Aseguradora Mexicana|52 MyT Carga","Zurich Aseguradora Mexicana","52 MyT Carga",552376.35582000006]
["Zurich Aseguradora Mexicana|53 MyT Cascos","Zurich Aseguradora Mexicana","53 MyT Cascos",790.42899999999997]
["Zurich Aseguradora Mexicana|54 Incendio","Zurich Aseguradora Mexicana","54 Incendio",1877684.6548900001]
["Zurich Aseguradora Mexicana|55 Riesgos Catastroficos","Zurich Aseguradora Mexicana","55 Riesgos Catastroficos",928409.11974999995]
["Zurich Aseguradora Mexicana|56 Terremoto y Erupcion Volcanica","Zurich Aseguradora Mexicana","56 Terremoto y Erupcion Volcanica",634891.6238099999]
["Zurich Aseguradora Mexicana|57 Huracan y Otros Riesgos Hidrometeorologicos","Zurich Aseguradora Mexicana","57 Huracan y Otros Riesgos Hidrometeorologicos",293517.49593999999]
["Zurich Aseguradora Mexicana|63 Diversos","Zurich Aseguradora Mexicana","63 Diversos",660643.41295999999]
["Zurich Aseguradora Mexicana|64 Miscelaneos","Zurich Aseguradora Mexicana","64 Miscelaneos",270350.07791000005]
["Zurich Aseguradora Mexicana|65 Tecnicos","Zurich Aseguradora Mexicana","65 Tecnicos",390293.33504999999]
["Zurich Daños|10 Total General","Zurich Daños","10 Total General",0]
["Zurich Daños|11 Total General Sin Pensiones","Zurich Daños","11 Total General Sin Pensiones",0]
["Zurich Daños|38 Daños Total","Zurich Daños","38 Daños Total",0]
["Zurich Daños|39 Automoviles Total","Zurich Daños","39 Automoviles Total",0]
["Zurich Daños|41 Automoviles Residentes","Zurich Daños","41 Automoviles Residentes",0]
["Zurich Daños|42 Camiones","Zurich Daños","42 Camiones",0]
["Zurich Daños|43 Automoviles Turistas","Zurich Daños","43 Automoviles Turistas",0]
["Zurich Daños|44 Otros Automoviles y Obligatorios","Zurich Daños","44 Otros Automoviles y Obligatorios",0]
["Zurich Daños|46 Daños Sin Autos Total","Zurich Daños","46 Daños Sin Autos Total",0]
["Zurich Daños|46 Responsabilidad Civil y Riesgos Profesionales","Zurich Daños","46 Responsabilidad Civil y Riesgos Profesionales",0]
["Zurich Daños|47 RC General","Zurich Daños","47 RC General",0]
["Zurich Daños|50 RC Otros","Zurich Daños","50 RC Otros",0]
["Zurich Daños|51 Maritimo y Transportes","Zurich Daños","51 Maritimo y Transportes",0]
["Zurich Daños|52 MyT Carga","Zurich Daños","52 MyT Carga",0]
["Zurich Daños|53 MyT Cascos","Zurich Daños","53 MyT Cascos",0]
["Zurich Daños|54 Incendio","Zurich Daños","54 Incendio",0]
["Zurich Daños|55 Riesgos Catastroficos","Zurich Daños","55 Riesgos Catastroficos",0]
["Zurich Daños|56 Terremoto y Erupcion Volcanica","Zurich Daños","56 Terremoto y Erupcion Volcanica",0]
["Zurich Daños|57 Huracan y Otros Riesgos Hidrometeorologicos","Zurich Daños","57 Huracan y Otros Riesgos Hidrometeorologicos",0]
["Zurich Daños|63 Diversos","Zurich Daños","63 Diversos",0]
["Zurich Daños|64 Miscelaneos","Zurich Daños","64 Miscelaneos",0]
["Zurich Daños|65 Tecnicos","Zurich Daños","65 Tecnicos",0]
["Zurich Santander|10 Total General","Zurich Santander","10 Total General",15536856.45108]
[{"$f":"B1480&\"|\"&C1480","v":"Zurich Santander|11 Total General Sin Pensiones"},"Zurich Santander","11 Total General Sin Pensiones",15536856.45108]
["Zurich Santander|12 Vida Total","Zurich Santander","12 Vida Total",11872659.72023]
["Zurich Santander|13 Vida Individual","Zurich Santander","13 Vida Individual",8574708.8718199991]
["Zurich Santander|14 Vida Gpo y Col","Zurich Santander","14 Vida Gpo y Col",3297950.8484099996]
["Zurich Santander|28 Accidentes y Enfermedades Total","Zurich Santander","28 Accidentes y Enfermedades Total",744920.90093]
["Zurich Santander|29 Accidentes Personales","Zurich Santander","29 Accidentes Personales",529312.53451000003]
["Zurich Santander|30 AP Individual","Zurich Santander","30 AP Individual",483307.58431999997]
["Zurich Santander|31 AP Gpo y Col","Zurich Santander","31 AP Gpo y Col",46004.950189999996]
["Zurich Santander|32 Gastos Medicos","Zurich Santander","32 Gastos Medicos",215608.36641999998]
["Zurich Santander|33 GMM. Individual","Zurich Santander","33 GMM. Individual",215608.36641999998]
["Zurich Santander|38 Daños Total","Zurich Santander","38 Daños Total",2919275.8299199999]
["Zurich Santander|39 Automoviles Total","Zurich Santander","39 Automoviles Total",834.12411999999995]
["Zurich Santander|41 Automoviles Residentes","Zurich Santander","41 Automoviles Residentes",834.12411999999995]
["Zurich Santander|46 Daños Sin Autos Total","Zurich Santander","46 Daños Sin Autos Total",2918441.7058000001]
["Zurich Santander|46 Responsabilidad Civil y Riesgos Profesionales","Zurich Santander","46 Responsabilidad Civil y Riesgos Profesionales",36490.797290000002]
["Zurich Santander|47 RC General","Zurich Santander","47 RC General",36490.797290000002]
["Zurich Santander|54 Incendio","Zurich Santander","54 Incendio",269336.14539999998]
["Zurich Santander|55 Riesgos Catastroficos","Zurich Santander","55 Riesgos Catastroficos",745331.65766999999]
["Zurich Santander|56 Terremoto y Erupcion Volcanica","Zurich Santander","56 Terremoto y Erupcion Volcanica",531314.64118999999]
["Zurich Santander|57 Huracan y Otros Riesgos Hidrometeorologicos","Zurich Santander","57 Huracan y Otros Riesgos Hidrometeorologicos",214017.01647999999]
["Zurich Santander|63 Diversos","Zurich Santander","63 Diversos",1867283.1054400001]
["Zurich Santander|64 Miscelaneos","Zurich Santander","64 Miscelaneos",1848443.9222299999]
["Zurich Santander|65 Tecnicos","Zurich Santander","65 Tecnicos",18839.183209999999]
["Zurich Vida|10 Total General","Zurich Vida","10 Total General",0]
["Zurich Vida|11 Total General Sin Pensiones","Zurich Vida","11 Total General Sin Pensiones",0]
["Zurich Vida|12 Vida Total","Zurich Vida","12 Vida Total",0]
["Zurich Vida|13 Vida Individual","Zurich Vida","13 Vida Individual",0]
["Zurich Vida|14 Vida Gpo y Col","Zurich Vida","14 Vida Gpo y Col",0]
["Zurich Vida|28 Accidentes y Enfermedades Total","Zurich Vida","28 Accidentes y Enfermedades Total",0]
["Zurich Vida|29 Accidentes Personales","Zurich Vida","29 Accidentes Personales",0]
["Zurich Vida|30 AP Individual","Zurich Vida","30 AP Individual",0]
["Zurich Vida|31 AP Gpo y Col","Zurich Vida","31 AP Gpo y Col",0]
["Zurich Vida|32 Gastos Medicos","Zurich Vida","32 Gastos Medicos",0]
["Zurich Vida|33 GMM. Individual","Zurich Vida","33 GMM. Individual",0]
["Zurich Vida|34 GMM. Gpo y Col","Zurich Vida","34 GMM. Gpo y Col",0]
["SPT|10 Total General","SPT","10 Total General",32331.358170000003]
["SPT|11 Total General Sin Pensiones","SPT","11 Total General Sin Pensiones",32331.358170000003]
["SPT|38 Daños Total","SPT","38 Daños Total",32331.358170000003]
["SPT|39 Automoviles Total","SPT","39 Automoviles Total",32331.358170000003]
["SPT|41 Automoviles Residentes","SPT","41 Automoviles Residentes",32331.358170000003]
["Quálitas Salud|10 Total General","Quálitas Salud","10 Total General",12852.044910000001]
["Quálitas Salud|11 Total General Sin Pensiones","Quálitas Salud","11 Total General Sin Pensiones",12852.044910000001]
["Quálitas Salud|28 Accidentes y Enfermedades Total","Quálitas Salud","28 Accidentes y Enfermedades Total",12852.044910000001]
["Quálitas Salud|29 Accidentes Personales","Quálitas Salud","29 Accidentes Personales",0]
["Quálitas Salud|30 AP Individual","Quálitas Salud","30 AP Individual",0]
["Quálitas Salud|32 Gastos Medicos","Quálitas Salud","32 Gastos Medicos",0]
["Quálitas Salud|33 GMM. Individual","Quálitas Salud","33 GMM. Individual",0]
["Quálitas Salud|35 Salud","Quálitas Salud","35 Salud",12852.044910000001]
["Quálitas Salud|36 Salud Individual","Quálitas Salud","36 Salud Individual",442.67153000000002]
["Quálitas Salud|37 Salud Gpo y Col","Quálitas Salud","37 Salud Gpo y Col",12409.373380000001]
["Momento Seguros|10 Total General","Momento Seguros","10 Total General",468.89203999999995]
["Momento Seguros|11 Total General Sin Pensiones","Momento Seguros","11 Total General Sin Pensiones",468.89203999999995]
["Momento Seguros|38 Daños Total","Momento Seguros","38 Daños Total",468.89203999999995]
["Momento Seguros|39 Automoviles Total","Momento Seguros","39 Automoviles Total",468.89203999999995]
["Momento Seguros|41 Automoviles Residentes","Momento Seguros","41 Automoviles Residentes",468.89203999999995]
["|"]
["|"]
["|"]
["|"]
["|"]
["|"]
["|"]
["|"]
["|"]
[{"$f":"B1544&\"|\"&C1544","v":"|"}]
["|"]
["|"]
["|"]
["|"]
["|"]
["|"]
["|"]
["|"]
["|"]
["|"]
["|"]
["|"]
["|"]
["|"]
["|"]
["|"]
["|"]
["|"]
["|"]
["|"]
["|"]
["|"]
["|"]
["|"]
["|"]
["|"]
["|"]
["|"]
["|"]
["|"]
["|"]
["|"]
["|"]
["|"]
["|"]
["|"]
["|"]
["|"]
["|"]
["|"]
["|"]
["|"]
["|"]
["|"]
["|"]
["|"]
["|"]
["|"]
["|"]
["|"]
["|"]
["|"]
["|"]
["|"]
["|"]
["|"]
["|"]
["|"]
["|"]
["|"]
["|"]
["|"]
["|"]
[{"$f":"B1608&\"|\"&C1608","v":"|"}]
["|"]
["|"]
["|"]
["|"]
["|"]
["|"]
["|"]
["|"]

{"sheet":"TD Siniestros Daños","index":6,"n_rows":59,"n_cols":13,"rows_kept":59,"cut":false,"hidden":true,"merged":[]}
["periodo","2023-Q3"]
["Ramo3","38 Daños Total"]
["operacion","(Varios elementos)"]
["ramo_complemento","(Varios elementos)"]
[]
["Jerarquia 2","nombre_compania","Suma de CostoSin_Act","Suma de IncSin","Suma de IncResvDivAct","Suma de %SinvsPrm_Act","Suma de %SinvsPrm_Ant","Suma de Costo_Sin_RetAct","Suma de IncSin_Ret","Suma de Prima_DevengadaAct","Suma de IncSin_PDev","Suma de %SinvsPDev_Act","Suma de %SinvsPDev_Ant"]
[1,"Quálitas",23308919.181210004,26.745483407435721,68561.225480000008,66.753446019683736,68.223229290826353,23331011.338009998,26.895926946093528,33390337.903790001,23.106372091434558,69.873540678849466,67.786873110675813]
[2,"G.N.P.",10644872.855490001,10.654895649956408,19444.81295,56.102662865502573,61.932321539973259,9932442.309940001,21.958587137090756,14455161.955290001,18.299289645084492,68.712079052875168,66.65041251137869]
[3,"AXA Seguros",8245348.5043099988,3.6799800516778225,120326.8192,48.531610939264809,54.086219509830734,7705205.0683800001,19.029052978763914,11374694.84895,13.847500671954904,67.739883756892766,64.79104276253382]
[4,"Chubb Seguros México",8838508.8105599992,9.9839657450374588,18291.50261,55.910679764060724,55.680221848476805,4246091.76382,16.596379630476488,5578514.5487399995,-2.3946742791798314,76.115097069685874,63.717577383651857]
[5,"Mapfre México",5589995.6867099991,-0.76543249076425068,284041.39913000003,39.484588876691724,55.258028862491102,2471822.00611,5.9104662957012222,3676961.2999,-4.3529230868003532,67.224585860537189,60.710101269016633]
[5.0999999999999996,"TOTAL GRANDES",56627645.03828001,14.094562346123297,510665.75937000004,56.151944833501432,60.660470241434524,47686572.486259997,22.339092438017992,68475670.55667001,16.271021991551216,69.64016868851968,66.185987027658783]
[6,"Inbursa",5063992.1400899999,64.149504412510197,0,39.667375357204115,30.487331325068983,3203907.62763,27.435871046688852,4679909.7202700004,15.7909418851218,68.460885340436775,62.205015987643073]
[7,"BBVA Bancomer",5430972.1043700008,42.3449681211276,0,51.622846460695314,47.217104504675682,5211955.2852700008,37.903824741189204,9616007.9612600002,41.78451189057273,54.200821237538477,55.72606124344329]
[8,"GMX Seguros",2866637.1282300004,-23.247518748012553,0,29.239184659455013,35.171711255349763,796279.56860999996,28.231037100788335,2029854.2378499999,0.98345520090115102,39.22841127023046,30.892836880015288]
[9,"Banorte",3640113.6384199993,24.336968736403275,-9601.1814800000011,41.585599531062115,40.087643692862422,3460007.22529,32.753194166377895,6137628.4504899997,17.777104054019823,56.37368330782175,50.014082196262976]
[10,"Atlas",3232713.4452499994,20.32232572374426,10602.622159999999,37.18637462374118,38.14615795502371,2303749.4567,22.782455397622449,3277225.4278200003,10.336627597913006,70.295727512173201,63.170210133989656]
[11,"HDI Seguros",5091813.3929799991,19.478642938802192,0,59.080389307309289,61.683477034868183,5036673.8422499998,25.009228564394981,7607386.1155500002,11.199245767709364,66.207679822570142,58.893604455028992]
[12,"Agroasemex",2334628.6140100001,293.93302851432981,-1704.4324000000001,27.612733027655189,8.6922422645114565,950477.62574000005,36.72382593277117,2037267.98459,-70.695854564123124,46.654521296631657,9.9995071670241575]
[13,"Zurich Aseguradora Mexicana",2334581.2003100002,-4.9562775411595705,13474.73047,32.753859838279574,119.57277433031659,1895845.40069,162.30993226197432,3497849.6970700002,211.05441008663664,54.200310615921232,64.272235137136065]
[14,"AIG Seguros",763706.88296000008,-10.958819479888094,4613.3549599999997,12.48602616901703,17.405704422315058,350279.90701999998,4.1829413113047442,646561.23773000005,2.004688372553165,54.175828456681266,53.0431223143921]
[15,"Allianz México",1066357.2207899999,-57.261620861091565,7037.6299700000018,21.375512673304094,52.82112496895828,191217.56341999999,8.3561481875612955,404862.19445999997,1.1506416087557758,47.230283794475682,44.089547193070608]
[15.1,"TOTAL MEDIANAS",31825515.767409999,18.25316892458979,24422.723680000003,37.073892252140453,39.23333175357471,23400393.50262,34.81966543710795,39934553.027090006,8.0266122785091163,58.596858431709776,46.951756526156721]
[16,"Afirme",2306873.5746399988,-30.260106099987294,115.90558999999999,58.182044104522824,88.752878037832431,1783108.95799,-11.26281761774688,2166711.5934000001,-1.3349590534366573,82.295630088541159,91.502811949019389]
[17,"Zurich Santander",218245.32715999999,-0.2213642988690423,0,7.4760091157943371,7.850759507514149,197941.58652000001,-4.5149380948790725,2119784.7195600001,3.628438106151477,9.3378155193554928,10.134184534076269]
[18,"FM Global",396493.06121999992,57.092854625885003,0,13.902601365703942,9.2772673722162047,-2829.2853500000001,-239.6640323408148,-8212.4455699999999,44.988336831375598,34.451191498125205,-35.764547775502521]
[19,"Seguros SURA",784742.34109000035,0,2448.7326499999995,28.67298166391728,0,1045312.2522699999,-2.6780836376690154,1648897.30106,-30.856885533216129,63.394624492260185,45.039205367966936]
[20,"ANA",1753553.625,18.994782877464079,22014.207969999999,73.289455738501971,66.426165645433571,1358888.1331300002,20.058752042887985,1851649.9671800002,7.8917428311233273,73.387959777275853,65.950667889352871]
[21,"Seguros Azteca Daños",683175.58984999999,32.882941038156723,1.83E-3,41.12556208758614,21.845531100228047,93505.801480000009,0.48060218205820959,260859.84722999998,-6.7523294554221458,35.845225883903851,33.264965985793765]
[22,"Cardif Seguros Generales",127678.02440000001,-5.3137312772270633,0,7.7090106534852705,9.3829218615911572,78941.034879999992,-57.000633494051826,1102610.9703199998,-13.096602886166353,7.1594639455736342,14.469555924696989]
[23,"HDI Global Seguros",433804.21594000002,111.23406745918717,0,27.6411954659727,22.393412931328026,5156.8687499999996,-937.0534763202711,-5077.3212800000001,-12.263971862449841,-101.56672122194324,10.645748405634238]
[24,"General de Seguros",1054668.4041499998,-4.9542151341319896,467.3105599999999,69.484178555301511,78.824715014724589,923274.54299999995,-5.0793262728430433,1240270.8830200001,13.569371282299269,74.441362418496098,89.066568907502443]
[25,"El Potosí",593120.95592999994,-29.150669793571105,0,46.376197069526611,66.946148685836761,581573.08955999999,-17.217013673508173,967536.39142,0.84714989054903711,60.108652730514578,73.225025825062531]
[26,"El Águila",647739.0533400001,51.121662323377606,0,53.413799175648421,43.755124495947776,440501.25144999998,28.286930226198947,886067.65182999999,18.579705408221425,49.71417820526802,45.952402133234614]
[27,"Primero Seguros",458116.53864999977,16.3385636679245,0,44.03825220969189,56.132278361807607,376540.18747,10.725821243047417,651225.93302999996,21.515725469100655,57.820207760776313,63.454616221833007]
[28,"Ve Por Más",218439.17236000003,-9.5710873016217395,0,28.098337827953447,54.40238824235314,138650.00336,50.605425933293915,220838.45390999998,22.427647958074569,62.783451389541568,51.036874911240936]
[29,"Tokio Marine",251426.22120000003,-37.572134102052303,378.06522000000001,35.176060258442227,38.440628764776164,48726.834049999998,-29.066257325466772,123551.70473,8.8620468772282468,39.438414999197072,60.526153287941177]
[30,"Swiss Re Corporate Solutions",76226.916000000027,52.235842422071869,765.66129000000001,11.639040843738497,11.366072227944738,-855.1327,-123.7532024035366,-3960.6714900000002,-11.784829170148814,21.590599022389508,-80.183646344685314]
[31,"Atradius",218272.81514999998,117.41127204506037,12336.25758,35.82291668086561,15.248312178667236,76366.585769999991,90.481099110543056,146974.75581999999,-7.9283374372061903,51.958981216833024,25.115089150795445]
[32,"Berkley Seguros",184059.90794,-42.959610615046742,3570.2134499999997,32.260062527144527,72.441861255968647,15221.951499999999,3.0285909189966764,23100.338449999999,40.908544745370065,65.894928478850929,90.122153425890488]
[33,"Sompo Japan",104283.09031,904.4574842540278,2.5688400000000002,19.353548313378838,1.6813944022444591,15751.3987,1189.3015278749044,-5359.6441100000002,-104.73700224601492,-293.88889218616418,1.0797725064821078]
[34,"Solunion Crédito",98226.974509999985,17.666357562330681,517.20686999999998,20.101602446808016,15.338395845382131,12933.10699,40.63544239153218,30215.16894,127.83880229212863,42.803358192972595,69.344296849561744]
[35,"SHF Cred Vivienda",-170063.96534999998,-1812.2781726179892,0,-44.319550839398843,3.4993799728820845,-159400.67991000001,-3273.6514985825879,369401.65006000001,31.078639689074052,-43.151047074129032,1.7822311473588672]
[36,"La Latinoamericana",210900.37404999998,-13.668275839802968,1091.12769,55.499648736622497,66.460676674761586,92178.480719999992,-11.08357521622435,186555.41552000001,8.120713818986335,49.410777201543013,60.082583328929871]
[37,"Coface",45837.32632,44.585551273579348,438.96096,14.664077779131929,10.204448984262642,10496.21925,-32.417550672107154,55476.768369999998,3.6049047883122354,18.9200264514254,29.004683295538015]
[38,"Patrimonial Daños",56710.897570000001,88.049470010189907,0,24.528975262581262,16.018312206842783,46108.95377,99.953293085946186,222347.75028000001,20.056618444765096,20.737315179458985,12.451167458387458]
[39,"Assurant Daños",34063.671070000004,-23.229443116436411,-740.39869999999996,17.170340741060716,26.543001522110458,5830.5866900000001,-55.444626836993272,30533.61997,-28.473988054007084,19.095628673340041,30.654757611582177]
[40,"Patrimonial Inbursa",1049.32033,-39.870705439456025,0,0.71404067940555138,1.2222182422053867,1024.2477699999999,-39.931954324000287,135851.77285000001,7.7078302875927873,0.75394508920462711,1.3518966498798859]
[41,"Virginia Surety",31675.195059999995,60.72506192534857,0,33.698063970122753,25.478593699402687,18977.46629,44.414465792196125,46174.745569999999,42.557944880801642,41.099233045541176,40.570881642703768]
[42,"Genworth Seg. de Crédito",17318.47091,158.17344742224253,0,20.537354550938673,13.483293601631093,13082.063539999999,2973.4676522859763,118421.29392,-2.7064201182404268,11.047053369335453,0.34970511846711078]
[43,"Crabi",41685.980710000003,64.219833196134672,0,68.670353283330741,126.24877438234199,19419.497609999999,183.12720398525232,22077.071889999999,263.08961103007812,87.962288236223145,112.80510163435054]
[44,"SPP Seguros",648.54867999999988,0,0,1.1973326723460138,0,-169.68257999999997,-104.56150043404162,42714.544479999997,310.17487801085144,-0.3972477807399995,35.720934890000741]
[45,"SPT",19594.391730000003,53.216960874818533,0,60.604913740312568,58.660656409897484,19594.391729999999,53.216960874818461,25267.41923,8.301687733334262,77.548053292025898,54.814982649491242]
[46,"Citibanamex Seguros",-1805.2520299999996,-114.75906614198581,0,-22.071295889498067,11.56842220250633,-313.43667999999997,-104.93940413375142,553.65185999999994,984.41093757895806,-56.612594058656285,12428.891125233424]
[47,"Momento Seguros",97.466229999999996,0,0,20.786497036716597,0,94.789289999999994,0,-430.71762999999999,0,-22.007292805729822,0]
[48,"Zurich Daños",0,0,0,0,0,0,-100,0,-100,0,55.341346573232244]
[150.1,"TOTAL RESTO",10896858.23412,3.5188019759457179,43405.821799999998,34.988991925899263,31.171719443303108,7255632.0663099997,-16.109762986783906,14672630.58382,-13.427376162840265,49.450110700061018,51.031275923893936]
[200,"Patria",0,0,0,0,0,2386770.3025799999,13.705982283346273,6002126.9373599999,1.1393148424534871,39.765408620794794,35.370576829592466]
[201.1,"TOTAL",99350019.039810017,14.101401244855726,578494.30484999996,45.608066944991499,47.273708019492112,78342598.055189997,20.555295919790041,123082854.16757998,9.1074637692397875,63.650293605090482,57.606113861969767]

{"sheet":"Cat","index":7,"n_rows":77,"n_cols":20,"rows_kept":77,"cut":false,"hidden":true,"merged":[]}
[null,"ramo"]
[null,"Total General",1,{"$f":"E2&F2&\" \"&B2","v":"10 Total General"},1,0,null,"Automoviles Total",0,null,"Pensiones Total",1,null,"Q4","Cuarto Trimestre",null,null,"Ramo_"]
[null,"Total General Sin Pensiones",2,{"$f":"E3&F3&\" \"&B3","v":"11 Total General Sin Pensiones"},1,1,null,"Automoviles Residentes",0,null,"Pensiones IMSS",1,null,"Q3","Tercer Trimestre",null,null,"10 Total General","10 Total General",0]
[null,"Vida Total",3,"12 Vida Total",1,2,null,"Camiones",0,null,"Pensiones ISSSTE",1,null,"Q2","Segundo Trimestre",null,null,"11 Total General Sin Pensiones","10 Total General",0]
[null,"Vida Individual",4,"13 Vida Individual",1,3,null,"Automoviles Turistas",0,null,null,null,null,"Q1","Primer Trimestre",null,null,"12 Vida Total","12 Vida Total",0]
[null,"Vida Gpo y Col",5,"14 Vida Gpo y Col",1,4,null,"Otros Automoviles y Obligatorios",0,null,null,null,null,null,null,null,null,"13 Vida Individual","12 Vida Total",0]
[null,"Pensiones Total",6,"15 Pensiones Total",1,5,null,"Total General",0,null,null,null,null,null,null,null,null,"14 Vida Gpo y Col","12 Vida Total",0]
[null,"Pensiones IMSS",7,"16 Pensiones IMSS",1,6,null,"Total General Sin Pensiones",0,null,null,null,null,null,null,null,null,"15 Pensiones Total","15 Pensiones Total",0]
[null,"IMSS Incapacidad Permanente RT",null,"17 IMSS Incapacidad Permanente RT",1,7,null,"Vida Total",0,null,null,null,null,null,null,null,null,"16 Pensiones IMSS","15 Pensiones Total",0]
[null,"IMSS Invalidez (invalidez y vida)",null,"18 IMSS Invalidez (invalidez y vida)",1,8,null,"Vida Individual",0,null,null,null,null,null,null,null,null,"17 Pensiones ISSSTE","15 Pensiones Total",0]
[null,"IMSS Jubilacion (retiro, cesantia y vejez)",null,"19 IMSS Jubilacion (retiro, cesantia y vejez)",1,9,null,"Vida Gpo y Col",0,null,null,null,null,null,null,null,null,"18 Accidentes y Enfermedades Total","18 Accidentes y Enfermedades Total",0]
[null,"IMSS Muerte (invalidez y vida)",null,"20 IMSS Muerte (invalidez y vida)",2,0,null,"Pensiones Total",1,null,null,null,null,null,null,null,null,"19 Accidentes Personales","18 Accidentes y Enfermedades Total",0]
[null,"IMSS Muerte (riesgos de trabajo)",null,"21 IMSS Muerte (riesgos de trabajo)",2,1,null,"Pensiones IMSS",1,null,null,null,null,null,null,null,null,"20 AP Individual","18 Accidentes y Enfermedades Total",0]
[null,"Pensiones ISSSTE",8,"22 Pensiones ISSSTE",2,2,null,"Pensiones ISSSTE",1,null,null,null,null,null,null,null,null,"21 AP Gpo y Col","18 Accidentes y Enfermedades Total",0]
[null,"ISSSTE Incapacidad Permanente RT",null,"23 ISSSTE Incapacidad Permanente RT",2,3,null,"Accidentes y Enfermedades Total",0,null,null,null,null,null,null,null,null,"22 Gastos Medicos","18 Accidentes y Enfermedades Total",0]
[null,"ISSSTE Invalidez (invalidez y vida)",null,"24 ISSSTE Invalidez (invalidez y vida)",2,4,null,"Accidentes Personales",0,null,null,null,null,null,null,null,null,"23 GMM. Individual","18 Accidentes y Enfermedades Total",0]
[null,"ISSSTE Jubilacion (retiro, cesantia y vejez)",null,"25 ISSSTE Jubilacion (retiro, cesantia y vejez)",2,5,null,"AP Individual",0,null,null,null,null,null,null,null,null,"24 GMM. Gpo y Col","18 Accidentes y Enfermedades Total",0]
[null,"ISSSTE Muerte (invalidez y vida)",null,"26 ISSSTE Muerte (invalidez y vida)",2,6,null,"AP Gpo y Col",0,null,null,null,null,null,null,null,null,"25 Salud","18 Accidentes y Enfermedades Total",0]
[null,"ISSSTE Muerte (riesgos de trabajo)",null,"27 ISSSTE Muerte (riesgos de trabajo)",2,7,null,"Gastos Medicos",0,null,null,null,null,null,null,null,null,"26 Salud Individual","18 Accidentes y Enfermedades Total",0]
[null,"Accidentes y Enfermedades Total",14,"28 Accidentes y Enfermedades Total",2,8,null,"GMM. Individual",0,null,null,null,null,null,null,null,null,"27 Salud Gpo y Col","18 Accidentes y Enfermedades Total",0]
[null,"Accidentes Personales",15,"29 Accidentes Personales",2,9,null,"GMM. Gpo y Col",0,null,null,null,null,null,null,null,null,"28 Daños Total","28 Daños Total",1]
[null,"AP Individual",16,"30 AP Individual",3,0,null,"Salud",0,null,null,null,null,null,null,null,null,"29 Automoviles Total","29 Automoviles Total",1]
[null,"AP Gpo y Col",17,"31 AP Gpo y Col",3,1,null,"Salud Individual",0,null,null,null,null,null,null,null,null,"30 Automoviles Residentes","29 Automoviles Total",1]
[null,"Gastos Medicos",18,"32 Gastos Medicos",3,2,null,"Salud Gpo y Col",0,null,null,null,null,null,null,null,null,"31 Camiones","29 Automoviles Total",1]
[null,"GMM. Individual",19,"33 GMM. Individual",3,3,null,"Daños Total",0,null,null,null,null,null,null,null,null,"32 Automoviles Turistas","29 Automoviles Total",1]
[null,"GMM. Gpo y Col",20,"34 GMM. Gpo y Col",3,4,null,"Daños Sin Autos Total",0,null,null,null,null,null,null,null,null,"33 Otros Automoviles y Obligatorios","29 Automoviles Total",1]
[null,"Salud",21,"35 Salud",3,5,null,"Responsabilidad Civil y Riesgos Profesionales",0,null,null,null,null,null,null,null,null,"34 Daños Sin Autos Total","28 Daños Total",1]
[null,"Salud Individual",22,"36 Salud Individual",3,6,null,"RC General",0,null,null,null,null,null,null,null,null,"35 Responsabilidad Civil y Riesgos Profesionales","35 Responsabilidad Civil y Riesgos Profesionales",1]
[null,"Salud Gpo y Col",23,"37 Salud Gpo y Col",3,7,null,"RC Aviones y Barcos",0,null,null,null,null,null,null,null,null,"36 RC General","35 Responsabilidad Civil y Riesgos Profesionales",1]
[null,"Daños Total",24,"38 Daños Total",3,8,null,"RC Viajero",0,null,null,null,null,null,null,null,null,"37 RC Aviones y Barcos","35 Responsabilidad Civil y Riesgos Profesionales",1]
[null,"Daños",null,{"$f":"D30","v":"38 Daños Total"},null,null,null,"RC Otros",0,null,null,null,null,null,null,null,null,"38 RC Viajero","35 Responsabilidad Civil y Riesgos Profesionales",1]
[null,"Automoviles Total",25,"39 Automoviles Total",3,9,null,"Maritimo y Transportes",0,null,null,null,null,null,null,null,null,"39 RC Otros","35 Responsabilidad Civil y Riesgos Profesionales",1]
[null,"Automoviles",null,"39 Automoviles Total",3,9,null,"MyT Carga",0,null,null,null,null,null,null,null,null,"40 Maritimo y Transportes","40 Maritimo y Transportes",1]
[null,"Automoviles Residentes",26,"41 Automoviles Residentes",4,1,null,"MyT Cascos",0,null,null,null,null,null,null,null,null,"41 MyT Carga","40 Maritimo y Transportes",1]
[null,"Camiones",27,"42 Camiones",4,2,null,"Incendio",0,null,null,null,null,null,null,null,null,"42 MyT Cascos","40 Maritimo y Transportes",1]
[null,"Automoviles Turistas",28,"43 Automoviles Turistas",4,3,null,"Riesgos Catastroficos",0,null,null,null,null,null,null,null,null,"43 Incendio","43 Incendio",1]
[null,"Otros Automoviles y Obligatorios",29,"44 Otros Automoviles y Obligatorios",4,4,null,"Terremoto y Erupcion Volcanica",0,null,null,null,null,null,null,null,null,"44 Riesgos Catastroficos","44 Riesgos Catastroficos",1]
[null,"Daños Sin Autos Total",30,"45 Daños Sin Autos Total",4,5,null,"Huracan y Otros Riesgos Hidrometeorologicos",0,null,null,null,null,null,null,null,null,"45 Terremoto y Erupcion Volcanica","44 Riesgos Catastroficos",1]
[null,"Daños Sin Autos",null,"46 Daños Sin Autos Total",null,null,null,"Otros Riesgos Catastroficos",0,null,null,null,null,null,null,null,null,"46 Huracan y Otros Riesgos Hidrometeorologicos","44 Riesgos Catastroficos",1]
[null,"Responsabilidad Civil y Riesgos Profesionales",31,"46 Responsabilidad Civil y Riesgos Profesionales",4,6,null,"Agricola y de Animales",0,null,null,null,null,null,null,null,null,"47 Otros Riesgos Catastroficos","44 Riesgos Catastroficos",1]
[null,"RC General",32,"47 RC General",4,7,null,"AyA Agricola",0,null,null,null,null,null,null,null,null,"48 Agricola y de Animales","48 Agricola y de Animales",1]
[null,"RC Aviones y Barcos",33,"48 RC Aviones y Barcos",4,8,null,"AyA Otros",0,null,null,null,null,null,null,null,null,"49 AyA Agricola","48 Agricola y de Animales",1]
[null,"RC Viajero",34,"49 RC Viajero",4,9,null,"AyA Pecuario",0,null,null,null,null,null,null,null,null,"50 AyA Otros","48 Agricola y de Animales",1]
[null,"RC Otros",35,"50 RC Otros",5,0,null,"Diversos",0,null,null,null,null,null,null,null,null,"51 AyA Pecuario","48 Agricola y de Animales",1]
[null,"Maritimo y Transportes",36,"51 Maritimo y Transportes",5,1,null,"Miscelaneos",0,null,null,null,null,null,null,null,null,"52 Diversos","52 Diversos",1]
[null,"MyT Carga",37,"52 MyT Carga",5,2,null,"Tecnicos",0,null,null,null,null,null,null,null,null,"53 Miscelaneos","52 Diversos",1]
[null,"MyT Cascos",38,"53 MyT Cascos",5,3,null,"Credito",0,null,null,null,null,null,null,null,null,"54 Tecnicos","52 Diversos",1]
[null,"Incendio",39,"54 Incendio",5,4,null,"Credito a la Vivienda",0,null,null,null,null,null,null,null,null,"55 Credito","52 Diversos",1]
[null,"Riesgos Catastroficos",40,"55 Riesgos Catastroficos",5,5,null,null,null,null,null,null,null,null,null,null,null,"56 Credito a la Vivienda","52 Diversos",1]
[null,"Terremoto y Erupcion Volcanica",41,"56 Terremoto y Erupcion Volcanica",5,6]
[null,"Huracan y Otros Riesgos Hidrometeorologicos",42,"57 Huracan y Otros Riesgos Hidrometeorologicos",5,7]
[null,"Otros Riesgos Catastroficos",43,"58 Otros Riesgos Catastroficos",5,8]
[null,"Agricola y de Animales",44,"59 Agricola y de Animales",5,9]
[null,"AyA Agricola",45,"60 AyA Agricola",6,0]
[null,"AyA Otros",46,"61 AyA Otros",6,1]
[null,"AyA Pecuario",47,"62 AyA Pecuario",6,2]
[null,"Diversos",48,"63 Diversos",6,3]
[null,"Miscelaneos",49,"64 Miscelaneos",6,4]
[null,"Tecnicos",50,"65 Tecnicos",6,5]
[null,"Credito",51,"66 Credito",6,6]
[null,"Credito a la Vivienda",52,"67 Credito a la Vivienda",6,7]
[]
[]
[null,"Automoviles"]
[null,"Daños",null,{"$f":"E65&F65&\" \"&B65","v":" Daños"}]
[null,"Daños Sin Autos"]
[null,"IMSS Incapacidad Permanente RT",null,{"$f":"E67&F67&\" \"&B67","v":" IMSS Incapacidad Permanente RT"}]
[null,"IMSS Invalidez (invalidez y vida)",null,{"$f":"E68&F68&\" \"&B68","v":" IMSS Invalidez (invalidez y vida)"}]
[null,"IMSS Jubilacion (retiro, cesantia y vejez)"]
[null,"IMSS Muerte (invalidez y vida)",null,{"$f":"E70&F70&\" \"&B70","v":" IMSS Muerte (invalidez y vida)"}]
[null,"IMSS Muerte (riesgos de trabajo)",null,{"$f":"E71&F71&\" \"&B71","v":" IMSS Muerte (riesgos de trabajo)"}]
[null,"ISSSTE Incapacidad Permanente RT"]
[null,"ISSSTE Invalidez (invalidez y vida)",null,{"$f":"E73&F73&\" \"&B73","v":" ISSSTE Invalidez (invalidez y vida)"}]
[null,"ISSSTE Jubilacion (retiro, cesantia y vejez)",null,{"$f":"E74&F74&\" \"&B74","v":" ISSSTE Jubilacion (retiro, cesantia y vejez)"}]
[null,"ISSSTE Muerte (invalidez y vida)",null,{"$f":"E75&F75&\" \"&B75","v":" ISSSTE Muerte (invalidez y vida)"}]
[null,"ISSSTE Muerte (riesgos de trabajo)",null,{"$f":"E76&F76&\" \"&B76","v":" ISSSTE Muerte (riesgos de trabajo)"}]
[null,null,null," "]

{"sheet":"Inicio","index":8,"n_rows":37,"n_cols":10,"rows_kept":37,"cut":false,"hidden":false,"merged":[[5,3,8,9],[13,1,14,4],[13,6,14,9],[12,1,12,9],[21,1,22,9]]}
[]
[]
[]
[null,null,null,null,null,null,null,null,null,"EstadisticAMIS Informe"]
[]
[null,null,null,"Con la finalidad de atender la solicitud de información, presentamos esta publicación comparando los datosprimas del periodo actual vs el mismo periodo del año anterior."]
[]
[]
[]
[null,null,null,null,null,null,null,null,"Periodo:","2023-Q3"]
[null,null,null,null,null,null,null,null,"Fecha de actualización:","2023-11-15"]
[null,null,null,null,null,null,null,null,"Porcentaje de Participación:",0.99980000000000002]
[]
[null,"ANÁLISIS DE PRIMAS DIRECTAS",null,null,null,null,"ANÁLISIS DE SINIESTROS"]
[]
[]
[]
[]
[]
[null,"NOTAS DE ACTUALIZACIÓN"]
[null,"*Se adiciono la información de la compañía Patrimonial Daños"]
[null,"*No se incluye la información de Agroasemex ni de Protección Agropecuaria en virtud de que a la fecha de esta publicación, no se recibió su información."]
[]
[]
[null,"DEFINICIÓN DE TÉRMINOS"]
[]
[null,"Participación de mercado"]
[null,"Porcentaje que representa la participación de las compañías sobre el total del ramo o subramo que se está consultando."]
[]
[null,"Participación por operación"]
[null,"Porcentaje que representa la participación del subramo sobre el ramo de la compañía."]
[]
[null,"Participación por cartera"]
[null,"Porcentaje que representa la participación del ramo o subramos sobre el total general sin pensiones de la compañía."]
[]
[null,"Participación por sector"]
[null,"Porcentaje que representa la participación de la compañía del ramo o subramo(s) sobre la suma del total general sin pensiones."]

{"sheet":"Primas Directas","index":9,"n_rows":129,"n_cols":12,"rows_kept":129,"cut":false,"hidden":false,"merged":[[5,7,6,7],[5,8,6,8],[1,1,1,11],[4,3,4,4],[4,5,4,6],[4,7,4,8],[4,9,4,11]]}
[null,"PRIMAS DIRECTAS",null,null,null,null,null,null,null,null,null,{"$f":"VLOOKUP(RIGHT(TDPrimas_!B3,2),Cat!$N$2:$O$5,2,0)&\" \"&LEFT(TDPrimas_!B3,4)","v":"Tercer Trimestre 2023"}]
[null,{"$f":"UPPER(RIGHT(TDPrimas_!$B$4,LEN(TDPrimas_!$B$4)-3))","v":"TOTAL GENERAL"}]
[null,null,null,null,null,null,null,null,null,null,null,"Cifras en miles"]
[null,null,null,2,3,4,5,6,7,8,9,10]
[null,null,null,"Primas Directas",null,"% Part. en Merc. ",null,"Incremento",null,"% de Cartera"]
[null,"Compañías",null,{"$f":"LEFT(TDPrimas_!B3,4)","v":"2023"},{"$f":"D6-1","v":2022},{"$f":"D6","v":"2023"},{"$f":"E6","v":2022},"Importe","%","Por ","Total","Total"]
[null,null,null,"Importe","Importe",{"$f":"RIGHT(TDPrimas_!B3,2)","v":"Q3"},{"$f":"RIGHT(TDPrimas_!B3,2)","v":"Q3"},null,null,"Operación","Cartera","Sector"]
[null,null,"TOTAL",{"$f":"VLOOKUP($C$8,$C$9:$L$125,D$4,0)","v":587475647.83713007},{"$f":"VLOOKUP($C$8,$C$9:$L$125,E$4,0)","v":514035321.16869003},100,100,73440326.668440044,14.287019518711098,100,100,100]
[null,{"$f":"IF(TDPrimas_!A7=\"\",\"\",TDPrimas_!A7)","v":1},{"$f":"IF(TDPrimas_!B7=\"\",\"\",TDPrimas_!B7)","v":"G.N.P."},{"$f":"IF(TDPrimas_!C7=\"\",\"\",TDPrimas_!C7)","v":73374373.455160007},{"$f":"IF(TDPrimas_!D7=\"\",\"\",TDPrimas_!D7)","v":64173691.334030002},{"$f":"IF(TDPrimas_!E7=\"\",\"\",TDPrimas_!E7)","v":12.489772763398371},{"$f":"IF(TDPrimas_!F7=\"\",\"\",TDPrimas_!F7)","v":12.48429605734627},{"$f":"IF(TDPrimas_!G7=\"\",\"\",TDPrimas_!G7)","v":9200682.1211300045},{"$f":"IF(TDPrimas_!H7=\"\",\"\",TDPrimas_!H7)","v":14.337155818635395},{"$f":"IF(TDPrimas_!I7=\"\",\"\",TDPrimas_!I7)","v":100},{"$f":"IF(TDPrimas_!J7=\"\",\"\",TDPrimas_!J7)","v":100},{"$f":"IF(TDPrimas_!K7=\"\",\"\",TDPrimas_!K7)","v":12.489772763398371}]
[null,{"$f":"IF(TDPrimas_!A8=\"\",\"\",TDPrimas_!A8)","v":2},{"$f":"IF(TDPrimas_!B8=\"\",\"\",TDPrimas_!B8)","v":"Metlife México"},{"$f":"IF(TDPrimas_!C8=\"\",\"\",TDPrimas_!C8)","v":58609536.351640001},{"$f":"IF(TDPrimas_!D8=\"\",\"\",TDPrimas_!D8)","v":54187451.5788},{"$f":"IF(TDPrimas_!E8=\"\",\"\",TDPrimas_!E8)","v":9.9765048249095649},{"$f":"IF(TDPrimas_!F8=\"\",\"\",TDPrimas_!F8)","v":10.541581355849553},{"$f":"IF(TDPrimas_!G8=\"\",\"\",TDPrimas_!G8)","v":4422084.7728400007},{"$f":"IF(TDPrimas_!H8=\"\",\"\",TDPrimas_!H8)","v":8.160717369056103},{"$f":"IF(TDPrimas_!I8=\"\",\"\",TDPrimas_!I8)","v":100},{"$f":"IF(TDPrimas_!J8=\"\",\"\",TDPrimas_!J8)","v":100},{"$f":"IF(TDPrimas_!K8=\"\",\"\",TDPrimas_!K8)","v":9.9765048249095649}]
[null,{"$f":"IF(TDPrimas_!A9=\"\",\"\",TDPrimas_!A9)","v":3},{"$f":"IF(TDPrimas_!B9=\"\",\"\",TDPrimas_!B9)","v":"BBVA Bancomer"},{"$f":"IF(TDPrimas_!C9=\"\",\"\",TDPrimas_!C9)","v":52224009.604280002},{"$f":"IF(TDPrimas_!D9=\"\",\"\",TDPrimas_!D9)","v":43568790.652489997},{"$f":"IF(TDPrimas_!E9=\"\",\"\",TDPrimas_!E9)","v":8.8895616008169274},{"$f":"IF(TDPrimas_!F9=\"\",\"\",TDPrimas_!F9)","v":8.4758359704608921},{"$f":"IF(TDPrimas_!G9=\"\",\"\",TDPrimas_!G9)","v":8655218.951790005},{"$f":"IF(TDPrimas_!H9=\"\",\"\",TDPrimas_!H9)","v":19.865639652073639},{"$f":"IF(TDPrimas_!I9=\"\",\"\",TDPrimas_!I9)","v":100},{"$f":"IF(TDPrimas_!J9=\"\",\"\",TDPrimas_!J9)","v":100},{"$f":"IF(TDPrimas_!K9=\"\",\"\",TDPrimas_!K9)","v":8.8895616008169274}]
[null,{"$f":"IF(TDPrimas_!A10=\"\",\"\",TDPrimas_!A10)","v":4},{"$f":"IF(TDPrimas_!B10=\"\",\"\",TDPrimas_!B10)","v":"AXA Seguros"},{"$f":"IF(TDPrimas_!C10=\"\",\"\",TDPrimas_!C10)","v":41806699.471960001},{"$f":"IF(TDPrimas_!D10=\"\",\"\",TDPrimas_!D10)","v":36252985.887170002},{"$f":"IF(TDPrimas_!E10=\"\",\"\",TDPrimas_!E10)","v":7.1163289279950481},{"$f":"IF(TDPrimas_!F10=\"\",\"\",TDPrimas_!F10)","v":7.0526254508633128},{"$f":"IF(TDPrimas_!G10=\"\",\"\",TDPrimas_!G10)","v":5553713.5847899988},{"$f":"IF(TDPrimas_!H10=\"\",\"\",TDPrimas_!H10)","v":15.319327357130796},{"$f":"IF(TDPrimas_!I10=\"\",\"\",TDPrimas_!I10)","v":100},{"$f":"IF(TDPrimas_!J10=\"\",\"\",TDPrimas_!J10)","v":100},{"$f":"IF(TDPrimas_!K10=\"\",\"\",TDPrimas_!K10)","v":7.1163289279950481}]
[null,{"$f":"IF(TDPrimas_!A11=\"\",\"\",TDPrimas_!A11)","v":5},{"$f":"IF(TDPrimas_!B11=\"\",\"\",TDPrimas_!B11)","v":"Quálitas"},{"$f":"IF(TDPrimas_!C11=\"\",\"\",TDPrimas_!C11)","v":34917926.445830002},{"$f":"IF(TDPrimas_!D11=\"\",\"\",TDPrimas_!D11)","v":26956119.399939999},{"$f":"IF(TDPrimas_!E11=\"\",\"\",TDPrimas_!E11)","v":5.9437232120829186},{"$f":"IF(TDPrimas_!F11=\"\",\"\",TDPrimas_!F11)","v":5.2440208463989695},{"$f":"IF(TDPrimas_!G11=\"\",\"\",TDPrimas_!G11)","v":7961807.0458900034},{"$f":"IF(TDPrimas_!H11=\"\",\"\",TDPrimas_!H11)","v":29.53617665719246},{"$f":"IF(TDPrimas_!I11=\"\",\"\",TDPrimas_!I11)","v":100},{"$f":"IF(TDPrimas_!J11=\"\",\"\",TDPrimas_!J11)","v":100},{"$f":"IF(TDPrimas_!K11=\"\",\"\",TDPrimas_!K11)","v":5.9437232120829186}]
[null,{"$f":"IF(TDPrimas_!A12=\"\",\"\",TDPrimas_!A12)","v":5.0999999999999996},{"$f":"IF(TDPrimas_!B12=\"\",\"\",TDPrimas_!B12)","v":"TOTAL GRANDES"},{"$f":"IF(TDPrimas_!C12=\"\",\"\",TDPrimas_!C12)","v":260932545.32887},{"$f":"IF(TDPrimas_!D12=\"\",\"\",TDPrimas_!D12)","v":225139038.85243002},{"$f":"IF(TDPrimas_!E12=\"\",\"\",TDPrimas_!E12)","v":44.415891329202829},{"$f":"IF(TDPrimas_!F12=\"\",\"\",TDPrimas_!F12)","v":43.798359680918999},{"$f":"IF(TDPrimas_!G12=\"\",\"\",TDPrimas_!G12)","v":35793506.476439983},{"$f":"IF(TDPrimas_!H12=\"\",\"\",TDPrimas_!H12)","v":15.89840067670416},{"$f":"IF(TDPrimas_!I12=\"\",\"\",TDPrimas_!I12)","v":100},{"$f":"IF(TDPrimas_!J12=\"\",\"\",TDPrimas_!J12)","v":100},{"$f":"IF(TDPrimas_!K12=\"\",\"\",TDPrimas_!K12)","v":44.415891329202829}]
[null,{"$f":"IF(TDPrimas_!A13=\"\",\"\",TDPrimas_!A13)","v":6},{"$f":"IF(TDPrimas_!B13=\"\",\"\",TDPrimas_!B13)","v":"Banorte"},{"$f":"IF(TDPrimas_!C13=\"\",\"\",TDPrimas_!C13)","v":28721849.16367},{"$f":"IF(TDPrimas_!D13=\"\",\"\",TDPrimas_!D13)","v":23159092.691160001},{"$f":"IF(TDPrimas_!E13=\"\",\"\",TDPrimas_!E13)","v":4.8890280421687802},{"$f":"IF(TDPrimas_!F13=\"\",\"\",TDPrimas_!F13)","v":4.5053504569503939},{"$f":"IF(TDPrimas_!G13=\"\",\"\",TDPrimas_!G13)","v":5562756.4725099988},{"$f":"IF(TDPrimas_!H13=\"\",\"\",TDPrimas_!H13)","v":24.01975132054006},{"$f":"IF(TDPrimas_!I13=\"\",\"\",TDPrimas_!I13)","v":100},{"$f":"IF(TDPrimas_!J13=\"\",\"\",TDPrimas_!J13)","v":100},{"$f":"IF(TDPrimas_!K13=\"\",\"\",TDPrimas_!K13)","v":4.8890280421687802}]
[null,{"$f":"IF(TDPrimas_!A14=\"\",\"\",TDPrimas_!A14)","v":7},{"$f":"IF(TDPrimas_!B14=\"\",\"\",TDPrimas_!B14)","v":"Monterrey New York Life"},{"$f":"IF(TDPrimas_!C14=\"\",\"\",TDPrimas_!C14)","v":28072029.511569999},{"$f":"IF(TDPrimas_!D14=\"\",\"\",TDPrimas_!D14)","v":27266941.534120001},{"$f":"IF(TDPrimas_!E14=\"\",\"\",TDPrimas_!E14)","v":4.7784158568820549},{"$f":"IF(TDPrimas_!F14=\"\",\"\",TDPrimas_!F14)","v":5.3044879235393747},{"$f":"IF(TDPrimas_!G14=\"\",\"\",TDPrimas_!G14)","v":805087.97744999826},{"$f":"IF(TDPrimas_!H14=\"\",\"\",TDPrimas_!H14)","v":2.9526156295988093},{"$f":"IF(TDPrimas_!I14=\"\",\"\",TDPrimas_!I14)","v":100},{"$f":"IF(TDPrimas_!J14=\"\",\"\",TDPrimas_!J14)","v":100},{"$f":"IF(TDPrimas_!K14=\"\",\"\",TDPrimas_!K14)","v":4.7784158568820549}]
[null,{"$f":"IF(TDPrimas_!A15=\"\",\"\",TDPrimas_!A15)","v":8},{"$f":"IF(TDPrimas_!B15=\"\",\"\",TDPrimas_!B15)","v":"Citibanamex Seguros"},{"$f":"IF(TDPrimas_!C15=\"\",\"\",TDPrimas_!C15)","v":24659912.83171},{"$f":"IF(TDPrimas_!D15=\"\",\"\",TDPrimas_!D15)","v":12807317.37809},{"$f":"IF(TDPrimas_!E15=\"\",\"\",TDPrimas_!E15)","v":4.1976059641788996},{"$f":"IF(TDPrimas_!F15=\"\",\"\",TDPrimas_!F15)","v":2.4915247747901446},{"$f":"IF(TDPrimas_!G15=\"\",\"\",TDPrimas_!G15)","v":11852595.45362},{"$f":"IF(TDPrimas_!H15=\"\",\"\",TDPrimas_!H15)","v":92.545496482321269},{"$f":"IF(TDPrimas_!I15=\"\",\"\",TDPrimas_!I15)","v":100},{"$f":"IF(TDPrimas_!J15=\"\",\"\",TDPrimas_!J15)","v":100},{"$f":"IF(TDPrimas_!K15=\"\",\"\",TDPrimas_!K15)","v":4.1976059641788996}]
[null,{"$f":"IF(TDPrimas_!A16=\"\",\"\",TDPrimas_!A16)","v":9},{"$f":"IF(TDPrimas_!B16=\"\",\"\",TDPrimas_!B16)","v":"Mapfre México"},{"$f":"IF(TDPrimas_!C16=\"\",\"\",TDPrimas_!C16)","v":22376637.893310003},{"$f":"IF(TDPrimas_!D16=\"\",\"\",TDPrimas_!D16)","v":17630605.921519998},{"$f":"IF(TDPrimas_!E16=\"\",\"\",TDPrimas_!E16)","v":3.8089473113809191},{"$f":"IF(TDPrimas_!F16=\"\",\"\",TDPrimas_!F16)","v":3.4298432803091741},{"$f":"IF(TDPrimas_!G16=\"\",\"\",TDPrimas_!G16)","v":4746031.9717900045},{"$f":"IF(TDPrimas_!H16=\"\",\"\",TDPrimas_!H16)","v":26.919278854715788},{"$f":"IF(TDPrimas_!I16=\"\",\"\",TDPrimas_!I16)","v":100},{"$f":"IF(TDPrimas_!J16=\"\",\"\",TDPrimas_!J16)","v":100},{"$f":"IF(TDPrimas_!K16=\"\",\"\",TDPrimas_!K16)","v":3.8089473113809191}]
[null,{"$f":"IF(TDPrimas_!A17=\"\",\"\",TDPrimas_!A17)","v":10},{"$f":"IF(TDPrimas_!B17=\"\",\"\",TDPrimas_!B17)","v":"Inbursa"},{"$f":"IF(TDPrimas_!C17=\"\",\"\",TDPrimas_!C17)","v":20930115.52899},{"$f":"IF(TDPrimas_!D17=\"\",\"\",TDPrimas_!D17)","v":18372239.078710001},{"$f":"IF(TDPrimas_!E17=\"\",\"\",TDPrimas_!E17)","v":3.5627205325100726},{"$f":"IF(TDPrimas_!F17=\"\",\"\",TDPrimas_!F17)","v":3.5741199723278974},{"$f":"IF(TDPrimas_!G17=\"\",\"\",TDPrimas_!G17)","v":2557876.4502799995},{"$f":"IF(TDPrimas_!H17=\"\",\"\",TDPrimas_!H17)","v":13.922507971519394},{"$f":"IF(TDPrimas_!I17=\"\",\"\",TDPrimas_!I17)","v":100},{"$f":"IF(TDPrimas_!J17=\"\",\"\",TDPrimas_!J17)","v":100},{"$f":"IF(TDPrimas_!K17=\"\",\"\",TDPrimas_!K17)","v":3.5627205325100726}]
[null,{"$f":"IF(TDPrimas_!A18=\"\",\"\",TDPrimas_!A18)","v":11},{"$f":"IF(TDPrimas_!B18=\"\",\"\",TDPrimas_!B18)","v":"Chubb Seguros México"},{"$f":"IF(TDPrimas_!C18=\"\",\"\",TDPrimas_!C18)","v":17720859.139090002},{"$f":"IF(TDPrimas_!D18=\"\",\"\",TDPrimas_!D18)","v":16513848.83165},{"$f":"IF(TDPrimas_!E18=\"\",\"\",TDPrimas_!E18)","v":3.0164414821842755},{"$f":"IF(TDPrimas_!F18=\"\",\"\",TDPrimas_!F18)","v":3.2125902932321417},{"$f":"IF(TDPrimas_!G18=\"\",\"\",TDPrimas_!G18)","v":1207010.3074400015},{"$f":"IF(TDPrimas_!H18=\"\",\"\",TDPrimas_!H18)","v":7.3090793051628244},{"$f":"IF(TDPrimas_!I18=\"\",\"\",TDPrimas_!I18)","v":100},{"$f":"IF(TDPrimas_!J18=\"\",\"\",TDPrimas_!J18)","v":100},{"$f":"IF(TDPrimas_!K18=\"\",\"\",TDPrimas_!K18)","v":3.0164414821842755}]
[null,{"$f":"IF(TDPrimas_!A19=\"\",\"\",TDPrimas_!A19)","v":12},{"$f":"IF(TDPrimas_!B19=\"\",\"\",TDPrimas_!B19)","v":"Zurich Santander"},{"$f":"IF(TDPrimas_!C19=\"\",\"\",TDPrimas_!C19)","v":15536856.45108},{"$f":"IF(TDPrimas_!D19=\"\",\"\",TDPrimas_!D19)","v":11004873.65721},{"$f":"IF(TDPrimas_!E19=\"\",\"\",TDPrimas_!E19)","v":2.6446809341427189},{"$f":"IF(TDPrimas_!F19=\"\",\"\",TDPrimas_!F19)","v":2.1408788859469348},{"$f":"IF(TDPrimas_!G19=\"\",\"\",TDPrimas_!G19)","v":4531982.7938700002},{"$f":"IF(TDPrimas_!H19=\"\",\"\",TDPrimas_!H19)","v":41.181597672416778},{"$f":"IF(TDPrimas_!I19=\"\",\"\",TDPrimas_!I19)","v":100},{"$f":"IF(TDPrimas_!J19=\"\",\"\",TDPrimas_!J19)","v":100},{"$f":"IF(TDPrimas_!K19=\"\",\"\",TDPrimas_!K19)","v":2.6446809341427189}]
[null,{"$f":"IF(TDPrimas_!A20=\"\",\"\",TDPrimas_!A20)","v":13},{"$f":"IF(TDPrimas_!B20=\"\",\"\",TDPrimas_!B20)","v":"Atlas"},{"$f":"IF(TDPrimas_!C20=\"\",\"\",TDPrimas_!C20)","v":15095885.725},{"$f":"IF(TDPrimas_!D20=\"\",\"\",TDPrimas_!D20)","v":13447900.97773},{"$f":"IF(TDPrimas_!E20=\"\",\"\",TDPrimas_!E20)","v":2.5696189757954251},{"$f":"IF(TDPrimas_!F20=\"\",\"\",TDPrimas_!F20)","v":2.6161433706842154},{"$f":"IF(TDPrimas_!G20=\"\",\"\",TDPrimas_!G20)","v":1647984.7472699992},{"$f":"IF(TDPrimas_!H20=\"\",\"\",TDPrimas_!H20)","v":12.254587165678089},{"$f":"IF(TDPrimas_!I20=\"\",\"\",TDPrimas_!I20)","v":100},{"$f":"IF(TDPrimas_!J20=\"\",\"\",TDPrimas_!J20)","v":100},{"$f":"IF(TDPrimas_!K20=\"\",\"\",TDPrimas_!K20)","v":2.5696189757954251}]
[null,{"$f":"IF(TDPrimas_!A21=\"\",\"\",TDPrimas_!A21)","v":14},{"$f":"IF(TDPrimas_!B21=\"\",\"\",TDPrimas_!B21)","v":"Allianz México"},{"$f":"IF(TDPrimas_!C21=\"\",\"\",TDPrimas_!C21)","v":15031312.08585},{"$f":"IF(TDPrimas_!D21=\"\",\"\",TDPrimas_!D21)","v":14258839.23074},{"$f":"IF(TDPrimas_!E21=\"\",\"\",TDPrimas_!E21)","v":2.5586272624558615},{"$f":"IF(TDPrimas_!F21=\"\",\"\",TDPrimas_!F21)","v":2.7739026178826927},{"$f":"IF(TDPrimas_!G21=\"\",\"\",TDPrimas_!G21)","v":772472.85511000082},{"$f":"IF(TDPrimas_!H21=\"\",\"\",TDPrimas_!H21)","v":5.4175016816562449},{"$f":"IF(TDPrimas_!I21=\"\",\"\",TDPrimas_!I21)","v":100},{"$f":"IF(TDPrimas_!J21=\"\",\"\",TDPrimas_!J21)","v":100},{"$f":"IF(TDPrimas_!K21=\"\",\"\",TDPrimas_!K21)","v":2.5586272624558615}]
[null,{"$f":"IF(TDPrimas_!A22=\"\",\"\",TDPrimas_!A22)","v":15},{"$f":"IF(TDPrimas_!B22=\"\",\"\",TDPrimas_!B22)","v":"Pensiones Banorte"},{"$f":"IF(TDPrimas_!C22=\"\",\"\",TDPrimas_!C22)","v":12749688.19545},{"$f":"IF(TDPrimas_!D22=\"\",\"\",TDPrimas_!D22)","v":15140589.78702},{"$f":"IF(TDPrimas_!E22=\"\",\"\",TDPrimas_!E22)","v":2.1702496507539806},{"$f":"IF(TDPrimas_!F22=\"\",\"\",TDPrimas_!F22)","v":2.9454376311333945},{"$f":"IF(TDPrimas_!G22=\"\",\"\",TDPrimas_!G22)","v":-2390901.5915699992},{"$f":"IF(TDPrimas_!H22=\"\",\"\",TDPrimas_!H22)","v":-15.791337227957358},{"$f":"IF(TDPrimas_!I22=\"\",\"\",TDPrimas_!I22)","v":100},{"$f":"IF(TDPrimas_!J22=\"\",\"\",TDPrimas_!J22)","v":100},{"$f":"IF(TDPrimas_!K22=\"\",\"\",TDPrimas_!K22)","v":2.1702496507539806}]
[null,{"$f":"IF(TDPrimas_!A23=\"\",\"\",TDPrimas_!A23)","v":15.1},{"$f":"IF(TDPrimas_!B23=\"\",\"\",TDPrimas_!B23)","v":"TOTAL MEDIANAS"},{"$f":"IF(TDPrimas_!C23=\"\",\"\",TDPrimas_!C23)","v":200895146.52572},{"$f":"IF(TDPrimas_!D23=\"\",\"\",TDPrimas_!D23)","v":169602249.08794999},{"$f":"IF(TDPrimas_!E23=\"\",\"\",TDPrimas_!E23)","v":34.196336012452988},{"$f":"IF(TDPrimas_!F23=\"\",\"\",TDPrimas_!F23)","v":32.994279206796364},{"$f":"IF(TDPrimas_!G23=\"\",\"\",TDPrimas_!G23)","v":31292897.437770009},{"$f":"IF(TDPrimas_!H23=\"\",\"\",TDPrimas_!H23)","v":18.450756169832736},{"$f":"IF(TDPrimas_!I23=\"\",\"\",TDPrimas_!I23)","v":100},{"$f":"IF(TDPrimas_!J23=\"\",\"\",TDPrimas_!J23)","v":100},{"$f":"IF(TDPrimas_!K23=\"\",\"\",TDPrimas_!K23)","v":34.196336012452988}]
[null,{"$f":"IF(TDPrimas_!A24=\"\",\"\",TDPrimas_!A24)","v":16},{"$f":"IF(TDPrimas_!B24=\"\",\"\",TDPrimas_!B24)","v":"Pensiones BBVA Bancomer"},{"$f":"IF(TDPrimas_!C24=\"\",\"\",TDPrimas_!C24)","v":10006895.612370001},{"$f":"IF(TDPrimas_!D24=\"\",\"\",TDPrimas_!D24)","v":9346393.5645799991},{"$f":"IF(TDPrimas_!E24=\"\",\"\",TDPrimas_!E24)","v":1.7033719864324115},{"$f":"IF(TDPrimas_!F24=\"\",\"\",TDPrimas_!F24)","v":1.8182395605287232},{"$f":"IF(TDPrimas_!G24=\"\",\"\",TDPrimas_!G24)","v":660502.04779000208},{"$f":"IF(TDPrimas_!H24=\"\",\"\",TDPrimas_!H24)","v":7.0669188412213257},{"$f":"IF(TDPrimas_!I24=\"\",\"\",TDPrimas_!I24)","v":100},{"$f":"IF(TDPrimas_!J24=\"\",\"\",TDPrimas_!J24)","v":100},{"$f":"IF(TDPrimas_!K24=\"\",\"\",TDPrimas_!K24)","v":1.7033719864324115}]
[null,{"$f":"IF(TDPrimas_!A25=\"\",\"\",TDPrimas_!A25)","v":17},{"$f":"IF(TDPrimas_!B25=\"\",\"\",TDPrimas_!B25)","v":"GMX Seguros"},{"$f":"IF(TDPrimas_!C25=\"\",\"\",TDPrimas_!C25)","v":9804093.92949},{"$f":"IF(TDPrimas_!D25=\"\",\"\",TDPrimas_!D25)","v":10619077.689379999},{"$f":"IF(TDPrimas_!E25=\"\",\"\",TDPrimas_!E25)","v":1.6688511201417591},{"$f":"IF(TDPrimas_!F25=\"\",\"\",TDPrimas_!F25)","v":2.0658264621265503},{"$f":"IF(TDPrimas_!G25=\"\",\"\",TDPrimas_!G25)","v":-814983.7598899994},{"$f":"IF(TDPrimas_!H25=\"\",\"\",TDPrimas_!H25)","v":-7.6747132258487394},{"$f":"IF(TDPrimas_!I25=\"\",\"\",TDPrimas_!I25)","v":100},{"$f":"IF(TDPrimas_!J25=\"\",\"\",TDPrimas_!J25)","v":100},{"$f":"IF(TDPrimas_!K25=\"\",\"\",TDPrimas_!K25)","v":1.6688511201417591}]
[null,{"$f":"IF(TDPrimas_!A26=\"\",\"\",TDPrimas_!A26)","v":18},{"$f":"IF(TDPrimas_!B26=\"\",\"\",TDPrimas_!B26)","v":"HDI Seguros"},{"$f":"IF(TDPrimas_!C26=\"\",\"\",TDPrimas_!C26)","v":8672700.5259799995},{"$f":"IF(TDPrimas_!D26=\"\",\"\",TDPrimas_!D26)","v":6937182.1472500004},{"$f":"IF(TDPrimas_!E26=\"\",\"\",TDPrimas_!E26)","v":1.4762655367775162},{"$f":"IF(TDPrimas_!F26=\"\",\"\",TDPrimas_!F26)","v":1.3495535932196066},{"$f":"IF(TDPrimas_!G26=\"\",\"\",TDPrimas_!G26)","v":1735518.3787299991},{"$f":"IF(TDPrimas_!H26=\"\",\"\",TDPrimas_!H26)","v":25.017627357787966},{"$f":"IF(TDPrimas_!I26=\"\",\"\",TDPrimas_!I26)","v":100},{"$f":"IF(TDPrimas_!J26=\"\",\"\",TDPrimas_!J26)","v":100},{"$f":"IF(TDPrimas_!K26=\"\",\"\",TDPrimas_!K26)","v":1.4762655367775162}]
[null,{"$f":"IF(TDPrimas_!A27=\"\",\"\",TDPrimas_!A27)","v":19},{"$f":"IF(TDPrimas_!B27=\"\",\"\",TDPrimas_!B27)","v":"Zurich Aseguradora Mexicana"},{"$f":"IF(TDPrimas_!C27=\"\",\"\",TDPrimas_!C27)","v":8533878.8999300003},{"$f":"IF(TDPrimas_!D27=\"\",\"\",TDPrimas_!D27)","v":2761368.2830099999},{"$f":"IF(TDPrimas_!E27=\"\",\"\",TDPrimas_!E27)","v":1.4526353443497808},{"$f":"IF(TDPrimas_!F27=\"\",\"\",TDPrimas_!F27)","v":0.53719426842728701},{"$f":"IF(TDPrimas_!G27=\"\",\"\",TDPrimas_!G27)","v":5772510.6169199999},{"$f":"IF(TDPrimas_!H27=\"\",\"\",TDPrimas_!H27)","v":209.04530020268567},{"$f":"IF(TDPrimas_!I27=\"\",\"\",TDPrimas_!I27)","v":100},{"$f":"IF(TDPrimas_!J27=\"\",\"\",TDPrimas_!J27)","v":100},{"$f":"IF(TDPrimas_!K27=\"\",\"\",TDPrimas_!K27)","v":1.4526353443497808}]
[null,{"$f":"IF(TDPrimas_!A28=\"\",\"\",TDPrimas_!A28)","v":20},{"$f":"IF(TDPrimas_!B28=\"\",\"\",TDPrimas_!B28)","v":"Agroasemex"},{"$f":"IF(TDPrimas_!C28=\"\",\"\",TDPrimas_!C28)","v":8513094.40955},{"$f":"IF(TDPrimas_!D28=\"\",\"\",TDPrimas_!D28)","v":6874534.1096700002},{"$f":"IF(TDPrimas_!E28=\"\",\"\",TDPrimas_!E28)","v":1.44909741210416},{"$f":"IF(TDPrimas_!F28=\"\",\"\",TDPrimas_!F28)","v":1.3373660965632355},{"$f":"IF(TDPrimas_!G28=\"\",\"\",TDPrimas_!G28)","v":1638560.2998799998},{"$f":"IF(TDPrimas_!H28=\"\",\"\",TDPrimas_!H28)","v":23.835219576191125},{"$f":"IF(TDPrimas_!I28=\"\",\"\",TDPrimas_!I28)","v":100},{"$f":"IF(TDPrimas_!J28=\"\",\"\",TDPrimas_!J28)","v":100},{"$f":"IF(TDPrimas_!K28=\"\",\"\",TDPrimas_!K28)","v":1.44909741210416}]
[null,{"$f":"IF(TDPrimas_!A29=\"\",\"\",TDPrimas_!A29)","v":21},{"$f":"IF(TDPrimas_!B29=\"\",\"\",TDPrimas_!B29)","v":"ProFuturo G.N.P."},{"$f":"IF(TDPrimas_!C29=\"\",\"\",TDPrimas_!C29)","v":6397672.8354899995},{"$f":"IF(TDPrimas_!D29=\"\",\"\",TDPrimas_!D29)","v":7777037.0970200002},{"$f":"IF(TDPrimas_!E29=\"\",\"\",TDPrimas_!E29)","v":1.0890107290478992},{"$f":"IF(TDPrimas_!F29=\"\",\"\",TDPrimas_!F29)","v":1.5129382703387855},{"$f":"IF(TDPrimas_!G29=\"\",\"\",TDPrimas_!G29)","v":-1379364.2615300007},{"$f":"IF(TDPrimas_!H29=\"\",\"\",TDPrimas_!H29)","v":-17.736372404068177},{"$f":"IF(TDPrimas_!I29=\"\",\"\",TDPrimas_!I29)","v":100},{"$f":"IF(TDPrimas_!J29=\"\",\"\",TDPrimas_!J29)","v":100},{"$f":"IF(TDPrimas_!K29=\"\",\"\",TDPrimas_!K29)","v":1.0890107290478992}]
[null,{"$f":"IF(TDPrimas_!A30=\"\",\"\",TDPrimas_!A30)","v":22},{"$f":"IF(TDPrimas_!B30=\"\",\"\",TDPrimas_!B30)","v":"AIG Seguros"},{"$f":"IF(TDPrimas_!C30=\"\",\"\",TDPrimas_!C30)","v":6304657.6626300002},{"$f":"IF(TDPrimas_!D30=\"\",\"\",TDPrimas_!D30)","v":5126170.0104400003},{"$f":"IF(TDPrimas_!E30=\"\",\"\",TDPrimas_!E30)","v":1.0731777029126974},{"$f":"IF(TDPrimas_!F30=\"\",\"\",TDPrimas_!F30)","v":0.99724081193201786},{"$f":"IF(TDPrimas_!G30=\"\",\"\",TDPrimas_!G30)","v":1178487.6521899998},{"$f":"IF(TDPrimas_!H30=\"\",\"\",TDPrimas_!H30)","v":22.989632606602626},{"$f":"IF(TDPrimas_!I30=\"\",\"\",TDPrimas_!I30)","v":100},{"$f":"IF(TDPrimas_!J30=\"\",\"\",TDPrimas_!J30)","v":100},{"$f":"IF(TDPrimas_!K30=\"\",\"\",TDPrimas_!K30)","v":1.0731777029126974}]
[null,{"$f":"IF(TDPrimas_!A31=\"\",\"\",TDPrimas_!A31)","v":23},{"$f":"IF(TDPrimas_!B31=\"\",\"\",TDPrimas_!B31)","v":"HSBC Seguros"},{"$f":"IF(TDPrimas_!C31=\"\",\"\",TDPrimas_!C31)","v":6120455.9873400005},{"$f":"IF(TDPrimas_!D31=\"\",\"\",TDPrimas_!D31)","v":4630757.4616799997},{"$f":"IF(TDPrimas_!E31=\"\",\"\",TDPrimas_!E31)","v":1.0418229265967491},{"$f":"IF(TDPrimas_!F31=\"\",\"\",TDPrimas_!F31)","v":0.90086367044811166},{"$f":"IF(TDPrimas_!G31=\"\",\"\",TDPrimas_!G31)","v":1489698.5256600007},{"$f":"IF(TDPrimas_!H31=\"\",\"\",TDPrimas_!H31)","v":32.169651250090524},{"$f":"IF(TDPrimas_!I31=\"\",\"\",TDPrimas_!I31)","v":100},{"$f":"IF(TDPrimas_!J31=\"\",\"\",TDPrimas_!J31)","v":100},{"$f":"IF(TDPrimas_!K31=\"\",\"\",TDPrimas_!K31)","v":1.0418229265967491}]
[null,{"$f":"IF(TDPrimas_!A32=\"\",\"\",TDPrimas_!A32)","v":24},{"$f":"IF(TDPrimas_!B32=\"\",\"\",TDPrimas_!B32)","v":"Afirme"},{"$f":"IF(TDPrimas_!C32=\"\",\"\",TDPrimas_!C32)","v":5692551.0252200002},{"$f":"IF(TDPrimas_!D32=\"\",\"\",TDPrimas_!D32)","v":5607417.7616099995},{"$f":"IF(TDPrimas_!E32=\"\",\"\",TDPrimas_!E32)","v":0.96898502026047995},{"$f":"IF(TDPrimas_!F32=\"\",\"\",TDPrimas_!F32)","v":1.0908623455799107},{"$f":"IF(TDPrimas_!G32=\"\",\"\",TDPrimas_!G32)","v":85133.263610000722},{"$f":"IF(TDPrimas_!H32=\"\",\"\",TDPrimas_!H32)","v":1.5182258078370259},{"$f":"IF(TDPrimas_!I32=\"\",\"\",TDPrimas_!I32)","v":100},{"$f":"IF(TDPrimas_!J32=\"\",\"\",TDPrimas_!J32)","v":100},{"$f":"IF(TDPrimas_!K32=\"\",\"\",TDPrimas_!K32)","v":0.96898502026047995}]
[null,{"$f":"IF(TDPrimas_!A33=\"\",\"\",TDPrimas_!A33)","v":25},{"$f":"IF(TDPrimas_!B33=\"\",\"\",TDPrimas_!B33)","v":"Seguros SURA"},{"$f":"IF(TDPrimas_!C33=\"\",\"\",TDPrimas_!C33)","v":4306787.9967099996},{"$f":"IF(TDPrimas_!D33=\"\",\"\",TDPrimas_!D33)","v":5306404.11326},{"$f":"IF(TDPrimas_!E33=\"\",\"\",TDPrimas_!E33)","v":0.73310068469493395},{"$f":"IF(TDPrimas_!F33=\"\",\"\",TDPrimas_!F33)","v":1.0323034030415601},{"$f":"IF(TDPrimas_!G33=\"\",\"\",TDPrimas_!G33)","v":-999616.11655000038},{"$f":"IF(TDPrimas_!H33=\"\",\"\",TDPrimas_!H33)","v":-18.837919148526439},{"$f":"IF(TDPrimas_!I33=\"\",\"\",TDPrimas_!I33)","v":100},{"$f":"IF(TDPrimas_!J33=\"\",\"\",TDPrimas_!J33)","v":100},{"$f":"IF(TDPrimas_!K33=\"\",\"\",TDPrimas_!K33)","v":0.73310068469493395}]
[null,{"$f":"IF(TDPrimas_!A34=\"\",\"\",TDPrimas_!A34)","v":26},{"$f":"IF(TDPrimas_!B34=\"\",\"\",TDPrimas_!B34)","v":"Seguros Azteca"},{"$f":"IF(TDPrimas_!C34=\"\",\"\",TDPrimas_!C34)","v":3540235.0162600004},{"$f":"IF(TDPrimas_!D34=\"\",\"\",TDPrimas_!D34)","v":3157216.2366900002},{"$f":"IF(TDPrimas_!E34=\"\",\"\",TDPrimas_!E34)","v":0.60261817307557308},{"$f":"IF(TDPrimas_!F34=\"\",\"\",TDPrimas_!F34)","v":0.6142021971392706},{"$f":"IF(TDPrimas_!G34=\"\",\"\",TDPrimas_!G34)","v":383018.77957000025},{"$f":"IF(TDPrimas_!H34=\"\",\"\",TDPrimas_!H34)","v":12.131534581601988},{"$f":"IF(TDPrimas_!I34=\"\",\"\",TDPrimas_!I34)","v":100},{"$f":"IF(TDPrimas_!J34=\"\",\"\",TDPrimas_!J34)","v":100},{"$f":"IF(TDPrimas_!K34=\"\",\"\",TDPrimas_!K34)","v":0.60261817307557308}]
[null,{"$f":"IF(TDPrimas_!A35=\"\",\"\",TDPrimas_!A35)","v":27},{"$f":"IF(TDPrimas_!B35=\"\",\"\",TDPrimas_!B35)","v":"Hir Seguros"},{"$f":"IF(TDPrimas_!C35=\"\",\"\",TDPrimas_!C35)","v":3256773.9065},{"$f":"IF(TDPrimas_!D35=\"\",\"\",TDPrimas_!D35)","v":2675564.4328999999},{"$f":"IF(TDPrimas_!E35=\"\",\"\",TDPrimas_!E35)","v":0.55436747352681726},{"$f":"IF(TDPrimas_!F35=\"\",\"\",TDPrimas_!F35)","v":0.52050205943376504},{"$f":"IF(TDPrimas_!G35=\"\",\"\",TDPrimas_!G35)","v":581209.47360000014},{"$f":"IF(TDPrimas_!H35=\"\",\"\",TDPrimas_!H35)","v":21.722873366575477},{"$f":"IF(TDPrimas_!I35=\"\",\"\",TDPrimas_!I35)","v":100},{"$f":"IF(TDPrimas_!J35=\"\",\"\",TDPrimas_!J35)","v":100},{"$f":"IF(TDPrimas_!K35=\"\",\"\",TDPrimas_!K35)","v":0.55436747352681726}]
[null,{"$f":"IF(TDPrimas_!A36=\"\",\"\",TDPrimas_!A36)","v":28},{"$f":"IF(TDPrimas_!B36=\"\",\"\",TDPrimas_!B36)","v":"BUPA México"},{"$f":"IF(TDPrimas_!C36=\"\",\"\",TDPrimas_!C36)","v":3098553.8007},{"$f":"IF(TDPrimas_!D36=\"\",\"\",TDPrimas_!D36)","v":2813660.5540900002},{"$f":"IF(TDPrimas_!E36=\"\",\"\",TDPrimas_!E36)","v":0.52743527533570778},{"$f":"IF(TDPrimas_!F36=\"\",\"\",TDPrimas_!F36)","v":0.54736716295934196},{"$f":"IF(TDPrimas_!G36=\"\",\"\",TDPrimas_!G36)","v":284893.2466099998},{"$f":"IF(TDPrimas_!H36=\"\",\"\",TDPrimas_!H36)","v":10.125359514169997},{"$f":"IF(TDPrimas_!I36=\"\",\"\",TDPrimas_!I36)","v":100},{"$f":"IF(TDPrimas_!J36=\"\",\"\",TDPrimas_!J36)","v":100},{"$f":"IF(TDPrimas_!K36=\"\",\"\",TDPrimas_!K36)","v":0.52743527533570778}]
[null,{"$f":"IF(TDPrimas_!A37=\"\",\"\",TDPrimas_!A37)","v":29},{"$f":"IF(TDPrimas_!B37=\"\",\"\",TDPrimas_!B37)","v":"Ve Por Más"},{"$f":"IF(TDPrimas_!C37=\"\",\"\",TDPrimas_!C37)","v":2931433.71942},{"$f":"IF(TDPrimas_!D37=\"\",\"\",TDPrimas_!D37)","v":2414387.3695499999},{"$f":"IF(TDPrimas_!E37=\"\",\"\",TDPrimas_!E37)","v":0.49898812490568151},{"$f":"IF(TDPrimas_!F37=\"\",\"\",TDPrimas_!F37)","v":0.46969289271031922},{"$f":"IF(TDPrimas_!G37=\"\",\"\",TDPrimas_!G37)","v":517046.34987000003},{"$f":"IF(TDPrimas_!H37=\"\",\"\",TDPrimas_!H37)","v":21.415219297074461},{"$f":"IF(TDPrimas_!I37=\"\",\"\",TDPrimas_!I37)","v":100},{"$f":"IF(TDPrimas_!J37=\"\",\"\",TDPrimas_!J37)","v":100},{"$f":"IF(TDPrimas_!K37=\"\",\"\",TDPrimas_!K37)","v":0.49898812490568151}]
[null,{"$f":"IF(TDPrimas_!A38=\"\",\"\",TDPrimas_!A38)","v":30},{"$f":"IF(TDPrimas_!B38=\"\",\"\",TDPrimas_!B38)","v":"FM Global"},{"$f":"IF(TDPrimas_!C38=\"\",\"\",TDPrimas_!C38)","v":2851934.3307800004},{"$f":"IF(TDPrimas_!D38=\"\",\"\",TDPrimas_!D38)","v":2720564.8749099998},{"$f":"IF(TDPrimas_!E38=\"\",\"\",TDPrimas_!E38)","v":0.48545575314990114},{"$f":"IF(TDPrimas_!F38=\"\",\"\",TDPrimas_!F38)","v":0.5292564076578693},{"$f":"IF(TDPrimas_!G38=\"\",\"\",TDPrimas_!G38)","v":131369.45587000065},{"$f":"IF(TDPrimas_!H38=\"\",\"\",TDPrimas_!H38)","v":4.8287565968941015},{"$f":"IF(TDPrimas_!I38=\"\",\"\",TDPrimas_!I38)","v":100},{"$f":"IF(TDPrimas_!J38=\"\",\"\",TDPrimas_!J38)","v":100},{"$f":"IF(TDPrimas_!K38=\"\",\"\",TDPrimas_!K38)","v":0.48545575314990114}]
[null,{"$f":"IF(TDPrimas_!A39=\"\",\"\",TDPrimas_!A39)","v":31},{"$f":"IF(TDPrimas_!B39=\"\",\"\",TDPrimas_!B39)","v":"Seguros Argos"},{"$f":"IF(TDPrimas_!C39=\"\",\"\",TDPrimas_!C39)","v":2824083.3738899999},{"$f":"IF(TDPrimas_!D39=\"\",\"\",TDPrimas_!D39)","v":2440808.7034900002},{"$f":"IF(TDPrimas_!E39=\"\",\"\",TDPrimas_!E39)","v":0.48071496823523485},{"$f":"IF(TDPrimas_!F39=\"\",\"\",TDPrimas_!F39)","v":0.47483287684213521},{"$f":"IF(TDPrimas_!G39=\"\",\"\",TDPrimas_!G39)","v":383274.67039999971},{"$f":"IF(TDPrimas_!H39=\"\",\"\",TDPrimas_!H39)","v":15.702773832786354},{"$f":"IF(TDPrimas_!I39=\"\",\"\",TDPrimas_!I39)","v":100},{"$f":"IF(TDPrimas_!J39=\"\",\"\",TDPrimas_!J39)","v":100},{"$f":"IF(TDPrimas_!K39=\"\",\"\",TDPrimas_!K39)","v":0.48071496823523485}]
[null,{"$f":"IF(TDPrimas_!A40=\"\",\"\",TDPrimas_!A40)","v":32},{"$f":"IF(TDPrimas_!B40=\"\",\"\",TDPrimas_!B40)","v":"ANA"},{"$f":"IF(TDPrimas_!C40=\"\",\"\",TDPrimas_!C40)","v":2392641.0795800001},{"$f":"IF(TDPrimas_!D40=\"\",\"\",TDPrimas_!D40)","v":2218461.75648},{"$f":"IF(TDPrimas_!E40=\"\",\"\",TDPrimas_!E40)","v":0.40727493784445828},{"$f":"IF(TDPrimas_!F40=\"\",\"\",TDPrimas_!F40)","v":0.43157768836510968},{"$f":"IF(TDPrimas_!G40=\"\",\"\",TDPrimas_!G40)","v":174179.32310000015},{"$f":"IF(TDPrimas_!H40=\"\",\"\",TDPrimas_!H40)","v":7.8513556788271099},{"$f":"IF(TDPrimas_!I40=\"\",\"\",TDPrimas_!I40)","v":100},{"$f":"IF(TDPrimas_!J40=\"\",\"\",TDPrimas_!J40)","v":100},{"$f":"IF(TDPrimas_!K40=\"\",\"\",TDPrimas_!K40)","v":0.40727493784445828}]
[null,{"$f":"IF(TDPrimas_!A41=\"\",\"\",TDPrimas_!A41)","v":33},{"$f":"IF(TDPrimas_!B41=\"\",\"\",TDPrimas_!B41)","v":"Plan Seguro"},{"$f":"IF(TDPrimas_!C41=\"\",\"\",TDPrimas_!C41)","v":2011777.3748599999},{"$f":"IF(TDPrimas_!D41=\"\",\"\",TDPrimas_!D41)","v":2297238.4493300002},{"$f":"IF(TDPrimas_!E41=\"\",\"\",TDPrimas_!E41)","v":0.34244438595312443},{"$f":"IF(TDPrimas_!F41=\"\",\"\",TDPrimas_!F41)","v":0.44690284008248526},{"$f":"IF(TDPrimas_!G41=\"\",\"\",TDPrimas_!G41)","v":-285461.07447000034},{"$f":"IF(TDPrimas_!H41=\"\",\"\",TDPrimas_!H41)","v":-12.426270966919272},{"$f":"IF(TDPrimas_!I41=\"\",\"\",TDPrimas_!I41)","v":100},{"$f":"IF(TDPrimas_!J41=\"\",\"\",TDPrimas_!J41)","v":100},{"$f":"IF(TDPrimas_!K41=\"\",\"\",TDPrimas_!K41)","v":0.34244438595312443}]
[null,{"$f":"IF(TDPrimas_!A42=\"\",\"\",TDPrimas_!A42)","v":34},{"$f":"IF(TDPrimas_!B42=\"\",\"\",TDPrimas_!B42)","v":"General de Seguros"},{"$f":"IF(TDPrimas_!C42=\"\",\"\",TDPrimas_!C42)","v":1971809.2153},{"$f":"IF(TDPrimas_!D42=\"\",\"\",TDPrimas_!D42)","v":1927344.37518},{"$f":"IF(TDPrimas_!E42=\"\",\"\",TDPrimas_!E42)","v":0.33564101296104421},{"$f":"IF(TDPrimas_!F42=\"\",\"\",TDPrimas_!F42)","v":0.37494395731368563},{"$f":"IF(TDPrimas_!G42=\"\",\"\",TDPrimas_!G42)","v":44464.840120000066},{"$f":"IF(TDPrimas_!H42=\"\",\"\",TDPrimas_!H42)","v":2.3070521642426955},{"$f":"IF(TDPrimas_!I42=\"\",\"\",TDPrimas_!I42)","v":100},{"$f":"IF(TDPrimas_!J42=\"\",\"\",TDPrimas_!J42)","v":100},{"$f":"IF(TDPrimas_!K42=\"\",\"\",TDPrimas_!K42)","v":0.33564101296104421}]
[null,{"$f":"IF(TDPrimas_!A43=\"\",\"\",TDPrimas_!A43)","v":35},{"$f":"IF(TDPrimas_!B43=\"\",\"\",TDPrimas_!B43)","v":"Cardif Vida"},{"$f":"IF(TDPrimas_!C43=\"\",\"\",TDPrimas_!C43)","v":1796205.0709800001},{"$f":"IF(TDPrimas_!D43=\"\",\"\",TDPrimas_!D43)","v":2297569.8314999999},{"$f":"IF(TDPrimas_!E43=\"\",\"\",TDPrimas_!E43)","v":0.30574970683346087},{"$f":"IF(TDPrimas_!F43=\"\",\"\",TDPrimas_!F43)","v":0.44696730689174002},{"$f":"IF(TDPrimas_!G43=\"\",\"\",TDPrimas_!G43)","v":-501364.76051999978},{"$f":"IF(TDPrimas_!H43=\"\",\"\",TDPrimas_!H43)","v":-21.821524362229148},{"$f":"IF(TDPrimas_!I43=\"\",\"\",TDPrimas_!I43)","v":100},{"$f":"IF(TDPrimas_!J43=\"\",\"\",TDPrimas_!J43)","v":100},{"$f":"IF(TDPrimas_!K43=\"\",\"\",TDPrimas_!K43)","v":0.30574970683346087}]
[null,{"$f":"IF(TDPrimas_!A44=\"\",\"\",TDPrimas_!A44)","v":36},{"$f":"IF(TDPrimas_!B44=\"\",\"\",TDPrimas_!B44)","v":"Seguros Azteca Daños"},{"$f":"IF(TDPrimas_!C44=\"\",\"\",TDPrimas_!C44)","v":1661194.5349100002},{"$f":"IF(TDPrimas_!D44=\"\",\"\",TDPrimas_!D44)","v":2353425.7515699998},{"$f":"IF(TDPrimas_!E44=\"\",\"\",TDPrimas_!E44)","v":0.28276823746242236},{"$f":"IF(TDPrimas_!F44=\"\",\"\",TDPrimas_!F44)","v":0.45783347070768321},{"$f":"IF(TDPrimas_!G44=\"\",\"\",TDPrimas_!G44)","v":-692231.21665999969},{"$f":"IF(TDPrimas_!H44=\"\",\"\",TDPrimas_!H44)","v":-29.413769106512223},{"$f":"IF(TDPrimas_!I44=\"\",\"\",TDPrimas_!I44)","v":100},{"$f":"IF(TDPrimas_!J44=\"\",\"\",TDPrimas_!J44)","v":100},{"$f":"IF(TDPrimas_!K44=\"\",\"\",TDPrimas_!K44)","v":0.28276823746242236}]
[null,{"$f":"IF(TDPrimas_!A45=\"\",\"\",TDPrimas_!A45)","v":37},{"$f":"IF(TDPrimas_!B45=\"\",\"\",TDPrimas_!B45)","v":"Cardif Seguros Generales"},{"$f":"IF(TDPrimas_!C45=\"\",\"\",TDPrimas_!C45)","v":1656218.0302899999},{"$f":"IF(TDPrimas_!D45=\"\",\"\",TDPrimas_!D45)","v":1437113.4423700001},{"$f":"IF(TDPrimas_!E45=\"\",\"\",TDPrimas_!E45)","v":0.28192113773355332},{"$f":"IF(TDPrimas_!F45=\"\",\"\",TDPrimas_!F45)","v":0.27957484304826308},{"$f":"IF(TDPrimas_!G45=\"\",\"\",TDPrimas_!G45)","v":219104.58791999985},{"$f":"IF(TDPrimas_!H45=\"\",\"\",TDPrimas_!H45)","v":15.2461581292195},{"$f":"IF(TDPrimas_!I45=\"\",\"\",TDPrimas_!I45)","v":100},{"$f":"IF(TDPrimas_!J45=\"\",\"\",TDPrimas_!J45)","v":100},{"$f":"IF(TDPrimas_!K45=\"\",\"\",TDPrimas_!K45)","v":0.28192113773355332}]
[null,{"$f":"IF(TDPrimas_!A46=\"\",\"\",TDPrimas_!A46)","v":38},{"$f":"IF(TDPrimas_!B46=\"\",\"\",TDPrimas_!B46)","v":"El Potosí"},{"$f":"IF(TDPrimas_!C46=\"\",\"\",TDPrimas_!C46)","v":1612866.84565},{"$f":"IF(TDPrimas_!D46=\"\",\"\",TDPrimas_!D46)","v":1545104.90457},{"$f":"IF(TDPrimas_!E46=\"\",\"\",TDPrimas_!E46)","v":0.27454190681570961},{"$f":"IF(TDPrimas_!F46=\"\",\"\",TDPrimas_!F46)","v":0.30058341147785556},{"$f":"IF(TDPrimas_!G46=\"\",\"\",TDPrimas_!G46)","v":67761.941080000019},{"$f":"IF(TDPrimas_!H46=\"\",\"\",TDPrimas_!H46)","v":4.385588375234506},{"$f":"IF(TDPrimas_!I46=\"\",\"\",TDPrimas_!I46)","v":100},{"$f":"IF(TDPrimas_!J46=\"\",\"\",TDPrimas_!J46)","v":100},{"$f":"IF(TDPrimas_!K46=\"\",\"\",TDPrimas_!K46)","v":0.27454190681570961}]
[null,{"$f":"IF(TDPrimas_!A47=\"\",\"\",TDPrimas_!A47)","v":39},{"$f":"IF(TDPrimas_!B47=\"\",\"\",TDPrimas_!B47)","v":"HDI Global Seguros"},{"$f":"IF(TDPrimas_!C47=\"\",\"\",TDPrimas_!C47)","v":1569411.9180699999},{"$f":"IF(TDPrimas_!D47=\"\",\"\",TDPrimas_!D47)","v":917084.84802999999},{"$f":"IF(TDPrimas_!E47=\"\",\"\",TDPrimas_!E47)","v":0.26714501679312141},{"$f":"IF(TDPrimas_!F47=\"\",\"\",TDPrimas_!F47)","v":0.17840891671509124},{"$f":"IF(TDPrimas_!G47=\"\",\"\",TDPrimas_!G47)","v":652327.0700399999},{"$f":"IF(TDPrimas_!H47=\"\",\"\",TDPrimas_!H47)","v":71.130503512436263},{"$f":"IF(TDPrimas_!I47=\"\",\"\",TDPrimas_!I47)","v":100},{"$f":"IF(TDPrimas_!J47=\"\",\"\",TDPrimas_!J47)","v":100},{"$f":"IF(TDPrimas_!K47=\"\",\"\",TDPrimas_!K47)","v":0.26714501679312141}]
[null,{"$f":"IF(TDPrimas_!A48=\"\",\"\",TDPrimas_!A48)","v":40},{"$f":"IF(TDPrimas_!B48=\"\",\"\",TDPrimas_!B48)","v":"BBVA Bancomer Salud"},{"$f":"IF(TDPrimas_!C48=\"\",\"\",TDPrimas_!C48)","v":1544159.2500799999},{"$f":"IF(TDPrimas_!D48=\"\",\"\",TDPrimas_!D48)","v":1038359.19056},{"$f":"IF(TDPrimas_!E48=\"\",\"\",TDPrimas_!E48)","v":0.26284651215161481},{"$f":"IF(TDPrimas_!F48=\"\",\"\",TDPrimas_!F48)","v":0.20200152553704448},{"$f":"IF(TDPrimas_!G48=\"\",\"\",TDPrimas_!G48)","v":505800.05951999989},{"$f":"IF(TDPrimas_!H48=\"\",\"\",TDPrimas_!H48)","v":48.711473266511533},{"$f":"IF(TDPrimas_!I48=\"\",\"\",TDPrimas_!I48)","v":100},{"$f":"IF(TDPrimas_!J48=\"\",\"\",TDPrimas_!J48)","v":100},{"$f":"IF(TDPrimas_!K48=\"\",\"\",TDPrimas_!K48)","v":0.26284651215161481}]
[null,{"$f":"IF(TDPrimas_!A49=\"\",\"\",TDPrimas_!A49)","v":41},{"$f":"IF(TDPrimas_!B49=\"\",\"\",TDPrimas_!B49)","v":"Prudential"},{"$f":"IF(TDPrimas_!C49=\"\",\"\",TDPrimas_!C49)","v":1351465.83501},{"$f":"IF(TDPrimas_!D49=\"\",\"\",TDPrimas_!D49)","v":1131408.3401899999},{"$f":"IF(TDPrimas_!E49=\"\",\"\",TDPrimas_!E49)","v":0.23004627340479589},{"$f":"IF(TDPrimas_!F49=\"\",\"\",TDPrimas_!F49)","v":0.22010322901890775},{"$f":"IF(TDPrimas_!G49=\"\",\"\",TDPrimas_!G49)","v":220057.49482000014},{"$f":"IF(TDPrimas_!H49=\"\",\"\",TDPrimas_!H49)","v":19.449873843341603},{"$f":"IF(TDPrimas_!I49=\"\",\"\",TDPrimas_!I49)","v":100},{"$f":"IF(TDPrimas_!J49=\"\",\"\",TDPrimas_!J49)","v":100},{"$f":"IF(TDPrimas_!K49=\"\",\"\",TDPrimas_!K49)","v":0.23004627340479589}]
[null,{"$f":"IF(TDPrimas_!A50=\"\",\"\",TDPrimas_!A50)","v":42},{"$f":"IF(TDPrimas_!B50=\"\",\"\",TDPrimas_!B50)","v":"Insignia Life"},{"$f":"IF(TDPrimas_!C50=\"\",\"\",TDPrimas_!C50)","v":1239121.6834200001},{"$f":"IF(TDPrimas_!D50=\"\",\"\",TDPrimas_!D50)","v":1114612.1788999999},{"$f":"IF(TDPrimas_!E50=\"\",\"\",TDPrimas_!E50)","v":0.21092307195744908},{"$f":"IF(TDPrimas_!F50=\"\",\"\",TDPrimas_!F50)","v":0.21683571789694578},{"$f":"IF(TDPrimas_!G50=\"\",\"\",TDPrimas_!G50)","v":124509.50452000019},{"$f":"IF(TDPrimas_!H50=\"\",\"\",TDPrimas_!H50)","v":11.170657101816106},{"$f":"IF(TDPrimas_!I50=\"\",\"\",TDPrimas_!I50)","v":100},{"$f":"IF(TDPrimas_!J50=\"\",\"\",TDPrimas_!J50)","v":100},{"$f":"IF(TDPrimas_!K50=\"\",\"\",TDPrimas_!K50)","v":0.21092307195744908}]
[null,{"$f":"IF(TDPrimas_!A51=\"\",\"\",TDPrimas_!A51)","v":43},{"$f":"IF(TDPrimas_!B51=\"\",\"\",TDPrimas_!B51)","v":"El Águila"},{"$f":"IF(TDPrimas_!C51=\"\",\"\",TDPrimas_!C51)","v":1212681.1111300001},{"$f":"IF(TDPrimas_!D51=\"\",\"\",TDPrimas_!D51)","v":979590.21016999998},{"$f":"IF(TDPrimas_!E51=\"\",\"\",TDPrimas_!E51)","v":0.20642236245785628},{"$f":"IF(TDPrimas_!F51=\"\",\"\",TDPrimas_!F51)","v":0.19056865741109832},{"$f":"IF(TDPrimas_!G51=\"\",\"\",TDPrimas_!G51)","v":233090.90096000012},{"$f":"IF(TDPrimas_!H51=\"\",\"\",TDPrimas_!H51)","v":23.794735649670184},{"$f":"IF(TDPrimas_!I51=\"\",\"\",TDPrimas_!I51)","v":100},{"$f":"IF(TDPrimas_!J51=\"\",\"\",TDPrimas_!J51)","v":100},{"$f":"IF(TDPrimas_!K51=\"\",\"\",TDPrimas_!K51)","v":0.20642236245785628}]
[null,{"$f":"IF(TDPrimas_!A52=\"\",\"\",TDPrimas_!A52)","v":44},{"$f":"IF(TDPrimas_!B52=\"\",\"\",TDPrimas_!B52)","v":"Primero Seguros"},{"$f":"IF(TDPrimas_!C52=\"\",\"\",TDPrimas_!C52)","v":1040269.57398},{"$f":"IF(TDPrimas_!D52=\"\",\"\",TDPrimas_!D52)","v":701519.26627999998},{"$f":"IF(TDPrimas_!E52=\"\",\"\",TDPrimas_!E52)","v":0.1770745013533567},{"$f":"IF(TDPrimas_!F52=\"\",\"\",TDPrimas_!F52)","v":0.13647296934480183},{"$f":"IF(TDPrimas_!G52=\"\",\"\",TDPrimas_!G52)","v":338750.3077},{"$f":"IF(TDPrimas_!H52=\"\",\"\",TDPrimas_!H52)","v":48.288097559503562},{"$f":"IF(TDPrimas_!I52=\"\",\"\",TDPrimas_!I52)","v":100},{"$f":"IF(TDPrimas_!J52=\"\",\"\",TDPrimas_!J52)","v":100},{"$f":"IF(TDPrimas_!K52=\"\",\"\",TDPrimas_!K52)","v":0.1770745013533567}]
[null,{"$f":"IF(TDPrimas_!A53=\"\",\"\",TDPrimas_!A53)","v":45},{"$f":"IF(TDPrimas_!B53=\"\",\"\",TDPrimas_!B53)","v":"La Latinoamericana"},{"$f":"IF(TDPrimas_!C53=\"\",\"\",TDPrimas_!C53)","v":957883.89023000002},{"$f":"IF(TDPrimas_!D53=\"\",\"\",TDPrimas_!D53)","v":958536.21765000001},{"$f":"IF(TDPrimas_!E53=\"\",\"\",TDPrimas_!E53)","v":0.1630508249587157},{"$f":"IF(TDPrimas_!F53=\"\",\"\",TDPrimas_!F53)","v":0.18647283137483833},{"$f":"IF(TDPrimas_!G53=\"\",\"\",TDPrimas_!G53)","v":-652.32741999998689},{"$f":"IF(TDPrimas_!H53=\"\",\"\",TDPrimas_!H53)","v":-6.8054540661932617E-2},{"$f":"IF(TDPrimas_!I53=\"\",\"\",TDPrimas_!I53)","v":100},{"$f":"IF(TDPrimas_!J53=\"\",\"\",TDPrimas_!J53)","v":100},{"$f":"IF(TDPrimas_!K53=\"\",\"\",TDPrimas_!K53)","v":0.1630508249587157}]
[null,{"$f":"IF(TDPrimas_!A54=\"\",\"\",TDPrimas_!A54)","v":46},{"$f":"IF(TDPrimas_!B54=\"\",\"\",TDPrimas_!B54)","v":"General de Salud"},{"$f":"IF(TDPrimas_!C54=\"\",\"\",TDPrimas_!C54)","v":939209.72964999999},{"$f":"IF(TDPrimas_!D54=\"\",\"\",TDPrimas_!D54)","v":835821.04413000005},{"$f":"IF(TDPrimas_!E54=\"\",\"\",TDPrimas_!E54)","v":0.15987211267527868},{"$f":"IF(TDPrimas_!F54=\"\",\"\",TDPrimas_!F54)","v":0.16259992450124067},{"$f":"IF(TDPrimas_!G54=\"\",\"\",TDPrimas_!G54)","v":103388.68551999994},{"$f":"IF(TDPrimas_!H54=\"\",\"\",TDPrimas_!H54)","v":12.369715532541603},{"$f":"IF(TDPrimas_!I54=\"\",\"\",TDPrimas_!I54)","v":100},{"$f":"IF(TDPrimas_!J54=\"\",\"\",TDPrimas_!J54)","v":100},{"$f":"IF(TDPrimas_!K54=\"\",\"\",TDPrimas_!K54)","v":0.15987211267527868}]
[null,{"$f":"IF(TDPrimas_!A55=\"\",\"\",TDPrimas_!A55)","v":47},{"$f":"IF(TDPrimas_!B55=\"\",\"\",TDPrimas_!B55)","v":"Pan-American México"},{"$f":"IF(TDPrimas_!C55=\"\",\"\",TDPrimas_!C55)","v":799499.22270000004},{"$f":"IF(TDPrimas_!D55=\"\",\"\",TDPrimas_!D55)","v":684641.89482000005},{"$f":"IF(TDPrimas_!E55=\"\",\"\",TDPrimas_!E55)","v":0.13609061509927486},{"$f":"IF(TDPrimas_!F55=\"\",\"\",TDPrimas_!F55)","v":0.1331896596645199},{"$f":"IF(TDPrimas_!G55=\"\",\"\",TDPrimas_!G55)","v":114857.32788},{"$f":"IF(TDPrimas_!H55=\"\",\"\",TDPrimas_!H55)","v":16.776263437719852},{"$f":"IF(TDPrimas_!I55=\"\",\"\",TDPrimas_!I55)","v":100},{"$f":"IF(TDPrimas_!J55=\"\",\"\",TDPrimas_!J55)","v":100},{"$f":"IF(TDPrimas_!K55=\"\",\"\",TDPrimas_!K55)","v":0.13609061509927486}]
[null,{"$f":"IF(TDPrimas_!A56=\"\",\"\",TDPrimas_!A56)","v":48},{"$f":"IF(TDPrimas_!B56=\"\",\"\",TDPrimas_!B56)","v":"Tokio Marine"},{"$f":"IF(TDPrimas_!C56=\"\",\"\",TDPrimas_!C56)","v":787883.69756},{"$f":"IF(TDPrimas_!D56=\"\",\"\",TDPrimas_!D56)","v":1108402.21826},{"$f":"IF(TDPrimas_!E56=\"\",\"\",TDPrimas_!E56)","v":0.13411342248154437},{"$f":"IF(TDPrimas_!F56=\"\",\"\",TDPrimas_!F56)","v":0.2156276373654599},{"$f":"IF(TDPrimas_!G56=\"\",\"\",TDPrimas_!G56)","v":-320518.52069999999},{"$f":"IF(TDPrimas_!H56=\"\",\"\",TDPrimas_!H56)","v":-28.917167019311695},{"$f":"IF(TDPrimas_!I56=\"\",\"\",TDPrimas_!I56)","v":100},{"$f":"IF(TDPrimas_!J56=\"\",\"\",TDPrimas_!J56)","v":100},{"$f":"IF(TDPrimas_!K56=\"\",\"\",TDPrimas_!K56)","v":0.13411342248154437}]
[null,{"$f":"IF(TDPrimas_!A57=\"\",\"\",TDPrimas_!A57)","v":49},{"$f":"IF(TDPrimas_!B57=\"\",\"\",TDPrimas_!B57)","v":"Swiss Re Corporate Solutions"},{"$f":"IF(TDPrimas_!C57=\"\",\"\",TDPrimas_!C57)","v":654924.37927999999},{"$f":"IF(TDPrimas_!D57=\"\",\"\",TDPrimas_!D57)","v":440535.61340999999},{"$f":"IF(TDPrimas_!E57=\"\",\"\",TDPrimas_!E57)","v":0.11148111103689003},{"$f":"IF(TDPrimas_!F57=\"\",\"\",TDPrimas_!F57)","v":8.5701428533824467E-2},{"$f":"IF(TDPrimas_!G57=\"\",\"\",TDPrimas_!G57)","v":214388.76587},{"$f":"IF(TDPrimas_!H57=\"\",\"\",TDPrimas_!H57)","v":48.665478872526833},{"$f":"IF(TDPrimas_!I57=\"\",\"\",TDPrimas_!I57)","v":100},{"$f":"IF(TDPrimas_!J57=\"\",\"\",TDPrimas_!J57)","v":100},{"$f":"IF(TDPrimas_!K57=\"\",\"\",TDPrimas_!K57)","v":0.11148111103689003}]
[null,{"$f":"IF(TDPrimas_!A58=\"\",\"\",TDPrimas_!A58)","v":50},{"$f":"IF(TDPrimas_!B58=\"\",\"\",TDPrimas_!B58)","v":"Atradius"},{"$f":"IF(TDPrimas_!C58=\"\",\"\",TDPrimas_!C58)","v":609310.56254999992},{"$f":"IF(TDPrimas_!D58=\"\",\"\",TDPrimas_!D58)","v":658409.08983000007},{"$f":"IF(TDPrimas_!E58=\"\",\"\",TDPrimas_!E58)","v":0.1037167352882214},{"$f":"IF(TDPrimas_!F58=\"\",\"\",TDPrimas_!F58)","v":0.12808635179642278},{"$f":"IF(TDPrimas_!G58=\"\",\"\",TDPrimas_!G58)","v":-49098.527280000155},{"$f":"IF(TDPrimas_!H58=\"\",\"\",TDPrimas_!H58)","v":-7.457146026443418},{"$f":"IF(TDPrimas_!I58=\"\",\"\",TDPrimas_!I58)","v":100},{"$f":"IF(TDPrimas_!J58=\"\",\"\",TDPrimas_!J58)","v":100},{"$f":"IF(TDPrimas_!K58=\"\",\"\",TDPrimas_!K58)","v":0.1037167352882214}]
[null,{"$f":"IF(TDPrimas_!A59=\"\",\"\",TDPrimas_!A59)","v":51},{"$f":"IF(TDPrimas_!B59=\"\",\"\",TDPrimas_!B59)","v":"Assurant Vida"},{"$f":"IF(TDPrimas_!C59=\"\",\"\",TDPrimas_!C59)","v":598107.31757000007},{"$f":"IF(TDPrimas_!D59=\"\",\"\",TDPrimas_!D59)","v":970628.45606999996},{"$f":"IF(TDPrimas_!E59=\"\",\"\",TDPrimas_!E59)","v":0.101809720925797},{"$f":"IF(TDPrimas_!F59=\"\",\"\",TDPrimas_!F59)","v":0.18882524528921829},{"$f":"IF(TDPrimas_!G59=\"\",\"\",TDPrimas_!G59)","v":-372521.13849999988},{"$f":"IF(TDPrimas_!H59=\"\",\"\",TDPrimas_!H59)","v":-38.379375359373803},{"$f":"IF(TDPrimas_!I59=\"\",\"\",TDPrimas_!I59)","v":100},{"$f":"IF(TDPrimas_!J59=\"\",\"\",TDPrimas_!J59)","v":100},{"$f":"IF(TDPrimas_!K59=\"\",\"\",TDPrimas_!K59)","v":0.101809720925797}]
[null,{"$f":"IF(TDPrimas_!A60=\"\",\"\",TDPrimas_!A60)","v":52},{"$f":"IF(TDPrimas_!B60=\"\",\"\",TDPrimas_!B60)","v":"Berkley Seguros"},{"$f":"IF(TDPrimas_!C60=\"\",\"\",TDPrimas_!C60)","v":570550.37566999998},{"$f":"IF(TDPrimas_!D60=\"\",\"\",TDPrimas_!D60)","v":445437.85141},{"$f":"IF(TDPrimas_!E60=\"\",\"\",TDPrimas_!E60)","v":9.7118983190291761E-2},{"$f":"IF(TDPrimas_!F60=\"\",\"\",TDPrimas_!F60)","v":8.6655105800369989E-2},{"$f":"IF(TDPrimas_!G60=\"\",\"\",TDPrimas_!G60)","v":125112.52425999998},{"$f":"IF(TDPrimas_!H60=\"\",\"\",TDPrimas_!H60)","v":28.087537658500672},{"$f":"IF(TDPrimas_!I60=\"\",\"\",TDPrimas_!I60)","v":100},{"$f":"IF(TDPrimas_!J60=\"\",\"\",TDPrimas_!J60)","v":100},{"$f":"IF(TDPrimas_!K60=\"\",\"\",TDPrimas_!K60)","v":9.7118983190291761E-2}]
[null,{"$f":"IF(TDPrimas_!A61=\"\",\"\",TDPrimas_!A61)","v":53},{"$f":"IF(TDPrimas_!B61=\"\",\"\",TDPrimas_!B61)","v":"AXA Salud"},{"$f":"IF(TDPrimas_!C61=\"\",\"\",TDPrimas_!C61)","v":569036.86289999995},{"$f":"IF(TDPrimas_!D61=\"\",\"\",TDPrimas_!D61)","v":550201.60283999995},{"$f":"IF(TDPrimas_!E61=\"\",\"\",TDPrimas_!E61)","v":9.6861353316513646E-2},{"$f":"IF(TDPrimas_!F61=\"\",\"\",TDPrimas_!F61)","v":0.10703575808547236},{"$f":"IF(TDPrimas_!G61=\"\",\"\",TDPrimas_!G61)","v":18835.260060000001},{"$f":"IF(TDPrimas_!H61=\"\",\"\",TDPrimas_!H61)","v":3.4233379115540918},{"$f":"IF(TDPrimas_!I61=\"\",\"\",TDPrimas_!I61)","v":100},{"$f":"IF(TDPrimas_!J61=\"\",\"\",TDPrimas_!J61)","v":100},{"$f":"IF(TDPrimas_!K61=\"\",\"\",TDPrimas_!K61)","v":9.6861353316513646E-2}]
[null,{"$f":"IF(TDPrimas_!A62=\"\",\"\",TDPrimas_!A62)","v":54},{"$f":"IF(TDPrimas_!B62=\"\",\"\",TDPrimas_!B62)","v":"Sompo Japan"},{"$f":"IF(TDPrimas_!C62=\"\",\"\",TDPrimas_!C62)","v":538831.89078000002},{"$f":"IF(TDPrimas_!D62=\"\",\"\",TDPrimas_!D62)","v":617465.55573999998},{"$f":"IF(TDPrimas_!E62=\"\",\"\",TDPrimas_!E62)","v":9.1719868349229711E-2},{"$f":"IF(TDPrimas_!F62=\"\",\"\",TDPrimas_!F62)","v":0.12012123103450462},{"$f":"IF(TDPrimas_!G62=\"\",\"\",TDPrimas_!G62)","v":-78633.664959999966},{"$f":"IF(TDPrimas_!H62=\"\",\"\",TDPrimas_!H62)","v":-12.734907110043025},{"$f":"IF(TDPrimas_!I62=\"\",\"\",TDPrimas_!I62)","v":100},{"$f":"IF(TDPrimas_!J62=\"\",\"\",TDPrimas_!J62)","v":100},{"$f":"IF(TDPrimas_!K62=\"\",\"\",TDPrimas_!K62)","v":9.1719868349229711E-2}]
[null,{"$f":"IF(TDPrimas_!A63=\"\",\"\",TDPrimas_!A63)","v":55},{"$f":"IF(TDPrimas_!B63=\"\",\"\",TDPrimas_!B63)","v":"Patrimonial Vida"},{"$f":"IF(TDPrimas_!C63=\"\",\"\",TDPrimas_!C63)","v":531626.28642999998},{"$f":"IF(TDPrimas_!D63=\"\",\"\",TDPrimas_!D63)","v":2312178.0759800002},{"$f":"IF(TDPrimas_!E63=\"\",\"\",TDPrimas_!E63)","v":9.0493331661874496E-2},{"$f":"IF(TDPrimas_!F63=\"\",\"\",TDPrimas_!F63)","v":0.4498091825135917},{"$f":"IF(TDPrimas_!G63=\"\",\"\",TDPrimas_!G63)","v":-1780551.7895500003},{"$f":"IF(TDPrimas_!H63=\"\",\"\",TDPrimas_!H63)","v":-77.007554394153914},{"$f":"IF(TDPrimas_!I63=\"\",\"\",TDPrimas_!I63)","v":100},{"$f":"IF(TDPrimas_!J63=\"\",\"\",TDPrimas_!J63)","v":100},{"$f":"IF(TDPrimas_!K63=\"\",\"\",TDPrimas_!K63)","v":9.0493331661874496E-2}]
[null,{"$f":"IF(TDPrimas_!A64=\"\",\"\",TDPrimas_!A64)","v":56},{"$f":"IF(TDPrimas_!B64=\"\",\"\",TDPrimas_!B64)","v":"Solunion Crédito"},{"$f":"IF(TDPrimas_!C64=\"\",\"\",TDPrimas_!C64)","v":488652.45827999996},{"$f":"IF(TDPrimas_!D64=\"\",\"\",TDPrimas_!D64)","v":544250.09826},{"$f":"IF(TDPrimas_!E64=\"\",\"\",TDPrimas_!E64)","v":8.3178334298458015E-2},{"$f":"IF(TDPrimas_!F64=\"\",\"\",TDPrimas_!F64)","v":0.10587795737900167},{"$f":"IF(TDPrimas_!G64=\"\",\"\",TDPrimas_!G64)","v":-55597.639980000036},{"$f":"IF(TDPrimas_!H64=\"\",\"\",TDPrimas_!H64)","v":-10.215457959079654},{"$f":"IF(TDPrimas_!I64=\"\",\"\",TDPrimas_!I64)","v":100},{"$f":"IF(TDPrimas_!J64=\"\",\"\",TDPrimas_!J64)","v":100},{"$f":"IF(TDPrimas_!K64=\"\",\"\",TDPrimas_!K64)","v":8.3178334298458015E-2}]
[null,{"$f":"IF(TDPrimas_!A65=\"\",\"\",TDPrimas_!A65)","v":57},{"$f":"IF(TDPrimas_!B65=\"\",\"\",TDPrimas_!B65)","v":"Patrimonial Inbursa"},{"$f":"IF(TDPrimas_!C65=\"\",\"\",TDPrimas_!C65)","v":476051.14227999997},{"$f":"IF(TDPrimas_!D65=\"\",\"\",TDPrimas_!D65)","v":516299.34224999999},{"$f":"IF(TDPrimas_!E65=\"\",\"\",TDPrimas_!E65)","v":8.1033340536351722E-2},{"$f":"IF(TDPrimas_!F65=\"\",\"\",TDPrimas_!F65)","v":0.10044044076118398},{"$f":"IF(TDPrimas_!G65=\"\",\"\",TDPrimas_!G65)","v":-40248.199970000016},{"$f":"IF(TDPrimas_!H65=\"\",\"\",TDPrimas_!H65)","v":-7.7955164139084321},{"$f":"IF(TDPrimas_!I65=\"\",\"\",TDPrimas_!I65)","v":100},{"$f":"IF(TDPrimas_!J65=\"\",\"\",TDPrimas_!J65)","v":100},{"$f":"IF(TDPrimas_!K65=\"\",\"\",TDPrimas_!K65)","v":8.1033340536351722E-2}]
[null,{"$f":"IF(TDPrimas_!A66=\"\",\"\",TDPrimas_!A66)","v":58},{"$f":"IF(TDPrimas_!B66=\"\",\"\",TDPrimas_!B66)","v":"PREVEM Seguros"},{"$f":"IF(TDPrimas_!C66=\"\",\"\",TDPrimas_!C66)","v":445468.87245999998},{"$f":"IF(TDPrimas_!D66=\"\",\"\",TDPrimas_!D66)","v":399237.98135000002},{"$f":"IF(TDPrimas_!E66=\"\",\"\",TDPrimas_!E66)","v":7.5827632021863892E-2},{"$f":"IF(TDPrimas_!F66=\"\",\"\",TDPrimas_!F66)","v":7.7667421849982723E-2},{"$f":"IF(TDPrimas_!G66=\"\",\"\",TDPrimas_!G66)","v":46230.891109999968},{"$f":"IF(TDPrimas_!H66=\"\",\"\",TDPrimas_!H66)","v":11.579782803648309},{"$f":"IF(TDPrimas_!I66=\"\",\"\",TDPrimas_!I66)","v":100},{"$f":"IF(TDPrimas_!J66=\"\",\"\",TDPrimas_!J66)","v":100},{"$f":"IF(TDPrimas_!K66=\"\",\"\",TDPrimas_!K66)","v":7.5827632021863892E-2}]
[null,{"$f":"IF(TDPrimas_!A67=\"\",\"\",TDPrimas_!A67)","v":59},{"$f":"IF(TDPrimas_!B67=\"\",\"\",TDPrimas_!B67)","v":"Dentegra"},{"$f":"IF(TDPrimas_!C67=\"\",\"\",TDPrimas_!C67)","v":407667.88101999997},{"$f":"IF(TDPrimas_!D67=\"\",\"\",TDPrimas_!D67)","v":363244.9645},{"$f":"IF(TDPrimas_!E67=\"\",\"\",TDPrimas_!E67)","v":6.93931540006609E-2},{"$f":"IF(TDPrimas_!F67=\"\",\"\",TDPrimas_!F67)","v":7.0665370557443583E-2},{"$f":"IF(TDPrimas_!G67=\"\",\"\",TDPrimas_!G67)","v":44422.91651999997},{"$f":"IF(TDPrimas_!H67=\"\",\"\",TDPrimas_!H67)","v":12.229465198821753},{"$f":"IF(TDPrimas_!I67=\"\",\"\",TDPrimas_!I67)","v":100},{"$f":"IF(TDPrimas_!J67=\"\",\"\",TDPrimas_!J67)","v":100},{"$f":"IF(TDPrimas_!K67=\"\",\"\",TDPrimas_!K67)","v":6.93931540006609E-2}]
[null,{"$f":"IF(TDPrimas_!A68=\"\",\"\",TDPrimas_!A68)","v":60},{"$f":"IF(TDPrimas_!B68=\"\",\"\",TDPrimas_!B68)","v":"SHF Cred Vivienda"},{"$f":"IF(TDPrimas_!C68=\"\",\"\",TDPrimas_!C68)","v":383722.22219999996},{"$f":"IF(TDPrimas_!D68=\"\",\"\",TDPrimas_!D68)","v":283822.53762000002},{"$f":"IF(TDPrimas_!E68=\"\",\"\",TDPrimas_!E68)","v":6.5317128226969834E-2},{"$f":"IF(TDPrimas_!F68=\"\",\"\",TDPrimas_!F68)","v":5.5214598283774063E-2},{"$f":"IF(TDPrimas_!G68=\"\",\"\",TDPrimas_!G68)","v":99899.684579999943},{"$f":"IF(TDPrimas_!H68=\"\",\"\",TDPrimas_!H68)","v":35.197939324237915},{"$f":"IF(TDPrimas_!I68=\"\",\"\",TDPrimas_!I68)","v":100},{"$f":"IF(TDPrimas_!J68=\"\",\"\",TDPrimas_!J68)","v":100},{"$f":"IF(TDPrimas_!K68=\"\",\"\",TDPrimas_!K68)","v":6.5317128226969834E-2}]
[null,{"$f":"IF(TDPrimas_!A69=\"\",\"\",TDPrimas_!A69)","v":61},{"$f":"IF(TDPrimas_!B69=\"\",\"\",TDPrimas_!B69)","v":"Coface"},{"$f":"IF(TDPrimas_!C69=\"\",\"\",TDPrimas_!C69)","v":312582.40041},{"$f":"IF(TDPrimas_!D69=\"\",\"\",TDPrimas_!D69)","v":310673.93868000002},{"$f":"IF(TDPrimas_!E69=\"\",\"\",TDPrimas_!E69)","v":5.3207720449488211E-2},{"$f":"IF(TDPrimas_!F69=\"\",\"\",TDPrimas_!F69)","v":6.0438247312201085E-2},{"$f":"IF(TDPrimas_!G69=\"\",\"\",TDPrimas_!G69)","v":1908.4617299999809},{"$f":"IF(TDPrimas_!H69=\"\",\"\",TDPrimas_!H69)","v":0.61429733633555639},{"$f":"IF(TDPrimas_!I69=\"\",\"\",TDPrimas_!I69)","v":100},{"$f":"IF(TDPrimas_!J69=\"\",\"\",TDPrimas_!J69)","v":100},{"$f":"IF(TDPrimas_!K69=\"\",\"\",TDPrimas_!K69)","v":5.3207720449488211E-2}]
[null,{"$f":"IF(TDPrimas_!A70=\"\",\"\",TDPrimas_!A70)","v":62},{"$f":"IF(TDPrimas_!B70=\"\",\"\",TDPrimas_!B70)","v":"Skandia Life"},{"$f":"IF(TDPrimas_!C70=\"\",\"\",TDPrimas_!C70)","v":280734.25735000003},{"$f":"IF(TDPrimas_!D70=\"\",\"\",TDPrimas_!D70)","v":345769.43660999998},{"$f":"IF(TDPrimas_!E70=\"\",\"\",TDPrimas_!E70)","v":4.778653521785297E-2},{"$f":"IF(TDPrimas_!F70=\"\",\"\",TDPrimas_!F70)","v":6.726569602724429E-2},{"$f":"IF(TDPrimas_!G70=\"\",\"\",TDPrimas_!G70)","v":-65035.179259999946},{"$f":"IF(TDPrimas_!H70=\"\",\"\",TDPrimas_!H70)","v":-18.808828188407634},{"$f":"IF(TDPrimas_!I70=\"\",\"\",TDPrimas_!I70)","v":100},{"$f":"IF(TDPrimas_!J70=\"\",\"\",TDPrimas_!J70)","v":100},{"$f":"IF(TDPrimas_!K70=\"\",\"\",TDPrimas_!K70)","v":4.778653521785297E-2}]
[null,{"$f":"IF(TDPrimas_!A71=\"\",\"\",TDPrimas_!A71)","v":63},{"$f":"IF(TDPrimas_!B71=\"\",\"\",TDPrimas_!B71)","v":"Patrimonial Daños"},{"$f":"IF(TDPrimas_!C71=\"\",\"\",TDPrimas_!C71)","v":231199.61988999997},{"$f":"IF(TDPrimas_!D71=\"\",\"\",TDPrimas_!D71)","v":188268.49596},{"$f":"IF(TDPrimas_!E71=\"\",\"\",TDPrimas_!E71)","v":3.9354758063792461E-2},{"$f":"IF(TDPrimas_!F71=\"\",\"\",TDPrimas_!F71)","v":3.6625595208508305E-2},{"$f":"IF(TDPrimas_!G71=\"\",\"\",TDPrimas_!G71)","v":42931.123929999972},{"$f":"IF(TDPrimas_!H71=\"\",\"\",TDPrimas_!H71)","v":22.803137461257037},{"$f":"IF(TDPrimas_!I71=\"\",\"\",TDPrimas_!I71)","v":100},{"$f":"IF(TDPrimas_!J71=\"\",\"\",TDPrimas_!J71)","v":100},{"$f":"IF(TDPrimas_!K71=\"\",\"\",TDPrimas_!K71)","v":3.9354758063792461E-2}]
[null,{"$f":"IF(TDPrimas_!A72=\"\",\"\",TDPrimas_!A72)","v":64},{"$f":"IF(TDPrimas_!B72=\"\",\"\",TDPrimas_!B72)","v":"Centauro"},{"$f":"IF(TDPrimas_!C72=\"\",\"\",TDPrimas_!C72)","v":217174.45709000001},{"$f":"IF(TDPrimas_!D72=\"\",\"\",TDPrimas_!D72)","v":112760.16842},{"$f":"IF(TDPrimas_!E72=\"\",\"\",TDPrimas_!E72)","v":3.6967397353329746E-2},{"$f":"IF(TDPrimas_!F72=\"\",\"\",TDPrimas_!F72)","v":2.193626853571716E-2},{"$f":"IF(TDPrimas_!G72=\"\",\"\",TDPrimas_!G72)","v":104414.28867000001},{"$f":"IF(TDPrimas_!H72=\"\",\"\",TDPrimas_!H72)","v":92.598556860154787},{"$f":"IF(TDPrimas_!I72=\"\",\"\",TDPrimas_!I72)","v":100},{"$f":"IF(TDPrimas_!J72=\"\",\"\",TDPrimas_!J72)","v":100},{"$f":"IF(TDPrimas_!K72=\"\",\"\",TDPrimas_!K72)","v":3.6967397353329746E-2}]
[null,{"$f":"IF(TDPrimas_!A73=\"\",\"\",TDPrimas_!A73)","v":65},{"$f":"IF(TDPrimas_!B73=\"\",\"\",TDPrimas_!B73)","v":"MediAccess"},{"$f":"IF(TDPrimas_!C73=\"\",\"\",TDPrimas_!C73)","v":209673.78633},{"$f":"IF(TDPrimas_!D73=\"\",\"\",TDPrimas_!D73)","v":185978.69294000001},{"$f":"IF(TDPrimas_!E73=\"\",\"\",TDPrimas_!E73)","v":3.5690634514288722E-2},{"$f":"IF(TDPrimas_!F73=\"\",\"\",TDPrimas_!F73)","v":3.6180138850607842E-2},{"$f":"IF(TDPrimas_!G73=\"\",\"\",TDPrimas_!G73)","v":23695.093389999995},{"$f":"IF(TDPrimas_!H73=\"\",\"\",TDPrimas_!H73)","v":12.740757027281857},{"$f":"IF(TDPrimas_!I73=\"\",\"\",TDPrimas_!I73)","v":100},{"$f":"IF(TDPrimas_!J73=\"\",\"\",TDPrimas_!J73)","v":100},{"$f":"IF(TDPrimas_!K73=\"\",\"\",TDPrimas_!K73)","v":3.5690634514288722E-2}]
[null,{"$f":"IF(TDPrimas_!A74=\"\",\"\",TDPrimas_!A74)","v":66},{"$f":"IF(TDPrimas_!B74=\"\",\"\",TDPrimas_!B74)","v":"Assurant Daños"},{"$f":"IF(TDPrimas_!C74=\"\",\"\",TDPrimas_!C74)","v":198386.6924},{"$f":"IF(TDPrimas_!D74=\"\",\"\",TDPrimas_!D74)","v":167165.52919999999},{"$f":"IF(TDPrimas_!E74=\"\",\"\",TDPrimas_!E74)","v":3.3769347398549553E-2},{"$f":"IF(TDPrimas_!F74=\"\",\"\",TDPrimas_!F74)","v":3.2520241764698025E-2},{"$f":"IF(TDPrimas_!G74=\"\",\"\",TDPrimas_!G74)","v":31221.16320000001},{"$f":"IF(TDPrimas_!H74=\"\",\"\",TDPrimas_!H74)","v":18.676795000389369},{"$f":"IF(TDPrimas_!I74=\"\",\"\",TDPrimas_!I74)","v":100},{"$f":"IF(TDPrimas_!J74=\"\",\"\",TDPrimas_!J74)","v":100},{"$f":"IF(TDPrimas_!K74=\"\",\"\",TDPrimas_!K74)","v":3.3769347398549553E-2}]
[null,{"$f":"IF(TDPrimas_!A75=\"\",\"\",TDPrimas_!A75)","v":67},{"$f":"IF(TDPrimas_!B75=\"\",\"\",TDPrimas_!B75)","v":"Odontoprev"},{"$f":"IF(TDPrimas_!C75=\"\",\"\",TDPrimas_!C75)","v":106585.73477},{"$f":"IF(TDPrimas_!D75=\"\",\"\",TDPrimas_!D75)","v":68622.057419999997},{"$f":"IF(TDPrimas_!E75=\"\",\"\",TDPrimas_!E75)","v":1.814300476324586E-2},{"$f":"IF(TDPrimas_!F75=\"\",\"\",TDPrimas_!F75)","v":1.3349677462627208E-2},{"$f":"IF(TDPrimas_!G75=\"\",\"\",TDPrimas_!G75)","v":37963.677349999998},{"$f":"IF(TDPrimas_!H75=\"\",\"\",TDPrimas_!H75)","v":55.3228492081548},{"$f":"IF(TDPrimas_!I75=\"\",\"\",TDPrimas_!I75)","v":100},{"$f":"IF(TDPrimas_!J75=\"\",\"\",TDPrimas_!J75)","v":100},{"$f":"IF(TDPrimas_!K75=\"\",\"\",TDPrimas_!K75)","v":1.814300476324586E-2}]
[null,{"$f":"IF(TDPrimas_!A76=\"\",\"\",TDPrimas_!A76)","v":68},{"$f":"IF(TDPrimas_!B76=\"\",\"\",TDPrimas_!B76)","v":"Virginia Surety"},{"$f":"IF(TDPrimas_!C76=\"\",\"\",TDPrimas_!C76)","v":93997.07677},{"$f":"IF(TDPrimas_!D76=\"\",\"\",TDPrimas_!D76)","v":77349.986629999999},{"$f":"IF(TDPrimas_!E76=\"\",\"\",TDPrimas_!E76)","v":1.6000165643642043E-2},{"$f":"IF(TDPrimas_!F76=\"\",\"\",TDPrimas_!F76)","v":1.5047601486633288E-2},{"$f":"IF(TDPrimas_!G76=\"\",\"\",TDPrimas_!G76)","v":16647.09014},{"$f":"IF(TDPrimas_!H76=\"\",\"\",TDPrimas_!H76)","v":21.521775071055373},{"$f":"IF(TDPrimas_!I76=\"\",\"\",TDPrimas_!I76)","v":100},{"$f":"IF(TDPrimas_!J76=\"\",\"\",TDPrimas_!J76)","v":100},{"$f":"IF(TDPrimas_!K76=\"\",\"\",TDPrimas_!K76)","v":1.6000165643642043E-2}]
[null,{"$f":"IF(TDPrimas_!A77=\"\",\"\",TDPrimas_!A77)","v":69},{"$f":"IF(TDPrimas_!B77=\"\",\"\",TDPrimas_!B77)","v":"Genworth Seg. de Crédito"},{"$f":"IF(TDPrimas_!C77=\"\",\"\",TDPrimas_!C77)","v":84326.688069999989},{"$f":"IF(TDPrimas_!D77=\"\",\"\",TDPrimas_!D77)","v":49751.018839999997},{"$f":"IF(TDPrimas_!E77=\"\",\"\",TDPrimas_!E77)","v":1.435407380381807E-2},{"$f":"IF(TDPrimas_!F77=\"\",\"\",TDPrimas_!F77)","v":9.678521453912561E-3},{"$f":"IF(TDPrimas_!G77=\"\",\"\",TDPrimas_!G77)","v":34575.669229999992},{"$f":"IF(TDPrimas_!H77=\"\",\"\",TDPrimas_!H77)","v":69.497409372048935},{"$f":"IF(TDPrimas_!I77=\"\",\"\",TDPrimas_!I77)","v":100},{"$f":"IF(TDPrimas_!J77=\"\",\"\",TDPrimas_!J77)","v":100},{"$f":"IF(TDPrimas_!K77=\"\",\"\",TDPrimas_!K77)","v":1.435407380381807E-2}]
[null,{"$f":"IF(TDPrimas_!A78=\"\",\"\",TDPrimas_!A78)","v":70},{"$f":"IF(TDPrimas_!B78=\"\",\"\",TDPrimas_!B78)","v":"Crabi"},{"$f":"IF(TDPrimas_!C78=\"\",\"\",TDPrimas_!C78)","v":60704.479759999995},{"$f":"IF(TDPrimas_!D78=\"\",\"\",TDPrimas_!D78)","v":20106.535540000001},{"$f":"IF(TDPrimas_!E78=\"\",\"\",TDPrimas_!E78)","v":1.03331057182526E-2},{"$f":"IF(TDPrimas_!F78=\"\",\"\",TDPrimas_!F78)","v":3.9115085504798754E-3},{"$f":"IF(TDPrimas_!G78=\"\",\"\",TDPrimas_!G78)","v":40597.94421999999},{"$f":"IF(TDPrimas_!H78=\"\",\"\",TDPrimas_!H78)","v":201.91416934674956},{"$f":"IF(TDPrimas_!I78=\"\",\"\",TDPrimas_!I78)","v":100},{"$f":"IF(TDPrimas_!J78=\"\",\"\",TDPrimas_!J78)","v":100},{"$f":"IF(TDPrimas_!K78=\"\",\"\",TDPrimas_!K78)","v":1.03331057182526E-2}]
[null,{"$f":"IF(TDPrimas_!A79=\"\",\"\",TDPrimas_!A79)","v":71},{"$f":"IF(TDPrimas_!B79=\"\",\"\",TDPrimas_!B79)","v":"SPP Seguros"},{"$f":"IF(TDPrimas_!C79=\"\",\"\",TDPrimas_!C79)","v":54230.541290000001},{"$f":"IF(TDPrimas_!D79=\"\",\"\",TDPrimas_!D79)","v":39785.980309999999},{"$f":"IF(TDPrimas_!E79=\"\",\"\",TDPrimas_!E79)","v":9.2311130665001968E-3},{"$f":"IF(TDPrimas_!F79=\"\",\"\",TDPrimas_!F79)","v":7.7399312209799499E-3},{"$f":"IF(TDPrimas_!G79=\"\",\"\",TDPrimas_!G79)","v":14444.560980000002},{"$f":"IF(TDPrimas_!H79=\"\",\"\",TDPrimas_!H79)","v":36.305655578805585},{"$f":"IF(TDPrimas_!I79=\"\",\"\",TDPrimas_!I79)","v":100},{"$f":"IF(TDPrimas_!J79=\"\",\"\",TDPrimas_!J79)","v":100},{"$f":"IF(TDPrimas_!K79=\"\",\"\",TDPrimas_!K79)","v":9.2311130665001968E-3}]
[null,{"$f":"IF(TDPrimas_!A80=\"\",\"\",TDPrimas_!A80)","v":72},{"$f":"IF(TDPrimas_!B80=\"\",\"\",TDPrimas_!B80)","v":"Metlife Pensiones"},{"$f":"IF(TDPrimas_!C80=\"\",\"\",TDPrimas_!C80)","v":37040.975299999998},{"$f":"IF(TDPrimas_!D80=\"\",\"\",TDPrimas_!D80)","v":17873.450069999999},{"$f":"IF(TDPrimas_!E80=\"\",\"\",TDPrimas_!E80)","v":6.3051082093991953E-3},{"$f":"IF(TDPrimas_!F80=\"\",\"\",TDPrimas_!F80)","v":3.4770859771588538E-3},{"$f":"IF(TDPrimas_!G80=\"\",\"\",TDPrimas_!G80)","v":19167.525229999999},{"$f":"IF(TDPrimas_!H80=\"\",\"\",TDPrimas_!H80)","v":107.24020910866034},{"$f":"IF(TDPrimas_!I80=\"\",\"\",TDPrimas_!I80)","v":100},{"$f":"IF(TDPrimas_!J80=\"\",\"\",TDPrimas_!J80)","v":100},{"$f":"IF(TDPrimas_!K80=\"\",\"\",TDPrimas_!K80)","v":6.3051082093991953E-3}]
[null,{"$f":"IF(TDPrimas_!A81=\"\",\"\",TDPrimas_!A81)","v":73},{"$f":"IF(TDPrimas_!B81=\"\",\"\",TDPrimas_!B81)","v":"Metlife Más"},{"$f":"IF(TDPrimas_!C81=\"\",\"\",TDPrimas_!C81)","v":34905.856340000006},{"$f":"IF(TDPrimas_!D81=\"\",\"\",TDPrimas_!D81)","v":27590.89299},{"$f":"IF(TDPrimas_!E81=\"\",\"\",TDPrimas_!E81)","v":5.9416686408212101E-3},{"$f":"IF(TDPrimas_!F81=\"\",\"\",TDPrimas_!F81)","v":5.3675091679051268E-3},{"$f":"IF(TDPrimas_!G81=\"\",\"\",TDPrimas_!G81)","v":7314.9633500000054},{"$f":"IF(TDPrimas_!H81=\"\",\"\",TDPrimas_!H81)","v":26.512238486268735},{"$f":"IF(TDPrimas_!I81=\"\",\"\",TDPrimas_!I81)","v":100},{"$f":"IF(TDPrimas_!J81=\"\",\"\",TDPrimas_!J81)","v":100},{"$f":"IF(TDPrimas_!K81=\"\",\"\",TDPrimas_!K81)","v":5.9416686408212101E-3}]
[null,{"$f":"IF(TDPrimas_!A82=\"\",\"\",TDPrimas_!A82)","v":74},{"$f":"IF(TDPrimas_!B82=\"\",\"\",TDPrimas_!B82)","v":"SPT"},{"$f":"IF(TDPrimas_!C82=\"\",\"\",TDPrimas_!C82)","v":32331.358170000003},{"$f":"IF(TDPrimas_!D82=\"\",\"\",TDPrimas_!D82)","v":21801.08078},{"$f":"IF(TDPrimas_!E82=\"\",\"\",TDPrimas_!E82)","v":5.5034380214792232E-3},{"$f":"IF(TDPrimas_!F82=\"\",\"\",TDPrimas_!F82)","v":4.241163959401455E-3},{"$f":"IF(TDPrimas_!G82=\"\",\"\",TDPrimas_!G82)","v":10530.277390000003},{"$f":"IF(TDPrimas_!H82=\"\",\"\",TDPrimas_!H82)","v":48.301630071754651},{"$f":"IF(TDPrimas_!I82=\"\",\"\",TDPrimas_!I82)","v":100},{"$f":"IF(TDPrimas_!J82=\"\",\"\",TDPrimas_!J82)","v":100},{"$f":"IF(TDPrimas_!K82=\"\",\"\",TDPrimas_!K82)","v":5.5034380214792232E-3}]
[null,{"$f":"IF(TDPrimas_!A83=\"\",\"\",TDPrimas_!A83)","v":75},{"$f":"IF(TDPrimas_!B83=\"\",\"\",TDPrimas_!B83)","v":"Quálitas Salud"},{"$f":"IF(TDPrimas_!C83=\"\",\"\",TDPrimas_!C83)","v":12852.044910000001},{"$f":"IF(TDPrimas_!D83=\"\",\"\",TDPrimas_!D83)","v":15724.5065},{"$f":"IF(TDPrimas_!E83=\"\",\"\",TDPrimas_!E83)","v":2.1876727924496132E-3},{"$f":"IF(TDPrimas_!F83=\"\",\"\",TDPrimas_!F83)","v":3.0590322984516694E-3},{"$f":"IF(TDPrimas_!G83=\"\",\"\",TDPrimas_!G83)","v":-2872.461589999999},{"$f":"IF(TDPrimas_!H83=\"\",\"\",TDPrimas_!H83)","v":-18.267419648432202},{"$f":"IF(TDPrimas_!I83=\"\",\"\",TDPrimas_!I83)","v":100},{"$f":"IF(TDPrimas_!J83=\"\",\"\",TDPrimas_!J83)","v":100},{"$f":"IF(TDPrimas_!K83=\"\",\"\",TDPrimas_!K83)","v":2.1876727924496132E-3}]
[null,{"$f":"IF(TDPrimas_!A84=\"\",\"\",TDPrimas_!A84)","v":76},{"$f":"IF(TDPrimas_!B84=\"\",\"\",TDPrimas_!B84)","v":"Citibanamex Pensiones"},{"$f":"IF(TDPrimas_!C84=\"\",\"\",TDPrimas_!C84)","v":6207.0736399999996},{"$f":"IF(TDPrimas_!D84=\"\",\"\",TDPrimas_!D84)","v":16251.42186},{"$f":"IF(TDPrimas_!E84=\"\",\"\",TDPrimas_!E84)","v":1.0565669679844891E-3},{"$f":"IF(TDPrimas_!F84=\"\",\"\",TDPrimas_!F84)","v":3.1615379703969415E-3},{"$f":"IF(TDPrimas_!G84=\"\",\"\",TDPrimas_!G84)","v":-10044.34822},{"$f":"IF(TDPrimas_!H84=\"\",\"\",TDPrimas_!H84)","v":-61.80596569659167},{"$f":"IF(TDPrimas_!I84=\"\",\"\",TDPrimas_!I84)","v":100},{"$f":"IF(TDPrimas_!J84=\"\",\"\",TDPrimas_!J84)","v":100},{"$f":"IF(TDPrimas_!K84=\"\",\"\",TDPrimas_!K84)","v":1.0565669679844891E-3}]
[null,{"$f":"IF(TDPrimas_!A85=\"\",\"\",TDPrimas_!A85)","v":77},{"$f":"IF(TDPrimas_!B85=\"\",\"\",TDPrimas_!B85)","v":"Pensiones Inbursa"},{"$f":"IF(TDPrimas_!C85=\"\",\"\",TDPrimas_!C85)","v":502.70092999999997},{"$f":"IF(TDPrimas_!D85=\"\",\"\",TDPrimas_!D85)","v":1186.17977},{"$f":"IF(TDPrimas_!E85=\"\",\"\",TDPrimas_!E85)","v":8.5569662649126048E-5},{"$f":"IF(TDPrimas_!F85=\"\",\"\",TDPrimas_!F85)","v":2.307584170097785E-4},{"$f":"IF(TDPrimas_!G85=\"\",\"\",TDPrimas_!G85)","v":-683.47883999999999},{"$f":"IF(TDPrimas_!H85=\"\",\"\",TDPrimas_!H85)","v":-57.62017337388918},{"$f":"IF(TDPrimas_!I85=\"\",\"\",TDPrimas_!I85)","v":100},{"$f":"IF(TDPrimas_!J85=\"\",\"\",TDPrimas_!J85)","v":100},{"$f":"IF(TDPrimas_!K85=\"\",\"\",TDPrimas_!K85)","v":8.5569662649126048E-5}]
[null,{"$f":"IF(TDPrimas_!A86=\"\",\"\",TDPrimas_!A86)","v":78},{"$f":"IF(TDPrimas_!B86=\"\",\"\",TDPrimas_!B86)","v":"Momento Seguros"},{"$f":"IF(TDPrimas_!C86=\"\",\"\",TDPrimas_!C86)","v":468.89203999999995},{"$f":"IF(TDPrimas_!D86=\"\",\"\",TDPrimas_!D86)","v":0},{"$f":"IF(TDPrimas_!E86=\"\",\"\",TDPrimas_!E86)","v":7.981471942305839E-5},{"$f":"IF(TDPrimas_!F86=\"\",\"\",TDPrimas_!F86)","v":0},{"$f":"IF(TDPrimas_!G86=\"\",\"\",TDPrimas_!G86)","v":0},{"$f":"IF(TDPrimas_!H86=\"\",\"\",TDPrimas_!H86)","v":0},{"$f":"IF(TDPrimas_!I86=\"\",\"\",TDPrimas_!I86)","v":100},{"$f":"IF(TDPrimas_!J86=\"\",\"\",TDPrimas_!J86)","v":100},{"$f":"IF(TDPrimas_!K86=\"\",\"\",TDPrimas_!K86)","v":7.981471942305839E-5}]
[null,{"$f":"IF(TDPrimas_!A87=\"\",\"\",TDPrimas_!A87)","v":79},{"$f":"IF(TDPrimas_!B87=\"\",\"\",TDPrimas_!B87)","v":"Aserta Seguros de Vida"},{"$f":"IF(TDPrimas_!C87=\"\",\"\",TDPrimas_!C87)","v":0},{"$f":"IF(TDPrimas_!D87=\"\",\"\",TDPrimas_!D87)","v":596.24644000000001},{"$f":"IF(TDPrimas_!E87=\"\",\"\",TDPrimas_!E87)","v":0},{"$f":"IF(TDPrimas_!F87=\"\",\"\",TDPrimas_!F87)","v":1.1599328206559777E-4},{"$f":"IF(TDPrimas_!G87=\"\",\"\",TDPrimas_!G87)","v":0},{"$f":"IF(TDPrimas_!H87=\"\",\"\",TDPrimas_!H87)","v":0},{"$f":"IF(TDPrimas_!I87=\"\",\"\",TDPrimas_!I87)","v":0},{"$f":"IF(TDPrimas_!J87=\"\",\"\",TDPrimas_!J87)","v":0},{"$f":"IF(TDPrimas_!K87=\"\",\"\",TDPrimas_!K87)","v":0}]
[null,{"$f":"IF(TDPrimas_!A88=\"\",\"\",TDPrimas_!A88)","v":79},{"$f":"IF(TDPrimas_!B88=\"\",\"\",TDPrimas_!B88)","v":"Zurich Daños"},{"$f":"IF(TDPrimas_!C88=\"\",\"\",TDPrimas_!C88)","v":0},{"$f":"IF(TDPrimas_!D88=\"\",\"\",TDPrimas_!D88)","v":4063560.4021999999},{"$f":"IF(TDPrimas_!E88=\"\",\"\",TDPrimas_!E88)","v":0},{"$f":"IF(TDPrimas_!F88=\"\",\"\",TDPrimas_!F88)","v":0.7905216304905377},{"$f":"IF(TDPrimas_!G88=\"\",\"\",TDPrimas_!G88)","v":0},{"$f":"IF(TDPrimas_!H88=\"\",\"\",TDPrimas_!H88)","v":0},{"$f":"IF(TDPrimas_!I88=\"\",\"\",TDPrimas_!I88)","v":0},{"$f":"IF(TDPrimas_!J88=\"\",\"\",TDPrimas_!J88)","v":0},{"$f":"IF(TDPrimas_!K88=\"\",\"\",TDPrimas_!K88)","v":0}]
[null,{"$f":"IF(TDPrimas_!A89=\"\",\"\",TDPrimas_!A89)","v":79},{"$f":"IF(TDPrimas_!B89=\"\",\"\",TDPrimas_!B89)","v":"Zurich Vida"},{"$f":"IF(TDPrimas_!C89=\"\",\"\",TDPrimas_!C89)","v":0},{"$f":"IF(TDPrimas_!D89=\"\",\"\",TDPrimas_!D89)","v":706727.70837000001},{"$f":"IF(TDPrimas_!E89=\"\",\"\",TDPrimas_!E89)","v":0},{"$f":"IF(TDPrimas_!F89=\"\",\"\",TDPrimas_!F89)","v":0.13748621529804844},{"$f":"IF(TDPrimas_!G89=\"\",\"\",TDPrimas_!G89)","v":0},{"$f":"IF(TDPrimas_!H89=\"\",\"\",TDPrimas_!H89)","v":0},{"$f":"IF(TDPrimas_!I89=\"\",\"\",TDPrimas_!I89)","v":0},{"$f":"IF(TDPrimas_!J89=\"\",\"\",TDPrimas_!J89)","v":0},{"$f":"IF(TDPrimas_!K89=\"\",\"\",TDPrimas_!K89)","v":0}]
[null,{"$f":"IF(TDPrimas_!A90=\"\",\"\",TDPrimas_!A90)","v":150.1},{"$f":"IF(TDPrimas_!B90=\"\",\"\",TDPrimas_!B90)","v":"TOTAL RESTO"},{"$f":"IF(TDPrimas_!C90=\"\",\"\",TDPrimas_!C90)","v":125647955.98254001},{"$f":"IF(TDPrimas_!D90=\"\",\"\",TDPrimas_!D90)","v":119294033.22830996},{"$f":"IF(TDPrimas_!E90=\"\",\"\",TDPrimas_!E90)","v":21.387772658344172},{"$f":"IF(TDPrimas_!F90=\"\",\"\",TDPrimas_!F90)","v":23.207361112284627},{"$f":"IF(TDPrimas_!G90=\"\",\"\",TDPrimas_!G90)","v":6353922.7542300522},{"$f":"IF(TDPrimas_!H90=\"\",\"\",TDPrimas_!H90)","v":5.3262703777226195},{"$f":"IF(TDPrimas_!I90=\"\",\"\",TDPrimas_!I90)","v":100},{"$f":"IF(TDPrimas_!J90=\"\",\"\",TDPrimas_!J90)","v":100},{"$f":"IF(TDPrimas_!K90=\"\",\"\",TDPrimas_!K90)","v":21.387772658344172}]
[null,{"$f":"IF(TDPrimas_!A91=\"\",\"\",TDPrimas_!A91)","v":200},{"$f":"IF(TDPrimas_!B91=\"\",\"\",TDPrimas_!B91)","v":"Patria"},{"$f":"IF(TDPrimas_!C91=\"\",\"\",TDPrimas_!C91)","v":0},{"$f":"IF(TDPrimas_!D91=\"\",\"\",TDPrimas_!D91)","v":0},{"$f":"IF(TDPrimas_!E91=\"\",\"\",TDPrimas_!E91)","v":0},{"$f":"IF(TDPrimas_!F91=\"\",\"\",TDPrimas_!F91)","v":0},{"$f":"IF(TDPrimas_!G91=\"\",\"\",TDPrimas_!G91)","v":0},{"$f":"IF(TDPrimas_!H91=\"\",\"\",TDPrimas_!H91)","v":0},{"$f":"IF(TDPrimas_!I91=\"\",\"\",TDPrimas_!I91)","v":0},{"$f":"IF(TDPrimas_!J91=\"\",\"\",TDPrimas_!J91)","v":0},{"$f":"IF(TDPrimas_!K91=\"\",\"\",TDPrimas_!K91)","v":0}]
[null,{"$f":"IF(TDPrimas_!A92=\"\",\"\",TDPrimas_!A92)","v":201.1},{"$f":"IF(TDPrimas_!B92=\"\",\"\",TDPrimas_!B92)","v":"TOTAL"},{"$f":"IF(TDPrimas_!C92=\"\",\"\",TDPrimas_!C92)","v":587475647.83713007},{"$f":"IF(TDPrimas_!D92=\"\",\"\",TDPrimas_!D92)","v":514035321.16869003},{"$f":"IF(TDPrimas_!E92=\"\",\"\",TDPrimas_!E92)","v":100},{"$f":"IF(TDPrimas_!F92=\"\",\"\",TDPrimas_!F92)","v":100},{"$f":"IF(TDPrimas_!G92=\"\",\"\",TDPrimas_!G92)","v":73440326.668440044},{"$f":"IF(TDPrimas_!H92=\"\",\"\",TDPrimas_!H92)","v":14.287019518711098},{"$f":"IF(TDPrimas_!I92=\"\",\"\",TDPrimas_!I92)","v":100},{"$f":"IF(TDPrimas_!J92=\"\",\"\",TDPrimas_!J92)","v":100},{"$f":"IF(TDPrimas_!K92=\"\",\"\",TDPrimas_!K92)","v":100}]
[null,{"$f":"IF(TDPrimas_!A93=\"\",\"\",TDPrimas_!A93)","v":""},{"$f":"IF(TDPrimas_!B93=\"\",\"\",TDPrimas_!B93)","v":""},{"$f":"IF(TDPrimas_!C93=\"\",\"\",TDPrimas_!C93)","v":""},{"$f":"IF(TDPrimas_!D93=\"\",\"\",TDPrimas_!D93)","v":""},{"$f":"IF(TDPrimas_!E93=\"\",\"\",TDPrimas_!E93)","v":""},{"$f":"IF(TDPrimas_!F93=\"\",\"\",TDPrimas_!F93)","v":""},{"$f":"IF(TDPrimas_!G93=\"\",\"\",TDPrimas_!G93)","v":""},{"$f":"IF(TDPrimas_!H93=\"\",\"\",TDPrimas_!H93)","v":""},{"$f":"IF(TDPrimas_!I93=\"\",\"\",TDPrimas_!I93)","v":""},{"$f":"IF(TDPrimas_!J93=\"\",\"\",TDPrimas_!J93)","v":""},{"$f":"IF(TDPrimas_!K93=\"\",\"\",TDPrimas_!K93)","v":""}]
[null,{"$f":"IF(TDPrimas_!A94=\"\",\"\",TDPrimas_!A94)","v":""},{"$f":"IF(TDPrimas_!B94=\"\",\"\",TDPrimas_!B94)","v":""},{"$f":"IF(TDPrimas_!C94=\"\",\"\",TDPrimas_!C94)","v":""},{"$f":"IF(TDPrimas_!D94=\"\",\"\",TDPrimas_!D94)","v":""},{"$f":"IF(TDPrimas_!E94=\"\",\"\",TDPrimas_!E94)","v":""},{"$f":"IF(TDPrimas_!F94=\"\",\"\",TDPrimas_!F94)","v":""},{"$f":"IF(TDPrimas_!G94=\"\",\"\",TDPrimas_!G94)","v":""},{"$f":"IF(TDPrimas_!H94=\"\",\"\",TDPrimas_!H94)","v":""},{"$f":"IF(TDPrimas_!I94=\"\",\"\",TDPrimas_!I94)","v":""},{"$f":"IF(TDPrimas_!J94=\"\",\"\",TDPrimas_!J94)","v":""},{"$f":"IF(TDPrimas_!K94=\"\",\"\",TDPrimas_!K94)","v":""}]
[null,{"$f":"IF(TDPrimas_!A95=\"\",\"\",TDPrimas_!A95)","v":""},{"$f":"IF(TDPrimas_!B95=\"\",\"\",TDPrimas_!B95)","v":""},{"$f":"IF(TDPrimas_!C95=\"\",\"\",TDPrimas_!C95)","v":""},{"$f":"IF(TDPrimas_!D95=\"\",\"\",TDPrimas_!D95)","v":""},{"$f":"IF(TDPrimas_!E95=\"\",\"\",TDPrimas_!E95)","v":""},{"$f":"IF(TDPrimas_!F95=\"\",\"\",TDPrimas_!F95)","v":""},{"$f":"IF(TDPrimas_!G95=\"\",\"\",TDPrimas_!G95)","v":""},{"$f":"IF(TDPrimas_!H95=\"\",\"\",TDPrimas_!H95)","v":""},{"$f":"IF(TDPrimas_!I95=\"\",\"\",TDPrimas_!I95)","v":""},{"$f":"IF(TDPrimas_!J95=\"\",\"\",TDPrimas_!J95)","v":""},{"$f":"IF(TDPrimas_!K95=\"\",\"\",TDPrimas_!K95)","v":""}]
[null,{"$f":"IF(TDPrimas_!A96=\"\",\"\",TDPrimas_!A96)","v":""},{"$f":"IF(TDPrimas_!B96=\"\",\"\",TDPrimas_!B96)","v":""},{"$f":"IF(TDPrimas_!C96=\"\",\"\",TDPrimas_!C96)","v":""},{"$f":"IF(TDPrimas_!D96=\"\",\"\",TDPrimas_!D96)","v":""},{"$f":"IF(TDPrimas_!E96=\"\",\"\",TDPrimas_!E96)","v":""},{"$f":"IF(TDPrimas_!F96=\"\",\"\",TDPrimas_!F96)","v":""},{"$f":"IF(TDPrimas_!G96=\"\",\"\",TDPrimas_!G96)","v":""},{"$f":"IF(TDPrimas_!H96=\"\",\"\",TDPrimas_!H96)","v":""},{"$f":"IF(TDPrimas_!I96=\"\",\"\",TDPrimas_!I96)","v":""},{"$f":"IF(TDPrimas_!J96=\"\",\"\",TDPrimas_!J96)","v":""},{"$f":"IF(TDPrimas_!K96=\"\",\"\",TDPrimas_!K96)","v":""}]
[null,{"$f":"IF(TDPrimas_!A97=\"\",\"\",TDPrimas_!A97)","v":""},{"$f":"IF(TDPrimas_!B97=\"\",\"\",TDPrimas_!B97)","v":""},{"$f":"IF(TDPrimas_!C97=\"\",\"\",TDPrimas_!C97)","v":""},{"$f":"IF(TDPrimas_!D97=\"\",\"\",TDPrimas_!D97)","v":""},{"$f":"IF(TDPrimas_!E97=\"\",\"\",TDPrimas_!E97)","v":""},{"$f":"IF(TDPrimas_!F97=\"\",\"\",TDPrimas_!F97)","v":""},{"$f":"IF(TDPrimas_!G97=\"\",\"\",TDPrimas_!G97)","v":""},{"$f":"IF(TDPrimas_!H97=\"\",\"\",TDPrimas_!H97)","v":""},{"$f":"IF(TDPrimas_!I97=\"\",\"\",TDPrimas_!I97)","v":""},{"$f":"IF(TDPrimas_!J97=\"\",\"\",TDPrimas_!J97)","v":""},{"$f":"IF(TDPrimas_!K97=\"\",\"\",TDPrimas_!K97)","v":""}]
[null,{"$f":"IF(TDPrimas_!A98=\"\",\"\",TDPrimas_!A98)","v":""},{"$f":"IF(TDPrimas_!B98=\"\",\"\",TDPrimas_!B98)","v":""},{"$f":"IF(TDPrimas_!C98=\"\",\"\",TDPrimas_!C98)","v":""},{"$f":"IF(TDPrimas_!D98=\"\",\"\",TDPrimas_!D98)","v":""},{"$f":"IF(TDPrimas_!E98=\"\",\"\",TDPrimas_!E98)","v":""},{"$f":"IF(TDPrimas_!F98=\"\",\"\",TDPrimas_!F98)","v":""},{"$f":"IF(TDPrimas_!G98=\"\",\"\",TDPrimas_!G98)","v":""},{"$f":"IF(TDPrimas_!H98=\"\",\"\",TDPrimas_!H98)","v":""},{"$f":"IF(TDPrimas_!I98=\"\",\"\",TDPrimas_!I98)","v":""},{"$f":"IF(TDPrimas_!J98=\"\",\"\",TDPrimas_!J98)","v":""},{"$f":"IF(TDPrimas_!K98=\"\",\"\",TDPrimas_!K98)","v":""}]
[null,{"$f":"IF(TDPrimas_!A99=\"\",\"\",TDPrimas_!A99)","v":""},{"$f":"IF(TDPrimas_!B99=\"\",\"\",TDPrimas_!B99)","v":""},{"$f":"IF(TDPrimas_!C99=\"\",\"\",TDPrimas_!C99)","v":""},{"$f":"IF(TDPrimas_!D99=\"\",\"\",TDPrimas_!D99)","v":""},{"$f":"IF(TDPrimas_!E99=\"\",\"\",TDPrimas_!E99)","v":""},{"$f":"IF(TDPrimas_!F99=\"\",\"\",TDPrimas_!F99)","v":""},{"$f":"IF(TDPrimas_!G99=\"\",\"\",TDPrimas_!G99)","v":""},{"$f":"IF(TDPrimas_!H99=\"\",\"\",TDPrimas_!H99)","v":""},{"$f":"IF(TDPrimas_!I99=\"\",\"\",TDPrimas_!I99)","v":""},{"$f":"IF(TDPrimas_!J99=\"\",\"\",TDPrimas_!J99)","v":""},{"$f":"IF(TDPrimas_!K99=\"\",\"\",TDPrimas_!K99)","v":""}]
[null,{"$f":"IF(TDPrimas_!A100=\"\",\"\",TDPrimas_!A100)","v":""},{"$f":"IF(TDPrimas_!B100=\"\",\"\",TDPrimas_!B100)","v":""},{"$f":"IF(TDPrimas_!C100=\"\",\"\",TDPrimas_!C100)","v":""},{"$f":"IF(TDPrimas_!D100=\"\",\"\",TDPrimas_!D100)","v":""},{"$f":"IF(TDPrimas_!E100=\"\",\"\",TDPrimas_!E100)","v":""},{"$f":"IF(TDPrimas_!F100=\"\",\"\",TDPrimas_!F100)","v":""},{"$f":"IF(TDPrimas_!G100=\"\",\"\",TDPrimas_!G100)","v":""},{"$f":"IF(TDPrimas_!H100=\"\",\"\",TDPrimas_!H100)","v":""},{"$f":"IF(TDPrimas_!I100=\"\",\"\",TDPrimas_!I100)","v":""},{"$f":"IF(TDPrimas_!J100=\"\",\"\",TDPrimas_!J100)","v":""},{"$f":"IF(TDPrimas_!K100=\"\",\"\",TDPrimas_!K100)","v":""}]
[null,{"$f":"IF(TDPrimas_!A101=\"\",\"\",TDPrimas_!A101)","v":""},{"$f":"IF(TDPrimas_!B101=\"\",\"\",TDPrimas_!B101)","v":""},{"$f":"IF(TDPrimas_!C101=\"\",\"\",TDPrimas_!C101)","v":""},{"$f":"IF(TDPrimas_!D101=\"\",\"\",TDPrimas_!D101)","v":""},{"$f":"IF(TDPrimas_!E101=\"\",\"\",TDPrimas_!E101)","v":""},{"$f":"IF(TDPrimas_!F101=\"\",\"\",TDPrimas_!F101)","v":""},{"$f":"IF(TDPrimas_!G101=\"\",\"\",TDPrimas_!G101)","v":""},{"$f":"IF(TDPrimas_!H101=\"\",\"\",TDPrimas_!H101)","v":""},{"$f":"IF(TDPrimas_!I101=\"\",\"\",TDPrimas_!I101)","v":""},{"$f":"IF(TDPrimas_!J101=\"\",\"\",TDPrimas_!J101)","v":""},{"$f":"IF(TDPrimas_!K101=\"\",\"\",TDPrimas_!K101)","v":""}]
[null,{"$f":"IF(TDPrimas_!A102=\"\",\"\",TDPrimas_!A102)","v":""},{"$f":"IF(TDPrimas_!B102=\"\",\"\",TDPrimas_!B102)","v":""},{"$f":"IF(TDPrimas_!C102=\"\",\"\",TDPrimas_!C102)","v":""},{"$f":"IF(TDPrimas_!D102=\"\",\"\",TDPrimas_!D102)","v":""},{"$f":"IF(TDPrimas_!E102=\"\",\"\",TDPrimas_!E102)","v":""},{"$f":"IF(TDPrimas_!F102=\"\",\"\",TDPrimas_!F102)","v":""},{"$f":"IF(TDPrimas_!G102=\"\",\"\",TDPrimas_!G102)","v":""},{"$f":"IF(TDPrimas_!H102=\"\",\"\",TDPrimas_!H102)","v":""},{"$f":"IF(TDPrimas_!I102=\"\",\"\",TDPrimas_!I102)","v":""},{"$f":"IF(TDPrimas_!J102=\"\",\"\",TDPrimas_!J102)","v":""},{"$f":"IF(TDPrimas_!K102=\"\",\"\",TDPrimas_!K102)","v":""}]
[null,{"$f":"IF(TDPrimas_!A103=\"\",\"\",TDPrimas_!A103)","v":""},{"$f":"IF(TDPrimas_!B103=\"\",\"\",TDPrimas_!B103)","v":""},{"$f":"IF(TDPrimas_!C103=\"\",\"\",TDPrimas_!C103)","v":""},{"$f":"IF(TDPrimas_!D103=\"\",\"\",TDPrimas_!D103)","v":""},{"$f":"IF(TDPrimas_!E103=\"\",\"\",TDPrimas_!E103)","v":""},{"$f":"IF(TDPrimas_!F103=\"\",\"\",TDPrimas_!F103)","v":""},{"$f":"IF(TDPrimas_!G103=\"\",\"\",TDPrimas_!G103)","v":""},{"$f":"IF(TDPrimas_!H103=\"\",\"\",TDPrimas_!H103)","v":""},{"$f":"IF(TDPrimas_!I103=\"\",\"\",TDPrimas_!I103)","v":""},{"$f":"IF(TDPrimas_!J103=\"\",\"\",TDPrimas_!J103)","v":""},{"$f":"IF(TDPrimas_!K103=\"\",\"\",TDPrimas_!K103)","v":""}]
[null,{"$f":"IF(TDPrimas_!A104=\"\",\"\",TDPrimas_!A104)","v":""},{"$f":"IF(TDPrimas_!B104=\"\",\"\",TDPrimas_!B104)","v":""},{"$f":"IF(TDPrimas_!C104=\"\",\"\",TDPrimas_!C104)","v":""},{"$f":"IF(TDPrimas_!D104=\"\",\"\",TDPrimas_!D104)","v":""},{"$f":"IF(TDPrimas_!E104=\"\",\"\",TDPrimas_!E104)","v":""},{"$f":"IF(TDPrimas_!F104=\"\",\"\",TDPrimas_!F104)","v":""},{"$f":"IF(TDPrimas_!G104=\"\",\"\",TDPrimas_!G104)","v":""},{"$f":"IF(TDPrimas_!H104=\"\",\"\",TDPrimas_!H104)","v":""},{"$f":"IF(TDPrimas_!I104=\"\",\"\",TDPrimas_!I104)","v":""},{"$f":"IF(TDPrimas_!J104=\"\",\"\",TDPrimas_!J104)","v":""},{"$f":"IF(TDPrimas_!K104=\"\",\"\",TDPrimas_!K104)","v":""}]
[null,{"$f":"IF(TDPrimas_!A105=\"\",\"\",TDPrimas_!A105)","v":""},{"$f":"IF(TDPrimas_!B105=\"\",\"\",TDPrimas_!B105)","v":""},{"$f":"IF(TDPrimas_!C105=\"\",\"\",TDPrimas_!C105)","v":""},{"$f":"IF(TDPrimas_!D105=\"\",\"\",TDPrimas_!D105)","v":""},{"$f":"IF(TDPrimas_!E105=\"\",\"\",TDPrimas_!E105)","v":""},{"$f":"IF(TDPrimas_!F105=\"\",\"\",TDPrimas_!F105)","v":""},{"$f":"IF(TDPrimas_!G105=\"\",\"\",TDPrimas_!G105)","v":""},{"$f":"IF(TDPrimas_!H105=\"\",\"\",TDPrimas_!H105)","v":""},{"$f":"IF(TDPrimas_!I105=\"\",\"\",TDPrimas_!I105)","v":""},{"$f":"IF(TDPrimas_!J105=\"\",\"\",TDPrimas_!J105)","v":""},{"$f":"IF(TDPrimas_!K105=\"\",\"\",TDPrimas_!K105)","v":""}]
[null,{"$f":"IF(TDPrimas_!A106=\"\",\"\",TDPrimas_!A106)","v":""},{"$f":"IF(TDPrimas_!B106=\"\",\"\",TDPrimas_!B106)","v":""},{"$f":"IF(TDPrimas_!C106=\"\",\"\",TDPrimas_!C106)","v":""},{"$f":"IF(TDPrimas_!D106=\"\",\"\",TDPrimas_!D106)","v":""},{"$f":"IF(TDPrimas_!E106=\"\",\"\",TDPrimas_!E106)","v":""},{"$f":"IF(TDPrimas_!F106=\"\",\"\",TDPrimas_!F106)","v":""},{"$f":"IF(TDPrimas_!G106=\"\",\"\",TDPrimas_!G106)","v":""},{"$f":"IF(TDPrimas_!H106=\"\",\"\",TDPrimas_!H106)","v":""},{"$f":"IF(TDPrimas_!I106=\"\",\"\",TDPrimas_!I106)","v":""},{"$f":"IF(TDPrimas_!J106=\"\",\"\",TDPrimas_!J106)","v":""},{"$f":"IF(TDPrimas_!K106=\"\",\"\",TDPrimas_!K106)","v":""}]
[null,{"$f":"IF(TDPrimas_!A107=\"\",\"\",TDPrimas_!A107)","v":""},{"$f":"IF(TDPrimas_!B107=\"\",\"\",TDPrimas_!B107)","v":""},{"$f":"IF(TDPrimas_!C107=\"\",\"\",TDPrimas_!C107)","v":""},{"$f":"IF(TDPrimas_!D107=\"\",\"\",TDPrimas_!D107)","v":""},{"$f":"IF(TDPrimas_!E107=\"\",\"\",TDPrimas_!E107)","v":""},{"$f":"IF(TDPrimas_!F107=\"\",\"\",TDPrimas_!F107)","v":""},{"$f":"IF(TDPrimas_!G107=\"\",\"\",TDPrimas_!G107)","v":""},{"$f":"IF(TDPrimas_!H107=\"\",\"\",TDPrimas_!H107)","v":""},{"$f":"IF(TDPrimas_!I107=\"\",\"\",TDPrimas_!I107)","v":""},{"$f":"IF(TDPrimas_!J107=\"\",\"\",TDPrimas_!J107)","v":""},{"$f":"IF(TDPrimas_!K107=\"\",\"\",TDPrimas_!K107)","v":""}]
[null,{"$f":"IF(TDPrimas_!A108=\"\",\"\",TDPrimas_!A108)","v":""},{"$f":"IF(TDPrimas_!B108=\"\",\"\",TDPrimas_!B108)","v":""},{"$f":"IF(TDPrimas_!C108=\"\",\"\",TDPrimas_!C108)","v":""},{"$f":"IF(TDPrimas_!D108=\"\",\"\",TDPrimas_!D108)","v":""},{"$f":"IF(TDPrimas_!E108=\"\",\"\",TDPrimas_!E108)","v":""},{"$f":"IF(TDPrimas_!F108=\"\",\"\",TDPrimas_!F108)","v":""},{"$f":"IF(TDPrimas_!G108=\"\",\"\",TDPrimas_!G108)","v":""},{"$f":"IF(TDPrimas_!H108=\"\",\"\",TDPrimas_!H108)","v":""},{"$f":"IF(TDPrimas_!I108=\"\",\"\",TDPrimas_!I108)","v":""},{"$f":"IF(TDPrimas_!J108=\"\",\"\",TDPrimas_!J108)","v":""},{"$f":"IF(TDPrimas_!K108=\"\",\"\",TDPrimas_!K108)","v":""}]
[null,{"$f":"IF(TDPrimas_!A109=\"\",\"\",TDPrimas_!A109)","v":""},{"$f":"IF(TDPrimas_!B109=\"\",\"\",TDPrimas_!B109)","v":""},{"$f":"IF(TDPrimas_!C109=\"\",\"\",TDPrimas_!C109)","v":""},{"$f":"IF(TDPrimas_!D109=\"\",\"\",TDPrimas_!D109)","v":""},{"$f":"IF(TDPrimas_!E109=\"\",\"\",TDPrimas_!E109)","v":""},{"$f":"IF(TDPrimas_!F109=\"\",\"\",TDPrimas_!F109)","v":""},{"$f":"IF(TDPrimas_!G109=\"\",\"\",TDPrimas_!G109)","v":""},{"$f":"IF(TDPrimas_!H109=\"\",\"\",TDPrimas_!H109)","v":""},{"$f":"IF(TDPrimas_!I109=\"\",\"\",TDPrimas_!I109)","v":""},{"$f":"IF(TDPrimas_!J109=\"\",\"\",TDPrimas_!J109)","v":""},{"$f":"IF(TDPrimas_!K109=\"\",\"\",TDPrimas_!K109)","v":""}]
[null,{"$f":"IF(TDPrimas_!A110=\"\",\"\",TDPrimas_!A110)","v":""},{"$f":"IF(TDPrimas_!B110=\"\",\"\",TDPrimas_!B110)","v":""},{"$f":"IF(TDPrimas_!C110=\"\",\"\",TDPrimas_!C110)","v":""},{"$f":"IF(TDPrimas_!D110=\"\",\"\",TDPrimas_!D110)","v":""},{"$f":"IF(TDPrimas_!E110=\"\",\"\",TDPrimas_!E110)","v":""},{"$f":"IF(TDPrimas_!F110=\"\",\"\",TDPrimas_!F110)","v":""},{"$f":"IF(TDPrimas_!G110=\"\",\"\",TDPrimas_!G110)","v":""},{"$f":"IF(TDPrimas_!H110=\"\",\"\",TDPrimas_!H110)","v":""},{"$f":"IF(TDPrimas_!I110=\"\",\"\",TDPrimas_!I110)","v":""},{"$f":"IF(TDPrimas_!J110=\"\",\"\",TDPrimas_!J110)","v":""},{"$f":"IF(TDPrimas_!K110=\"\",\"\",TDPrimas_!K110)","v":""}]
[null,{"$f":"IF(TDPrimas_!A111=\"\",\"\",TDPrimas_!A111)","v":""},{"$f":"IF(TDPrimas_!B111=\"\",\"\",TDPrimas_!B111)","v":""},{"$f":"IF(TDPrimas_!C111=\"\",\"\",TDPrimas_!C111)","v":""},{"$f":"IF(TDPrimas_!D111=\"\",\"\",TDPrimas_!D111)","v":""},{"$f":"IF(TDPrimas_!E111=\"\",\"\",TDPrimas_!E111)","v":""},{"$f":"IF(TDPrimas_!F111=\"\",\"\",TDPrimas_!F111)","v":""},{"$f":"IF(TDPrimas_!G111=\"\",\"\",TDPrimas_!G111)","v":""},{"$f":"IF(TDPrimas_!H111=\"\",\"\",TDPrimas_!H111)","v":""},{"$f":"IF(TDPrimas_!I111=\"\",\"\",TDPrimas_!I111)","v":""},{"$f":"IF(TDPrimas_!J111=\"\",\"\",TDPrimas_!J111)","v":""},{"$f":"IF(TDPrimas_!K111=\"\",\"\",TDPrimas_!K111)","v":""}]
[null,{"$f":"IF(TDPrimas_!A112=\"\",\"\",TDPrimas_!A112)","v":""},{"$f":"IF(TDPrimas_!B112=\"\",\"\",TDPrimas_!B112)","v":""},{"$f":"IF(TDPrimas_!C112=\"\",\"\",TDPrimas_!C112)","v":""},{"$f":"IF(TDPrimas_!D112=\"\",\"\",TDPrimas_!D112)","v":""},{"$f":"IF(TDPrimas_!E112=\"\",\"\",TDPrimas_!E112)","v":""},{"$f":"IF(TDPrimas_!F112=\"\",\"\",TDPrimas_!F112)","v":""},{"$f":"IF(TDPrimas_!G112=\"\",\"\",TDPrimas_!G112)","v":""},{"$f":"IF(TDPrimas_!H112=\"\",\"\",TDPrimas_!H112)","v":""},{"$f":"IF(TDPrimas_!I112=\"\",\"\",TDPrimas_!I112)","v":""},{"$f":"IF(TDPrimas_!J112=\"\",\"\",TDPrimas_!J112)","v":""},{"$f":"IF(TDPrimas_!K112=\"\",\"\",TDPrimas_!K112)","v":""}]
[null,{"$f":"IF(TDPrimas_!A113=\"\",\"\",TDPrimas_!A113)","v":""},{"$f":"IF(TDPrimas_!B113=\"\",\"\",TDPrimas_!B113)","v":""},{"$f":"IF(TDPrimas_!C113=\"\",\"\",TDPrimas_!C113)","v":""},{"$f":"IF(TDPrimas_!D113=\"\",\"\",TDPrimas_!D113)","v":""},{"$f":"IF(TDPrimas_!E113=\"\",\"\",TDPrimas_!E113)","v":""},{"$f":"IF(TDPrimas_!F113=\"\",\"\",TDPrimas_!F113)","v":""},{"$f":"IF(TDPrimas_!G113=\"\",\"\",TDPrimas_!G113)","v":""},{"$f":"IF(TDPrimas_!H113=\"\",\"\",TDPrimas_!H113)","v":""},{"$f":"IF(TDPrimas_!I113=\"\",\"\",TDPrimas_!I113)","v":""},{"$f":"IF(TDPrimas_!J113=\"\",\"\",TDPrimas_!J113)","v":""},{"$f":"IF(TDPrimas_!K113=\"\",\"\",TDPrimas_!K113)","v":""}]
[null,{"$f":"IF(TDPrimas_!A114=\"\",\"\",TDPrimas_!A114)","v":""},{"$f":"IF(TDPrimas_!B114=\"\",\"\",TDPrimas_!B114)","v":""},{"$f":"IF(TDPrimas_!C114=\"\",\"\",TDPrimas_!C114)","v":""},{"$f":"IF(TDPrimas_!D114=\"\",\"\",TDPrimas_!D114)","v":""},{"$f":"IF(TDPrimas_!E114=\"\",\"\",TDPrimas_!E114)","v":""},{"$f":"IF(TDPrimas_!F114=\"\",\"\",TDPrimas_!F114)","v":""},{"$f":"IF(TDPrimas_!G114=\"\",\"\",TDPrimas_!G114)","v":""},{"$f":"IF(TDPrimas_!H114=\"\",\"\",TDPrimas_!H114)","v":""},{"$f":"IF(TDPrimas_!I114=\"\",\"\",TDPrimas_!I114)","v":""},{"$f":"IF(TDPrimas_!J114=\"\",\"\",TDPrimas_!J114)","v":""},{"$f":"IF(TDPrimas_!K114=\"\",\"\",TDPrimas_!K114)","v":""}]
[null,{"$f":"IF(TDPrimas_!A115=\"\",\"\",TDPrimas_!A115)","v":""},{"$f":"IF(TDPrimas_!B115=\"\",\"\",TDPrimas_!B115)","v":""},{"$f":"IF(TDPrimas_!C115=\"\",\"\",TDPrimas_!C115)","v":""},{"$f":"IF(TDPrimas_!D115=\"\",\"\",TDPrimas_!D115)","v":""},{"$f":"IF(TDPrimas_!E115=\"\",\"\",TDPrimas_!E115)","v":""},{"$f":"IF(TDPrimas_!F115=\"\",\"\",TDPrimas_!F115)","v":""},{"$f":"IF(TDPrimas_!G115=\"\",\"\",TDPrimas_!G115)","v":""},{"$f":"IF(TDPrimas_!H115=\"\",\"\",TDPrimas_!H115)","v":""},{"$f":"IF(TDPrimas_!I115=\"\",\"\",TDPrimas_!I115)","v":""},{"$f":"IF(TDPrimas_!J115=\"\",\"\",TDPrimas_!J115)","v":""},{"$f":"IF(TDPrimas_!K115=\"\",\"\",TDPrimas_!K115)","v":""}]
[null,{"$f":"IF(TDPrimas_!A116=\"\",\"\",TDPrimas_!A116)","v":""},{"$f":"IF(TDPrimas_!B116=\"\",\"\",TDPrimas_!B116)","v":""},{"$f":"IF(TDPrimas_!C116=\"\",\"\",TDPrimas_!C116)","v":""},{"$f":"IF(TDPrimas_!D116=\"\",\"\",TDPrimas_!D116)","v":""},{"$f":"IF(TDPrimas_!E116=\"\",\"\",TDPrimas_!E116)","v":""},{"$f":"IF(TDPrimas_!F116=\"\",\"\",TDPrimas_!F116)","v":""},{"$f":"IF(TDPrimas_!G116=\"\",\"\",TDPrimas_!G116)","v":""},{"$f":"IF(TDPrimas_!H116=\"\",\"\",TDPrimas_!H116)","v":""},{"$f":"IF(TDPrimas_!I116=\"\",\"\",TDPrimas_!I116)","v":""},{"$f":"IF(TDPrimas_!J116=\"\",\"\",TDPrimas_!J116)","v":""},{"$f":"IF(TDPrimas_!K116=\"\",\"\",TDPrimas_!K116)","v":""}]
[null,{"$f":"IF(TDPrimas_!A117=\"\",\"\",TDPrimas_!A117)","v":""},{"$f":"IF(TDPrimas_!B117=\"\",\"\",TDPrimas_!B117)","v":""},{"$f":"IF(TDPrimas_!C117=\"\",\"\",TDPrimas_!C117)","v":""},{"$f":"IF(TDPrimas_!D117=\"\",\"\",TDPrimas_!D117)","v":""},{"$f":"IF(TDPrimas_!E117=\"\",\"\",TDPrimas_!E117)","v":""},{"$f":"IF(TDPrimas_!F117=\"\",\"\",TDPrimas_!F117)","v":""},{"$f":"IF(TDPrimas_!G117=\"\",\"\",TDPrimas_!G117)","v":""},{"$f":"IF(TDPrimas_!H117=\"\",\"\",TDPrimas_!H117)","v":""},{"$f":"IF(TDPrimas_!I117=\"\",\"\",TDPrimas_!I117)","v":""},{"$f":"IF(TDPrimas_!J117=\"\",\"\",TDPrimas_!J117)","v":""},{"$f":"IF(TDPrimas_!K117=\"\",\"\",TDPrimas_!K117)","v":""}]
[null,{"$f":"IF(TDPrimas_!A118=\"\",\"\",TDPrimas_!A118)","v":""},{"$f":"IF(TDPrimas_!B118=\"\",\"\",TDPrimas_!B118)","v":""},{"$f":"IF(TDPrimas_!C118=\"\",\"\",TDPrimas_!C118)","v":""},{"$f":"IF(TDPrimas_!D118=\"\",\"\",TDPrimas_!D118)","v":""},{"$f":"IF(TDPrimas_!E118=\"\",\"\",TDPrimas_!E118)","v":""},{"$f":"IF(TDPrimas_!F118=\"\",\"\",TDPrimas_!F118)","v":""},{"$f":"IF(TDPrimas_!G118=\"\",\"\",TDPrimas_!G118)","v":""},{"$f":"IF(TDPrimas_!H118=\"\",\"\",TDPrimas_!H118)","v":""},{"$f":"IF(TDPrimas_!I118=\"\",\"\",TDPrimas_!I118)","v":""},{"$f":"IF(TDPrimas_!J118=\"\",\"\",TDPrimas_!J118)","v":""},{"$f":"IF(TDPrimas_!K118=\"\",\"\",TDPrimas_!K118)","v":""}]
[null,{"$f":"IF(TDPrimas_!A119=\"\",\"\",TDPrimas_!A119)","v":""},{"$f":"IF(TDPrimas_!B119=\"\",\"\",TDPrimas_!B119)","v":""},{"$f":"IF(TDPrimas_!C119=\"\",\"\",TDPrimas_!C119)","v":""},{"$f":"IF(TDPrimas_!D119=\"\",\"\",TDPrimas_!D119)","v":""},{"$f":"IF(TDPrimas_!E119=\"\",\"\",TDPrimas_!E119)","v":""},{"$f":"IF(TDPrimas_!F119=\"\",\"\",TDPrimas_!F119)","v":""},{"$f":"IF(TDPrimas_!G119=\"\",\"\",TDPrimas_!G119)","v":""},{"$f":"IF(TDPrimas_!H119=\"\",\"\",TDPrimas_!H119)","v":""},{"$f":"IF(TDPrimas_!I119=\"\",\"\",TDPrimas_!I119)","v":""},{"$f":"IF(TDPrimas_!J119=\"\",\"\",TDPrimas_!J119)","v":""},{"$f":"IF(TDPrimas_!K119=\"\",\"\",TDPrimas_!K119)","v":""}]
[null,{"$f":"IF(TDPrimas_!A120=\"\",\"\",TDPrimas_!A120)","v":""},{"$f":"IF(TDPrimas_!B120=\"\",\"\",TDPrimas_!B120)","v":""},{"$f":"IF(TDPrimas_!C120=\"\",\"\",TDPrimas_!C120)","v":""},{"$f":"IF(TDPrimas_!D120=\"\",\"\",TDPrimas_!D120)","v":""},{"$f":"IF(TDPrimas_!E120=\"\",\"\",TDPrimas_!E120)","v":""},{"$f":"IF(TDPrimas_!F120=\"\",\"\",TDPrimas_!F120)","v":""},{"$f":"IF(TDPrimas_!G120=\"\",\"\",TDPrimas_!G120)","v":""},{"$f":"IF(TDPrimas_!H120=\"\",\"\",TDPrimas_!H120)","v":""},{"$f":"IF(TDPrimas_!I120=\"\",\"\",TDPrimas_!I120)","v":""},{"$f":"IF(TDPrimas_!J120=\"\",\"\",TDPrimas_!J120)","v":""},{"$f":"IF(TDPrimas_!K120=\"\",\"\",TDPrimas_!K120)","v":""}]
[null,{"$f":"IF(TDPrimas_!A121=\"\",\"\",TDPrimas_!A121)","v":""},{"$f":"IF(TDPrimas_!B121=\"\",\"\",TDPrimas_!B121)","v":""},{"$f":"IF(TDPrimas_!C121=\"\",\"\",TDPrimas_!C121)","v":""},{"$f":"IF(TDPrimas_!D121=\"\",\"\",TDPrimas_!D121)","v":""},{"$f":"IF(TDPrimas_!E121=\"\",\"\",TDPrimas_!E121)","v":""},{"$f":"IF(TDPrimas_!F121=\"\",\"\",TDPrimas_!F121)","v":""},{"$f":"IF(TDPrimas_!G121=\"\",\"\",TDPrimas_!G121)","v":""},{"$f":"IF(TDPrimas_!H121=\"\",\"\",TDPrimas_!H121)","v":""},{"$f":"IF(TDPrimas_!I121=\"\",\"\",TDPrimas_!I121)","v":""},{"$f":"IF(TDPrimas_!J121=\"\",\"\",TDPrimas_!J121)","v":""},{"$f":"IF(TDPrimas_!K121=\"\",\"\",TDPrimas_!K121)","v":""}]
[null,{"$f":"IF(TDPrimas_!A122=\"\",\"\",TDPrimas_!A122)","v":""},{"$f":"IF(TDPrimas_!B122=\"\",\"\",TDPrimas_!B122)","v":""},{"$f":"IF(TDPrimas_!C122=\"\",\"\",TDPrimas_!C122)","v":""},{"$f":"IF(TDPrimas_!D122=\"\",\"\",TDPrimas_!D122)","v":""},{"$f":"IF(TDPrimas_!E122=\"\",\"\",TDPrimas_!E122)","v":""},{"$f":"IF(TDPrimas_!F122=\"\",\"\",TDPrimas_!F122)","v":""},{"$f":"IF(TDPrimas_!G122=\"\",\"\",TDPrimas_!G122)","v":""},{"$f":"IF(TDPrimas_!H122=\"\",\"\",TDPrimas_!H122)","v":""},{"$f":"IF(TDPrimas_!I122=\"\",\"\",TDPrimas_!I122)","v":""},{"$f":"IF(TDPrimas_!J122=\"\",\"\",TDPrimas_!J122)","v":""},{"$f":"IF(TDPrimas_!K122=\"\",\"\",TDPrimas_!K122)","v":""}]
[null,{"$f":"IF(TDPrimas_!A123=\"\",\"\",TDPrimas_!A123)","v":""},{"$f":"IF(TDPrimas_!B123=\"\",\"\",TDPrimas_!B123)","v":""},{"$f":"IF(TDPrimas_!C123=\"\",\"\",TDPrimas_!C123)","v":""},{"$f":"IF(TDPrimas_!D123=\"\",\"\",TDPrimas_!D123)","v":""},{"$f":"IF(TDPrimas_!E123=\"\",\"\",TDPrimas_!E123)","v":""},{"$f":"IF(TDPrimas_!F123=\"\",\"\",TDPrimas_!F123)","v":""},{"$f":"IF(TDPrimas_!G123=\"\",\"\",TDPrimas_!G123)","v":""},{"$f":"IF(TDPrimas_!H123=\"\",\"\",TDPrimas_!H123)","v":""},{"$f":"IF(TDPrimas_!I123=\"\",\"\",TDPrimas_!I123)","v":""},{"$f":"IF(TDPrimas_!J123=\"\",\"\",TDPrimas_!J123)","v":""},{"$f":"IF(TDPrimas_!K123=\"\",\"\",TDPrimas_!K123)","v":""}]
[]
[]
[null,"NE  = No Existe"]
[null,"* % Extraordinario mayor de 1000%"]

{"sheet":"Siniestros","index":10,"n_rows":124,"n_cols":9,"rows_kept":124,"cut":false,"hidden":false,"merged":[[4,4,5,4],[4,5,5,5],[4,6,4,7],[4,8,5,8],[1,1,1,8],[3,3,3,8]]}
[null,"SINIESTROS DIRECTOS",null,null,null,null,null,null,{"$f":"VLOOKUP(RIGHT('TD Siniestros'!B3,2),Cat!$N$2:$O$5,2,0)&\" \"&LEFT('TD Siniestros'!B3,4)","v":"Tercer Trimestre 2023"}]
[null,{"$f":"UPPER(RIGHT(TDPrimas!$B$4,LEN(TDPrimas!$B$4)-3))","v":"TOTAL GENERAL"}]
[]
[null,null,null,"Siniestros Directos"]
[null,"Compañías",null,"Importe","Incr. %","Inc. Rva.\nDividendos","% vs. Prima Directa",null,"%  Participac de Mercado"]
[null,null,null,{"$f":"'Primas Directas'!D6","v":"2023"},null,null,{"$f":"'Primas Directas'!D6","v":"2023"},{"$f":"'Primas Directas'!E6","v":2022}]
[null,null,"TOTAL",{"$f":"VLOOKUP(C7,'TD Siniestros'!$B$7:$M$154,2,0)","v":329970277.95388991},{"$f":"VLOOKUP(C7,'TD Siniestros'!$B$7:$M$154,3,0)","v":9.0638355088447966},{"$f":"VLOOKUP(C7,'TD Siniestros'!$B$7:$M$154,4,0)","v":1949567.0618600002},{"$f":"VLOOKUP(C7,'TD Siniestros'!$B$7:$M$154,5,0)","v":56.167481863923975},{"$f":"VLOOKUP(C7,'TD Siniestros'!$B$7:$M$154,6,0)","v":58.857402787549574},{"$f":"IFERROR(D7/VLOOKUP(\"TOTAL\",$C$8:$D$124,2,0)*100,\"\")","v":100}]
[null,{"$f":"IF('TD Siniestros'!A7=\"\",\"\",'TD Siniestros'!A7)","v":1},{"$f":"IF('TD Siniestros'!B7=\"\",\"\",'TD Siniestros'!B7)","v":"G.N.P."},{"$f":"IF('TD Siniestros'!C7=\"\",\"\",'TD Siniestros'!C7)","v":45612532.901630007},{"$f":"IF('TD Siniestros'!D7=\"\",\"\",'TD Siniestros'!D7)","v":8.5526952436858714},{"$f":"IF('TD Siniestros'!E7=\"\",\"\",'TD Siniestros'!E7)","v":205015.34680999999},{"$f":"IF('TD Siniestros'!F7=\"\",\"\",'TD Siniestros'!F7)","v":62.164119097390859},{"$f":"IF('TD Siniestros'!G7=\"\",\"\",'TD Siniestros'!G7)","v":65.47666601562355},{"$f":"IFERROR(D8/VLOOKUP(\"TOTAL\",$C$8:$D$124,2,0)*100,\"\")","v":13.823224680861685}]
[null,{"$f":"IF('TD Siniestros'!A8=\"\",\"\",'TD Siniestros'!A8)","v":2},{"$f":"IF('TD Siniestros'!B8=\"\",\"\",'TD Siniestros'!B8)","v":"Metlife México"},{"$f":"IF('TD Siniestros'!C8=\"\",\"\",'TD Siniestros'!C8)","v":40022840.239539996},{"$f":"IF('TD Siniestros'!D8=\"\",\"\",'TD Siniestros'!D8)","v":10.245418773410563},{"$f":"IF('TD Siniestros'!E8=\"\",\"\",'TD Siniestros'!E8)","v":101995.43384999999},{"$f":"IF('TD Siniestros'!F8=\"\",\"\",'TD Siniestros'!F8)","v":68.287249364019388},{"$f":"IF('TD Siniestros'!G8=\"\",\"\",'TD Siniestros'!G8)","v":66.995961923393253},{"$f":"IFERROR(D9/VLOOKUP(\"TOTAL\",$C$8:$D$124,2,0)*100,\"\")","v":12.129225846557244}]
[null,{"$f":"IF('TD Siniestros'!A9=\"\",\"\",'TD Siniestros'!A9)","v":3},{"$f":"IF('TD Siniestros'!B9=\"\",\"\",'TD Siniestros'!B9)","v":"BBVA Bancomer"},{"$f":"IF('TD Siniestros'!C9=\"\",\"\",'TD Siniestros'!C9)","v":25601627.500459999},{"$f":"IF('TD Siniestros'!D9=\"\",\"\",'TD Siniestros'!D9)","v":22.123986032704579},{"$f":"IF('TD Siniestros'!E9=\"\",\"\",'TD Siniestros'!E9)","v":0},{"$f":"IF('TD Siniestros'!F9=\"\",\"\",'TD Siniestros'!F9)","v":49.022715211743964},{"$f":"IF('TD Siniestros'!G9=\"\",\"\",'TD Siniestros'!G9)","v":48.116175267678472},7.7587677469658569]
[null,{"$f":"IF('TD Siniestros'!A10=\"\",\"\",'TD Siniestros'!A10)","v":4},{"$f":"IF('TD Siniestros'!B10=\"\",\"\",'TD Siniestros'!B10)","v":"AXA Seguros"},{"$f":"IF('TD Siniestros'!C10=\"\",\"\",'TD Siniestros'!C10)","v":26588553.586089998},{"$f":"IF('TD Siniestros'!D10=\"\",\"\",'TD Siniestros'!D10)","v":9.0471438341970902},{"$f":"IF('TD Siniestros'!E10=\"\",\"\",'TD Siniestros'!E10)","v":305789.95117000001},{"$f":"IF('TD Siniestros'!F10=\"\",\"\",'TD Siniestros'!F10)","v":63.598786610560097},{"$f":"IF('TD Siniestros'!G10=\"\",\"\",'TD Siniestros'!G10)","v":67.256867394994515},8.0578631963347576]
[null,{"$f":"IF('TD Siniestros'!A11=\"\",\"\",'TD Siniestros'!A11)","v":5},{"$f":"IF('TD Siniestros'!B11=\"\",\"\",'TD Siniestros'!B11)","v":"Quálitas"},{"$f":"IF('TD Siniestros'!C11=\"\",\"\",'TD Siniestros'!C11)","v":23308919.181210004},{"$f":"IF('TD Siniestros'!D11=\"\",\"\",'TD Siniestros'!D11)","v":26.745483407435721},{"$f":"IF('TD Siniestros'!E11=\"\",\"\",'TD Siniestros'!E11)","v":68561.225480000008},{"$f":"IF('TD Siniestros'!F11=\"\",\"\",'TD Siniestros'!F11)","v":66.753446019683736},{"$f":"IF('TD Siniestros'!G11=\"\",\"\",'TD Siniestros'!G11)","v":68.223229290826353},7.0639450697638884]
[null,{"$f":"IF('TD Siniestros'!A12=\"\",\"\",'TD Siniestros'!A12)","v":5.0999999999999996},{"$f":"IF('TD Siniestros'!B12=\"\",\"\",'TD Siniestros'!B12)","v":"TOTAL GRANDES"},{"$f":"IF('TD Siniestros'!C12=\"\",\"\",'TD Siniestros'!C12)","v":161134473.40893},{"$f":"IF('TD Siniestros'!D12=\"\",\"\",'TD Siniestros'!D12)","v":13.428019330036012},{"$f":"IF('TD Siniestros'!E12=\"\",\"\",'TD Siniestros'!E12)","v":681361.95731000009},{"$f":"IF('TD Siniestros'!F12=\"\",\"\",'TD Siniestros'!F12)","v":61.75330609136622},{"$f":"IF('TD Siniestros'!G12=\"\",\"\",'TD Siniestros'!G12)","v":63.098249046063501},48.833026540483431]
[null,{"$f":"IF('TD Siniestros'!A13=\"\",\"\",'TD Siniestros'!A13)","v":6},{"$f":"IF('TD Siniestros'!B13=\"\",\"\",'TD Siniestros'!B13)","v":"Banorte"},{"$f":"IF('TD Siniestros'!C13=\"\",\"\",'TD Siniestros'!C13)","v":13363853.592420006},{"$f":"IF('TD Siniestros'!D13=\"\",\"\",'TD Siniestros'!D13)","v":3.5226898959964892},{"$f":"IF('TD Siniestros'!E13=\"\",\"\",'TD Siniestros'!E13)","v":248778.39859000003},{"$f":"IF('TD Siniestros'!F13=\"\",\"\",'TD Siniestros'!F13)","v":46.528527868337321},{"$f":"IF('TD Siniestros'!G13=\"\",\"\",'TD Siniestros'!G13)","v":55.740982593663965},4.0500173758945257]
[null,{"$f":"IF('TD Siniestros'!A14=\"\",\"\",'TD Siniestros'!A14)","v":7},{"$f":"IF('TD Siniestros'!B14=\"\",\"\",'TD Siniestros'!B14)","v":"Monterrey New York Life"},{"$f":"IF('TD Siniestros'!C14=\"\",\"\",'TD Siniestros'!C14)","v":18189477.925870001},{"$f":"IF('TD Siniestros'!D14=\"\",\"\",'TD Siniestros'!D14)","v":0.15572420631697614},{"$f":"IF('TD Siniestros'!E14=\"\",\"\",'TD Siniestros'!E14)","v":30288.243459999998},{"$f":"IF('TD Siniestros'!F14=\"\",\"\",'TD Siniestros'!F14)","v":64.795735265144032},{"$f":"IF('TD Siniestros'!G14=\"\",\"\",'TD Siniestros'!G14)","v":66.60518387793627},5.512459497461708]
[null,{"$f":"IF('TD Siniestros'!A15=\"\",\"\",'TD Siniestros'!A15)","v":8},{"$f":"IF('TD Siniestros'!B15=\"\",\"\",'TD Siniestros'!B15)","v":"Citibanamex Seguros"},{"$f":"IF('TD Siniestros'!C15=\"\",\"\",'TD Siniestros'!C15)","v":19475883.151130002},{"$f":"IF('TD Siniestros'!D15=\"\",\"\",'TD Siniestros'!D15)","v":-10.838722208435014},{"$f":"IF('TD Siniestros'!E15=\"\",\"\",'TD Siniestros'!E15)","v":0},{"$f":"IF('TD Siniestros'!F15=\"\",\"\",'TD Siniestros'!F15)","v":78.977907521579354},{"$f":"IF('TD Siniestros'!G15=\"\",\"\",'TD Siniestros'!G15)","v":170.55431227025301},5.90231437567585]
[null,{"$f":"IF('TD Siniestros'!A16=\"\",\"\",'TD Siniestros'!A16)","v":9},{"$f":"IF('TD Siniestros'!B16=\"\",\"\",'TD Siniestros'!B16)","v":"Mapfre México"},{"$f":"IF('TD Siniestros'!C16=\"\",\"\",'TD Siniestros'!C16)","v":10792790.82511},{"$f":"IF('TD Siniestros'!D16=\"\",\"\",'TD Siniestros'!D16)","v":1.456384361175278},{"$f":"IF('TD Siniestros'!E16=\"\",\"\",'TD Siniestros'!E16)","v":359312.09473000001},{"$f":"IF('TD Siniestros'!F16=\"\",\"\",'TD Siniestros'!F16)","v":48.232405943060577},{"$f":"IF('TD Siniestros'!G16=\"\",\"\",'TD Siniestros'!G16)","v":60.337476229477602},3.2708372681427345]
[null,{"$f":"IF('TD Siniestros'!A17=\"\",\"\",'TD Siniestros'!A17)","v":10},{"$f":"IF('TD Siniestros'!B17=\"\",\"\",'TD Siniestros'!B17)","v":"Inbursa"},{"$f":"IF('TD Siniestros'!C17=\"\",\"\",'TD Siniestros'!C17)","v":11007442.207219997},{"$f":"IF('TD Siniestros'!D17=\"\",\"\",'TD Siniestros'!D17)","v":26.411161331529833},{"$f":"IF('TD Siniestros'!E17=\"\",\"\",'TD Siniestros'!E17)","v":147246.60879},{"$f":"IF('TD Siniestros'!F17=\"\",\"\",'TD Siniestros'!F17)","v":52.59140682703709},{"$f":"IF('TD Siniestros'!G17=\"\",\"\",'TD Siniestros'!G17)","v":47.395695920975406},3.3358890005111852]
[null,{"$f":"IF('TD Siniestros'!A18=\"\",\"\",'TD Siniestros'!A18)","v":11},{"$f":"IF('TD Siniestros'!B18=\"\",\"\",'TD Siniestros'!B18)","v":"Chubb Seguros México"},{"$f":"IF('TD Siniestros'!C18=\"\",\"\",'TD Siniestros'!C18)","v":9432791.093559999},{"$f":"IF('TD Siniestros'!D18=\"\",\"\",'TD Siniestros'!D18)","v":7.6424784258450007},{"$f":"IF('TD Siniestros'!E18=\"\",\"\",'TD Siniestros'!E18)","v":51627.68894},{"$f":"IF('TD Siniestros'!F18=\"\",\"\",'TD Siniestros'!F18)","v":53.229874576184855},{"$f":"IF('TD Siniestros'!G18=\"\",\"\",'TD Siniestros'!G18)","v":53.065006638942499},2.8586790155924704]
[null,{"$f":"IF('TD Siniestros'!A19=\"\",\"\",'TD Siniestros'!A19)","v":12},{"$f":"IF('TD Siniestros'!B19=\"\",\"\",'TD Siniestros'!B19)","v":"Zurich Santander"},{"$f":"IF('TD Siniestros'!C19=\"\",\"\",'TD Siniestros'!C19)","v":3013393.5876099998},{"$f":"IF('TD Siniestros'!D19=\"\",\"\",'TD Siniestros'!D19)","v":28.430026476450742},{"$f":"IF('TD Siniestros'!E19=\"\",\"\",'TD Siniestros'!E19)","v":0},{"$f":"IF('TD Siniestros'!F19=\"\",\"\",'TD Siniestros'!F19)","v":19.395130521403075},{"$f":"IF('TD Siniestros'!G19=\"\",\"\",'TD Siniestros'!G19)","v":21.32083586059861},0.91323182387690449]
[null,{"$f":"IF('TD Siniestros'!A20=\"\",\"\",'TD Siniestros'!A20)","v":13},{"$f":"IF('TD Siniestros'!B20=\"\",\"\",'TD Siniestros'!B20)","v":"Atlas"},{"$f":"IF('TD Siniestros'!C20=\"\",\"\",'TD Siniestros'!C20)","v":7799893.4423699984},{"$f":"IF('TD Siniestros'!D20=\"\",\"\",'TD Siniestros'!D20)","v":12.970855717013684},{"$f":"IF('TD Siniestros'!E20=\"\",\"\",'TD Siniestros'!E20)","v":23400.095229999999},{"$f":"IF('TD Siniestros'!F20=\"\",\"\",'TD Siniestros'!F20)","v":51.669001637000655},{"$f":"IF('TD Siniestros'!G20=\"\",\"\",'TD Siniestros'!G20)","v":51.341404924409616},2.3638169748912827]
[null,{"$f":"IF('TD Siniestros'!A21=\"\",\"\",'TD Siniestros'!A21)","v":14},{"$f":"IF('TD Siniestros'!B21=\"\",\"\",'TD Siniestros'!B21)","v":"Allianz México"},{"$f":"IF('TD Siniestros'!C21=\"\",\"\",'TD Siniestros'!C21)","v":7911204.2356700022},{"$f":"IF('TD Siniestros'!D21=\"\",\"\",'TD Siniestros'!D21)","v":-11.032542168465687},{"$f":"IF('TD Siniestros'!E21=\"\",\"\",'TD Siniestros'!E21)","v":20739.562440000002},{"$f":"IF('TD Siniestros'!F21=\"\",\"\",'TD Siniestros'!F21)","v":52.631494778937885},{"$f":"IF('TD Siniestros'!G21=\"\",\"\",'TD Siniestros'!G21)","v":62.363035030997494},2.3975505565914985]
[null,{"$f":"IF('TD Siniestros'!A22=\"\",\"\",'TD Siniestros'!A22)","v":15},{"$f":"IF('TD Siniestros'!B22=\"\",\"\",'TD Siniestros'!B22)","v":"Pensiones Banorte"},{"$f":"IF('TD Siniestros'!C22=\"\",\"\",'TD Siniestros'!C22)","v":9832201.4798600003},{"$f":"IF('TD Siniestros'!D22=\"\",\"\",'TD Siniestros'!D22)","v":11.944791932981168},{"$f":"IF('TD Siniestros'!E22=\"\",\"\",'TD Siniestros'!E22)","v":0},{"$f":"IF('TD Siniestros'!F22=\"\",\"\",'TD Siniestros'!F22)","v":77.117191645273593},{"$f":"IF('TD Siniestros'!G22=\"\",\"\",'TD Siniestros'!G22)","v":58.010162626159513},2.9797233680646693]
[null,{"$f":"IF('TD Siniestros'!A23=\"\",\"\",'TD Siniestros'!A23)","v":15.1},{"$f":"IF('TD Siniestros'!B23=\"\",\"\",'TD Siniestros'!B23)","v":"TOTAL MEDIANAS"},{"$f":"IF('TD Siniestros'!C23=\"\",\"\",'TD Siniestros'!C23)","v":110818931.54082002},{"$f":"IF('TD Siniestros'!D23=\"\",\"\",'TD Siniestros'!D23)","v":2.6592455227199663},{"$f":"IF('TD Siniestros'!E23=\"\",\"\",'TD Siniestros'!E23)","v":881392.69218000001},{"$f":"IF('TD Siniestros'!F23=\"\",\"\",'TD Siniestros'!F23)","v":55.162572843257919},{"$f":"IF('TD Siniestros'!G23=\"\",\"\",'TD Siniestros'!G23)","v":63.647929928642434},33.584519256702833]
[null,{"$f":"IF('TD Siniestros'!A24=\"\",\"\",'TD Siniestros'!A24)","v":16},{"$f":"IF('TD Siniestros'!B24=\"\",\"\",'TD Siniestros'!B24)","v":"Pensiones BBVA Bancomer"},{"$f":"IF('TD Siniestros'!C24=\"\",\"\",'TD Siniestros'!C24)","v":6564723.8150000004},{"$f":"IF('TD Siniestros'!D24=\"\",\"\",'TD Siniestros'!D24)","v":15.019995757337146},{"$f":"IF('TD Siniestros'!E24=\"\",\"\",'TD Siniestros'!E24)","v":0},{"$f":"IF('TD Siniestros'!F24=\"\",\"\",'TD Siniestros'!F24)","v":65.602001552659672},{"$f":"IF('TD Siniestros'!G24=\"\",\"\",'TD Siniestros'!G24)","v":61.065940142083853},1.9894894339293663]
[null,{"$f":"IF('TD Siniestros'!A25=\"\",\"\",'TD Siniestros'!A25)","v":17},{"$f":"IF('TD Siniestros'!B25=\"\",\"\",'TD Siniestros'!B25)","v":"GMX Seguros"},{"$f":"IF('TD Siniestros'!C25=\"\",\"\",'TD Siniestros'!C25)","v":2866637.1282300004},{"$f":"IF('TD Siniestros'!D25=\"\",\"\",'TD Siniestros'!D25)","v":-23.247518748012553},{"$f":"IF('TD Siniestros'!E25=\"\",\"\",'TD Siniestros'!E25)","v":0},{"$f":"IF('TD Siniestros'!F25=\"\",\"\",'TD Siniestros'!F25)","v":29.239184659455013},{"$f":"IF('TD Siniestros'!G25=\"\",\"\",'TD Siniestros'!G25)","v":35.171711255349756},0.86875616373865794]
[null,{"$f":"IF('TD Siniestros'!A26=\"\",\"\",'TD Siniestros'!A26)","v":18},{"$f":"IF('TD Siniestros'!B26=\"\",\"\",'TD Siniestros'!B26)","v":"HDI Seguros"},{"$f":"IF('TD Siniestros'!C26=\"\",\"\",'TD Siniestros'!C26)","v":5116539.3820499973},{"$f":"IF('TD Siniestros'!D26=\"\",\"\",'TD Siniestros'!D26)","v":19.606718535761502},{"$f":"IF('TD Siniestros'!E26=\"\",\"\",'TD Siniestros'!E26)","v":0},{"$f":"IF('TD Siniestros'!F26=\"\",\"\",'TD Siniestros'!F26)","v":58.995919053388945},{"$f":"IF('TD Siniestros'!G26=\"\",\"\",'TD Siniestros'!G26)","v":61.664845538267777},1.5506061375518747]
[null,{"$f":"IF('TD Siniestros'!A27=\"\",\"\",'TD Siniestros'!A27)","v":19},{"$f":"IF('TD Siniestros'!B27=\"\",\"\",'TD Siniestros'!B27)","v":"Zurich Aseguradora Mexicana"},{"$f":"IF('TD Siniestros'!C27=\"\",\"\",'TD Siniestros'!C27)","v":3361605.8283300013},{"$f":"IF('TD Siniestros'!D27=\"\",\"\",'TD Siniestros'!D27)","v":18.934449389910135},{"$f":"IF('TD Siniestros'!E27=\"\",\"\",'TD Siniestros'!E27)","v":12368.663830000001},{"$f":"IF('TD Siniestros'!F27=\"\",\"\",'TD Siniestros'!F27)","v":39.391299873701925},{"$f":"IF('TD Siniestros'!G27=\"\",\"\",'TD Siniestros'!G27)","v":102.35634971439138},1.0187601893040052]
[null,{"$f":"IF('TD Siniestros'!A28=\"\",\"\",'TD Siniestros'!A28)","v":20},{"$f":"IF('TD Siniestros'!B28=\"\",\"\",'TD Siniestros'!B28)","v":"Agroasemex"},{"$f":"IF('TD Siniestros'!C28=\"\",\"\",'TD Siniestros'!C28)","v":2580444.3645200008},{"$f":"IF('TD Siniestros'!D28=\"\",\"\",'TD Siniestros'!D28)","v":217.68964695669996},{"$f":"IF('TD Siniestros'!E28=\"\",\"\",'TD Siniestros'!E28)","v":-1704.4324000000001},{"$f":"IF('TD Siniestros'!F28=\"\",\"\",'TD Siniestros'!F28)","v":30.311473600307487},{"$f":"IF('TD Siniestros'!G28=\"\",\"\",'TD Siniestros'!G28)","v":11.81539286825927},0.78202327207197508]
[null,{"$f":"IF('TD Siniestros'!A29=\"\",\"\",'TD Siniestros'!A29)","v":21},{"$f":"IF('TD Siniestros'!B29=\"\",\"\",'TD Siniestros'!B29)","v":"ProFuturo G.N.P."},{"$f":"IF('TD Siniestros'!C29=\"\",\"\",'TD Siniestros'!C29)","v":4219744.4610700011},{"$f":"IF('TD Siniestros'!D29=\"\",\"\",'TD Siniestros'!D29)","v":17.962544604118946},{"$f":"IF('TD Siniestros'!E29=\"\",\"\",'TD Siniestros'!E29)","v":0},{"$f":"IF('TD Siniestros'!F29=\"\",\"\",'TD Siniestros'!F29)","v":65.95749063099457},{"$f":"IF('TD Siniestros'!G29=\"\",\"\",'TD Siniestros'!G29)","v":45.99682437030814},1.2788256224882377]
[null,{"$f":"IF('TD Siniestros'!A30=\"\",\"\",'TD Siniestros'!A30)","v":22},{"$f":"IF('TD Siniestros'!B30=\"\",\"\",'TD Siniestros'!B30)","v":"AIG Seguros"},{"$f":"IF('TD Siniestros'!C30=\"\",\"\",'TD Siniestros'!C30)","v":825718.03278999997},{"$f":"IF('TD Siniestros'!D30=\"\",\"\",'TD Siniestros'!D30)","v":-10.094309672918222},{"$f":"IF('TD Siniestros'!E30=\"\",\"\",'TD Siniestros'!E30)","v":5150.3001899999999},{"$f":"IF('TD Siniestros'!F30=\"\",\"\",'TD Siniestros'!F30)","v":13.096952712981249},{"$f":"IF('TD Siniestros'!G30=\"\",\"\",'TD Siniestros'!G30)","v":17.91643439448017},0.25024012402274182]
[null,{"$f":"IF('TD Siniestros'!A31=\"\",\"\",'TD Siniestros'!A31)","v":23},{"$f":"IF('TD Siniestros'!B31=\"\",\"\",'TD Siniestros'!B31)","v":"HSBC Seguros"},{"$f":"IF('TD Siniestros'!C31=\"\",\"\",'TD Siniestros'!C31)","v":2198253.2860799995},{"$f":"IF('TD Siniestros'!D31=\"\",\"\",'TD Siniestros'!D31)","v":3.9670100804230612},{"$f":"IF('TD Siniestros'!E31=\"\",\"\",'TD Siniestros'!E31)","v":0},{"$f":"IF('TD Siniestros'!F31=\"\",\"\",'TD Siniestros'!F31)","v":35.916495284453113},{"$f":"IF('TD Siniestros'!G31=\"\",\"\",'TD Siniestros'!G31)","v":45.659393803857789},0.66619736168697707]
[null,{"$f":"IF('TD Siniestros'!A32=\"\",\"\",'TD Siniestros'!A32)","v":24},{"$f":"IF('TD Siniestros'!B32=\"\",\"\",'TD Siniestros'!B32)","v":"Afirme"},{"$f":"IF('TD Siniestros'!C32=\"\",\"\",'TD Siniestros'!C32)","v":3485614.4668300003},{"$f":"IF('TD Siniestros'!D32=\"\",\"\",'TD Siniestros'!D32)","v":-24.109253413048204},{"$f":"IF('TD Siniestros'!E32=\"\",\"\",'TD Siniestros'!E32)","v":3918.7258899999997},{"$f":"IF('TD Siniestros'!F32=\"\",\"\",'TD Siniestros'!F32)","v":61.231150171294104},{"$f":"IF('TD Siniestros'!G32=\"\",\"\",'TD Siniestros'!G32)","v":81.908243219625518},1.0563419494761526]
[null,{"$f":"IF('TD Siniestros'!A33=\"\",\"\",'TD Siniestros'!A33)","v":25},{"$f":"IF('TD Siniestros'!B33=\"\",\"\",'TD Siniestros'!B33)","v":"Seguros SURA"},{"$f":"IF('TD Siniestros'!C33=\"\",\"\",'TD Siniestros'!C33)","v":1827817.3305500001},{"$f":"IF('TD Siniestros'!D33=\"\",\"\",'TD Siniestros'!D33)","v":0},{"$f":"IF('TD Siniestros'!E33=\"\",\"\",'TD Siniestros'!E33)","v":15648.3316},{"$f":"IF('TD Siniestros'!F33=\"\",\"\",'TD Siniestros'!F33)","v":42.44038322634615},{"$f":"IF('TD Siniestros'!G33=\"\",\"\",'TD Siniestros'!G33)","v":0},0.55393393062069052]
[null,{"$f":"IF('TD Siniestros'!A34=\"\",\"\",'TD Siniestros'!A34)","v":26},{"$f":"IF('TD Siniestros'!B34=\"\",\"\",'TD Siniestros'!B34)","v":"Seguros Azteca"},{"$f":"IF('TD Siniestros'!C34=\"\",\"\",'TD Siniestros'!C34)","v":1626123.3905999998},{"$f":"IF('TD Siniestros'!D34=\"\",\"\",'TD Siniestros'!D34)","v":-28.228177713781466},{"$f":"IF('TD Siniestros'!E34=\"\",\"\",'TD Siniestros'!E34)","v":0},{"$f":"IF('TD Siniestros'!F34=\"\",\"\",'TD Siniestros'!F34)","v":45.93263958837062},{"$f":"IF('TD Siniestros'!G34=\"\",\"\",'TD Siniestros'!G34)","v":71.762109423500419},0.49280904955543742]
[null,{"$f":"IF('TD Siniestros'!A35=\"\",\"\",'TD Siniestros'!A35)","v":27},{"$f":"IF('TD Siniestros'!B35=\"\",\"\",'TD Siniestros'!B35)","v":"Hir Seguros"},{"$f":"IF('TD Siniestros'!C35=\"\",\"\",'TD Siniestros'!C35)","v":1381357.4599800003},{"$f":"IF('TD Siniestros'!D35=\"\",\"\",'TD Siniestros'!D35)","v":21.922513188746496},{"$f":"IF('TD Siniestros'!E35=\"\",\"\",'TD Siniestros'!E35)","v":270345.76532000001},{"$f":"IF('TD Siniestros'!F35=\"\",\"\",'TD Siniestros'!F35)","v":42.414901974712812},{"$f":"IF('TD Siniestros'!G35=\"\",\"\",'TD Siniestros'!G35)","v":42.345450457793007},0.41863087443682767]
[null,{"$f":"IF('TD Siniestros'!A36=\"\",\"\",'TD Siniestros'!A36)","v":28},{"$f":"IF('TD Siniestros'!B36=\"\",\"\",'TD Siniestros'!B36)","v":"BUPA México"},{"$f":"IF('TD Siniestros'!C36=\"\",\"\",'TD Siniestros'!C36)","v":2168246.1613799999},{"$f":"IF('TD Siniestros'!D36=\"\",\"\",'TD Siniestros'!D36)","v":6.2366806553527665},{"$f":"IF('TD Siniestros'!E36=\"\",\"\",'TD Siniestros'!E36)","v":0},{"$f":"IF('TD Siniestros'!F36=\"\",\"\",'TD Siniestros'!F36)","v":69.976069509916769},{"$f":"IF('TD Siniestros'!G36=\"\",\"\",'TD Siniestros'!G36)","v":72.537467893673863},0.657103474538695]
[null,{"$f":"IF('TD Siniestros'!A37=\"\",\"\",'TD Siniestros'!A37)","v":29},{"$f":"IF('TD Siniestros'!B37=\"\",\"\",'TD Siniestros'!B37)","v":"Ve Por Más"},{"$f":"IF('TD Siniestros'!C37=\"\",\"\",'TD Siniestros'!C37)","v":1740872.7770099996},{"$f":"IF('TD Siniestros'!D37=\"\",\"\",'TD Siniestros'!D37)","v":13.748838445281987},{"$f":"IF('TD Siniestros'!E37=\"\",\"\",'TD Siniestros'!E37)","v":12395.944020000001},{"$f":"IF('TD Siniestros'!F37=\"\",\"\",'TD Siniestros'!F37)","v":59.386393950412796},{"$f":"IF('TD Siniestros'!G37=\"\",\"\",'TD Siniestros'!G37)","v":63.388885049761093},0.52758472302565063]
[null,{"$f":"IF('TD Siniestros'!A38=\"\",\"\",'TD Siniestros'!A38)","v":30},{"$f":"IF('TD Siniestros'!B38=\"\",\"\",'TD Siniestros'!B38)","v":"FM Global"},{"$f":"IF('TD Siniestros'!C38=\"\",\"\",'TD Siniestros'!C38)","v":396493.06121999992},{"$f":"IF('TD Siniestros'!D38=\"\",\"\",'TD Siniestros'!D38)","v":57.092854625885003},{"$f":"IF('TD Siniestros'!E38=\"\",\"\",'TD Siniestros'!E38)","v":0},{"$f":"IF('TD Siniestros'!F38=\"\",\"\",'TD Siniestros'!F38)","v":13.902601365703942},{"$f":"IF('TD Siniestros'!G38=\"\",\"\",'TD Siniestros'!G38)","v":9.2772673722162047},0.12016023493952564]
[null,{"$f":"IF('TD Siniestros'!A39=\"\",\"\",'TD Siniestros'!A39)","v":31},{"$f":"IF('TD Siniestros'!B39=\"\",\"\",'TD Siniestros'!B39)","v":"Seguros Argos"},{"$f":"IF('TD Siniestros'!C39=\"\",\"\",'TD Siniestros'!C39)","v":1886421.3534799996},{"$f":"IF('TD Siniestros'!D39=\"\",\"\",'TD Siniestros'!D39)","v":-3.7077493798955419},{"$f":"IF('TD Siniestros'!E39=\"\",\"\",'TD Siniestros'!E39)","v":-841.98501999999996},{"$f":"IF('TD Siniestros'!F39=\"\",\"\",'TD Siniestros'!F39)","v":66.797650909348718},{"$f":"IF('TD Siniestros'!G39=\"\",\"\",'TD Siniestros'!G39)","v":80.262673745338276},0.57169432506997142]
[null,{"$f":"IF('TD Siniestros'!A40=\"\",\"\",'TD Siniestros'!A40)","v":32},{"$f":"IF('TD Siniestros'!B40=\"\",\"\",'TD Siniestros'!B40)","v":"ANA"},{"$f":"IF('TD Siniestros'!C40=\"\",\"\",'TD Siniestros'!C40)","v":1753553.625},{"$f":"IF('TD Siniestros'!D40=\"\",\"\",'TD Siniestros'!D40)","v":18.994782877464079},{"$f":"IF('TD Siniestros'!E40=\"\",\"\",'TD Siniestros'!E40)","v":22014.207969999999},{"$f":"IF('TD Siniestros'!F40=\"\",\"\",'TD Siniestros'!F40)","v":73.289455738501971},{"$f":"IF('TD Siniestros'!G40=\"\",\"\",'TD Siniestros'!G40)","v":66.426165645433571},0.53142775036394085]
[null,{"$f":"IF('TD Siniestros'!A41=\"\",\"\",'TD Siniestros'!A41)","v":33},{"$f":"IF('TD Siniestros'!B41=\"\",\"\",'TD Siniestros'!B41)","v":"Plan Seguro"},{"$f":"IF('TD Siniestros'!C41=\"\",\"\",'TD Siniestros'!C41)","v":1258580.9577499998},{"$f":"IF('TD Siniestros'!D41=\"\",\"\",'TD Siniestros'!D41)","v":-9.3466918926873195},{"$f":"IF('TD Siniestros'!E41=\"\",\"\",'TD Siniestros'!E41)","v":0},{"$f":"IF('TD Siniestros'!F41=\"\",\"\",'TD Siniestros'!F41)","v":62.560647787262489},{"$f":"IF('TD Siniestros'!G41=\"\",\"\",'TD Siniestros'!G41)","v":60.435403096048532},0.381422522523642]
[null,{"$f":"IF('TD Siniestros'!A42=\"\",\"\",'TD Siniestros'!A42)","v":34},{"$f":"IF('TD Siniestros'!B42=\"\",\"\",'TD Siniestros'!B42)","v":"General de Seguros"},{"$f":"IF('TD Siniestros'!C42=\"\",\"\",'TD Siniestros'!C42)","v":1310649.92337},{"$f":"IF('TD Siniestros'!D42=\"\",\"\",'TD Siniestros'!D42)","v":-14.687934983558149},{"$f":"IF('TD Siniestros'!E42=\"\",\"\",'TD Siniestros'!E42)","v":-10340.45652},{"$f":"IF('TD Siniestros'!F42=\"\",\"\",'TD Siniestros'!F42)","v":66.469408561446031},{"$f":"IF('TD Siniestros'!G42=\"\",\"\",'TD Siniestros'!G42)","v":79.710756593591142},0.39720241819875374]
[null,{"$f":"IF('TD Siniestros'!A43=\"\",\"\",'TD Siniestros'!A43)","v":35},{"$f":"IF('TD Siniestros'!B43=\"\",\"\",'TD Siniestros'!B43)","v":"Cardif Vida"},{"$f":"IF('TD Siniestros'!C43=\"\",\"\",'TD Siniestros'!C43)","v":564636.73166999989},{"$f":"IF('TD Siniestros'!D43=\"\",\"\",'TD Siniestros'!D43)","v":-17.98458060257876},{"$f":"IF('TD Siniestros'!E43=\"\",\"\",'TD Siniestros'!E43)","v":-28392.713100000001},{"$f":"IF('TD Siniestros'!F43=\"\",\"\",'TD Siniestros'!F43)","v":31.43498149473195},{"$f":"IF('TD Siniestros'!G43=\"\",\"\",'TD Siniestros'!G43)","v":29.964352471956634},0.17111745190241115]
[null,{"$f":"IF('TD Siniestros'!A44=\"\",\"\",'TD Siniestros'!A44)","v":36},{"$f":"IF('TD Siniestros'!B44=\"\",\"\",'TD Siniestros'!B44)","v":"Seguros Azteca Daños"},{"$f":"IF('TD Siniestros'!C44=\"\",\"\",'TD Siniestros'!C44)","v":683175.58984999999},{"$f":"IF('TD Siniestros'!D44=\"\",\"\",'TD Siniestros'!D44)","v":32.882941038156723},{"$f":"IF('TD Siniestros'!E44=\"\",\"\",'TD Siniestros'!E44)","v":1.83E-3},{"$f":"IF('TD Siniestros'!F44=\"\",\"\",'TD Siniestros'!F44)","v":41.12556208758614},{"$f":"IF('TD Siniestros'!G44=\"\",\"\",'TD Siniestros'!G44)","v":21.845531100228051},0.20704155358667398]
[null,{"$f":"IF('TD Siniestros'!A45=\"\",\"\",'TD Siniestros'!A45)","v":37},{"$f":"IF('TD Siniestros'!B45=\"\",\"\",'TD Siniestros'!B45)","v":"Cardif Seguros Generales"},{"$f":"IF('TD Siniestros'!C45=\"\",\"\",'TD Siniestros'!C45)","v":127678.02440000002},{"$f":"IF('TD Siniestros'!D45=\"\",\"\",'TD Siniestros'!D45)","v":-5.3137312772270517},{"$f":"IF('TD Siniestros'!E45=\"\",\"\",'TD Siniestros'!E45)","v":0},{"$f":"IF('TD Siniestros'!F45=\"\",\"\",'TD Siniestros'!F45)","v":7.7090106534852723},{"$f":"IF('TD Siniestros'!G45=\"\",\"\",'TD Siniestros'!G45)","v":9.3829218615911572},3.8693795450825963E-2]
[null,{"$f":"IF('TD Siniestros'!A46=\"\",\"\",'TD Siniestros'!A46)","v":38},{"$f":"IF('TD Siniestros'!B46=\"\",\"\",'TD Siniestros'!B46)","v":"El Potosí"},{"$f":"IF('TD Siniestros'!C46=\"\",\"\",'TD Siniestros'!C46)","v":745106.81408999977},{"$f":"IF('TD Siniestros'!D46=\"\",\"\",'TD Siniestros'!D46)","v":-22.215222796743394},{"$f":"IF('TD Siniestros'!E46=\"\",\"\",'TD Siniestros'!E46)","v":912.05034000000001},{"$f":"IF('TD Siniestros'!F46=\"\",\"\",'TD Siniestros'!F46)","v":46.197664494102419},{"$f":"IF('TD Siniestros'!G46=\"\",\"\",'TD Siniestros'!G46)","v":61.996325800064952},0.22581028167455772]
[null,{"$f":"IF('TD Siniestros'!A47=\"\",\"\",'TD Siniestros'!A47)","v":39},{"$f":"IF('TD Siniestros'!B47=\"\",\"\",'TD Siniestros'!B47)","v":"HDI Global Seguros"},{"$f":"IF('TD Siniestros'!C47=\"\",\"\",'TD Siniestros'!C47)","v":433804.21594000002},{"$f":"IF('TD Siniestros'!D47=\"\",\"\",'TD Siniestros'!D47)","v":111.23406745918717},{"$f":"IF('TD Siniestros'!E47=\"\",\"\",'TD Siniestros'!E47)","v":0},{"$f":"IF('TD Siniestros'!F47=\"\",\"\",'TD Siniestros'!F47)","v":27.6411954659727},{"$f":"IF('TD Siniestros'!G47=\"\",\"\",'TD Siniestros'!G47)","v":22.393412931328026},0.13146766388475142]
[null,{"$f":"IF('TD Siniestros'!A48=\"\",\"\",'TD Siniestros'!A48)","v":40},{"$f":"IF('TD Siniestros'!B48=\"\",\"\",'TD Siniestros'!B48)","v":"BBVA Bancomer Salud"},{"$f":"IF('TD Siniestros'!C48=\"\",\"\",'TD Siniestros'!C48)","v":680258.9154099999},{"$f":"IF('TD Siniestros'!D48=\"\",\"\",'TD Siniestros'!D48)","v":31.395849970547761},{"$f":"IF('TD Siniestros'!E48=\"\",\"\",'TD Siniestros'!E48)","v":0},{"$f":"IF('TD Siniestros'!F48=\"\",\"\",'TD Siniestros'!F48)","v":44.053676159033273},{"$f":"IF('TD Siniestros'!G48=\"\",\"\",'TD Siniestros'!G48)","v":49.859162872222349},0.20615763323539685]
[null,{"$f":"IF('TD Siniestros'!A49=\"\",\"\",'TD Siniestros'!A49)","v":41},{"$f":"IF('TD Siniestros'!B49=\"\",\"\",'TD Siniestros'!B49)","v":"Prudential"},{"$f":"IF('TD Siniestros'!C49=\"\",\"\",'TD Siniestros'!C49)","v":207228.61200000002},{"$f":"IF('TD Siniestros'!D49=\"\",\"\",'TD Siniestros'!D49)","v":62.717900546860392},{"$f":"IF('TD Siniestros'!E49=\"\",\"\",'TD Siniestros'!E49)","v":0},{"$f":"IF('TD Siniestros'!F49=\"\",\"\",'TD Siniestros'!F49)","v":15.333618255948487},{"$f":"IF('TD Siniestros'!G49=\"\",\"\",'TD Siniestros'!G49)","v":11.256283175233891},6.2802205484991644E-2]
[null,{"$f":"IF('TD Siniestros'!A50=\"\",\"\",'TD Siniestros'!A50)","v":42},{"$f":"IF('TD Siniestros'!B50=\"\",\"\",'TD Siniestros'!B50)","v":"Insignia Life"},{"$f":"IF('TD Siniestros'!C50=\"\",\"\",'TD Siniestros'!C50)","v":589783.52487999992},{"$f":"IF('TD Siniestros'!D50=\"\",\"\",'TD Siniestros'!D50)","v":4.6753604756086808},{"$f":"IF('TD Siniestros'!E50=\"\",\"\",'TD Siniestros'!E50)","v":16887.898659999999},{"$f":"IF('TD Siniestros'!F50=\"\",\"\",'TD Siniestros'!F50)","v":47.596901319020247},{"$f":"IF('TD Siniestros'!G50=\"\",\"\",'TD Siniestros'!G50)","v":50.550375672016621},0.17873837866161277]
[null,{"$f":"IF('TD Siniestros'!A51=\"\",\"\",'TD Siniestros'!A51)","v":43},{"$f":"IF('TD Siniestros'!B51=\"\",\"\",'TD Siniestros'!B51)","v":"El Águila"},{"$f":"IF('TD Siniestros'!C51=\"\",\"\",'TD Siniestros'!C51)","v":647739.05333999987},{"$f":"IF('TD Siniestros'!D51=\"\",\"\",'TD Siniestros'!D51)","v":51.121662323377556},{"$f":"IF('TD Siniestros'!E51=\"\",\"\",'TD Siniestros'!E51)","v":0},{"$f":"IF('TD Siniestros'!F51=\"\",\"\",'TD Siniestros'!F51)","v":53.4137991756484},{"$f":"IF('TD Siniestros'!G51=\"\",\"\",'TD Siniestros'!G51)","v":43.755124495947776},0.19630224193420082]
[null,{"$f":"IF('TD Siniestros'!A52=\"\",\"\",'TD Siniestros'!A52)","v":44},{"$f":"IF('TD Siniestros'!B52=\"\",\"\",'TD Siniestros'!B52)","v":"Primero Seguros"},{"$f":"IF('TD Siniestros'!C52=\"\",\"\",'TD Siniestros'!C52)","v":458116.53864999977},{"$f":"IF('TD Siniestros'!D52=\"\",\"\",'TD Siniestros'!D52)","v":16.3385636679245},{"$f":"IF('TD Siniestros'!E52=\"\",\"\",'TD Siniestros'!E52)","v":0},{"$f":"IF('TD Siniestros'!F52=\"\",\"\",'TD Siniestros'!F52)","v":44.03825220969189},{"$f":"IF('TD Siniestros'!G52=\"\",\"\",'TD Siniestros'!G52)","v":56.132278361807607},0.13883569801823697]
[null,{"$f":"IF('TD Siniestros'!A53=\"\",\"\",'TD Siniestros'!A53)","v":45},{"$f":"IF('TD Siniestros'!B53=\"\",\"\",'TD Siniestros'!B53)","v":"La Latinoamericana"},{"$f":"IF('TD Siniestros'!C53=\"\",\"\",'TD Siniestros'!C53)","v":636604.33436000021},{"$f":"IF('TD Siniestros'!D53=\"\",\"\",'TD Siniestros'!D53)","v":0.77163943135043489},{"$f":"IF('TD Siniestros'!E53=\"\",\"\",'TD Siniestros'!E53)","v":2465.41248},{"$f":"IF('TD Siniestros'!F53=\"\",\"\",'TD Siniestros'!F53)","v":66.459446792360552},{"$f":"IF('TD Siniestros'!G53=\"\",\"\",'TD Siniestros'!G53)","v":65.90566402997095},0.19292778074059125]
[null,{"$f":"IF('TD Siniestros'!A54=\"\",\"\",'TD Siniestros'!A54)","v":46},{"$f":"IF('TD Siniestros'!B54=\"\",\"\",'TD Siniestros'!B54)","v":"General de Salud"},{"$f":"IF('TD Siniestros'!C54=\"\",\"\",'TD Siniestros'!C54)","v":619673.02667000017},{"$f":"IF('TD Siniestros'!D54=\"\",\"\",'TD Siniestros'!D54)","v":42.235674912453412},{"$f":"IF('TD Siniestros'!E54=\"\",\"\",'TD Siniestros'!E54)","v":0},{"$f":"IF('TD Siniestros'!F54=\"\",\"\",'TD Siniestros'!F54)","v":65.978131093352658},{"$f":"IF('TD Siniestros'!G54=\"\",\"\",'TD Siniestros'!G54)","v":52.124362097568607},0.18779661929326658]
[null,{"$f":"IF('TD Siniestros'!A55=\"\",\"\",'TD Siniestros'!A55)","v":47},{"$f":"IF('TD Siniestros'!B55=\"\",\"\",'TD Siniestros'!B55)","v":"Pan-American México"},{"$f":"IF('TD Siniestros'!C55=\"\",\"\",'TD Siniestros'!C55)","v":434309.95731000009},{"$f":"IF('TD Siniestros'!D55=\"\",\"\",'TD Siniestros'!D55)","v":5.135709062412519},{"$f":"IF('TD Siniestros'!E55=\"\",\"\",'TD Siniestros'!E55)","v":41178.094440000001},{"$f":"IF('TD Siniestros'!F55=\"\",\"\",'TD Siniestros'!F55)","v":54.322749163318242},{"$f":"IF('TD Siniestros'!G55=\"\",\"\",'TD Siniestros'!G55)","v":60.337327093984982},0.13162093264978569]
[null,{"$f":"IF('TD Siniestros'!A56=\"\",\"\",'TD Siniestros'!A56)","v":48},{"$f":"IF('TD Siniestros'!B56=\"\",\"\",'TD Siniestros'!B56)","v":"Tokio Marine"},{"$f":"IF('TD Siniestros'!C56=\"\",\"\",'TD Siniestros'!C56)","v":287009.78168000001},{"$f":"IF('TD Siniestros'!D56=\"\",\"\",'TD Siniestros'!D56)","v":-32.985721483044664},{"$f":"IF('TD Siniestros'!E56=\"\",\"\",'TD Siniestros'!E56)","v":1072.08484},{"$f":"IF('TD Siniestros'!F56=\"\",\"\",'TD Siniestros'!F56)","v":36.427937596480511},{"$f":"IF('TD Siniestros'!G56=\"\",\"\",'TD Siniestros'!G56)","v":38.639541621662218},8.6980495170570118E-2]
[null,{"$f":"IF('TD Siniestros'!A57=\"\",\"\",'TD Siniestros'!A57)","v":49},{"$f":"IF('TD Siniestros'!B57=\"\",\"\",'TD Siniestros'!B57)","v":"Swiss Re Corporate Solutions"},{"$f":"IF('TD Siniestros'!C57=\"\",\"\",'TD Siniestros'!C57)","v":76226.916000000027},{"$f":"IF('TD Siniestros'!D57=\"\",\"\",'TD Siniestros'!D57)","v":52.235842422071869},{"$f":"IF('TD Siniestros'!E57=\"\",\"\",'TD Siniestros'!E57)","v":765.66129000000001},{"$f":"IF('TD Siniestros'!F57=\"\",\"\",'TD Siniestros'!F57)","v":11.639040843738497},{"$f":"IF('TD Siniestros'!G57=\"\",\"\",'TD Siniestros'!G57)","v":11.366072227944738},2.3101146100998827E-2]
[null,{"$f":"IF('TD Siniestros'!A58=\"\",\"\",'TD Siniestros'!A58)","v":50},{"$f":"IF('TD Siniestros'!B58=\"\",\"\",'TD Siniestros'!B58)","v":"Atradius"},{"$f":"IF('TD Siniestros'!C58=\"\",\"\",'TD Siniestros'!C58)","v":218272.81514999998},{"$f":"IF('TD Siniestros'!D58=\"\",\"\",'TD Siniestros'!D58)","v":117.41127204506037},{"$f":"IF('TD Siniestros'!E58=\"\",\"\",'TD Siniestros'!E58)","v":12336.25758},{"$f":"IF('TD Siniestros'!F58=\"\",\"\",'TD Siniestros'!F58)","v":35.82291668086561},{"$f":"IF('TD Siniestros'!G58=\"\",\"\",'TD Siniestros'!G58)","v":15.248312178667236},6.6149235168538864E-2]
[null,{"$f":"IF('TD Siniestros'!A59=\"\",\"\",'TD Siniestros'!A59)","v":51},{"$f":"IF('TD Siniestros'!B59=\"\",\"\",'TD Siniestros'!B59)","v":"Assurant Vida"},{"$f":"IF('TD Siniestros'!C59=\"\",\"\",'TD Siniestros'!C59)","v":166640.92723},{"$f":"IF('TD Siniestros'!D59=\"\",\"\",'TD Siniestros'!D59)","v":-15.619248943777119},{"$f":"IF('TD Siniestros'!E59=\"\",\"\",'TD Siniestros'!E59)","v":488.22853000000003},{"$f":"IF('TD Siniestros'!F59=\"\",\"\",'TD Siniestros'!F59)","v":27.861375765645441},{"$f":"IF('TD Siniestros'!G59=\"\",\"\",'TD Siniestros'!G59)","v":20.346291737583016},5.0501799211529724E-2]
[null,{"$f":"IF('TD Siniestros'!A60=\"\",\"\",'TD Siniestros'!A60)","v":52},{"$f":"IF('TD Siniestros'!B60=\"\",\"\",'TD Siniestros'!B60)","v":"Berkley Seguros"},{"$f":"IF('TD Siniestros'!C60=\"\",\"\",'TD Siniestros'!C60)","v":184059.90794},{"$f":"IF('TD Siniestros'!D60=\"\",\"\",'TD Siniestros'!D60)","v":-42.959610615046742},{"$f":"IF('TD Siniestros'!E60=\"\",\"\",'TD Siniestros'!E60)","v":3570.2134499999997},{"$f":"IF('TD Siniestros'!F60=\"\",\"\",'TD Siniestros'!F60)","v":32.260062527144527},{"$f":"IF('TD Siniestros'!G60=\"\",\"\",'TD Siniestros'!G60)","v":72.441861255968647},5.5780753673129485E-2]
[null,{"$f":"IF('TD Siniestros'!A61=\"\",\"\",'TD Siniestros'!A61)","v":53},{"$f":"IF('TD Siniestros'!B61=\"\",\"\",'TD Siniestros'!B61)","v":"AXA Salud"},{"$f":"IF('TD Siniestros'!C61=\"\",\"\",'TD Siniestros'!C61)","v":536351.11864999996},{"$f":"IF('TD Siniestros'!D61=\"\",\"\",'TD Siniestros'!D61)","v":51.85615094568157},{"$f":"IF('TD Siniestros'!E61=\"\",\"\",'TD Siniestros'!E61)","v":0},{"$f":"IF('TD Siniestros'!F61=\"\",\"\",'TD Siniestros'!F61)","v":94.255953105845791},{"$f":"IF('TD Siniestros'!G61=\"\",\"\",'TD Siniestros'!G61)","v":64.194075956320049},0.16254528194959117]
[null,{"$f":"IF('TD Siniestros'!A62=\"\",\"\",'TD Siniestros'!A62)","v":54},{"$f":"IF('TD Siniestros'!B62=\"\",\"\",'TD Siniestros'!B62)","v":"Sompo Japan"},{"$f":"IF('TD Siniestros'!C62=\"\",\"\",'TD Siniestros'!C62)","v":104283.09031},{"$f":"IF('TD Siniestros'!D62=\"\",\"\",'TD Siniestros'!D62)","v":904.4574842540278},{"$f":"IF('TD Siniestros'!E62=\"\",\"\",'TD Siniestros'!E62)","v":2.5688400000000002},{"$f":"IF('TD Siniestros'!F62=\"\",\"\",'TD Siniestros'!F62)","v":19.353548313378838},{"$f":"IF('TD Siniestros'!G62=\"\",\"\",'TD Siniestros'!G62)","v":1.6813944022444591},3.160378290937238E-2]
[null,{"$f":"IF('TD Siniestros'!A63=\"\",\"\",'TD Siniestros'!A63)","v":55},{"$f":"IF('TD Siniestros'!B63=\"\",\"\",'TD Siniestros'!B63)","v":"Patrimonial Vida"},{"$f":"IF('TD Siniestros'!C63=\"\",\"\",'TD Siniestros'!C63)","v":1066316.7120999999},{"$f":"IF('TD Siniestros'!D63=\"\",\"\",'TD Siniestros'!D63)","v":-13.788353216715411},{"$f":"IF('TD Siniestros'!E63=\"\",\"\",'TD Siniestros'!E63)","v":6383.8623899999993},{"$f":"IF('TD Siniestros'!F63=\"\",\"\",'TD Siniestros'!F63)","v":200.57637090531705},{"$f":"IF('TD Siniestros'!G63=\"\",\"\",'TD Siniestros'!G63)","v":53.493251433316445},0.32315538196716226]
[null,{"$f":"IF('TD Siniestros'!A64=\"\",\"\",'TD Siniestros'!A64)","v":56},{"$f":"IF('TD Siniestros'!B64=\"\",\"\",'TD Siniestros'!B64)","v":"Solunion Crédito"},{"$f":"IF('TD Siniestros'!C64=\"\",\"\",'TD Siniestros'!C64)","v":98226.974509999985},{"$f":"IF('TD Siniestros'!D64=\"\",\"\",'TD Siniestros'!D64)","v":17.666357562330681},{"$f":"IF('TD Siniestros'!E64=\"\",\"\",'TD Siniestros'!E64)","v":517.20686999999998},{"$f":"IF('TD Siniestros'!F64=\"\",\"\",'TD Siniestros'!F64)","v":20.101602446808016},{"$f":"IF('TD Siniestros'!G64=\"\",\"\",'TD Siniestros'!G64)","v":15.338395845382131},2.9768430999026596E-2]
[null,{"$f":"IF('TD Siniestros'!A65=\"\",\"\",'TD Siniestros'!A65)","v":57},{"$f":"IF('TD Siniestros'!B65=\"\",\"\",'TD Siniestros'!B65)","v":"Patrimonial Inbursa"},{"$f":"IF('TD Siniestros'!C65=\"\",\"\",'TD Siniestros'!C65)","v":29121.332980000003},{"$f":"IF('TD Siniestros'!D65=\"\",\"\",'TD Siniestros'!D65)","v":-36.08397374955161},{"$f":"IF('TD Siniestros'!E65=\"\",\"\",'TD Siniestros'!E65)","v":0},{"$f":"IF('TD Siniestros'!F65=\"\",\"\",'TD Siniestros'!F65)","v":6.1172698463711805},{"$f":"IF('TD Siniestros'!G65=\"\",\"\",'TD Siniestros'!G65)","v":8.8246992222465881},8.8254412368829836E-3]
[null,{"$f":"IF('TD Siniestros'!A66=\"\",\"\",'TD Siniestros'!A66)","v":58},{"$f":"IF('TD Siniestros'!B66=\"\",\"\",'TD Siniestros'!B66)","v":"PREVEM Seguros"},{"$f":"IF('TD Siniestros'!C66=\"\",\"\",'TD Siniestros'!C66)","v":344275.90805000003},{"$f":"IF('TD Siniestros'!D66=\"\",\"\",'TD Siniestros'!D66)","v":31.019615892745911},{"$f":"IF('TD Siniestros'!E66=\"\",\"\",'TD Siniestros'!E66)","v":0},{"$f":"IF('TD Siniestros'!F66=\"\",\"\",'TD Siniestros'!F66)","v":77.283942680173141},{"$f":"IF('TD Siniestros'!G66=\"\",\"\",'TD Siniestros'!G66)","v":65.817057084967146},0.10433542990138925]
[null,{"$f":"IF('TD Siniestros'!A67=\"\",\"\",'TD Siniestros'!A67)","v":59},{"$f":"IF('TD Siniestros'!B67=\"\",\"\",'TD Siniestros'!B67)","v":"Dentegra"},{"$f":"IF('TD Siniestros'!C67=\"\",\"\",'TD Siniestros'!C67)","v":139240.40759000002},{"$f":"IF('TD Siniestros'!D67=\"\",\"\",'TD Siniestros'!D67)","v":0},{"$f":"IF('TD Siniestros'!E67=\"\",\"\",'TD Siniestros'!E67)","v":92.980289999999997},{"$f":"IF('TD Siniestros'!F67=\"\",\"\",'TD Siniestros'!F67)","v":34.155353922319172},{"$f":"IF('TD Siniestros'!G67=\"\",\"\",'TD Siniestros'!G67)","v":0},4.2197863532865677E-2]
[null,{"$f":"IF('TD Siniestros'!A68=\"\",\"\",'TD Siniestros'!A68)","v":60},{"$f":"IF('TD Siniestros'!B68=\"\",\"\",'TD Siniestros'!B68)","v":"SHF Cred Vivienda"},{"$f":"IF('TD Siniestros'!C68=\"\",\"\",'TD Siniestros'!C68)","v":-170063.96534999998},{"$f":"IF('TD Siniestros'!D68=\"\",\"\",'TD Siniestros'!D68)","v":-1812.2781726179892},{"$f":"IF('TD Siniestros'!E68=\"\",\"\",'TD Siniestros'!E68)","v":0},{"$f":"IF('TD Siniestros'!F68=\"\",\"\",'TD Siniestros'!F68)","v":-44.319550839398843},{"$f":"IF('TD Siniestros'!G68=\"\",\"\",'TD Siniestros'!G68)","v":3.4993799728820845},-5.1539176923615149E-2]
[null,{"$f":"IF('TD Siniestros'!A69=\"\",\"\",'TD Siniestros'!A69)","v":61},{"$f":"IF('TD Siniestros'!B69=\"\",\"\",'TD Siniestros'!B69)","v":"Coface"},{"$f":"IF('TD Siniestros'!C69=\"\",\"\",'TD Siniestros'!C69)","v":45837.32632},{"$f":"IF('TD Siniestros'!D69=\"\",\"\",'TD Siniestros'!D69)","v":44.585551273579327},{"$f":"IF('TD Siniestros'!E69=\"\",\"\",'TD Siniestros'!E69)","v":438.96096},{"$f":"IF('TD Siniestros'!F69=\"\",\"\",'TD Siniestros'!F69)","v":14.664077779131929},{"$f":"IF('TD Siniestros'!G69=\"\",\"\",'TD Siniestros'!G69)","v":10.204448984262642},1.3891350034382586E-2]
[null,{"$f":"IF('TD Siniestros'!A70=\"\",\"\",'TD Siniestros'!A70)","v":62},{"$f":"IF('TD Siniestros'!B70=\"\",\"\",'TD Siniestros'!B70)","v":"Skandia Life"},{"$f":"IF('TD Siniestros'!C70=\"\",\"\",'TD Siniestros'!C70)","v":116386.46058000001},{"$f":"IF('TD Siniestros'!D70=\"\",\"\",'TD Siniestros'!D70)","v":123.87344289578226},{"$f":"IF('TD Siniestros'!E70=\"\",\"\",'TD Siniestros'!E70)","v":0},{"$f":"IF('TD Siniestros'!F70=\"\",\"\",'TD Siniestros'!F70)","v":41.457876099138637},{"$f":"IF('TD Siniestros'!G70=\"\",\"\",'TD Siniestros'!G70)","v":15.035340939817605},3.5271801236674977E-2]
[null,{"$f":"IF('TD Siniestros'!A71=\"\",\"\",'TD Siniestros'!A71)","v":63},{"$f":"IF('TD Siniestros'!B71=\"\",\"\",'TD Siniestros'!B71)","v":"Patrimonial Daños"},{"$f":"IF('TD Siniestros'!C71=\"\",\"\",'TD Siniestros'!C71)","v":56710.897570000001},{"$f":"IF('TD Siniestros'!D71=\"\",\"\",'TD Siniestros'!D71)","v":88.049470010189907},{"$f":"IF('TD Siniestros'!E71=\"\",\"\",'TD Siniestros'!E71)","v":0},{"$f":"IF('TD Siniestros'!F71=\"\",\"\",'TD Siniestros'!F71)","v":24.528975262581262},{"$f":"IF('TD Siniestros'!G71=\"\",\"\",'TD Siniestros'!G71)","v":16.018312206842783},1.7186668424095091E-2]
[null,{"$f":"IF('TD Siniestros'!A72=\"\",\"\",'TD Siniestros'!A72)","v":64},{"$f":"IF('TD Siniestros'!B72=\"\",\"\",'TD Siniestros'!B72)","v":"Centauro"},{"$f":"IF('TD Siniestros'!C72=\"\",\"\",'TD Siniestros'!C72)","v":87856.001090000005},{"$f":"IF('TD Siniestros'!D72=\"\",\"\",'TD Siniestros'!D72)","v":29.098201842384363},{"$f":"IF('TD Siniestros'!E72=\"\",\"\",'TD Siniestros'!E72)","v":175.47427999999999},{"$f":"IF('TD Siniestros'!F72=\"\",\"\",'TD Siniestros'!F72)","v":40.454113373743255},{"$f":"IF('TD Siniestros'!G72=\"\",\"\",'TD Siniestros'!G72)","v":60.352535849821841},{"$f":"IFERROR(D73/VLOOKUP(\"TOTAL\",$C$8:$D$124,2,0)*100,\"\")","v":2.6625428700665282E-2}]
[null,{"$f":"IF('TD Siniestros'!A73=\"\",\"\",'TD Siniestros'!A73)","v":65},{"$f":"IF('TD Siniestros'!B73=\"\",\"\",'TD Siniestros'!B73)","v":"MediAccess"},{"$f":"IF('TD Siniestros'!C73=\"\",\"\",'TD Siniestros'!C73)","v":157398.26560000001},{"$f":"IF('TD Siniestros'!D73=\"\",\"\",'TD Siniestros'!D73)","v":60.062452688541292},{"$f":"IF('TD Siniestros'!E73=\"\",\"\",'TD Siniestros'!E73)","v":0},{"$f":"IF('TD Siniestros'!F73=\"\",\"\",'TD Siniestros'!F73)","v":75.068165818437151},{"$f":"IF('TD Siniestros'!G73=\"\",\"\",'TD Siniestros'!G73)","v":52.874623004111967},4.7700740374560305E-2]
[null,{"$f":"IF('TD Siniestros'!A74=\"\",\"\",'TD Siniestros'!A74)","v":66},{"$f":"IF('TD Siniestros'!B74=\"\",\"\",'TD Siniestros'!B74)","v":"Assurant Daños"},{"$f":"IF('TD Siniestros'!C74=\"\",\"\",'TD Siniestros'!C74)","v":34063.671070000004},{"$f":"IF('TD Siniestros'!D74=\"\",\"\",'TD Siniestros'!D74)","v":-23.229443116436411},{"$f":"IF('TD Siniestros'!E74=\"\",\"\",'TD Siniestros'!E74)","v":-740.39869999999996},{"$f":"IF('TD Siniestros'!F74=\"\",\"\",'TD Siniestros'!F74)","v":17.170340741060716},{"$f":"IF('TD Siniestros'!G74=\"\",\"\",'TD Siniestros'!G74)","v":26.543001522110458},1.0323254349217497E-2]
[null,{"$f":"IF('TD Siniestros'!A75=\"\",\"\",'TD Siniestros'!A75)","v":67},{"$f":"IF('TD Siniestros'!B75=\"\",\"\",'TD Siniestros'!B75)","v":"Odontoprev"},{"$f":"IF('TD Siniestros'!C75=\"\",\"\",'TD Siniestros'!C75)","v":20635.934209999999},{"$f":"IF('TD Siniestros'!D75=\"\",\"\",'TD Siniestros'!D75)","v":29.023809621793362},{"$f":"IF('TD Siniestros'!E75=\"\",\"\",'TD Siniestros'!E75)","v":0},{"$f":"IF('TD Siniestros'!F75=\"\",\"\",'TD Siniestros'!F75)","v":19.36087812738733},{"$f":"IF('TD Siniestros'!G75=\"\",\"\",'TD Siniestros'!G75)","v":23.307223393361205},6.2538766636683774E-3]
[null,{"$f":"IF('TD Siniestros'!A76=\"\",\"\",'TD Siniestros'!A76)","v":68},{"$f":"IF('TD Siniestros'!B76=\"\",\"\",'TD Siniestros'!B76)","v":"Virginia Surety"},{"$f":"IF('TD Siniestros'!C76=\"\",\"\",'TD Siniestros'!C76)","v":31675.195059999995},{"$f":"IF('TD Siniestros'!D76=\"\",\"\",'TD Siniestros'!D76)","v":60.72506192534857},{"$f":"IF('TD Siniestros'!E76=\"\",\"\",'TD Siniestros'!E76)","v":0},{"$f":"IF('TD Siniestros'!F76=\"\",\"\",'TD Siniestros'!F76)","v":33.698063970122753},{"$f":"IF('TD Siniestros'!G76=\"\",\"\",'TD Siniestros'!G76)","v":25.478593699402687},9.5994085456467364E-3]
[null,{"$f":"IF('TD Siniestros'!A77=\"\",\"\",'TD Siniestros'!A77)","v":69},{"$f":"IF('TD Siniestros'!B77=\"\",\"\",'TD Siniestros'!B77)","v":"Genworth Seg. de Crédito"},{"$f":"IF('TD Siniestros'!C77=\"\",\"\",'TD Siniestros'!C77)","v":17318.47091},{"$f":"IF('TD Siniestros'!D77=\"\",\"\",'TD Siniestros'!D77)","v":158.17344742224253},{"$f":"IF('TD Siniestros'!E77=\"\",\"\",'TD Siniestros'!E77)","v":0},{"$f":"IF('TD Siniestros'!F77=\"\",\"\",'TD Siniestros'!F77)","v":20.537354550938673},{"$f":"IF('TD Siniestros'!G77=\"\",\"\",'TD Siniestros'!G77)","v":13.483293601631093},5.2484942029900295E-3]
[null,{"$f":"IF('TD Siniestros'!A78=\"\",\"\",'TD Siniestros'!A78)","v":70},{"$f":"IF('TD Siniestros'!B78=\"\",\"\",'TD Siniestros'!B78)","v":"Crabi"},{"$f":"IF('TD Siniestros'!C78=\"\",\"\",'TD Siniestros'!C78)","v":41685.980710000003},{"$f":"IF('TD Siniestros'!D78=\"\",\"\",'TD Siniestros'!D78)","v":64.219833196134672},{"$f":"IF('TD Siniestros'!E78=\"\",\"\",'TD Siniestros'!E78)","v":0},{"$f":"IF('TD Siniestros'!F78=\"\",\"\",'TD Siniestros'!F78)","v":68.670353283330741},{"$f":"IF('TD Siniestros'!G78=\"\",\"\",'TD Siniestros'!G78)","v":126.24877438234199},1.2633253203437072E-2]
[null,{"$f":"IF('TD Siniestros'!A79=\"\",\"\",'TD Siniestros'!A79)","v":71},{"$f":"IF('TD Siniestros'!B79=\"\",\"\",'TD Siniestros'!B79)","v":"SPP Seguros"},{"$f":"IF('TD Siniestros'!C79=\"\",\"\",'TD Siniestros'!C79)","v":1158.5954800000002},{"$f":"IF('TD Siniestros'!D79=\"\",\"\",'TD Siniestros'!D79)","v":0},{"$f":"IF('TD Siniestros'!E79=\"\",\"\",'TD Siniestros'!E79)","v":0},{"$f":"IF('TD Siniestros'!F79=\"\",\"\",'TD Siniestros'!F79)","v":2.1364261769108372},{"$f":"IF('TD Siniestros'!G79=\"\",\"\",'TD Siniestros'!G79)","v":0},3.5112116375581634E-4]
[null,{"$f":"IF('TD Siniestros'!A80=\"\",\"\",'TD Siniestros'!A80)","v":72},{"$f":"IF('TD Siniestros'!B80=\"\",\"\",'TD Siniestros'!B80)","v":"Metlife Pensiones"},{"$f":"IF('TD Siniestros'!C80=\"\",\"\",'TD Siniestros'!C80)","v":279636.72981999995},{"$f":"IF('TD Siniestros'!D80=\"\",\"\",'TD Siniestros'!D80)","v":5.5899769360605811},{"$f":"IF('TD Siniestros'!E80=\"\",\"\",'TD Siniestros'!E80)","v":0},{"$f":"IF('TD Siniestros'!F80=\"\",\"\",'TD Siniestros'!F80)","v":754.93889552092855},{"$f":"IF('TD Siniestros'!G80=\"\",\"\",'TD Siniestros'!G80)","v":1481.7097144244854},8.4746035780554882E-2]
[null,{"$f":"IF('TD Siniestros'!A81=\"\",\"\",'TD Siniestros'!A81)","v":73},{"$f":"IF('TD Siniestros'!B81=\"\",\"\",'TD Siniestros'!B81)","v":"Metlife Más"},{"$f":"IF('TD Siniestros'!C81=\"\",\"\",'TD Siniestros'!C81)","v":2177.79826},{"$f":"IF('TD Siniestros'!D81=\"\",\"\",'TD Siniestros'!D81)","v":-22.140754569736799},{"$f":"IF('TD Siniestros'!E81=\"\",\"\",'TD Siniestros'!E81)","v":0},{"$f":"IF('TD Siniestros'!F81=\"\",\"\",'TD Siniestros'!F81)","v":6.2390626913351923},{"$f":"IF('TD Siniestros'!G81=\"\",\"\",'TD Siniestros'!G81)","v":10.137752848426382},6.5999831060672867E-4]
[null,{"$f":"IF('TD Siniestros'!A82=\"\",\"\",'TD Siniestros'!A82)","v":74},{"$f":"IF('TD Siniestros'!B82=\"\",\"\",'TD Siniestros'!B82)","v":"SPT"},{"$f":"IF('TD Siniestros'!C82=\"\",\"\",'TD Siniestros'!C82)","v":19594.391730000003},{"$f":"IF('TD Siniestros'!D82=\"\",\"\",'TD Siniestros'!D82)","v":53.216960874818533},{"$f":"IF('TD Siniestros'!E82=\"\",\"\",'TD Siniestros'!E82)","v":0},{"$f":"IF('TD Siniestros'!F82=\"\",\"\",'TD Siniestros'!F82)","v":60.604913740312568},{"$f":"IF('TD Siniestros'!G82=\"\",\"\",'TD Siniestros'!G82)","v":58.660656409897484},5.9382293009851411E-3]
[null,{"$f":"IF('TD Siniestros'!A83=\"\",\"\",'TD Siniestros'!A83)","v":75},{"$f":"IF('TD Siniestros'!B83=\"\",\"\",'TD Siniestros'!B83)","v":"Quálitas Salud"},{"$f":"IF('TD Siniestros'!C83=\"\",\"\",'TD Siniestros'!C83)","v":11814.66581},{"$f":"IF('TD Siniestros'!D83=\"\",\"\",'TD Siniestros'!D83)","v":1024.1557173355852},{"$f":"IF('TD Siniestros'!E83=\"\",\"\",'TD Siniestros'!E83)","v":0},{"$f":"IF('TD Siniestros'!F83=\"\",\"\",'TD Siniestros'!F83)","v":91.928295401513665},{"$f":"IF('TD Siniestros'!G83=\"\",\"\",'TD Siniestros'!G83)","v":6.6837153204140316},3.5805242469902042E-3]
[null,{"$f":"IF('TD Siniestros'!A84=\"\",\"\",'TD Siniestros'!A84)","v":76},{"$f":"IF('TD Siniestros'!B84=\"\",\"\",'TD Siniestros'!B84)","v":"Citibanamex Pensiones"},{"$f":"IF('TD Siniestros'!C84=\"\",\"\",'TD Siniestros'!C84)","v":596238.76479000004},{"$f":"IF('TD Siniestros'!D84=\"\",\"\",'TD Siniestros'!D84)","v":4.8084685078241263},{"$f":"IF('TD Siniestros'!E84=\"\",\"\",'TD Siniestros'!E84)","v":0},{"$f":"IF('TD Siniestros'!F84=\"\",\"\",'TD Siniestros'!F84)","v":9605.7949264155995},{"$f":"IF('TD Siniestros'!G84=\"\",\"\",'TD Siniestros'!G84)","v":3500.5192438589497},0.18069468816622283]
[null,{"$f":"IF('TD Siniestros'!A85=\"\",\"\",'TD Siniestros'!A85)","v":77},{"$f":"IF('TD Siniestros'!B85=\"\",\"\",'TD Siniestros'!B85)","v":"Pensiones Inbursa"},{"$f":"IF('TD Siniestros'!C85=\"\",\"\",'TD Siniestros'!C85)","v":20801.920860000002},{"$f":"IF('TD Siniestros'!D85=\"\",\"\",'TD Siniestros'!D85)","v":13.966946504577994},{"$f":"IF('TD Siniestros'!E85=\"\",\"\",'TD Siniestros'!E85)","v":0},{"$f":"IF('TD Siniestros'!F85=\"\",\"\",'TD Siniestros'!F85)","v":4138.0311072828144},{"$f":"IF('TD Siniestros'!G85=\"\",\"\",'TD Siniestros'!G85)","v":1538.7710759896031},6.3041801791938554E-3]
[null,{"$f":"IF('TD Siniestros'!A86=\"\",\"\",'TD Siniestros'!A86)","v":78},{"$f":"IF('TD Siniestros'!B86=\"\",\"\",'TD Siniestros'!B86)","v":"Momento Seguros"},{"$f":"IF('TD Siniestros'!C86=\"\",\"\",'TD Siniestros'!C86)","v":97.466229999999996},{"$f":"IF('TD Siniestros'!D86=\"\",\"\",'TD Siniestros'!D86)","v":0},{"$f":"IF('TD Siniestros'!E86=\"\",\"\",'TD Siniestros'!E86)","v":0},{"$f":"IF('TD Siniestros'!F86=\"\",\"\",'TD Siniestros'!F86)","v":20.786497036716597},{"$f":"IF('TD Siniestros'!G86=\"\",\"\",'TD Siniestros'!G86)","v":0},2.9537881594784101E-5]
[null,{"$f":"IF('TD Siniestros'!A87=\"\",\"\",'TD Siniestros'!A87)","v":79},{"$f":"IF('TD Siniestros'!B87=\"\",\"\",'TD Siniestros'!B87)","v":"Aserta Seguros de Vida"},{"$f":"IF('TD Siniestros'!C87=\"\",\"\",'TD Siniestros'!C87)","v":-1689.6026099999995},{"$f":"IF('TD Siniestros'!D87=\"\",\"\",'TD Siniestros'!D87)","v":-106.77981178099067},{"$f":"IF('TD Siniestros'!E87=\"\",\"\",'TD Siniestros'!E87)","v":-296.49778000000003},{"$f":"IF('TD Siniestros'!F87=\"\",\"\",'TD Siniestros'!F87)","v":0},{"$f":"IF('TD Siniestros'!G87=\"\",\"\",'TD Siniestros'!G87)","v":4179.6617368482739},-5.1204690933893894E-4]
[null,{"$f":"IF('TD Siniestros'!A88=\"\",\"\",'TD Siniestros'!A88)","v":79},{"$f":"IF('TD Siniestros'!B88=\"\",\"\",'TD Siniestros'!B88)","v":"Zurich Daños"},{"$f":"IF('TD Siniestros'!C88=\"\",\"\",'TD Siniestros'!C88)","v":0},{"$f":"IF('TD Siniestros'!D88=\"\",\"\",'TD Siniestros'!D88)","v":0},{"$f":"IF('TD Siniestros'!E88=\"\",\"\",'TD Siniestros'!E88)","v":0},{"$f":"IF('TD Siniestros'!F88=\"\",\"\",'TD Siniestros'!F88)","v":0},{"$f":"IF('TD Siniestros'!G88=\"\",\"\",'TD Siniestros'!G88)","v":0},0]
[null,{"$f":"IF('TD Siniestros'!A89=\"\",\"\",'TD Siniestros'!A89)","v":79},{"$f":"IF('TD Siniestros'!B89=\"\",\"\",'TD Siniestros'!B89)","v":"Zurich Vida"},{"$f":"IF('TD Siniestros'!C89=\"\",\"\",'TD Siniestros'!C89)","v":0},{"$f":"IF('TD Siniestros'!D89=\"\",\"\",'TD Siniestros'!D89)","v":0},{"$f":"IF('TD Siniestros'!E89=\"\",\"\",'TD Siniestros'!E89)","v":0},{"$f":"IF('TD Siniestros'!F89=\"\",\"\",'TD Siniestros'!F89)","v":0},{"$f":"IF('TD Siniestros'!G89=\"\",\"\",'TD Siniestros'!G89)","v":0},0]
[null,{"$f":"IF('TD Siniestros'!A90=\"\",\"\",'TD Siniestros'!A90)","v":150.1},{"$f":"IF('TD Siniestros'!B90=\"\",\"\",'TD Siniestros'!B90)","v":"TOTAL RESTO"},{"$f":"IF('TD Siniestros'!C90=\"\",\"\",'TD Siniestros'!C90)","v":58016873.004139997},{"$f":"IF('TD Siniestros'!D90=\"\",\"\",'TD Siniestros'!D90)","v":10.42266812972208},{"$f":"IF('TD Siniestros'!E90=\"\",\"\",'TD Siniestros'!E90)","v":386812.41236999998},{"$f":"IF('TD Siniestros'!F90=\"\",\"\",'TD Siniestros'!F90)","v":46.174147880449404},{"$f":"IF('TD Siniestros'!G90=\"\",\"\",'TD Siniestros'!G90)","v":44.043047197553726},17.582454202813771]
[null,{"$f":"IF('TD Siniestros'!A91=\"\",\"\",'TD Siniestros'!A91)","v":200},{"$f":"IF('TD Siniestros'!B91=\"\",\"\",'TD Siniestros'!B91)","v":"Patria"},{"$f":"IF('TD Siniestros'!C91=\"\",\"\",'TD Siniestros'!C91)","v":0},{"$f":"IF('TD Siniestros'!D91=\"\",\"\",'TD Siniestros'!D91)","v":0},{"$f":"IF('TD Siniestros'!E91=\"\",\"\",'TD Siniestros'!E91)","v":0},{"$f":"IF('TD Siniestros'!F91=\"\",\"\",'TD Siniestros'!F91)","v":0},{"$f":"IF('TD Siniestros'!G91=\"\",\"\",'TD Siniestros'!G91)","v":0},0]
[null,{"$f":"IF('TD Siniestros'!A92=\"\",\"\",'TD Siniestros'!A92)","v":201.1},{"$f":"IF('TD Siniestros'!B92=\"\",\"\",'TD Siniestros'!B92)","v":"TOTAL"},{"$f":"IF('TD Siniestros'!C92=\"\",\"\",'TD Siniestros'!C92)","v":329970277.95388991},{"$f":"IF('TD Siniestros'!D92=\"\",\"\",'TD Siniestros'!D92)","v":9.0638355088447966},{"$f":"IF('TD Siniestros'!E92=\"\",\"\",'TD Siniestros'!E92)","v":1949567.0618600002},{"$f":"IF('TD Siniestros'!F92=\"\",\"\",'TD Siniestros'!F92)","v":56.167481863923975},{"$f":"IF('TD Siniestros'!G92=\"\",\"\",'TD Siniestros'!G92)","v":58.857402787549574},100]
[null,{"$f":"IF('TD Siniestros'!A93=\"\",\"\",'TD Siniestros'!A93)","v":""},{"$f":"IF('TD Siniestros'!B93=\"\",\"\",'TD Siniestros'!B93)","v":""},{"$f":"IF('TD Siniestros'!C93=\"\",\"\",'TD Siniestros'!C93)","v":""},{"$f":"IF('TD Siniestros'!D93=\"\",\"\",'TD Siniestros'!D93)","v":""},{"$f":"IF('TD Siniestros'!E93=\"\",\"\",'TD Siniestros'!E93)","v":""},{"$f":"IF('TD Siniestros'!F93=\"\",\"\",'TD Siniestros'!F93)","v":""},{"$f":"IF('TD Siniestros'!G93=\"\",\"\",'TD Siniestros'!G93)","v":""},""]
[null,{"$f":"IF('TD Siniestros'!A94=\"\",\"\",'TD Siniestros'!A94)","v":""},{"$f":"IF('TD Siniestros'!B94=\"\",\"\",'TD Siniestros'!B94)","v":""},{"$f":"IF('TD Siniestros'!C94=\"\",\"\",'TD Siniestros'!C94)","v":""},{"$f":"IF('TD Siniestros'!D94=\"\",\"\",'TD Siniestros'!D94)","v":""},{"$f":"IF('TD Siniestros'!E94=\"\",\"\",'TD Siniestros'!E94)","v":""},{"$f":"IF('TD Siniestros'!F94=\"\",\"\",'TD Siniestros'!F94)","v":""},{"$f":"IF('TD Siniestros'!G94=\"\",\"\",'TD Siniestros'!G94)","v":""},""]
[null,{"$f":"IF('TD Siniestros'!A95=\"\",\"\",'TD Siniestros'!A95)","v":""},{"$f":"IF('TD Siniestros'!B95=\"\",\"\",'TD Siniestros'!B95)","v":""},{"$f":"IF('TD Siniestros'!C95=\"\",\"\",'TD Siniestros'!C95)","v":""},{"$f":"IF('TD Siniestros'!D95=\"\",\"\",'TD Siniestros'!D95)","v":""},{"$f":"IF('TD Siniestros'!E95=\"\",\"\",'TD Siniestros'!E95)","v":""},{"$f":"IF('TD Siniestros'!F95=\"\",\"\",'TD Siniestros'!F95)","v":""},{"$f":"IF('TD Siniestros'!G95=\"\",\"\",'TD Siniestros'!G95)","v":""},""]
[null,{"$f":"IF('TD Siniestros'!A96=\"\",\"\",'TD Siniestros'!A96)","v":""},{"$f":"IF('TD Siniestros'!B96=\"\",\"\",'TD Siniestros'!B96)","v":""},{"$f":"IF('TD Siniestros'!C96=\"\",\"\",'TD Siniestros'!C96)","v":""},{"$f":"IF('TD Siniestros'!D96=\"\",\"\",'TD Siniestros'!D96)","v":""},{"$f":"IF('TD Siniestros'!E96=\"\",\"\",'TD Siniestros'!E96)","v":""},{"$f":"IF('TD Siniestros'!F96=\"\",\"\",'TD Siniestros'!F96)","v":""},{"$f":"IF('TD Siniestros'!G96=\"\",\"\",'TD Siniestros'!G96)","v":""},""]
[null,{"$f":"IF('TD Siniestros'!A97=\"\",\"\",'TD Siniestros'!A97)","v":""},{"$f":"IF('TD Siniestros'!B97=\"\",\"\",'TD Siniestros'!B97)","v":""},{"$f":"IF('TD Siniestros'!C97=\"\",\"\",'TD Siniestros'!C97)","v":""},{"$f":"IF('TD Siniestros'!D97=\"\",\"\",'TD Siniestros'!D97)","v":""},{"$f":"IF('TD Siniestros'!E97=\"\",\"\",'TD Siniestros'!E97)","v":""},{"$f":"IF('TD Siniestros'!F97=\"\",\"\",'TD Siniestros'!F97)","v":""},{"$f":"IF('TD Siniestros'!G97=\"\",\"\",'TD Siniestros'!G97)","v":""},""]
[null,{"$f":"IF('TD Siniestros'!A98=\"\",\"\",'TD Siniestros'!A98)","v":""},{"$f":"IF('TD Siniestros'!B98=\"\",\"\",'TD Siniestros'!B98)","v":""},{"$f":"IF('TD Siniestros'!C98=\"\",\"\",'TD Siniestros'!C98)","v":""},{"$f":"IF('TD Siniestros'!D98=\"\",\"\",'TD Siniestros'!D98)","v":""},{"$f":"IF('TD Siniestros'!E98=\"\",\"\",'TD Siniestros'!E98)","v":""},{"$f":"IF('TD Siniestros'!F98=\"\",\"\",'TD Siniestros'!F98)","v":""},{"$f":"IF('TD Siniestros'!G98=\"\",\"\",'TD Siniestros'!G98)","v":""},""]
[null,{"$f":"IF('TD Siniestros'!A99=\"\",\"\",'TD Siniestros'!A99)","v":""},{"$f":"IF('TD Siniestros'!B99=\"\",\"\",'TD Siniestros'!B99)","v":""},{"$f":"IF('TD Siniestros'!C99=\"\",\"\",'TD Siniestros'!C99)","v":""},{"$f":"IF('TD Siniestros'!D99=\"\",\"\",'TD Siniestros'!D99)","v":""},{"$f":"IF('TD Siniestros'!E99=\"\",\"\",'TD Siniestros'!E99)","v":""},{"$f":"IF('TD Siniestros'!F99=\"\",\"\",'TD Siniestros'!F99)","v":""},{"$f":"IF('TD Siniestros'!G99=\"\",\"\",'TD Siniestros'!G99)","v":""},""]
[null,{"$f":"IF('TD Siniestros'!A100=\"\",\"\",'TD Siniestros'!A100)","v":""},{"$f":"IF('TD Siniestros'!B100=\"\",\"\",'TD Siniestros'!B100)","v":""},{"$f":"IF('TD Siniestros'!C100=\"\",\"\",'TD Siniestros'!C100)","v":""},{"$f":"IF('TD Siniestros'!D100=\"\",\"\",'TD Siniestros'!D100)","v":""},{"$f":"IF('TD Siniestros'!E100=\"\",\"\",'TD Siniestros'!E100)","v":""},{"$f":"IF('TD Siniestros'!F100=\"\",\"\",'TD Siniestros'!F100)","v":""},{"$f":"IF('TD Siniestros'!G100=\"\",\"\",'TD Siniestros'!G100)","v":""},""]
[null,{"$f":"IF('TD Siniestros'!A101=\"\",\"\",'TD Siniestros'!A101)","v":""},{"$f":"IF('TD Siniestros'!B101=\"\",\"\",'TD Siniestros'!B101)","v":""},{"$f":"IF('TD Siniestros'!C101=\"\",\"\",'TD Siniestros'!C101)","v":""},{"$f":"IF('TD Siniestros'!D101=\"\",\"\",'TD Siniestros'!D101)","v":""},{"$f":"IF('TD Siniestros'!E101=\"\",\"\",'TD Siniestros'!E101)","v":""},{"$f":"IF('TD Siniestros'!F101=\"\",\"\",'TD Siniestros'!F101)","v":""},{"$f":"IF('TD Siniestros'!G101=\"\",\"\",'TD Siniestros'!G101)","v":""},""]
[null,{"$f":"IF('TD Siniestros'!A102=\"\",\"\",'TD Siniestros'!A102)","v":""},{"$f":"IF('TD Siniestros'!B102=\"\",\"\",'TD Siniestros'!B102)","v":""},{"$f":"IF('TD Siniestros'!C102=\"\",\"\",'TD Siniestros'!C102)","v":""},{"$f":"IF('TD Siniestros'!D102=\"\",\"\",'TD Siniestros'!D102)","v":""},{"$f":"IF('TD Siniestros'!E102=\"\",\"\",'TD Siniestros'!E102)","v":""},{"$f":"IF('TD Siniestros'!F102=\"\",\"\",'TD Siniestros'!F102)","v":""},{"$f":"IF('TD Siniestros'!G102=\"\",\"\",'TD Siniestros'!G102)","v":""},""]
[null,{"$f":"IF('TD Siniestros'!A103=\"\",\"\",'TD Siniestros'!A103)","v":""},{"$f":"IF('TD Siniestros'!B103=\"\",\"\",'TD Siniestros'!B103)","v":""},{"$f":"IF('TD Siniestros'!C103=\"\",\"\",'TD Siniestros'!C103)","v":""},{"$f":"IF('TD Siniestros'!D103=\"\",\"\",'TD Siniestros'!D103)","v":""},{"$f":"IF('TD Siniestros'!E103=\"\",\"\",'TD Siniestros'!E103)","v":""},{"$f":"IF('TD Siniestros'!F103=\"\",\"\",'TD Siniestros'!F103)","v":""},{"$f":"IF('TD Siniestros'!G103=\"\",\"\",'TD Siniestros'!G103)","v":""},""]
[null,{"$f":"IF('TD Siniestros'!A104=\"\",\"\",'TD Siniestros'!A104)","v":""},{"$f":"IF('TD Siniestros'!B104=\"\",\"\",'TD Siniestros'!B104)","v":""},{"$f":"IF('TD Siniestros'!C104=\"\",\"\",'TD Siniestros'!C104)","v":""},{"$f":"IF('TD Siniestros'!D104=\"\",\"\",'TD Siniestros'!D104)","v":""},{"$f":"IF('TD Siniestros'!E104=\"\",\"\",'TD Siniestros'!E104)","v":""},{"$f":"IF('TD Siniestros'!F104=\"\",\"\",'TD Siniestros'!F104)","v":""},{"$f":"IF('TD Siniestros'!G104=\"\",\"\",'TD Siniestros'!G104)","v":""},""]
[null,{"$f":"IF('TD Siniestros'!A105=\"\",\"\",'TD Siniestros'!A105)","v":""},{"$f":"IF('TD Siniestros'!B105=\"\",\"\",'TD Siniestros'!B105)","v":""},{"$f":"IF('TD Siniestros'!C105=\"\",\"\",'TD Siniestros'!C105)","v":""},{"$f":"IF('TD Siniestros'!D105=\"\",\"\",'TD Siniestros'!D105)","v":""},{"$f":"IF('TD Siniestros'!E105=\"\",\"\",'TD Siniestros'!E105)","v":""},{"$f":"IF('TD Siniestros'!F105=\"\",\"\",'TD Siniestros'!F105)","v":""},{"$f":"IF('TD Siniestros'!G105=\"\",\"\",'TD Siniestros'!G105)","v":""},""]
[null,{"$f":"IF('TD Siniestros'!A106=\"\",\"\",'TD Siniestros'!A106)","v":""},{"$f":"IF('TD Siniestros'!B106=\"\",\"\",'TD Siniestros'!B106)","v":""},{"$f":"IF('TD Siniestros'!C106=\"\",\"\",'TD Siniestros'!C106)","v":""},{"$f":"IF('TD Siniestros'!D106=\"\",\"\",'TD Siniestros'!D106)","v":""},{"$f":"IF('TD Siniestros'!E106=\"\",\"\",'TD Siniestros'!E106)","v":""},{"$f":"IF('TD Siniestros'!F106=\"\",\"\",'TD Siniestros'!F106)","v":""},{"$f":"IF('TD Siniestros'!G106=\"\",\"\",'TD Siniestros'!G106)","v":""},""]
[null,{"$f":"IF('TD Siniestros'!A107=\"\",\"\",'TD Siniestros'!A107)","v":""},{"$f":"IF('TD Siniestros'!B107=\"\",\"\",'TD Siniestros'!B107)","v":""},{"$f":"IF('TD Siniestros'!C107=\"\",\"\",'TD Siniestros'!C107)","v":""},{"$f":"IF('TD Siniestros'!D107=\"\",\"\",'TD Siniestros'!D107)","v":""},{"$f":"IF('TD Siniestros'!E107=\"\",\"\",'TD Siniestros'!E107)","v":""},{"$f":"IF('TD Siniestros'!F107=\"\",\"\",'TD Siniestros'!F107)","v":""},{"$f":"IF('TD Siniestros'!G107=\"\",\"\",'TD Siniestros'!G107)","v":""},""]
[null,{"$f":"IF('TD Siniestros'!A108=\"\",\"\",'TD Siniestros'!A108)","v":""},{"$f":"IF('TD Siniestros'!B108=\"\",\"\",'TD Siniestros'!B108)","v":""},{"$f":"IF('TD Siniestros'!C108=\"\",\"\",'TD Siniestros'!C108)","v":""},{"$f":"IF('TD Siniestros'!D108=\"\",\"\",'TD Siniestros'!D108)","v":""},{"$f":"IF('TD Siniestros'!E108=\"\",\"\",'TD Siniestros'!E108)","v":""},{"$f":"IF('TD Siniestros'!F108=\"\",\"\",'TD Siniestros'!F108)","v":""},{"$f":"IF('TD Siniestros'!G108=\"\",\"\",'TD Siniestros'!G108)","v":""},""]
[null,{"$f":"IF('TD Siniestros'!A109=\"\",\"\",'TD Siniestros'!A109)","v":""},{"$f":"IF('TD Siniestros'!B109=\"\",\"\",'TD Siniestros'!B109)","v":""},{"$f":"IF('TD Siniestros'!C109=\"\",\"\",'TD Siniestros'!C109)","v":""},{"$f":"IF('TD Siniestros'!D109=\"\",\"\",'TD Siniestros'!D109)","v":""},{"$f":"IF('TD Siniestros'!E109=\"\",\"\",'TD Siniestros'!E109)","v":""},{"$f":"IF('TD Siniestros'!F109=\"\",\"\",'TD Siniestros'!F109)","v":""},{"$f":"IF('TD Siniestros'!G109=\"\",\"\",'TD Siniestros'!G109)","v":""},""]
[null,{"$f":"IF('TD Siniestros'!A110=\"\",\"\",'TD Siniestros'!A110)","v":""},{"$f":"IF('TD Siniestros'!B110=\"\",\"\",'TD Siniestros'!B110)","v":""},{"$f":"IF('TD Siniestros'!C110=\"\",\"\",'TD Siniestros'!C110)","v":""},{"$f":"IF('TD Siniestros'!D110=\"\",\"\",'TD Siniestros'!D110)","v":""},{"$f":"IF('TD Siniestros'!E110=\"\",\"\",'TD Siniestros'!E110)","v":""},{"$f":"IF('TD Siniestros'!F110=\"\",\"\",'TD Siniestros'!F110)","v":""},{"$f":"IF('TD Siniestros'!G110=\"\",\"\",'TD Siniestros'!G110)","v":""},""]
[null,{"$f":"IF('TD Siniestros'!A111=\"\",\"\",'TD Siniestros'!A111)","v":""},{"$f":"IF('TD Siniestros'!B111=\"\",\"\",'TD Siniestros'!B111)","v":""},{"$f":"IF('TD Siniestros'!C111=\"\",\"\",'TD Siniestros'!C111)","v":""},{"$f":"IF('TD Siniestros'!D111=\"\",\"\",'TD Siniestros'!D111)","v":""},{"$f":"IF('TD Siniestros'!E111=\"\",\"\",'TD Siniestros'!E111)","v":""},{"$f":"IF('TD Siniestros'!F111=\"\",\"\",'TD Siniestros'!F111)","v":""},{"$f":"IF('TD Siniestros'!G111=\"\",\"\",'TD Siniestros'!G111)","v":""},""]
[null,{"$f":"IF('TD Siniestros'!A112=\"\",\"\",'TD Siniestros'!A112)","v":""},{"$f":"IF('TD Siniestros'!B112=\"\",\"\",'TD Siniestros'!B112)","v":""},{"$f":"IF('TD Siniestros'!C112=\"\",\"\",'TD Siniestros'!C112)","v":""},{"$f":"IF('TD Siniestros'!D112=\"\",\"\",'TD Siniestros'!D112)","v":""},{"$f":"IF('TD Siniestros'!E112=\"\",\"\",'TD Siniestros'!E112)","v":""},{"$f":"IF('TD Siniestros'!F112=\"\",\"\",'TD Siniestros'!F112)","v":""},{"$f":"IF('TD Siniestros'!G112=\"\",\"\",'TD Siniestros'!G112)","v":""},""]
[null,{"$f":"IF('TD Siniestros'!A113=\"\",\"\",'TD Siniestros'!A113)","v":""},{"$f":"IF('TD Siniestros'!B113=\"\",\"\",'TD Siniestros'!B113)","v":""},{"$f":"IF('TD Siniestros'!C113=\"\",\"\",'TD Siniestros'!C113)","v":""},{"$f":"IF('TD Siniestros'!D113=\"\",\"\",'TD Siniestros'!D113)","v":""},{"$f":"IF('TD Siniestros'!E113=\"\",\"\",'TD Siniestros'!E113)","v":""},{"$f":"IF('TD Siniestros'!F113=\"\",\"\",'TD Siniestros'!F113)","v":""},{"$f":"IF('TD Siniestros'!G113=\"\",\"\",'TD Siniestros'!G113)","v":""},""]
[null,{"$f":"IF('TD Siniestros'!A114=\"\",\"\",'TD Siniestros'!A114)","v":""},{"$f":"IF('TD Siniestros'!B114=\"\",\"\",'TD Siniestros'!B114)","v":""},{"$f":"IF('TD Siniestros'!C114=\"\",\"\",'TD Siniestros'!C114)","v":""},{"$f":"IF('TD Siniestros'!D114=\"\",\"\",'TD Siniestros'!D114)","v":""},{"$f":"IF('TD Siniestros'!E114=\"\",\"\",'TD Siniestros'!E114)","v":""},{"$f":"IF('TD Siniestros'!F114=\"\",\"\",'TD Siniestros'!F114)","v":""},{"$f":"IF('TD Siniestros'!G114=\"\",\"\",'TD Siniestros'!G114)","v":""},""]
[null,{"$f":"IF('TD Siniestros'!A115=\"\",\"\",'TD Siniestros'!A115)","v":""},{"$f":"IF('TD Siniestros'!B115=\"\",\"\",'TD Siniestros'!B115)","v":""},{"$f":"IF('TD Siniestros'!C115=\"\",\"\",'TD Siniestros'!C115)","v":""},{"$f":"IF('TD Siniestros'!D115=\"\",\"\",'TD Siniestros'!D115)","v":""},{"$f":"IF('TD Siniestros'!E115=\"\",\"\",'TD Siniestros'!E115)","v":""},{"$f":"IF('TD Siniestros'!F115=\"\",\"\",'TD Siniestros'!F115)","v":""},{"$f":"IF('TD Siniestros'!G115=\"\",\"\",'TD Siniestros'!G115)","v":""},""]
[null,{"$f":"IF('TD Siniestros'!A116=\"\",\"\",'TD Siniestros'!A116)","v":""},{"$f":"IF('TD Siniestros'!B116=\"\",\"\",'TD Siniestros'!B116)","v":""},{"$f":"IF('TD Siniestros'!C116=\"\",\"\",'TD Siniestros'!C116)","v":""},{"$f":"IF('TD Siniestros'!D116=\"\",\"\",'TD Siniestros'!D116)","v":""},{"$f":"IF('TD Siniestros'!E116=\"\",\"\",'TD Siniestros'!E116)","v":""},{"$f":"IF('TD Siniestros'!F116=\"\",\"\",'TD Siniestros'!F116)","v":""},{"$f":"IF('TD Siniestros'!G116=\"\",\"\",'TD Siniestros'!G116)","v":""},""]
[null,{"$f":"IF('TD Siniestros'!A117=\"\",\"\",'TD Siniestros'!A117)","v":""},{"$f":"IF('TD Siniestros'!B117=\"\",\"\",'TD Siniestros'!B117)","v":""},{"$f":"IF('TD Siniestros'!C117=\"\",\"\",'TD Siniestros'!C117)","v":""},{"$f":"IF('TD Siniestros'!D117=\"\",\"\",'TD Siniestros'!D117)","v":""},{"$f":"IF('TD Siniestros'!E117=\"\",\"\",'TD Siniestros'!E117)","v":""},{"$f":"IF('TD Siniestros'!F117=\"\",\"\",'TD Siniestros'!F117)","v":""},{"$f":"IF('TD Siniestros'!G117=\"\",\"\",'TD Siniestros'!G117)","v":""},""]
[null,{"$f":"IF('TD Siniestros'!A118=\"\",\"\",'TD Siniestros'!A118)","v":""},{"$f":"IF('TD Siniestros'!B118=\"\",\"\",'TD Siniestros'!B118)","v":""},{"$f":"IF('TD Siniestros'!C118=\"\",\"\",'TD Siniestros'!C118)","v":""},{"$f":"IF('TD Siniestros'!D118=\"\",\"\",'TD Siniestros'!D118)","v":""},{"$f":"IF('TD Siniestros'!E118=\"\",\"\",'TD Siniestros'!E118)","v":""},{"$f":"IF('TD Siniestros'!F118=\"\",\"\",'TD Siniestros'!F118)","v":""},{"$f":"IF('TD Siniestros'!G118=\"\",\"\",'TD Siniestros'!G118)","v":""},""]
[null,{"$f":"IF('TD Siniestros'!A119=\"\",\"\",'TD Siniestros'!A119)","v":""},{"$f":"IF('TD Siniestros'!B119=\"\",\"\",'TD Siniestros'!B119)","v":""},{"$f":"IF('TD Siniestros'!C119=\"\",\"\",'TD Siniestros'!C119)","v":""},{"$f":"IF('TD Siniestros'!D119=\"\",\"\",'TD Siniestros'!D119)","v":""},{"$f":"IF('TD Siniestros'!E119=\"\",\"\",'TD Siniestros'!E119)","v":""},{"$f":"IF('TD Siniestros'!F119=\"\",\"\",'TD Siniestros'!F119)","v":""},{"$f":"IF('TD Siniestros'!G119=\"\",\"\",'TD Siniestros'!G119)","v":""},""]
[null,{"$f":"IF('TD Siniestros'!A120=\"\",\"\",'TD Siniestros'!A120)","v":""},{"$f":"IF('TD Siniestros'!B120=\"\",\"\",'TD Siniestros'!B120)","v":""},{"$f":"IF('TD Siniestros'!C120=\"\",\"\",'TD Siniestros'!C120)","v":""},{"$f":"IF('TD Siniestros'!D120=\"\",\"\",'TD Siniestros'!D120)","v":""},{"$f":"IF('TD Siniestros'!E120=\"\",\"\",'TD Siniestros'!E120)","v":""},{"$f":"IF('TD Siniestros'!F120=\"\",\"\",'TD Siniestros'!F120)","v":""},{"$f":"IF('TD Siniestros'!G120=\"\",\"\",'TD Siniestros'!G120)","v":""},""]
[null,{"$f":"IF('TD Siniestros'!A121=\"\",\"\",'TD Siniestros'!A121)","v":""},{"$f":"IF('TD Siniestros'!B121=\"\",\"\",'TD Siniestros'!B121)","v":""},{"$f":"IF('TD Siniestros'!C121=\"\",\"\",'TD Siniestros'!C121)","v":""},{"$f":"IF('TD Siniestros'!D121=\"\",\"\",'TD Siniestros'!D121)","v":""},{"$f":"IF('TD Siniestros'!E121=\"\",\"\",'TD Siniestros'!E121)","v":""},{"$f":"IF('TD Siniestros'!F121=\"\",\"\",'TD Siniestros'!F121)","v":""},{"$f":"IF('TD Siniestros'!G121=\"\",\"\",'TD Siniestros'!G121)","v":""},""]
[null,{"$f":"IF('TD Siniestros'!A122=\"\",\"\",'TD Siniestros'!A122)","v":""},{"$f":"IF('TD Siniestros'!B122=\"\",\"\",'TD Siniestros'!B122)","v":""},{"$f":"IF('TD Siniestros'!C122=\"\",\"\",'TD Siniestros'!C122)","v":""},{"$f":"IF('TD Siniestros'!D122=\"\",\"\",'TD Siniestros'!D122)","v":""},{"$f":"IF('TD Siniestros'!E122=\"\",\"\",'TD Siniestros'!E122)","v":""},{"$f":"IF('TD Siniestros'!F122=\"\",\"\",'TD Siniestros'!F122)","v":""},{"$f":"IF('TD Siniestros'!G122=\"\",\"\",'TD Siniestros'!G122)","v":""},""]
[null,{"$f":"IF('TD Siniestros'!A123=\"\",\"\",'TD Siniestros'!A123)","v":""},{"$f":"IF('TD Siniestros'!B123=\"\",\"\",'TD Siniestros'!B123)","v":""},{"$f":"IF('TD Siniestros'!C123=\"\",\"\",'TD Siniestros'!C123)","v":""},{"$f":"IF('TD Siniestros'!D123=\"\",\"\",'TD Siniestros'!D123)","v":""},{"$f":"IF('TD Siniestros'!E123=\"\",\"\",'TD Siniestros'!E123)","v":""},{"$f":"IF('TD Siniestros'!F123=\"\",\"\",'TD Siniestros'!F123)","v":""},{"$f":"IF('TD Siniestros'!G123=\"\",\"\",'TD Siniestros'!G123)","v":""},""]

{"sheet":"Primas Directas (Vida)","index":11,"n_rows":211,"n_cols":12,"rows_kept":211,"cut":false,"hidden":false,"merged":[[1,2,1,11]]}
[null,null,"Análisis de Primas Directas",null,null,null,null,null,null,null,null,{"$f":"VLOOKUP(RIGHT('TDPrimas Vida'!B2,2),Cat!$N$2:$O$5,2,0)&\" \"&LEFT('TDPrimas Vida'!B2,4)","v":"Tercer Trimestre 2023"}]
[null,null,{"$f":"UPPER(RIGHT('TDPrimas Vida'!B3,LEN('TDPrimas Vida'!B3)-3))","v":"VIDA TOTAL"}]
[null,null,null,null,null,null,null,null,null,null,null,"Cifras en miles"]
[null,null,null,null,2,3,4,5,6,7,8,9]
[null,null,null,null,"Primas Directas",null,"% Part. en Merc. ",null,"Incremento",null,"% de Cartera"]
[null,null,"Compañías",null,{"$f":"'Primas Directas'!$D$6","v":"2023"},{"$f":"'Primas Directas'!$E$6","v":2022},{"$f":"$E$6","v":"2023"},{"$f":"$F$6","v":2022},"Importe","%","Por ","Total"]
[null,null,null,null,"Importe","Importe",null,null,null,null,"Operación","Cartera"]
[null,{"$f":"IF(C8=\"\",B2,D8)","v":"TOTAL"},151.1,"TOTAL",{"$f":"VLOOKUP($D8,$D$12:$L$211,E$4,0)","v":228995804.89778},{"$f":"VLOOKUP($D8,$D$12:$L$211,F$4,0)","v":198602143.48813996},100,115.3037932400035,30393661.409640044,15.303793240003504,38.979625068861765,0]
[null,{"$f":"IF(C9=\"\",B8,D9)","v":"TOTAL"},null,{"$f":"IF(D8=\"\",\"\",\"1er Año\")","v":"1er Año"},{"$f":"IF(E8=\"\",\"\",(VLOOKUP(B9,'TDPrimas Vida'!$B:$N,5,0)))","v":106001125.21638998},{"$f":"IF(E8=\"\",\"\",(VLOOKUP(B9,'TDPrimas Vida'!$B:$N,6,0)))","v":87993281.317409977},{"$f":"IFERROR((E9/VLOOKUP(\"TOTAL\",$D$12:$L$312,2,0))*100,\"\")","v":46.289548956456713},{"$f":"IFERROR((E9/VLOOKUP(\"TOTAL\",$D$12:$L$312,3,0))*100,\"\")","v":53.373605820483064},{"$f":"IF(E8=\"\",\"\",E9-F9)","v":18007843.898980007},{"$f":"IF(E8=\"\",\"\",IFERROR((E9/F9-1)*100,\"ND\"))","v":20.465021453197085},{"$f":"IF(E8=\"\",\"\",IFERROR((E9/VLOOKUP(B9&\"|\"&VLOOKUP(TDPrimas!$B$4,Cat!R:T,2,0),'TD Operación'!A:D,4,0))*100,\"ND\"))","v":18.043492629294043},{"$f":"IF(E8=\"\",\"\",(VLOOKUP(B9,'TDPrimas Vida'!$B:$N,7,0)))","v":0}]
[null,"TOTAL",null,{"$f":"IF(D9=\"\",\"\",\"Renovación\")","v":"Renovación"},{"$f":"IF(E8=\"\",\"\",(VLOOKUP(B10,'TDPrimas Vida'!$B:$N,8,0)))","v":94903135.625419989},{"$f":"IF(E8=\"\",\"\",(VLOOKUP(B10,'TDPrimas Vida'!$B:$N,9,0)))","v":86775834.941439986},{"$f":"IFERROR((E10/VLOOKUP(\"TOTAL\",$D$12:$L$312,2,0))*100,\"\")","v":41.443176510496862},{"$f":"IFERROR((E10/VLOOKUP(\"TOTAL\",$D$12:$L$312,3,0))*100,\"\")","v":47.785554555753009},{"$f":"IF(E8=\"\",\"\",E10-F10)","v":8127300.683980003},{"$f":"IF(E8=\"\",\"\",IFERROR((E10/F10-1)*100,\"ND\"))","v":9.3658570839043609},{"$f":"IF(E8=\"\",\"\",IFERROR((E10/VLOOKUP(B10&\"|\"&VLOOKUP(TDPrimas!$B$4,Cat!R:T,2,0),'TD Operación'!A:D,4,0))*100,\"ND\"))","v":16.154394820418265},{"$f":"IF(E8=\"\",\"\",(VLOOKUP(B10,'TDPrimas Vida'!$B:$N,10,0)))","v":0}]
[null,"TOTAL",null,{"$f":"IF(D10=\"\",\"\",\"Únicas\")","v":"Únicas"},{"$f":"IF(E9=\"\",\"\",(VLOOKUP(B11,'TDPrimas Vida'!$B:$N,11,0)))","v":28091550.335290004},{"$f":"IF(E9=\"\",\"\",(VLOOKUP(B11,'TDPrimas Vida'!$B:$N,12,0)))","v":23592867.775880001},{"$f":"IFERROR((E11/VLOOKUP(\"TOTAL\",$D$12:$L$312,2,0))*100,\"\")","v":12.267277275157776},{"$f":"IFERROR((E11/VLOOKUP(\"TOTAL\",$D$12:$L$312,3,0))*100,\"\")","v":14.144636025525859},{"$f":"IF(E8=\"\",\"\",E11-F11)","v":4498682.5594100021},{"$f":"IF(E8=\"\",\"\",IFERROR((E11/F11-1)*100,\"ND\"))","v":19.067976823102441},{"$f":"IF(E8=\"\",\"\",IFERROR((E11/VLOOKUP(B11&\"|\"&VLOOKUP(TDPrimas!$B$4,Cat!R:T,2,0),'TD Operación'!A:D,4,0))*100,\"ND\"))","v":4.7817386880141823},{"$f":"IF(E8=\"\",\"\",(VLOOKUP(B11,'TDPrimas Vida'!$B:$N,13,0)))","v":0}]
[null,{"$f":"IF(C12=\"\",B7,D12)","v":"BBVA Bancomer"},{"$f":"IF('TDPrimas Vida'!A7=\"\",\"\",'TDPrimas Vida'!A7)","v":1},{"$f":"IF('TDPrimas Vida'!B7=\"\",\"\",'TDPrimas Vida'!B7)","v":"BBVA Bancomer"},{"$f":"IF('TDPrimas Vida'!C7=\"\",\"\",'TDPrimas Vida'!C7)","v":41267678.076669998},{"$f":"IF('TDPrimas Vida'!D7=\"\",\"\",'TDPrimas Vida'!D7)","v":35057662.305699997},{"$f":"IF('TDPrimas Vida'!C7=\"\",\"\",IFERROR((E12/VLOOKUP(\"TOTAL\",$D$12:$L$312,2,0))*100,\"\"))","v":18.02115025429886},{"$f":"IF('TDPrimas Vida'!C7=\"\",\"\",IFERROR((E12/VLOOKUP(\"TOTAL\",$D$12:$L$312,3,0))*100,\"\"))","v":20.779069828687124},{"$f":"IF('TDPrimas Vida'!C7=\"\",\"\",E12-F12)","v":6210015.7709700018},{"$f":"IFERROR(IF('TDPrimas Vida'!C7=\"\",\"\",(E12/F12-1)*100),\"ND\")","v":17.713718949139178},{"$f":"IFERROR((E12/VLOOKUP(B12&\"|\"&VLOOKUP(TDPrimas!$B$4,Cat!R:T,2,0),'TD Operación'!A:D,4,0))*100,\"ND\")","v":79.020508745632426},{"$f":"IF('TDPrimas Vida'!E7=\"\",\"\",'TDPrimas Vida'!E7)","v":0}]
[null,{"$f":"IF(C13=\"\",B12,D13)","v":"BBVA Bancomer"},null,{"$f":"IF(D12=\"\",\"\",\"1er Año\")","v":"1er Año"},{"$f":"IF(E12=\"\",\"\",(VLOOKUP(B13,'TDPrimas Vida'!$B:$N,5,0)))","v":35729321.516620003},{"$f":"IF(E12=\"\",\"\",(VLOOKUP(B13,'TDPrimas Vida'!$B:$N,6,0)))","v":30724108.500599999},{"$f":"IFERROR((E13/VLOOKUP(\"TOTAL\",$D$12:$L$312,2,0))*100,\"\")","v":15.602609634079972},{"$f":"IFERROR((E13/VLOOKUP(\"TOTAL\",$D$12:$L$312,3,0))*100,\"\")","v":17.99040075252444},{"$f":"IF(E12=\"\",\"\",E13-F13)","v":5005213.0160200037},{"$f":"IF(E12=\"\",\"\",IFERROR((E13/F13-1)*100,\"ND\"))","v":16.290832379797958},{"$f":"IF(E12=\"\",\"\",IFERROR((E13/VLOOKUP(B13&\"|\"&VLOOKUP(TDPrimas!$B$4,Cat!R:T,2,0),'TD Operación'!A:D,4,0))*100,\"ND\"))","v":68.415508091687798},{"$f":"IF(E12=\"\",\"\",(VLOOKUP(B13,'TDPrimas Vida'!$B:$N,7,0)))","v":0}]
[null,"BBVA Bancomer",null,{"$f":"IF(D13=\"\",\"\",\"Renovación\")","v":"Renovación"},{"$f":"IF(E12=\"\",\"\",(VLOOKUP(B14,'TDPrimas Vida'!$B:$N,8,0)))","v":3722413.1737500005},{"$f":"IF(E12=\"\",\"\",(VLOOKUP(B14,'TDPrimas Vida'!$B:$N,9,0)))","v":2699290.7811500002},{"$f":"IFERROR((E14/VLOOKUP(\"TOTAL\",$D$12:$L$312,2,0))*100,\"\")","v":1.6255377147243482},{"$f":"IFERROR((E14/VLOOKUP(\"TOTAL\",$D$12:$L$312,3,0))*100,\"\")","v":1.8743066456240409},{"$f":"IF(E12=\"\",\"\",E14-F14)","v":1023122.3926000004},{"$f":"IF(E12=\"\",\"\",IFERROR((E14/F14-1)*100,\"ND\"))","v":37.903378166768363},{"$f":"IF(E12=\"\",\"\",IFERROR((E14/VLOOKUP(B14&\"|\"&VLOOKUP(TDPrimas!$B$4,Cat!R:T,2,0),'TD Operación'!A:D,4,0))*100,\"ND\"))","v":7.1277812675741608},{"$f":"IF(E12=\"\",\"\",(VLOOKUP(B14,'TDPrimas Vida'!$B:$N,10,0)))","v":0}]
[null,"BBVA Bancomer",null,{"$f":"IF(D14=\"\",\"\",\"Únicas\")","v":"Únicas"},{"$f":"IF(E13=\"\",\"\",(VLOOKUP(B15,'TDPrimas Vida'!$B:$N,11,0)))","v":1815943.3863000001},{"$f":"IF(E13=\"\",\"\",(VLOOKUP(B15,'TDPrimas Vida'!$B:$N,12,0)))","v":1634263.0239500001},{"$f":"IFERROR((E15/VLOOKUP(\"TOTAL\",$D$12:$L$312,2,0))*100,\"\")","v":0.79300290549453845},{"$f":"IFERROR((E15/VLOOKUP(\"TOTAL\",$D$12:$L$312,3,0))*100,\"\")","v":0.91436243053864308},{"$f":"IF(E12=\"\",\"\",E15-F15)","v":181680.36235000007},{"$f":"IF(E12=\"\",\"\",IFERROR((E15/F15-1)*100,\"ND\"))","v":11.11695973582516},{"$f":"IF(E12=\"\",\"\",IFERROR((E15/VLOOKUP(B15&\"|\"&VLOOKUP(TDPrimas!$B$4,Cat!R:T,2,0),'TD Operación'!A:D,4,0))*100,\"ND\"))","v":3.4772193863704697},{"$f":"IF(E12=\"\",\"\",(VLOOKUP(B15,'TDPrimas Vida'!$B:$N,13,0)))","v":0}]
[null,"Metlife México",{"$f":"IF('TDPrimas Vida'!A8=\"\",\"\",'TDPrimas Vida'!A8)","v":2},{"$f":"IF('TDPrimas Vida'!B8=\"\",\"\",'TDPrimas Vida'!B8)","v":"Metlife México"},{"$f":"IF('TDPrimas Vida'!C8=\"\",\"\",'TDPrimas Vida'!C8)","v":39227155.829580002},{"$f":"IF('TDPrimas Vida'!D8=\"\",\"\",'TDPrimas Vida'!D8)","v":37640049.23353},{"$f":"IF('TDPrimas Vida'!C8=\"\",\"\",IFERROR((E16/VLOOKUP(\"TOTAL\",$D$12:$L$312,2,0))*100,\"\"))","v":17.13007618069264},{"$f":"IF('TDPrimas Vida'!C8=\"\",\"\",IFERROR((E16/VLOOKUP(\"TOTAL\",$D$12:$L$312,3,0))*100,\"\"))","v":19.751627621240932},{"$f":"IF('TDPrimas Vida'!C8=\"\",\"\",E16-F16)","v":1587106.5960500017},{"$f":"IFERROR(IF('TDPrimas Vida'!C8=\"\",\"\",(E16/F16-1)*100),\"ND\")","v":4.2165369821997922},{"$f":"IF(E16=\"\",\"\",IFERROR((E16/VLOOKUP(D16&\"|\"&VLOOKUP(TDPrimas!$B$4,Cat!R:T,2,0),'TD Operación'!A:D,4,0))*100,\"ND\"))","v":66.929647070109183},{"$f":"IF('TDPrimas Vida'!E8=\"\",\"\",'TDPrimas Vida'!E8)","v":0}]
[null,"Metlife México",null,{"$f":"IF(D16=\"\",\"\",\"1er Año\")","v":"1er Año"},{"$f":"IF(E16=\"\",\"\",(VLOOKUP(B17,'TDPrimas Vida'!$B:$N,5,0)))","v":7346891.2718899995},{"$f":"IF(E16=\"\",\"\",(VLOOKUP(B17,'TDPrimas Vida'!$B:$N,6,0)))","v":6841571.3835699996},{"$f":"IFERROR((E17/VLOOKUP(\"TOTAL\",$D$12:$L$312,2,0))*100,\"\")","v":3.2083082374236209},{"$f":"IFERROR((E17/VLOOKUP(\"TOTAL\",$D$12:$L$312,3,0))*100,\"\")","v":3.6993010965809328},{"$f":"IF(E16=\"\",\"\",E17-F17)","v":505319.88831999991},{"$f":"IF(E16=\"\",\"\",IFERROR((E17/F17-1)*100,\"ND\"))","v":7.386020842134644},{"$f":"IF(E16=\"\",\"\",IFERROR((E17/VLOOKUP(B17&\"|\"&VLOOKUP(TDPrimas!$B$4,Cat!R:T,2,0),'TD Operación'!A:D,4,0))*100,\"ND\"))","v":12.535317167177046},{"$f":"IF(E16=\"\",\"\",(VLOOKUP(B17,'TDPrimas Vida'!$B:$N,7,0)))","v":0}]
[null,"Metlife México",null,{"$f":"IF(D17=\"\",\"\",\"Renovación\")","v":"Renovación"},{"$f":"IF(E16=\"\",\"\",(VLOOKUP(B18,'TDPrimas Vida'!$B:$N,8,0)))","v":26487530.92814},{"$f":"IF(E16=\"\",\"\",(VLOOKUP(B18,'TDPrimas Vida'!$B:$N,9,0)))","v":25829171.535149999},{"$f":"IFERROR((E18/VLOOKUP(\"TOTAL\",$D$12:$L$312,2,0))*100,\"\")","v":11.566819287350526},{"$f":"IFERROR((E18/VLOOKUP(\"TOTAL\",$D$12:$L$312,3,0))*100,\"\")","v":13.336981395531499},{"$f":"IF(E16=\"\",\"\",E18-F18)","v":658359.39299000055},{"$f":"IF(E16=\"\",\"\",IFERROR((E18/F18-1)*100,\"ND\"))","v":2.5488986051839246},{"$f":"IF(E16=\"\",\"\",IFERROR((E18/VLOOKUP(B18&\"|\"&VLOOKUP(TDPrimas!$B$4,Cat!R:T,2,0),'TD Operación'!A:D,4,0))*100,\"ND\"))","v":45.193210144544729},{"$f":"IF(E16=\"\",\"\",(VLOOKUP(B18,'TDPrimas Vida'!$B:$N,10,0)))","v":0}]
[null,"Metlife México",null,{"$f":"IF(D18=\"\",\"\",\"Únicas\")","v":"Únicas"},{"$f":"IF(E17=\"\",\"\",(VLOOKUP(B19,'TDPrimas Vida'!$B:$N,11,0)))","v":5392733.6295500007},{"$f":"IF(E17=\"\",\"\",(VLOOKUP(B19,'TDPrimas Vida'!$B:$N,12,0)))","v":4969306.3148099994},{"$f":"IFERROR((E19/VLOOKUP(\"TOTAL\",$D$12:$L$312,2,0))*100,\"\")","v":2.3549486559184913},{"$f":"IFERROR((E19/VLOOKUP(\"TOTAL\",$D$12:$L$312,3,0))*100,\"\")","v":2.7153451291284987},{"$f":"IF(E16=\"\",\"\",E19-F19)","v":423427.31474000122},{"$f":"IF(E16=\"\",\"\",IFERROR((E19/F19-1)*100,\"ND\"))","v":8.5208535742315341},{"$f":"IF(E16=\"\",\"\",IFERROR((E19/VLOOKUP(B19&\"|\"&VLOOKUP(TDPrimas!$B$4,Cat!R:T,2,0),'TD Operación'!A:D,4,0))*100,\"ND\"))","v":9.2011197583874118},{"$f":"IF(E16=\"\",\"\",(VLOOKUP(B19,'TDPrimas Vida'!$B:$N,13,0)))","v":0}]
[null,{"$f":"IF(C20=\"\",B16,D20)","v":"G.N.P."},{"$f":"IF('TDPrimas Vida'!A9=\"\",\"\",'TDPrimas Vida'!A9)","v":3},{"$f":"IF('TDPrimas Vida'!B9=\"\",\"\",'TDPrimas Vida'!B9)","v":"G.N.P."},{"$f":"IF('TDPrimas Vida'!C9=\"\",\"\",'TDPrimas Vida'!C9)","v":26297045.353870001},{"$f":"IF('TDPrimas Vida'!D9=\"\",\"\",'TDPrimas Vida'!D9)","v":24345185.57375},{"$f":"IF('TDPrimas Vida'!C9=\"\",\"\",IFERROR((E20/VLOOKUP(\"TOTAL\",$D$12:$L$312,2,0))*100,\"\"))","v":11.483636290022245},{"$f":"IF('TDPrimas Vida'!C9=\"\",\"\",IFERROR((E20/VLOOKUP(\"TOTAL\",$D$12:$L$312,3,0))*100,\"\"))","v":13.241068244281259},{"$f":"IF('TDPrimas Vida'!C9=\"\",\"\",E20-F20)","v":1951859.7801200002},{"$f":"IFERROR(IF('TDPrimas Vida'!C9=\"\",\"\",(E20/F20-1)*100),\"ND\")","v":8.0174364422367574},{"$f":"IF(E20=\"\",\"\",IFERROR((E20/VLOOKUP(D20&\"|\"&VLOOKUP(TDPrimas!$B$4,Cat!R:T,2,0),'TD Operación'!A:D,4,0))*100,\"ND\"))","v":35.839550125685847},{"$f":"IF('TDPrimas Vida'!E9=\"\",\"\",'TDPrimas Vida'!E9)","v":0}]
[null,{"$f":"IF(C21=\"\",B20,D21)","v":"G.N.P."},null,{"$f":"IF(D20=\"\",\"\",\"1er Año\")","v":"1er Año"},{"$f":"IF(E20=\"\",\"\",(VLOOKUP(B21,'TDPrimas Vida'!$B:$N,5,0)))","v":7228265.31666},{"$f":"IF(E20=\"\",\"\",(VLOOKUP(B21,'TDPrimas Vida'!$B:$N,6,0)))","v":5810559.5182999996},{"$f":"IFERROR((E21/VLOOKUP(\"TOTAL\",$D$12:$L$312,2,0))*100,\"\")","v":3.1565055612641375},{"$f":"IFERROR((E21/VLOOKUP(\"TOTAL\",$D$12:$L$312,3,0))*100,\"\")","v":3.6395706459692136},{"$f":"IF(E20=\"\",\"\",E21-F21)","v":1417705.7983600004},{"$f":"IF(E20=\"\",\"\",IFERROR((E21/F21-1)*100,\"ND\"))","v":24.398782834854771},{"$f":"IF(E20=\"\",\"\",IFERROR((E21/VLOOKUP(B21&\"|\"&VLOOKUP(TDPrimas!$B$4,Cat!R:T,2,0),'TD Operación'!A:D,4,0))*100,\"ND\"))","v":9.8512123188040341},{"$f":"IF(E20=\"\",\"\",(VLOOKUP(B21,'TDPrimas Vida'!$B:$N,7,0)))","v":0}]
[null,{"$f":"IF(C22=\"\",B21,D22)","v":"G.N.P."},null,{"$f":"IF(D21=\"\",\"\",\"Renovación\")","v":"Renovación"},{"$f":"IF(E20=\"\",\"\",(VLOOKUP(B22,'TDPrimas Vida'!$B:$N,8,0)))","v":12920964.00151},{"$f":"IF(E20=\"\",\"\",(VLOOKUP(B22,'TDPrimas Vida'!$B:$N,9,0)))","v":12826316.061410001},{"$f":"IFERROR((E22/VLOOKUP(\"TOTAL\",$D$12:$L$312,2,0))*100,\"\")","v":5.6424457239632435},{"$f":"IFERROR((E22/VLOOKUP(\"TOTAL\",$D$12:$L$312,3,0))*100,\"\")","v":6.5059539512379985},{"$f":"IF(E20=\"\",\"\",E22-F22)","v":94647.940099999309},{"$f":"IF(E20=\"\",\"\",IFERROR((E22/F22-1)*100,\"ND\"))","v":0.73791991127336587},{"$f":"IF(E20=\"\",\"\",IFERROR((E22/VLOOKUP(B22&\"|\"&VLOOKUP(TDPrimas!$B$4,Cat!R:T,2,0),'TD Operación'!A:D,4,0))*100,\"ND\"))","v":17.609641340796131},{"$f":"IF(E20=\"\",\"\",(VLOOKUP(B22,'TDPrimas Vida'!$B:$N,10,0)))","v":0}]
[null,{"$f":"IF(C23=\"\",B22,D23)","v":"G.N.P."},null,{"$f":"IF(D22=\"\",\"\",\"Únicas\")","v":"Únicas"},{"$f":"IF(E21=\"\",\"\",(VLOOKUP(B23,'TDPrimas Vida'!$B:$N,11,0)))","v":6147816.0357000008},{"$f":"IF(E21=\"\",\"\",(VLOOKUP(B23,'TDPrimas Vida'!$B:$N,12,0)))","v":5708309.9940400003},{"$f":"IFERROR((E23/VLOOKUP(\"TOTAL\",$D$12:$L$312,2,0))*100,\"\")","v":2.6846850047948632},{"$f":"IFERROR((E23/VLOOKUP(\"TOTAL\",$D$12:$L$312,3,0))*100,\"\")","v":3.0955436470740478},{"$f":"IF(E20=\"\",\"\",E23-F23)","v":439506.04166000057},{"$f":"IF(E20=\"\",\"\",IFERROR((E23/F23-1)*100,\"ND\"))","v":7.6994073923610573},{"$f":"IF(E20=\"\",\"\",IFERROR((E23/VLOOKUP(B23&\"|\"&VLOOKUP(TDPrimas!$B$4,Cat!R:T,2,0),'TD Operación'!A:D,4,0))*100,\"ND\"))","v":8.37869646608568},{"$f":"IF(E20=\"\",\"\",(VLOOKUP(B23,'TDPrimas Vida'!$B:$N,13,0)))","v":0}]
[null,{"$f":"IF(C24=\"\",B20,D24)","v":"Citibanamex Seguros"},{"$f":"IF('TDPrimas Vida'!A10=\"\",\"\",'TDPrimas Vida'!A10)","v":4},{"$f":"IF('TDPrimas Vida'!B10=\"\",\"\",'TDPrimas Vida'!B10)","v":"Citibanamex Seguros"},{"$f":"IF('TDPrimas Vida'!C10=\"\",\"\",'TDPrimas Vida'!C10)","v":24036154.063060001},{"$f":"IF('TDPrimas Vida'!D10=\"\",\"\",'TDPrimas Vida'!D10)","v":12114763.91958},{"$f":"IF('TDPrimas Vida'!C10=\"\",\"\",IFERROR((E24/VLOOKUP(\"TOTAL\",$D$12:$L$312,2,0))*100,\"\"))","v":10.496329430047572},{"$f":"IF('TDPrimas Vida'!C10=\"\",\"\",IFERROR((E24/VLOOKUP(\"TOTAL\",$D$12:$L$312,3,0))*100,\"\"))","v":12.102665983811692},{"$f":"IF('TDPrimas Vida'!C10=\"\",\"\",E24-F24)","v":11921390.143480001},{"$f":"IFERROR(IF('TDPrimas Vida'!C10=\"\",\"\",(E24/F24-1)*100),\"ND\")","v":98.403817215228884},{"$f":"IF(E24=\"\",\"\",IFERROR((E24/VLOOKUP(D24&\"|\"&VLOOKUP(TDPrimas!$B$4,Cat!R:T,2,0),'TD Operación'!A:D,4,0))*100,\"ND\"))","v":97.470555662922237},{"$f":"IF('TDPrimas Vida'!E10=\"\",\"\",'TDPrimas Vida'!E10)","v":0}]
[null,{"$f":"IF(C25=\"\",B24,D25)","v":"Citibanamex Seguros"},null,{"$f":"IF(D24=\"\",\"\",\"1er Año\")","v":"1er Año"},{"$f":"IF(E24=\"\",\"\",(VLOOKUP(B25,'TDPrimas Vida'!$B:$N,5,0)))","v":13383060.374710001},{"$f":"IF(E24=\"\",\"\",(VLOOKUP(B25,'TDPrimas Vida'!$B:$N,6,0)))","v":7097320.9285899997},{"$f":"IFERROR((E25/VLOOKUP(\"TOTAL\",$D$12:$L$312,2,0))*100,\"\")","v":5.8442382299029374},{"$f":"IFERROR((E25/VLOOKUP(\"TOTAL\",$D$12:$L$312,3,0))*100,\"\")","v":6.7386283650605243},{"$f":"IF(E24=\"\",\"\",E25-F25)","v":6285739.4461200014},{"$f":"IF(E24=\"\",\"\",IFERROR((E25/F25-1)*100,\"ND\"))","v":88.56496006541397},{"$f":"IF(E24=\"\",\"\",IFERROR((E25/VLOOKUP(B25&\"|\"&VLOOKUP(TDPrimas!$B$4,Cat!R:T,2,0),'TD Operación'!A:D,4,0))*100,\"ND\"))","v":54.270509656874466},{"$f":"IF(E24=\"\",\"\",(VLOOKUP(B25,'TDPrimas Vida'!$B:$N,7,0)))","v":0}]
[null,{"$f":"IF(C26=\"\",B25,D26)","v":"Citibanamex Seguros"},null,{"$f":"IF(D25=\"\",\"\",\"Renovación\")","v":"Renovación"},{"$f":"IF(E24=\"\",\"\",(VLOOKUP(B26,'TDPrimas Vida'!$B:$N,8,0)))","v":10653093.688349999},{"$f":"IF(E24=\"\",\"\",(VLOOKUP(B26,'TDPrimas Vida'!$B:$N,9,0)))","v":5017442.9909899998},{"$f":"IFERROR((E26/VLOOKUP(\"TOTAL\",$D$12:$L$312,2,0))*100,\"\")","v":4.6520912001446346},{"$f":"IFERROR((E26/VLOOKUP(\"TOTAL\",$D$12:$L$312,3,0))*100,\"\")","v":5.3640376187511674},{"$f":"IF(E24=\"\",\"\",E26-F26)","v":5635650.6973599996},{"$f":"IF(E24=\"\",\"\",IFERROR((E26/F26-1)*100,\"ND\"))","v":112.3211705141471},{"$f":"IF(E24=\"\",\"\",IFERROR((E26/VLOOKUP(B26&\"|\"&VLOOKUP(TDPrimas!$B$4,Cat!R:T,2,0),'TD Operación'!A:D,4,0))*100,\"ND\"))","v":43.200046006047778},{"$f":"IF(E24=\"\",\"\",(VLOOKUP(B26,'TDPrimas Vida'!$B:$N,10,0)))","v":0}]
[null,{"$f":"IF(C27=\"\",B26,D27)","v":"Citibanamex Seguros"},null,{"$f":"IF(D26=\"\",\"\",\"Únicas\")","v":"Únicas"},{"$f":"IF(E25=\"\",\"\",(VLOOKUP(B27,'TDPrimas Vida'!$B:$N,11,0)))","v":0},{"$f":"IF(E25=\"\",\"\",(VLOOKUP(B27,'TDPrimas Vida'!$B:$N,12,0)))","v":0},{"$f":"IFERROR((E27/VLOOKUP(\"TOTAL\",$D$12:$L$312,2,0))*100,\"\")","v":0},{"$f":"IFERROR((E27/VLOOKUP(\"TOTAL\",$D$12:$L$312,3,0))*100,\"\")","v":0},{"$f":"IF(E24=\"\",\"\",E27-F27)","v":0},{"$f":"IF(E24=\"\",\"\",IFERROR((E27/F27-1)*100,\"ND\"))","v":"ND"},{"$f":"IF(E24=\"\",\"\",IFERROR((E27/VLOOKUP(B27&\"|\"&VLOOKUP(TDPrimas!$B$4,Cat!R:T,2,0),'TD Operación'!A:D,4,0))*100,\"ND\"))","v":0},{"$f":"IF(E24=\"\",\"\",(VLOOKUP(B27,'TDPrimas Vida'!$B:$N,13,0)))","v":0}]
[null,{"$f":"IF(C28=\"\",B24,D28)","v":"Monterrey New York Life"},{"$f":"IF('TDPrimas Vida'!A11=\"\",\"\",'TDPrimas Vida'!A11)","v":5},{"$f":"IF('TDPrimas Vida'!B11=\"\",\"\",'TDPrimas Vida'!B11)","v":"Monterrey New York Life"},{"$f":"IF('TDPrimas Vida'!C11=\"\",\"\",'TDPrimas Vida'!C11)","v":18624780.15876},{"$f":"IF('TDPrimas Vida'!D11=\"\",\"\",'TDPrimas Vida'!D11)","v":18430517.94179},{"$f":"IF('TDPrimas Vida'!C11=\"\",\"\",IFERROR((E28/VLOOKUP(\"TOTAL\",$D$12:$L$312,2,0))*100,\"\"))","v":8.1332407670410376},{"$f":"IF('TDPrimas Vida'!C11=\"\",\"\",IFERROR((E28/VLOOKUP(\"TOTAL\",$D$12:$L$312,3,0))*100,\"\"))","v":9.3779351177406731},{"$f":"IF('TDPrimas Vida'!C11=\"\",\"\",E28-F28)","v":194262.21697000042},{"$f":"IFERROR(IF('TDPrimas Vida'!C11=\"\",\"\",(E28/F28-1)*100),\"ND\")","v":1.0540247299807293},{"$f":"IF(E28=\"\",\"\",IFERROR((E28/VLOOKUP(D28&\"|\"&VLOOKUP(TDPrimas!$B$4,Cat!R:T,2,0),'TD Operación'!A:D,4,0))*100,\"ND\"))","v":66.3463970465111},{"$f":"IF('TDPrimas Vida'!E11=\"\",\"\",'TDPrimas Vida'!E11)","v":0}]
[null,{"$f":"IF(C29=\"\",B28,D29)","v":"Monterrey New York Life"},null,{"$f":"IF(D28=\"\",\"\",\"1er Año\")","v":"1er Año"},{"$f":"IF(E28=\"\",\"\",(VLOOKUP(B29,'TDPrimas Vida'!$B:$N,5,0)))","v":1907241.1344400002},{"$f":"IF(E28=\"\",\"\",(VLOOKUP(B29,'TDPrimas Vida'!$B:$N,6,0)))","v":1671923.47609},{"$f":"IFERROR((E29/VLOOKUP(\"TOTAL\",$D$12:$L$312,2,0))*100,\"\")","v":0.83287164814716208},{"$f":"IFERROR((E29/VLOOKUP(\"TOTAL\",$D$12:$L$312,3,0))*100,\"\")","v":0.96033260313421343},{"$f":"IF(E28=\"\",\"\",E29-F29)","v":235317.65835000016},{"$f":"IF(E28=\"\",\"\",IFERROR((E29/F29-1)*100,\"ND\"))","v":14.074666796372748},{"$f":"IF(E28=\"\",\"\",IFERROR((E29/VLOOKUP(B29&\"|\"&VLOOKUP(TDPrimas!$B$4,Cat!R:T,2,0),'TD Operación'!A:D,4,0))*100,\"ND\"))","v":6.7940977821141253},{"$f":"IF(E28=\"\",\"\",(VLOOKUP(B29,'TDPrimas Vida'!$B:$N,7,0)))","v":0}]
[null,{"$f":"IF(C30=\"\",B29,D30)","v":"Monterrey New York Life"},null,{"$f":"IF(D29=\"\",\"\",\"Renovación\")","v":"Renovación"},{"$f":"IF(E28=\"\",\"\",(VLOOKUP(B30,'TDPrimas Vida'!$B:$N,8,0)))","v":12176277.456},{"$f":"IF(E28=\"\",\"\",(VLOOKUP(B30,'TDPrimas Vida'!$B:$N,9,0)))","v":12108435.421360001},{"$f":"IFERROR((E30/VLOOKUP(\"TOTAL\",$D$12:$L$312,2,0))*100,\"\")","v":5.3172491353871276},{"$f":"IFERROR((E30/VLOOKUP(\"TOTAL\",$D$12:$L$312,3,0))*100,\"\")","v":6.1309899491226476},{"$f":"IF(E28=\"\",\"\",E30-F30)","v":67842.03463999927},{"$f":"IF(E28=\"\",\"\",IFERROR((E30/F30-1)*100,\"ND\"))","v":0.56028737222582059},{"$f":"IF(E28=\"\",\"\",IFERROR((E30/VLOOKUP(B30&\"|\"&VLOOKUP(TDPrimas!$B$4,Cat!R:T,2,0),'TD Operación'!A:D,4,0))*100,\"ND\"))","v":43.375123451553435},{"$f":"IF(E28=\"\",\"\",(VLOOKUP(B30,'TDPrimas Vida'!$B:$N,10,0)))","v":0}]
[null,{"$f":"IF(C31=\"\",B30,D31)","v":"Monterrey New York Life"},null,{"$f":"IF(D30=\"\",\"\",\"Únicas\")","v":"Únicas"},{"$f":"IF(E29=\"\",\"\",(VLOOKUP(B31,'TDPrimas Vida'!$B:$N,11,0)))","v":4541261.5683200005},{"$f":"IF(E29=\"\",\"\",(VLOOKUP(B31,'TDPrimas Vida'!$B:$N,12,0)))","v":4650159.0443399996},{"$f":"IFERROR((E31/VLOOKUP(\"TOTAL\",$D$12:$L$312,2,0))*100,\"\")","v":1.9831199835067486},{"$f":"IFERROR((E31/VLOOKUP(\"TOTAL\",$D$12:$L$312,3,0))*100,\"\")","v":2.286612565483813},{"$f":"IF(E28=\"\",\"\",E31-F31)","v":-108897.47601999901},{"$f":"IF(E28=\"\",\"\",IFERROR((E31/F31-1)*100,\"ND\"))","v":-2.3418011079114565},{"$f":"IF(E28=\"\",\"\",IFERROR((E31/VLOOKUP(B31&\"|\"&VLOOKUP(TDPrimas!$B$4,Cat!R:T,2,0),'TD Operación'!A:D,4,0))*100,\"ND\"))","v":16.177175812843533},{"$f":"IF(E28=\"\",\"\",(VLOOKUP(B31,'TDPrimas Vida'!$B:$N,13,0)))","v":0}]
[null,{"$f":"IF(C32=\"\",B28,D32)","v":"TOTAL GRANDES"},{"$f":"IF('TDPrimas Vida'!A12=\"\",\"\",'TDPrimas Vida'!A12)","v":5.0999999999999996},{"$f":"IF('TDPrimas Vida'!B12=\"\",\"\",'TDPrimas Vida'!B12)","v":"TOTAL GRANDES"},{"$f":"IF('TDPrimas Vida'!C12=\"\",\"\",'TDPrimas Vida'!C12)","v":149452813.48194},{"$f":"IF('TDPrimas Vida'!D12=\"\",\"\",'TDPrimas Vida'!D12)","v":127588178.97435001},{"$f":"IF('TDPrimas Vida'!C12=\"\",\"\",IFERROR((E32/VLOOKUP(\"TOTAL\",$D$12:$L$312,2,0))*100,\"\"))","v":65.264432922102358},{"$f":"IF('TDPrimas Vida'!C12=\"\",\"\",IFERROR((E32/VLOOKUP(\"TOTAL\",$D$12:$L$312,3,0))*100,\"\"))","v":75.252366795761688},{"$f":"IF('TDPrimas Vida'!C12=\"\",\"\",E32-F32)","v":21864634.507589996},{"$f":"IFERROR(IF('TDPrimas Vida'!C12=\"\",\"\",(E32/F32-1)*100),\"ND\")","v":17.136881083619503},{"$f":"IF(E32=\"\",\"\",IFERROR((E32/VLOOKUP(D32&\"|\"&VLOOKUP(TDPrimas!$B$4,Cat!R:T,2,0),'TD Operación'!A:D,4,0))*100,\"ND\"))","v":57.27641728001965},{"$f":"IF('TDPrimas Vida'!E12=\"\",\"\",'TDPrimas Vida'!E12)","v":0}]
[null,{"$f":"IF(C33=\"\",B32,D33)","v":"TOTAL GRANDES"},null,{"$f":"IF(D32=\"\",\"\",\"1er Año\")","v":"1er Año"},{"$f":"IF(E32=\"\",\"\",(VLOOKUP(B33,'TDPrimas Vida'!$B:$N,5,0)))","v":65594779.614320002},{"$f":"IF(E32=\"\",\"\",(VLOOKUP(B33,'TDPrimas Vida'!$B:$N,6,0)))","v":52145483.807149999},{"$f":"IFERROR((E33/VLOOKUP(\"TOTAL\",$D$12:$L$312,2,0))*100,\"\")","v":28.644533310817831},{"$f":"IFERROR((E33/VLOOKUP(\"TOTAL\",$D$12:$L$312,3,0))*100,\"\")","v":33.028233463269324},{"$f":"IF(E32=\"\",\"\",E33-F33)","v":13449295.807170004},{"$f":"IF(E32=\"\",\"\",IFERROR((E33/F33-1)*100,\"ND\"))","v":25.791870791552384},{"$f":"IF(E32=\"\",\"\",IFERROR((E33/VLOOKUP(B33&\"|\"&VLOOKUP(TDPrimas!$B$4,Cat!R:T,2,0),'TD Operación'!A:D,4,0))*100,\"ND\"))","v":25.138596464326323},{"$f":"IF(E32=\"\",\"\",(VLOOKUP(B33,'TDPrimas Vida'!$B:$N,7,0)))","v":0}]
[null,{"$f":"IF(C34=\"\",B33,D34)","v":"TOTAL GRANDES"},null,{"$f":"IF(D33=\"\",\"\",\"Renovación\")","v":"Renovación"},{"$f":"IF(E32=\"\",\"\",(VLOOKUP(B34,'TDPrimas Vida'!$B:$N,8,0)))","v":65960279.247749999},{"$f":"IF(E32=\"\",\"\",(VLOOKUP(B34,'TDPrimas Vida'!$B:$N,9,0)))","v":58480656.790059999},{"$f":"IFERROR((E34/VLOOKUP(\"TOTAL\",$D$12:$L$312,2,0))*100,\"\")","v":28.804143061569881},{"$f":"IFERROR((E34/VLOOKUP(\"TOTAL\",$D$12:$L$312,3,0))*100,\"\")","v":33.212269560267352},{"$f":"IF(E32=\"\",\"\",E34-F34)","v":7479622.4576900005},{"$f":"IF(E32=\"\",\"\",IFERROR((E34/F34-1)*100,\"ND\"))","v":12.789908438513509},{"$f":"IF(E32=\"\",\"\",IFERROR((E34/VLOOKUP(B34&\"|\"&VLOOKUP(TDPrimas!$B$4,Cat!R:T,2,0),'TD Operación'!A:D,4,0))*100,\"ND\"))","v":25.278670839858648},{"$f":"IF(E32=\"\",\"\",(VLOOKUP(B34,'TDPrimas Vida'!$B:$N,10,0)))","v":0}]
[null,{"$f":"IF(C35=\"\",B34,D35)","v":"TOTAL GRANDES"},null,{"$f":"IF(D34=\"\",\"\",\"Únicas\")","v":"Únicas"},{"$f":"IF(E33=\"\",\"\",(VLOOKUP(B35,'TDPrimas Vida'!$B:$N,11,0)))","v":17897754.619870003},{"$f":"IF(E33=\"\",\"\",(VLOOKUP(B35,'TDPrimas Vida'!$B:$N,12,0)))","v":16962038.37714},{"$f":"IFERROR((E35/VLOOKUP(\"TOTAL\",$D$12:$L$312,2,0))*100,\"\")","v":7.8157565497146422},{"$f":"IFERROR((E35/VLOOKUP(\"TOTAL\",$D$12:$L$312,3,0))*100,\"\")","v":9.0118637722250039},{"$f":"IF(E32=\"\",\"\",E35-F35)","v":935716.24273000285},{"$f":"IF(E32=\"\",\"\",IFERROR((E35/F35-1)*100,\"ND\"))","v":5.5165318101807914},{"$f":"IF(E32=\"\",\"\",IFERROR((E35/VLOOKUP(B35&\"|\"&VLOOKUP(TDPrimas!$B$4,Cat!R:T,2,0),'TD Operación'!A:D,4,0))*100,\"ND\"))","v":6.8591499758346801},{"$f":"IF(E32=\"\",\"\",(VLOOKUP(B35,'TDPrimas Vida'!$B:$N,13,0)))","v":0}]
[null,{"$f":"IF(C36=\"\",B32,D36)","v":"Banorte"},{"$f":"IF('TDPrimas Vida'!A13=\"\",\"\",'TDPrimas Vida'!A13)","v":6},{"$f":"IF('TDPrimas Vida'!B13=\"\",\"\",'TDPrimas Vida'!B13)","v":"Banorte"},{"$f":"IF('TDPrimas Vida'!C13=\"\",\"\",'TDPrimas Vida'!C13)","v":17792711.932270002},{"$f":"IF('TDPrimas Vida'!D13=\"\",\"\",'TDPrimas Vida'!D13)","v":13859190.93997},{"$f":"IF('TDPrimas Vida'!C13=\"\",\"\",IFERROR((E36/VLOOKUP(\"TOTAL\",$D$12:$L$312,2,0))*100,\"\"))","v":7.7698855401357152},{"$f":"IF('TDPrimas Vida'!C13=\"\",\"\",IFERROR((E36/VLOOKUP(\"TOTAL\",$D$12:$L$312,3,0))*100,\"\"))","v":8.9589727581830143},{"$f":"IF('TDPrimas Vida'!C13=\"\",\"\",E36-F36)","v":3933520.9923000019},{"$f":"IFERROR(IF('TDPrimas Vida'!C13=\"\",\"\",(E36/F36-1)*100),\"ND\")","v":28.382039105585164},{"$f":"IF(E36=\"\",\"\",IFERROR((E36/VLOOKUP(D36&\"|\"&VLOOKUP(TDPrimas!$B$4,Cat!R:T,2,0),'TD Operación'!A:D,4,0))*100,\"ND\"))","v":61.948350995366411},{"$f":"IF('TDPrimas Vida'!E13=\"\",\"\",'TDPrimas Vida'!E13)","v":0}]
[null,{"$f":"IF(C37=\"\",B36,D37)","v":"Banorte"},null,{"$f":"IF(D36=\"\",\"\",\"1er Año\")","v":"1er Año"},{"$f":"IF(E36=\"\",\"\",(VLOOKUP(B37,'TDPrimas Vida'!$B:$N,5,0)))","v":3941434.7540000007},{"$f":"IF(E36=\"\",\"\",(VLOOKUP(B37,'TDPrimas Vida'!$B:$N,6,0)))","v":4048059.02892},{"$f":"IFERROR((E37/VLOOKUP(\"TOTAL\",$D$12:$L$312,2,0))*100,\"\")","v":1.7211820783177199},{"$f":"IFERROR((E37/VLOOKUP(\"TOTAL\",$D$12:$L$312,3,0))*100,\"\")","v":1.9845882248674589},{"$f":"IF(E36=\"\",\"\",E37-F37)","v":-106624.2749199993},{"$f":"IF(E36=\"\",\"\",IFERROR((E37/F37-1)*100,\"ND\"))","v":-2.6339604773116698},{"$f":"IF(E36=\"\",\"\",IFERROR((E37/VLOOKUP(B37&\"|\"&VLOOKUP(TDPrimas!$B$4,Cat!R:T,2,0),'TD Operación'!A:D,4,0))*100,\"ND\"))","v":13.722775060686152},{"$f":"IF(E36=\"\",\"\",(VLOOKUP(B37,'TDPrimas Vida'!$B:$N,7,0)))","v":0}]
[null,{"$f":"IF(C38=\"\",B37,D38)","v":"Banorte"},null,{"$f":"IF(D37=\"\",\"\",\"Renovación\")","v":"Renovación"},{"$f":"IF(E36=\"\",\"\",(VLOOKUP(B38,'TDPrimas Vida'!$B:$N,8,0)))","v":8957597.7820200007},{"$f":"IF(E36=\"\",\"\",(VLOOKUP(B38,'TDPrimas Vida'!$B:$N,9,0)))","v":7755195.2511499999},{"$f":"IFERROR((E38/VLOOKUP(\"TOTAL\",$D$12:$L$312,2,0))*100,\"\")","v":3.911686411032083},{"$f":"IFERROR((E38/VLOOKUP(\"TOTAL\",$D$12:$L$312,3,0))*100,\"\")","v":4.5103228115737464},{"$f":"IF(E36=\"\",\"\",E38-F38)","v":1202402.5308700008},{"$f":"IF(E36=\"\",\"\",IFERROR((E38/F38-1)*100,\"ND\"))","v":15.504477862007393},{"$f":"IF(E36=\"\",\"\",IFERROR((E38/VLOOKUP(B38&\"|\"&VLOOKUP(TDPrimas!$B$4,Cat!R:T,2,0),'TD Operación'!A:D,4,0))*100,\"ND\"))","v":31.187399289563789},{"$f":"IF(E36=\"\",\"\",(VLOOKUP(B38,'TDPrimas Vida'!$B:$N,10,0)))","v":0}]
[null,{"$f":"IF(C39=\"\",B38,D39)","v":"Banorte"},null,{"$f":"IF(D38=\"\",\"\",\"Únicas\")","v":"Únicas"},{"$f":"IF(E37=\"\",\"\",(VLOOKUP(B39,'TDPrimas Vida'!$B:$N,11,0)))","v":4893679.3962500002},{"$f":"IF(E37=\"\",\"\",(VLOOKUP(B39,'TDPrimas Vida'!$B:$N,12,0)))","v":2055936.6599000001},{"$f":"IFERROR((E39/VLOOKUP(\"TOTAL\",$D$12:$L$312,2,0))*100,\"\")","v":2.1370170507859125},{"$f":"IFERROR((E39/VLOOKUP(\"TOTAL\",$D$12:$L$312,3,0))*100,\"\")","v":2.4640617217418095},{"$f":"IF(E36=\"\",\"\",E39-F39)","v":2837742.7363499999},{"$f":"IF(E36=\"\",\"\",IFERROR((E39/F39-1)*100,\"ND\"))","v":138.0267588831276},{"$f":"IF(E36=\"\",\"\",IFERROR((E39/VLOOKUP(B39&\"|\"&VLOOKUP(TDPrimas!$B$4,Cat!R:T,2,0),'TD Operación'!A:D,4,0))*100,\"ND\"))","v":17.038176645116462},{"$f":"IF(E36=\"\",\"\",(VLOOKUP(B39,'TDPrimas Vida'!$B:$N,13,0)))","v":0}]
[null,{"$f":"IF(C40=\"\",B36,D40)","v":"Zurich Santander"},{"$f":"IF('TDPrimas Vida'!A14=\"\",\"\",'TDPrimas Vida'!A14)","v":7},{"$f":"IF('TDPrimas Vida'!B14=\"\",\"\",'TDPrimas Vida'!B14)","v":"Zurich Santander"},{"$f":"IF('TDPrimas Vida'!C14=\"\",\"\",'TDPrimas Vida'!C14)","v":11872659.72023},{"$f":"IF('TDPrimas Vida'!D14=\"\",\"\",'TDPrimas Vida'!D14)","v":7465284.1962099997},{"$f":"IF('TDPrimas Vida'!C14=\"\",\"\",IFERROR((E40/VLOOKUP(\"TOTAL\",$D$12:$L$312,2,0))*100,\"\"))","v":5.1846625424119717},{"$f":"IF('TDPrimas Vida'!C14=\"\",\"\",IFERROR((E40/VLOOKUP(\"TOTAL\",$D$12:$L$312,3,0))*100,\"\"))","v":5.9781125780946098},{"$f":"IF('TDPrimas Vida'!C14=\"\",\"\",E40-F40)","v":4407375.5240200004},{"$f":"IFERROR(IF('TDPrimas Vida'!C14=\"\",\"\",(E40/F40-1)*100),\"ND\")","v":59.038281841400654},{"$f":"IF(E40=\"\",\"\",IFERROR((E40/VLOOKUP(D40&\"|\"&VLOOKUP(TDPrimas!$B$4,Cat!R:T,2,0),'TD Operación'!A:D,4,0))*100,\"ND\"))","v":76.416099727848788},{"$f":"IF('TDPrimas Vida'!E14=\"\",\"\",'TDPrimas Vida'!E14)","v":0}]
[null,{"$f":"IF(C41=\"\",B40,D41)","v":"Zurich Santander"},null,{"$f":"IF(D40=\"\",\"\",\"1er Año\")","v":"1er Año"},{"$f":"IF(E40=\"\",\"\",(VLOOKUP(B41,'TDPrimas Vida'!$B:$N,5,0)))","v":6643921.1358599998},{"$f":"IF(E40=\"\",\"\",(VLOOKUP(B41,'TDPrimas Vida'!$B:$N,6,0)))","v":2967066.4872500002},{"$f":"IFERROR((E41/VLOOKUP(\"TOTAL\",$D$12:$L$312,2,0))*100,\"\")","v":2.9013287552694416},{"$f":"IFERROR((E41/VLOOKUP(\"TOTAL\",$D$12:$L$312,3,0))*100,\"\")","v":3.3453421091886448},{"$f":"IF(E40=\"\",\"\",E41-F41)","v":3676854.6486099996},{"$f":"IF(E40=\"\",\"\",IFERROR((E41/F41-1)*100,\"ND\"))","v":123.92221962029102},{"$f":"IF(E40=\"\",\"\",IFERROR((E41/VLOOKUP(B41&\"|\"&VLOOKUP(TDPrimas!$B$4,Cat!R:T,2,0),'TD Operación'!A:D,4,0))*100,\"ND\"))","v":42.762325550083631},{"$f":"IF(E40=\"\",\"\",(VLOOKUP(B41,'TDPrimas Vida'!$B:$N,7,0)))","v":0}]
[null,{"$f":"IF(C42=\"\",B41,D42)","v":"Zurich Santander"},null,{"$f":"IF(D41=\"\",\"\",\"Renovación\")","v":"Renovación"},{"$f":"IF(E40=\"\",\"\",(VLOOKUP(B42,'TDPrimas Vida'!$B:$N,8,0)))","v":1070122.95508},{"$f":"IF(E40=\"\",\"\",(VLOOKUP(B42,'TDPrimas Vida'!$B:$N,9,0)))","v":1030190.7735},{"$f":"IFERROR((E42/VLOOKUP(\"TOTAL\",$D$12:$L$312,2,0))*100,\"\")","v":0.46731116124930128},{"$f":"IFERROR((E42/VLOOKUP(\"TOTAL\",$D$12:$L$312,3,0))*100,\"\")","v":0.5388274951543538},{"$f":"IF(E40=\"\",\"\",E42-F42)","v":39932.181579999975},{"$f":"IF(E40=\"\",\"\",IFERROR((E42/F42-1)*100,\"ND\"))","v":3.8761928962276704},{"$f":"IF(E40=\"\",\"\",IFERROR((E42/VLOOKUP(B42&\"|\"&VLOOKUP(TDPrimas!$B$4,Cat!R:T,2,0),'TD Operación'!A:D,4,0))*100,\"ND\"))","v":6.8876413864634332},{"$f":"IF(E40=\"\",\"\",(VLOOKUP(B42,'TDPrimas Vida'!$B:$N,10,0)))","v":0}]
[null,{"$f":"IF(C43=\"\",B42,D43)","v":"Zurich Santander"},null,{"$f":"IF(D42=\"\",\"\",\"Únicas\")","v":"Únicas"},{"$f":"IF(E41=\"\",\"\",(VLOOKUP(B43,'TDPrimas Vida'!$B:$N,11,0)))","v":4158615.6292900001},{"$f":"IF(E41=\"\",\"\",(VLOOKUP(B43,'TDPrimas Vida'!$B:$N,12,0)))","v":3468026.9354599998},{"$f":"IFERROR((E43/VLOOKUP(\"TOTAL\",$D$12:$L$312,2,0))*100,\"\")","v":1.816022625893229},{"$f":"IFERROR((E43/VLOOKUP(\"TOTAL\",$D$12:$L$312,3,0))*100,\"\")","v":2.0939429737516111},{"$f":"IF(E40=\"\",\"\",E43-F43)","v":690588.69383000024},{"$f":"IF(E40=\"\",\"\",IFERROR((E43/F43-1)*100,\"ND\"))","v":19.913014134026618},{"$f":"IF(E40=\"\",\"\",IFERROR((E43/VLOOKUP(B43&\"|\"&VLOOKUP(TDPrimas!$B$4,Cat!R:T,2,0),'TD Operación'!A:D,4,0))*100,\"ND\"))","v":26.766132791301718},{"$f":"IF(E40=\"\",\"\",(VLOOKUP(B43,'TDPrimas Vida'!$B:$N,13,0)))","v":0}]
[null,{"$f":"IF(C44=\"\",B40,D44)","v":"Allianz México"},{"$f":"IF('TDPrimas Vida'!A15=\"\",\"\",'TDPrimas Vida'!A15)","v":8},{"$f":"IF('TDPrimas Vida'!B15=\"\",\"\",'TDPrimas Vida'!B15)","v":"Allianz México"},{"$f":"IF('TDPrimas Vida'!C15=\"\",\"\",'TDPrimas Vida'!C15)","v":8022515.0877600005},{"$f":"IF('TDPrimas Vida'!D15=\"\",\"\",'TDPrimas Vida'!D15)","v":7691525.3838500008},{"$f":"IF('TDPrimas Vida'!C15=\"\",\"\",IFERROR((E44/VLOOKUP(\"TOTAL\",$D$12:$L$312,2,0))*100,\"\"))","v":3.5033458762884848},{"$f":"IF('TDPrimas Vida'!C15=\"\",\"\",IFERROR((E44/VLOOKUP(\"TOTAL\",$D$12:$L$312,3,0))*100,\"\"))","v":4.0394906856778645},{"$f":"IF('TDPrimas Vida'!C15=\"\",\"\",E44-F44)","v":330989.70390999969},{"$f":"IFERROR(IF('TDPrimas Vida'!C15=\"\",\"\",(E44/F44-1)*100),\"ND\")","v":4.3033037972543653},{"$f":"IF(E44=\"\",\"\",IFERROR((E44/VLOOKUP(D44&\"|\"&VLOOKUP(TDPrimas!$B$4,Cat!R:T,2,0),'TD Operación'!A:D,4,0))*100,\"ND\"))","v":53.372021297542894},{"$f":"IF('TDPrimas Vida'!E15=\"\",\"\",'TDPrimas Vida'!E15)","v":0}]
[null,{"$f":"IF(C45=\"\",B44,D45)","v":"Allianz México"},null,{"$f":"IF(D44=\"\",\"\",\"1er Año\")","v":"1er Año"},{"$f":"IF(E44=\"\",\"\",(VLOOKUP(B45,'TDPrimas Vida'!$B:$N,5,0)))","v":4323169.68738},{"$f":"IF(E44=\"\",\"\",(VLOOKUP(B45,'TDPrimas Vida'!$B:$N,6,0)))","v":3379146.2979100007},{"$f":"IFERROR((E45/VLOOKUP(\"TOTAL\",$D$12:$L$312,2,0))*100,\"\")","v":1.8878816095822335},{"$f":"IFERROR((E45/VLOOKUP(\"TOTAL\",$D$12:$L$312,3,0))*100,\"\")","v":2.176799107728749},{"$f":"IF(E44=\"\",\"\",E45-F45)","v":944023.38946999935},{"$f":"IF(E44=\"\",\"\",IFERROR((E45/F45-1)*100,\"ND\"))","v":27.936742189998618},{"$f":"IF(E44=\"\",\"\",IFERROR((E45/VLOOKUP(B45&\"|\"&VLOOKUP(TDPrimas!$B$4,Cat!R:T,2,0),'TD Operación'!A:D,4,0))*100,\"ND\"))","v":28.761093261111213},{"$f":"IF(E44=\"\",\"\",(VLOOKUP(B45,'TDPrimas Vida'!$B:$N,7,0)))","v":0}]
[null,{"$f":"IF(C46=\"\",B45,D46)","v":"Allianz México"},null,{"$f":"IF(D45=\"\",\"\",\"Renovación\")","v":"Renovación"},{"$f":"IF(E44=\"\",\"\",(VLOOKUP(B46,'TDPrimas Vida'!$B:$N,8,0)))","v":3699345.40038},{"$f":"IF(E44=\"\",\"\",(VLOOKUP(B46,'TDPrimas Vida'!$B:$N,9,0)))","v":4312379.0859400006},{"$f":"IFERROR((E46/VLOOKUP(\"TOTAL\",$D$12:$L$312,2,0))*100,\"\")","v":1.6154642667062513},{"$f":"IFERROR((E46/VLOOKUP(\"TOTAL\",$D$12:$L$312,3,0))*100,\"\")","v":1.8626915779491153},{"$f":"IF(E44=\"\",\"\",E46-F46)","v":-613033.68556000059},{"$f":"IF(E44=\"\",\"\",IFERROR((E46/F46-1)*100,\"ND\"))","v":-14.215672447691908},{"$f":"IF(E44=\"\",\"\",IFERROR((E46/VLOOKUP(B46&\"|\"&VLOOKUP(TDPrimas!$B$4,Cat!R:T,2,0),'TD Operación'!A:D,4,0))*100,\"ND\"))","v":24.61092803643167},{"$f":"IF(E44=\"\",\"\",(VLOOKUP(B46,'TDPrimas Vida'!$B:$N,10,0)))","v":0}]
[null,{"$f":"IF(C47=\"\",B46,D47)","v":"Allianz México"},null,{"$f":"IF(D46=\"\",\"\",\"Únicas\")","v":"Únicas"},{"$f":"IF(E45=\"\",\"\",(VLOOKUP(B47,'TDPrimas Vida'!$B:$N,11,0)))","v":0},{"$f":"IF(E45=\"\",\"\",(VLOOKUP(B47,'TDPrimas Vida'!$B:$N,12,0)))","v":0},{"$f":"IFERROR((E47/VLOOKUP(\"TOTAL\",$D$12:$L$312,2,0))*100,\"\")","v":0},{"$f":"IFERROR((E47/VLOOKUP(\"TOTAL\",$D$12:$L$312,3,0))*100,\"\")","v":0},{"$f":"IF(E44=\"\",\"\",E47-F47)","v":0},{"$f":"IF(E44=\"\",\"\",IFERROR((E47/F47-1)*100,\"ND\"))","v":"ND"},{"$f":"IF(E44=\"\",\"\",IFERROR((E47/VLOOKUP(B47&\"|\"&VLOOKUP(TDPrimas!$B$4,Cat!R:T,2,0),'TD Operación'!A:D,4,0))*100,\"ND\"))","v":0},{"$f":"IF(E44=\"\",\"\",(VLOOKUP(B47,'TDPrimas Vida'!$B:$N,13,0)))","v":0}]
[null,{"$f":"IF(C48=\"\",B44,D48)","v":"HSBC Seguros"},{"$f":"IF('TDPrimas Vida'!A16=\"\",\"\",'TDPrimas Vida'!A16)","v":9},{"$f":"IF('TDPrimas Vida'!B16=\"\",\"\",'TDPrimas Vida'!B16)","v":"HSBC Seguros"},{"$f":"IF('TDPrimas Vida'!C16=\"\",\"\",'TDPrimas Vida'!C16)","v":5777868.4725500001},{"$f":"IF('TDPrimas Vida'!D16=\"\",\"\",'TDPrimas Vida'!D16)","v":4345336.4017599998},{"$f":"IF('TDPrimas Vida'!C16=\"\",\"\",IFERROR((E48/VLOOKUP(\"TOTAL\",$D$12:$L$312,2,0))*100,\"\"))","v":2.5231328910715836},{"$f":"IF('TDPrimas Vida'!C16=\"\",\"\",IFERROR((E48/VLOOKUP(\"TOTAL\",$D$12:$L$312,3,0))*100,\"\"))","v":2.9092679318917023},{"$f":"IF('TDPrimas Vida'!C16=\"\",\"\",E48-F48)","v":1432532.0707900003},{"$f":"IFERROR(IF('TDPrimas Vida'!C16=\"\",\"\",(E48/F48-1)*100),\"ND\")","v":32.967115508244184},{"$f":"IF(E48=\"\",\"\",IFERROR((E48/VLOOKUP(D48&\"|\"&VLOOKUP(TDPrimas!$B$4,Cat!R:T,2,0),'TD Operación'!A:D,4,0))*100,\"ND\"))","v":94.402581841963524},{"$f":"IF('TDPrimas Vida'!E16=\"\",\"\",'TDPrimas Vida'!E16)","v":0}]
[null,{"$f":"IF(C49=\"\",B48,D49)","v":"HSBC Seguros"},null,{"$f":"IF(D48=\"\",\"\",\"1er Año\")","v":"1er Año"},{"$f":"IF(E48=\"\",\"\",(VLOOKUP(B49,'TDPrimas Vida'!$B:$N,5,0)))","v":4351416.9204599997},{"$f":"IF(E48=\"\",\"\",(VLOOKUP(B49,'TDPrimas Vida'!$B:$N,6,0)))","v":2657947.8764},{"$f":"IFERROR((E49/VLOOKUP(\"TOTAL\",$D$12:$L$312,2,0))*100,\"\")","v":1.9002168718341377},{"$f":"IFERROR((E49/VLOOKUP(\"TOTAL\",$D$12:$L$312,3,0))*100,\"\")","v":2.1910221330112964},{"$f":"IF(E48=\"\",\"\",E49-F49)","v":1693469.0440599998},{"$f":"IF(E48=\"\",\"\",IFERROR((E49/F49-1)*100,\"ND\"))","v":63.713403076725569},{"$f":"IF(E48=\"\",\"\",IFERROR((E49/VLOOKUP(B49&\"|\"&VLOOKUP(TDPrimas!$B$4,Cat!R:T,2,0),'TD Operación'!A:D,4,0))*100,\"ND\"))","v":71.096286444356267},{"$f":"IF(E48=\"\",\"\",(VLOOKUP(B49,'TDPrimas Vida'!$B:$N,7,0)))","v":0}]
[null,{"$f":"IF(C50=\"\",B49,D50)","v":"HSBC Seguros"},null,{"$f":"IF(D49=\"\",\"\",\"Renovación\")","v":"Renovación"},{"$f":"IF(E48=\"\",\"\",(VLOOKUP(B50,'TDPrimas Vida'!$B:$N,8,0)))","v":1426451.5520899999},{"$f":"IF(E48=\"\",\"\",(VLOOKUP(B50,'TDPrimas Vida'!$B:$N,9,0)))","v":1687388.5253600001},{"$f":"IFERROR((E50/VLOOKUP(\"TOTAL\",$D$12:$L$312,2,0))*100,\"\")","v":0.62291601923744611},{"$f":"IFERROR((E50/VLOOKUP(\"TOTAL\",$D$12:$L$312,3,0))*100,\"\")","v":0.71824579888040541},{"$f":"IF(E48=\"\",\"\",E50-F50)","v":-260936.97327000019},{"$f":"IF(E48=\"\",\"\",IFERROR((E50/F50-1)*100,\"ND\"))","v":-15.463953283333487},{"$f":"IF(E48=\"\",\"\",IFERROR((E50/VLOOKUP(B50&\"|\"&VLOOKUP(TDPrimas!$B$4,Cat!R:T,2,0),'TD Operación'!A:D,4,0))*100,\"ND\"))","v":23.306295397607251},{"$f":"IF(E48=\"\",\"\",(VLOOKUP(B50,'TDPrimas Vida'!$B:$N,10,0)))","v":0}]
[null,{"$f":"IF(C51=\"\",B50,D51)","v":"HSBC Seguros"},null,{"$f":"IF(D50=\"\",\"\",\"Únicas\")","v":"Únicas"},{"$f":"IF(E49=\"\",\"\",(VLOOKUP(B51,'TDPrimas Vida'!$B:$N,11,0)))","v":0},{"$f":"IF(E49=\"\",\"\",(VLOOKUP(B51,'TDPrimas Vida'!$B:$N,12,0)))","v":0},{"$f":"IFERROR((E51/VLOOKUP(\"TOTAL\",$D$12:$L$312,2,0))*100,\"\")","v":0},{"$f":"IFERROR((E51/VLOOKUP(\"TOTAL\",$D$12:$L$312,3,0))*100,\"\")","v":0},{"$f":"IF(E48=\"\",\"\",E51-F51)","v":0},{"$f":"IF(E48=\"\",\"\",IFERROR((E51/F51-1)*100,\"ND\"))","v":"ND"},{"$f":"IF(E48=\"\",\"\",IFERROR((E51/VLOOKUP(B51&\"|\"&VLOOKUP(TDPrimas!$B$4,Cat!R:T,2,0),'TD Operación'!A:D,4,0))*100,\"ND\"))","v":0},{"$f":"IF(E48=\"\",\"\",(VLOOKUP(B51,'TDPrimas Vida'!$B:$N,13,0)))","v":0}]
[null,{"$f":"IF(C52=\"\",B48,D52)","v":"Mapfre México"},{"$f":"IF('TDPrimas Vida'!A17=\"\",\"\",'TDPrimas Vida'!A17)","v":10},{"$f":"IF('TDPrimas Vida'!B17=\"\",\"\",'TDPrimas Vida'!B17)","v":"Mapfre México"},{"$f":"IF('TDPrimas Vida'!C17=\"\",\"\",'TDPrimas Vida'!C17)","v":4515190.9059899999},{"$f":"IF('TDPrimas Vida'!D17=\"\",\"\",'TDPrimas Vida'!D17)","v":4232465.3305900004},{"$f":"IF('TDPrimas Vida'!C17=\"\",\"\",IFERROR((E52/VLOOKUP(\"TOTAL\",$D$12:$L$312,2,0))*100,\"\"))","v":1.9717352062434104},{"$f":"IF('TDPrimas Vida'!C17=\"\",\"\",IFERROR((E52/VLOOKUP(\"TOTAL\",$D$12:$L$312,3,0))*100,\"\"))","v":2.2734854854472584},{"$f":"IF('TDPrimas Vida'!C17=\"\",\"\",E52-F52)","v":282725.57539999951},{"$f":"IFERROR(IF('TDPrimas Vida'!C17=\"\",\"\",(E52/F52-1)*100),\"ND\")","v":6.6799265514736694},{"$f":"IF(E52=\"\",\"\",IFERROR((E52/VLOOKUP(D52&\"|\"&VLOOKUP(TDPrimas!$B$4,Cat!R:T,2,0),'TD Operación'!A:D,4,0))*100,\"ND\"))","v":20.17814708142512},{"$f":"IF('TDPrimas Vida'!E17=\"\",\"\",'TDPrimas Vida'!E17)","v":0}]
[null,{"$f":"IF(C53=\"\",B52,D53)","v":"Mapfre México"},null,{"$f":"IF(D52=\"\",\"\",\"1er Año\")","v":"1er Año"},{"$f":"IF(E52=\"\",\"\",(VLOOKUP(B53,'TDPrimas Vida'!$B:$N,5,0)))","v":3895125.8799000001},{"$f":"IF(E52=\"\",\"\",(VLOOKUP(B53,'TDPrimas Vida'!$B:$N,6,0)))","v":3597860.6745799999},{"$f":"IFERROR((E53/VLOOKUP(\"TOTAL\",$D$12:$L$312,2,0))*100,\"\")","v":1.7009594920914473},{"$f":"IFERROR((E53/VLOOKUP(\"TOTAL\",$D$12:$L$312,3,0))*100,\"\")","v":1.9612708158573362},{"$f":"IF(E52=\"\",\"\",E53-F53)","v":297265.20532000018},{"$f":"IF(E52=\"\",\"\",IFERROR((E53/F53-1)*100,\"ND\"))","v":8.2622767307325429},{"$f":"IF(E52=\"\",\"\",IFERROR((E53/VLOOKUP(B53&\"|\"&VLOOKUP(TDPrimas!$B$4,Cat!R:T,2,0),'TD Operación'!A:D,4,0))*100,\"ND\"))","v":17.407109586666436},{"$f":"IF(E52=\"\",\"\",(VLOOKUP(B53,'TDPrimas Vida'!$B:$N,7,0)))","v":0}]
[null,{"$f":"IF(C54=\"\",B53,D54)","v":"Mapfre México"},null,{"$f":"IF(D53=\"\",\"\",\"Renovación\")","v":"Renovación"},{"$f":"IF(E52=\"\",\"\",(VLOOKUP(B54,'TDPrimas Vida'!$B:$N,8,0)))","v":610219.42483999999},{"$f":"IF(E52=\"\",\"\",(VLOOKUP(B54,'TDPrimas Vida'!$B:$N,9,0)))","v":631236.12856999994},{"$f":"IFERROR((E54/VLOOKUP(\"TOTAL\",$D$12:$L$312,2,0))*100,\"\")","v":0.2664762461969083},{"$f":"IFERROR((E54/VLOOKUP(\"TOTAL\",$D$12:$L$312,3,0))*100,\"\")","v":0.30725721994860589},{"$f":"IF(E52=\"\",\"\",E54-F54)","v":-21016.70372999995},{"$f":"IF(E52=\"\",\"\",IFERROR((E54/F54-1)*100,\"ND\"))","v":-3.3294519718969684},{"$f":"IF(E52=\"\",\"\",IFERROR((E54/VLOOKUP(B54&\"|\"&VLOOKUP(TDPrimas!$B$4,Cat!R:T,2,0),'TD Operación'!A:D,4,0))*100,\"ND\"))","v":2.727038028453947},{"$f":"IF(E52=\"\",\"\",(VLOOKUP(B54,'TDPrimas Vida'!$B:$N,10,0)))","v":0}]
[null,{"$f":"IF(C55=\"\",B54,D55)","v":"Mapfre México"},null,{"$f":"IF(D54=\"\",\"\",\"Únicas\")","v":"Únicas"},{"$f":"IF(E53=\"\",\"\",(VLOOKUP(B55,'TDPrimas Vida'!$B:$N,11,0)))","v":9845.6012499999997},{"$f":"IF(E53=\"\",\"\",(VLOOKUP(B55,'TDPrimas Vida'!$B:$N,12,0)))","v":3368.5274399999998},{"$f":"IFERROR((E55/VLOOKUP(\"TOTAL\",$D$12:$L$312,2,0))*100,\"\")","v":4.2994679550548602E-3},{"$f":"IFERROR((E55/VLOOKUP(\"TOTAL\",$D$12:$L$312,3,0))*100,\"\")","v":4.957449641316663E-3},{"$f":"IF(E52=\"\",\"\",E55-F55)","v":6477.0738099999999},{"$f":"IF(E52=\"\",\"\",IFERROR((E55/F55-1)*100,\"ND\"))","v":192.28205574599681},{"$f":"IF(E52=\"\",\"\",IFERROR((E55/VLOOKUP(B55&\"|\"&VLOOKUP(TDPrimas!$B$4,Cat!R:T,2,0),'TD Operación'!A:D,4,0))*100,\"ND\"))","v":4.3999466304737243E-2},{"$f":"IF(E52=\"\",\"\",(VLOOKUP(B55,'TDPrimas Vida'!$B:$N,13,0)))","v":0}]
[null,{"$f":"IF(C56=\"\",B52,D56)","v":"AXA Seguros"},{"$f":"IF('TDPrimas Vida'!A18=\"\",\"\",'TDPrimas Vida'!A18)","v":11},{"$f":"IF('TDPrimas Vida'!B18=\"\",\"\",'TDPrimas Vida'!B18)","v":"AXA Seguros"},{"$f":"IF('TDPrimas Vida'!C18=\"\",\"\",'TDPrimas Vida'!C18)","v":4432978.3748199996},{"$f":"IF('TDPrimas Vida'!D18=\"\",\"\",'TDPrimas Vida'!D18)","v":4020917.3298599999},{"$f":"IF('TDPrimas Vida'!C18=\"\",\"\",IFERROR((E56/VLOOKUP(\"TOTAL\",$D$12:$L$312,2,0))*100,\"\"))","v":1.9358338799257955},{"$f":"IF('TDPrimas Vida'!C18=\"\",\"\",IFERROR((E56/VLOOKUP(\"TOTAL\",$D$12:$L$312,3,0))*100,\"\"))","v":2.2320898943795773},{"$f":"IF('TDPrimas Vida'!C18=\"\",\"\",E56-F56)","v":412061.04495999962},{"$f":"IFERROR(IF('TDPrimas Vida'!C18=\"\",\"\",(E56/F56-1)*100),\"ND\")","v":10.247936258225598},{"$f":"IF(E56=\"\",\"\",IFERROR((E56/VLOOKUP(D56&\"|\"&VLOOKUP(TDPrimas!$B$4,Cat!R:T,2,0),'TD Operación'!A:D,4,0))*100,\"ND\"))","v":10.603511950981025},{"$f":"IF('TDPrimas Vida'!E18=\"\",\"\",'TDPrimas Vida'!E18)","v":0}]
[null,{"$f":"IF(C57=\"\",B56,D57)","v":"AXA Seguros"},null,{"$f":"IF(D56=\"\",\"\",\"1er Año\")","v":"1er Año"},{"$f":"IF(E56=\"\",\"\",(VLOOKUP(B57,'TDPrimas Vida'!$B:$N,5,0)))","v":969378.19620999997},{"$f":"IF(E56=\"\",\"\",(VLOOKUP(B57,'TDPrimas Vida'!$B:$N,6,0)))","v":837883.56099000003},{"$f":"IFERROR((E57/VLOOKUP(\"TOTAL\",$D$12:$L$312,2,0))*100,\"\")","v":0.42331701082590339},{"$f":"IFERROR((E57/VLOOKUP(\"TOTAL\",$D$12:$L$312,3,0))*100,\"\")","v":0.48810057091246295},{"$f":"IF(E56=\"\",\"\",E57-F57)","v":131494.63521999994},{"$f":"IF(E56=\"\",\"\",IFERROR((E57/F57-1)*100,\"ND\"))","v":15.693664530741325},{"$f":"IF(E56=\"\",\"\",IFERROR((E57/VLOOKUP(B57&\"|\"&VLOOKUP(TDPrimas!$B$4,Cat!R:T,2,0),'TD Operación'!A:D,4,0))*100,\"ND\"))","v":2.318714963041193},{"$f":"IF(E56=\"\",\"\",(VLOOKUP(B57,'TDPrimas Vida'!$B:$N,7,0)))","v":0}]
[null,{"$f":"IF(C58=\"\",B57,D58)","v":"AXA Seguros"},null,{"$f":"IF(D57=\"\",\"\",\"Renovación\")","v":"Renovación"},{"$f":"IF(E56=\"\",\"\",(VLOOKUP(B58,'TDPrimas Vida'!$B:$N,8,0)))","v":3454818.4391000001},{"$f":"IF(E56=\"\",\"\",(VLOOKUP(B58,'TDPrimas Vida'!$B:$N,9,0)))","v":3176990.6058999998},{"$f":"IFERROR((E58/VLOOKUP(\"TOTAL\",$D$12:$L$312,2,0))*100,\"\")","v":1.5086819781009415},{"$f":"IFERROR((E58/VLOOKUP(\"TOTAL\",$D$12:$L$312,3,0))*100,\"\")","v":1.7395675486787048},{"$f":"IF(E56=\"\",\"\",E58-F58)","v":277827.83320000023},{"$f":"IF(E56=\"\",\"\",IFERROR((E58/F58-1)*100,\"ND\"))","v":8.7450001483808428},{"$f":"IF(E56=\"\",\"\",IFERROR((E58/VLOOKUP(B58&\"|\"&VLOOKUP(TDPrimas!$B$4,Cat!R:T,2,0),'TD Operación'!A:D,4,0))*100,\"ND\"))","v":8.2637914084013424},{"$f":"IF(E56=\"\",\"\",(VLOOKUP(B58,'TDPrimas Vida'!$B:$N,10,0)))","v":0}]
[null,{"$f":"IF(C59=\"\",B58,D59)","v":"AXA Seguros"},null,{"$f":"IF(D58=\"\",\"\",\"Únicas\")","v":"Únicas"},{"$f":"IF(E57=\"\",\"\",(VLOOKUP(B59,'TDPrimas Vida'!$B:$N,11,0)))","v":8781.7395099999994},{"$f":"IF(E57=\"\",\"\",(VLOOKUP(B59,'TDPrimas Vida'!$B:$N,12,0)))","v":6043.1629700000003},{"$f":"IFERROR((E59/VLOOKUP(\"TOTAL\",$D$12:$L$312,2,0))*100,\"\")","v":3.8348909989508436E-3},{"$f":"IFERROR((E59/VLOOKUP(\"TOTAL\",$D$12:$L$312,3,0))*100,\"\")","v":4.4217747884097861E-3},{"$f":"IF(E56=\"\",\"\",E59-F59)","v":2738.5765399999991},{"$f":"IF(E56=\"\",\"\",IFERROR((E59/F59-1)*100,\"ND\"))","v":45.316940046050071},{"$f":"IF(E56=\"\",\"\",IFERROR((E59/VLOOKUP(B59&\"|\"&VLOOKUP(TDPrimas!$B$4,Cat!R:T,2,0),'TD Operación'!A:D,4,0))*100,\"ND\"))","v":2.1005579538489912E-2},{"$f":"IF(E56=\"\",\"\",(VLOOKUP(B59,'TDPrimas Vida'!$B:$N,13,0)))","v":0}]
[null,{"$f":"IF(C60=\"\",B56,D60)","v":"Inbursa"},{"$f":"IF('TDPrimas Vida'!A19=\"\",\"\",'TDPrimas Vida'!A19)","v":12},{"$f":"IF('TDPrimas Vida'!B19=\"\",\"\",'TDPrimas Vida'!B19)","v":"Inbursa"},{"$f":"IF('TDPrimas Vida'!C19=\"\",\"\",'TDPrimas Vida'!C19)","v":3925225.8454899997},{"$f":"IF('TDPrimas Vida'!D19=\"\",\"\",'TDPrimas Vida'!D19)","v":4233175.3850699998},{"$f":"IF('TDPrimas Vida'!C19=\"\",\"\",IFERROR((E60/VLOOKUP(\"TOTAL\",$D$12:$L$312,2,0))*100,\"\"))","v":1.7141038226626715},{"$f":"IF('TDPrimas Vida'!C19=\"\",\"\",IFERROR((E60/VLOOKUP(\"TOTAL\",$D$12:$L$312,3,0))*100,\"\"))","v":1.9764267276019629},{"$f":"IF('TDPrimas Vida'!C19=\"\",\"\",E60-F60)","v":-307949.5395800001},{"$f":"IFERROR(IF('TDPrimas Vida'!C19=\"\",\"\",(E60/F60-1)*100),\"ND\")","v":-7.2746699951556026},{"$f":"IF(E60=\"\",\"\",IFERROR((E60/VLOOKUP(D60&\"|\"&VLOOKUP(TDPrimas!$B$4,Cat!R:T,2,0),'TD Operación'!A:D,4,0))*100,\"ND\"))","v":18.753961678105533},{"$f":"IF('TDPrimas Vida'!E19=\"\",\"\",'TDPrimas Vida'!E19)","v":0}]
[null,{"$f":"IF(C61=\"\",B60,D61)","v":"Inbursa"},null,{"$f":"IF(D60=\"\",\"\",\"1er Año\")","v":"1er Año"},{"$f":"IF(E60=\"\",\"\",(VLOOKUP(B61,'TDPrimas Vida'!$B:$N,5,0)))","v":2195424.8892200002},{"$f":"IF(E60=\"\",\"\",(VLOOKUP(B61,'TDPrimas Vida'!$B:$N,6,0)))","v":2539822.62096},{"$f":"IFERROR((E61/VLOOKUP(\"TOTAL\",$D$12:$L$312,2,0))*100,\"\")","v":0.95871838796348341},{"$f":"IFERROR((E61/VLOOKUP(\"TOTAL\",$D$12:$L$312,3,0))*100,\"\")","v":1.1054386678113097},{"$f":"IF(E60=\"\",\"\",E61-F61)","v":-344397.73173999973},{"$f":"IF(E60=\"\",\"\",IFERROR((E61/F61-1)*100,\"ND\"))","v":-13.559912763113536},{"$f":"IF(E60=\"\",\"\",IFERROR((E61/VLOOKUP(B61&\"|\"&VLOOKUP(TDPrimas!$B$4,Cat!R:T,2,0),'TD Operación'!A:D,4,0))*100,\"ND\"))","v":10.489310898351942},{"$f":"IF(E60=\"\",\"\",(VLOOKUP(B61,'TDPrimas Vida'!$B:$N,7,0)))","v":0}]
[null,{"$f":"IF(C62=\"\",B61,D62)","v":"Inbursa"},null,{"$f":"IF(D61=\"\",\"\",\"Renovación\")","v":"Renovación"},{"$f":"IF(E60=\"\",\"\",(VLOOKUP(B62,'TDPrimas Vida'!$B:$N,8,0)))","v":1729800.95627},{"$f":"IF(E60=\"\",\"\",(VLOOKUP(B62,'TDPrimas Vida'!$B:$N,9,0)))","v":1693352.7641100001},{"$f":"IFERROR((E62/VLOOKUP(\"TOTAL\",$D$12:$L$312,2,0))*100,\"\")","v":0.75538543469918806},{"$f":"IFERROR((E62/VLOOKUP(\"TOTAL\",$D$12:$L$312,3,0))*100,\"\")","v":0.87098805979065352},{"$f":"IF(E60=\"\",\"\",E62-F62)","v":36448.19215999986},{"$f":"IF(E60=\"\",\"\",IFERROR((E62/F62-1)*100,\"ND\"))","v":2.1524275940906223},{"$f":"IF(E60=\"\",\"\",IFERROR((E62/VLOOKUP(B62&\"|\"&VLOOKUP(TDPrimas!$B$4,Cat!R:T,2,0),'TD Operación'!A:D,4,0))*100,\"ND\"))","v":8.2646507797535929},{"$f":"IF(E60=\"\",\"\",(VLOOKUP(B62,'TDPrimas Vida'!$B:$N,10,0)))","v":0}]
[null,{"$f":"IF(C63=\"\",B62,D63)","v":"Inbursa"},null,{"$f":"IF(D62=\"\",\"\",\"Únicas\")","v":"Únicas"},{"$f":"IF(E61=\"\",\"\",(VLOOKUP(B63,'TDPrimas Vida'!$B:$N,11,0)))","v":0},{"$f":"IF(E61=\"\",\"\",(VLOOKUP(B63,'TDPrimas Vida'!$B:$N,12,0)))","v":0},{"$f":"IFERROR((E63/VLOOKUP(\"TOTAL\",$D$12:$L$312,2,0))*100,\"\")","v":0},{"$f":"IFERROR((E63/VLOOKUP(\"TOTAL\",$D$12:$L$312,3,0))*100,\"\")","v":0},{"$f":"IF(E60=\"\",\"\",E63-F63)","v":0},{"$f":"IF(E60=\"\",\"\",IFERROR((E63/F63-1)*100,\"ND\"))","v":"ND"},{"$f":"IF(E60=\"\",\"\",IFERROR((E63/VLOOKUP(B63&\"|\"&VLOOKUP(TDPrimas!$B$4,Cat!R:T,2,0),'TD Operación'!A:D,4,0))*100,\"ND\"))","v":0},{"$f":"IF(E60=\"\",\"\",(VLOOKUP(B63,'TDPrimas Vida'!$B:$N,13,0)))","v":0}]
[null,{"$f":"IF(C64=\"\",B60,D64)","v":"Seguros Azteca"},{"$f":"IF('TDPrimas Vida'!A20=\"\",\"\",'TDPrimas Vida'!A20)","v":13},{"$f":"IF('TDPrimas Vida'!B20=\"\",\"\",'TDPrimas Vida'!B20)","v":"Seguros Azteca"},{"$f":"IF('TDPrimas Vida'!C20=\"\",\"\",'TDPrimas Vida'!C20)","v":3210392.0818400001},{"$f":"IF('TDPrimas Vida'!D20=\"\",\"\",'TDPrimas Vida'!D20)","v":3037397.6803000001},{"$f":"IF('TDPrimas Vida'!C20=\"\",\"\",IFERROR((E64/VLOOKUP(\"TOTAL\",$D$12:$L$312,2,0))*100,\"\"))","v":1.4019436221869073},{"$f":"IF('TDPrimas Vida'!C20=\"\",\"\",IFERROR((E64/VLOOKUP(\"TOTAL\",$D$12:$L$312,3,0))*100,\"\"))","v":1.6164941754678075},{"$f":"IF('TDPrimas Vida'!C20=\"\",\"\",E64-F64)","v":172994.40153999999},{"$f":"IFERROR(IF('TDPrimas Vida'!C20=\"\",\"\",(E64/F64-1)*100),\"ND\")","v":5.6954807946950625},{"$f":"IF(E64=\"\",\"\",IFERROR((E64/VLOOKUP(D64&\"|\"&VLOOKUP(TDPrimas!$B$4,Cat!R:T,2,0),'TD Operación'!A:D,4,0))*100,\"ND\"))","v":90.683021525264294},{"$f":"IF('TDPrimas Vida'!E20=\"\",\"\",'TDPrimas Vida'!E20)","v":0}]
[null,{"$f":"IF(C65=\"\",B64,D65)","v":"Seguros Azteca"},null,{"$f":"IF(D64=\"\",\"\",\"1er Año\")","v":"1er Año"},{"$f":"IF(E64=\"\",\"\",(VLOOKUP(B65,'TDPrimas Vida'!$B:$N,5,0)))","v":3118270.4233000004},{"$f":"IF(E64=\"\",\"\",(VLOOKUP(B65,'TDPrimas Vida'!$B:$N,6,0)))","v":2965811.6330800001},{"$f":"IFERROR((E65/VLOOKUP(\"TOTAL\",$D$12:$L$312,2,0))*100,\"\")","v":1.3617150867422858},{"$f":"IFERROR((E65/VLOOKUP(\"TOTAL\",$D$12:$L$312,3,0))*100,\"\")","v":1.5701091481352596},{"$f":"IF(E64=\"\",\"\",E65-F65)","v":152458.79022000032},{"$f":"IF(E64=\"\",\"\",IFERROR((E65/F65-1)*100,\"ND\"))","v":5.1405419184249235},{"$f":"IF(E64=\"\",\"\",IFERROR((E65/VLOOKUP(B65&\"|\"&VLOOKUP(TDPrimas!$B$4,Cat!R:T,2,0),'TD Operación'!A:D,4,0))*100,\"ND\"))","v":88.080887539331371},{"$f":"IF(E64=\"\",\"\",(VLOOKUP(B65,'TDPrimas Vida'!$B:$N,7,0)))","v":0}]
[null,{"$f":"IF(C66=\"\",B65,D66)","v":"Seguros Azteca"},null,{"$f":"IF(D65=\"\",\"\",\"Renovación\")","v":"Renovación"},{"$f":"IF(E64=\"\",\"\",(VLOOKUP(B66,'TDPrimas Vida'!$B:$N,8,0)))","v":6877.1308499999996},{"$f":"IF(E64=\"\",\"\",(VLOOKUP(B66,'TDPrimas Vida'!$B:$N,9,0)))","v":6546.9305999999997},{"$f":"IFERROR((E66/VLOOKUP(\"TOTAL\",$D$12:$L$312,2,0))*100,\"\")","v":3.0031689240201755E-3},{"$f":"IFERROR((E66/VLOOKUP(\"TOTAL\",$D$12:$L$312,3,0))*100,\"\")","v":3.462767686800261E-3},{"$f":"IF(E64=\"\",\"\",E66-F66)","v":330.20024999999987},{"$f":"IF(E64=\"\",\"\",IFERROR((E66/F66-1)*100,\"ND\"))","v":5.0435886703915855},{"$f":"IF(E64=\"\",\"\",IFERROR((E66/VLOOKUP(B66&\"|\"&VLOOKUP(TDPrimas!$B$4,Cat!R:T,2,0),'TD Operación'!A:D,4,0))*100,\"ND\"))","v":0.1942563366108159},{"$f":"IF(E64=\"\",\"\",(VLOOKUP(B66,'TDPrimas Vida'!$B:$N,10,0)))","v":0}]
[null,{"$f":"IF(C67=\"\",B66,D67)","v":"Seguros Azteca"},null,{"$f":"IF(D66=\"\",\"\",\"Únicas\")","v":"Únicas"},{"$f":"IF(E65=\"\",\"\",(VLOOKUP(B67,'TDPrimas Vida'!$B:$N,11,0)))","v":85244.527690000003},{"$f":"IF(E65=\"\",\"\",(VLOOKUP(B67,'TDPrimas Vida'!$B:$N,12,0)))","v":65039.116620000001},{"$f":"IFERROR((E67/VLOOKUP(\"TOTAL\",$D$12:$L$312,2,0))*100,\"\")","v":3.7225366520601447E-2},{"$f":"IFERROR((E67/VLOOKUP(\"TOTAL\",$D$12:$L$312,3,0))*100,\"\")","v":4.2922259645747779E-2},{"$f":"IF(E64=\"\",\"\",E67-F67)","v":20205.411070000002},{"$f":"IF(E64=\"\",\"\",IFERROR((E67/F67-1)*100,\"ND\"))","v":31.066552130547677},{"$f":"IF(E64=\"\",\"\",IFERROR((E67/VLOOKUP(B67&\"|\"&VLOOKUP(TDPrimas!$B$4,Cat!R:T,2,0),'TD Operación'!A:D,4,0))*100,\"ND\"))","v":2.4078776493221237},{"$f":"IF(E64=\"\",\"\",(VLOOKUP(B67,'TDPrimas Vida'!$B:$N,13,0)))","v":0}]
[null,{"$f":"IF(C68=\"\",B64,D68)","v":"Hir Seguros"},{"$f":"IF('TDPrimas Vida'!A21=\"\",\"\",'TDPrimas Vida'!A21)","v":14},{"$f":"IF('TDPrimas Vida'!B21=\"\",\"\",'TDPrimas Vida'!B21)","v":"Hir Seguros"},{"$f":"IF('TDPrimas Vida'!C21=\"\",\"\",'TDPrimas Vida'!C21)","v":3195969.6090100002},{"$f":"IF('TDPrimas Vida'!D21=\"\",\"\",'TDPrimas Vida'!D21)","v":2648757.61607},{"$f":"IF('TDPrimas Vida'!C21=\"\",\"\",IFERROR((E68/VLOOKUP(\"TOTAL\",$D$12:$L$312,2,0))*100,\"\"))","v":1.3956454837400314},{"$f":"IF('TDPrimas Vida'!C21=\"\",\"\",IFERROR((E68/VLOOKUP(\"TOTAL\",$D$12:$L$312,3,0))*100,\"\"))","v":1.6092321829350524},{"$f":"IF('TDPrimas Vida'!C21=\"\",\"\",E68-F68)","v":547211.99294000026},{"$f":"IFERROR(IF('TDPrimas Vida'!C21=\"\",\"\",(E68/F68-1)*100),\"ND\")","v":20.659194696414197},{"$f":"IF(E68=\"\",\"\",IFERROR((E68/VLOOKUP(D68&\"|\"&VLOOKUP(TDPrimas!$B$4,Cat!R:T,2,0),'TD Operación'!A:D,4,0))*100,\"ND\"))","v":98.13298990855202},{"$f":"IF('TDPrimas Vida'!E21=\"\",\"\",'TDPrimas Vida'!E21)","v":0}]
[null,{"$f":"IF(C69=\"\",B68,D69)","v":"Hir Seguros"},null,{"$f":"IF(D68=\"\",\"\",\"1er Año\")","v":"1er Año"},{"$f":"IF(E68=\"\",\"\",(VLOOKUP(B69,'TDPrimas Vida'!$B:$N,5,0)))","v":1898344.3692000003},{"$f":"IF(E68=\"\",\"\",(VLOOKUP(B69,'TDPrimas Vida'!$B:$N,6,0)))","v":980249.75518999994},{"$f":"IFERROR((E69/VLOOKUP(\"TOTAL\",$D$12:$L$312,2,0))*100,\"\")","v":0.82898652665160844},{"$f":"IFERROR((E69/VLOOKUP(\"TOTAL\",$D$12:$L$312,3,0))*100,\"\")","v":0.95585291067785716},{"$f":"IF(E68=\"\",\"\",E69-F69)","v":918094.61401000037},{"$f":"IF(E68=\"\",\"\",IFERROR((E69/F69-1)*100,\"ND\"))","v":93.659254608234804},{"$f":"IF(E68=\"\",\"\",IFERROR((E69/VLOOKUP(B69&\"|\"&VLOOKUP(TDPrimas!$B$4,Cat!R:T,2,0),'TD Operación'!A:D,4,0))*100,\"ND\"))","v":58.289105221925553},{"$f":"IF(E68=\"\",\"\",(VLOOKUP(B69,'TDPrimas Vida'!$B:$N,7,0)))","v":0}]
[null,{"$f":"IF(C70=\"\",B69,D70)","v":"Hir Seguros"},null,{"$f":"IF(D69=\"\",\"\",\"Renovación\")","v":"Renovación"},{"$f":"IF(E68=\"\",\"\",(VLOOKUP(B70,'TDPrimas Vida'!$B:$N,8,0)))","v":1297625.2398099999},{"$f":"IF(E68=\"\",\"\",(VLOOKUP(B70,'TDPrimas Vida'!$B:$N,9,0)))","v":1668507.8608800001},{"$f":"IFERROR((E70/VLOOKUP(\"TOTAL\",$D$12:$L$312,2,0))*100,\"\")","v":0.56665895708842295},{"$f":"IFERROR((E70/VLOOKUP(\"TOTAL\",$D$12:$L$312,3,0))*100,\"\")","v":0.6533792722571955},{"$f":"IF(E68=\"\",\"\",E70-F70)","v":-370882.62107000011},{"$f":"IF(E68=\"\",\"\",IFERROR((E70/F70-1)*100,\"ND\"))","v":-22.228401182023205},{"$f":"IF(E68=\"\",\"\",IFERROR((E70/VLOOKUP(B70&\"|\"&VLOOKUP(TDPrimas!$B$4,Cat!R:T,2,0),'TD Operación'!A:D,4,0))*100,\"ND\"))","v":39.84388468662646},{"$f":"IF(E68=\"\",\"\",(VLOOKUP(B70,'TDPrimas Vida'!$B:$N,10,0)))","v":0}]
[null,{"$f":"IF(C71=\"\",B70,D71)","v":"Hir Seguros"},null,{"$f":"IF(D70=\"\",\"\",\"Únicas\")","v":"Únicas"},{"$f":"IF(E69=\"\",\"\",(VLOOKUP(B71,'TDPrimas Vida'!$B:$N,11,0)))","v":0},{"$f":"IF(E69=\"\",\"\",(VLOOKUP(B71,'TDPrimas Vida'!$B:$N,12,0)))","v":0},{"$f":"IFERROR((E71/VLOOKUP(\"TOTAL\",$D$12:$L$312,2,0))*100,\"\")","v":0},{"$f":"IFERROR((E71/VLOOKUP(\"TOTAL\",$D$12:$L$312,3,0))*100,\"\")","v":0},{"$f":"IF(E68=\"\",\"\",E71-F71)","v":0},{"$f":"IF(E68=\"\",\"\",IFERROR((E71/F71-1)*100,\"ND\"))","v":"ND"},{"$f":"IF(E68=\"\",\"\",IFERROR((E71/VLOOKUP(B71&\"|\"&VLOOKUP(TDPrimas!$B$4,Cat!R:T,2,0),'TD Operación'!A:D,4,0))*100,\"ND\"))","v":0},{"$f":"IF(E68=\"\",\"\",(VLOOKUP(B71,'TDPrimas Vida'!$B:$N,13,0)))","v":0}]
[null,{"$f":"IF(C72=\"\",B68,D72)","v":"Seguros Argos"},{"$f":"IF('TDPrimas Vida'!A22=\"\",\"\",'TDPrimas Vida'!A22)","v":15},{"$f":"IF('TDPrimas Vida'!B22=\"\",\"\",'TDPrimas Vida'!B22)","v":"Seguros Argos"},{"$f":"IF('TDPrimas Vida'!C22=\"\",\"\",'TDPrimas Vida'!C22)","v":2824083.3738899999},{"$f":"IF('TDPrimas Vida'!D22=\"\",\"\",'TDPrimas Vida'!D22)","v":2440808.7034900002},{"$f":"IF('TDPrimas Vida'!C22=\"\",\"\",IFERROR((E72/VLOOKUP(\"TOTAL\",$D$12:$L$312,2,0))*100,\"\"))","v":1.2332467728614613},{"$f":"IF('TDPrimas Vida'!C22=\"\",\"\",IFERROR((E72/VLOOKUP(\"TOTAL\",$D$12:$L$312,3,0))*100,\"\"))","v":1.4219803091191952},{"$f":"IF('TDPrimas Vida'!C22=\"\",\"\",E72-F72)","v":383274.67039999971},{"$f":"IFERROR(IF('TDPrimas Vida'!C22=\"\",\"\",(E72/F72-1)*100),\"ND\")","v":15.702773832786354},{"$f":"IF(E72=\"\",\"\",IFERROR((E72/VLOOKUP(D72&\"|\"&VLOOKUP(TDPrimas!$B$4,Cat!R:T,2,0),'TD Operación'!A:D,4,0))*100,\"ND\"))","v":100},{"$f":"IF('TDPrimas Vida'!E22=\"\",\"\",'TDPrimas Vida'!E22)","v":0}]
[null,{"$f":"IF(C73=\"\",B72,D73)","v":"Seguros Argos"},null,{"$f":"IF(D72=\"\",\"\",\"1er Año\")","v":"1er Año"},{"$f":"IF(E72=\"\",\"\",(VLOOKUP(B73,'TDPrimas Vida'!$B:$N,5,0)))","v":1338268.66558},{"$f":"IF(E72=\"\",\"\",(VLOOKUP(B73,'TDPrimas Vida'!$B:$N,6,0)))","v":780011.65090999997},{"$f":"IFERROR((E73/VLOOKUP(\"TOTAL\",$D$12:$L$312,2,0))*100,\"\")","v":0.58440750308826894},{"$f":"IFERROR((E73/VLOOKUP(\"TOTAL\",$D$12:$L$312,3,0))*100,\"\")","v":0.67384401903996483},{"$f":"IF(E72=\"\",\"\",E73-F73)","v":558257.01467000006},{"$f":"IF(E72=\"\",\"\",IFERROR((E73/F73-1)*100,\"ND\"))","v":71.57034308637698},{"$f":"IF(E72=\"\",\"\",IFERROR((E73/VLOOKUP(B73&\"|\"&VLOOKUP(TDPrimas!$B$4,Cat!R:T,2,0),'TD Operación'!A:D,4,0))*100,\"ND\"))","v":47.387718009777373},{"$f":"IF(E72=\"\",\"\",(VLOOKUP(B73,'TDPrimas Vida'!$B:$N,7,0)))","v":0}]
[null,{"$f":"IF(C74=\"\",B73,D74)","v":"Seguros Argos"},null,{"$f":"IF(D73=\"\",\"\",\"Renovación\")","v":"Renovación"},{"$f":"IF(E72=\"\",\"\",(VLOOKUP(B74,'TDPrimas Vida'!$B:$N,8,0)))","v":1319175.6847399999},{"$f":"IF(E72=\"\",\"\",(VLOOKUP(B74,'TDPrimas Vida'!$B:$N,9,0)))","v":1441795.8108900001},{"$f":"IFERROR((E74/VLOOKUP(\"TOTAL\",$D$12:$L$312,2,0))*100,\"\")","v":0.57606980412975628},{"$f":"IFERROR((E74/VLOOKUP(\"TOTAL\",$D$12:$L$312,3,0))*100,\"\")","v":0.66423033587186731},{"$f":"IF(E72=\"\",\"\",E74-F74)","v":-122620.12615000014},{"$f":"IF(E72=\"\",\"\",IFERROR((E74/F74-1)*100,\"ND\"))","v":-8.5046804286599063},{"$f":"IF(E72=\"\",\"\",IFERROR((E74/VLOOKUP(B74&\"|\"&VLOOKUP(TDPrimas!$B$4,Cat!R:T,2,0),'TD Operación'!A:D,4,0))*100,\"ND\"))","v":46.711640914585224},{"$f":"IF(E72=\"\",\"\",(VLOOKUP(B74,'TDPrimas Vida'!$B:$N,10,0)))","v":0}]
[null,{"$f":"IF(C75=\"\",B74,D75)","v":"Seguros Argos"},null,{"$f":"IF(D74=\"\",\"\",\"Únicas\")","v":"Únicas"},{"$f":"IF(E73=\"\",\"\",(VLOOKUP(B75,'TDPrimas Vida'!$B:$N,11,0)))","v":166639.02357000002},{"$f":"IF(E73=\"\",\"\",(VLOOKUP(B75,'TDPrimas Vida'!$B:$N,12,0)))","v":219001.24169},{"$f":"IFERROR((E75/VLOOKUP(\"TOTAL\",$D$12:$L$312,2,0))*100,\"\")","v":7.2769465643436115E-2},{"$f":"IFERROR((E75/VLOOKUP(\"TOTAL\",$D$12:$L$312,3,0))*100,\"\")","v":8.3905954207362979E-2},{"$f":"IF(E72=\"\",\"\",E75-F75)","v":-52362.218119999976},{"$f":"IF(E72=\"\",\"\",IFERROR((E75/F75-1)*100,\"ND\"))","v":-23.909553076470491},{"$f":"IF(E72=\"\",\"\",IFERROR((E75/VLOOKUP(B75&\"|\"&VLOOKUP(TDPrimas!$B$4,Cat!R:T,2,0),'TD Operación'!A:D,4,0))*100,\"ND\"))","v":5.9006410756374059},{"$f":"IF(E72=\"\",\"\",(VLOOKUP(B75,'TDPrimas Vida'!$B:$N,13,0)))","v":0}]
[null,{"$f":"IF(C76=\"\",B72,D76)","v":"TOTAL MEDIANAS"},{"$f":"IF('TDPrimas Vida'!A23=\"\",\"\",'TDPrimas Vida'!A23)","v":15.1},{"$f":"IF('TDPrimas Vida'!B23=\"\",\"\",'TDPrimas Vida'!B23)","v":"TOTAL MEDIANAS"},{"$f":"IF('TDPrimas Vida'!C23=\"\",\"\",'TDPrimas Vida'!C23)","v":65569595.403850004},{"$f":"IF('TDPrimas Vida'!D23=\"\",\"\",'TDPrimas Vida'!D23)","v":53974858.96717},{"$f":"IF('TDPrimas Vida'!C23=\"\",\"\",IFERROR((E76/VLOOKUP(\"TOTAL\",$D$12:$L$312,2,0))*100,\"\"))","v":28.633535637528034},{"$f":"IF('TDPrimas Vida'!C23=\"\",\"\",IFERROR((E76/VLOOKUP(\"TOTAL\",$D$12:$L$312,3,0))*100,\"\"))","v":33.015552728798049},{"$f":"IF('TDPrimas Vida'!C23=\"\",\"\",E76-F76)","v":11594736.436680004},{"$f":"IFERROR(IF('TDPrimas Vida'!C23=\"\",\"\",(E76/F76-1)*100),\"ND\")","v":21.481735494172316},{"$f":"IF(E76=\"\",\"\",IFERROR((E76/VLOOKUP(D76&\"|\"&VLOOKUP(TDPrimas!$B$4,Cat!R:T,2,0),'TD Operación'!A:D,4,0))*100,\"ND\"))","v":32.63871553783671},{"$f":"IF('TDPrimas Vida'!E23=\"\",\"\",'TDPrimas Vida'!E23)","v":0}]
[null,{"$f":"IF(C77=\"\",B76,D77)","v":"TOTAL MEDIANAS"},null,{"$f":"IF(D76=\"\",\"\",\"1er Año\")","v":"1er Año"},{"$f":"IF(E76=\"\",\"\",(VLOOKUP(B77,'TDPrimas Vida'!$B:$N,5,0)))","v":32674754.921110004},{"$f":"IF(E76=\"\",\"\",(VLOOKUP(B77,'TDPrimas Vida'!$B:$N,6,0)))","v":24753859.586190004},{"$f":"IFERROR((E77/VLOOKUP(\"TOTAL\",$D$12:$L$312,2,0))*100,\"\")","v":14.26871332236653},{"$f":"IFERROR((E77/VLOOKUP(\"TOTAL\",$D$12:$L$312,3,0))*100,\"\")","v":16.452367707230341},{"$f":"IF(E76=\"\",\"\",E77-F77)","v":7920895.3349200003},{"$f":"IF(E76=\"\",\"\",IFERROR((E77/F77-1)*100,\"ND\"))","v":31.998627556807378},{"$f":"IF(E76=\"\",\"\",IFERROR((E77/VLOOKUP(B77&\"|\"&VLOOKUP(TDPrimas!$B$4,Cat!R:T,2,0),'TD Operación'!A:D,4,0))*100,\"ND\"))","v":16.264581542255801},{"$f":"IF(E76=\"\",\"\",(VLOOKUP(B77,'TDPrimas Vida'!$B:$N,7,0)))","v":0}]
[null,{"$f":"IF(C78=\"\",B77,D78)","v":"TOTAL MEDIANAS"},null,{"$f":"IF(D77=\"\",\"\",\"Renovación\")","v":"Renovación"},{"$f":"IF(E76=\"\",\"\",(VLOOKUP(B78,'TDPrimas Vida'!$B:$N,8,0)))","v":23572034.565180004},{"$f":"IF(E76=\"\",\"\",(VLOOKUP(B78,'TDPrimas Vida'!$B:$N,9,0)))","v":23403583.736899998},{"$f":"IFERROR((E78/VLOOKUP(\"TOTAL\",$D$12:$L$312,2,0))*100,\"\")","v":10.293653447364321},{"$f":"IFERROR((E78/VLOOKUP(\"TOTAL\",$D$12:$L$312,3,0))*100,\"\")","v":11.86897288779145},{"$f":"IF(E76=\"\",\"\",E78-F78)","v":168450.8282800056},{"$f":"IF(E76=\"\",\"\",IFERROR((E78/F78-1)*100,\"ND\"))","v":0.71976510167719443},{"$f":"IF(E76=\"\",\"\",IFERROR((E78/VLOOKUP(B78&\"|\"&VLOOKUP(TDPrimas!$B$4,Cat!R:T,2,0),'TD Operación'!A:D,4,0))*100,\"ND\"))","v":11.733501268116573},{"$f":"IF(E76=\"\",\"\",(VLOOKUP(B78,'TDPrimas Vida'!$B:$N,10,0)))","v":0}]
[null,{"$f":"IF(C79=\"\",B78,D79)","v":"TOTAL MEDIANAS"},null,{"$f":"IF(D78=\"\",\"\",\"Únicas\")","v":"Únicas"},{"$f":"IF(E77=\"\",\"\",(VLOOKUP(B79,'TDPrimas Vida'!$B:$N,11,0)))","v":9322805.91756},{"$f":"IF(E77=\"\",\"\",(VLOOKUP(B79,'TDPrimas Vida'!$B:$N,12,0)))","v":5817415.64408},{"$f":"IFERROR((E79/VLOOKUP(\"TOTAL\",$D$12:$L$312,2,0))*100,\"\")","v":4.0711688677971845},{"$f":"IFERROR((E79/VLOOKUP(\"TOTAL\",$D$12:$L$312,3,0))*100,\"\")","v":4.6942121337762579},{"$f":"IF(E76=\"\",\"\",E79-F79)","v":3505390.27348},{"$f":"IF(E76=\"\",\"\",IFERROR((E79/F79-1)*100,\"ND\"))","v":60.256830316864239},{"$f":"IF(E76=\"\",\"\",IFERROR((E79/VLOOKUP(B79&\"|\"&VLOOKUP(TDPrimas!$B$4,Cat!R:T,2,0),'TD Operación'!A:D,4,0))*100,\"ND\"))","v":4.6406327274643386},{"$f":"IF(E76=\"\",\"\",(VLOOKUP(B79,'TDPrimas Vida'!$B:$N,13,0)))","v":0}]
[null,{"$f":"IF(C80=\"\",B76,D80)","v":"Cardif Vida"},{"$f":"IF('TDPrimas Vida'!A24=\"\",\"\",'TDPrimas Vida'!A24)","v":16},{"$f":"IF('TDPrimas Vida'!B24=\"\",\"\",'TDPrimas Vida'!B24)","v":"Cardif Vida"},{"$f":"IF('TDPrimas Vida'!C24=\"\",\"\",'TDPrimas Vida'!C24)","v":1950834.3623800001},{"$f":"IF('TDPrimas Vida'!D24=\"\",\"\",'TDPrimas Vida'!D24)","v":2104536.2755999998},{"$f":"IF('TDPrimas Vida'!C24=\"\",\"\",IFERROR((E80/VLOOKUP(\"TOTAL\",$D$12:$L$312,2,0))*100,\"\"))","v":0.85190834096319834},{"$f":"IF('TDPrimas Vida'!C24=\"\",\"\",IFERROR((E80/VLOOKUP(\"TOTAL\",$D$12:$L$312,3,0))*100,\"\"))","v":0.98228263205855038},{"$f":"IF('TDPrimas Vida'!C24=\"\",\"\",E80-F80)","v":-153701.91321999975},{"$f":"IFERROR(IF('TDPrimas Vida'!C24=\"\",\"\",(E80/F80-1)*100),\"ND\")","v":-7.3033625032754346},{"$f":"IF(E80=\"\",\"\",IFERROR((E80/VLOOKUP(D80&\"|\"&VLOOKUP(TDPrimas!$B$4,Cat!R:T,2,0),'TD Operación'!A:D,4,0))*100,\"ND\"))","v":108.6086657864536},{"$f":"IF('TDPrimas Vida'!E24=\"\",\"\",'TDPrimas Vida'!E24)","v":0}]
[null,{"$f":"IF(C81=\"\",B80,D81)","v":"Cardif Vida"},null,{"$f":"IF(D80=\"\",\"\",\"1er Año\")","v":"1er Año"},{"$f":"IF(E80=\"\",\"\",(VLOOKUP(B81,'TDPrimas Vida'!$B:$N,5,0)))","v":17191.982459999999},{"$f":"IF(E80=\"\",\"\",(VLOOKUP(B81,'TDPrimas Vida'!$B:$N,6,0)))","v":268641.35522000003},{"$f":"IFERROR((E81/VLOOKUP(\"TOTAL\",$D$12:$L$312,2,0))*100,\"\")","v":7.5075534539483027E-3},{"$f":"IFERROR((E81/VLOOKUP(\"TOTAL\",$D$12:$L$312,3,0))*100,\"\")","v":8.6564939119232933E-3},{"$f":"IF(E80=\"\",\"\",E81-F81)","v":-251449.37276000003},{"$f":"IF(E80=\"\",\"\",IFERROR((E81/F81-1)*100,\"ND\"))","v":-93.600396169115186},{"$f":"IF(E80=\"\",\"\",IFERROR((E81/VLOOKUP(B81&\"|\"&VLOOKUP(TDPrimas!$B$4,Cat!R:T,2,0),'TD Operación'!A:D,4,0))*100,\"ND\"))","v":0.95712804388310424},{"$f":"IF(E80=\"\",\"\",(VLOOKUP(B81,'TDPrimas Vida'!$B:$N,7,0)))","v":0}]
[null,{"$f":"IF(C82=\"\",B81,D82)","v":"Cardif Vida"},null,{"$f":"IF(D81=\"\",\"\",\"Renovación\")","v":"Renovación"},{"$f":"IF(E80=\"\",\"\",(VLOOKUP(B82,'TDPrimas Vida'!$B:$N,8,0)))","v":1440545.2287500002},{"$f":"IF(E80=\"\",\"\",(VLOOKUP(B82,'TDPrimas Vida'!$B:$N,9,0)))","v":1332520.0624500001},{"$f":"IFERROR((E82/VLOOKUP(\"TOTAL\",$D$12:$L$312,2,0))*100,\"\")","v":0.62907057594047899},{"$f":"IFERROR((E82/VLOOKUP(\"TOTAL\",$D$12:$L$312,3,0))*100,\"\")","v":0.72534223621610916},{"$f":"IF(E80=\"\",\"\",E82-F82)","v":108025.16630000016},{"$f":"IF(E80=\"\",\"\",IFERROR((E82/F82-1)*100,\"ND\"))","v":8.1068322604751497},{"$f":"IF(E80=\"\",\"\",IFERROR((E82/VLOOKUP(B82&\"|\"&VLOOKUP(TDPrimas!$B$4,Cat!R:T,2,0),'TD Operación'!A:D,4,0))*100,\"ND\"))","v":80.199374337811349},{"$f":"IF(E80=\"\",\"\",(VLOOKUP(B82,'TDPrimas Vida'!$B:$N,10,0)))","v":0}]
[null,{"$f":"IF(C83=\"\",B82,D83)","v":"Cardif Vida"},null,{"$f":"IF(D82=\"\",\"\",\"Únicas\")","v":"Únicas"},{"$f":"IF(E81=\"\",\"\",(VLOOKUP(B83,'TDPrimas Vida'!$B:$N,11,0)))","v":493097.15116999997},{"$f":"IF(E81=\"\",\"\",(VLOOKUP(B83,'TDPrimas Vida'!$B:$N,12,0)))","v":503374.85793},{"$f":"IFERROR((E83/VLOOKUP(\"TOTAL\",$D$12:$L$312,2,0))*100,\"\")","v":0.21533021156877108},{"$f":"IFERROR((E83/VLOOKUP(\"TOTAL\",$D$12:$L$312,3,0))*100,\"\")","v":0.24828390193051797},{"$f":"IF(E80=\"\",\"\",E83-F83)","v":-10277.70676000003},{"$f":"IF(E80=\"\",\"\",IFERROR((E83/F83-1)*100,\"ND\"))","v":-2.0417600517960821},{"$f":"IF(E80=\"\",\"\",IFERROR((E83/VLOOKUP(B83&\"|\"&VLOOKUP(TDPrimas!$B$4,Cat!R:T,2,0),'TD Operación'!A:D,4,0))*100,\"ND\"))","v":27.452163404759165},{"$f":"IF(E80=\"\",\"\",(VLOOKUP(B83,'TDPrimas Vida'!$B:$N,13,0)))","v":0}]
[null,{"$f":"IF(C84=\"\",B80,D84)","v":"Atlas"},{"$f":"IF('TDPrimas Vida'!A25=\"\",\"\",'TDPrimas Vida'!A25)","v":17},{"$f":"IF('TDPrimas Vida'!B25=\"\",\"\",'TDPrimas Vida'!B25)","v":"Atlas"},{"$f":"IF('TDPrimas Vida'!C25=\"\",\"\",'TDPrimas Vida'!C25)","v":1807604.94814},{"$f":"IF('TDPrimas Vida'!D25=\"\",\"\",'TDPrimas Vida'!D25)","v":2208728.0853400002},{"$f":"IF('TDPrimas Vida'!C25=\"\",\"\",IFERROR((E84/VLOOKUP(\"TOTAL\",$D$12:$L$312,2,0))*100,\"\"))","v":0.78936159941745898},{"$f":"IF('TDPrimas Vida'!C25=\"\",\"\",IFERROR((E84/VLOOKUP(\"TOTAL\",$D$12:$L$312,3,0))*100,\"\"))","v":0.91016386650829162},{"$f":"IF('TDPrimas Vida'!C25=\"\",\"\",E84-F84)","v":-401123.13720000023},{"$f":"IFERROR(IF('TDPrimas Vida'!C25=\"\",\"\",(E84/F84-1)*100),\"ND\")","v":-18.160820241403929},{"$f":"IF(E84=\"\",\"\",IFERROR((E84/VLOOKUP(D84&\"|\"&VLOOKUP(TDPrimas!$B$4,Cat!R:T,2,0),'TD Operación'!A:D,4,0))*100,\"ND\"))","v":11.97415627720645},{"$f":"IF('TDPrimas Vida'!E25=\"\",\"\",'TDPrimas Vida'!E25)","v":0}]
[null,{"$f":"IF(C85=\"\",B84,D85)","v":"Atlas"},null,{"$f":"IF(D84=\"\",\"\",\"1er Año\")","v":"1er Año"},{"$f":"IF(E84=\"\",\"\",(VLOOKUP(B85,'TDPrimas Vida'!$B:$N,5,0)))","v":1207668.68454},{"$f":"IF(E84=\"\",\"\",(VLOOKUP(B85,'TDPrimas Vida'!$B:$N,6,0)))","v":1646009.5011100001},{"$f":"IFERROR((E85/VLOOKUP(\"TOTAL\",$D$12:$L$312,2,0))*100,\"\")","v":0.5273758989074423},{"$f":"IFERROR((E85/VLOOKUP(\"TOTAL\",$D$12:$L$312,3,0))*100,\"\")","v":0.60808441607384722},{"$f":"IF(E84=\"\",\"\",E85-F85)","v":-438340.81657000002},{"$f":"IF(E84=\"\",\"\",IFERROR((E85/F85-1)*100,\"ND\"))","v":-26.630515575663527},{"$f":"IF(E84=\"\",\"\",IFERROR((E85/VLOOKUP(B85&\"|\"&VLOOKUP(TDPrimas!$B$4,Cat!R:T,2,0),'TD Operación'!A:D,4,0))*100,\"ND\"))","v":7.9999856023022469},{"$f":"IF(E84=\"\",\"\",(VLOOKUP(B85,'TDPrimas Vida'!$B:$N,7,0)))","v":0}]
[null,{"$f":"IF(C86=\"\",B85,D86)","v":"Atlas"},null,{"$f":"IF(D85=\"\",\"\",\"Renovación\")","v":"Renovación"},{"$f":"IF(E84=\"\",\"\",(VLOOKUP(B86,'TDPrimas Vida'!$B:$N,8,0)))","v":519261.18193999998},{"$f":"IF(E84=\"\",\"\",(VLOOKUP(B86,'TDPrimas Vida'!$B:$N,9,0)))","v":509813.27795999998},{"$f":"IFERROR((E86/VLOOKUP(\"TOTAL\",$D$12:$L$312,2,0))*100,\"\")","v":0.22675576182358001},{"$f":"IFERROR((E86/VLOOKUP(\"TOTAL\",$D$12:$L$312,3,0))*100,\"\")","v":0.26145799477285553},{"$f":"IF(E84=\"\",\"\",E86-F86)","v":9447.9039800000028},{"$f":"IF(E84=\"\",\"\",IFERROR((E86/F86-1)*100,\"ND\"))","v":1.8532086919755164},{"$f":"IF(E84=\"\",\"\",IFERROR((E86/VLOOKUP(B86&\"|\"&VLOOKUP(TDPrimas!$B$4,Cat!R:T,2,0),'TD Operación'!A:D,4,0))*100,\"ND\"))","v":3.4397529989251425},{"$f":"IF(E84=\"\",\"\",(VLOOKUP(B86,'TDPrimas Vida'!$B:$N,10,0)))","v":0}]
[null,{"$f":"IF(C87=\"\",B86,D87)","v":"Atlas"},null,{"$f":"IF(D86=\"\",\"\",\"Únicas\")","v":"Únicas"},{"$f":"IF(E85=\"\",\"\",(VLOOKUP(B87,'TDPrimas Vida'!$B:$N,11,0)))","v":80675.081659999996},{"$f":"IF(E85=\"\",\"\",(VLOOKUP(B87,'TDPrimas Vida'!$B:$N,12,0)))","v":52905.306270000001},{"$f":"IFERROR((E87/VLOOKUP(\"TOTAL\",$D$12:$L$312,2,0))*100,\"\")","v":3.5229938686436653E-2},{"$f":"IFERROR((E87/VLOOKUP(\"TOTAL\",$D$12:$L$312,3,0))*100,\"\")","v":4.062145566158893E-2},{"$f":"IF(E84=\"\",\"\",E87-F87)","v":27769.775389999995},{"$f":"IF(E84=\"\",\"\",IFERROR((E87/F87-1)*100,\"ND\"))","v":52.489584406293986},{"$f":"IF(E84=\"\",\"\",IFERROR((E87/VLOOKUP(B87&\"|\"&VLOOKUP(TDPrimas!$B$4,Cat!R:T,2,0),'TD Operación'!A:D,4,0))*100,\"ND\"))","v":0.5344176759790622},{"$f":"IF(E84=\"\",\"\",(VLOOKUP(B87,'TDPrimas Vida'!$B:$N,13,0)))","v":0}]
[null,{"$f":"IF(C88=\"\",B84,D88)","v":"Afirme"},{"$f":"IF('TDPrimas Vida'!A26=\"\",\"\",'TDPrimas Vida'!A26)","v":18},{"$f":"IF('TDPrimas Vida'!B26=\"\",\"\",'TDPrimas Vida'!B26)","v":"Afirme"},{"$f":"IF('TDPrimas Vida'!C26=\"\",\"\",'TDPrimas Vida'!C26)","v":1727627.4647899999},{"$f":"IF('TDPrimas Vida'!D26=\"\",\"\",'TDPrimas Vida'!D26)","v":1880411.9769300001},{"$f":"IF('TDPrimas Vida'!C26=\"\",\"\",IFERROR((E88/VLOOKUP(\"TOTAL\",$D$12:$L$312,2,0))*100,\"\"))","v":0.75443629439464388},{"$f":"IF('TDPrimas Vida'!C26=\"\",\"\",IFERROR((E88/VLOOKUP(\"TOTAL\",$D$12:$L$312,3,0))*100,\"\"))","v":0.86989366501634446},{"$f":"IF('TDPrimas Vida'!C26=\"\",\"\",E88-F88)","v":-152784.51214000024},{"$f":"IFERROR(IF('TDPrimas Vida'!C26=\"\",\"\",(E88/F88-1)*100),\"ND\")","v":-8.1250552546170969},{"$f":"IF(E88=\"\",\"\",IFERROR((E88/VLOOKUP(D88&\"|\"&VLOOKUP(TDPrimas!$B$4,Cat!R:T,2,0),'TD Operación'!A:D,4,0))*100,\"ND\"))","v":30.348914873771065},{"$f":"IF('TDPrimas Vida'!E26=\"\",\"\",'TDPrimas Vida'!E26)","v":0}]
[null,{"$f":"IF(C89=\"\",B88,D89)","v":"Afirme"},null,{"$f":"IF(D88=\"\",\"\",\"1er Año\")","v":"1er Año"},{"$f":"IF(E88=\"\",\"\",(VLOOKUP(B89,'TDPrimas Vida'!$B:$N,5,0)))","v":1727627.4647900001},{"$f":"IF(E88=\"\",\"\",(VLOOKUP(B89,'TDPrimas Vida'!$B:$N,6,0)))","v":1880411.9769299999},{"$f":"IFERROR((E89/VLOOKUP(\"TOTAL\",$D$12:$L$312,2,0))*100,\"\")","v":0.75443629439464399},{"$f":"IFERROR((E89/VLOOKUP(\"TOTAL\",$D$12:$L$312,3,0))*100,\"\")","v":0.86989366501634446},{"$f":"IF(E88=\"\",\"\",E89-F89)","v":-152784.51213999977},{"$f":"IF(E88=\"\",\"\",IFERROR((E89/F89-1)*100,\"ND\"))","v":-8.1250552546170756},{"$f":"IF(E88=\"\",\"\",IFERROR((E89/VLOOKUP(B89&\"|\"&VLOOKUP(TDPrimas!$B$4,Cat!R:T,2,0),'TD Operación'!A:D,4,0))*100,\"ND\"))","v":30.348914873771072},{"$f":"IF(E88=\"\",\"\",(VLOOKUP(B89,'TDPrimas Vida'!$B:$N,7,0)))","v":0}]
[null,{"$f":"IF(C90=\"\",B89,D90)","v":"Afirme"},null,{"$f":"IF(D89=\"\",\"\",\"Renovación\")","v":"Renovación"},{"$f":"IF(E88=\"\",\"\",(VLOOKUP(B90,'TDPrimas Vida'!$B:$N,8,0)))","v":0},{"$f":"IF(E88=\"\",\"\",(VLOOKUP(B90,'TDPrimas Vida'!$B:$N,9,0)))","v":0},{"$f":"IFERROR((E90/VLOOKUP(\"TOTAL\",$D$12:$L$312,2,0))*100,\"\")","v":0},{"$f":"IFERROR((E90/VLOOKUP(\"TOTAL\",$D$12:$L$312,3,0))*100,\"\")","v":0},{"$f":"IF(E88=\"\",\"\",E90-F90)","v":0},{"$f":"IF(E88=\"\",\"\",IFERROR((E90/F90-1)*100,\"ND\"))","v":"ND"},{"$f":"IF(E88=\"\",\"\",IFERROR((E90/VLOOKUP(B90&\"|\"&VLOOKUP(TDPrimas!$B$4,Cat!R:T,2,0),'TD Operación'!A:D,4,0))*100,\"ND\"))","v":0},{"$f":"IF(E88=\"\",\"\",(VLOOKUP(B90,'TDPrimas Vida'!$B:$N,10,0)))","v":0}]
[null,{"$f":"IF(C91=\"\",B90,D91)","v":"Afirme"},null,{"$f":"IF(D90=\"\",\"\",\"Únicas\")","v":"Únicas"},{"$f":"IF(E89=\"\",\"\",(VLOOKUP(B91,'TDPrimas Vida'!$B:$N,11,0)))","v":0},{"$f":"IF(E89=\"\",\"\",(VLOOKUP(B91,'TDPrimas Vida'!$B:$N,12,0)))","v":0},{"$f":"IFERROR((E91/VLOOKUP(\"TOTAL\",$D$12:$L$312,2,0))*100,\"\")","v":0},{"$f":"IFERROR((E91/VLOOKUP(\"TOTAL\",$D$12:$L$312,3,0))*100,\"\")","v":0},{"$f":"IF(E88=\"\",\"\",E91-F91)","v":0},{"$f":"IF(E88=\"\",\"\",IFERROR((E91/F91-1)*100,\"ND\"))","v":"ND"},{"$f":"IF(E88=\"\",\"\",IFERROR((E91/VLOOKUP(B91&\"|\"&VLOOKUP(TDPrimas!$B$4,Cat!R:T,2,0),'TD Operación'!A:D,4,0))*100,\"ND\"))","v":0},{"$f":"IF(E88=\"\",\"\",(VLOOKUP(B91,'TDPrimas Vida'!$B:$N,13,0)))","v":0}]
[null,{"$f":"IF(C92=\"\",B88,D92)","v":"Prudential"},{"$f":"IF('TDPrimas Vida'!A27=\"\",\"\",'TDPrimas Vida'!A27)","v":19},{"$f":"IF('TDPrimas Vida'!B27=\"\",\"\",'TDPrimas Vida'!B27)","v":"Prudential"},{"$f":"IF('TDPrimas Vida'!C27=\"\",\"\",'TDPrimas Vida'!C27)","v":1351465.83501},{"$f":"IF('TDPrimas Vida'!D27=\"\",\"\",'TDPrimas Vida'!D27)","v":1131408.3401899999},{"$f":"IF('TDPrimas Vida'!C27=\"\",\"\",IFERROR((E92/VLOOKUP(\"TOTAL\",$D$12:$L$312,2,0))*100,\"\"))","v":0.59017056474605389},{"$f":"IF('TDPrimas Vida'!C27=\"\",\"\",IFERROR((E92/VLOOKUP(\"TOTAL\",$D$12:$L$312,3,0))*100,\"\"))","v":0.68048904773815111},{"$f":"IF('TDPrimas Vida'!C27=\"\",\"\",E92-F92)","v":220057.49482000014},{"$f":"IFERROR(IF('TDPrimas Vida'!C27=\"\",\"\",(E92/F92-1)*100),\"ND\")","v":19.449873843341603},{"$f":"IF(E92=\"\",\"\",IFERROR((E92/VLOOKUP(D92&\"|\"&VLOOKUP(TDPrimas!$B$4,Cat!R:T,2,0),'TD Operación'!A:D,4,0))*100,\"ND\"))","v":100},{"$f":"IF('TDPrimas Vida'!E27=\"\",\"\",'TDPrimas Vida'!E27)","v":0}]
[null,{"$f":"IF(C93=\"\",B92,D93)","v":"Prudential"},null,{"$f":"IF(D92=\"\",\"\",\"1er Año\")","v":"1er Año"},{"$f":"IF(E92=\"\",\"\",(VLOOKUP(B93,'TDPrimas Vida'!$B:$N,5,0)))","v":380060.03561000002},{"$f":"IF(E92=\"\",\"\",(VLOOKUP(B93,'TDPrimas Vida'!$B:$N,6,0)))","v":405909.38290999999},{"$f":"IFERROR((E93/VLOOKUP(\"TOTAL\",$D$12:$L$312,2,0))*100,\"\")","v":0.16596812145954057},{"$f":"IFERROR((E93/VLOOKUP(\"TOTAL\",$D$12:$L$312,3,0))*100,\"\")","v":0.19136753961202654},{"$f":"IF(E92=\"\",\"\",E93-F93)","v":-25849.347299999965},{"$f":"IF(E92=\"\",\"\",IFERROR((E93/F93-1)*100,\"ND\"))","v":-6.3682556719146799},{"$f":"IF(E92=\"\",\"\",IFERROR((E93/VLOOKUP(B93&\"|\"&VLOOKUP(TDPrimas!$B$4,Cat!R:T,2,0),'TD Operación'!A:D,4,0))*100,\"ND\"))","v":28.122060193048672},{"$f":"IF(E92=\"\",\"\",(VLOOKUP(B93,'TDPrimas Vida'!$B:$N,7,0)))","v":0}]
[null,{"$f":"IF(C94=\"\",B93,D94)","v":"Prudential"},null,{"$f":"IF(D93=\"\",\"\",\"Renovación\")","v":"Renovación"},{"$f":"IF(E92=\"\",\"\",(VLOOKUP(B94,'TDPrimas Vida'!$B:$N,8,0)))","v":957224.33007999999},{"$f":"IF(E92=\"\",\"\",(VLOOKUP(B94,'TDPrimas Vida'!$B:$N,9,0)))","v":702765.73303},{"$f":"IFERROR((E94/VLOOKUP(\"TOTAL\",$D$12:$L$312,2,0))*100,\"\")","v":0.41800954847504274},{"$f":"IFERROR((E94/VLOOKUP(\"TOTAL\",$D$12:$L$312,3,0))*100,\"\")","v":0.48198086549713559},{"$f":"IF(E92=\"\",\"\",E94-F94)","v":254458.59704999998},{"$f":"IF(E92=\"\",\"\",IFERROR((E94/F94-1)*100,\"ND\"))","v":36.208167969842876},{"$f":"IF(E92=\"\",\"\",IFERROR((E94/VLOOKUP(B94&\"|\"&VLOOKUP(TDPrimas!$B$4,Cat!R:T,2,0),'TD Operación'!A:D,4,0))*100,\"ND\"))","v":70.828599975146034},{"$f":"IF(E92=\"\",\"\",(VLOOKUP(B94,'TDPrimas Vida'!$B:$N,10,0)))","v":0}]
[null,{"$f":"IF(C95=\"\",B94,D95)","v":"Prudential"},null,{"$f":"IF(D94=\"\",\"\",\"Únicas\")","v":"Únicas"},{"$f":"IF(E93=\"\",\"\",(VLOOKUP(B95,'TDPrimas Vida'!$B:$N,11,0)))","v":14181.46932},{"$f":"IF(E93=\"\",\"\",(VLOOKUP(B95,'TDPrimas Vida'!$B:$N,12,0)))","v":22733.224249999999},{"$f":"IFERROR((E95/VLOOKUP(\"TOTAL\",$D$12:$L$312,2,0))*100,\"\")","v":6.192894811470619E-3},{"$f":"IFERROR((E95/VLOOKUP(\"TOTAL\",$D$12:$L$312,3,0))*100,\"\")","v":7.1406426289889894E-3},{"$f":"IF(E92=\"\",\"\",E95-F95)","v":-8551.7549299999991},{"$f":"IF(E92=\"\",\"\",IFERROR((E95/F95-1)*100,\"ND\"))","v":-37.617870813023799},{"$f":"IF(E92=\"\",\"\",IFERROR((E95/VLOOKUP(B95&\"|\"&VLOOKUP(TDPrimas!$B$4,Cat!R:T,2,0),'TD Operación'!A:D,4,0))*100,\"ND\"))","v":1.049339831805298},{"$f":"IF(E92=\"\",\"\",(VLOOKUP(B95,'TDPrimas Vida'!$B:$N,13,0)))","v":0}]
[null,{"$f":"IF(C96=\"\",B92,D96)","v":"Insignia Life"},{"$f":"IF('TDPrimas Vida'!A28=\"\",\"\",'TDPrimas Vida'!A28)","v":20},{"$f":"IF('TDPrimas Vida'!B28=\"\",\"\",'TDPrimas Vida'!B28)","v":"Insignia Life"},{"$f":"IF('TDPrimas Vida'!C28=\"\",\"\",'TDPrimas Vida'!C28)","v":1239121.6834200001},{"$f":"IF('TDPrimas Vida'!D28=\"\",\"\",'TDPrimas Vida'!D28)","v":1114612.1788999999},{"$f":"IF('TDPrimas Vida'!C28=\"\",\"\",IFERROR((E96/VLOOKUP(\"TOTAL\",$D$12:$L$312,2,0))*100,\"\"))","v":0.54111108453411361},{"$f":"IF('TDPrimas Vida'!C28=\"\",\"\",IFERROR((E96/VLOOKUP(\"TOTAL\",$D$12:$L$312,3,0))*100,\"\"))","v":0.62392160610995495},{"$f":"IF('TDPrimas Vida'!C28=\"\",\"\",E96-F96)","v":124509.50452000019},{"$f":"IFERROR(IF('TDPrimas Vida'!C28=\"\",\"\",(E96/F96-1)*100),\"ND\")","v":11.170657101816106},{"$f":"IF(E96=\"\",\"\",IFERROR((E96/VLOOKUP(D96&\"|\"&VLOOKUP(TDPrimas!$B$4,Cat!R:T,2,0),'TD Operación'!A:D,4,0))*100,\"ND\"))","v":100},{"$f":"IF('TDPrimas Vida'!E28=\"\",\"\",'TDPrimas Vida'!E28)","v":0}]
[null,{"$f":"IF(C97=\"\",B96,D97)","v":"Insignia Life"},null,{"$f":"IF(D96=\"\",\"\",\"1er Año\")","v":"1er Año"},{"$f":"IF(E96=\"\",\"\",(VLOOKUP(B97,'TDPrimas Vida'!$B:$N,5,0)))","v":428336.97091999999},{"$f":"IF(E96=\"\",\"\",(VLOOKUP(B97,'TDPrimas Vida'!$B:$N,6,0)))","v":343327.14463999995},{"$f":"IFERROR((E97/VLOOKUP(\"TOTAL\",$D$12:$L$312,2,0))*100,\"\")","v":0.18705013880546967},{"$f":"IFERROR((E97/VLOOKUP(\"TOTAL\",$D$12:$L$312,3,0))*100,\"\")","v":0.21567590530339834},{"$f":"IF(E96=\"\",\"\",E97-F97)","v":85009.826280000038},{"$f":"IF(E96=\"\",\"\",IFERROR((E97/F97-1)*100,\"ND\"))","v":24.760589894264882},{"$f":"IF(E96=\"\",\"\",IFERROR((E97/VLOOKUP(B97&\"|\"&VLOOKUP(TDPrimas!$B$4,Cat!R:T,2,0),'TD Operación'!A:D,4,0))*100,\"ND\"))","v":34.567789156734115},{"$f":"IF(E96=\"\",\"\",(VLOOKUP(B97,'TDPrimas Vida'!$B:$N,7,0)))","v":0}]
[null,{"$f":"IF(C98=\"\",B97,D98)","v":"Insignia Life"},null,{"$f":"IF(D97=\"\",\"\",\"Renovación\")","v":"Renovación"},{"$f":"IF(E96=\"\",\"\",(VLOOKUP(B98,'TDPrimas Vida'!$B:$N,8,0)))","v":813430.74625000008},{"$f":"IF(E96=\"\",\"\",(VLOOKUP(B98,'TDPrimas Vida'!$B:$N,9,0)))","v":773380.92376999999},{"$f":"IFERROR((E98/VLOOKUP(\"TOTAL\",$D$12:$L$312,2,0))*100,\"\")","v":0.35521644014967974},{"$f":"IFERROR((E98/VLOOKUP(\"TOTAL\",$D$12:$L$312,3,0))*100,\"\")","v":0.40957802970468754},{"$f":"IF(E96=\"\",\"\",E98-F98)","v":40049.82248000009},{"$f":"IF(E96=\"\",\"\",IFERROR((E98/F98-1)*100,\"ND\"))","v":5.1785376712899955},{"$f":"IF(E96=\"\",\"\",IFERROR((E98/VLOOKUP(B98&\"|\"&VLOOKUP(TDPrimas!$B$4,Cat!R:T,2,0),'TD Operación'!A:D,4,0))*100,\"ND\"))","v":65.64575191718987},{"$f":"IF(E96=\"\",\"\",(VLOOKUP(B98,'TDPrimas Vida'!$B:$N,10,0)))","v":0}]
[null,{"$f":"IF(C99=\"\",B98,D99)","v":"Insignia Life"},null,{"$f":"IF(D98=\"\",\"\",\"Únicas\")","v":"Únicas"},{"$f":"IF(E97=\"\",\"\",(VLOOKUP(B99,'TDPrimas Vida'!$B:$N,11,0)))","v":-2646.0337500000001},{"$f":"IF(E97=\"\",\"\",(VLOOKUP(B99,'TDPrimas Vida'!$B:$N,12,0)))","v":-2095.88951},{"$f":"IFERROR((E99/VLOOKUP(\"TOTAL\",$D$12:$L$312,2,0))*100,\"\")","v":-1.1554944210358555E-3},{"$f":"IFERROR((E99/VLOOKUP(\"TOTAL\",$D$12:$L$312,3,0))*100,\"\")","v":-1.3323288981309585E-3},{"$f":"IF(E96=\"\",\"\",E99-F99)","v":-550.14424000000008},{"$f":"IF(E96=\"\",\"\",IFERROR((E99/F99-1)*100,\"ND\"))","v":26.24872338809503},{"$f":"IF(E96=\"\",\"\",IFERROR((E99/VLOOKUP(B99&\"|\"&VLOOKUP(TDPrimas!$B$4,Cat!R:T,2,0),'TD Operación'!A:D,4,0))*100,\"ND\"))","v":-0.21354107392398258},{"$f":"IF(E96=\"\",\"\",(VLOOKUP(B99,'TDPrimas Vida'!$B:$N,13,0)))","v":0}]
[null,{"$f":"IF(C100=\"\",B96,D100)","v":"Seguros SURA"},{"$f":"IF('TDPrimas Vida'!A29=\"\",\"\",'TDPrimas Vida'!A29)","v":21},{"$f":"IF('TDPrimas Vida'!B29=\"\",\"\",'TDPrimas Vida'!B29)","v":"Seguros SURA"},{"$f":"IF('TDPrimas Vida'!C29=\"\",\"\",'TDPrimas Vida'!C29)","v":995730.03105999995},{"$f":"IF('TDPrimas Vida'!D29=\"\",\"\",'TDPrimas Vida'!D29)","v":1418532.2284900001},{"$f":"IF('TDPrimas Vida'!C29=\"\",\"\",IFERROR((E100/VLOOKUP(\"TOTAL\",$D$12:$L$312,2,0))*100,\"\"))","v":0.43482457309839256},{"$f":"IF('TDPrimas Vida'!C29=\"\",\"\",IFERROR((E100/VLOOKUP(\"TOTAL\",$D$12:$L$312,3,0))*100,\"\"))","v":0.5013692267220986},{"$f":"IF('TDPrimas Vida'!C29=\"\",\"\",E100-F100)","v":-422802.19743000017},{"$f":"IFERROR(IF('TDPrimas Vida'!C29=\"\",\"\",(E100/F100-1)*100),\"ND\")","v":-29.805610964515406},{"$f":"IF(E100=\"\",\"\",IFERROR((E100/VLOOKUP(D100&\"|\"&VLOOKUP(TDPrimas!$B$4,Cat!R:T,2,0),'TD Operación'!A:D,4,0))*100,\"ND\"))","v":23.120015004700683},{"$f":"IF('TDPrimas Vida'!E29=\"\",\"\",'TDPrimas Vida'!E29)","v":0}]
[null,{"$f":"IF(C101=\"\",B100,D101)","v":"Seguros SURA"},null,{"$f":"IF(D100=\"\",\"\",\"1er Año\")","v":"1er Año"},{"$f":"IF(E100=\"\",\"\",(VLOOKUP(B101,'TDPrimas Vida'!$B:$N,5,0)))","v":753065.772},{"$f":"IF(E100=\"\",\"\",(VLOOKUP(B101,'TDPrimas Vida'!$B:$N,6,0)))","v":1222694.7059299999},{"$f":"IFERROR((E101/VLOOKUP(\"TOTAL\",$D$12:$L$312,2,0))*100,\"\")","v":0.32885570647731138},{"$f":"IFERROR((E101/VLOOKUP(\"TOTAL\",$D$12:$L$312,3,0))*100,\"\")","v":0.37918310385455195},{"$f":"IF(E100=\"\",\"\",E101-F101)","v":-469628.93392999994},{"$f":"IF(E100=\"\",\"\",IFERROR((E101/F101-1)*100,\"ND\"))","v":-38.409337314730017},{"$f":"IF(E100=\"\",\"\",IFERROR((E101/VLOOKUP(B101&\"|\"&VLOOKUP(TDPrimas!$B$4,Cat!R:T,2,0),'TD Operación'!A:D,4,0))*100,\"ND\"))","v":17.485554723735529},{"$f":"IF(E100=\"\",\"\",(VLOOKUP(B101,'TDPrimas Vida'!$B:$N,7,0)))","v":0}]
[null,{"$f":"IF(C102=\"\",B101,D102)","v":"Seguros SURA"},null,{"$f":"IF(D101=\"\",\"\",\"Renovación\")","v":"Renovación"},{"$f":"IF(E100=\"\",\"\",(VLOOKUP(B102,'TDPrimas Vida'!$B:$N,8,0)))","v":241811.90278},{"$f":"IF(E100=\"\",\"\",(VLOOKUP(B102,'TDPrimas Vida'!$B:$N,9,0)))","v":194558.44778999998},{"$f":"IFERROR((E102/VLOOKUP(\"TOTAL\",$D$12:$L$312,2,0))*100,\"\")","v":0.10559665181986233},{"$f":"IFERROR((E102/VLOOKUP(\"TOTAL\",$D$12:$L$312,3,0))*100,\"\")","v":0.12175694508274046},{"$f":"IF(E100=\"\",\"\",E102-F102)","v":47253.454990000027},{"$f":"IF(E100=\"\",\"\",IFERROR((E102/F102-1)*100,\"ND\"))","v":24.287536998138393},{"$f":"IF(E100=\"\",\"\",IFERROR((E102/VLOOKUP(B102&\"|\"&VLOOKUP(TDPrimas!$B$4,Cat!R:T,2,0),'TD Operación'!A:D,4,0))*100,\"ND\"))","v":5.6146692840400467},{"$f":"IF(E100=\"\",\"\",(VLOOKUP(B102,'TDPrimas Vida'!$B:$N,10,0)))","v":0}]
[null,{"$f":"IF(C103=\"\",B102,D103)","v":"Seguros SURA"},null,{"$f":"IF(D102=\"\",\"\",\"Únicas\")","v":"Únicas"},{"$f":"IF(E101=\"\",\"\",(VLOOKUP(B103,'TDPrimas Vida'!$B:$N,11,0)))","v":852.35628000000008},{"$f":"IF(E101=\"\",\"\",(VLOOKUP(B103,'TDPrimas Vida'!$B:$N,12,0)))","v":1279.0747699999999},{"$f":"IFERROR((E103/VLOOKUP(\"TOTAL\",$D$12:$L$312,2,0))*100,\"\")","v":3.7221480121894725E-4},{"$f":"IFERROR((E103/VLOOKUP(\"TOTAL\",$D$12:$L$312,3,0))*100,\"\")","v":4.2917778480618498E-4},{"$f":"IF(E100=\"\",\"\",E103-F103)","v":-426.71848999999986},{"$f":"IF(E100=\"\",\"\",IFERROR((E103/F103-1)*100,\"ND\"))","v":-33.361496920152675},{"$f":"IF(E100=\"\",\"\",IFERROR((E103/VLOOKUP(B103&\"|\"&VLOOKUP(TDPrimas!$B$4,Cat!R:T,2,0),'TD Operación'!A:D,4,0))*100,\"ND\"))","v":1.9790996925112728E-2},{"$f":"IF(E100=\"\",\"\",(VLOOKUP(B103,'TDPrimas Vida'!$B:$N,13,0)))","v":0}]
[null,{"$f":"IF(C104=\"\",B100,D104)","v":"Chubb Seguros México"},{"$f":"IF('TDPrimas Vida'!A30=\"\",\"\",'TDPrimas Vida'!A30)","v":22},{"$f":"IF('TDPrimas Vida'!B30=\"\",\"\",'TDPrimas Vida'!B30)","v":"Chubb Seguros México"},{"$f":"IF('TDPrimas Vida'!C30=\"\",\"\",'TDPrimas Vida'!C30)","v":813211.66997000005},{"$f":"IF('TDPrimas Vida'!D30=\"\",\"\",'TDPrimas Vida'!D30)","v":756970.14388999995},{"$f":"IF('TDPrimas Vida'!C30=\"\",\"\",IFERROR((E104/VLOOKUP(\"TOTAL\",$D$12:$L$312,2,0))*100,\"\"))","v":0.35512077189929503},{"$f":"IF('TDPrimas Vida'!C30=\"\",\"\",IFERROR((E104/VLOOKUP(\"TOTAL\",$D$12:$L$312,3,0))*100,\"\"))","v":0.40946772058306768},{"$f":"IF('TDPrimas Vida'!C30=\"\",\"\",E104-F104)","v":56241.526080000098},{"$f":"IFERROR(IF('TDPrimas Vida'!C30=\"\",\"\",(E104/F104-1)*100),\"ND\")","v":7.4298209161830497},{"$f":"IF(E104=\"\",\"\",IFERROR((E104/VLOOKUP(D104&\"|\"&VLOOKUP(TDPrimas!$B$4,Cat!R:T,2,0),'TD Operación'!A:D,4,0))*100,\"ND\"))","v":4.58900814902454},{"$f":"IF('TDPrimas Vida'!E30=\"\",\"\",'TDPrimas Vida'!E30)","v":0}]
[null,{"$f":"IF(C105=\"\",B104,D105)","v":"Chubb Seguros México"},null,{"$f":"IF(D104=\"\",\"\",\"1er Año\")","v":"1er Año"},{"$f":"IF(E104=\"\",\"\",(VLOOKUP(B105,'TDPrimas Vida'!$B:$N,5,0)))","v":813211.66996999993},{"$f":"IF(E104=\"\",\"\",(VLOOKUP(B105,'TDPrimas Vida'!$B:$N,6,0)))","v":756970.14388999995},{"$f":"IFERROR((E105/VLOOKUP(\"TOTAL\",$D$12:$L$312,2,0))*100,\"\")","v":0.35512077189929503},{"$f":"IFERROR((E105/VLOOKUP(\"TOTAL\",$D$12:$L$312,3,0))*100,\"\")","v":0.40946772058306757},{"$f":"IF(E104=\"\",\"\",E105-F105)","v":56241.526079999981},{"$f":"IF(E104=\"\",\"\",IFERROR((E105/F105-1)*100,\"ND\"))","v":7.4298209161830275},{"$f":"IF(E104=\"\",\"\",IFERROR((E105/VLOOKUP(B105&\"|\"&VLOOKUP(TDPrimas!$B$4,Cat!R:T,2,0),'TD Operación'!A:D,4,0))*100,\"ND\"))","v":4.5890081490245391},{"$f":"IF(E104=\"\",\"\",(VLOOKUP(B105,'TDPrimas Vida'!$B:$N,7,0)))","v":0}]
[null,{"$f":"IF(C106=\"\",B105,D106)","v":"Chubb Seguros México"},null,{"$f":"IF(D105=\"\",\"\",\"Renovación\")","v":"Renovación"},{"$f":"IF(E104=\"\",\"\",(VLOOKUP(B106,'TDPrimas Vida'!$B:$N,8,0)))","v":0},{"$f":"IF(E104=\"\",\"\",(VLOOKUP(B106,'TDPrimas Vida'!$B:$N,9,0)))","v":0},{"$f":"IFERROR((E106/VLOOKUP(\"TOTAL\",$D$12:$L$312,2,0))*100,\"\")","v":0},{"$f":"IFERROR((E106/VLOOKUP(\"TOTAL\",$D$12:$L$312,3,0))*100,\"\")","v":0},{"$f":"IF(E104=\"\",\"\",E106-F106)","v":0},{"$f":"IF(E104=\"\",\"\",IFERROR((E106/F106-1)*100,\"ND\"))","v":"ND"},{"$f":"IF(E104=\"\",\"\",IFERROR((E106/VLOOKUP(B106&\"|\"&VLOOKUP(TDPrimas!$B$4,Cat!R:T,2,0),'TD Operación'!A:D,4,0))*100,\"ND\"))","v":0},{"$f":"IF(E104=\"\",\"\",(VLOOKUP(B106,'TDPrimas Vida'!$B:$N,10,0)))","v":0}]
[null,{"$f":"IF(C107=\"\",B106,D107)","v":"Chubb Seguros México"},null,{"$f":"IF(D106=\"\",\"\",\"Únicas\")","v":"Únicas"},{"$f":"IF(E105=\"\",\"\",(VLOOKUP(B107,'TDPrimas Vida'!$B:$N,11,0)))","v":0},{"$f":"IF(E105=\"\",\"\",(VLOOKUP(B107,'TDPrimas Vida'!$B:$N,12,0)))","v":0},{"$f":"IFERROR((E107/VLOOKUP(\"TOTAL\",$D$12:$L$312,2,0))*100,\"\")","v":0},{"$f":"IFERROR((E107/VLOOKUP(\"TOTAL\",$D$12:$L$312,3,0))*100,\"\")","v":0},{"$f":"IF(E104=\"\",\"\",E107-F107)","v":0},{"$f":"IF(E104=\"\",\"\",IFERROR((E107/F107-1)*100,\"ND\"))","v":"ND"},{"$f":"IF(E104=\"\",\"\",IFERROR((E107/VLOOKUP(B107&\"|\"&VLOOKUP(TDPrimas!$B$4,Cat!R:T,2,0),'TD Operación'!A:D,4,0))*100,\"ND\"))","v":0},{"$f":"IF(E104=\"\",\"\",(VLOOKUP(B107,'TDPrimas Vida'!$B:$N,13,0)))","v":0}]
[null,{"$f":"IF(C108=\"\",B104,D108)","v":"Assurant Vida"},{"$f":"IF('TDPrimas Vida'!A31=\"\",\"\",'TDPrimas Vida'!A31)","v":23},{"$f":"IF('TDPrimas Vida'!B31=\"\",\"\",'TDPrimas Vida'!B31)","v":"Assurant Vida"},{"$f":"IF('TDPrimas Vida'!C31=\"\",\"\",'TDPrimas Vida'!C31)","v":598107.31757000007},{"$f":"IF('TDPrimas Vida'!D31=\"\",\"\",'TDPrimas Vida'!D31)","v":970628.45606999996},{"$f":"IF('TDPrimas Vida'!C31=\"\",\"\",IFERROR((E108/VLOOKUP(\"TOTAL\",$D$12:$L$312,2,0))*100,\"\"))","v":0.26118701949015416},{"$f":"IF('TDPrimas Vida'!C31=\"\",\"\",IFERROR((E108/VLOOKUP(\"TOTAL\",$D$12:$L$312,3,0))*100,\"\"))","v":0.30115854092265504},{"$f":"IF('TDPrimas Vida'!C31=\"\",\"\",E108-F108)","v":-372521.13849999988},{"$f":"IFERROR(IF('TDPrimas Vida'!C31=\"\",\"\",(E108/F108-1)*100),\"ND\")","v":-38.379375359373803},{"$f":"IF(E108=\"\",\"\",IFERROR((E108/VLOOKUP(D108&\"|\"&VLOOKUP(TDPrimas!$B$4,Cat!R:T,2,0),'TD Operación'!A:D,4,0))*100,\"ND\"))","v":100},{"$f":"IF('TDPrimas Vida'!E31=\"\",\"\",'TDPrimas Vida'!E31)","v":0}]
[null,{"$f":"IF(C109=\"\",B108,D109)","v":"Assurant Vida"},null,{"$f":"IF(D108=\"\",\"\",\"1er Año\")","v":"1er Año"},{"$f":"IF(E108=\"\",\"\",(VLOOKUP(B109,'TDPrimas Vida'!$B:$N,5,0)))","v":590521.6749199999},{"$f":"IF(E108=\"\",\"\",(VLOOKUP(B109,'TDPrimas Vida'!$B:$N,6,0)))","v":962132.0209},{"$f":"IFERROR((E109/VLOOKUP(\"TOTAL\",$D$12:$L$312,2,0))*100,\"\")","v":0.25787445109904927},{"$f":"IFERROR((E109/VLOOKUP(\"TOTAL\",$D$12:$L$312,3,0))*100,\"\")","v":0.29733902391404171},{"$f":"IF(E108=\"\",\"\",E109-F109)","v":-371610.3459800001},{"$f":"IF(E108=\"\",\"\",IFERROR((E109/F109-1)*100,\"ND\"))","v":-38.623633545881511},{"$f":"IF(E108=\"\",\"\",IFERROR((E109/VLOOKUP(B109&\"|\"&VLOOKUP(TDPrimas!$B$4,Cat!R:T,2,0),'TD Operación'!A:D,4,0))*100,\"ND\"))","v":98.731725490198102},{"$f":"IF(E108=\"\",\"\",(VLOOKUP(B109,'TDPrimas Vida'!$B:$N,7,0)))","v":0}]
[null,{"$f":"IF(C110=\"\",B109,D110)","v":"Assurant Vida"},null,{"$f":"IF(D109=\"\",\"\",\"Renovación\")","v":"Renovación"},{"$f":"IF(E108=\"\",\"\",(VLOOKUP(B110,'TDPrimas Vida'!$B:$N,8,0)))","v":7585.6426500000007},{"$f":"IF(E108=\"\",\"\",(VLOOKUP(B110,'TDPrimas Vida'!$B:$N,9,0)))","v":8496.4351700000007},{"$f":"IFERROR((E110/VLOOKUP(\"TOTAL\",$D$12:$L$312,2,0))*100,\"\")","v":3.3125683911048535E-3},{"$f":"IFERROR((E110/VLOOKUP(\"TOTAL\",$D$12:$L$312,3,0))*100,\"\")","v":3.8195170086132513E-3},{"$f":"IF(E108=\"\",\"\",E110-F110)","v":-910.79251999999997},{"$f":"IF(E108=\"\",\"\",IFERROR((E110/F110-1)*100,\"ND\"))","v":-10.719701872332422},{"$f":"IF(E108=\"\",\"\",IFERROR((E110/VLOOKUP(B110&\"|\"&VLOOKUP(TDPrimas!$B$4,Cat!R:T,2,0),'TD Operación'!A:D,4,0))*100,\"ND\"))","v":1.2682745098018648},{"$f":"IF(E108=\"\",\"\",(VLOOKUP(B110,'TDPrimas Vida'!$B:$N,10,0)))","v":0}]
[null,{"$f":"IF(C111=\"\",B110,D111)","v":"Assurant Vida"},null,{"$f":"IF(D110=\"\",\"\",\"Únicas\")","v":"Únicas"},{"$f":"IF(E109=\"\",\"\",(VLOOKUP(B111,'TDPrimas Vida'!$B:$N,11,0)))","v":0},{"$f":"IF(E109=\"\",\"\",(VLOOKUP(B111,'TDPrimas Vida'!$B:$N,12,0)))","v":0},{"$f":"IFERROR((E111/VLOOKUP(\"TOTAL\",$D$12:$L$312,2,0))*100,\"\")","v":0},{"$f":"IFERROR((E111/VLOOKUP(\"TOTAL\",$D$12:$L$312,3,0))*100,\"\")","v":0},{"$f":"IF(E108=\"\",\"\",E111-F111)","v":0},{"$f":"IF(E108=\"\",\"\",IFERROR((E111/F111-1)*100,\"ND\"))","v":"ND"},{"$f":"IF(E108=\"\",\"\",IFERROR((E111/VLOOKUP(B111&\"|\"&VLOOKUP(TDPrimas!$B$4,Cat!R:T,2,0),'TD Operación'!A:D,4,0))*100,\"ND\"))","v":0},{"$f":"IF(E108=\"\",\"\",(VLOOKUP(B111,'TDPrimas Vida'!$B:$N,13,0)))","v":0}]
[null,{"$f":"IF(C112=\"\",B108,D112)","v":"Zurich Aseguradora Mexicana"},{"$f":"IF('TDPrimas Vida'!A32=\"\",\"\",'TDPrimas Vida'!A32)","v":24},{"$f":"IF('TDPrimas Vida'!B32=\"\",\"\",'TDPrimas Vida'!B32)","v":"Zurich Aseguradora Mexicana"},{"$f":"IF('TDPrimas Vida'!C32=\"\",\"\",'TDPrimas Vida'!C32)","v":559315.22601999994},{"$f":"IF('TDPrimas Vida'!D32=\"\",\"\",'TDPrimas Vida'!D32)","v":321987.75565000001},{"$f":"IF('TDPrimas Vida'!C32=\"\",\"\",IFERROR((E112/VLOOKUP(\"TOTAL\",$D$12:$L$312,2,0))*100,\"\"))","v":0.2442469311914553},{"$f":"IF('TDPrimas Vida'!C32=\"\",\"\",IFERROR((E112/VLOOKUP(\"TOTAL\",$D$12:$L$312,3,0))*100,\"\"))","v":0.28162597653604926},{"$f":"IF('TDPrimas Vida'!C32=\"\",\"\",E112-F112)","v":237327.47036999994},{"$f":"IFERROR(IF('TDPrimas Vida'!C32=\"\",\"\",(E112/F112-1)*100),\"ND\")","v":73.706986121538847},{"$f":"IF(E112=\"\",\"\",IFERROR((E112/VLOOKUP(D112&\"|\"&VLOOKUP(TDPrimas!$B$4,Cat!R:T,2,0),'TD Operación'!A:D,4,0))*100,\"ND\"))","v":6.5540562806039784},{"$f":"IF('TDPrimas Vida'!E32=\"\",\"\",'TDPrimas Vida'!E32)","v":0}]
[null,{"$f":"IF(C113=\"\",B112,D113)","v":"Zurich Aseguradora Mexicana"},null,{"$f":"IF(D112=\"\",\"\",\"1er Año\")","v":"1er Año"},{"$f":"IF(E112=\"\",\"\",(VLOOKUP(B113,'TDPrimas Vida'!$B:$N,5,0)))","v":226701.4988},{"$f":"IF(E112=\"\",\"\",(VLOOKUP(B113,'TDPrimas Vida'!$B:$N,6,0)))","v":173074.83564},{"$f":"IFERROR((E113/VLOOKUP(\"TOTAL\",$D$12:$L$312,2,0))*100,\"\")","v":9.8998101253949117E-2},{"$f":"IFERROR((E113/VLOOKUP(\"TOTAL\",$D$12:$L$312,3,0))*100,\"\")","v":0.11414856598138282},{"$f":"IF(E112=\"\",\"\",E113-F113)","v":53626.663159999996},{"$f":"IF(E112=\"\",\"\",IFERROR((E113/F113-1)*100,\"ND\"))","v":30.984667968453138},{"$f":"IF(E112=\"\",\"\",IFERROR((E113/VLOOKUP(B113&\"|\"&VLOOKUP(TDPrimas!$B$4,Cat!R:T,2,0),'TD Operación'!A:D,4,0))*100,\"ND\"))","v":2.6564883502373058},{"$f":"IF(E112=\"\",\"\",(VLOOKUP(B113,'TDPrimas Vida'!$B:$N,7,0)))","v":0}]
[null,{"$f":"IF(C114=\"\",B113,D114)","v":"Zurich Aseguradora Mexicana"},null,{"$f":"IF(D113=\"\",\"\",\"Renovación\")","v":"Renovación"},{"$f":"IF(E112=\"\",\"\",(VLOOKUP(B114,'TDPrimas Vida'!$B:$N,8,0)))","v":113001.05236},{"$f":"IF(E112=\"\",\"\",(VLOOKUP(B114,'TDPrimas Vida'!$B:$N,9,0)))","v":60207.016499999998},{"$f":"IFERROR((E114/VLOOKUP(\"TOTAL\",$D$12:$L$312,2,0))*100,\"\")","v":4.9346341698461173E-2},{"$f":"IFERROR((E114/VLOOKUP(\"TOTAL\",$D$12:$L$312,3,0))*100,\"\")","v":5.689820380349931E-2},{"$f":"IF(E112=\"\",\"\",E114-F114)","v":52794.035860000004},{"$f":"IF(E112=\"\",\"\",IFERROR((E114/F114-1)*100,\"ND\"))","v":87.687513730231089},{"$f":"IF(E112=\"\",\"\",IFERROR((E114/VLOOKUP(B114&\"|\"&VLOOKUP(TDPrimas!$B$4,Cat!R:T,2,0),'TD Operación'!A:D,4,0))*100,\"ND\"))","v":1.3241464249150161},{"$f":"IF(E112=\"\",\"\",(VLOOKUP(B114,'TDPrimas Vida'!$B:$N,10,0)))","v":0}]
[null,{"$f":"IF(C115=\"\",B114,D115)","v":"Zurich Aseguradora Mexicana"},null,{"$f":"IF(D114=\"\",\"\",\"Únicas\")","v":"Únicas"},{"$f":"IF(E113=\"\",\"\",(VLOOKUP(B115,'TDPrimas Vida'!$B:$N,11,0)))","v":219618.95418},{"$f":"IF(E113=\"\",\"\",(VLOOKUP(B115,'TDPrimas Vida'!$B:$N,12,0)))","v":88705.903510000004},{"$f":"IFERROR((E115/VLOOKUP(\"TOTAL\",$D$12:$L$312,2,0))*100,\"\")","v":9.5905230350413762E-2},{"$f":"IFERROR((E115/VLOOKUP(\"TOTAL\",$D$12:$L$312,3,0))*100,\"\")","v":0.11058236850959018},{"$f":"IF(E112=\"\",\"\",E115-F115)","v":130913.05067},{"$f":"IF(E112=\"\",\"\",IFERROR((E115/F115-1)*100,\"ND\"))","v":147.5809900918735},{"$f":"IF(E112=\"\",\"\",IFERROR((E115/VLOOKUP(B115&\"|\"&VLOOKUP(TDPrimas!$B$4,Cat!R:T,2,0),'TD Operación'!A:D,4,0))*100,\"ND\"))","v":2.5734950865286059},{"$f":"IF(E112=\"\",\"\",(VLOOKUP(B115,'TDPrimas Vida'!$B:$N,13,0)))","v":0}]
[null,{"$f":"IF(C116=\"\",B112,D116)","v":"Patrimonial Vida"},{"$f":"IF('TDPrimas Vida'!A33=\"\",\"\",'TDPrimas Vida'!A33)","v":25},{"$f":"IF('TDPrimas Vida'!B33=\"\",\"\",'TDPrimas Vida'!B33)","v":"Patrimonial Vida"},{"$f":"IF('TDPrimas Vida'!C33=\"\",\"\",'TDPrimas Vida'!C33)","v":531626.28642999998},{"$f":"IF('TDPrimas Vida'!D33=\"\",\"\",'TDPrimas Vida'!D33)","v":2312178.0759800002},{"$f":"IF('TDPrimas Vida'!C33=\"\",\"\",IFERROR((E116/VLOOKUP(\"TOTAL\",$D$12:$L$312,2,0))*100,\"\"))","v":0.23215546968963441},{"$f":"IF('TDPrimas Vida'!C33=\"\",\"\",IFERROR((E116/VLOOKUP(\"TOTAL\",$D$12:$L$312,3,0))*100,\"\"))","v":0.26768406276629508},{"$f":"IF('TDPrimas Vida'!C33=\"\",\"\",E116-F116)","v":-1780551.7895500003},{"$f":"IFERROR(IF('TDPrimas Vida'!C33=\"\",\"\",(E116/F116-1)*100),\"ND\")","v":-77.007554394153914},{"$f":"IF(E116=\"\",\"\",IFERROR((E116/VLOOKUP(D116&\"|\"&VLOOKUP(TDPrimas!$B$4,Cat!R:T,2,0),'TD Operación'!A:D,4,0))*100,\"ND\"))","v":100},{"$f":"IF('TDPrimas Vida'!E33=\"\",\"\",'TDPrimas Vida'!E33)","v":0}]
[null,{"$f":"IF(C117=\"\",B116,D117)","v":"Patrimonial Vida"},null,{"$f":"IF(D116=\"\",\"\",\"1er Año\")","v":"1er Año"},{"$f":"IF(E116=\"\",\"\",(VLOOKUP(B117,'TDPrimas Vida'!$B:$N,5,0)))","v":531626.28642999998},{"$f":"IF(E116=\"\",\"\",(VLOOKUP(B117,'TDPrimas Vida'!$B:$N,6,0)))","v":2312178.0759800002},{"$f":"IFERROR((E117/VLOOKUP(\"TOTAL\",$D$12:$L$312,2,0))*100,\"\")","v":0.23215546968963441},{"$f":"IFERROR((E117/VLOOKUP(\"TOTAL\",$D$12:$L$312,3,0))*100,\"\")","v":0.26768406276629508},{"$f":"IF(E116=\"\",\"\",E117-F117)","v":-1780551.7895500003},{"$f":"IF(E116=\"\",\"\",IFERROR((E117/F117-1)*100,\"ND\"))","v":-77.007554394153914},{"$f":"IF(E116=\"\",\"\",IFERROR((E117/VLOOKUP(B117&\"|\"&VLOOKUP(TDPrimas!$B$4,Cat!R:T,2,0),'TD Operación'!A:D,4,0))*100,\"ND\"))","v":100},{"$f":"IF(E116=\"\",\"\",(VLOOKUP(B117,'TDPrimas Vida'!$B:$N,7,0)))","v":0}]
[null,{"$f":"IF(C118=\"\",B117,D118)","v":"Patrimonial Vida"},null,{"$f":"IF(D117=\"\",\"\",\"Renovación\")","v":"Renovación"},{"$f":"IF(E116=\"\",\"\",(VLOOKUP(B118,'TDPrimas Vida'!$B:$N,8,0)))","v":0},{"$f":"IF(E116=\"\",\"\",(VLOOKUP(B118,'TDPrimas Vida'!$B:$N,9,0)))","v":0},{"$f":"IFERROR((E118/VLOOKUP(\"TOTAL\",$D$12:$L$312,2,0))*100,\"\")","v":0},{"$f":"IFERROR((E118/VLOOKUP(\"TOTAL\",$D$12:$L$312,3,0))*100,\"\")","v":0},{"$f":"IF(E116=\"\",\"\",E118-F118)","v":0},{"$f":"IF(E116=\"\",\"\",IFERROR((E118/F118-1)*100,\"ND\"))","v":"ND"},{"$f":"IF(E116=\"\",\"\",IFERROR((E118/VLOOKUP(B118&\"|\"&VLOOKUP(TDPrimas!$B$4,Cat!R:T,2,0),'TD Operación'!A:D,4,0))*100,\"ND\"))","v":0},{"$f":"IF(E116=\"\",\"\",(VLOOKUP(B118,'TDPrimas Vida'!$B:$N,10,0)))","v":0}]
[null,{"$f":"IF(C119=\"\",B118,D119)","v":"Patrimonial Vida"},null,{"$f":"IF(D118=\"\",\"\",\"Únicas\")","v":"Únicas"},{"$f":"IF(E117=\"\",\"\",(VLOOKUP(B119,'TDPrimas Vida'!$B:$N,11,0)))","v":0},{"$f":"IF(E117=\"\",\"\",(VLOOKUP(B119,'TDPrimas Vida'!$B:$N,12,0)))","v":0},{"$f":"IFERROR((E119/VLOOKUP(\"TOTAL\",$D$12:$L$312,2,0))*100,\"\")","v":0},{"$f":"IFERROR((E119/VLOOKUP(\"TOTAL\",$D$12:$L$312,3,0))*100,\"\")","v":0},{"$f":"IF(E116=\"\",\"\",E119-F119)","v":0},{"$f":"IF(E116=\"\",\"\",IFERROR((E119/F119-1)*100,\"ND\"))","v":"ND"},{"$f":"IF(E116=\"\",\"\",IFERROR((E119/VLOOKUP(B119&\"|\"&VLOOKUP(TDPrimas!$B$4,Cat!R:T,2,0),'TD Operación'!A:D,4,0))*100,\"ND\"))","v":0},{"$f":"IF(E116=\"\",\"\",(VLOOKUP(B119,'TDPrimas Vida'!$B:$N,13,0)))","v":0}]
[null,{"$f":"IF(C120=\"\",B116,D120)","v":"Ve Por Más"},{"$f":"IF('TDPrimas Vida'!A34=\"\",\"\",'TDPrimas Vida'!A34)","v":26},{"$f":"IF('TDPrimas Vida'!B34=\"\",\"\",'TDPrimas Vida'!B34)","v":"Ve Por Más"},{"$f":"IF('TDPrimas Vida'!C34=\"\",\"\",'TDPrimas Vida'!C34)","v":482017.03414},{"$f":"IF('TDPrimas Vida'!D34=\"\",\"\",'TDPrimas Vida'!D34)","v":494207.25472000003},{"$f":"IF('TDPrimas Vida'!C34=\"\",\"\",IFERROR((E120/VLOOKUP(\"TOTAL\",$D$12:$L$312,2,0))*100,\"\"))","v":0.21049164387756561},{"$f":"IF('TDPrimas Vida'!C34=\"\",\"\",IFERROR((E120/VLOOKUP(\"TOTAL\",$D$12:$L$312,3,0))*100,\"\"))","v":0.24270484984407278},{"$f":"IF('TDPrimas Vida'!C34=\"\",\"\",E120-F120)","v":-12190.220580000023},{"$f":"IFERROR(IF('TDPrimas Vida'!C34=\"\",\"\",(E120/F120-1)*100),\"ND\")","v":-2.4666211318380094},{"$f":"IF(E120=\"\",\"\",IFERROR((E120/VLOOKUP(D120&\"|\"&VLOOKUP(TDPrimas!$B$4,Cat!R:T,2,0),'TD Operación'!A:D,4,0))*100,\"ND\"))","v":16.443047337101984},{"$f":"IF('TDPrimas Vida'!E34=\"\",\"\",'TDPrimas Vida'!E34)","v":0}]
[null,{"$f":"IF(C121=\"\",B120,D121)","v":"Ve Por Más"},null,{"$f":"IF(D120=\"\",\"\",\"1er Año\")","v":"1er Año"},{"$f":"IF(E120=\"\",\"\",(VLOOKUP(B121,'TDPrimas Vida'!$B:$N,5,0)))","v":170956.77375999998},{"$f":"IF(E120=\"\",\"\",(VLOOKUP(B121,'TDPrimas Vida'!$B:$N,6,0)))","v":142693.68237999998},{"$f":"IFERROR((E121/VLOOKUP(\"TOTAL\",$D$12:$L$312,2,0))*100,\"\")","v":7.4654980616921038E-2},{"$f":"IFERROR((E121/VLOOKUP(\"TOTAL\",$D$12:$L$312,3,0))*100,\"\")","v":8.6080024493899329E-2},{"$f":"IF(E120=\"\",\"\",E121-F121)","v":28263.091379999998},{"$f":"IF(E120=\"\",\"\",IFERROR((E121/F121-1)*100,\"ND\"))","v":19.806827400202653},{"$f":"IF(E120=\"\",\"\",IFERROR((E121/VLOOKUP(B121&\"|\"&VLOOKUP(TDPrimas!$B$4,Cat!R:T,2,0),'TD Operación'!A:D,4,0))*100,\"ND\"))","v":5.8318485124686594},{"$f":"IF(E120=\"\",\"\",(VLOOKUP(B121,'TDPrimas Vida'!$B:$N,7,0)))","v":0}]
[null,{"$f":"IF(C122=\"\",B121,D122)","v":"Ve Por Más"},null,{"$f":"IF(D121=\"\",\"\",\"Renovación\")","v":"Renovación"},{"$f":"IF(E120=\"\",\"\",(VLOOKUP(B122,'TDPrimas Vida'!$B:$N,8,0)))","v":281368.94938000001},{"$f":"IF(E120=\"\",\"\",(VLOOKUP(B122,'TDPrimas Vida'!$B:$N,9,0)))","v":273122.57233999996},{"$f":"IFERROR((E122/VLOOKUP(\"TOTAL\",$D$12:$L$312,2,0))*100,\"\")","v":0.12287078774460454},{"$f":"IFERROR((E122/VLOOKUP(\"TOTAL\",$D$12:$L$312,3,0))*100,\"\")","v":0.14167467905340242},{"$f":"IF(E120=\"\",\"\",E122-F122)","v":8246.3770400000503},{"$f":"IF(E120=\"\",\"\",IFERROR((E122/F122-1)*100,\"ND\"))","v":3.0192953183431737},{"$f":"IF(E120=\"\",\"\",IFERROR((E122/VLOOKUP(B122&\"|\"&VLOOKUP(TDPrimas!$B$4,Cat!R:T,2,0),'TD Operación'!A:D,4,0))*100,\"ND\"))","v":9.598339116999389},{"$f":"IF(E120=\"\",\"\",(VLOOKUP(B122,'TDPrimas Vida'!$B:$N,10,0)))","v":0}]
[null,{"$f":"IF(C123=\"\",B122,D123)","v":"Ve Por Más"},null,{"$f":"IF(D122=\"\",\"\",\"Únicas\")","v":"Únicas"},{"$f":"IF(E121=\"\",\"\",(VLOOKUP(B123,'TDPrimas Vida'!$B:$N,11,0)))","v":29691.311000000002},{"$f":"IF(E121=\"\",\"\",(VLOOKUP(B123,'TDPrimas Vida'!$B:$N,12,0)))","v":78391},{"$f":"IFERROR((E123/VLOOKUP(\"TOTAL\",$D$12:$L$312,2,0))*100,\"\")","v":1.2965875516040008E-2},{"$f":"IFERROR((E123/VLOOKUP(\"TOTAL\",$D$12:$L$312,3,0))*100,\"\")","v":1.4950146296771008E-2},{"$f":"IF(E120=\"\",\"\",E123-F123)","v":-48699.688999999998},{"$f":"IF(E120=\"\",\"\",IFERROR((E123/F123-1)*100,\"ND\"))","v":-62.124081846130295},{"$f":"IF(E120=\"\",\"\",IFERROR((E123/VLOOKUP(B123&\"|\"&VLOOKUP(TDPrimas!$B$4,Cat!R:T,2,0),'TD Operación'!A:D,4,0))*100,\"ND\"))","v":1.0128597076339352},{"$f":"IF(E120=\"\",\"\",(VLOOKUP(B123,'TDPrimas Vida'!$B:$N,13,0)))","v":0}]
[null,{"$f":"IF(C124=\"\",B120,D124)","v":"General de Seguros"},{"$f":"IF('TDPrimas Vida'!A35=\"\",\"\",'TDPrimas Vida'!A35)","v":27},{"$f":"IF('TDPrimas Vida'!B35=\"\",\"\",'TDPrimas Vida'!B35)","v":"General de Seguros"},{"$f":"IF('TDPrimas Vida'!C35=\"\",\"\",'TDPrimas Vida'!C35)","v":407027.62197000004},{"$f":"IF('TDPrimas Vida'!D35=\"\",\"\",'TDPrimas Vida'!D35)","v":473649.80336000002},{"$f":"IF('TDPrimas Vida'!C35=\"\",\"\",IFERROR((E124/VLOOKUP(\"TOTAL\",$D$12:$L$312,2,0))*100,\"\"))","v":0.17774457578019412},{"$f":"IF('TDPrimas Vida'!C35=\"\",\"\",IFERROR((E124/VLOOKUP(\"TOTAL\",$D$12:$L$312,3,0))*100,\"\"))","v":0.20494623815291638},{"$f":"IF('TDPrimas Vida'!C35=\"\",\"\",E124-F124)","v":-66622.181389999983},{"$f":"IFERROR(IF('TDPrimas Vida'!C35=\"\",\"\",(E124/F124-1)*100),\"ND\")","v":-14.065704433400439},{"$f":"IF(E124=\"\",\"\",IFERROR((E124/VLOOKUP(D124&\"|\"&VLOOKUP(TDPrimas!$B$4,Cat!R:T,2,0),'TD Operación'!A:D,4,0))*100,\"ND\"))","v":20.64234302242436},{"$f":"IF('TDPrimas Vida'!E35=\"\",\"\",'TDPrimas Vida'!E35)","v":0}]
[null,{"$f":"IF(C125=\"\",B124,D125)","v":"General de Seguros"},null,{"$f":"IF(D124=\"\",\"\",\"1er Año\")","v":"1er Año"},{"$f":"IF(E124=\"\",\"\",(VLOOKUP(B125,'TDPrimas Vida'!$B:$N,5,0)))","v":110084.05074000001},{"$f":"IF(E124=\"\",\"\",(VLOOKUP(B125,'TDPrimas Vida'!$B:$N,6,0)))","v":148507.66370999999},{"$f":"IFERROR((E125/VLOOKUP(\"TOTAL\",$D$12:$L$312,2,0))*100,\"\")","v":4.8072518528948484E-2},{"$f":"IFERROR((E125/VLOOKUP(\"TOTAL\",$D$12:$L$312,3,0))*100,\"\")","v":5.5429437369881138E-2},{"$f":"IF(E124=\"\",\"\",E125-F125)","v":-38423.612969999987},{"$f":"IF(E124=\"\",\"\",IFERROR((E125/F125-1)*100,\"ND\"))","v":-25.873151600466983},{"$f":"IF(E124=\"\",\"\",IFERROR((E125/VLOOKUP(B125&\"|\"&VLOOKUP(TDPrimas!$B$4,Cat!R:T,2,0),'TD Operación'!A:D,4,0))*100,\"ND\"))","v":5.5828956415162772},{"$f":"IF(E124=\"\",\"\",(VLOOKUP(B125,'TDPrimas Vida'!$B:$N,7,0)))","v":0}]
[null,{"$f":"IF(C126=\"\",B125,D126)","v":"General de Seguros"},null,{"$f":"IF(D125=\"\",\"\",\"Renovación\")","v":"Renovación"},{"$f":"IF(E124=\"\",\"\",(VLOOKUP(B126,'TDPrimas Vida'!$B:$N,8,0)))","v":296943.57123},{"$f":"IF(E124=\"\",\"\",(VLOOKUP(B126,'TDPrimas Vida'!$B:$N,9,0)))","v":325142.13965000003},{"$f":"IFERROR((E126/VLOOKUP(\"TOTAL\",$D$12:$L$312,2,0))*100,\"\")","v":0.12967205725124561},{"$f":"IFERROR((E126/VLOOKUP(\"TOTAL\",$D$12:$L$312,3,0))*100,\"\")","v":0.14951680078303523},{"$f":"IF(E124=\"\",\"\",E126-F126)","v":-28198.568420000025},{"$f":"IF(E124=\"\",\"\",IFERROR((E126/F126-1)*100,\"ND\"))","v":-8.6726895659708809},{"$f":"IF(E124=\"\",\"\",IFERROR((E126/VLOOKUP(B126&\"|\"&VLOOKUP(TDPrimas!$B$4,Cat!R:T,2,0),'TD Operación'!A:D,4,0))*100,\"ND\"))","v":15.059447380908079},{"$f":"IF(E124=\"\",\"\",(VLOOKUP(B126,'TDPrimas Vida'!$B:$N,10,0)))","v":0}]
[null,{"$f":"IF(C127=\"\",B126,D127)","v":"General de Seguros"},null,{"$f":"IF(D126=\"\",\"\",\"Únicas\")","v":"Únicas"},{"$f":"IF(E125=\"\",\"\",(VLOOKUP(B127,'TDPrimas Vida'!$B:$N,11,0)))","v":0},{"$f":"IF(E125=\"\",\"\",(VLOOKUP(B127,'TDPrimas Vida'!$B:$N,12,0)))","v":0},{"$f":"IFERROR((E127/VLOOKUP(\"TOTAL\",$D$12:$L$312,2,0))*100,\"\")","v":0},{"$f":"IFERROR((E127/VLOOKUP(\"TOTAL\",$D$12:$L$312,3,0))*100,\"\")","v":0},{"$f":"IF(E124=\"\",\"\",E127-F127)","v":0},{"$f":"IF(E124=\"\",\"\",IFERROR((E127/F127-1)*100,\"ND\"))","v":"ND"},{"$f":"IF(E124=\"\",\"\",IFERROR((E127/VLOOKUP(B127&\"|\"&VLOOKUP(TDPrimas!$B$4,Cat!R:T,2,0),'TD Operación'!A:D,4,0))*100,\"ND\"))","v":0},{"$f":"IF(E124=\"\",\"\",(VLOOKUP(B127,'TDPrimas Vida'!$B:$N,13,0)))","v":0}]
[null,{"$f":"IF(C128=\"\",B124,D128)","v":"Pan-American México"},{"$f":"IF('TDPrimas Vida'!A36=\"\",\"\",'TDPrimas Vida'!A36)","v":28},{"$f":"IF('TDPrimas Vida'!B36=\"\",\"\",'TDPrimas Vida'!B36)","v":"Pan-American México"},{"$f":"IF('TDPrimas Vida'!C36=\"\",\"\",'TDPrimas Vida'!C36)","v":358347.99618000002},{"$f":"IF('TDPrimas Vida'!D36=\"\",\"\",'TDPrimas Vida'!D36)","v":331684.10626999999},{"$f":"IF('TDPrimas Vida'!C36=\"\",\"\",IFERROR((E128/VLOOKUP(\"TOTAL\",$D$12:$L$312,2,0))*100,\"\"))","v":0.15648670784163959},{"$f":"IF('TDPrimas Vida'!C36=\"\",\"\",IFERROR((E128/VLOOKUP(\"TOTAL\",$D$12:$L$312,3,0))*100,\"\"))","v":0.18043511005781249},{"$f":"IF('TDPrimas Vida'!C36=\"\",\"\",E128-F128)","v":26663.889910000027},{"$f":"IFERROR(IF('TDPrimas Vida'!C36=\"\",\"\",(E128/F128-1)*100),\"ND\")","v":8.0389410906215986},{"$f":"IF(E128=\"\",\"\",IFERROR((E128/VLOOKUP(D128&\"|\"&VLOOKUP(TDPrimas!$B$4,Cat!R:T,2,0),'TD Operación'!A:D,4,0))*100,\"ND\"))","v":44.821556545085556},{"$f":"IF('TDPrimas Vida'!E36=\"\",\"\",'TDPrimas Vida'!E36)","v":0}]
[null,{"$f":"IF(C129=\"\",B128,D129)","v":"Pan-American México"},null,{"$f":"IF(D128=\"\",\"\",\"1er Año\")","v":"1er Año"},{"$f":"IF(E128=\"\",\"\",(VLOOKUP(B129,'TDPrimas Vida'!$B:$N,5,0)))","v":182645.69811000003},{"$f":"IF(E128=\"\",\"\",(VLOOKUP(B129,'TDPrimas Vida'!$B:$N,6,0)))","v":64144.27781},{"$f":"IFERROR((E129/VLOOKUP(\"TOTAL\",$D$12:$L$312,2,0))*100,\"\")","v":7.9759407903358795E-2},{"$f":"IFERROR((E129/VLOOKUP(\"TOTAL\",$D$12:$L$312,3,0))*100,\"\")","v":9.1965622778339848E-2},{"$f":"IF(E128=\"\",\"\",E129-F129)","v":118501.42030000003},{"$f":"IF(E128=\"\",\"\",IFERROR((E129/F129-1)*100,\"ND\"))","v":184.74199779910191},{"$f":"IF(E128=\"\",\"\",IFERROR((E129/VLOOKUP(B129&\"|\"&VLOOKUP(TDPrimas!$B$4,Cat!R:T,2,0),'TD Operación'!A:D,4,0))*100,\"ND\"))","v":22.845012593406242},{"$f":"IF(E128=\"\",\"\",(VLOOKUP(B129,'TDPrimas Vida'!$B:$N,7,0)))","v":0}]
[null,{"$f":"IF(C130=\"\",B129,D130)","v":"Pan-American México"},null,{"$f":"IF(D129=\"\",\"\",\"Renovación\")","v":"Renovación"},{"$f":"IF(E128=\"\",\"\",(VLOOKUP(B130,'TDPrimas Vida'!$B:$N,8,0)))","v":140631.99007},{"$f":"IF(E128=\"\",\"\",(VLOOKUP(B130,'TDPrimas Vida'!$B:$N,9,0)))","v":199511.05705999999},{"$f":"IFERROR((E130/VLOOKUP(\"TOTAL\",$D$12:$L$312,2,0))*100,\"\")","v":6.1412474404400473E-2},{"$f":"IFERROR((E130/VLOOKUP(\"TOTAL\",$D$12:$L$312,3,0))*100,\"\")","v":7.0810912510820015E-2},{"$f":"IF(E128=\"\",\"\",E130-F130)","v":-58879.066989999992},{"$f":"IF(E128=\"\",\"\",IFERROR((E130/F130-1)*100,\"ND\"))","v":-29.511681135694147},{"$f":"IF(E128=\"\",\"\",IFERROR((E130/VLOOKUP(B130&\"|\"&VLOOKUP(TDPrimas!$B$4,Cat!R:T,2,0),'TD Operación'!A:D,4,0))*100,\"ND\"))","v":17.59000960564661},{"$f":"IF(E128=\"\",\"\",(VLOOKUP(B130,'TDPrimas Vida'!$B:$N,10,0)))","v":0}]
[null,{"$f":"IF(C131=\"\",B130,D131)","v":"Pan-American México"},null,{"$f":"IF(D130=\"\",\"\",\"Únicas\")","v":"Únicas"},{"$f":"IF(E129=\"\",\"\",(VLOOKUP(B131,'TDPrimas Vida'!$B:$N,11,0)))","v":35070.307999999997},{"$f":"IF(E129=\"\",\"\",(VLOOKUP(B131,'TDPrimas Vida'!$B:$N,12,0)))","v":68028.771399999998},{"$f":"IFERROR((E131/VLOOKUP(\"TOTAL\",$D$12:$L$312,2,0))*100,\"\")","v":1.5314825533880329E-2},{"$f":"IFERROR((E131/VLOOKUP(\"TOTAL\",$D$12:$L$312,3,0))*100,\"\")","v":1.7658574768652641E-2},{"$f":"IF(E128=\"\",\"\",E131-F131)","v":-32958.463400000001},{"$f":"IF(E128=\"\",\"\",IFERROR((E131/F131-1)*100,\"ND\"))","v":-48.447829825131905},{"$f":"IF(E128=\"\",\"\",IFERROR((E131/VLOOKUP(B131&\"|\"&VLOOKUP(TDPrimas!$B$4,Cat!R:T,2,0),'TD Operación'!A:D,4,0))*100,\"ND\"))","v":4.386534346032704},{"$f":"IF(E128=\"\",\"\",(VLOOKUP(B131,'TDPrimas Vida'!$B:$N,13,0)))","v":0}]
[null,{"$f":"IF(C132=\"\",B128,D132)","v":"Patrimonial Inbursa"},{"$f":"IF('TDPrimas Vida'!A37=\"\",\"\",'TDPrimas Vida'!A37)","v":29},{"$f":"IF('TDPrimas Vida'!B37=\"\",\"\",'TDPrimas Vida'!B37)","v":"Patrimonial Inbursa"},{"$f":"IF('TDPrimas Vida'!C37=\"\",\"\",'TDPrimas Vida'!C37)","v":288195.22891000001},{"$f":"IF('TDPrimas Vida'!D37=\"\",\"\",'TDPrimas Vida'!D37)","v":344189.19500000001},{"$f":"IF('TDPrimas Vida'!C37=\"\",\"\",IFERROR((E132/VLOOKUP(\"TOTAL\",$D$12:$L$312,2,0))*100,\"\"))","v":0.12585175044523006},{"$f":"IF('TDPrimas Vida'!C37=\"\",\"\",IFERROR((E132/VLOOKUP(\"TOTAL\",$D$12:$L$312,3,0))*100,\"\"))","v":0.14511184212229328},{"$f":"IF('TDPrimas Vida'!C37=\"\",\"\",E132-F132)","v":-55993.966090000002},{"$f":"IFERROR(IF('TDPrimas Vida'!C37=\"\",\"\",(E132/F132-1)*100),\"ND\")","v":-16.268368357699316},{"$f":"IF(E132=\"\",\"\",IFERROR((E132/VLOOKUP(D132&\"|\"&VLOOKUP(TDPrimas!$B$4,Cat!R:T,2,0),'TD Operación'!A:D,4,0))*100,\"ND\"))","v":60.53871177153728},{"$f":"IF('TDPrimas Vida'!E37=\"\",\"\",'TDPrimas Vida'!E37)","v":0}]
[null,{"$f":"IF(C133=\"\",B132,D133)","v":"Patrimonial Inbursa"},null,{"$f":"IF(D132=\"\",\"\",\"1er Año\")","v":"1er Año"},{"$f":"IF(E132=\"\",\"\",(VLOOKUP(B133,'TDPrimas Vida'!$B:$N,5,0)))","v":288195.22891000001},{"$f":"IF(E132=\"\",\"\",(VLOOKUP(B133,'TDPrimas Vida'!$B:$N,6,0)))","v":344189.19499999995},{"$f":"IFERROR((E133/VLOOKUP(\"TOTAL\",$D$12:$L$312,2,0))*100,\"\")","v":0.12585175044523006},{"$f":"IFERROR((E133/VLOOKUP(\"TOTAL\",$D$12:$L$312,3,0))*100,\"\")","v":0.14511184212229328},{"$f":"IF(E132=\"\",\"\",E133-F133)","v":-55993.966089999944},{"$f":"IF(E132=\"\",\"\",IFERROR((E133/F133-1)*100,\"ND\"))","v":-16.268368357699302},{"$f":"IF(E132=\"\",\"\",IFERROR((E133/VLOOKUP(B133&\"|\"&VLOOKUP(TDPrimas!$B$4,Cat!R:T,2,0),'TD Operación'!A:D,4,0))*100,\"ND\"))","v":60.53871177153728},{"$f":"IF(E132=\"\",\"\",(VLOOKUP(B133,'TDPrimas Vida'!$B:$N,7,0)))","v":0}]
[null,{"$f":"IF(C134=\"\",B133,D134)","v":"Patrimonial Inbursa"},null,{"$f":"IF(D133=\"\",\"\",\"Renovación\")","v":"Renovación"},{"$f":"IF(E132=\"\",\"\",(VLOOKUP(B134,'TDPrimas Vida'!$B:$N,8,0)))","v":0},{"$f":"IF(E132=\"\",\"\",(VLOOKUP(B134,'TDPrimas Vida'!$B:$N,9,0)))","v":0},{"$f":"IFERROR((E134/VLOOKUP(\"TOTAL\",$D$12:$L$312,2,0))*100,\"\")","v":0},{"$f":"IFERROR((E134/VLOOKUP(\"TOTAL\",$D$12:$L$312,3,0))*100,\"\")","v":0},{"$f":"IF(E132=\"\",\"\",E134-F134)","v":0},{"$f":"IF(E132=\"\",\"\",IFERROR((E134/F134-1)*100,\"ND\"))","v":"ND"},{"$f":"IF(E132=\"\",\"\",IFERROR((E134/VLOOKUP(B134&\"|\"&VLOOKUP(TDPrimas!$B$4,Cat!R:T,2,0),'TD Operación'!A:D,4,0))*100,\"ND\"))","v":0},{"$f":"IF(E132=\"\",\"\",(VLOOKUP(B134,'TDPrimas Vida'!$B:$N,10,0)))","v":0}]
[null,{"$f":"IF(C135=\"\",B134,D135)","v":"Patrimonial Inbursa"},null,{"$f":"IF(D134=\"\",\"\",\"Únicas\")","v":"Únicas"},{"$f":"IF(E133=\"\",\"\",(VLOOKUP(B135,'TDPrimas Vida'!$B:$N,11,0)))","v":0},{"$f":"IF(E133=\"\",\"\",(VLOOKUP(B135,'TDPrimas Vida'!$B:$N,12,0)))","v":0},{"$f":"IFERROR((E135/VLOOKUP(\"TOTAL\",$D$12:$L$312,2,0))*100,\"\")","v":0},{"$f":"IFERROR((E135/VLOOKUP(\"TOTAL\",$D$12:$L$312,3,0))*100,\"\")","v":0},{"$f":"IF(E132=\"\",\"\",E135-F135)","v":0},{"$f":"IF(E132=\"\",\"\",IFERROR((E135/F135-1)*100,\"ND\"))","v":"ND"},{"$f":"IF(E132=\"\",\"\",IFERROR((E135/VLOOKUP(B135&\"|\"&VLOOKUP(TDPrimas!$B$4,Cat!R:T,2,0),'TD Operación'!A:D,4,0))*100,\"ND\"))","v":0},{"$f":"IF(E132=\"\",\"\",(VLOOKUP(B135,'TDPrimas Vida'!$B:$N,13,0)))","v":0}]
[null,{"$f":"IF(C136=\"\",B132,D136)","v":"Skandia Life"},{"$f":"IF('TDPrimas Vida'!A38=\"\",\"\",'TDPrimas Vida'!A38)","v":30},{"$f":"IF('TDPrimas Vida'!B38=\"\",\"\",'TDPrimas Vida'!B38)","v":"Skandia Life"},{"$f":"IF('TDPrimas Vida'!C38=\"\",\"\",'TDPrimas Vida'!C38)","v":280734.25735000003},{"$f":"IF('TDPrimas Vida'!D38=\"\",\"\",'TDPrimas Vida'!D38)","v":345769.43660999998},{"$f":"IF('TDPrimas Vida'!C38=\"\",\"\",IFERROR((E136/VLOOKUP(\"TOTAL\",$D$12:$L$312,2,0))*100,\"\"))","v":0.12259362457548741},{"$f":"IF('TDPrimas Vida'!C38=\"\",\"\",IFERROR((E136/VLOOKUP(\"TOTAL\",$D$12:$L$312,3,0))*100,\"\"))","v":0.14135509940594615},{"$f":"IF('TDPrimas Vida'!C38=\"\",\"\",E136-F136)","v":-65035.179259999946},{"$f":"IFERROR(IF('TDPrimas Vida'!C38=\"\",\"\",(E136/F136-1)*100),\"ND\")","v":-18.808828188407634},{"$f":"IF(E136=\"\",\"\",IFERROR((E136/VLOOKUP(D136&\"|\"&VLOOKUP(TDPrimas!$B$4,Cat!R:T,2,0),'TD Operación'!A:D,4,0))*100,\"ND\"))","v":100},{"$f":"IF('TDPrimas Vida'!E38=\"\",\"\",'TDPrimas Vida'!E38)","v":0}]
[null,{"$f":"IF(C137=\"\",B136,D137)","v":"Skandia Life"},null,{"$f":"IF(D136=\"\",\"\",\"1er Año\")","v":"1er Año"},{"$f":"IF(E136=\"\",\"\",(VLOOKUP(B137,'TDPrimas Vida'!$B:$N,5,0)))","v":100319.04325},{"$f":"IF(E136=\"\",\"\",(VLOOKUP(B137,'TDPrimas Vida'!$B:$N,6,0)))","v":170200.62372},{"$f":"IFERROR((E137/VLOOKUP(\"TOTAL\",$D$12:$L$312,2,0))*100,\"\")","v":4.3808245000287578E-2},{"$f":"IFERROR((E137/VLOOKUP(\"TOTAL\",$D$12:$L$312,3,0))*100,\"\")","v":5.0512568237205763E-2},{"$f":"IF(E136=\"\",\"\",E137-F137)","v":-69881.580470000001},{"$f":"IF(E136=\"\",\"\",IFERROR((E137/F137-1)*100,\"ND\"))","v":-41.058357450536377},{"$f":"IF(E136=\"\",\"\",IFERROR((E137/VLOOKUP(B137&\"|\"&VLOOKUP(TDPrimas!$B$4,Cat!R:T,2,0),'TD Operación'!A:D,4,0))*100,\"ND\"))","v":35.734521392923263},{"$f":"IF(E136=\"\",\"\",(VLOOKUP(B137,'TDPrimas Vida'!$B:$N,7,0)))","v":0}]
[null,{"$f":"IF(C138=\"\",B137,D138)","v":"Skandia Life"},null,{"$f":"IF(D137=\"\",\"\",\"Renovación\")","v":"Renovación"},{"$f":"IF(E136=\"\",\"\",(VLOOKUP(B138,'TDPrimas Vida'!$B:$N,8,0)))","v":180415.21410000001},{"$f":"IF(E136=\"\",\"\",(VLOOKUP(B138,'TDPrimas Vida'!$B:$N,9,0)))","v":175568.81289},{"$f":"IFERROR((E138/VLOOKUP(\"TOTAL\",$D$12:$L$312,2,0))*100,\"\")","v":7.8785379575199835E-2},{"$f":"IFERROR((E138/VLOOKUP(\"TOTAL\",$D$12:$L$312,3,0))*100,\"\")","v":9.0842531168740373E-2},{"$f":"IF(E136=\"\",\"\",E138-F138)","v":4846.4012100000109},{"$f":"IF(E136=\"\",\"\",IFERROR((E138/F138-1)*100,\"ND\"))","v":2.7603998285483877},{"$f":"IF(E136=\"\",\"\",IFERROR((E138/VLOOKUP(B138&\"|\"&VLOOKUP(TDPrimas!$B$4,Cat!R:T,2,0),'TD Operación'!A:D,4,0))*100,\"ND\"))","v":64.26547860707673},{"$f":"IF(E136=\"\",\"\",(VLOOKUP(B138,'TDPrimas Vida'!$B:$N,10,0)))","v":0}]
[null,{"$f":"IF(C139=\"\",B138,D139)","v":"Skandia Life"},null,{"$f":"IF(D138=\"\",\"\",\"Únicas\")","v":"Únicas"},{"$f":"IF(E137=\"\",\"\",(VLOOKUP(B139,'TDPrimas Vida'!$B:$N,11,0)))","v":0},{"$f":"IF(E137=\"\",\"\",(VLOOKUP(B139,'TDPrimas Vida'!$B:$N,12,0)))","v":0},{"$f":"IFERROR((E139/VLOOKUP(\"TOTAL\",$D$12:$L$312,2,0))*100,\"\")","v":0},{"$f":"IFERROR((E139/VLOOKUP(\"TOTAL\",$D$12:$L$312,3,0))*100,\"\")","v":0},{"$f":"IF(E136=\"\",\"\",E139-F139)","v":0},{"$f":"IF(E136=\"\",\"\",IFERROR((E139/F139-1)*100,\"ND\"))","v":"ND"},{"$f":"IF(E136=\"\",\"\",IFERROR((E139/VLOOKUP(B139&\"|\"&VLOOKUP(TDPrimas!$B$4,Cat!R:T,2,0),'TD Operación'!A:D,4,0))*100,\"ND\"))","v":0},{"$f":"IF(E136=\"\",\"\",(VLOOKUP(B139,'TDPrimas Vida'!$B:$N,13,0)))","v":0}]
[null,{"$f":"IF(C140=\"\",B136,D140)","v":"El Potosí"},{"$f":"IF('TDPrimas Vida'!A39=\"\",\"\",'TDPrimas Vida'!A39)","v":31},{"$f":"IF('TDPrimas Vida'!B39=\"\",\"\",'TDPrimas Vida'!B39)","v":"El Potosí"},{"$f":"IF('TDPrimas Vida'!C39=\"\",\"\",'TDPrimas Vida'!C39)","v":261093.62521},{"$f":"IF('TDPrimas Vida'!D39=\"\",\"\",'TDPrimas Vida'!D39)","v":215099.97128},{"$f":"IF('TDPrimas Vida'!C39=\"\",\"\",IFERROR((E140/VLOOKUP(\"TOTAL\",$D$12:$L$312,2,0))*100,\"\"))","v":0.11401677219656838},{"$f":"IF('TDPrimas Vida'!C39=\"\",\"\",IFERROR((E140/VLOOKUP(\"TOTAL\",$D$12:$L$312,3,0))*100,\"\"))","v":0.13146566327245701},{"$f":"IF('TDPrimas Vida'!C39=\"\",\"\",E140-F140)","v":45993.65393},{"$f":"IFERROR(IF('TDPrimas Vida'!C39=\"\",\"\",(E140/F140-1)*100),\"ND\")","v":21.382454705272423},{"$f":"IF(E140=\"\",\"\",IFERROR((E140/VLOOKUP(D140&\"|\"&VLOOKUP(TDPrimas!$B$4,Cat!R:T,2,0),'TD Operación'!A:D,4,0))*100,\"ND\"))","v":16.188169898475213},{"$f":"IF('TDPrimas Vida'!E39=\"\",\"\",'TDPrimas Vida'!E39)","v":0}]
[null,{"$f":"IF(C141=\"\",B140,D141)","v":"El Potosí"},null,{"$f":"IF(D140=\"\",\"\",\"1er Año\")","v":"1er Año"},{"$f":"IF(E140=\"\",\"\",(VLOOKUP(B141,'TDPrimas Vida'!$B:$N,5,0)))","v":107219.41868},{"$f":"IF(E140=\"\",\"\",(VLOOKUP(B141,'TDPrimas Vida'!$B:$N,6,0)))","v":63273.802320000003},{"$f":"IFERROR((E141/VLOOKUP(\"TOTAL\",$D$12:$L$312,2,0))*100,\"\")","v":4.6821564581875641E-2},{"$f":"IFERROR((E141/VLOOKUP(\"TOTAL\",$D$12:$L$312,3,0))*100,\"\")","v":5.3987040017220607E-2},{"$f":"IF(E140=\"\",\"\",E141-F141)","v":43945.61636},{"$f":"IF(E140=\"\",\"\",IFERROR((E141/F141-1)*100,\"ND\"))","v":69.453098673839904},{"$f":"IF(E140=\"\",\"\",IFERROR((E141/VLOOKUP(B141&\"|\"&VLOOKUP(TDPrimas!$B$4,Cat!R:T,2,0),'TD Operación'!A:D,4,0))*100,\"ND\"))","v":6.6477539028827639},{"$f":"IF(E140=\"\",\"\",(VLOOKUP(B141,'TDPrimas Vida'!$B:$N,7,0)))","v":0}]
[null,{"$f":"IF(C142=\"\",B141,D142)","v":"El Potosí"},null,{"$f":"IF(D141=\"\",\"\",\"Renovación\")","v":"Renovación"},{"$f":"IF(E140=\"\",\"\",(VLOOKUP(B142,'TDPrimas Vida'!$B:$N,8,0)))","v":153425.00653000001},{"$f":"IF(E140=\"\",\"\",(VLOOKUP(B142,'TDPrimas Vida'!$B:$N,9,0)))","v":151717.33282000001},{"$f":"IFERROR((E142/VLOOKUP(\"TOTAL\",$D$12:$L$312,2,0))*100,\"\")","v":6.6999046815939017E-2},{"$f":"IFERROR((E142/VLOOKUP(\"TOTAL\",$D$12:$L$312,3,0))*100,\"\")","v":7.7252442413423494E-2},{"$f":"IF(E140=\"\",\"\",E142-F142)","v":1707.6737100000028},{"$f":"IF(E140=\"\",\"\",IFERROR((E142/F142-1)*100,\"ND\"))","v":1.1255627015444691},{"$f":"IF(E140=\"\",\"\",IFERROR((E142/VLOOKUP(B142&\"|\"&VLOOKUP(TDPrimas!$B$4,Cat!R:T,2,0),'TD Operación'!A:D,4,0))*100,\"ND\"))","v":9.5125649673930965},{"$f":"IF(E140=\"\",\"\",(VLOOKUP(B142,'TDPrimas Vida'!$B:$N,10,0)))","v":0}]
[null,{"$f":"IF(C143=\"\",B142,D143)","v":"El Potosí"},null,{"$f":"IF(D142=\"\",\"\",\"Únicas\")","v":"Únicas"},{"$f":"IF(E141=\"\",\"\",(VLOOKUP(B143,'TDPrimas Vida'!$B:$N,11,0)))","v":449.2},{"$f":"IF(E141=\"\",\"\",(VLOOKUP(B143,'TDPrimas Vida'!$B:$N,12,0)))","v":108.83614},{"$f":"IFERROR((E143/VLOOKUP(\"TOTAL\",$D$12:$L$312,2,0))*100,\"\")","v":1.9616079875372196E-4},{"$f":"IFERROR((E143/VLOOKUP(\"TOTAL\",$D$12:$L$312,3,0))*100,\"\")","v":2.2618084181293097E-4},{"$f":"IF(E140=\"\",\"\",E143-F143)","v":340.36385999999999},{"$f":"IF(E140=\"\",\"\",IFERROR((E143/F143-1)*100,\"ND\"))","v":312.73055071596627},{"$f":"IF(E140=\"\",\"\",IFERROR((E143/VLOOKUP(B143&\"|\"&VLOOKUP(TDPrimas!$B$4,Cat!R:T,2,0),'TD Operación'!A:D,4,0))*100,\"ND\"))","v":2.7851028199353204E-2},{"$f":"IF(E140=\"\",\"\",(VLOOKUP(B143,'TDPrimas Vida'!$B:$N,13,0)))","v":0}]
[null,{"$f":"IF(C144=\"\",B140,D144)","v":"La Latinoamericana"},{"$f":"IF('TDPrimas Vida'!A40=\"\",\"\",'TDPrimas Vida'!A40)","v":32},{"$f":"IF('TDPrimas Vida'!B40=\"\",\"\",'TDPrimas Vida'!B40)","v":"La Latinoamericana"},{"$f":"IF('TDPrimas Vida'!C40=\"\",\"\",'TDPrimas Vida'!C40)","v":189005.17726},{"$f":"IF('TDPrimas Vida'!D40=\"\",\"\",'TDPrimas Vida'!D40)","v":255210.89538999999},{"$f":"IF('TDPrimas Vida'!C40=\"\",\"\",IFERROR((E144/VLOOKUP(\"TOTAL\",$D$12:$L$312,2,0))*100,\"\"))","v":8.2536523908972398E-2},{"$f":"IF('TDPrimas Vida'!C40=\"\",\"\",IFERROR((E144/VLOOKUP(\"TOTAL\",$D$12:$L$312,3,0))*100,\"\"))","v":9.5167742875487613E-2},{"$f":"IF('TDPrimas Vida'!C40=\"\",\"\",E144-F144)","v":-66205.718129999994},{"$f":"IFERROR(IF('TDPrimas Vida'!C40=\"\",\"\",(E144/F144-1)*100),\"ND\")","v":-25.941571980627188},{"$f":"IF(E144=\"\",\"\",IFERROR((E144/VLOOKUP(D144&\"|\"&VLOOKUP(TDPrimas!$B$4,Cat!R:T,2,0),'TD Operación'!A:D,4,0))*100,\"ND\"))","v":19.731533141727382},{"$f":"IF('TDPrimas Vida'!E40=\"\",\"\",'TDPrimas Vida'!E40)","v":0}]
[null,{"$f":"IF(C145=\"\",B144,D145)","v":"La Latinoamericana"},null,{"$f":"IF(D144=\"\",\"\",\"1er Año\")","v":"1er Año"},{"$f":"IF(E144=\"\",\"\",(VLOOKUP(B145,'TDPrimas Vida'!$B:$N,5,0)))","v":1883.61761},{"$f":"IF(E144=\"\",\"\",(VLOOKUP(B145,'TDPrimas Vida'!$B:$N,6,0)))","v":109295.55895999999},{"$f":"IFERROR((E145/VLOOKUP(\"TOTAL\",$D$12:$L$312,2,0))*100,\"\")","v":8.2255550962639522E-4},{"$f":"IFERROR((E145/VLOOKUP(\"TOTAL\",$D$12:$L$312,3,0))*100,\"\")","v":9.4843770410387601E-4},{"$f":"IF(E144=\"\",\"\",E145-F145)","v":-107411.94134999999},{"$f":"IF(E144=\"\",\"\",IFERROR((E145/F145-1)*100,\"ND\"))","v":-98.276583579494414},{"$f":"IF(E144=\"\",\"\",IFERROR((E145/VLOOKUP(B145&\"|\"&VLOOKUP(TDPrimas!$B$4,Cat!R:T,2,0),'TD Operación'!A:D,4,0))*100,\"ND\"))","v":0.19664362551788189},{"$f":"IF(E144=\"\",\"\",(VLOOKUP(B145,'TDPrimas Vida'!$B:$N,7,0)))","v":0}]
[null,{"$f":"IF(C146=\"\",B145,D146)","v":"La Latinoamericana"},null,{"$f":"IF(D145=\"\",\"\",\"Renovación\")","v":"Renovación"},{"$f":"IF(E144=\"\",\"\",(VLOOKUP(B146,'TDPrimas Vida'!$B:$N,8,0)))","v":187121.55965000001},{"$f":"IF(E144=\"\",\"\",(VLOOKUP(B146,'TDPrimas Vida'!$B:$N,9,0)))","v":145915.33643000002},{"$f":"IFERROR((E146/VLOOKUP(\"TOTAL\",$D$12:$L$312,2,0))*100,\"\")","v":8.1713968399346026E-2},{"$f":"IFERROR((E146/VLOOKUP(\"TOTAL\",$D$12:$L$312,3,0))*100,\"\")","v":9.4219305171383744E-2},{"$f":"IF(E144=\"\",\"\",E146-F146)","v":41206.223219999985},{"$f":"IF(E144=\"\",\"\",IFERROR((E146/F146-1)*100,\"ND\"))","v":28.239816477254152},{"$f":"IF(E144=\"\",\"\",IFERROR((E146/VLOOKUP(B146&\"|\"&VLOOKUP(TDPrimas!$B$4,Cat!R:T,2,0),'TD Operación'!A:D,4,0))*100,\"ND\"))","v":19.534889516209503},{"$f":"IF(E144=\"\",\"\",(VLOOKUP(B146,'TDPrimas Vida'!$B:$N,10,0)))","v":0}]
[null,{"$f":"IF(C147=\"\",B146,D147)","v":"La Latinoamericana"},null,{"$f":"IF(D146=\"\",\"\",\"Únicas\")","v":"Únicas"},{"$f":"IF(E145=\"\",\"\",(VLOOKUP(B147,'TDPrimas Vida'!$B:$N,11,0)))","v":0},{"$f":"IF(E145=\"\",\"\",(VLOOKUP(B147,'TDPrimas Vida'!$B:$N,12,0)))","v":0},{"$f":"IFERROR((E147/VLOOKUP(\"TOTAL\",$D$12:$L$312,2,0))*100,\"\")","v":0},{"$f":"IFERROR((E147/VLOOKUP(\"TOTAL\",$D$12:$L$312,3,0))*100,\"\")","v":0},{"$f":"IF(E144=\"\",\"\",E147-F147)","v":0},{"$f":"IF(E144=\"\",\"\",IFERROR((E147/F147-1)*100,\"ND\"))","v":"ND"},{"$f":"IF(E144=\"\",\"\",IFERROR((E147/VLOOKUP(B147&\"|\"&VLOOKUP(TDPrimas!$B$4,Cat!R:T,2,0),'TD Operación'!A:D,4,0))*100,\"ND\"))","v":0},{"$f":"IF(E144=\"\",\"\",(VLOOKUP(B147,'TDPrimas Vida'!$B:$N,13,0)))","v":0}]
[null,{"$f":"IF(C148=\"\",B144,D148)","v":"Tokio Marine"},{"$f":"IF('TDPrimas Vida'!A41=\"\",\"\",'TDPrimas Vida'!A41)","v":33},{"$f":"IF('TDPrimas Vida'!B41=\"\",\"\",'TDPrimas Vida'!B41)","v":"Tokio Marine"},{"$f":"IF('TDPrimas Vida'!C41=\"\",\"\",'TDPrimas Vida'!C41)","v":73118.543780000007},{"$f":"IF('TDPrimas Vida'!D41=\"\",\"\",'TDPrimas Vida'!D41)","v":60690.993699999999},{"$f":"IF('TDPrimas Vida'!C41=\"\",\"\",IFERROR((E148/VLOOKUP(\"TOTAL\",$D$12:$L$312,2,0))*100,\"\"))","v":3.1930080034714585E-2},{"$f":"IF('TDPrimas Vida'!C41=\"\",\"\",IFERROR((E148/VLOOKUP(\"TOTAL\",$D$12:$L$312,3,0))*100,\"\"))","v":3.6816593464594947E-2},{"$f":"IF('TDPrimas Vida'!C41=\"\",\"\",E148-F148)","v":12427.550080000008},{"$f":"IFERROR(IF('TDPrimas Vida'!C41=\"\",\"\",(E148/F148-1)*100),\"ND\")","v":20.476761579206126},{"$f":"IF(E148=\"\",\"\",IFERROR((E148/VLOOKUP(D148&\"|\"&VLOOKUP(TDPrimas!$B$4,Cat!R:T,2,0),'TD Operación'!A:D,4,0))*100,\"ND\"))","v":9.2803727258783368},{"$f":"IF('TDPrimas Vida'!E41=\"\",\"\",'TDPrimas Vida'!E41)","v":0}]
[null,{"$f":"IF(C149=\"\",B148,D149)","v":"Tokio Marine"},null,{"$f":"IF(D148=\"\",\"\",\"1er Año\")","v":"1er Año"},{"$f":"IF(E148=\"\",\"\",(VLOOKUP(B149,'TDPrimas Vida'!$B:$N,5,0)))","v":36079.129679999998},{"$f":"IF(E148=\"\",\"\",(VLOOKUP(B149,'TDPrimas Vida'!$B:$N,6,0)))","v":23236.614799999999},{"$f":"IFERROR((E149/VLOOKUP(\"TOTAL\",$D$12:$L$312,2,0))*100,\"\")","v":1.575536708897577E-2},{"$f":"IFERROR((E149/VLOOKUP(\"TOTAL\",$D$12:$L$312,3,0))*100,\"\")","v":1.8166535892476184E-2},{"$f":"IF(E148=\"\",\"\",E149-F149)","v":12842.514879999999},{"$f":"IF(E148=\"\",\"\",IFERROR((E149/F149-1)*100,\"ND\"))","v":55.268441597611705},{"$f":"IF(E148=\"\",\"\",IFERROR((E149/VLOOKUP(B149&\"|\"&VLOOKUP(TDPrimas!$B$4,Cat!R:T,2,0),'TD Operación'!A:D,4,0))*100,\"ND\"))","v":4.5792456160387109},{"$f":"IF(E148=\"\",\"\",(VLOOKUP(B149,'TDPrimas Vida'!$B:$N,7,0)))","v":0}]
[null,{"$f":"IF(C150=\"\",B149,D150)","v":"Tokio Marine"},null,{"$f":"IF(D149=\"\",\"\",\"Renovación\")","v":"Renovación"},{"$f":"IF(E148=\"\",\"\",(VLOOKUP(B150,'TDPrimas Vida'!$B:$N,8,0)))","v":37039.414100000002},{"$f":"IF(E148=\"\",\"\",(VLOOKUP(B150,'TDPrimas Vida'!$B:$N,9,0)))","v":37454.378900000003},{"$f":"IFERROR((E150/VLOOKUP(\"TOTAL\",$D$12:$L$312,2,0))*100,\"\")","v":1.6174712945738808E-2},{"$f":"IFERROR((E150/VLOOKUP(\"TOTAL\",$D$12:$L$312,3,0))*100,\"\")","v":1.8650057572118756E-2},{"$f":"IF(E148=\"\",\"\",E150-F150)","v":-414.96480000000156},{"$f":"IF(E148=\"\",\"\",IFERROR((E150/F150-1)*100,\"ND\"))","v":-1.1079206549063914},{"$f":"IF(E148=\"\",\"\",IFERROR((E150/VLOOKUP(B150&\"|\"&VLOOKUP(TDPrimas!$B$4,Cat!R:T,2,0),'TD Operación'!A:D,4,0))*100,\"ND\"))","v":4.701127109839625},{"$f":"IF(E148=\"\",\"\",(VLOOKUP(B150,'TDPrimas Vida'!$B:$N,10,0)))","v":0}]
[null,{"$f":"IF(C151=\"\",B150,D151)","v":"Tokio Marine"},null,{"$f":"IF(D150=\"\",\"\",\"Únicas\")","v":"Únicas"},{"$f":"IF(E149=\"\",\"\",(VLOOKUP(B151,'TDPrimas Vida'!$B:$N,11,0)))","v":0},{"$f":"IF(E149=\"\",\"\",(VLOOKUP(B151,'TDPrimas Vida'!$B:$N,12,0)))","v":0},{"$f":"IFERROR((E151/VLOOKUP(\"TOTAL\",$D$12:$L$312,2,0))*100,\"\")","v":0},{"$f":"IFERROR((E151/VLOOKUP(\"TOTAL\",$D$12:$L$312,3,0))*100,\"\")","v":0},{"$f":"IF(E148=\"\",\"\",E151-F151)","v":0},{"$f":"IF(E148=\"\",\"\",IFERROR((E151/F151-1)*100,\"ND\"))","v":"ND"},{"$f":"IF(E148=\"\",\"\",IFERROR((E151/VLOOKUP(B151&\"|\"&VLOOKUP(TDPrimas!$B$4,Cat!R:T,2,0),'TD Operación'!A:D,4,0))*100,\"ND\"))","v":0},{"$f":"IF(E148=\"\",\"\",(VLOOKUP(B151,'TDPrimas Vida'!$B:$N,13,0)))","v":0}]
[null,{"$f":"IF(C152=\"\",B148,D152)","v":"Agroasemex"},{"$f":"IF('TDPrimas Vida'!A42=\"\",\"\",'TDPrimas Vida'!A42)","v":34},{"$f":"IF('TDPrimas Vida'!B42=\"\",\"\",'TDPrimas Vida'!B42)","v":"Agroasemex"},{"$f":"IF('TDPrimas Vida'!C42=\"\",\"\",'TDPrimas Vida'!C42)","v":58195.679779999999},{"$f":"IF('TDPrimas Vida'!D42=\"\",\"\",'TDPrimas Vida'!D42)","v":56430.65034},{"$f":"IF('TDPrimas Vida'!C42=\"\",\"\",IFERROR((E152/VLOOKUP(\"TOTAL\",$D$12:$L$312,2,0))*100,\"\"))","v":2.5413426156858026E-2},{"$f":"IF('TDPrimas Vida'!C42=\"\",\"\",IFERROR((E152/VLOOKUP(\"TOTAL\",$D$12:$L$312,3,0))*100,\"\"))","v":2.9302644351104554E-2},{"$f":"IF('TDPrimas Vida'!C42=\"\",\"\",E152-F152)","v":1765.0294399999984},{"$f":"IFERROR(IF('TDPrimas Vida'!C42=\"\",\"\",(E152/F152-1)*100),\"ND\")","v":3.1277850412241071},{"$f":"IF(E152=\"\",\"\",IFERROR((E152/VLOOKUP(D152&\"|\"&VLOOKUP(TDPrimas!$B$4,Cat!R:T,2,0),'TD Operación'!A:D,4,0))*100,\"ND\"))","v":0.68360195459263329},{"$f":"IF('TDPrimas Vida'!E42=\"\",\"\",'TDPrimas Vida'!E42)","v":0}]
[null,{"$f":"IF(C153=\"\",B152,D153)","v":"Agroasemex"},null,{"$f":"IF(D152=\"\",\"\",\"1er Año\")","v":"1er Año"},{"$f":"IF(E152=\"\",\"\",(VLOOKUP(B153,'TDPrimas Vida'!$B:$N,5,0)))","v":58195.679779999999},{"$f":"IF(E152=\"\",\"\",(VLOOKUP(B153,'TDPrimas Vida'!$B:$N,6,0)))","v":56430.65034},{"$f":"IFERROR((E153/VLOOKUP(\"TOTAL\",$D$12:$L$312,2,0))*100,\"\")","v":2.5413426156858026E-2},{"$f":"IFERROR((E153/VLOOKUP(\"TOTAL\",$D$12:$L$312,3,0))*100,\"\")","v":2.9302644351104554E-2},{"$f":"IF(E152=\"\",\"\",E153-F153)","v":1765.0294399999984},{"$f":"IF(E152=\"\",\"\",IFERROR((E153/F153-1)*100,\"ND\"))","v":3.1277850412241071},{"$f":"IF(E152=\"\",\"\",IFERROR((E153/VLOOKUP(B153&\"|\"&VLOOKUP(TDPrimas!$B$4,Cat!R:T,2,0),'TD Operación'!A:D,4,0))*100,\"ND\"))","v":0.68360195459263329},{"$f":"IF(E152=\"\",\"\",(VLOOKUP(B153,'TDPrimas Vida'!$B:$N,7,0)))","v":0}]
[null,{"$f":"IF(C154=\"\",B153,D154)","v":"Agroasemex"},null,{"$f":"IF(D153=\"\",\"\",\"Renovación\")","v":"Renovación"},{"$f":"IF(E152=\"\",\"\",(VLOOKUP(B154,'TDPrimas Vida'!$B:$N,8,0)))","v":0},{"$f":"IF(E152=\"\",\"\",(VLOOKUP(B154,'TDPrimas Vida'!$B:$N,9,0)))","v":0},{"$f":"IFERROR((E154/VLOOKUP(\"TOTAL\",$D$12:$L$312,2,0))*100,\"\")","v":0},{"$f":"IFERROR((E154/VLOOKUP(\"TOTAL\",$D$12:$L$312,3,0))*100,\"\")","v":0},{"$f":"IF(E152=\"\",\"\",E154-F154)","v":0},{"$f":"IF(E152=\"\",\"\",IFERROR((E154/F154-1)*100,\"ND\"))","v":"ND"},{"$f":"IF(E152=\"\",\"\",IFERROR((E154/VLOOKUP(B154&\"|\"&VLOOKUP(TDPrimas!$B$4,Cat!R:T,2,0),'TD Operación'!A:D,4,0))*100,\"ND\"))","v":0},{"$f":"IF(E152=\"\",\"\",(VLOOKUP(B154,'TDPrimas Vida'!$B:$N,10,0)))","v":0}]
[null,{"$f":"IF(C155=\"\",B154,D155)","v":"Agroasemex"},null,{"$f":"IF(D154=\"\",\"\",\"Únicas\")","v":"Únicas"},{"$f":"IF(E153=\"\",\"\",(VLOOKUP(B155,'TDPrimas Vida'!$B:$N,11,0)))","v":0},{"$f":"IF(E153=\"\",\"\",(VLOOKUP(B155,'TDPrimas Vida'!$B:$N,12,0)))","v":0},{"$f":"IFERROR((E155/VLOOKUP(\"TOTAL\",$D$12:$L$312,2,0))*100,\"\")","v":0},{"$f":"IFERROR((E155/VLOOKUP(\"TOTAL\",$D$12:$L$312,3,0))*100,\"\")","v":0},{"$f":"IF(E152=\"\",\"\",E155-F155)","v":0},{"$f":"IF(E152=\"\",\"\",IFERROR((E155/F155-1)*100,\"ND\"))","v":"ND"},{"$f":"IF(E152=\"\",\"\",IFERROR((E155/VLOOKUP(B155&\"|\"&VLOOKUP(TDPrimas!$B$4,Cat!R:T,2,0),'TD Operación'!A:D,4,0))*100,\"ND\"))","v":0},{"$f":"IF(E152=\"\",\"\",(VLOOKUP(B155,'TDPrimas Vida'!$B:$N,13,0)))","v":0}]
[null,{"$f":"IF(C156=\"\",B152,D156)","v":"HDI Seguros"},{"$f":"IF('TDPrimas Vida'!A43=\"\",\"\",'TDPrimas Vida'!A43)","v":35},{"$f":"IF('TDPrimas Vida'!B43=\"\",\"\",'TDPrimas Vida'!B43)","v":"HDI Seguros"},{"$f":"IF('TDPrimas Vida'!C43=\"\",\"\",'TDPrimas Vida'!C43)","v":1016.02262},{"$f":"IF('TDPrimas Vida'!D43=\"\",\"\",'TDPrimas Vida'!D43)","v":1424.02306},{"$f":"IF('TDPrimas Vida'!C43=\"\",\"\",IFERROR((E156/VLOOKUP(\"TOTAL\",$D$12:$L$312,2,0))*100,\"\"))","v":4.4368612798541696E-4},{"$f":"IF('TDPrimas Vida'!C43=\"\",\"\",IFERROR((E156/VLOOKUP(\"TOTAL\",$D$12:$L$312,3,0))*100,\"\"))","v":5.1158693564688253E-4},{"$f":"IF('TDPrimas Vida'!C43=\"\",\"\",E156-F156)","v":-408.00044000000003},{"$f":"IFERROR(IF('TDPrimas Vida'!C43=\"\",\"\",(E156/F156-1)*100),\"ND\")","v":-28.651252318905573},{"$f":"IF(E156=\"\",\"\",IFERROR((E156/VLOOKUP(D156&\"|\"&VLOOKUP(TDPrimas!$B$4,Cat!R:T,2,0),'TD Operación'!A:D,4,0))*100,\"ND\"))","v":1.1715181643323158E-2},{"$f":"IF('TDPrimas Vida'!E43=\"\",\"\",'TDPrimas Vida'!E43)","v":0}]
[null,{"$f":"IF(C157=\"\",B156,D157)","v":"HDI Seguros"},null,{"$f":"IF(D156=\"\",\"\",\"1er Año\")","v":"1er Año"},{"$f":"IF(E156=\"\",\"\",(VLOOKUP(B157,'TDPrimas Vida'!$B:$N,5,0)))","v":0},{"$f":"IF(E156=\"\",\"\",(VLOOKUP(B157,'TDPrimas Vida'!$B:$N,6,0)))","v":0},{"$f":"IFERROR((E157/VLOOKUP(\"TOTAL\",$D$12:$L$312,2,0))*100,\"\")","v":0},{"$f":"IFERROR((E157/VLOOKUP(\"TOTAL\",$D$12:$L$312,3,0))*100,\"\")","v":0},{"$f":"IF(E156=\"\",\"\",E157-F157)","v":0},{"$f":"IF(E156=\"\",\"\",IFERROR((E157/F157-1)*100,\"ND\"))","v":"ND"},{"$f":"IF(E156=\"\",\"\",IFERROR((E157/VLOOKUP(B157&\"|\"&VLOOKUP(TDPrimas!$B$4,Cat!R:T,2,0),'TD Operación'!A:D,4,0))*100,\"ND\"))","v":0},{"$f":"IF(E156=\"\",\"\",(VLOOKUP(B157,'TDPrimas Vida'!$B:$N,7,0)))","v":0}]
[null,{"$f":"IF(C158=\"\",B157,D158)","v":"HDI Seguros"},null,{"$f":"IF(D157=\"\",\"\",\"Renovación\")","v":"Renovación"},{"$f":"IF(E156=\"\",\"\",(VLOOKUP(B158,'TDPrimas Vida'!$B:$N,8,0)))","v":1016.02262},{"$f":"IF(E156=\"\",\"\",(VLOOKUP(B158,'TDPrimas Vida'!$B:$N,9,0)))","v":1424.02306},{"$f":"IFERROR((E158/VLOOKUP(\"TOTAL\",$D$12:$L$312,2,0))*100,\"\")","v":4.4368612798541696E-4},{"$f":"IFERROR((E158/VLOOKUP(\"TOTAL\",$D$12:$L$312,3,0))*100,\"\")","v":5.1158693564688253E-4},{"$f":"IF(E156=\"\",\"\",E158-F158)","v":-408.00044000000003},{"$f":"IF(E156=\"\",\"\",IFERROR((E158/F158-1)*100,\"ND\"))","v":-28.651252318905573},{"$f":"IF(E156=\"\",\"\",IFERROR((E158/VLOOKUP(B158&\"|\"&VLOOKUP(TDPrimas!$B$4,Cat!R:T,2,0),'TD Operación'!A:D,4,0))*100,\"ND\"))","v":1.1715181643323158E-2},{"$f":"IF(E156=\"\",\"\",(VLOOKUP(B158,'TDPrimas Vida'!$B:$N,10,0)))","v":0}]
[null,{"$f":"IF(C159=\"\",B158,D159)","v":"HDI Seguros"},null,{"$f":"IF(D158=\"\",\"\",\"Únicas\")","v":"Únicas"},{"$f":"IF(E157=\"\",\"\",(VLOOKUP(B159,'TDPrimas Vida'!$B:$N,11,0)))","v":0},{"$f":"IF(E157=\"\",\"\",(VLOOKUP(B159,'TDPrimas Vida'!$B:$N,12,0)))","v":0},{"$f":"IFERROR((E159/VLOOKUP(\"TOTAL\",$D$12:$L$312,2,0))*100,\"\")","v":0},{"$f":"IFERROR((E159/VLOOKUP(\"TOTAL\",$D$12:$L$312,3,0))*100,\"\")","v":0},{"$f":"IF(E156=\"\",\"\",E159-F159)","v":0},{"$f":"IF(E156=\"\",\"\",IFERROR((E159/F159-1)*100,\"ND\"))","v":"ND"},{"$f":"IF(E156=\"\",\"\",IFERROR((E159/VLOOKUP(B159&\"|\"&VLOOKUP(TDPrimas!$B$4,Cat!R:T,2,0),'TD Operación'!A:D,4,0))*100,\"ND\"))","v":0},{"$f":"IF(E156=\"\",\"\",(VLOOKUP(B159,'TDPrimas Vida'!$B:$N,13,0)))","v":0}]
[null,{"$f":"IF(C160=\"\",B156,D160)","v":"Aserta Seguros de Vida"},{"$f":"IF('TDPrimas Vida'!A44=\"\",\"\",'TDPrimas Vida'!A44)","v":36},{"$f":"IF('TDPrimas Vida'!B44=\"\",\"\",'TDPrimas Vida'!B44)","v":"Aserta Seguros de Vida"},{"$f":"IF('TDPrimas Vida'!C44=\"\",\"\",'TDPrimas Vida'!C44)","v":0},{"$f":"IF('TDPrimas Vida'!D44=\"\",\"\",'TDPrimas Vida'!D44)","v":596.24644000000001},{"$f":"IF('TDPrimas Vida'!C44=\"\",\"\",IFERROR((E160/VLOOKUP(\"TOTAL\",$D$12:$L$312,2,0))*100,\"\"))","v":0},{"$f":"IF('TDPrimas Vida'!C44=\"\",\"\",IFERROR((E160/VLOOKUP(\"TOTAL\",$D$12:$L$312,3,0))*100,\"\"))","v":0},{"$f":"IF('TDPrimas Vida'!C44=\"\",\"\",E160-F160)","v":-596.24644000000001},{"$f":"IFERROR(IF('TDPrimas Vida'!C44=\"\",\"\",(E160/F160-1)*100),\"ND\")","v":-100},{"$f":"IF(E160=\"\",\"\",IFERROR((E160/VLOOKUP(D160&\"|\"&VLOOKUP(TDPrimas!$B$4,Cat!R:T,2,0),'TD Operación'!A:D,4,0))*100,\"ND\"))","v":"ND"},{"$f":"IF('TDPrimas Vida'!E44=\"\",\"\",'TDPrimas Vida'!E44)","v":0}]
[null,{"$f":"IF(C161=\"\",B160,D161)","v":"Aserta Seguros de Vida"},null,{"$f":"IF(D160=\"\",\"\",\"1er Año\")","v":"1er Año"},{"$f":"IF(E160=\"\",\"\",(VLOOKUP(B161,'TDPrimas Vida'!$B:$N,5,0)))","v":0},{"$f":"IF(E160=\"\",\"\",(VLOOKUP(B161,'TDPrimas Vida'!$B:$N,6,0)))","v":616.71187999999995},{"$f":"IFERROR((E161/VLOOKUP(\"TOTAL\",$D$12:$L$312,2,0))*100,\"\")","v":0},{"$f":"IFERROR((E161/VLOOKUP(\"TOTAL\",$D$12:$L$312,3,0))*100,\"\")","v":0},{"$f":"IF(E160=\"\",\"\",E161-F161)","v":-616.71187999999995},{"$f":"IF(E160=\"\",\"\",IFERROR((E161/F161-1)*100,\"ND\"))","v":-100},{"$f":"IF(E160=\"\",\"\",IFERROR((E161/VLOOKUP(B161&\"|\"&VLOOKUP(TDPrimas!$B$4,Cat!R:T,2,0),'TD Operación'!A:D,4,0))*100,\"ND\"))","v":"ND"},{"$f":"IF(E160=\"\",\"\",(VLOOKUP(B161,'TDPrimas Vida'!$B:$N,7,0)))","v":0}]
[null,{"$f":"IF(C162=\"\",B161,D162)","v":"Aserta Seguros de Vida"},null,{"$f":"IF(D161=\"\",\"\",\"Renovación\")","v":"Renovación"},{"$f":"IF(E160=\"\",\"\",(VLOOKUP(B162,'TDPrimas Vida'!$B:$N,8,0)))","v":0},{"$f":"IF(E160=\"\",\"\",(VLOOKUP(B162,'TDPrimas Vida'!$B:$N,9,0)))","v":-3.1353399999999998},{"$f":"IFERROR((E162/VLOOKUP(\"TOTAL\",$D$12:$L$312,2,0))*100,\"\")","v":0},{"$f":"IFERROR((E162/VLOOKUP(\"TOTAL\",$D$12:$L$312,3,0))*100,\"\")","v":0},{"$f":"IF(E160=\"\",\"\",E162-F162)","v":3.1353399999999998},{"$f":"IF(E160=\"\",\"\",IFERROR((E162/F162-1)*100,\"ND\"))","v":-100},{"$f":"IF(E160=\"\",\"\",IFERROR((E162/VLOOKUP(B162&\"|\"&VLOOKUP(TDPrimas!$B$4,Cat!R:T,2,0),'TD Operación'!A:D,4,0))*100,\"ND\"))","v":"ND"},{"$f":"IF(E160=\"\",\"\",(VLOOKUP(B162,'TDPrimas Vida'!$B:$N,10,0)))","v":0}]
[null,{"$f":"IF(C163=\"\",B162,D163)","v":"Aserta Seguros de Vida"},null,{"$f":"IF(D162=\"\",\"\",\"Únicas\")","v":"Únicas"},{"$f":"IF(E161=\"\",\"\",(VLOOKUP(B163,'TDPrimas Vida'!$B:$N,11,0)))","v":0},{"$f":"IF(E161=\"\",\"\",(VLOOKUP(B163,'TDPrimas Vida'!$B:$N,12,0)))","v":-17.330100000000002},{"$f":"IFERROR((E163/VLOOKUP(\"TOTAL\",$D$12:$L$312,2,0))*100,\"\")","v":0},{"$f":"IFERROR((E163/VLOOKUP(\"TOTAL\",$D$12:$L$312,3,0))*100,\"\")","v":0},{"$f":"IF(E160=\"\",\"\",E163-F163)","v":17.330100000000002},{"$f":"IF(E160=\"\",\"\",IFERROR((E163/F163-1)*100,\"ND\"))","v":-100},{"$f":"IF(E160=\"\",\"\",IFERROR((E163/VLOOKUP(B163&\"|\"&VLOOKUP(TDPrimas!$B$4,Cat!R:T,2,0),'TD Operación'!A:D,4,0))*100,\"ND\"))","v":"ND"},{"$f":"IF(E160=\"\",\"\",(VLOOKUP(B163,'TDPrimas Vida'!$B:$N,13,0)))","v":0}]
[null,{"$f":"IF(C164=\"\",B160,D164)","v":"Zurich Vida"},{"$f":"IF('TDPrimas Vida'!A45=\"\",\"\",'TDPrimas Vida'!A45)","v":36},{"$f":"IF('TDPrimas Vida'!B45=\"\",\"\",'TDPrimas Vida'!B45)","v":"Zurich Vida"},{"$f":"IF('TDPrimas Vida'!C45=\"\",\"\",'TDPrimas Vida'!C45)","v":0},{"$f":"IF('TDPrimas Vida'!D45=\"\",\"\",'TDPrimas Vida'!D45)","v":240159.45340999999},{"$f":"IF('TDPrimas Vida'!C45=\"\",\"\",IFERROR((E164/VLOOKUP(\"TOTAL\",$D$12:$L$312,2,0))*100,\"\"))","v":0},{"$f":"IF('TDPrimas Vida'!C45=\"\",\"\",IFERROR((E164/VLOOKUP(\"TOTAL\",$D$12:$L$312,3,0))*100,\"\"))","v":0},{"$f":"IF('TDPrimas Vida'!C45=\"\",\"\",E164-F164)","v":-240159.45340999999},{"$f":"IFERROR(IF('TDPrimas Vida'!C45=\"\",\"\",(E164/F164-1)*100),\"ND\")","v":-100},{"$f":"IF(E164=\"\",\"\",IFERROR((E164/VLOOKUP(D164&\"|\"&VLOOKUP(TDPrimas!$B$4,Cat!R:T,2,0),'TD Operación'!A:D,4,0))*100,\"ND\"))","v":"ND"},{"$f":"IF('TDPrimas Vida'!E45=\"\",\"\",'TDPrimas Vida'!E45)","v":0}]
[null,{"$f":"IF(C165=\"\",B164,D165)","v":"Zurich Vida"},null,{"$f":"IF(D164=\"\",\"\",\"1er Año\")","v":"1er Año"},{"$f":"IF(E164=\"\",\"\",(VLOOKUP(B165,'TDPrimas Vida'!$B:$N,5,0)))","v":0},{"$f":"IF(E164=\"\",\"\",(VLOOKUP(B165,'TDPrimas Vida'!$B:$N,6,0)))","v":0},{"$f":"IFERROR((E165/VLOOKUP(\"TOTAL\",$D$12:$L$312,2,0))*100,\"\")","v":0},{"$f":"IFERROR((E165/VLOOKUP(\"TOTAL\",$D$12:$L$312,3,0))*100,\"\")","v":0},{"$f":"IF(E164=\"\",\"\",E165-F165)","v":0},{"$f":"IF(E164=\"\",\"\",IFERROR((E165/F165-1)*100,\"ND\"))","v":"ND"},{"$f":"IF(E164=\"\",\"\",IFERROR((E165/VLOOKUP(B165&\"|\"&VLOOKUP(TDPrimas!$B$4,Cat!R:T,2,0),'TD Operación'!A:D,4,0))*100,\"ND\"))","v":"ND"},{"$f":"IF(E164=\"\",\"\",(VLOOKUP(B165,'TDPrimas Vida'!$B:$N,7,0)))","v":0}]
[null,{"$f":"IF(C166=\"\",B165,D166)","v":"Zurich Vida"},null,{"$f":"IF(D165=\"\",\"\",\"Renovación\")","v":"Renovación"},{"$f":"IF(E164=\"\",\"\",(VLOOKUP(B166,'TDPrimas Vida'!$B:$N,8,0)))","v":0},{"$f":"IF(E164=\"\",\"\",(VLOOKUP(B166,'TDPrimas Vida'!$B:$N,9,0)))","v":0},{"$f":"IFERROR((E166/VLOOKUP(\"TOTAL\",$D$12:$L$312,2,0))*100,\"\")","v":0},{"$f":"IFERROR((E166/VLOOKUP(\"TOTAL\",$D$12:$L$312,3,0))*100,\"\")","v":0},{"$f":"IF(E164=\"\",\"\",E166-F166)","v":0},{"$f":"IF(E164=\"\",\"\",IFERROR((E166/F166-1)*100,\"ND\"))","v":"ND"},{"$f":"IF(E164=\"\",\"\",IFERROR((E166/VLOOKUP(B166&\"|\"&VLOOKUP(TDPrimas!$B$4,Cat!R:T,2,0),'TD Operación'!A:D,4,0))*100,\"ND\"))","v":"ND"},{"$f":"IF(E164=\"\",\"\",(VLOOKUP(B166,'TDPrimas Vida'!$B:$N,10,0)))","v":0}]
[null,{"$f":"IF(C167=\"\",B166,D167)","v":"Zurich Vida"},null,{"$f":"IF(D166=\"\",\"\",\"Únicas\")","v":"Únicas"},{"$f":"IF(E165=\"\",\"\",(VLOOKUP(B167,'TDPrimas Vida'!$B:$N,11,0)))","v":0},{"$f":"IF(E165=\"\",\"\",(VLOOKUP(B167,'TDPrimas Vida'!$B:$N,12,0)))","v":0},{"$f":"IFERROR((E167/VLOOKUP(\"TOTAL\",$D$12:$L$312,2,0))*100,\"\")","v":0},{"$f":"IFERROR((E167/VLOOKUP(\"TOTAL\",$D$12:$L$312,3,0))*100,\"\")","v":0},{"$f":"IF(E164=\"\",\"\",E167-F167)","v":0},{"$f":"IF(E164=\"\",\"\",IFERROR((E167/F167-1)*100,\"ND\"))","v":"ND"},{"$f":"IF(E164=\"\",\"\",IFERROR((E167/VLOOKUP(B167&\"|\"&VLOOKUP(TDPrimas!$B$4,Cat!R:T,2,0),'TD Operación'!A:D,4,0))*100,\"ND\"))","v":"ND"},{"$f":"IF(E164=\"\",\"\",(VLOOKUP(B167,'TDPrimas Vida'!$B:$N,13,0)))","v":0}]
[null,{"$f":"IF(C168=\"\",B164,D168)","v":"TOTAL RESTO"},{"$f":"IF('TDPrimas Vida'!A46=\"\",\"\",'TDPrimas Vida'!A46)","v":150.1},{"$f":"IF('TDPrimas Vida'!B46=\"\",\"\",'TDPrimas Vida'!B46)","v":"TOTAL RESTO"},{"$f":"IF('TDPrimas Vida'!C46=\"\",\"\",'TDPrimas Vida'!C46)","v":13973396.01199},{"$f":"IF('TDPrimas Vida'!D46=\"\",\"\",'TDPrimas Vida'!D46)","v":17039105.54662},{"$f":"IF('TDPrimas Vida'!C46=\"\",\"\",IFERROR((E168/VLOOKUP(\"TOTAL\",$D$12:$L$312,2,0))*100,\"\"))","v":6.1020314403696148},{"$f":"IF('TDPrimas Vida'!C46=\"\",\"\",IFERROR((E168/VLOOKUP(\"TOTAL\",$D$12:$L$312,3,0))*100,\"\"))","v":7.03587371544379},{"$f":"IF('TDPrimas Vida'!C46=\"\",\"\",E168-F168)","v":-3065709.5346300006},{"$f":"IFERROR(IF('TDPrimas Vida'!C46=\"\",\"\",(E168/F168-1)*100),\"ND\")","v":-17.992197573059443},{"$f":"IF(E168=\"\",\"\",IFERROR((E168/VLOOKUP(D168&\"|\"&VLOOKUP(TDPrimas!$B$4,Cat!R:T,2,0),'TD Operación'!A:D,4,0))*100,\"ND\"))","v":11.12106910352902},{"$f":"IF('TDPrimas Vida'!E46=\"\",\"\",'TDPrimas Vida'!E46)","v":0}]
[null,{"$f":"IF(C169=\"\",B168,D169)","v":"TOTAL RESTO"},null,{"$f":"IF(D168=\"\",\"\",\"1er Año\")","v":"1er Año"},{"$f":"IF(E168=\"\",\"\",(VLOOKUP(B169,'TDPrimas Vida'!$B:$N,5,0)))","v":7731590.6809599996},{"$f":"IF(E168=\"\",\"\",(VLOOKUP(B169,'TDPrimas Vida'!$B:$N,6,0)))","v":11093937.924069999},{"$f":"IFERROR((E169/VLOOKUP(\"TOTAL\",$D$12:$L$312,2,0))*100,\"\")","v":3.3763023232723657},{"$f":"IFERROR((E169/VLOOKUP(\"TOTAL\",$D$12:$L$312,3,0))*100,\"\")","v":3.893004649983403},{"$f":"IF(E168=\"\",\"\",E169-F169)","v":-3362347.2431099992},{"$f":"IF(E168=\"\",\"\",IFERROR((E169/F169-1)*100,\"ND\"))","v":-30.30796878550106},{"$f":"IF(E168=\"\",\"\",IFERROR((E169/VLOOKUP(B169&\"|\"&VLOOKUP(TDPrimas!$B$4,Cat!R:T,2,0),'TD Operación'!A:D,4,0))*100,\"ND\"))","v":6.1533756124408248},{"$f":"IF(E168=\"\",\"\",(VLOOKUP(B169,'TDPrimas Vida'!$B:$N,7,0)))","v":0}]
[null,{"$f":"IF(C170=\"\",B169,D170)","v":"TOTAL RESTO"},null,{"$f":"IF(D169=\"\",\"\",\"Renovación\")","v":"Renovación"},{"$f":"IF(E168=\"\",\"\",(VLOOKUP(B170,'TDPrimas Vida'!$B:$N,8,0)))","v":5370821.8124899995},{"$f":"IF(E168=\"\",\"\",(VLOOKUP(B170,'TDPrimas Vida'!$B:$N,9,0)))","v":4891594.4144799998},{"$f":"IFERROR((E170/VLOOKUP(\"TOTAL\",$D$12:$L$312,2,0))*100,\"\")","v":2.3453800015626691},{"$f":"IFERROR((E170/VLOOKUP(\"TOTAL\",$D$12:$L$312,3,0))*100,\"\")","v":2.7043121076942112},{"$f":"IF(E168=\"\",\"\",E170-F170)","v":479227.39800999966},{"$f":"IF(E168=\"\",\"\",IFERROR((E170/F170-1)*100,\"ND\"))","v":9.7969569306768367},{"$f":"IF(E168=\"\",\"\",IFERROR((E170/VLOOKUP(B170&\"|\"&VLOOKUP(TDPrimas!$B$4,Cat!R:T,2,0),'TD Operación'!A:D,4,0))*100,\"ND\"))","v":4.2744999474852792},{"$f":"IF(E168=\"\",\"\",(VLOOKUP(B170,'TDPrimas Vida'!$B:$N,10,0)))","v":0}]
[null,{"$f":"IF(C171=\"\",B170,D171)","v":"TOTAL RESTO"},null,{"$f":"IF(D170=\"\",\"\",\"Únicas\")","v":"Únicas"},{"$f":"IF(E169=\"\",\"\",(VLOOKUP(B171,'TDPrimas Vida'!$B:$N,11,0)))","v":870989.79785999982},{"$f":"IF(E169=\"\",\"\",(VLOOKUP(B171,'TDPrimas Vida'!$B:$N,12,0)))","v":813413.75465999986},{"$f":"IFERROR((E171/VLOOKUP(\"TOTAL\",$D$12:$L$312,2,0))*100,\"\")","v":0.3803518576459492},{"$f":"IFERROR((E171/VLOOKUP(\"TOTAL\",$D$12:$L$312,3,0))*100,\"\")","v":0.43856011952459778},{"$f":"IF(E168=\"\",\"\",E171-F171)","v":57576.043199999956},{"$f":"IF(E168=\"\",\"\",IFERROR((E171/F171-1)*100,\"ND\"))","v":7.078321809798549},{"$f":"IF(E168=\"\",\"\",IFERROR((E171/VLOOKUP(B171&\"|\"&VLOOKUP(TDPrimas!$B$4,Cat!R:T,2,0),'TD Operación'!A:D,4,0))*100,\"ND\"))","v":0.69319854115337309},{"$f":"IF(E168=\"\",\"\",(VLOOKUP(B171,'TDPrimas Vida'!$B:$N,13,0)))","v":0}]
[null,{"$f":"IF(C172=\"\",B168,D172)","v":"TOTAL"},{"$f":"IF('TDPrimas Vida'!A47=\"\",\"\",'TDPrimas Vida'!A47)","v":201.1},{"$f":"IF('TDPrimas Vida'!B47=\"\",\"\",'TDPrimas Vida'!B47)","v":"TOTAL"},{"$f":"IF('TDPrimas Vida'!C47=\"\",\"\",'TDPrimas Vida'!C47)","v":228995804.89778},{"$f":"IF('TDPrimas Vida'!D47=\"\",\"\",'TDPrimas Vida'!D47)","v":198602143.48813996},{"$f":"IF('TDPrimas Vida'!C47=\"\",\"\",IFERROR((E172/VLOOKUP(\"TOTAL\",$D$12:$L$312,2,0))*100,\"\"))","v":100},{"$f":"IF('TDPrimas Vida'!C47=\"\",\"\",IFERROR((E172/VLOOKUP(\"TOTAL\",$D$12:$L$312,3,0))*100,\"\"))","v":115.3037932400035},{"$f":"IF('TDPrimas Vida'!C47=\"\",\"\",E172-F172)","v":30393661.409640044},{"$f":"IFERROR(IF('TDPrimas Vida'!C47=\"\",\"\",(E172/F172-1)*100),\"ND\")","v":15.303793240003504},{"$f":"IF(E172=\"\",\"\",IFERROR((E172/VLOOKUP(D172&\"|\"&VLOOKUP(TDPrimas!$B$4,Cat!R:T,2,0),'TD Operación'!A:D,4,0))*100,\"ND\"))","v":38.979625068861765},{"$f":"IF('TDPrimas Vida'!E47=\"\",\"\",'TDPrimas Vida'!E47)","v":0}]
[null,{"$f":"IF(C173=\"\",B172,D173)","v":"TOTAL"},null,{"$f":"IF(D172=\"\",\"\",\"1er Año\")","v":"1er Año"},{"$f":"IF(E172=\"\",\"\",(VLOOKUP(B173,'TDPrimas Vida'!$B:$N,5,0)))","v":106001125.21638998},{"$f":"IF(E172=\"\",\"\",(VLOOKUP(B173,'TDPrimas Vida'!$B:$N,6,0)))","v":87993281.317409977},{"$f":"IFERROR((E173/VLOOKUP(\"TOTAL\",$D$12:$L$312,2,0))*100,\"\")","v":46.289548956456713},{"$f":"IFERROR((E173/VLOOKUP(\"TOTAL\",$D$12:$L$312,3,0))*100,\"\")","v":53.373605820483064},{"$f":"IF(E172=\"\",\"\",E173-F173)","v":18007843.898980007},{"$f":"IF(E172=\"\",\"\",IFERROR((E173/F173-1)*100,\"ND\"))","v":20.465021453197085},{"$f":"IF(E172=\"\",\"\",IFERROR((E173/VLOOKUP(B173&\"|\"&VLOOKUP(TDPrimas!$B$4,Cat!R:T,2,0),'TD Operación'!A:D,4,0))*100,\"ND\"))","v":18.043492629294043},{"$f":"IF(E172=\"\",\"\",(VLOOKUP(B173,'TDPrimas Vida'!$B:$N,7,0)))","v":0}]
[null,{"$f":"IF(C174=\"\",B173,D174)","v":"TOTAL"},null,{"$f":"IF(D173=\"\",\"\",\"Renovación\")","v":"Renovación"},{"$f":"IF(E172=\"\",\"\",(VLOOKUP(B174,'TDPrimas Vida'!$B:$N,8,0)))","v":94903135.625419989},{"$f":"IF(E172=\"\",\"\",(VLOOKUP(B174,'TDPrimas Vida'!$B:$N,9,0)))","v":86775834.941439986},{"$f":"IFERROR((E174/VLOOKUP(\"TOTAL\",$D$12:$L$312,2,0))*100,\"\")","v":41.443176510496862},{"$f":"IFERROR((E174/VLOOKUP(\"TOTAL\",$D$12:$L$312,3,0))*100,\"\")","v":47.785554555753009},{"$f":"IF(E172=\"\",\"\",E174-F174)","v":8127300.683980003},{"$f":"IF(E172=\"\",\"\",IFERROR((E174/F174-1)*100,\"ND\"))","v":9.3658570839043609},{"$f":"IF(E172=\"\",\"\",IFERROR((E174/VLOOKUP(B174&\"|\"&VLOOKUP(TDPrimas!$B$4,Cat!R:T,2,0),'TD Operación'!A:D,4,0))*100,\"ND\"))","v":16.154394820418265},{"$f":"IF(E172=\"\",\"\",(VLOOKUP(B174,'TDPrimas Vida'!$B:$N,10,0)))","v":0}]
[null,{"$f":"IF(C175=\"\",B174,D175)","v":"TOTAL"},null,{"$f":"IF(D174=\"\",\"\",\"Únicas\")","v":"Únicas"},{"$f":"IF(E173=\"\",\"\",(VLOOKUP(B175,'TDPrimas Vida'!$B:$N,11,0)))","v":28091550.335290004},{"$f":"IF(E173=\"\",\"\",(VLOOKUP(B175,'TDPrimas Vida'!$B:$N,12,0)))","v":23592867.775880001},{"$f":"IFERROR((E175/VLOOKUP(\"TOTAL\",$D$12:$L$312,2,0))*100,\"\")","v":12.267277275157776},{"$f":"IFERROR((E175/VLOOKUP(\"TOTAL\",$D$12:$L$312,3,0))*100,\"\")","v":14.144636025525859},{"$f":"IF(E172=\"\",\"\",E175-F175)","v":4498682.5594100021},{"$f":"IF(E172=\"\",\"\",IFERROR((E175/F175-1)*100,\"ND\"))","v":19.067976823102441},{"$f":"IF(E172=\"\",\"\",IFERROR((E175/VLOOKUP(B175&\"|\"&VLOOKUP(TDPrimas!$B$4,Cat!R:T,2,0),'TD Operación'!A:D,4,0))*100,\"ND\"))","v":4.7817386880141823},{"$f":"IF(E172=\"\",\"\",(VLOOKUP(B175,'TDPrimas Vida'!$B:$N,13,0)))","v":0}]
[null,{"$f":"IF(C176=\"\",B172,D176)","v":"TOTAL"},{"$f":"IF('TDPrimas Vida'!A48=\"\",\"\",'TDPrimas Vida'!A48)","v":""},{"$f":"IF('TDPrimas Vida'!B48=\"\",\"\",'TDPrimas Vida'!B48)","v":""},{"$f":"IF('TDPrimas Vida'!C48=\"\",\"\",'TDPrimas Vida'!C48)","v":""},{"$f":"IF('TDPrimas Vida'!D48=\"\",\"\",'TDPrimas Vida'!D48)","v":""},{"$f":"IF('TDPrimas Vida'!C48=\"\",\"\",IFERROR((E176/VLOOKUP(\"TOTAL\",$D$12:$L$312,2,0))*100,\"\"))","v":""},{"$f":"IF('TDPrimas Vida'!C48=\"\",\"\",IFERROR((E176/VLOOKUP(\"TOTAL\",$D$12:$L$312,3,0))*100,\"\"))","v":""},{"$f":"IF('TDPrimas Vida'!C48=\"\",\"\",E176-F176)","v":""},{"$f":"IFERROR(IF('TDPrimas Vida'!C48=\"\",\"\",(E176/F176-1)*100),\"ND\")","v":""},{"$f":"IF(E176=\"\",\"\",IFERROR((E176/VLOOKUP(D176&\"|\"&VLOOKUP(TDPrimas!$B$4,Cat!R:T,2,0),'TD Operación'!A:D,4,0))*100,\"ND\"))","v":""},{"$f":"IF('TDPrimas Vida'!E48=\"\",\"\",'TDPrimas Vida'!E48)","v":""}]
[null,{"$f":"IF(C177=\"\",B176,D177)","v":"TOTAL"},null,{"$f":"IF(D176=\"\",\"\",\"1er Año\")","v":""},{"$f":"IF(E176=\"\",\"\",(VLOOKUP(B177,'TDPrimas Vida'!$B:$N,5,0)))","v":""},{"$f":"IF(E176=\"\",\"\",(VLOOKUP(B177,'TDPrimas Vida'!$B:$N,6,0)))","v":""},{"$f":"IFERROR((E177/VLOOKUP(\"TOTAL\",$D$12:$L$312,2,0))*100,\"\")","v":""},{"$f":"IFERROR((E177/VLOOKUP(\"TOTAL\",$D$12:$L$312,3,0))*100,\"\")","v":""},{"$f":"IF(E176=\"\",\"\",E177-F177)","v":""},{"$f":"IF(E176=\"\",\"\",IFERROR((E177/F177-1)*100,\"ND\"))","v":""},{"$f":"IF(E176=\"\",\"\",IFERROR((E177/VLOOKUP(B177&\"|\"&VLOOKUP(TDPrimas!$B$4,Cat!R:T,2,0),'TD Operación'!A:D,4,0))*100,\"ND\"))","v":""},{"$f":"IF(E176=\"\",\"\",(VLOOKUP(B177,'TDPrimas Vida'!$B:$N,7,0)))","v":""}]
[null,{"$f":"IF(C178=\"\",B177,D178)","v":"TOTAL"},null,{"$f":"IF(D177=\"\",\"\",\"Renovación\")","v":""},{"$f":"IF(E176=\"\",\"\",(VLOOKUP(B178,'TDPrimas Vida'!$B:$N,8,0)))","v":""},{"$f":"IF(E176=\"\",\"\",(VLOOKUP(B178,'TDPrimas Vida'!$B:$N,9,0)))","v":""},{"$f":"IFERROR((E178/VLOOKUP(\"TOTAL\",$D$12:$L$312,2,0))*100,\"\")","v":""},{"$f":"IFERROR((E178/VLOOKUP(\"TOTAL\",$D$12:$L$312,3,0))*100,\"\")","v":""},{"$f":"IF(E176=\"\",\"\",E178-F178)","v":""},{"$f":"IF(E176=\"\",\"\",IFERROR((E178/F178-1)*100,\"ND\"))","v":""},{"$f":"IF(E176=\"\",\"\",IFERROR((E178/VLOOKUP(B178&\"|\"&VLOOKUP(TDPrimas!$B$4,Cat!R:T,2,0),'TD Operación'!A:D,4,0))*100,\"ND\"))","v":""},{"$f":"IF(E176=\"\",\"\",(VLOOKUP(B178,'TDPrimas Vida'!$B:$N,10,0)))","v":""}]
[null,{"$f":"IF(C179=\"\",B178,D179)","v":"TOTAL"},null,{"$f":"IF(D178=\"\",\"\",\"Únicas\")","v":""},{"$f":"IF(E177=\"\",\"\",(VLOOKUP(B179,'TDPrimas Vida'!$B:$N,11,0)))","v":""},{"$f":"IF(E177=\"\",\"\",(VLOOKUP(B179,'TDPrimas Vida'!$B:$N,12,0)))","v":""},{"$f":"IFERROR((E179/VLOOKUP(\"TOTAL\",$D$12:$L$312,2,0))*100,\"\")","v":""},{"$f":"IFERROR((E179/VLOOKUP(\"TOTAL\",$D$12:$L$312,3,0))*100,\"\")","v":""},{"$f":"IF(E176=\"\",\"\",E179-F179)","v":""},{"$f":"IF(E176=\"\",\"\",IFERROR((E179/F179-1)*100,\"ND\"))","v":""},{"$f":"IF(E176=\"\",\"\",IFERROR((E179/VLOOKUP(B179&\"|\"&VLOOKUP(TDPrimas!$B$4,Cat!R:T,2,0),'TD Operación'!A:D,4,0))*100,\"ND\"))","v":""},{"$f":"IF(E176=\"\",\"\",(VLOOKUP(B179,'TDPrimas Vida'!$B:$N,13,0)))","v":""}]
[null,{"$f":"IF(C180=\"\",B176,D180)","v":"TOTAL"},{"$f":"IF('TDPrimas Vida'!A49=\"\",\"\",'TDPrimas Vida'!A49)","v":""},{"$f":"IF('TDPrimas Vida'!B49=\"\",\"\",'TDPrimas Vida'!B49)","v":""},{"$f":"IF('TDPrimas Vida'!C49=\"\",\"\",'TDPrimas Vida'!C49)","v":""},{"$f":"IF('TDPrimas Vida'!D49=\"\",\"\",'TDPrimas Vida'!D49)","v":""},{"$f":"IF('TDPrimas Vida'!C49=\"\",\"\",IFERROR((E180/VLOOKUP(\"TOTAL\",$D$12:$L$312,2,0))*100,\"\"))","v":""},{"$f":"IF('TDPrimas Vida'!C49=\"\",\"\",IFERROR((E180/VLOOKUP(\"TOTAL\",$D$12:$L$312,3,0))*100,\"\"))","v":""},{"$f":"IF('TDPrimas Vida'!C49=\"\",\"\",E180-F180)","v":""},{"$f":"IFERROR(IF('TDPrimas Vida'!C49=\"\",\"\",(E180/F180-1)*100),\"ND\")","v":""},{"$f":"IF(E180=\"\",\"\",IFERROR((E180/VLOOKUP(D180&\"|\"&VLOOKUP(TDPrimas!$B$4,Cat!R:T,2,0),'TD Operación'!A:D,4,0))*100,\"ND\"))","v":""},{"$f":"IF('TDPrimas Vida'!E49=\"\",\"\",'TDPrimas Vida'!E49)","v":""}]
[null,{"$f":"IF(C181=\"\",B180,D181)","v":"TOTAL"},null,{"$f":"IF(D180=\"\",\"\",\"1er Año\")","v":""},{"$f":"IF(E180=\"\",\"\",(VLOOKUP(B181,'TDPrimas Vida'!$B:$N,5,0)))","v":""},{"$f":"IF(E180=\"\",\"\",(VLOOKUP(B181,'TDPrimas Vida'!$B:$N,6,0)))","v":""},{"$f":"IFERROR((E181/VLOOKUP(\"TOTAL\",$D$12:$L$312,2,0))*100,\"\")","v":""},{"$f":"IFERROR((E181/VLOOKUP(\"TOTAL\",$D$12:$L$312,3,0))*100,\"\")","v":""},{"$f":"IF(E180=\"\",\"\",E181-F181)","v":""},{"$f":"IF(E180=\"\",\"\",IFERROR((E181/F181-1)*100,\"ND\"))","v":""},{"$f":"IF(E180=\"\",\"\",IFERROR((E181/VLOOKUP(B181&\"|\"&VLOOKUP(TDPrimas!$B$4,Cat!R:T,2,0),'TD Operación'!A:D,4,0))*100,\"ND\"))","v":""},{"$f":"IF(E180=\"\",\"\",(VLOOKUP(B181,'TDPrimas Vida'!$B:$N,7,0)))","v":""}]
[null,"TOTAL",null,{"$f":"IF(D181=\"\",\"\",\"Renovación\")","v":""},{"$f":"IF(E180=\"\",\"\",(VLOOKUP(B182,'TDPrimas Vida'!$B:$N,8,0)))","v":""},{"$f":"IF(E180=\"\",\"\",(VLOOKUP(B182,'TDPrimas Vida'!$B:$N,9,0)))","v":""},{"$f":"IFERROR((E182/VLOOKUP(\"TOTAL\",$D$12:$L$312,2,0))*100,\"\")","v":""},{"$f":"IFERROR((E182/VLOOKUP(\"TOTAL\",$D$12:$L$312,3,0))*100,\"\")","v":""},{"$f":"IF(E180=\"\",\"\",E182-F182)","v":""},{"$f":"IF(E180=\"\",\"\",IFERROR((E182/F182-1)*100,\"ND\"))","v":""},{"$f":"IF(E180=\"\",\"\",IFERROR((E182/VLOOKUP(B182&\"|\"&VLOOKUP(TDPrimas!$B$4,Cat!R:T,2,0),'TD Operación'!A:D,4,0))*100,\"ND\"))","v":""},{"$f":"IF(E180=\"\",\"\",(VLOOKUP(B182,'TDPrimas Vida'!$B:$N,10,0)))","v":""}]
[null,"TOTAL",null,{"$f":"IF(D182=\"\",\"\",\"Únicas\")","v":""},{"$f":"IF(E181=\"\",\"\",(VLOOKUP(B183,'TDPrimas Vida'!$B:$N,11,0)))","v":""},{"$f":"IF(E181=\"\",\"\",(VLOOKUP(B183,'TDPrimas Vida'!$B:$N,12,0)))","v":""},{"$f":"IFERROR((E183/VLOOKUP(\"TOTAL\",$D$12:$L$312,2,0))*100,\"\")","v":""},{"$f":"IFERROR((E183/VLOOKUP(\"TOTAL\",$D$12:$L$312,3,0))*100,\"\")","v":""},{"$f":"IF(E180=\"\",\"\",E183-F183)","v":""},{"$f":"IF(E180=\"\",\"\",IFERROR((E183/F183-1)*100,\"ND\"))","v":""},{"$f":"IF(E180=\"\",\"\",IFERROR((E183/VLOOKUP(B183&\"|\"&VLOOKUP(TDPrimas!$B$4,Cat!R:T,2,0),'TD Operación'!A:D,4,0))*100,\"ND\"))","v":""},{"$f":"IF(E180=\"\",\"\",(VLOOKUP(B183,'TDPrimas Vida'!$B:$N,13,0)))","v":""}]
[null,"TOTAL",{"$f":"IF('TDPrimas Vida'!A51=\"\",\"\",'TDPrimas Vida'!A51)","v":""},{"$f":"IF('TDPrimas Vida'!B51=\"\",\"\",'TDPrimas Vida'!B51)","v":""},{"$f":"IF('TDPrimas Vida'!C51=\"\",\"\",'TDPrimas Vida'!C51)","v":""},{"$f":"IF('TDPrimas Vida'!D51=\"\",\"\",'TDPrimas Vida'!D51)","v":""},{"$f":"IF('TDPrimas Vida'!C51=\"\",\"\",IFERROR((E184/VLOOKUP(\"TOTAL\",$D$12:$L$312,2,0))*100,\"\"))","v":""},{"$f":"IF('TDPrimas Vida'!C51=\"\",\"\",IFERROR((E184/VLOOKUP(\"TOTAL\",$D$12:$L$312,3,0))*100,\"\"))","v":""},{"$f":"IF('TDPrimas Vida'!C51=\"\",\"\",E184-F184)","v":""},{"$f":"IFERROR(IF('TDPrimas Vida'!C51=\"\",\"\",(E184/F184-1)*100),\"ND\")","v":""},{"$f":"IF(E184=\"\",\"\",IFERROR((E184/VLOOKUP(D184&\"|\"&VLOOKUP(TDPrimas!$B$4,Cat!R:T,2,0),'TD Operación'!A:D,4,0))*100,\"ND\"))","v":""},{"$f":"IF('TDPrimas Vida'!E51=\"\",\"\",'TDPrimas Vida'!E51)","v":""}]
[null,"TOTAL",null,{"$f":"IF(D184=\"\",\"\",\"1er Año\")","v":""},{"$f":"IF(E184=\"\",\"\",(VLOOKUP(B185,'TDPrimas Vida'!$B:$N,5,0)))","v":""},{"$f":"IF(E184=\"\",\"\",(VLOOKUP(B185,'TDPrimas Vida'!$B:$N,6,0)))","v":""},{"$f":"IFERROR((E185/VLOOKUP(\"TOTAL\",$D$12:$L$312,2,0))*100,\"\")","v":""},{"$f":"IFERROR((E185/VLOOKUP(\"TOTAL\",$D$12:$L$312,3,0))*100,\"\")","v":""},{"$f":"IF(E184=\"\",\"\",E185-F185)","v":""},{"$f":"IF(E184=\"\",\"\",IFERROR((E185/F185-1)*100,\"ND\"))","v":""},{"$f":"IF(E184=\"\",\"\",IFERROR((E185/VLOOKUP(B185&\"|\"&VLOOKUP(TDPrimas!$B$4,Cat!R:T,2,0),'TD Operación'!A:D,4,0))*100,\"ND\"))","v":""},{"$f":"IF(E184=\"\",\"\",(VLOOKUP(B185,'TDPrimas Vida'!$B:$N,7,0)))","v":""}]
[null,"TOTAL",null,{"$f":"IF(D185=\"\",\"\",\"Renovación\")","v":""},{"$f":"IF(E184=\"\",\"\",(VLOOKUP(B186,'TDPrimas Vida'!$B:$N,8,0)))","v":""},{"$f":"IF(E184=\"\",\"\",(VLOOKUP(B186,'TDPrimas Vida'!$B:$N,9,0)))","v":""},{"$f":"IFERROR((E186/VLOOKUP(\"TOTAL\",$D$12:$L$312,2,0))*100,\"\")","v":""},{"$f":"IFERROR((E186/VLOOKUP(\"TOTAL\",$D$12:$L$312,3,0))*100,\"\")","v":""},{"$f":"IF(E184=\"\",\"\",E186-F186)","v":""},{"$f":"IF(E184=\"\",\"\",IFERROR((E186/F186-1)*100,\"ND\"))","v":""},{"$f":"IF(E184=\"\",\"\",IFERROR((E186/VLOOKUP(B186&\"|\"&VLOOKUP(TDPrimas!$B$4,Cat!R:T,2,0),'TD Operación'!A:D,4,0))*100,\"ND\"))","v":""},{"$f":"IF(E184=\"\",\"\",(VLOOKUP(B186,'TDPrimas Vida'!$B:$N,10,0)))","v":""}]
[null,"TOTAL",null,{"$f":"IF(D186=\"\",\"\",\"Únicas\")","v":""},{"$f":"IF(E185=\"\",\"\",(VLOOKUP(B187,'TDPrimas Vida'!$B:$N,11,0)))","v":""},{"$f":"IF(E185=\"\",\"\",(VLOOKUP(B187,'TDPrimas Vida'!$B:$N,12,0)))","v":""},{"$f":"IFERROR((E187/VLOOKUP(\"TOTAL\",$D$12:$L$312,2,0))*100,\"\")","v":""},{"$f":"IFERROR((E187/VLOOKUP(\"TOTAL\",$D$12:$L$312,3,0))*100,\"\")","v":""},{"$f":"IF(E184=\"\",\"\",E187-F187)","v":""},{"$f":"IF(E184=\"\",\"\",IFERROR((E187/F187-1)*100,\"ND\"))","v":""},{"$f":"IF(E184=\"\",\"\",IFERROR((E187/VLOOKUP(B187&\"|\"&VLOOKUP(TDPrimas!$B$4,Cat!R:T,2,0),'TD Operación'!A:D,4,0))*100,\"ND\"))","v":""},{"$f":"IF(E184=\"\",\"\",(VLOOKUP(B187,'TDPrimas Vida'!$B:$N,13,0)))","v":""}]
[null,{"$f":"IF(C188=\"\",B184,D188)","v":"TOTAL"},{"$f":"IF('TDPrimas Vida'!A52=\"\",\"\",'TDPrimas Vida'!A52)","v":""},{"$f":"IF('TDPrimas Vida'!B52=\"\",\"\",'TDPrimas Vida'!B52)","v":""},{"$f":"IF('TDPrimas Vida'!C52=\"\",\"\",'TDPrimas Vida'!C52)","v":""},{"$f":"IF('TDPrimas Vida'!D52=\"\",\"\",'TDPrimas Vida'!D52)","v":""},{"$f":"IF('TDPrimas Vida'!C52=\"\",\"\",IFERROR((E188/VLOOKUP(\"TOTAL\",$D$12:$L$312,2,0))*100,\"\"))","v":""},{"$f":"IF('TDPrimas Vida'!C52=\"\",\"\",IFERROR((E188/VLOOKUP(\"TOTAL\",$D$12:$L$312,3,0))*100,\"\"))","v":""},{"$f":"IF('TDPrimas Vida'!C52=\"\",\"\",E188-F188)","v":""},{"$f":"IFERROR(IF('TDPrimas Vida'!C52=\"\",\"\",(E188/F188-1)*100),\"ND\")","v":""},{"$f":"IF(E188=\"\",\"\",IFERROR((E188/VLOOKUP(D188&\"|\"&VLOOKUP(TDPrimas!$B$4,Cat!R:T,2,0),'TD Operación'!A:D,4,0))*100,\"ND\"))","v":""},{"$f":"IF('TDPrimas Vida'!E52=\"\",\"\",'TDPrimas Vida'!E52)","v":""}]
[null,{"$f":"IF(C189=\"\",B188,D189)","v":"TOTAL"},null,{"$f":"IF(D188=\"\",\"\",\"1er Año\")","v":""},{"$f":"IF(E188=\"\",\"\",(VLOOKUP(B189,'TDPrimas Vida'!$B:$N,5,0)))","v":""},{"$f":"IF(E188=\"\",\"\",(VLOOKUP(B189,'TDPrimas Vida'!$B:$N,6,0)))","v":""},{"$f":"IFERROR((E189/VLOOKUP(\"TOTAL\",$D$12:$L$312,2,0))*100,\"\")","v":""},{"$f":"IFERROR((E189/VLOOKUP(\"TOTAL\",$D$12:$L$312,3,0))*100,\"\")","v":""},{"$f":"IF(E188=\"\",\"\",E189-F189)","v":""},{"$f":"IF(E188=\"\",\"\",IFERROR((E189/F189-1)*100,\"ND\"))","v":""},{"$f":"IF(E188=\"\",\"\",IFERROR((E189/VLOOKUP(B189&\"|\"&VLOOKUP(TDPrimas!$B$4,Cat!R:T,2,0),'TD Operación'!A:D,4,0))*100,\"ND\"))","v":""},{"$f":"IF(E188=\"\",\"\",(VLOOKUP(B189,'TDPrimas Vida'!$B:$N,7,0)))","v":""}]
[null,{"$f":"IF(C190=\"\",B189,D190)","v":"TOTAL"},null,{"$f":"IF(D189=\"\",\"\",\"Renovación\")","v":""},{"$f":"IF(E188=\"\",\"\",(VLOOKUP(B190,'TDPrimas Vida'!$B:$N,8,0)))","v":""},{"$f":"IF(E188=\"\",\"\",(VLOOKUP(B190,'TDPrimas Vida'!$B:$N,9,0)))","v":""},{"$f":"IFERROR((E190/VLOOKUP(\"TOTAL\",$D$12:$L$312,2,0))*100,\"\")","v":""},{"$f":"IFERROR((E190/VLOOKUP(\"TOTAL\",$D$12:$L$312,3,0))*100,\"\")","v":""},{"$f":"IF(E188=\"\",\"\",E190-F190)","v":""},{"$f":"IF(E188=\"\",\"\",IFERROR((E190/F190-1)*100,\"ND\"))","v":""},{"$f":"IF(E188=\"\",\"\",IFERROR((E190/VLOOKUP(B190&\"|\"&VLOOKUP(TDPrimas!$B$4,Cat!R:T,2,0),'TD Operación'!A:D,4,0))*100,\"ND\"))","v":""},{"$f":"IF(E188=\"\",\"\",(VLOOKUP(B190,'TDPrimas Vida'!$B:$N,10,0)))","v":""}]
[null,{"$f":"IF(C191=\"\",B190,D191)","v":"TOTAL"},null,{"$f":"IF(D190=\"\",\"\",\"Únicas\")","v":""},{"$f":"IF(E189=\"\",\"\",(VLOOKUP(B191,'TDPrimas Vida'!$B:$N,11,0)))","v":""},{"$f":"IF(E189=\"\",\"\",(VLOOKUP(B191,'TDPrimas Vida'!$B:$N,12,0)))","v":""},{"$f":"IFERROR((E191/VLOOKUP(\"TOTAL\",$D$12:$L$312,2,0))*100,\"\")","v":""},{"$f":"IFERROR((E191/VLOOKUP(\"TOTAL\",$D$12:$L$312,3,0))*100,\"\")","v":""},{"$f":"IF(E188=\"\",\"\",E191-F191)","v":""},{"$f":"IF(E188=\"\",\"\",IFERROR((E191/F191-1)*100,\"ND\"))","v":""},{"$f":"IF(E188=\"\",\"\",IFERROR((E191/VLOOKUP(B191&\"|\"&VLOOKUP(TDPrimas!$B$4,Cat!R:T,2,0),'TD Operación'!A:D,4,0))*100,\"ND\"))","v":""},{"$f":"IF(E188=\"\",\"\",(VLOOKUP(B191,'TDPrimas Vida'!$B:$N,13,0)))","v":""}]
[null,{"$f":"IF(C192=\"\",B188,D192)","v":"TOTAL"},{"$f":"IF('TDPrimas Vida'!A53=\"\",\"\",'TDPrimas Vida'!A53)","v":""},{"$f":"IF('TDPrimas Vida'!B53=\"\",\"\",'TDPrimas Vida'!B53)","v":""},{"$f":"IF('TDPrimas Vida'!C53=\"\",\"\",'TDPrimas Vida'!C53)","v":""},{"$f":"IF('TDPrimas Vida'!D53=\"\",\"\",'TDPrimas Vida'!D53)","v":""},{"$f":"IF('TDPrimas Vida'!C53=\"\",\"\",IFERROR((E192/VLOOKUP(\"TOTAL\",$D$12:$L$312,2,0))*100,\"\"))","v":""},{"$f":"IF('TDPrimas Vida'!C53=\"\",\"\",IFERROR((E192/VLOOKUP(\"TOTAL\",$D$12:$L$312,3,0))*100,\"\"))","v":""},{"$f":"IF('TDPrimas Vida'!C53=\"\",\"\",E192-F192)","v":""},{"$f":"IFERROR(IF('TDPrimas Vida'!C53=\"\",\"\",(E192/F192-1)*100),\"ND\")","v":""},{"$f":"IF(E192=\"\",\"\",IFERROR((E192/VLOOKUP(D192&\"|\"&VLOOKUP(TDPrimas!$B$4,Cat!R:T,2,0),'TD Operación'!A:D,4,0))*100,\"ND\"))","v":""},{"$f":"IF('TDPrimas Vida'!E53=\"\",\"\",'TDPrimas Vida'!E53)","v":""}]
[null,{"$f":"IF(C193=\"\",B192,D193)","v":"TOTAL"},null,{"$f":"IF(D192=\"\",\"\",\"1er Año\")","v":""},{"$f":"IF(E192=\"\",\"\",(VLOOKUP(B193,'TDPrimas Vida'!$B:$N,5,0)))","v":""},{"$f":"IF(E192=\"\",\"\",(VLOOKUP(B193,'TDPrimas Vida'!$B:$N,6,0)))","v":""},{"$f":"IFERROR((E193/VLOOKUP(\"TOTAL\",$D$12:$L$312,2,0))*100,\"\")","v":""},{"$f":"IFERROR((E193/VLOOKUP(\"TOTAL\",$D$12:$L$312,3,0))*100,\"\")","v":""},{"$f":"IF(E192=\"\",\"\",E193-F193)","v":""},{"$f":"IF(E192=\"\",\"\",IFERROR((E193/F193-1)*100,\"ND\"))","v":""},{"$f":"IF(E192=\"\",\"\",IFERROR((E193/VLOOKUP(B193&\"|\"&VLOOKUP(TDPrimas!$B$4,Cat!R:T,2,0),'TD Operación'!A:D,4,0))*100,\"ND\"))","v":""},{"$f":"IF(E192=\"\",\"\",(VLOOKUP(B193,'TDPrimas Vida'!$B:$N,7,0)))","v":""}]
[null,{"$f":"IF(C194=\"\",B193,D194)","v":"TOTAL"},null,{"$f":"IF(D193=\"\",\"\",\"Renovación\")","v":""},{"$f":"IF(E192=\"\",\"\",(VLOOKUP(B194,'TDPrimas Vida'!$B:$N,8,0)))","v":""},{"$f":"IF(E192=\"\",\"\",(VLOOKUP(B194,'TDPrimas Vida'!$B:$N,9,0)))","v":""},{"$f":"IFERROR((E194/VLOOKUP(\"TOTAL\",$D$12:$L$312,2,0))*100,\"\")","v":""},{"$f":"IFERROR((E194/VLOOKUP(\"TOTAL\",$D$12:$L$312,3,0))*100,\"\")","v":""},{"$f":"IF(E192=\"\",\"\",E194-F194)","v":""},{"$f":"IF(E192=\"\",\"\",IFERROR((E194/F194-1)*100,\"ND\"))","v":""},{"$f":"IF(E192=\"\",\"\",IFERROR((E194/VLOOKUP(B194&\"|\"&VLOOKUP(TDPrimas!$B$4,Cat!R:T,2,0),'TD Operación'!A:D,4,0))*100,\"ND\"))","v":""},{"$f":"IF(E192=\"\",\"\",(VLOOKUP(B194,'TDPrimas Vida'!$B:$N,10,0)))","v":""}]
[null,{"$f":"IF(C195=\"\",B194,D195)","v":"TOTAL"},null,{"$f":"IF(D194=\"\",\"\",\"Únicas\")","v":""},{"$f":"IF(E193=\"\",\"\",(VLOOKUP(B195,'TDPrimas Vida'!$B:$N,11,0)))","v":""},{"$f":"IF(E193=\"\",\"\",(VLOOKUP(B195,'TDPrimas Vida'!$B:$N,12,0)))","v":""},{"$f":"IFERROR((E195/VLOOKUP(\"TOTAL\",$D$12:$L$312,2,0))*100,\"\")","v":""},{"$f":"IFERROR((E195/VLOOKUP(\"TOTAL\",$D$12:$L$312,3,0))*100,\"\")","v":""},{"$f":"IF(E192=\"\",\"\",E195-F195)","v":""},{"$f":"IF(E192=\"\",\"\",IFERROR((E195/F195-1)*100,\"ND\"))","v":""},{"$f":"IF(E192=\"\",\"\",IFERROR((E195/VLOOKUP(B195&\"|\"&VLOOKUP(TDPrimas!$B$4,Cat!R:T,2,0),'TD Operación'!A:D,4,0))*100,\"ND\"))","v":""},{"$f":"IF(E192=\"\",\"\",(VLOOKUP(B195,'TDPrimas Vida'!$B:$N,13,0)))","v":""}]
[null,{"$f":"IF(C196=\"\",B192,D196)","v":"TOTAL"},{"$f":"IF('TDPrimas Vida'!A54=\"\",\"\",'TDPrimas Vida'!A54)","v":""},{"$f":"IF('TDPrimas Vida'!B54=\"\",\"\",'TDPrimas Vida'!B54)","v":""},{"$f":"IF('TDPrimas Vida'!C54=\"\",\"\",'TDPrimas Vida'!C54)","v":""},{"$f":"IF('TDPrimas Vida'!D54=\"\",\"\",'TDPrimas Vida'!D54)","v":""},{"$f":"IF('TDPrimas Vida'!C54=\"\",\"\",IFERROR((E196/VLOOKUP(\"TOTAL\",$D$12:$L$312,2,0))*100,\"\"))","v":""},{"$f":"IF('TDPrimas Vida'!C54=\"\",\"\",IFERROR((E196/VLOOKUP(\"TOTAL\",$D$12:$L$312,3,0))*100,\"\"))","v":""},{"$f":"IF('TDPrimas Vida'!C54=\"\",\"\",E196-F196)","v":""},{"$f":"IFERROR(IF('TDPrimas Vida'!C54=\"\",\"\",(E196/F196-1)*100),\"ND\")","v":""},{"$f":"IF(E196=\"\",\"\",IFERROR((E196/VLOOKUP(D196&\"|\"&VLOOKUP(TDPrimas!$B$4,Cat!R:T,2,0),'TD Operación'!A:D,4,0))*100,\"ND\"))","v":""},{"$f":"IF('TDPrimas Vida'!E54=\"\",\"\",'TDPrimas Vida'!E54)","v":""}]
[null,{"$f":"IF(C197=\"\",B196,D197)","v":"TOTAL"},null,{"$f":"IF(D196=\"\",\"\",\"1er Año\")","v":""},{"$f":"IF(E196=\"\",\"\",(VLOOKUP(B197,'TDPrimas Vida'!$B:$N,5,0)))","v":""},{"$f":"IF(E196=\"\",\"\",(VLOOKUP(B197,'TDPrimas Vida'!$B:$N,6,0)))","v":""},{"$f":"IFERROR((E197/VLOOKUP(\"TOTAL\",$D$12:$L$312,2,0))*100,\"\")","v":""},{"$f":"IFERROR((E197/VLOOKUP(\"TOTAL\",$D$12:$L$312,3,0))*100,\"\")","v":""},{"$f":"IF(E196=\"\",\"\",E197-F197)","v":""},{"$f":"IF(E196=\"\",\"\",IFERROR((E197/F197-1)*100,\"ND\"))","v":""},{"$f":"IF(E196=\"\",\"\",IFERROR((E197/VLOOKUP(B197&\"|\"&VLOOKUP(TDPrimas!$B$4,Cat!R:T,2,0),'TD Operación'!A:D,4,0))*100,\"ND\"))","v":""},{"$f":"IF(E196=\"\",\"\",(VLOOKUP(B197,'TDPrimas Vida'!$B:$N,7,0)))","v":""}]
[null,{"$f":"IF(C198=\"\",B197,D198)","v":"TOTAL"},null,{"$f":"IF(D197=\"\",\"\",\"Renovación\")","v":""},{"$f":"IF(E196=\"\",\"\",(VLOOKUP(B198,'TDPrimas Vida'!$B:$N,8,0)))","v":""},{"$f":"IF(E196=\"\",\"\",(VLOOKUP(B198,'TDPrimas Vida'!$B:$N,9,0)))","v":""},{"$f":"IFERROR((E198/VLOOKUP(\"TOTAL\",$D$12:$L$312,2,0))*100,\"\")","v":""},{"$f":"IFERROR((E198/VLOOKUP(\"TOTAL\",$D$12:$L$312,3,0))*100,\"\")","v":""},{"$f":"IF(E196=\"\",\"\",E198-F198)","v":""},{"$f":"IF(E196=\"\",\"\",IFERROR((E198/F198-1)*100,\"ND\"))","v":""},{"$f":"IF(E196=\"\",\"\",IFERROR((E198/VLOOKUP(B198&\"|\"&VLOOKUP(TDPrimas!$B$4,Cat!R:T,2,0),'TD Operación'!A:D,4,0))*100,\"ND\"))","v":""},{"$f":"IF(E196=\"\",\"\",(VLOOKUP(B198,'TDPrimas Vida'!$B:$N,10,0)))","v":""}]
[null,{"$f":"IF(C199=\"\",B198,D199)","v":"TOTAL"},null,{"$f":"IF(D198=\"\",\"\",\"Únicas\")","v":""},{"$f":"IF(E197=\"\",\"\",(VLOOKUP(B199,'TDPrimas Vida'!$B:$N,11,0)))","v":""},{"$f":"IF(E197=\"\",\"\",(VLOOKUP(B199,'TDPrimas Vida'!$B:$N,12,0)))","v":""},{"$f":"IFERROR((E199/VLOOKUP(\"TOTAL\",$D$12:$L$312,2,0))*100,\"\")","v":""},{"$f":"IFERROR((E199/VLOOKUP(\"TOTAL\",$D$12:$L$312,3,0))*100,\"\")","v":""},{"$f":"IF(E196=\"\",\"\",E199-F199)","v":""},{"$f":"IF(E196=\"\",\"\",IFERROR((E199/F199-1)*100,\"ND\"))","v":""},{"$f":"IF(E196=\"\",\"\",IFERROR((E199/VLOOKUP(B199&\"|\"&VLOOKUP(TDPrimas!$B$4,Cat!R:T,2,0),'TD Operación'!A:D,4,0))*100,\"ND\"))","v":""},{"$f":"IF(E196=\"\",\"\",(VLOOKUP(B199,'TDPrimas Vida'!$B:$N,13,0)))","v":""}]
[null,{"$f":"IF(C200=\"\",B196,D200)","v":"TOTAL"},{"$f":"IF('TDPrimas Vida'!A55=\"\",\"\",'TDPrimas Vida'!A55)","v":""},{"$f":"IF('TDPrimas Vida'!B55=\"\",\"\",'TDPrimas Vida'!B55)","v":""},{"$f":"IF('TDPrimas Vida'!C55=\"\",\"\",'TDPrimas Vida'!C55)","v":""},{"$f":"IF('TDPrimas Vida'!D55=\"\",\"\",'TDPrimas Vida'!D55)","v":""},{"$f":"IF('TDPrimas Vida'!C55=\"\",\"\",IFERROR((E200/VLOOKUP(\"TOTAL\",$D$12:$L$312,2,0))*100,\"\"))","v":""},{"$f":"IF('TDPrimas Vida'!C55=\"\",\"\",IFERROR((E200/VLOOKUP(\"TOTAL\",$D$12:$L$312,3,0))*100,\"\"))","v":""},{"$f":"IF('TDPrimas Vida'!C55=\"\",\"\",E200-F200)","v":""},{"$f":"IFERROR(IF('TDPrimas Vida'!C55=\"\",\"\",(E200/F200-1)*100),\"ND\")","v":""},{"$f":"IF(E200=\"\",\"\",IFERROR((E200/VLOOKUP(D200&\"|\"&VLOOKUP(TDPrimas!$B$4,Cat!R:T,2,0),'TD Operación'!A:D,4,0))*100,\"ND\"))","v":""},{"$f":"IF('TDPrimas Vida'!E55=\"\",\"\",'TDPrimas Vida'!E55)","v":""}]
[null,{"$f":"IF(C201=\"\",B200,D201)","v":"TOTAL"},null,{"$f":"IF(D200=\"\",\"\",\"1er Año\")","v":""},{"$f":"IF(E200=\"\",\"\",(VLOOKUP(B201,'TDPrimas Vida'!$B:$N,5,0)))","v":""},{"$f":"IF(E200=\"\",\"\",(VLOOKUP(B201,'TDPrimas Vida'!$B:$N,6,0)))","v":""},{"$f":"IFERROR((E201/VLOOKUP(\"TOTAL\",$D$12:$L$312,2,0))*100,\"\")","v":""},{"$f":"IFERROR((E201/VLOOKUP(\"TOTAL\",$D$12:$L$312,3,0))*100,\"\")","v":""},{"$f":"IF(E200=\"\",\"\",E201-F201)","v":""},{"$f":"IF(E200=\"\",\"\",IFERROR((E201/F201-1)*100,\"ND\"))","v":""},{"$f":"IF(E200=\"\",\"\",IFERROR((E201/VLOOKUP(B201&\"|\"&VLOOKUP(TDPrimas!$B$4,Cat!R:T,2,0),'TD Operación'!A:D,4,0))*100,\"ND\"))","v":""},{"$f":"IF(E200=\"\",\"\",(VLOOKUP(B201,'TDPrimas Vida'!$B:$N,7,0)))","v":""}]
[null,{"$f":"IF(C202=\"\",B201,D202)","v":"TOTAL"},null,{"$f":"IF(D201=\"\",\"\",\"Renovación\")","v":""},{"$f":"IF(E200=\"\",\"\",(VLOOKUP(B202,'TDPrimas Vida'!$B:$N,8,0)))","v":""},{"$f":"IF(E200=\"\",\"\",(VLOOKUP(B202,'TDPrimas Vida'!$B:$N,9,0)))","v":""},{"$f":"IFERROR((E202/VLOOKUP(\"TOTAL\",$D$12:$L$312,2,0))*100,\"\")","v":""},{"$f":"IFERROR((E202/VLOOKUP(\"TOTAL\",$D$12:$L$312,3,0))*100,\"\")","v":""},{"$f":"IF(E200=\"\",\"\",E202-F202)","v":""},{"$f":"IF(E200=\"\",\"\",IFERROR((E202/F202-1)*100,\"ND\"))","v":""},{"$f":"IF(E200=\"\",\"\",IFERROR((E202/VLOOKUP(B202&\"|\"&VLOOKUP(TDPrimas!$B$4,Cat!R:T,2,0),'TD Operación'!A:D,4,0))*100,\"ND\"))","v":""},{"$f":"IF(E200=\"\",\"\",(VLOOKUP(B202,'TDPrimas Vida'!$B:$N,10,0)))","v":""}]
[null,{"$f":"IF(C203=\"\",B202,D203)","v":"TOTAL"},null,{"$f":"IF(D202=\"\",\"\",\"Únicas\")","v":""},{"$f":"IF(E201=\"\",\"\",(VLOOKUP(B203,'TDPrimas Vida'!$B:$N,11,0)))","v":""},{"$f":"IF(E201=\"\",\"\",(VLOOKUP(B203,'TDPrimas Vida'!$B:$N,12,0)))","v":""},{"$f":"IFERROR((E203/VLOOKUP(\"TOTAL\",$D$12:$L$312,2,0))*100,\"\")","v":""},{"$f":"IFERROR((E203/VLOOKUP(\"TOTAL\",$D$12:$L$312,3,0))*100,\"\")","v":""},{"$f":"IF(E200=\"\",\"\",E203-F203)","v":""},{"$f":"IF(E200=\"\",\"\",IFERROR((E203/F203-1)*100,\"ND\"))","v":""},{"$f":"IF(E200=\"\",\"\",IFERROR((E203/VLOOKUP(B203&\"|\"&VLOOKUP(TDPrimas!$B$4,Cat!R:T,2,0),'TD Operación'!A:D,4,0))*100,\"ND\"))","v":""},{"$f":"IF(E200=\"\",\"\",(VLOOKUP(B203,'TDPrimas Vida'!$B:$N,13,0)))","v":""}]
[null,{"$f":"IF(C204=\"\",B200,D204)","v":"TOTAL"},{"$f":"IF('TDPrimas Vida'!A56=\"\",\"\",'TDPrimas Vida'!A56)","v":""},{"$f":"IF('TDPrimas Vida'!B56=\"\",\"\",'TDPrimas Vida'!B56)","v":""},{"$f":"IF('TDPrimas Vida'!C56=\"\",\"\",'TDPrimas Vida'!C56)","v":""},{"$f":"IF('TDPrimas Vida'!D56=\"\",\"\",'TDPrimas Vida'!D56)","v":""},{"$f":"IF('TDPrimas Vida'!C56=\"\",\"\",IFERROR((E204/VLOOKUP(\"TOTAL\",$D$12:$L$312,2,0))*100,\"\"))","v":""},{"$f":"IF('TDPrimas Vida'!C56=\"\",\"\",IFERROR((E204/VLOOKUP(\"TOTAL\",$D$12:$L$312,3,0))*100,\"\"))","v":""},{"$f":"IF('TDPrimas Vida'!C56=\"\",\"\",E204-F204)","v":""},{"$f":"IFERROR(IF('TDPrimas Vida'!C56=\"\",\"\",(E204/F204-1)*100),\"ND\")","v":""},{"$f":"IF(E204=\"\",\"\",IFERROR((E204/VLOOKUP(D204&\"|\"&VLOOKUP(TDPrimas!$B$4,Cat!R:T,2,0),'TD Operación'!A:D,4,0))*100,\"ND\"))","v":""},{"$f":"IF('TDPrimas Vida'!E56=\"\",\"\",'TDPrimas Vida'!E56)","v":""}]
[null,{"$f":"IF(C205=\"\",B204,D205)","v":"TOTAL"},null,{"$f":"IF(D204=\"\",\"\",\"1er Año\")","v":""},{"$f":"IF(E204=\"\",\"\",(VLOOKUP(B205,'TDPrimas Vida'!$B:$N,5,0)))","v":""},{"$f":"IF(E204=\"\",\"\",(VLOOKUP(B205,'TDPrimas Vida'!$B:$N,6,0)))","v":""},{"$f":"IFERROR((E205/VLOOKUP(\"TOTAL\",$D$12:$L$312,2,0))*100,\"\")","v":""},{"$f":"IFERROR((E205/VLOOKUP(\"TOTAL\",$D$12:$L$312,3,0))*100,\"\")","v":""},{"$f":"IF(E204=\"\",\"\",E205-F205)","v":""},{"$f":"IF(E204=\"\",\"\",IFERROR((E205/F205-1)*100,\"ND\"))","v":""},{"$f":"IF(E204=\"\",\"\",IFERROR((E205/VLOOKUP(B205&\"|\"&VLOOKUP(TDPrimas!$B$4,Cat!R:T,2,0),'TD Operación'!A:D,4,0))*100,\"ND\"))","v":""},{"$f":"IF(E204=\"\",\"\",(VLOOKUP(B205,'TDPrimas Vida'!$B:$N,7,0)))","v":""}]
[null,{"$f":"IF(C206=\"\",B205,D206)","v":"TOTAL"},null,{"$f":"IF(D205=\"\",\"\",\"Renovación\")","v":""},{"$f":"IF(E204=\"\",\"\",(VLOOKUP(B206,'TDPrimas Vida'!$B:$N,8,0)))","v":""},{"$f":"IF(E204=\"\",\"\",(VLOOKUP(B206,'TDPrimas Vida'!$B:$N,9,0)))","v":""},{"$f":"IFERROR((E206/VLOOKUP(\"TOTAL\",$D$12:$L$312,2,0))*100,\"\")","v":""},{"$f":"IFERROR((E206/VLOOKUP(\"TOTAL\",$D$12:$L$312,3,0))*100,\"\")","v":""},{"$f":"IF(E204=\"\",\"\",E206-F206)","v":""},{"$f":"IF(E204=\"\",\"\",IFERROR((E206/F206-1)*100,\"ND\"))","v":""},{"$f":"IF(E204=\"\",\"\",IFERROR((E206/VLOOKUP(B206&\"|\"&VLOOKUP(TDPrimas!$B$4,Cat!R:T,2,0),'TD Operación'!A:D,4,0))*100,\"ND\"))","v":""},{"$f":"IF(E204=\"\",\"\",(VLOOKUP(B206,'TDPrimas Vida'!$B:$N,10,0)))","v":""}]
[null,{"$f":"IF(C207=\"\",B206,D207)","v":"TOTAL"},null,{"$f":"IF(D206=\"\",\"\",\"Únicas\")","v":""},{"$f":"IF(E205=\"\",\"\",(VLOOKUP(B207,'TDPrimas Vida'!$B:$N,11,0)))","v":""},{"$f":"IF(E205=\"\",\"\",(VLOOKUP(B207,'TDPrimas Vida'!$B:$N,12,0)))","v":""},{"$f":"IFERROR((E207/VLOOKUP(\"TOTAL\",$D$12:$L$312,2,0))*100,\"\")","v":""},{"$f":"IFERROR((E207/VLOOKUP(\"TOTAL\",$D$12:$L$312,3,0))*100,\"\")","v":""},{"$f":"IF(E204=\"\",\"\",E207-F207)","v":""},{"$f":"IF(E204=\"\",\"\",IFERROR((E207/F207-1)*100,\"ND\"))","v":""},{"$f":"IF(E204=\"\",\"\",IFERROR((E207/VLOOKUP(B207&\"|\"&VLOOKUP(TDPrimas!$B$4,Cat!R:T,2,0),'TD Operación'!A:D,4,0))*100,\"ND\"))","v":""},{"$f":"IF(E204=\"\",\"\",(VLOOKUP(B207,'TDPrimas Vida'!$B:$N,13,0)))","v":""}]
[null,{"$f":"IF(C208=\"\",B204,D208)","v":"TOTAL"},{"$f":"IF('TDPrimas Vida'!A57=\"\",\"\",'TDPrimas Vida'!A57)","v":""},{"$f":"IF('TDPrimas Vida'!B57=\"\",\"\",'TDPrimas Vida'!B57)","v":""},{"$f":"IF('TDPrimas Vida'!C57=\"\",\"\",'TDPrimas Vida'!C57)","v":""},{"$f":"IF('TDPrimas Vida'!D57=\"\",\"\",'TDPrimas Vida'!D57)","v":""},{"$f":"IF('TDPrimas Vida'!C57=\"\",\"\",IFERROR((E208/VLOOKUP(\"TOTAL\",$D$12:$L$312,2,0))*100,\"\"))","v":""},{"$f":"IF('TDPrimas Vida'!C57=\"\",\"\",IFERROR((E208/VLOOKUP(\"TOTAL\",$D$12:$L$312,3,0))*100,\"\"))","v":""},{"$f":"IF('TDPrimas Vida'!C57=\"\",\"\",E208-F208)","v":""},{"$f":"IFERROR(IF('TDPrimas Vida'!C57=\"\",\"\",(E208/F208-1)*100),\"ND\")","v":""},{"$f":"IF(E208=\"\",\"\",IFERROR((E208/VLOOKUP(D208&\"|\"&VLOOKUP(TDPrimas!$B$4,Cat!R:T,2,0),'TD Operación'!A:D,4,0))*100,\"ND\"))","v":""},{"$f":"IF('TDPrimas Vida'!E57=\"\",\"\",'TDPrimas Vida'!E57)","v":""}]
[null,{"$f":"IF(C209=\"\",B208,D209)","v":"TOTAL"},null,{"$f":"IF(D208=\"\",\"\",\"1er Año\")","v":""},{"$f":"IF(E208=\"\",\"\",(VLOOKUP(B209,'TDPrimas Vida'!$B:$N,5,0)))","v":""},{"$f":"IF(E208=\"\",\"\",(VLOOKUP(B209,'TDPrimas Vida'!$B:$N,6,0)))","v":""},{"$f":"IFERROR((E209/VLOOKUP(\"TOTAL\",$D$12:$L$312,2,0))*100,\"\")","v":""},{"$f":"IFERROR((E209/VLOOKUP(\"TOTAL\",$D$12:$L$312,3,0))*100,\"\")","v":""},{"$f":"IF(E208=\"\",\"\",E209-F209)","v":""},{"$f":"IF(E208=\"\",\"\",IFERROR((E209/F209-1)*100,\"ND\"))","v":""},{"$f":"IF(E208=\"\",\"\",IFERROR((E209/VLOOKUP(B209&\"|\"&VLOOKUP(TDPrimas!$B$4,Cat!R:T,2,0),'TD Operación'!A:D,4,0))*100,\"ND\"))","v":""},{"$f":"IF(E208=\"\",\"\",(VLOOKUP(B209,'TDPrimas Vida'!$B:$N,7,0)))","v":""}]
[null,{"$f":"IF(C210=\"\",B209,D210)","v":"TOTAL"},null,{"$f":"IF(D209=\"\",\"\",\"Renovación\")","v":""},{"$f":"IF(E208=\"\",\"\",(VLOOKUP(B210,'TDPrimas Vida'!$B:$N,8,0)))","v":""},{"$f":"IF(E208=\"\",\"\",(VLOOKUP(B210,'TDPrimas Vida'!$B:$N,9,0)))","v":""},{"$f":"IFERROR((E210/VLOOKUP(\"TOTAL\",$D$12:$L$312,2,0))*100,\"\")","v":""},{"$f":"IFERROR((E210/VLOOKUP(\"TOTAL\",$D$12:$L$312,3,0))*100,\"\")","v":""},{"$f":"IF(E208=\"\",\"\",E210-F210)","v":""},{"$f":"IF(E208=\"\",\"\",IFERROR((E210/F210-1)*100,\"ND\"))","v":""},{"$f":"IF(E208=\"\",\"\",IFERROR((E210/VLOOKUP(B210&\"|\"&VLOOKUP(TDPrimas!$B$4,Cat!R:T,2,0),'TD Operación'!A:D,4,0))*100,\"ND\"))","v":""},{"$f":"IF(E208=\"\",\"\",(VLOOKUP(B210,'TDPrimas Vida'!$B:$N,10,0)))","v":""}]
[null,{"$f":"IF(C211=\"\",B210,D211)","v":"TOTAL"},null,{"$f":"IF(D210=\"\",\"\",\"Únicas\")","v":""},{"$f":"IF(E209=\"\",\"\",(VLOOKUP(B211,'TDPrimas Vida'!$B:$N,11,0)))","v":""},{"$f":"IF(E209=\"\",\"\",(VLOOKUP(B211,'TDPrimas Vida'!$B:$N,12,0)))","v":""},{"$f":"IFERROR((E211/VLOOKUP(\"TOTAL\",$D$12:$L$312,2,0))*100,\"\")","v":""},{"$f":"IFERROR((E211/VLOOKUP(\"TOTAL\",$D$12:$L$312,3,0))*100,\"\")","v":""},{"$f":"IF(E208=\"\",\"\",E211-F211)","v":""},{"$f":"IF(E208=\"\",\"\",IFERROR((E211/F211-1)*100,\"ND\"))","v":""},{"$f":"IF(E208=\"\",\"\",IFERROR((E211/VLOOKUP(B211&\"|\"&VLOOKUP(TDPrimas!$B$4,Cat!R:T,2,0),'TD Operación'!A:D,4,0))*100,\"ND\"))","v":""},{"$f":"IF(E208=\"\",\"\",(VLOOKUP(B211,'TDPrimas Vida'!$B:$N,13,0)))","v":""}]

{"sheet":"Siniestros (Daños)","index":12,"n_rows":124,"n_cols":16,"rows_kept":124,"cut":false,"hidden":false,"merged":[[1,1,1,15],[3,3,3,8],[3,10,3,15],[4,4,5,4],[4,5,5,5],[4,6,4,7],[4,8,5,8],[4,14,4,15]]}
[null,"SINIESTROS DIRECTOS",null,null,null,null,null,null,null,null,null,null,null,null,null,{"$f":"VLOOKUP(RIGHT('TD Siniestros Daños'!B1,2),Cat!$N$2:$O$5,2,0)&\" \"&LEFT('TD Siniestros Daños'!B1,4)","v":"Tercer Trimestre 2023"}]
[null,{"$f":"UPPER(RIGHT('TD Siniestros Daños'!$B$2,LEN('TD Siniestros Daños'!$B$2)-3))","v":"DAÑOS TOTAL"}]
[null,null,null,null,null,null,null,null,null,null,null,null,null,null,null,"Cifras en miles"]
[null,null,null,"Siniestros Directos",null,null,null,null,null,null,"Siniestros Retenidos"]
[null,"Compañías",null,"Importe","Incr. %","Inc. Rva.\nDividendos","% vs. Prima Directa",null,"%  Participac de Mercado",null,"Importe","% de","Prima Dev.","% de","% vs. Prima Dev. Ret."]
[null,null,null,{"$f":"'Primas Directas'!D6","v":"2023"},null,null,{"$f":"'Primas Directas'!D6","v":"2023"},{"$f":"'Primas Directas'!E6","v":2022},null,null,{"$f":"D6","v":"2023"},"Incr.","Retenida","Incr.",{"$f":"G6","v":"2023"},{"$f":"H6","v":2022}]
[null,null,"TOTAL",{"$f":"VLOOKUP(C7,'TD Siniestros Daños'!$B$7:$M$154,2,0)","v":99350019.039810017},{"$f":"VLOOKUP(C7,'TD Siniestros Daños'!$B$7:$M$154,3,0)","v":14.101401244855726},{"$f":"VLOOKUP(C7,'TD Siniestros Daños'!$B$7:$M$154,4,0)","v":578494.30484999996},{"$f":"VLOOKUP(C7,'TD Siniestros Daños'!$B$7:$M$154,5,0)","v":45.608066944991499},{"$f":"VLOOKUP(C7,'TD Siniestros Daños'!$B$7:$M$154,6,0)","v":47.273708019492112},{"$f":"IFERROR(D7/VLOOKUP(\"TOTAL\",$C$8:$D$124,2,0)*100,\"\")","v":100},null,{"$f":"VLOOKUP(C7,'TD Siniestros Daños'!$B$7:$M$154,7,0)","v":78342598.055189997},{"$f":"VLOOKUP(C7,'TD Siniestros Daños'!$B$7:$M$154,8,0)","v":20.555295919790041},{"$f":"VLOOKUP(C7,'TD Siniestros Daños'!$B$7:$M$154,9,0)","v":123082854.16757998},{"$f":"VLOOKUP(C7,'TD Siniestros Daños'!$B$7:$M$154,10,0)","v":9.1074637692397875},{"$f":"VLOOKUP(C7,'TD Siniestros Daños'!$B$7:$M$154,11,0)","v":63.650293605090482},{"$f":"VLOOKUP(C7,'TD Siniestros Daños'!$B$7:$M$154,12,0)","v":57.606113861969767}]
[null,{"$f":"IF('TD Siniestros Daños'!A7=\"\",\"\",'TD Siniestros Daños'!A7)","v":1},{"$f":"IF('TD Siniestros Daños'!B7=\"\",\"\",'TD Siniestros Daños'!B7)","v":"Quálitas"},{"$f":"IF('TD Siniestros Daños'!C7=\"\",\"\",'TD Siniestros Daños'!C7)","v":23308919.181210004},{"$f":"IF('TD Siniestros Daños'!D7=\"\",\"\",'TD Siniestros Daños'!D7)","v":26.745483407435721},{"$f":"IF('TD Siniestros Daños'!E7=\"\",\"\",'TD Siniestros Daños'!E7)","v":68561.225480000008},{"$f":"IF('TD Siniestros Daños'!F7=\"\",\"\",'TD Siniestros Daños'!F7)","v":66.753446019683736},{"$f":"IF('TD Siniestros Daños'!G7=\"\",\"\",'TD Siniestros Daños'!G7)","v":68.223229290826353},{"$f":"IFERROR(D8/VLOOKUP(\"TOTAL\",$C$8:$D$124,2,0)*100,\"\")","v":23.461413904581146},null,{"$f":"IF('TD Siniestros Daños'!H7=\"\",\"\",'TD Siniestros Daños'!H7)","v":23331011.338009998},{"$f":"IF('TD Siniestros Daños'!I7=\"\",\"\",'TD Siniestros Daños'!I7)","v":26.895926946093528},{"$f":"IF('TD Siniestros Daños'!J7=\"\",\"\",'TD Siniestros Daños'!J7)","v":33390337.903790001},{"$f":"IF('TD Siniestros Daños'!K7=\"\",\"\",'TD Siniestros Daños'!K7)","v":23.106372091434558},{"$f":"IF('TD Siniestros Daños'!L7=\"\",\"\",'TD Siniestros Daños'!L7)","v":69.873540678849466},{"$f":"IF('TD Siniestros Daños'!M7=\"\",\"\",'TD Siniestros Daños'!M7)","v":67.786873110675813}]
[null,{"$f":"IF('TD Siniestros Daños'!A8=\"\",\"\",'TD Siniestros Daños'!A8)","v":2},{"$f":"IF('TD Siniestros Daños'!B8=\"\",\"\",'TD Siniestros Daños'!B8)","v":"G.N.P."},{"$f":"IF('TD Siniestros Daños'!C8=\"\",\"\",'TD Siniestros Daños'!C8)","v":10644872.855490001},{"$f":"IF('TD Siniestros Daños'!D8=\"\",\"\",'TD Siniestros Daños'!D8)","v":10.654895649956408},{"$f":"IF('TD Siniestros Daños'!E8=\"\",\"\",'TD Siniestros Daños'!E8)","v":19444.81295},{"$f":"IF('TD Siniestros Daños'!F8=\"\",\"\",'TD Siniestros Daños'!F8)","v":56.102662865502573},{"$f":"IF('TD Siniestros Daños'!G8=\"\",\"\",'TD Siniestros Daños'!G8)","v":61.932321539973259},{"$f":"IFERROR(D9/VLOOKUP(\"TOTAL\",$C$8:$D$124,2,0)*100,\"\")","v":10.714515164032882},null,{"$f":"IF('TD Siniestros Daños'!H8=\"\",\"\",'TD Siniestros Daños'!H8)","v":9932442.309940001},{"$f":"IF('TD Siniestros Daños'!I8=\"\",\"\",'TD Siniestros Daños'!I8)","v":21.958587137090756},{"$f":"IF('TD Siniestros Daños'!J8=\"\",\"\",'TD Siniestros Daños'!J8)","v":14455161.955290001},{"$f":"IF('TD Siniestros Daños'!K8=\"\",\"\",'TD Siniestros Daños'!K8)","v":18.299289645084492},{"$f":"IF('TD Siniestros Daños'!L8=\"\",\"\",'TD Siniestros Daños'!L8)","v":68.712079052875168},{"$f":"IF('TD Siniestros Daños'!M8=\"\",\"\",'TD Siniestros Daños'!M8)","v":66.65041251137869}]
[null,{"$f":"IF('TD Siniestros Daños'!A9=\"\",\"\",'TD Siniestros Daños'!A9)","v":3},{"$f":"IF('TD Siniestros Daños'!B9=\"\",\"\",'TD Siniestros Daños'!B9)","v":"AXA Seguros"},{"$f":"IF('TD Siniestros Daños'!C9=\"\",\"\",'TD Siniestros Daños'!C9)","v":8245348.5043099988},{"$f":"IF('TD Siniestros Daños'!D9=\"\",\"\",'TD Siniestros Daños'!D9)","v":3.6799800516778225},{"$f":"IF('TD Siniestros Daños'!E9=\"\",\"\",'TD Siniestros Daños'!E9)","v":120326.8192},{"$f":"IF('TD Siniestros Daños'!F9=\"\",\"\",'TD Siniestros Daños'!F9)","v":48.531610939264809},{"$f":"IF('TD Siniestros Daños'!G9=\"\",\"\",'TD Siniestros Daños'!G9)","v":54.086219509830734},8.2992923242481194,null,{"$f":"IF('TD Siniestros Daños'!H9=\"\",\"\",'TD Siniestros Daños'!H9)","v":7705205.0683800001},{"$f":"IF('TD Siniestros Daños'!I9=\"\",\"\",'TD Siniestros Daños'!I9)","v":19.029052978763914},{"$f":"IF('TD Siniestros Daños'!J9=\"\",\"\",'TD Siniestros Daños'!J9)","v":11374694.84895},{"$f":"IF('TD Siniestros Daños'!K9=\"\",\"\",'TD Siniestros Daños'!K9)","v":13.847500671954904},{"$f":"IF('TD Siniestros Daños'!L9=\"\",\"\",'TD Siniestros Daños'!L9)","v":67.739883756892766},{"$f":"IF('TD Siniestros Daños'!M9=\"\",\"\",'TD Siniestros Daños'!M9)","v":64.79104276253382}]
[null,{"$f":"IF('TD Siniestros Daños'!A10=\"\",\"\",'TD Siniestros Daños'!A10)","v":4},{"$f":"IF('TD Siniestros Daños'!B10=\"\",\"\",'TD Siniestros Daños'!B10)","v":"Chubb Seguros México"},{"$f":"IF('TD Siniestros Daños'!C10=\"\",\"\",'TD Siniestros Daños'!C10)","v":8838508.8105599992},{"$f":"IF('TD Siniestros Daños'!D10=\"\",\"\",'TD Siniestros Daños'!D10)","v":9.9839657450374588},{"$f":"IF('TD Siniestros Daños'!E10=\"\",\"\",'TD Siniestros Daños'!E10)","v":18291.50261},{"$f":"IF('TD Siniestros Daños'!F10=\"\",\"\",'TD Siniestros Daños'!F10)","v":55.910679764060724},{"$f":"IF('TD Siniestros Daños'!G10=\"\",\"\",'TD Siniestros Daños'!G10)","v":55.680221848476805},8.8963332830549007,null,{"$f":"IF('TD Siniestros Daños'!H10=\"\",\"\",'TD Siniestros Daños'!H10)","v":4246091.76382},{"$f":"IF('TD Siniestros Daños'!I10=\"\",\"\",'TD Siniestros Daños'!I10)","v":16.596379630476488},{"$f":"IF('TD Siniestros Daños'!J10=\"\",\"\",'TD Siniestros Daños'!J10)","v":5578514.5487399995},{"$f":"IF('TD Siniestros Daños'!K10=\"\",\"\",'TD Siniestros Daños'!K10)","v":-2.3946742791798314},{"$f":"IF('TD Siniestros Daños'!L10=\"\",\"\",'TD Siniestros Daños'!L10)","v":76.115097069685874},{"$f":"IF('TD Siniestros Daños'!M10=\"\",\"\",'TD Siniestros Daños'!M10)","v":63.717577383651857}]
[null,{"$f":"IF('TD Siniestros Daños'!A11=\"\",\"\",'TD Siniestros Daños'!A11)","v":5},{"$f":"IF('TD Siniestros Daños'!B11=\"\",\"\",'TD Siniestros Daños'!B11)","v":"Mapfre México"},{"$f":"IF('TD Siniestros Daños'!C11=\"\",\"\",'TD Siniestros Daños'!C11)","v":5589995.6867099991},{"$f":"IF('TD Siniestros Daños'!D11=\"\",\"\",'TD Siniestros Daños'!D11)","v":-0.76543249076425068},{"$f":"IF('TD Siniestros Daños'!E11=\"\",\"\",'TD Siniestros Daños'!E11)","v":284041.39913000003},{"$f":"IF('TD Siniestros Daños'!F11=\"\",\"\",'TD Siniestros Daños'!F11)","v":39.484588876691724},{"$f":"IF('TD Siniestros Daños'!G11=\"\",\"\",'TD Siniestros Daños'!G11)","v":55.258028862491102},5.6265673028910657,null,{"$f":"IF('TD Siniestros Daños'!H11=\"\",\"\",'TD Siniestros Daños'!H11)","v":2471822.00611},{"$f":"IF('TD Siniestros Daños'!I11=\"\",\"\",'TD Siniestros Daños'!I11)","v":5.9104662957012222},{"$f":"IF('TD Siniestros Daños'!J11=\"\",\"\",'TD Siniestros Daños'!J11)","v":3676961.2999},{"$f":"IF('TD Siniestros Daños'!K11=\"\",\"\",'TD Siniestros Daños'!K11)","v":-4.3529230868003532},{"$f":"IF('TD Siniestros Daños'!L11=\"\",\"\",'TD Siniestros Daños'!L11)","v":67.224585860537189},{"$f":"IF('TD Siniestros Daños'!M11=\"\",\"\",'TD Siniestros Daños'!M11)","v":60.710101269016633}]
[null,{"$f":"IF('TD Siniestros Daños'!A12=\"\",\"\",'TD Siniestros Daños'!A12)","v":5.0999999999999996},{"$f":"IF('TD Siniestros Daños'!B12=\"\",\"\",'TD Siniestros Daños'!B12)","v":"TOTAL GRANDES"},{"$f":"IF('TD Siniestros Daños'!C12=\"\",\"\",'TD Siniestros Daños'!C12)","v":56627645.03828001},{"$f":"IF('TD Siniestros Daños'!D12=\"\",\"\",'TD Siniestros Daños'!D12)","v":14.094562346123297},{"$f":"IF('TD Siniestros Daños'!E12=\"\",\"\",'TD Siniestros Daños'!E12)","v":510665.75937000004},{"$f":"IF('TD Siniestros Daños'!F12=\"\",\"\",'TD Siniestros Daños'!F12)","v":56.151944833501432},{"$f":"IF('TD Siniestros Daños'!G12=\"\",\"\",'TD Siniestros Daños'!G12)","v":60.660470241434524},56.998121978808122,null,{"$f":"IF('TD Siniestros Daños'!H12=\"\",\"\",'TD Siniestros Daños'!H12)","v":47686572.486259997},{"$f":"IF('TD Siniestros Daños'!I12=\"\",\"\",'TD Siniestros Daños'!I12)","v":22.339092438017992},{"$f":"IF('TD Siniestros Daños'!J12=\"\",\"\",'TD Siniestros Daños'!J12)","v":68475670.55667001},{"$f":"IF('TD Siniestros Daños'!K12=\"\",\"\",'TD Siniestros Daños'!K12)","v":16.271021991551216},{"$f":"IF('TD Siniestros Daños'!L12=\"\",\"\",'TD Siniestros Daños'!L12)","v":69.64016868851968},{"$f":"IF('TD Siniestros Daños'!M12=\"\",\"\",'TD Siniestros Daños'!M12)","v":66.185987027658783}]
[null,{"$f":"IF('TD Siniestros Daños'!A13=\"\",\"\",'TD Siniestros Daños'!A13)","v":6},{"$f":"IF('TD Siniestros Daños'!B13=\"\",\"\",'TD Siniestros Daños'!B13)","v":"Inbursa"},{"$f":"IF('TD Siniestros Daños'!C13=\"\",\"\",'TD Siniestros Daños'!C13)","v":5063992.1400899999},{"$f":"IF('TD Siniestros Daños'!D13=\"\",\"\",'TD Siniestros Daños'!D13)","v":64.149504412510197},{"$f":"IF('TD Siniestros Daños'!E13=\"\",\"\",'TD Siniestros Daños'!E13)","v":0},{"$f":"IF('TD Siniestros Daños'!F13=\"\",\"\",'TD Siniestros Daños'!F13)","v":39.667375357204115},{"$f":"IF('TD Siniestros Daños'!G13=\"\",\"\",'TD Siniestros Daños'!G13)","v":30.487331325068983},5.0971224656341887,null,{"$f":"IF('TD Siniestros Daños'!H13=\"\",\"\",'TD Siniestros Daños'!H13)","v":3203907.62763},{"$f":"IF('TD Siniestros Daños'!I13=\"\",\"\",'TD Siniestros Daños'!I13)","v":27.435871046688852},{"$f":"IF('TD Siniestros Daños'!J13=\"\",\"\",'TD Siniestros Daños'!J13)","v":4679909.7202700004},{"$f":"IF('TD Siniestros Daños'!K13=\"\",\"\",'TD Siniestros Daños'!K13)","v":15.7909418851218},{"$f":"IF('TD Siniestros Daños'!L13=\"\",\"\",'TD Siniestros Daños'!L13)","v":68.460885340436775},{"$f":"IF('TD Siniestros Daños'!M13=\"\",\"\",'TD Siniestros Daños'!M13)","v":62.205015987643073}]
[null,{"$f":"IF('TD Siniestros Daños'!A14=\"\",\"\",'TD Siniestros Daños'!A14)","v":7},{"$f":"IF('TD Siniestros Daños'!B14=\"\",\"\",'TD Siniestros Daños'!B14)","v":"BBVA Bancomer"},{"$f":"IF('TD Siniestros Daños'!C14=\"\",\"\",'TD Siniestros Daños'!C14)","v":5430972.1043700008},{"$f":"IF('TD Siniestros Daños'!D14=\"\",\"\",'TD Siniestros Daños'!D14)","v":42.3449681211276},{"$f":"IF('TD Siniestros Daños'!E14=\"\",\"\",'TD Siniestros Daños'!E14)","v":0},{"$f":"IF('TD Siniestros Daños'!F14=\"\",\"\",'TD Siniestros Daños'!F14)","v":51.622846460695314},{"$f":"IF('TD Siniestros Daños'!G14=\"\",\"\",'TD Siniestros Daños'!G14)","v":47.217104504675682},5.466503335237193,null,{"$f":"IF('TD Siniestros Daños'!H14=\"\",\"\",'TD Siniestros Daños'!H14)","v":5211955.2852700008},{"$f":"IF('TD Siniestros Daños'!I14=\"\",\"\",'TD Siniestros Daños'!I14)","v":37.903824741189204},{"$f":"IF('TD Siniestros Daños'!J14=\"\",\"\",'TD Siniestros Daños'!J14)","v":9616007.9612600002},{"$f":"IF('TD Siniestros Daños'!K14=\"\",\"\",'TD Siniestros Daños'!K14)","v":41.78451189057273},{"$f":"IF('TD Siniestros Daños'!L14=\"\",\"\",'TD Siniestros Daños'!L14)","v":54.200821237538477},{"$f":"IF('TD Siniestros Daños'!M14=\"\",\"\",'TD Siniestros Daños'!M14)","v":55.72606124344329}]
[null,{"$f":"IF('TD Siniestros Daños'!A15=\"\",\"\",'TD Siniestros Daños'!A15)","v":8},{"$f":"IF('TD Siniestros Daños'!B15=\"\",\"\",'TD Siniestros Daños'!B15)","v":"GMX Seguros"},{"$f":"IF('TD Siniestros Daños'!C15=\"\",\"\",'TD Siniestros Daños'!C15)","v":2866637.1282300004},{"$f":"IF('TD Siniestros Daños'!D15=\"\",\"\",'TD Siniestros Daños'!D15)","v":-23.247518748012553},{"$f":"IF('TD Siniestros Daños'!E15=\"\",\"\",'TD Siniestros Daños'!E15)","v":0},{"$f":"IF('TD Siniestros Daños'!F15=\"\",\"\",'TD Siniestros Daños'!F15)","v":29.239184659455013},{"$f":"IF('TD Siniestros Daños'!G15=\"\",\"\",'TD Siniestros Daños'!G15)","v":35.171711255349763},2.8853916244156186,null,{"$f":"IF('TD Siniestros Daños'!H15=\"\",\"\",'TD Siniestros Daños'!H15)","v":796279.56860999996},{"$f":"IF('TD Siniestros Daños'!I15=\"\",\"\",'TD Siniestros Daños'!I15)","v":28.231037100788335},{"$f":"IF('TD Siniestros Daños'!J15=\"\",\"\",'TD Siniestros Daños'!J15)","v":2029854.2378499999},{"$f":"IF('TD Siniestros Daños'!K15=\"\",\"\",'TD Siniestros Daños'!K15)","v":0.98345520090115102},{"$f":"IF('TD Siniestros Daños'!L15=\"\",\"\",'TD Siniestros Daños'!L15)","v":39.22841127023046},{"$f":"IF('TD Siniestros Daños'!M15=\"\",\"\",'TD Siniestros Daños'!M15)","v":30.892836880015288}]
[null,{"$f":"IF('TD Siniestros Daños'!A16=\"\",\"\",'TD Siniestros Daños'!A16)","v":9},{"$f":"IF('TD Siniestros Daños'!B16=\"\",\"\",'TD Siniestros Daños'!B16)","v":"Banorte"},{"$f":"IF('TD Siniestros Daños'!C16=\"\",\"\",'TD Siniestros Daños'!C16)","v":3640113.6384199993},{"$f":"IF('TD Siniestros Daños'!D16=\"\",\"\",'TD Siniestros Daños'!D16)","v":24.336968736403275},{"$f":"IF('TD Siniestros Daños'!E16=\"\",\"\",'TD Siniestros Daños'!E16)","v":-9601.1814800000011},{"$f":"IF('TD Siniestros Daños'!F16=\"\",\"\",'TD Siniestros Daños'!F16)","v":41.585599531062115},{"$f":"IF('TD Siniestros Daños'!G16=\"\",\"\",'TD Siniestros Daños'!G16)","v":40.087643692862422},3.6639284759083823,null,{"$f":"IF('TD Siniestros Daños'!H16=\"\",\"\",'TD Siniestros Daños'!H16)","v":3460007.22529},{"$f":"IF('TD Siniestros Daños'!I16=\"\",\"\",'TD Siniestros Daños'!I16)","v":32.753194166377895},{"$f":"IF('TD Siniestros Daños'!J16=\"\",\"\",'TD Siniestros Daños'!J16)","v":6137628.4504899997},{"$f":"IF('TD Siniestros Daños'!K16=\"\",\"\",'TD Siniestros Daños'!K16)","v":17.777104054019823},{"$f":"IF('TD Siniestros Daños'!L16=\"\",\"\",'TD Siniestros Daños'!L16)","v":56.37368330782175},{"$f":"IF('TD Siniestros Daños'!M16=\"\",\"\",'TD Siniestros Daños'!M16)","v":50.014082196262976}]
[null,{"$f":"IF('TD Siniestros Daños'!A17=\"\",\"\",'TD Siniestros Daños'!A17)","v":10},{"$f":"IF('TD Siniestros Daños'!B17=\"\",\"\",'TD Siniestros Daños'!B17)","v":"Atlas"},{"$f":"IF('TD Siniestros Daños'!C17=\"\",\"\",'TD Siniestros Daños'!C17)","v":3232713.4452499994},{"$f":"IF('TD Siniestros Daños'!D17=\"\",\"\",'TD Siniestros Daños'!D17)","v":20.32232572374426},{"$f":"IF('TD Siniestros Daños'!E17=\"\",\"\",'TD Siniestros Daños'!E17)","v":10602.622159999999},{"$f":"IF('TD Siniestros Daños'!F17=\"\",\"\",'TD Siniestros Daños'!F17)","v":37.18637462374118},{"$f":"IF('TD Siniestros Daños'!G17=\"\",\"\",'TD Siniestros Daños'!G17)","v":38.14615795502371},3.2538629347968575,null,{"$f":"IF('TD Siniestros Daños'!H17=\"\",\"\",'TD Siniestros Daños'!H17)","v":2303749.4567},{"$f":"IF('TD Siniestros Daños'!I17=\"\",\"\",'TD Siniestros Daños'!I17)","v":22.782455397622449},{"$f":"IF('TD Siniestros Daños'!J17=\"\",\"\",'TD Siniestros Daños'!J17)","v":3277225.4278200003},{"$f":"IF('TD Siniestros Daños'!K17=\"\",\"\",'TD Siniestros Daños'!K17)","v":10.336627597913006},{"$f":"IF('TD Siniestros Daños'!L17=\"\",\"\",'TD Siniestros Daños'!L17)","v":70.295727512173201},{"$f":"IF('TD Siniestros Daños'!M17=\"\",\"\",'TD Siniestros Daños'!M17)","v":63.170210133989656}]
[null,{"$f":"IF('TD Siniestros Daños'!A18=\"\",\"\",'TD Siniestros Daños'!A18)","v":11},{"$f":"IF('TD Siniestros Daños'!B18=\"\",\"\",'TD Siniestros Daños'!B18)","v":"HDI Seguros"},{"$f":"IF('TD Siniestros Daños'!C18=\"\",\"\",'TD Siniestros Daños'!C18)","v":5091813.3929799991},{"$f":"IF('TD Siniestros Daños'!D18=\"\",\"\",'TD Siniestros Daños'!D18)","v":19.478642938802192},{"$f":"IF('TD Siniestros Daños'!E18=\"\",\"\",'TD Siniestros Daños'!E18)","v":0},{"$f":"IF('TD Siniestros Daños'!F18=\"\",\"\",'TD Siniestros Daños'!F18)","v":59.080389307309289},{"$f":"IF('TD Siniestros Daños'!G18=\"\",\"\",'TD Siniestros Daños'!G18)","v":61.683477034868183},5.1251257344396537,null,{"$f":"IF('TD Siniestros Daños'!H18=\"\",\"\",'TD Siniestros Daños'!H18)","v":5036673.8422499998},{"$f":"IF('TD Siniestros Daños'!I18=\"\",\"\",'TD Siniestros Daños'!I18)","v":25.009228564394981},{"$f":"IF('TD Siniestros Daños'!J18=\"\",\"\",'TD Siniestros Daños'!J18)","v":7607386.1155500002},{"$f":"IF('TD Siniestros Daños'!K18=\"\",\"\",'TD Siniestros Daños'!K18)","v":11.199245767709364},{"$f":"IF('TD Siniestros Daños'!L18=\"\",\"\",'TD Siniestros Daños'!L18)","v":66.207679822570142},{"$f":"IF('TD Siniestros Daños'!M18=\"\",\"\",'TD Siniestros Daños'!M18)","v":58.893604455028992}]
[null,{"$f":"IF('TD Siniestros Daños'!A19=\"\",\"\",'TD Siniestros Daños'!A19)","v":12},{"$f":"IF('TD Siniestros Daños'!B19=\"\",\"\",'TD Siniestros Daños'!B19)","v":"Agroasemex"},{"$f":"IF('TD Siniestros Daños'!C19=\"\",\"\",'TD Siniestros Daños'!C19)","v":2334628.6140100001},{"$f":"IF('TD Siniestros Daños'!D19=\"\",\"\",'TD Siniestros Daños'!D19)","v":293.93302851432981},{"$f":"IF('TD Siniestros Daños'!E19=\"\",\"\",'TD Siniestros Daños'!E19)","v":-1704.4324000000001},{"$f":"IF('TD Siniestros Daños'!F19=\"\",\"\",'TD Siniestros Daños'!F19)","v":27.612733027655189},{"$f":"IF('TD Siniestros Daños'!G19=\"\",\"\",'TD Siniestros Daños'!G19)","v":8.6922422645114565},2.3499025330578989,null,{"$f":"IF('TD Siniestros Daños'!H19=\"\",\"\",'TD Siniestros Daños'!H19)","v":950477.62574000005},{"$f":"IF('TD Siniestros Daños'!I19=\"\",\"\",'TD Siniestros Daños'!I19)","v":36.72382593277117},{"$f":"IF('TD Siniestros Daños'!J19=\"\",\"\",'TD Siniestros Daños'!J19)","v":2037267.98459},{"$f":"IF('TD Siniestros Daños'!K19=\"\",\"\",'TD Siniestros Daños'!K19)","v":-70.695854564123124},{"$f":"IF('TD Siniestros Daños'!L19=\"\",\"\",'TD Siniestros Daños'!L19)","v":46.654521296631657},{"$f":"IF('TD Siniestros Daños'!M19=\"\",\"\",'TD Siniestros Daños'!M19)","v":9.9995071670241575}]
[null,{"$f":"IF('TD Siniestros Daños'!A20=\"\",\"\",'TD Siniestros Daños'!A20)","v":13},{"$f":"IF('TD Siniestros Daños'!B20=\"\",\"\",'TD Siniestros Daños'!B20)","v":"Zurich Aseguradora Mexicana"},{"$f":"IF('TD Siniestros Daños'!C20=\"\",\"\",'TD Siniestros Daños'!C20)","v":2334581.2003100002},{"$f":"IF('TD Siniestros Daños'!D20=\"\",\"\",'TD Siniestros Daños'!D20)","v":-4.9562775411595705},{"$f":"IF('TD Siniestros Daños'!E20=\"\",\"\",'TD Siniestros Daños'!E20)","v":13474.73047},{"$f":"IF('TD Siniestros Daños'!F20=\"\",\"\",'TD Siniestros Daños'!F20)","v":32.753859838279574},{"$f":"IF('TD Siniestros Daños'!G20=\"\",\"\",'TD Siniestros Daños'!G20)","v":119.57277433031659},2.3498548091616596,null,{"$f":"IF('TD Siniestros Daños'!H20=\"\",\"\",'TD Siniestros Daños'!H20)","v":1895845.40069},{"$f":"IF('TD Siniestros Daños'!I20=\"\",\"\",'TD Siniestros Daños'!I20)","v":162.30993226197432},{"$f":"IF('TD Siniestros Daños'!J20=\"\",\"\",'TD Siniestros Daños'!J20)","v":3497849.6970700002},{"$f":"IF('TD Siniestros Daños'!K20=\"\",\"\",'TD Siniestros Daños'!K20)","v":211.05441008663664},{"$f":"IF('TD Siniestros Daños'!L20=\"\",\"\",'TD Siniestros Daños'!L20)","v":54.200310615921232},{"$f":"IF('TD Siniestros Daños'!M20=\"\",\"\",'TD Siniestros Daños'!M20)","v":64.272235137136065}]
[null,{"$f":"IF('TD Siniestros Daños'!A21=\"\",\"\",'TD Siniestros Daños'!A21)","v":14},{"$f":"IF('TD Siniestros Daños'!B21=\"\",\"\",'TD Siniestros Daños'!B21)","v":"AIG Seguros"},{"$f":"IF('TD Siniestros Daños'!C21=\"\",\"\",'TD Siniestros Daños'!C21)","v":763706.88296000008},{"$f":"IF('TD Siniestros Daños'!D21=\"\",\"\",'TD Siniestros Daños'!D21)","v":-10.958819479888094},{"$f":"IF('TD Siniestros Daños'!E21=\"\",\"\",'TD Siniestros Daños'!E21)","v":4613.3549599999997},{"$f":"IF('TD Siniestros Daños'!F21=\"\",\"\",'TD Siniestros Daños'!F21)","v":12.48602616901703},{"$f":"IF('TD Siniestros Daños'!G21=\"\",\"\",'TD Siniestros Daños'!G21)","v":17.405704422315058},0.76870330810302023,null,{"$f":"IF('TD Siniestros Daños'!H21=\"\",\"\",'TD Siniestros Daños'!H21)","v":350279.90701999998},{"$f":"IF('TD Siniestros Daños'!I21=\"\",\"\",'TD Siniestros Daños'!I21)","v":4.1829413113047442},{"$f":"IF('TD Siniestros Daños'!J21=\"\",\"\",'TD Siniestros Daños'!J21)","v":646561.23773000005},{"$f":"IF('TD Siniestros Daños'!K21=\"\",\"\",'TD Siniestros Daños'!K21)","v":2.004688372553165},{"$f":"IF('TD Siniestros Daños'!L21=\"\",\"\",'TD Siniestros Daños'!L21)","v":54.175828456681266},{"$f":"IF('TD Siniestros Daños'!M21=\"\",\"\",'TD Siniestros Daños'!M21)","v":53.0431223143921}]
[null,{"$f":"IF('TD Siniestros Daños'!A22=\"\",\"\",'TD Siniestros Daños'!A22)","v":15},{"$f":"IF('TD Siniestros Daños'!B22=\"\",\"\",'TD Siniestros Daños'!B22)","v":"Allianz México"},{"$f":"IF('TD Siniestros Daños'!C22=\"\",\"\",'TD Siniestros Daños'!C22)","v":1066357.2207899999},{"$f":"IF('TD Siniestros Daños'!D22=\"\",\"\",'TD Siniestros Daños'!D22)","v":-57.261620861091565},{"$f":"IF('TD Siniestros Daños'!E22=\"\",\"\",'TD Siniestros Daños'!E22)","v":7037.6299700000018},{"$f":"IF('TD Siniestros Daños'!F22=\"\",\"\",'TD Siniestros Daños'!F22)","v":21.375512673304094},{"$f":"IF('TD Siniestros Daños'!G22=\"\",\"\",'TD Siniestros Daños'!G22)","v":52.82112496895828},1.0733336853843034,null,{"$f":"IF('TD Siniestros Daños'!H22=\"\",\"\",'TD Siniestros Daños'!H22)","v":191217.56341999999},{"$f":"IF('TD Siniestros Daños'!I22=\"\",\"\",'TD Siniestros Daños'!I22)","v":8.3561481875612955},{"$f":"IF('TD Siniestros Daños'!J22=\"\",\"\",'TD Siniestros Daños'!J22)","v":404862.19445999997},{"$f":"IF('TD Siniestros Daños'!K22=\"\",\"\",'TD Siniestros Daños'!K22)","v":1.1506416087557758},{"$f":"IF('TD Siniestros Daños'!L22=\"\",\"\",'TD Siniestros Daños'!L22)","v":47.230283794475682},{"$f":"IF('TD Siniestros Daños'!M22=\"\",\"\",'TD Siniestros Daños'!M22)","v":44.089547193070608}]
[null,{"$f":"IF('TD Siniestros Daños'!A23=\"\",\"\",'TD Siniestros Daños'!A23)","v":15.1},{"$f":"IF('TD Siniestros Daños'!B23=\"\",\"\",'TD Siniestros Daños'!B23)","v":"TOTAL MEDIANAS"},{"$f":"IF('TD Siniestros Daños'!C23=\"\",\"\",'TD Siniestros Daños'!C23)","v":31825515.767409999},{"$f":"IF('TD Siniestros Daños'!D23=\"\",\"\",'TD Siniestros Daños'!D23)","v":18.25316892458979},{"$f":"IF('TD Siniestros Daños'!E23=\"\",\"\",'TD Siniestros Daños'!E23)","v":24422.723680000003},{"$f":"IF('TD Siniestros Daños'!F23=\"\",\"\",'TD Siniestros Daños'!F23)","v":37.073892252140453},{"$f":"IF('TD Siniestros Daños'!G23=\"\",\"\",'TD Siniestros Daños'!G23)","v":39.23333175357471},32.033728906138776,null,{"$f":"IF('TD Siniestros Daños'!H23=\"\",\"\",'TD Siniestros Daños'!H23)","v":23400393.50262},{"$f":"IF('TD Siniestros Daños'!I23=\"\",\"\",'TD Siniestros Daños'!I23)","v":34.81966543710795},{"$f":"IF('TD Siniestros Daños'!J23=\"\",\"\",'TD Siniestros Daños'!J23)","v":39934553.027090006},{"$f":"IF('TD Siniestros Daños'!K23=\"\",\"\",'TD Siniestros Daños'!K23)","v":8.0266122785091163},{"$f":"IF('TD Siniestros Daños'!L23=\"\",\"\",'TD Siniestros Daños'!L23)","v":58.596858431709776},{"$f":"IF('TD Siniestros Daños'!M23=\"\",\"\",'TD Siniestros Daños'!M23)","v":46.951756526156721}]
[null,{"$f":"IF('TD Siniestros Daños'!A24=\"\",\"\",'TD Siniestros Daños'!A24)","v":16},{"$f":"IF('TD Siniestros Daños'!B24=\"\",\"\",'TD Siniestros Daños'!B24)","v":"Afirme"},{"$f":"IF('TD Siniestros Daños'!C24=\"\",\"\",'TD Siniestros Daños'!C24)","v":2306873.5746399988},{"$f":"IF('TD Siniestros Daños'!D24=\"\",\"\",'TD Siniestros Daños'!D24)","v":-30.260106099987294},{"$f":"IF('TD Siniestros Daños'!E24=\"\",\"\",'TD Siniestros Daños'!E24)","v":115.90558999999999},{"$f":"IF('TD Siniestros Daños'!F24=\"\",\"\",'TD Siniestros Daños'!F24)","v":58.182044104522824},{"$f":"IF('TD Siniestros Daños'!G24=\"\",\"\",'TD Siniestros Daños'!G24)","v":88.752878037832431},2.3219659109633626,null,{"$f":"IF('TD Siniestros Daños'!H24=\"\",\"\",'TD Siniestros Daños'!H24)","v":1783108.95799},{"$f":"IF('TD Siniestros Daños'!I24=\"\",\"\",'TD Siniestros Daños'!I24)","v":-11.26281761774688},{"$f":"IF('TD Siniestros Daños'!J24=\"\",\"\",'TD Siniestros Daños'!J24)","v":2166711.5934000001},{"$f":"IF('TD Siniestros Daños'!K24=\"\",\"\",'TD Siniestros Daños'!K24)","v":-1.3349590534366573},{"$f":"IF('TD Siniestros Daños'!L24=\"\",\"\",'TD Siniestros Daños'!L24)","v":82.295630088541159},{"$f":"IF('TD Siniestros Daños'!M24=\"\",\"\",'TD Siniestros Daños'!M24)","v":91.502811949019389}]
[null,{"$f":"IF('TD Siniestros Daños'!A25=\"\",\"\",'TD Siniestros Daños'!A25)","v":17},{"$f":"IF('TD Siniestros Daños'!B25=\"\",\"\",'TD Siniestros Daños'!B25)","v":"Zurich Santander"},{"$f":"IF('TD Siniestros Daños'!C25=\"\",\"\",'TD Siniestros Daños'!C25)","v":218245.32715999999},{"$f":"IF('TD Siniestros Daños'!D25=\"\",\"\",'TD Siniestros Daños'!D25)","v":-0.2213642988690423},{"$f":"IF('TD Siniestros Daños'!E25=\"\",\"\",'TD Siniestros Daños'!E25)","v":0},{"$f":"IF('TD Siniestros Daños'!F25=\"\",\"\",'TD Siniestros Daños'!F25)","v":7.4760091157943371},{"$f":"IF('TD Siniestros Daños'!G25=\"\",\"\",'TD Siniestros Daños'!G25)","v":7.850759507514149},0.21967316088036987,null,{"$f":"IF('TD Siniestros Daños'!H25=\"\",\"\",'TD Siniestros Daños'!H25)","v":197941.58652000001},{"$f":"IF('TD Siniestros Daños'!I25=\"\",\"\",'TD Siniestros Daños'!I25)","v":-4.5149380948790725},{"$f":"IF('TD Siniestros Daños'!J25=\"\",\"\",'TD Siniestros Daños'!J25)","v":2119784.7195600001},{"$f":"IF('TD Siniestros Daños'!K25=\"\",\"\",'TD Siniestros Daños'!K25)","v":3.628438106151477},{"$f":"IF('TD Siniestros Daños'!L25=\"\",\"\",'TD Siniestros Daños'!L25)","v":9.3378155193554928},{"$f":"IF('TD Siniestros Daños'!M25=\"\",\"\",'TD Siniestros Daños'!M25)","v":10.134184534076269}]
[null,{"$f":"IF('TD Siniestros Daños'!A26=\"\",\"\",'TD Siniestros Daños'!A26)","v":18},{"$f":"IF('TD Siniestros Daños'!B26=\"\",\"\",'TD Siniestros Daños'!B26)","v":"FM Global"},{"$f":"IF('TD Siniestros Daños'!C26=\"\",\"\",'TD Siniestros Daños'!C26)","v":396493.06121999992},{"$f":"IF('TD Siniestros Daños'!D26=\"\",\"\",'TD Siniestros Daños'!D26)","v":57.092854625885003},{"$f":"IF('TD Siniestros Daños'!E26=\"\",\"\",'TD Siniestros Daños'!E26)","v":0},{"$f":"IF('TD Siniestros Daños'!F26=\"\",\"\",'TD Siniestros Daños'!F26)","v":13.902601365703942},{"$f":"IF('TD Siniestros Daños'!G26=\"\",\"\",'TD Siniestros Daños'!G26)","v":9.2772673722162047},0.39908705106651593,null,{"$f":"IF('TD Siniestros Daños'!H26=\"\",\"\",'TD Siniestros Daños'!H26)","v":-2829.2853500000001},{"$f":"IF('TD Siniestros Daños'!I26=\"\",\"\",'TD Siniestros Daños'!I26)","v":-239.6640323408148},{"$f":"IF('TD Siniestros Daños'!J26=\"\",\"\",'TD Siniestros Daños'!J26)","v":-8212.4455699999999},{"$f":"IF('TD Siniestros Daños'!K26=\"\",\"\",'TD Siniestros Daños'!K26)","v":44.988336831375598},{"$f":"IF('TD Siniestros Daños'!L26=\"\",\"\",'TD Siniestros Daños'!L26)","v":34.451191498125205},{"$f":"IF('TD Siniestros Daños'!M26=\"\",\"\",'TD Siniestros Daños'!M26)","v":-35.764547775502521}]
[null,{"$f":"IF('TD Siniestros Daños'!A27=\"\",\"\",'TD Siniestros Daños'!A27)","v":19},{"$f":"IF('TD Siniestros Daños'!B27=\"\",\"\",'TD Siniestros Daños'!B27)","v":"Seguros SURA"},{"$f":"IF('TD Siniestros Daños'!C27=\"\",\"\",'TD Siniestros Daños'!C27)","v":784742.34109000035},{"$f":"IF('TD Siniestros Daños'!D27=\"\",\"\",'TD Siniestros Daños'!D27)","v":0},{"$f":"IF('TD Siniestros Daños'!E27=\"\",\"\",'TD Siniestros Daños'!E27)","v":2448.7326499999995},{"$f":"IF('TD Siniestros Daños'!F27=\"\",\"\",'TD Siniestros Daños'!F27)","v":28.67298166391728},{"$f":"IF('TD Siniestros Daños'!G27=\"\",\"\",'TD Siniestros Daños'!G27)","v":0},0.78987638721594056,null,{"$f":"IF('TD Siniestros Daños'!H27=\"\",\"\",'TD Siniestros Daños'!H27)","v":1045312.2522699999},{"$f":"IF('TD Siniestros Daños'!I27=\"\",\"\",'TD Siniestros Daños'!I27)","v":-2.6780836376690154},{"$f":"IF('TD Siniestros Daños'!J27=\"\",\"\",'TD Siniestros Daños'!J27)","v":1648897.30106},{"$f":"IF('TD Siniestros Daños'!K27=\"\",\"\",'TD Siniestros Daños'!K27)","v":-30.856885533216129},{"$f":"IF('TD Siniestros Daños'!L27=\"\",\"\",'TD Siniestros Daños'!L27)","v":63.394624492260185},{"$f":"IF('TD Siniestros Daños'!M27=\"\",\"\",'TD Siniestros Daños'!M27)","v":45.039205367966936}]
[null,{"$f":"IF('TD Siniestros Daños'!A28=\"\",\"\",'TD Siniestros Daños'!A28)","v":20},{"$f":"IF('TD Siniestros Daños'!B28=\"\",\"\",'TD Siniestros Daños'!B28)","v":"ANA"},{"$f":"IF('TD Siniestros Daños'!C28=\"\",\"\",'TD Siniestros Daños'!C28)","v":1753553.625},{"$f":"IF('TD Siniestros Daños'!D28=\"\",\"\",'TD Siniestros Daños'!D28)","v":18.994782877464079},{"$f":"IF('TD Siniestros Daños'!E28=\"\",\"\",'TD Siniestros Daños'!E28)","v":22014.207969999999},{"$f":"IF('TD Siniestros Daños'!F28=\"\",\"\",'TD Siniestros Daños'!F28)","v":73.289455738501971},{"$f":"IF('TD Siniestros Daños'!G28=\"\",\"\",'TD Siniestros Daños'!G28)","v":66.426165645433571},1.7650259576672478,null,{"$f":"IF('TD Siniestros Daños'!H28=\"\",\"\",'TD Siniestros Daños'!H28)","v":1358888.1331300002},{"$f":"IF('TD Siniestros Daños'!I28=\"\",\"\",'TD Siniestros Daños'!I28)","v":20.058752042887985},{"$f":"IF('TD Siniestros Daños'!J28=\"\",\"\",'TD Siniestros Daños'!J28)","v":1851649.9671800002},{"$f":"IF('TD Siniestros Daños'!K28=\"\",\"\",'TD Siniestros Daños'!K28)","v":7.8917428311233273},{"$f":"IF('TD Siniestros Daños'!L28=\"\",\"\",'TD Siniestros Daños'!L28)","v":73.387959777275853},{"$f":"IF('TD Siniestros Daños'!M28=\"\",\"\",'TD Siniestros Daños'!M28)","v":65.950667889352871}]
[null,{"$f":"IF('TD Siniestros Daños'!A29=\"\",\"\",'TD Siniestros Daños'!A29)","v":21},{"$f":"IF('TD Siniestros Daños'!B29=\"\",\"\",'TD Siniestros Daños'!B29)","v":"Seguros Azteca Daños"},{"$f":"IF('TD Siniestros Daños'!C29=\"\",\"\",'TD Siniestros Daños'!C29)","v":683175.58984999999},{"$f":"IF('TD Siniestros Daños'!D29=\"\",\"\",'TD Siniestros Daños'!D29)","v":32.882941038156723},{"$f":"IF('TD Siniestros Daños'!E29=\"\",\"\",'TD Siniestros Daños'!E29)","v":1.83E-3},{"$f":"IF('TD Siniestros Daños'!F29=\"\",\"\",'TD Siniestros Daños'!F29)","v":41.12556208758614},{"$f":"IF('TD Siniestros Daños'!G29=\"\",\"\",'TD Siniestros Daños'!G29)","v":21.845531100228047},0.68764515241436275,null,{"$f":"IF('TD Siniestros Daños'!H29=\"\",\"\",'TD Siniestros Daños'!H29)","v":93505.801480000009},{"$f":"IF('TD Siniestros Daños'!I29=\"\",\"\",'TD Siniestros Daños'!I29)","v":0.48060218205820959},{"$f":"IF('TD Siniestros Daños'!J29=\"\",\"\",'TD Siniestros Daños'!J29)","v":260859.84722999998},{"$f":"IF('TD Siniestros Daños'!K29=\"\",\"\",'TD Siniestros Daños'!K29)","v":-6.7523294554221458},{"$f":"IF('TD Siniestros Daños'!L29=\"\",\"\",'TD Siniestros Daños'!L29)","v":35.845225883903851},{"$f":"IF('TD Siniestros Daños'!M29=\"\",\"\",'TD Siniestros Daños'!M29)","v":33.264965985793765}]
[null,{"$f":"IF('TD Siniestros Daños'!A30=\"\",\"\",'TD Siniestros Daños'!A30)","v":22},{"$f":"IF('TD Siniestros Daños'!B30=\"\",\"\",'TD Siniestros Daños'!B30)","v":"Cardif Seguros Generales"},{"$f":"IF('TD Siniestros Daños'!C30=\"\",\"\",'TD Siniestros Daños'!C30)","v":127678.02440000001},{"$f":"IF('TD Siniestros Daños'!D30=\"\",\"\",'TD Siniestros Daños'!D30)","v":-5.3137312772270633},{"$f":"IF('TD Siniestros Daños'!E30=\"\",\"\",'TD Siniestros Daños'!E30)","v":0},{"$f":"IF('TD Siniestros Daños'!F30=\"\",\"\",'TD Siniestros Daños'!F30)","v":7.7090106534852705},{"$f":"IF('TD Siniestros Daños'!G30=\"\",\"\",'TD Siniestros Daños'!G30)","v":9.3829218615911572},0.12851333661933051,null,{"$f":"IF('TD Siniestros Daños'!H30=\"\",\"\",'TD Siniestros Daños'!H30)","v":78941.034879999992},{"$f":"IF('TD Siniestros Daños'!I30=\"\",\"\",'TD Siniestros Daños'!I30)","v":-57.000633494051826},{"$f":"IF('TD Siniestros Daños'!J30=\"\",\"\",'TD Siniestros Daños'!J30)","v":1102610.9703199998},{"$f":"IF('TD Siniestros Daños'!K30=\"\",\"\",'TD Siniestros Daños'!K30)","v":-13.096602886166353},{"$f":"IF('TD Siniestros Daños'!L30=\"\",\"\",'TD Siniestros Daños'!L30)","v":7.1594639455736342},{"$f":"IF('TD Siniestros Daños'!M30=\"\",\"\",'TD Siniestros Daños'!M30)","v":14.469555924696989}]
[null,{"$f":"IF('TD Siniestros Daños'!A31=\"\",\"\",'TD Siniestros Daños'!A31)","v":23},{"$f":"IF('TD Siniestros Daños'!B31=\"\",\"\",'TD Siniestros Daños'!B31)","v":"HDI Global Seguros"},{"$f":"IF('TD Siniestros Daños'!C31=\"\",\"\",'TD Siniestros Daños'!C31)","v":433804.21594000002},{"$f":"IF('TD Siniestros Daños'!D31=\"\",\"\",'TD Siniestros Daños'!D31)","v":111.23406745918717},{"$f":"IF('TD Siniestros Daños'!E31=\"\",\"\",'TD Siniestros Daños'!E31)","v":0},{"$f":"IF('TD Siniestros Daños'!F31=\"\",\"\",'TD Siniestros Daños'!F31)","v":27.6411954659727},{"$f":"IF('TD Siniestros Daños'!G31=\"\",\"\",'TD Siniestros Daños'!G31)","v":22.393412931328026},0.43664230780486579,null,{"$f":"IF('TD Siniestros Daños'!H31=\"\",\"\",'TD Siniestros Daños'!H31)","v":5156.8687499999996},{"$f":"IF('TD Siniestros Daños'!I31=\"\",\"\",'TD Siniestros Daños'!I31)","v":-937.0534763202711},{"$f":"IF('TD Siniestros Daños'!J31=\"\",\"\",'TD Siniestros Daños'!J31)","v":-5077.3212800000001},{"$f":"IF('TD Siniestros Daños'!K31=\"\",\"\",'TD Siniestros Daños'!K31)","v":-12.263971862449841},{"$f":"IF('TD Siniestros Daños'!L31=\"\",\"\",'TD Siniestros Daños'!L31)","v":-101.56672122194324},{"$f":"IF('TD Siniestros Daños'!M31=\"\",\"\",'TD Siniestros Daños'!M31)","v":10.645748405634238}]
[null,{"$f":"IF('TD Siniestros Daños'!A32=\"\",\"\",'TD Siniestros Daños'!A32)","v":24},{"$f":"IF('TD Siniestros Daños'!B32=\"\",\"\",'TD Siniestros Daños'!B32)","v":"General de Seguros"},{"$f":"IF('TD Siniestros Daños'!C32=\"\",\"\",'TD Siniestros Daños'!C32)","v":1054668.4041499998},{"$f":"IF('TD Siniestros Daños'!D32=\"\",\"\",'TD Siniestros Daños'!D32)","v":-4.9542151341319896},{"$f":"IF('TD Siniestros Daños'!E32=\"\",\"\",'TD Siniestros Daños'!E32)","v":467.3105599999999},{"$f":"IF('TD Siniestros Daños'!F32=\"\",\"\",'TD Siniestros Daños'!F32)","v":69.484178555301511},{"$f":"IF('TD Siniestros Daños'!G32=\"\",\"\",'TD Siniestros Daños'!G32)","v":78.824715014724589},1.0615683966073417,null,{"$f":"IF('TD Siniestros Daños'!H32=\"\",\"\",'TD Siniestros Daños'!H32)","v":923274.54299999995},{"$f":"IF('TD Siniestros Daños'!I32=\"\",\"\",'TD Siniestros Daños'!I32)","v":-5.0793262728430433},{"$f":"IF('TD Siniestros Daños'!J32=\"\",\"\",'TD Siniestros Daños'!J32)","v":1240270.8830200001},{"$f":"IF('TD Siniestros Daños'!K32=\"\",\"\",'TD Siniestros Daños'!K32)","v":13.569371282299269},{"$f":"IF('TD Siniestros Daños'!L32=\"\",\"\",'TD Siniestros Daños'!L32)","v":74.441362418496098},{"$f":"IF('TD Siniestros Daños'!M32=\"\",\"\",'TD Siniestros Daños'!M32)","v":89.066568907502443}]
[null,{"$f":"IF('TD Siniestros Daños'!A33=\"\",\"\",'TD Siniestros Daños'!A33)","v":25},{"$f":"IF('TD Siniestros Daños'!B33=\"\",\"\",'TD Siniestros Daños'!B33)","v":"El Potosí"},{"$f":"IF('TD Siniestros Daños'!C33=\"\",\"\",'TD Siniestros Daños'!C33)","v":593120.95592999994},{"$f":"IF('TD Siniestros Daños'!D33=\"\",\"\",'TD Siniestros Daños'!D33)","v":-29.150669793571105},{"$f":"IF('TD Siniestros Daños'!E33=\"\",\"\",'TD Siniestros Daños'!E33)","v":0},{"$f":"IF('TD Siniestros Daños'!F33=\"\",\"\",'TD Siniestros Daños'!F33)","v":46.376197069526611},{"$f":"IF('TD Siniestros Daños'!G33=\"\",\"\",'TD Siniestros Daños'!G33)","v":66.946148685836761},0.59700135104386198,null,{"$f":"IF('TD Siniestros Daños'!H33=\"\",\"\",'TD Siniestros Daños'!H33)","v":581573.08955999999},{"$f":"IF('TD Siniestros Daños'!I33=\"\",\"\",'TD Siniestros Daños'!I33)","v":-17.217013673508173},{"$f":"IF('TD Siniestros Daños'!J33=\"\",\"\",'TD Siniestros Daños'!J33)","v":967536.39142},{"$f":"IF('TD Siniestros Daños'!K33=\"\",\"\",'TD Siniestros Daños'!K33)","v":0.84714989054903711},{"$f":"IF('TD Siniestros Daños'!L33=\"\",\"\",'TD Siniestros Daños'!L33)","v":60.108652730514578},{"$f":"IF('TD Siniestros Daños'!M33=\"\",\"\",'TD Siniestros Daños'!M33)","v":73.225025825062531}]
[null,{"$f":"IF('TD Siniestros Daños'!A34=\"\",\"\",'TD Siniestros Daños'!A34)","v":26},{"$f":"IF('TD Siniestros Daños'!B34=\"\",\"\",'TD Siniestros Daños'!B34)","v":"El Águila"},{"$f":"IF('TD Siniestros Daños'!C34=\"\",\"\",'TD Siniestros Daños'!C34)","v":647739.0533400001},{"$f":"IF('TD Siniestros Daños'!D34=\"\",\"\",'TD Siniestros Daños'!D34)","v":51.121662323377606},{"$f":"IF('TD Siniestros Daños'!E34=\"\",\"\",'TD Siniestros Daños'!E34)","v":0},{"$f":"IF('TD Siniestros Daños'!F34=\"\",\"\",'TD Siniestros Daños'!F34)","v":53.413799175648421},{"$f":"IF('TD Siniestros Daños'!G34=\"\",\"\",'TD Siniestros Daños'!G34)","v":43.755124495947776},0.65197677826357336,null,{"$f":"IF('TD Siniestros Daños'!H34=\"\",\"\",'TD Siniestros Daños'!H34)","v":440501.25144999998},{"$f":"IF('TD Siniestros Daños'!I34=\"\",\"\",'TD Siniestros Daños'!I34)","v":28.286930226198947},{"$f":"IF('TD Siniestros Daños'!J34=\"\",\"\",'TD Siniestros Daños'!J34)","v":886067.65182999999},{"$f":"IF('TD Siniestros Daños'!K34=\"\",\"\",'TD Siniestros Daños'!K34)","v":18.579705408221425},{"$f":"IF('TD Siniestros Daños'!L34=\"\",\"\",'TD Siniestros Daños'!L34)","v":49.71417820526802},{"$f":"IF('TD Siniestros Daños'!M34=\"\",\"\",'TD Siniestros Daños'!M34)","v":45.952402133234614}]
[null,{"$f":"IF('TD Siniestros Daños'!A35=\"\",\"\",'TD Siniestros Daños'!A35)","v":27},{"$f":"IF('TD Siniestros Daños'!B35=\"\",\"\",'TD Siniestros Daños'!B35)","v":"Primero Seguros"},{"$f":"IF('TD Siniestros Daños'!C35=\"\",\"\",'TD Siniestros Daños'!C35)","v":458116.53864999977},{"$f":"IF('TD Siniestros Daños'!D35=\"\",\"\",'TD Siniestros Daños'!D35)","v":16.3385636679245},{"$f":"IF('TD Siniestros Daños'!E35=\"\",\"\",'TD Siniestros Daños'!E35)","v":0},{"$f":"IF('TD Siniestros Daños'!F35=\"\",\"\",'TD Siniestros Daños'!F35)","v":44.03825220969189},{"$f":"IF('TD Siniestros Daños'!G35=\"\",\"\",'TD Siniestros Daños'!G35)","v":56.132278361807607},0.46111368983878137,null,{"$f":"IF('TD Siniestros Daños'!H35=\"\",\"\",'TD Siniestros Daños'!H35)","v":376540.18747},{"$f":"IF('TD Siniestros Daños'!I35=\"\",\"\",'TD Siniestros Daños'!I35)","v":10.725821243047417},{"$f":"IF('TD Siniestros Daños'!J35=\"\",\"\",'TD Siniestros Daños'!J35)","v":651225.93302999996},{"$f":"IF('TD Siniestros Daños'!K35=\"\",\"\",'TD Siniestros Daños'!K35)","v":21.515725469100655},{"$f":"IF('TD Siniestros Daños'!L35=\"\",\"\",'TD Siniestros Daños'!L35)","v":57.820207760776313},{"$f":"IF('TD Siniestros Daños'!M35=\"\",\"\",'TD Siniestros Daños'!M35)","v":63.454616221833007}]
[null,{"$f":"IF('TD Siniestros Daños'!A36=\"\",\"\",'TD Siniestros Daños'!A36)","v":28},{"$f":"IF('TD Siniestros Daños'!B36=\"\",\"\",'TD Siniestros Daños'!B36)","v":"Ve Por Más"},{"$f":"IF('TD Siniestros Daños'!C36=\"\",\"\",'TD Siniestros Daños'!C36)","v":218439.17236000003},{"$f":"IF('TD Siniestros Daños'!D36=\"\",\"\",'TD Siniestros Daños'!D36)","v":-9.5710873016217395},{"$f":"IF('TD Siniestros Daños'!E36=\"\",\"\",'TD Siniestros Daños'!E36)","v":0},{"$f":"IF('TD Siniestros Daños'!F36=\"\",\"\",'TD Siniestros Daños'!F36)","v":28.098337827953447},{"$f":"IF('TD Siniestros Daños'!G36=\"\",\"\",'TD Siniestros Daños'!G36)","v":54.40238824235314},0.21986827428032038,null,{"$f":"IF('TD Siniestros Daños'!H36=\"\",\"\",'TD Siniestros Daños'!H36)","v":138650.00336},{"$f":"IF('TD Siniestros Daños'!I36=\"\",\"\",'TD Siniestros Daños'!I36)","v":50.605425933293915},{"$f":"IF('TD Siniestros Daños'!J36=\"\",\"\",'TD Siniestros Daños'!J36)","v":220838.45390999998},{"$f":"IF('TD Siniestros Daños'!K36=\"\",\"\",'TD Siniestros Daños'!K36)","v":22.427647958074569},{"$f":"IF('TD Siniestros Daños'!L36=\"\",\"\",'TD Siniestros Daños'!L36)","v":62.783451389541568},{"$f":"IF('TD Siniestros Daños'!M36=\"\",\"\",'TD Siniestros Daños'!M36)","v":51.036874911240936}]
[null,{"$f":"IF('TD Siniestros Daños'!A37=\"\",\"\",'TD Siniestros Daños'!A37)","v":29},{"$f":"IF('TD Siniestros Daños'!B37=\"\",\"\",'TD Siniestros Daños'!B37)","v":"Tokio Marine"},{"$f":"IF('TD Siniestros Daños'!C37=\"\",\"\",'TD Siniestros Daños'!C37)","v":251426.22120000003},{"$f":"IF('TD Siniestros Daños'!D37=\"\",\"\",'TD Siniestros Daños'!D37)","v":-37.572134102052303},{"$f":"IF('TD Siniestros Daños'!E37=\"\",\"\",'TD Siniestros Daños'!E37)","v":378.06522000000001},{"$f":"IF('TD Siniestros Daños'!F37=\"\",\"\",'TD Siniestros Daños'!F37)","v":35.176060258442227},{"$f":"IF('TD Siniestros Daños'!G37=\"\",\"\",'TD Siniestros Daños'!G37)","v":38.440628764776164},0.25307113539580939,null,{"$f":"IF('TD Siniestros Daños'!H37=\"\",\"\",'TD Siniestros Daños'!H37)","v":48726.834049999998},{"$f":"IF('TD Siniestros Daños'!I37=\"\",\"\",'TD Siniestros Daños'!I37)","v":-29.066257325466772},{"$f":"IF('TD Siniestros Daños'!J37=\"\",\"\",'TD Siniestros Daños'!J37)","v":123551.70473},{"$f":"IF('TD Siniestros Daños'!K37=\"\",\"\",'TD Siniestros Daños'!K37)","v":8.8620468772282468},{"$f":"IF('TD Siniestros Daños'!L37=\"\",\"\",'TD Siniestros Daños'!L37)","v":39.438414999197072},{"$f":"IF('TD Siniestros Daños'!M37=\"\",\"\",'TD Siniestros Daños'!M37)","v":60.526153287941177}]
[null,{"$f":"IF('TD Siniestros Daños'!A38=\"\",\"\",'TD Siniestros Daños'!A38)","v":30},{"$f":"IF('TD Siniestros Daños'!B38=\"\",\"\",'TD Siniestros Daños'!B38)","v":"Swiss Re Corporate Solutions"},{"$f":"IF('TD Siniestros Daños'!C38=\"\",\"\",'TD Siniestros Daños'!C38)","v":76226.916000000027},{"$f":"IF('TD Siniestros Daños'!D38=\"\",\"\",'TD Siniestros Daños'!D38)","v":52.235842422071869},{"$f":"IF('TD Siniestros Daños'!E38=\"\",\"\",'TD Siniestros Daños'!E38)","v":765.66129000000001},{"$f":"IF('TD Siniestros Daños'!F38=\"\",\"\",'TD Siniestros Daños'!F38)","v":11.639040843738497},{"$f":"IF('TD Siniestros Daños'!G38=\"\",\"\",'TD Siniestros Daños'!G38)","v":11.366072227944738},7.6725617907990082E-2,null,{"$f":"IF('TD Siniestros Daños'!H38=\"\",\"\",'TD Siniestros Daños'!H38)","v":-855.1327},{"$f":"IF('TD Siniestros Daños'!I38=\"\",\"\",'TD Siniestros Daños'!I38)","v":-123.7532024035366},{"$f":"IF('TD Siniestros Daños'!J38=\"\",\"\",'TD Siniestros Daños'!J38)","v":-3960.6714900000002},{"$f":"IF('TD Siniestros Daños'!K38=\"\",\"\",'TD Siniestros Daños'!K38)","v":-11.784829170148814},{"$f":"IF('TD Siniestros Daños'!L38=\"\",\"\",'TD Siniestros Daños'!L38)","v":21.590599022389508},{"$f":"IF('TD Siniestros Daños'!M38=\"\",\"\",'TD Siniestros Daños'!M38)","v":-80.183646344685314}]
[null,{"$f":"IF('TD Siniestros Daños'!A39=\"\",\"\",'TD Siniestros Daños'!A39)","v":31},{"$f":"IF('TD Siniestros Daños'!B39=\"\",\"\",'TD Siniestros Daños'!B39)","v":"Atradius"},{"$f":"IF('TD Siniestros Daños'!C39=\"\",\"\",'TD Siniestros Daños'!C39)","v":218272.81514999998},{"$f":"IF('TD Siniestros Daños'!D39=\"\",\"\",'TD Siniestros Daños'!D39)","v":117.41127204506037},{"$f":"IF('TD Siniestros Daños'!E39=\"\",\"\",'TD Siniestros Daños'!E39)","v":12336.25758},{"$f":"IF('TD Siniestros Daños'!F39=\"\",\"\",'TD Siniestros Daños'!F39)","v":35.82291668086561},{"$f":"IF('TD Siniestros Daños'!G39=\"\",\"\",'TD Siniestros Daños'!G39)","v":15.248312178667236},0.21970082870596841,null,{"$f":"IF('TD Siniestros Daños'!H39=\"\",\"\",'TD Siniestros Daños'!H39)","v":76366.585769999991},{"$f":"IF('TD Siniestros Daños'!I39=\"\",\"\",'TD Siniestros Daños'!I39)","v":90.481099110543056},{"$f":"IF('TD Siniestros Daños'!J39=\"\",\"\",'TD Siniestros Daños'!J39)","v":146974.75581999999},{"$f":"IF('TD Siniestros Daños'!K39=\"\",\"\",'TD Siniestros Daños'!K39)","v":-7.9283374372061903},{"$f":"IF('TD Siniestros Daños'!L39=\"\",\"\",'TD Siniestros Daños'!L39)","v":51.958981216833024},{"$f":"IF('TD Siniestros Daños'!M39=\"\",\"\",'TD Siniestros Daños'!M39)","v":25.115089150795445}]
[null,{"$f":"IF('TD Siniestros Daños'!A40=\"\",\"\",'TD Siniestros Daños'!A40)","v":32},{"$f":"IF('TD Siniestros Daños'!B40=\"\",\"\",'TD Siniestros Daños'!B40)","v":"Berkley Seguros"},{"$f":"IF('TD Siniestros Daños'!C40=\"\",\"\",'TD Siniestros Daños'!C40)","v":184059.90794},{"$f":"IF('TD Siniestros Daños'!D40=\"\",\"\",'TD Siniestros Daños'!D40)","v":-42.959610615046742},{"$f":"IF('TD Siniestros Daños'!E40=\"\",\"\",'TD Siniestros Daños'!E40)","v":3570.2134499999997},{"$f":"IF('TD Siniestros Daños'!F40=\"\",\"\",'TD Siniestros Daños'!F40)","v":32.260062527144527},{"$f":"IF('TD Siniestros Daños'!G40=\"\",\"\",'TD Siniestros Daños'!G40)","v":72.441861255968647},0.18526408924616949,null,{"$f":"IF('TD Siniestros Daños'!H40=\"\",\"\",'TD Siniestros Daños'!H40)","v":15221.951499999999},{"$f":"IF('TD Siniestros Daños'!I40=\"\",\"\",'TD Siniestros Daños'!I40)","v":3.0285909189966764},{"$f":"IF('TD Siniestros Daños'!J40=\"\",\"\",'TD Siniestros Daños'!J40)","v":23100.338449999999},{"$f":"IF('TD Siniestros Daños'!K40=\"\",\"\",'TD Siniestros Daños'!K40)","v":40.908544745370065},{"$f":"IF('TD Siniestros Daños'!L40=\"\",\"\",'TD Siniestros Daños'!L40)","v":65.894928478850929},{"$f":"IF('TD Siniestros Daños'!M40=\"\",\"\",'TD Siniestros Daños'!M40)","v":90.122153425890488}]
[null,{"$f":"IF('TD Siniestros Daños'!A41=\"\",\"\",'TD Siniestros Daños'!A41)","v":33},{"$f":"IF('TD Siniestros Daños'!B41=\"\",\"\",'TD Siniestros Daños'!B41)","v":"Sompo Japan"},{"$f":"IF('TD Siniestros Daños'!C41=\"\",\"\",'TD Siniestros Daños'!C41)","v":104283.09031},{"$f":"IF('TD Siniestros Daños'!D41=\"\",\"\",'TD Siniestros Daños'!D41)","v":904.4574842540278},{"$f":"IF('TD Siniestros Daños'!E41=\"\",\"\",'TD Siniestros Daños'!E41)","v":2.5688400000000002},{"$f":"IF('TD Siniestros Daños'!F41=\"\",\"\",'TD Siniestros Daños'!F41)","v":19.353548313378838},{"$f":"IF('TD Siniestros Daños'!G41=\"\",\"\",'TD Siniestros Daños'!G41)","v":1.6813944022444591},0.10496534506773803,null,{"$f":"IF('TD Siniestros Daños'!H41=\"\",\"\",'TD Siniestros Daños'!H41)","v":15751.3987},{"$f":"IF('TD Siniestros Daños'!I41=\"\",\"\",'TD Siniestros Daños'!I41)","v":1189.3015278749044},{"$f":"IF('TD Siniestros Daños'!J41=\"\",\"\",'TD Siniestros Daños'!J41)","v":-5359.6441100000002},{"$f":"IF('TD Siniestros Daños'!K41=\"\",\"\",'TD Siniestros Daños'!K41)","v":-104.73700224601492},{"$f":"IF('TD Siniestros Daños'!L41=\"\",\"\",'TD Siniestros Daños'!L41)","v":-293.88889218616418},{"$f":"IF('TD Siniestros Daños'!M41=\"\",\"\",'TD Siniestros Daños'!M41)","v":1.0797725064821078}]
[null,{"$f":"IF('TD Siniestros Daños'!A42=\"\",\"\",'TD Siniestros Daños'!A42)","v":34},{"$f":"IF('TD Siniestros Daños'!B42=\"\",\"\",'TD Siniestros Daños'!B42)","v":"Solunion Crédito"},{"$f":"IF('TD Siniestros Daños'!C42=\"\",\"\",'TD Siniestros Daños'!C42)","v":98226.974509999985},{"$f":"IF('TD Siniestros Daños'!D42=\"\",\"\",'TD Siniestros Daños'!D42)","v":17.666357562330681},{"$f":"IF('TD Siniestros Daños'!E42=\"\",\"\",'TD Siniestros Daños'!E42)","v":517.20686999999998},{"$f":"IF('TD Siniestros Daños'!F42=\"\",\"\",'TD Siniestros Daños'!F42)","v":20.101602446808016},{"$f":"IF('TD Siniestros Daños'!G42=\"\",\"\",'TD Siniestros Daños'!G42)","v":15.338395845382131},9.886960813831347E-2,null,{"$f":"IF('TD Siniestros Daños'!H42=\"\",\"\",'TD Siniestros Daños'!H42)","v":12933.10699},{"$f":"IF('TD Siniestros Daños'!I42=\"\",\"\",'TD Siniestros Daños'!I42)","v":40.63544239153218},{"$f":"IF('TD Siniestros Daños'!J42=\"\",\"\",'TD Siniestros Daños'!J42)","v":30215.16894},{"$f":"IF('TD Siniestros Daños'!K42=\"\",\"\",'TD Siniestros Daños'!K42)","v":127.83880229212863},{"$f":"IF('TD Siniestros Daños'!L42=\"\",\"\",'TD Siniestros Daños'!L42)","v":42.803358192972595},{"$f":"IF('TD Siniestros Daños'!M42=\"\",\"\",'TD Siniestros Daños'!M42)","v":69.344296849561744}]
[null,{"$f":"IF('TD Siniestros Daños'!A43=\"\",\"\",'TD Siniestros Daños'!A43)","v":35},{"$f":"IF('TD Siniestros Daños'!B43=\"\",\"\",'TD Siniestros Daños'!B43)","v":"SHF Cred Vivienda"},{"$f":"IF('TD Siniestros Daños'!C43=\"\",\"\",'TD Siniestros Daños'!C43)","v":-170063.96534999998},{"$f":"IF('TD Siniestros Daños'!D43=\"\",\"\",'TD Siniestros Daños'!D43)","v":-1812.2781726179892},{"$f":"IF('TD Siniestros Daños'!E43=\"\",\"\",'TD Siniestros Daños'!E43)","v":0},{"$f":"IF('TD Siniestros Daños'!F43=\"\",\"\",'TD Siniestros Daños'!F43)","v":-44.319550839398843},{"$f":"IF('TD Siniestros Daños'!G43=\"\",\"\",'TD Siniestros Daños'!G43)","v":3.4993799728820845},-0.17117658053176069,null,{"$f":"IF('TD Siniestros Daños'!H43=\"\",\"\",'TD Siniestros Daños'!H43)","v":-159400.67991000001},{"$f":"IF('TD Siniestros Daños'!I43=\"\",\"\",'TD Siniestros Daños'!I43)","v":-3273.6514985825879},{"$f":"IF('TD Siniestros Daños'!J43=\"\",\"\",'TD Siniestros Daños'!J43)","v":369401.65006000001},{"$f":"IF('TD Siniestros Daños'!K43=\"\",\"\",'TD Siniestros Daños'!K43)","v":31.078639689074052},{"$f":"IF('TD Siniestros Daños'!L43=\"\",\"\",'TD Siniestros Daños'!L43)","v":-43.151047074129032},{"$f":"IF('TD Siniestros Daños'!M43=\"\",\"\",'TD Siniestros Daños'!M43)","v":1.7822311473588672}]
[null,{"$f":"IF('TD Siniestros Daños'!A44=\"\",\"\",'TD Siniestros Daños'!A44)","v":36},{"$f":"IF('TD Siniestros Daños'!B44=\"\",\"\",'TD Siniestros Daños'!B44)","v":"La Latinoamericana"},{"$f":"IF('TD Siniestros Daños'!C44=\"\",\"\",'TD Siniestros Daños'!C44)","v":210900.37404999998},{"$f":"IF('TD Siniestros Daños'!D44=\"\",\"\",'TD Siniestros Daños'!D44)","v":-13.668275839802968},{"$f":"IF('TD Siniestros Daños'!E44=\"\",\"\",'TD Siniestros Daños'!E44)","v":1091.12769},{"$f":"IF('TD Siniestros Daños'!F44=\"\",\"\",'TD Siniestros Daños'!F44)","v":55.499648736622497},{"$f":"IF('TD Siniestros Daños'!G44=\"\",\"\",'TD Siniestros Daños'!G44)","v":66.460676674761586},0.21228015463740499,null,{"$f":"IF('TD Siniestros Daños'!H44=\"\",\"\",'TD Siniestros Daños'!H44)","v":92178.480719999992},{"$f":"IF('TD Siniestros Daños'!I44=\"\",\"\",'TD Siniestros Daños'!I44)","v":-11.08357521622435},{"$f":"IF('TD Siniestros Daños'!J44=\"\",\"\",'TD Siniestros Daños'!J44)","v":186555.41552000001},{"$f":"IF('TD Siniestros Daños'!K44=\"\",\"\",'TD Siniestros Daños'!K44)","v":8.120713818986335},{"$f":"IF('TD Siniestros Daños'!L44=\"\",\"\",'TD Siniestros Daños'!L44)","v":49.410777201543013},{"$f":"IF('TD Siniestros Daños'!M44=\"\",\"\",'TD Siniestros Daños'!M44)","v":60.082583328929871}]
[null,{"$f":"IF('TD Siniestros Daños'!A45=\"\",\"\",'TD Siniestros Daños'!A45)","v":37},{"$f":"IF('TD Siniestros Daños'!B45=\"\",\"\",'TD Siniestros Daños'!B45)","v":"Coface"},{"$f":"IF('TD Siniestros Daños'!C45=\"\",\"\",'TD Siniestros Daños'!C45)","v":45837.32632},{"$f":"IF('TD Siniestros Daños'!D45=\"\",\"\",'TD Siniestros Daños'!D45)","v":44.585551273579348},{"$f":"IF('TD Siniestros Daños'!E45=\"\",\"\",'TD Siniestros Daños'!E45)","v":438.96096},{"$f":"IF('TD Siniestros Daños'!F45=\"\",\"\",'TD Siniestros Daños'!F45)","v":14.664077779131929},{"$f":"IF('TD Siniestros Daños'!G45=\"\",\"\",'TD Siniestros Daños'!G45)","v":10.204448984262642},4.6137209396641149E-2,null,{"$f":"IF('TD Siniestros Daños'!H45=\"\",\"\",'TD Siniestros Daños'!H45)","v":10496.21925},{"$f":"IF('TD Siniestros Daños'!I45=\"\",\"\",'TD Siniestros Daños'!I45)","v":-32.417550672107154},{"$f":"IF('TD Siniestros Daños'!J45=\"\",\"\",'TD Siniestros Daños'!J45)","v":55476.768369999998},{"$f":"IF('TD Siniestros Daños'!K45=\"\",\"\",'TD Siniestros Daños'!K45)","v":3.6049047883122354},{"$f":"IF('TD Siniestros Daños'!L45=\"\",\"\",'TD Siniestros Daños'!L45)","v":18.9200264514254},{"$f":"IF('TD Siniestros Daños'!M45=\"\",\"\",'TD Siniestros Daños'!M45)","v":29.004683295538015}]
[null,{"$f":"IF('TD Siniestros Daños'!A46=\"\",\"\",'TD Siniestros Daños'!A46)","v":38},{"$f":"IF('TD Siniestros Daños'!B46=\"\",\"\",'TD Siniestros Daños'!B46)","v":"Patrimonial Daños"},{"$f":"IF('TD Siniestros Daños'!C46=\"\",\"\",'TD Siniestros Daños'!C46)","v":56710.897570000001},{"$f":"IF('TD Siniestros Daños'!D46=\"\",\"\",'TD Siniestros Daños'!D46)","v":88.049470010189907},{"$f":"IF('TD Siniestros Daños'!E46=\"\",\"\",'TD Siniestros Daños'!E46)","v":0},{"$f":"IF('TD Siniestros Daños'!F46=\"\",\"\",'TD Siniestros Daños'!F46)","v":24.528975262581262},{"$f":"IF('TD Siniestros Daños'!G46=\"\",\"\",'TD Siniestros Daños'!G46)","v":16.018312206842783},5.7081919176357361E-2,null,{"$f":"IF('TD Siniestros Daños'!H46=\"\",\"\",'TD Siniestros Daños'!H46)","v":46108.95377},{"$f":"IF('TD Siniestros Daños'!I46=\"\",\"\",'TD Siniestros Daños'!I46)","v":99.953293085946186},{"$f":"IF('TD Siniestros Daños'!J46=\"\",\"\",'TD Siniestros Daños'!J46)","v":222347.75028000001},{"$f":"IF('TD Siniestros Daños'!K46=\"\",\"\",'TD Siniestros Daños'!K46)","v":20.056618444765096},{"$f":"IF('TD Siniestros Daños'!L46=\"\",\"\",'TD Siniestros Daños'!L46)","v":20.737315179458985},{"$f":"IF('TD Siniestros Daños'!M46=\"\",\"\",'TD Siniestros Daños'!M46)","v":12.451167458387458}]
[null,{"$f":"IF('TD Siniestros Daños'!A47=\"\",\"\",'TD Siniestros Daños'!A47)","v":39},{"$f":"IF('TD Siniestros Daños'!B47=\"\",\"\",'TD Siniestros Daños'!B47)","v":"Assurant Daños"},{"$f":"IF('TD Siniestros Daños'!C47=\"\",\"\",'TD Siniestros Daños'!C47)","v":34063.671070000004},{"$f":"IF('TD Siniestros Daños'!D47=\"\",\"\",'TD Siniestros Daños'!D47)","v":-23.229443116436411},{"$f":"IF('TD Siniestros Daños'!E47=\"\",\"\",'TD Siniestros Daños'!E47)","v":-740.39869999999996},{"$f":"IF('TD Siniestros Daños'!F47=\"\",\"\",'TD Siniestros Daños'!F47)","v":17.170340741060716},{"$f":"IF('TD Siniestros Daños'!G47=\"\",\"\",'TD Siniestros Daños'!G47)","v":26.543001522110458},3.4286526967197188E-2,null,{"$f":"IF('TD Siniestros Daños'!H47=\"\",\"\",'TD Siniestros Daños'!H47)","v":5830.5866900000001},{"$f":"IF('TD Siniestros Daños'!I47=\"\",\"\",'TD Siniestros Daños'!I47)","v":-55.444626836993272},{"$f":"IF('TD Siniestros Daños'!J47=\"\",\"\",'TD Siniestros Daños'!J47)","v":30533.61997},{"$f":"IF('TD Siniestros Daños'!K47=\"\",\"\",'TD Siniestros Daños'!K47)","v":-28.473988054007084},{"$f":"IF('TD Siniestros Daños'!L47=\"\",\"\",'TD Siniestros Daños'!L47)","v":19.095628673340041},{"$f":"IF('TD Siniestros Daños'!M47=\"\",\"\",'TD Siniestros Daños'!M47)","v":30.654757611582177}]
[null,{"$f":"IF('TD Siniestros Daños'!A48=\"\",\"\",'TD Siniestros Daños'!A48)","v":40},{"$f":"IF('TD Siniestros Daños'!B48=\"\",\"\",'TD Siniestros Daños'!B48)","v":"Patrimonial Inbursa"},{"$f":"IF('TD Siniestros Daños'!C48=\"\",\"\",'TD Siniestros Daños'!C48)","v":1049.32033},{"$f":"IF('TD Siniestros Daños'!D48=\"\",\"\",'TD Siniestros Daños'!D48)","v":-39.870705439456025},{"$f":"IF('TD Siniestros Daños'!E48=\"\",\"\",'TD Siniestros Daños'!E48)","v":0},{"$f":"IF('TD Siniestros Daños'!F48=\"\",\"\",'TD Siniestros Daños'!F48)","v":0.71404067940555138},{"$f":"IF('TD Siniestros Daños'!G48=\"\",\"\",'TD Siniestros Daños'!G48)","v":1.2222182422053867},1.0561853335725405E-3,null,{"$f":"IF('TD Siniestros Daños'!H48=\"\",\"\",'TD Siniestros Daños'!H48)","v":1024.2477699999999},{"$f":"IF('TD Siniestros Daños'!I48=\"\",\"\",'TD Siniestros Daños'!I48)","v":-39.931954324000287},{"$f":"IF('TD Siniestros Daños'!J48=\"\",\"\",'TD Siniestros Daños'!J48)","v":135851.77285000001},{"$f":"IF('TD Siniestros Daños'!K48=\"\",\"\",'TD Siniestros Daños'!K48)","v":7.7078302875927873},{"$f":"IF('TD Siniestros Daños'!L48=\"\",\"\",'TD Siniestros Daños'!L48)","v":0.75394508920462711},{"$f":"IF('TD Siniestros Daños'!M48=\"\",\"\",'TD Siniestros Daños'!M48)","v":1.3518966498798859}]
[null,{"$f":"IF('TD Siniestros Daños'!A49=\"\",\"\",'TD Siniestros Daños'!A49)","v":41},{"$f":"IF('TD Siniestros Daños'!B49=\"\",\"\",'TD Siniestros Daños'!B49)","v":"Virginia Surety"},{"$f":"IF('TD Siniestros Daños'!C49=\"\",\"\",'TD Siniestros Daños'!C49)","v":31675.195059999995},{"$f":"IF('TD Siniestros Daños'!D49=\"\",\"\",'TD Siniestros Daños'!D49)","v":60.72506192534857},{"$f":"IF('TD Siniestros Daños'!E49=\"\",\"\",'TD Siniestros Daños'!E49)","v":0},{"$f":"IF('TD Siniestros Daños'!F49=\"\",\"\",'TD Siniestros Daños'!F49)","v":33.698063970122753},{"$f":"IF('TD Siniestros Daños'!G49=\"\",\"\",'TD Siniestros Daños'!G49)","v":25.478593699402687},3.1882424750525308E-2,null,{"$f":"IF('TD Siniestros Daños'!H49=\"\",\"\",'TD Siniestros Daños'!H49)","v":18977.46629},{"$f":"IF('TD Siniestros Daños'!I49=\"\",\"\",'TD Siniestros Daños'!I49)","v":44.414465792196125},{"$f":"IF('TD Siniestros Daños'!J49=\"\",\"\",'TD Siniestros Daños'!J49)","v":46174.745569999999},{"$f":"IF('TD Siniestros Daños'!K49=\"\",\"\",'TD Siniestros Daños'!K49)","v":42.557944880801642},{"$f":"IF('TD Siniestros Daños'!L49=\"\",\"\",'TD Siniestros Daños'!L49)","v":41.099233045541176},{"$f":"IF('TD Siniestros Daños'!M49=\"\",\"\",'TD Siniestros Daños'!M49)","v":40.570881642703768}]
[null,{"$f":"IF('TD Siniestros Daños'!A50=\"\",\"\",'TD Siniestros Daños'!A50)","v":42},{"$f":"IF('TD Siniestros Daños'!B50=\"\",\"\",'TD Siniestros Daños'!B50)","v":"Genworth Seg. de Crédito"},{"$f":"IF('TD Siniestros Daños'!C50=\"\",\"\",'TD Siniestros Daños'!C50)","v":17318.47091},{"$f":"IF('TD Siniestros Daños'!D50=\"\",\"\",'TD Siniestros Daños'!D50)","v":158.17344742224253},{"$f":"IF('TD Siniestros Daños'!E50=\"\",\"\",'TD Siniestros Daños'!E50)","v":0},{"$f":"IF('TD Siniestros Daños'!F50=\"\",\"\",'TD Siniestros Daños'!F50)","v":20.537354550938673},{"$f":"IF('TD Siniestros Daños'!G50=\"\",\"\",'TD Siniestros Daños'!G50)","v":13.483293601631093},1.7431774122821663E-2,null,{"$f":"IF('TD Siniestros Daños'!H50=\"\",\"\",'TD Siniestros Daños'!H50)","v":13082.063539999999},{"$f":"IF('TD Siniestros Daños'!I50=\"\",\"\",'TD Siniestros Daños'!I50)","v":2973.4676522859763},{"$f":"IF('TD Siniestros Daños'!J50=\"\",\"\",'TD Siniestros Daños'!J50)","v":118421.29392},{"$f":"IF('TD Siniestros Daños'!K50=\"\",\"\",'TD Siniestros Daños'!K50)","v":-2.7064201182404268},{"$f":"IF('TD Siniestros Daños'!L50=\"\",\"\",'TD Siniestros Daños'!L50)","v":11.047053369335453},{"$f":"IF('TD Siniestros Daños'!M50=\"\",\"\",'TD Siniestros Daños'!M50)","v":0.34970511846711078}]
[null,{"$f":"IF('TD Siniestros Daños'!A51=\"\",\"\",'TD Siniestros Daños'!A51)","v":43},{"$f":"IF('TD Siniestros Daños'!B51=\"\",\"\",'TD Siniestros Daños'!B51)","v":"Crabi"},{"$f":"IF('TD Siniestros Daños'!C51=\"\",\"\",'TD Siniestros Daños'!C51)","v":41685.980710000003},{"$f":"IF('TD Siniestros Daños'!D51=\"\",\"\",'TD Siniestros Daños'!D51)","v":64.219833196134672},{"$f":"IF('TD Siniestros Daños'!E51=\"\",\"\",'TD Siniestros Daños'!E51)","v":0},{"$f":"IF('TD Siniestros Daños'!F51=\"\",\"\",'TD Siniestros Daños'!F51)","v":68.670353283330741},{"$f":"IF('TD Siniestros Daños'!G51=\"\",\"\",'TD Siniestros Daños'!G51)","v":126.24877438234199},4.1958704299086477E-2,null,{"$f":"IF('TD Siniestros Daños'!H51=\"\",\"\",'TD Siniestros Daños'!H51)","v":19419.497609999999},{"$f":"IF('TD Siniestros Daños'!I51=\"\",\"\",'TD Siniestros Daños'!I51)","v":183.12720398525232},{"$f":"IF('TD Siniestros Daños'!J51=\"\",\"\",'TD Siniestros Daños'!J51)","v":22077.071889999999},{"$f":"IF('TD Siniestros Daños'!K51=\"\",\"\",'TD Siniestros Daños'!K51)","v":263.08961103007812},{"$f":"IF('TD Siniestros Daños'!L51=\"\",\"\",'TD Siniestros Daños'!L51)","v":87.962288236223145},{"$f":"IF('TD Siniestros Daños'!M51=\"\",\"\",'TD Siniestros Daños'!M51)","v":112.80510163435054}]
[null,{"$f":"IF('TD Siniestros Daños'!A52=\"\",\"\",'TD Siniestros Daños'!A52)","v":44},{"$f":"IF('TD Siniestros Daños'!B52=\"\",\"\",'TD Siniestros Daños'!B52)","v":"SPP Seguros"},{"$f":"IF('TD Siniestros Daños'!C52=\"\",\"\",'TD Siniestros Daños'!C52)","v":648.54867999999988},{"$f":"IF('TD Siniestros Daños'!D52=\"\",\"\",'TD Siniestros Daños'!D52)","v":0},{"$f":"IF('TD Siniestros Daños'!E52=\"\",\"\",'TD Siniestros Daños'!E52)","v":0},{"$f":"IF('TD Siniestros Daños'!F52=\"\",\"\",'TD Siniestros Daños'!F52)","v":1.1973326723460138},{"$f":"IF('TD Siniestros Daños'!G52=\"\",\"\",'TD Siniestros Daños'!G52)","v":0},6.5279170177121298E-4,null,{"$f":"IF('TD Siniestros Daños'!H52=\"\",\"\",'TD Siniestros Daños'!H52)","v":-169.68257999999997},{"$f":"IF('TD Siniestros Daños'!I52=\"\",\"\",'TD Siniestros Daños'!I52)","v":-104.56150043404162},{"$f":"IF('TD Siniestros Daños'!J52=\"\",\"\",'TD Siniestros Daños'!J52)","v":42714.544479999997},{"$f":"IF('TD Siniestros Daños'!K52=\"\",\"\",'TD Siniestros Daños'!K52)","v":310.17487801085144},{"$f":"IF('TD Siniestros Daños'!L52=\"\",\"\",'TD Siniestros Daños'!L52)","v":-0.3972477807399995},{"$f":"IF('TD Siniestros Daños'!M52=\"\",\"\",'TD Siniestros Daños'!M52)","v":35.720934890000741}]
[null,{"$f":"IF('TD Siniestros Daños'!A53=\"\",\"\",'TD Siniestros Daños'!A53)","v":45},{"$f":"IF('TD Siniestros Daños'!B53=\"\",\"\",'TD Siniestros Daños'!B53)","v":"SPT"},{"$f":"IF('TD Siniestros Daños'!C53=\"\",\"\",'TD Siniestros Daños'!C53)","v":19594.391730000003},{"$f":"IF('TD Siniestros Daños'!D53=\"\",\"\",'TD Siniestros Daños'!D53)","v":53.216960874818533},{"$f":"IF('TD Siniestros Daños'!E53=\"\",\"\",'TD Siniestros Daños'!E53)","v":0},{"$f":"IF('TD Siniestros Daños'!F53=\"\",\"\",'TD Siniestros Daños'!F53)","v":60.604913740312568},{"$f":"IF('TD Siniestros Daños'!G53=\"\",\"\",'TD Siniestros Daños'!G53)","v":58.660656409897484},1.9722584775900685E-2,null,{"$f":"IF('TD Siniestros Daños'!H53=\"\",\"\",'TD Siniestros Daños'!H53)","v":19594.391729999999},{"$f":"IF('TD Siniestros Daños'!I53=\"\",\"\",'TD Siniestros Daños'!I53)","v":53.216960874818461},{"$f":"IF('TD Siniestros Daños'!J53=\"\",\"\",'TD Siniestros Daños'!J53)","v":25267.41923},{"$f":"IF('TD Siniestros Daños'!K53=\"\",\"\",'TD Siniestros Daños'!K53)","v":8.301687733334262},{"$f":"IF('TD Siniestros Daños'!L53=\"\",\"\",'TD Siniestros Daños'!L53)","v":77.548053292025898},{"$f":"IF('TD Siniestros Daños'!M53=\"\",\"\",'TD Siniestros Daños'!M53)","v":54.814982649491242}]
[null,{"$f":"IF('TD Siniestros Daños'!A54=\"\",\"\",'TD Siniestros Daños'!A54)","v":46},{"$f":"IF('TD Siniestros Daños'!B54=\"\",\"\",'TD Siniestros Daños'!B54)","v":"Citibanamex Seguros"},{"$f":"IF('TD Siniestros Daños'!C54=\"\",\"\",'TD Siniestros Daños'!C54)","v":-1805.2520299999996},{"$f":"IF('TD Siniestros Daños'!D54=\"\",\"\",'TD Siniestros Daños'!D54)","v":-114.75906614198581},{"$f":"IF('TD Siniestros Daños'!E54=\"\",\"\",'TD Siniestros Daños'!E54)","v":0},{"$f":"IF('TD Siniestros Daños'!F54=\"\",\"\",'TD Siniestros Daños'!F54)","v":-22.071295889498067},{"$f":"IF('TD Siniestros Daños'!G54=\"\",\"\",'TD Siniestros Daños'!G54)","v":11.56842220250633},-1.8170625908754247E-3,null,{"$f":"IF('TD Siniestros Daños'!H54=\"\",\"\",'TD Siniestros Daños'!H54)","v":-313.43667999999997},{"$f":"IF('TD Siniestros Daños'!I54=\"\",\"\",'TD Siniestros Daños'!I54)","v":-104.93940413375142},{"$f":"IF('TD Siniestros Daños'!J54=\"\",\"\",'TD Siniestros Daños'!J54)","v":553.65185999999994},{"$f":"IF('TD Siniestros Daños'!K54=\"\",\"\",'TD Siniestros Daños'!K54)","v":984.41093757895806},{"$f":"IF('TD Siniestros Daños'!L54=\"\",\"\",'TD Siniestros Daños'!L54)","v":-56.612594058656285},{"$f":"IF('TD Siniestros Daños'!M54=\"\",\"\",'TD Siniestros Daños'!M54)","v":12428.891125233424}]
[null,{"$f":"IF('TD Siniestros Daños'!A55=\"\",\"\",'TD Siniestros Daños'!A55)","v":47},{"$f":"IF('TD Siniestros Daños'!B55=\"\",\"\",'TD Siniestros Daños'!B55)","v":"Momento Seguros"},{"$f":"IF('TD Siniestros Daños'!C55=\"\",\"\",'TD Siniestros Daños'!C55)","v":97.466229999999996},{"$f":"IF('TD Siniestros Daños'!D55=\"\",\"\",'TD Siniestros Daños'!D55)","v":0},{"$f":"IF('TD Siniestros Daños'!E55=\"\",\"\",'TD Siniestros Daños'!E55)","v":0},{"$f":"IF('TD Siniestros Daños'!F55=\"\",\"\",'TD Siniestros Daños'!F55)","v":20.786497036716597},{"$f":"IF('TD Siniestros Daños'!G55=\"\",\"\",'TD Siniestros Daños'!G55)","v":0},9.8103886584002386E-5,null,{"$f":"IF('TD Siniestros Daños'!H55=\"\",\"\",'TD Siniestros Daños'!H55)","v":94.789289999999994},{"$f":"IF('TD Siniestros Daños'!I55=\"\",\"\",'TD Siniestros Daños'!I55)","v":0},{"$f":"IF('TD Siniestros Daños'!J55=\"\",\"\",'TD Siniestros Daños'!J55)","v":-430.71762999999999},{"$f":"IF('TD Siniestros Daños'!K55=\"\",\"\",'TD Siniestros Daños'!K55)","v":0},{"$f":"IF('TD Siniestros Daños'!L55=\"\",\"\",'TD Siniestros Daños'!L55)","v":-22.007292805729822},{"$f":"IF('TD Siniestros Daños'!M55=\"\",\"\",'TD Siniestros Daños'!M55)","v":0}]
[null,{"$f":"IF('TD Siniestros Daños'!A56=\"\",\"\",'TD Siniestros Daños'!A56)","v":48},{"$f":"IF('TD Siniestros Daños'!B56=\"\",\"\",'TD Siniestros Daños'!B56)","v":"Zurich Daños"},{"$f":"IF('TD Siniestros Daños'!C56=\"\",\"\",'TD Siniestros Daños'!C56)","v":0},{"$f":"IF('TD Siniestros Daños'!D56=\"\",\"\",'TD Siniestros Daños'!D56)","v":0},{"$f":"IF('TD Siniestros Daños'!E56=\"\",\"\",'TD Siniestros Daños'!E56)","v":0},{"$f":"IF('TD Siniestros Daños'!F56=\"\",\"\",'TD Siniestros Daños'!F56)","v":0},{"$f":"IF('TD Siniestros Daños'!G56=\"\",\"\",'TD Siniestros Daños'!G56)","v":0},0,null,{"$f":"IF('TD Siniestros Daños'!H56=\"\",\"\",'TD Siniestros Daños'!H56)","v":0},{"$f":"IF('TD Siniestros Daños'!I56=\"\",\"\",'TD Siniestros Daños'!I56)","v":-100},{"$f":"IF('TD Siniestros Daños'!J56=\"\",\"\",'TD Siniestros Daños'!J56)","v":0},{"$f":"IF('TD Siniestros Daños'!K56=\"\",\"\",'TD Siniestros Daños'!K56)","v":-100},{"$f":"IF('TD Siniestros Daños'!L56=\"\",\"\",'TD Siniestros Daños'!L56)","v":0},{"$f":"IF('TD Siniestros Daños'!M56=\"\",\"\",'TD Siniestros Daños'!M56)","v":55.341346573232244}]
[null,{"$f":"IF('TD Siniestros Daños'!A57=\"\",\"\",'TD Siniestros Daños'!A57)","v":150.1},{"$f":"IF('TD Siniestros Daños'!B57=\"\",\"\",'TD Siniestros Daños'!B57)","v":"TOTAL RESTO"},{"$f":"IF('TD Siniestros Daños'!C57=\"\",\"\",'TD Siniestros Daños'!C57)","v":10896858.23412},{"$f":"IF('TD Siniestros Daños'!D57=\"\",\"\",'TD Siniestros Daños'!D57)","v":3.5188019759457179},{"$f":"IF('TD Siniestros Daños'!E57=\"\",\"\",'TD Siniestros Daños'!E57)","v":43405.821799999998},{"$f":"IF('TD Siniestros Daños'!F57=\"\",\"\",'TD Siniestros Daños'!F57)","v":34.988991925899263},{"$f":"IF('TD Siniestros Daños'!G57=\"\",\"\",'TD Siniestros Daños'!G57)","v":31.171719443303108},10.968149115053091,null,{"$f":"IF('TD Siniestros Daños'!H57=\"\",\"\",'TD Siniestros Daños'!H57)","v":7255632.0663099997},{"$f":"IF('TD Siniestros Daños'!I57=\"\",\"\",'TD Siniestros Daños'!I57)","v":-16.109762986783906},{"$f":"IF('TD Siniestros Daños'!J57=\"\",\"\",'TD Siniestros Daños'!J57)","v":14672630.58382},{"$f":"IF('TD Siniestros Daños'!K57=\"\",\"\",'TD Siniestros Daños'!K57)","v":-13.427376162840265},{"$f":"IF('TD Siniestros Daños'!L57=\"\",\"\",'TD Siniestros Daños'!L57)","v":49.450110700061018},{"$f":"IF('TD Siniestros Daños'!M57=\"\",\"\",'TD Siniestros Daños'!M57)","v":51.031275923893936}]
[null,{"$f":"IF('TD Siniestros Daños'!A58=\"\",\"\",'TD Siniestros Daños'!A58)","v":200},{"$f":"IF('TD Siniestros Daños'!B58=\"\",\"\",'TD Siniestros Daños'!B58)","v":"Patria"},{"$f":"IF('TD Siniestros Daños'!C58=\"\",\"\",'TD Siniestros Daños'!C58)","v":0},{"$f":"IF('TD Siniestros Daños'!D58=\"\",\"\",'TD Siniestros Daños'!D58)","v":0},{"$f":"IF('TD Siniestros Daños'!E58=\"\",\"\",'TD Siniestros Daños'!E58)","v":0},{"$f":"IF('TD Siniestros Daños'!F58=\"\",\"\",'TD Siniestros Daños'!F58)","v":0},{"$f":"IF('TD Siniestros Daños'!G58=\"\",\"\",'TD Siniestros Daños'!G58)","v":0},0,null,{"$f":"IF('TD Siniestros Daños'!H58=\"\",\"\",'TD Siniestros Daños'!H58)","v":2386770.3025799999},{"$f":"IF('TD Siniestros Daños'!I58=\"\",\"\",'TD Siniestros Daños'!I58)","v":13.705982283346273},{"$f":"IF('TD Siniestros Daños'!J58=\"\",\"\",'TD Siniestros Daños'!J58)","v":6002126.9373599999},{"$f":"IF('TD Siniestros Daños'!K58=\"\",\"\",'TD Siniestros Daños'!K58)","v":1.1393148424534871},{"$f":"IF('TD Siniestros Daños'!L58=\"\",\"\",'TD Siniestros Daños'!L58)","v":39.765408620794794},{"$f":"IF('TD Siniestros Daños'!M58=\"\",\"\",'TD Siniestros Daños'!M58)","v":35.370576829592466}]
[null,{"$f":"IF('TD Siniestros Daños'!A59=\"\",\"\",'TD Siniestros Daños'!A59)","v":201.1},{"$f":"IF('TD Siniestros Daños'!B59=\"\",\"\",'TD Siniestros Daños'!B59)","v":"TOTAL"},{"$f":"IF('TD Siniestros Daños'!C59=\"\",\"\",'TD Siniestros Daños'!C59)","v":99350019.039810017},{"$f":"IF('TD Siniestros Daños'!D59=\"\",\"\",'TD Siniestros Daños'!D59)","v":14.101401244855726},{"$f":"IF('TD Siniestros Daños'!E59=\"\",\"\",'TD Siniestros Daños'!E59)","v":578494.30484999996},{"$f":"IF('TD Siniestros Daños'!F59=\"\",\"\",'TD Siniestros Daños'!F59)","v":45.608066944991499},{"$f":"IF('TD Siniestros Daños'!G59=\"\",\"\",'TD Siniestros Daños'!G59)","v":47.273708019492112},100,null,{"$f":"IF('TD Siniestros Daños'!H59=\"\",\"\",'TD Siniestros Daños'!H59)","v":78342598.055189997},{"$f":"IF('TD Siniestros Daños'!I59=\"\",\"\",'TD Siniestros Daños'!I59)","v":20.555295919790041},{"$f":"IF('TD Siniestros Daños'!J59=\"\",\"\",'TD Siniestros Daños'!J59)","v":123082854.16757998},{"$f":"IF('TD Siniestros Daños'!K59=\"\",\"\",'TD Siniestros Daños'!K59)","v":9.1074637692397875},{"$f":"IF('TD Siniestros Daños'!L59=\"\",\"\",'TD Siniestros Daños'!L59)","v":63.650293605090482},{"$f":"IF('TD Siniestros Daños'!M59=\"\",\"\",'TD Siniestros Daños'!M59)","v":57.606113861969767}]
[null,{"$f":"IF('TD Siniestros Daños'!A60=\"\",\"\",'TD Siniestros Daños'!A60)","v":""},{"$f":"IF('TD Siniestros Daños'!B60=\"\",\"\",'TD Siniestros Daños'!B60)","v":""},{"$f":"IF('TD Siniestros Daños'!C60=\"\",\"\",'TD Siniestros Daños'!C60)","v":""},{"$f":"IF('TD Siniestros Daños'!D60=\"\",\"\",'TD Siniestros Daños'!D60)","v":""},{"$f":"IF('TD Siniestros Daños'!E60=\"\",\"\",'TD Siniestros Daños'!E60)","v":""},{"$f":"IF('TD Siniestros Daños'!F60=\"\",\"\",'TD Siniestros Daños'!F60)","v":""},{"$f":"IF('TD Siniestros Daños'!G60=\"\",\"\",'TD Siniestros Daños'!G60)","v":""},"",null,{"$f":"IF('TD Siniestros Daños'!H60=\"\",\"\",'TD Siniestros Daños'!H60)","v":""},{"$f":"IF('TD Siniestros Daños'!I60=\"\",\"\",'TD Siniestros Daños'!I60)","v":""},{"$f":"IF('TD Siniestros Daños'!J60=\"\",\"\",'TD Siniestros Daños'!J60)","v":""},{"$f":"IF('TD Siniestros Daños'!K60=\"\",\"\",'TD Siniestros Daños'!K60)","v":""},{"$f":"IF('TD Siniestros Daños'!L60=\"\",\"\",'TD Siniestros Daños'!L60)","v":""},{"$f":"IF('TD Siniestros Daños'!M60=\"\",\"\",'TD Siniestros Daños'!M60)","v":""}]
[null,{"$f":"IF('TD Siniestros Daños'!A61=\"\",\"\",'TD Siniestros Daños'!A61)","v":""},{"$f":"IF('TD Siniestros Daños'!B61=\"\",\"\",'TD Siniestros Daños'!B61)","v":""},{"$f":"IF('TD Siniestros Daños'!C61=\"\",\"\",'TD Siniestros Daños'!C61)","v":""},{"$f":"IF('TD Siniestros Daños'!D61=\"\",\"\",'TD Siniestros Daños'!D61)","v":""},{"$f":"IF('TD Siniestros Daños'!E61=\"\",\"\",'TD Siniestros Daños'!E61)","v":""},{"$f":"IF('TD Siniestros Daños'!F61=\"\",\"\",'TD Siniestros Daños'!F61)","v":""},{"$f":"IF('TD Siniestros Daños'!G61=\"\",\"\",'TD Siniestros Daños'!G61)","v":""},"",null,{"$f":"IF('TD Siniestros Daños'!H61=\"\",\"\",'TD Siniestros Daños'!H61)","v":""},{"$f":"IF('TD Siniestros Daños'!I61=\"\",\"\",'TD Siniestros Daños'!I61)","v":""},{"$f":"IF('TD Siniestros Daños'!J61=\"\",\"\",'TD Siniestros Daños'!J61)","v":""},{"$f":"IF('TD Siniestros Daños'!K61=\"\",\"\",'TD Siniestros Daños'!K61)","v":""},{"$f":"IF('TD Siniestros Daños'!L61=\"\",\"\",'TD Siniestros Daños'!L61)","v":""},{"$f":"IF('TD Siniestros Daños'!M61=\"\",\"\",'TD Siniestros Daños'!M61)","v":""}]
[null,{"$f":"IF('TD Siniestros Daños'!A62=\"\",\"\",'TD Siniestros Daños'!A62)","v":""},{"$f":"IF('TD Siniestros Daños'!B62=\"\",\"\",'TD Siniestros Daños'!B62)","v":""},{"$f":"IF('TD Siniestros Daños'!C62=\"\",\"\",'TD Siniestros Daños'!C62)","v":""},{"$f":"IF('TD Siniestros Daños'!D62=\"\",\"\",'TD Siniestros Daños'!D62)","v":""},{"$f":"IF('TD Siniestros Daños'!E62=\"\",\"\",'TD Siniestros Daños'!E62)","v":""},{"$f":"IF('TD Siniestros Daños'!F62=\"\",\"\",'TD Siniestros Daños'!F62)","v":""},{"$f":"IF('TD Siniestros Daños'!G62=\"\",\"\",'TD Siniestros Daños'!G62)","v":""},"",null,{"$f":"IF('TD Siniestros Daños'!H62=\"\",\"\",'TD Siniestros Daños'!H62)","v":""},{"$f":"IF('TD Siniestros Daños'!I62=\"\",\"\",'TD Siniestros Daños'!I62)","v":""},{"$f":"IF('TD Siniestros Daños'!J62=\"\",\"\",'TD Siniestros Daños'!J62)","v":""},{"$f":"IF('TD Siniestros Daños'!K62=\"\",\"\",'TD Siniestros Daños'!K62)","v":""},{"$f":"IF('TD Siniestros Daños'!L62=\"\",\"\",'TD Siniestros Daños'!L62)","v":""},{"$f":"IF('TD Siniestros Daños'!M62=\"\",\"\",'TD Siniestros Daños'!M62)","v":""}]
[null,{"$f":"IF('TD Siniestros Daños'!A63=\"\",\"\",'TD Siniestros Daños'!A63)","v":""},{"$f":"IF('TD Siniestros Daños'!B63=\"\",\"\",'TD Siniestros Daños'!B63)","v":""},{"$f":"IF('TD Siniestros Daños'!C63=\"\",\"\",'TD Siniestros Daños'!C63)","v":""},{"$f":"IF('TD Siniestros Daños'!D63=\"\",\"\",'TD Siniestros Daños'!D63)","v":""},{"$f":"IF('TD Siniestros Daños'!E63=\"\",\"\",'TD Siniestros Daños'!E63)","v":""},{"$f":"IF('TD Siniestros Daños'!F63=\"\",\"\",'TD Siniestros Daños'!F63)","v":""},{"$f":"IF('TD Siniestros Daños'!G63=\"\",\"\",'TD Siniestros Daños'!G63)","v":""},"",null,{"$f":"IF('TD Siniestros Daños'!H63=\"\",\"\",'TD Siniestros Daños'!H63)","v":""},{"$f":"IF('TD Siniestros Daños'!I63=\"\",\"\",'TD Siniestros Daños'!I63)","v":""},{"$f":"IF('TD Siniestros Daños'!J63=\"\",\"\",'TD Siniestros Daños'!J63)","v":""},{"$f":"IF('TD Siniestros Daños'!K63=\"\",\"\",'TD Siniestros Daños'!K63)","v":""},{"$f":"IF('TD Siniestros Daños'!L63=\"\",\"\",'TD Siniestros Daños'!L63)","v":""},{"$f":"IF('TD Siniestros Daños'!M63=\"\",\"\",'TD Siniestros Daños'!M63)","v":""}]
[null,{"$f":"IF('TD Siniestros Daños'!A64=\"\",\"\",'TD Siniestros Daños'!A64)","v":""},{"$f":"IF('TD Siniestros Daños'!B64=\"\",\"\",'TD Siniestros Daños'!B64)","v":""},{"$f":"IF('TD Siniestros Daños'!C64=\"\",\"\",'TD Siniestros Daños'!C64)","v":""},{"$f":"IF('TD Siniestros Daños'!D64=\"\",\"\",'TD Siniestros Daños'!D64)","v":""},{"$f":"IF('TD Siniestros Daños'!E64=\"\",\"\",'TD Siniestros Daños'!E64)","v":""},{"$f":"IF('TD Siniestros Daños'!F64=\"\",\"\",'TD Siniestros Daños'!F64)","v":""},{"$f":"IF('TD Siniestros Daños'!G64=\"\",\"\",'TD Siniestros Daños'!G64)","v":""},"",null,{"$f":"IF('TD Siniestros Daños'!H64=\"\",\"\",'TD Siniestros Daños'!H64)","v":""},{"$f":"IF('TD Siniestros Daños'!I64=\"\",\"\",'TD Siniestros Daños'!I64)","v":""},{"$f":"IF('TD Siniestros Daños'!J64=\"\",\"\",'TD Siniestros Daños'!J64)","v":""},{"$f":"IF('TD Siniestros Daños'!K64=\"\",\"\",'TD Siniestros Daños'!K64)","v":""},{"$f":"IF('TD Siniestros Daños'!L64=\"\",\"\",'TD Siniestros Daños'!L64)","v":""},{"$f":"IF('TD Siniestros Daños'!M64=\"\",\"\",'TD Siniestros Daños'!M64)","v":""}]
[null,{"$f":"IF('TD Siniestros Daños'!A65=\"\",\"\",'TD Siniestros Daños'!A65)","v":""},{"$f":"IF('TD Siniestros Daños'!B65=\"\",\"\",'TD Siniestros Daños'!B65)","v":""},{"$f":"IF('TD Siniestros Daños'!C65=\"\",\"\",'TD Siniestros Daños'!C65)","v":""},{"$f":"IF('TD Siniestros Daños'!D65=\"\",\"\",'TD Siniestros Daños'!D65)","v":""},{"$f":"IF('TD Siniestros Daños'!E65=\"\",\"\",'TD Siniestros Daños'!E65)","v":""},{"$f":"IF('TD Siniestros Daños'!F65=\"\",\"\",'TD Siniestros Daños'!F65)","v":""},{"$f":"IF('TD Siniestros Daños'!G65=\"\",\"\",'TD Siniestros Daños'!G65)","v":""},"",null,{"$f":"IF('TD Siniestros Daños'!H65=\"\",\"\",'TD Siniestros Daños'!H65)","v":""},{"$f":"IF('TD Siniestros Daños'!I65=\"\",\"\",'TD Siniestros Daños'!I65)","v":""},{"$f":"IF('TD Siniestros Daños'!J65=\"\",\"\",'TD Siniestros Daños'!J65)","v":""},{"$f":"IF('TD Siniestros Daños'!K65=\"\",\"\",'TD Siniestros Daños'!K65)","v":""},{"$f":"IF('TD Siniestros Daños'!L65=\"\",\"\",'TD Siniestros Daños'!L65)","v":""},{"$f":"IF('TD Siniestros Daños'!M65=\"\",\"\",'TD Siniestros Daños'!M65)","v":""}]
[null,{"$f":"IF('TD Siniestros Daños'!A66=\"\",\"\",'TD Siniestros Daños'!A66)","v":""},{"$f":"IF('TD Siniestros Daños'!B66=\"\",\"\",'TD Siniestros Daños'!B66)","v":""},{"$f":"IF('TD Siniestros Daños'!C66=\"\",\"\",'TD Siniestros Daños'!C66)","v":""},{"$f":"IF('TD Siniestros Daños'!D66=\"\",\"\",'TD Siniestros Daños'!D66)","v":""},{"$f":"IF('TD Siniestros Daños'!E66=\"\",\"\",'TD Siniestros Daños'!E66)","v":""},{"$f":"IF('TD Siniestros Daños'!F66=\"\",\"\",'TD Siniestros Daños'!F66)","v":""},{"$f":"IF('TD Siniestros Daños'!G66=\"\",\"\",'TD Siniestros Daños'!G66)","v":""},"",null,{"$f":"IF('TD Siniestros Daños'!H66=\"\",\"\",'TD Siniestros Daños'!H66)","v":""},{"$f":"IF('TD Siniestros Daños'!I66=\"\",\"\",'TD Siniestros Daños'!I66)","v":""},{"$f":"IF('TD Siniestros Daños'!J66=\"\",\"\",'TD Siniestros Daños'!J66)","v":""},{"$f":"IF('TD Siniestros Daños'!K66=\"\",\"\",'TD Siniestros Daños'!K66)","v":""},{"$f":"IF('TD Siniestros Daños'!L66=\"\",\"\",'TD Siniestros Daños'!L66)","v":""},{"$f":"IF('TD Siniestros Daños'!M66=\"\",\"\",'TD Siniestros Daños'!M66)","v":""}]
[null,{"$f":"IF('TD Siniestros Daños'!A67=\"\",\"\",'TD Siniestros Daños'!A67)","v":""},{"$f":"IF('TD Siniestros Daños'!B67=\"\",\"\",'TD Siniestros Daños'!B67)","v":""},{"$f":"IF('TD Siniestros Daños'!C67=\"\",\"\",'TD Siniestros Daños'!C67)","v":""},{"$f":"IF('TD Siniestros Daños'!D67=\"\",\"\",'TD Siniestros Daños'!D67)","v":""},{"$f":"IF('TD Siniestros Daños'!E67=\"\",\"\",'TD Siniestros Daños'!E67)","v":""},{"$f":"IF('TD Siniestros Daños'!F67=\"\",\"\",'TD Siniestros Daños'!F67)","v":""},{"$f":"IF('TD Siniestros Daños'!G67=\"\",\"\",'TD Siniestros Daños'!G67)","v":""},"",null,{"$f":"IF('TD Siniestros Daños'!H67=\"\",\"\",'TD Siniestros Daños'!H67)","v":""},{"$f":"IF('TD Siniestros Daños'!I67=\"\",\"\",'TD Siniestros Daños'!I67)","v":""},{"$f":"IF('TD Siniestros Daños'!J67=\"\",\"\",'TD Siniestros Daños'!J67)","v":""},{"$f":"IF('TD Siniestros Daños'!K67=\"\",\"\",'TD Siniestros Daños'!K67)","v":""},{"$f":"IF('TD Siniestros Daños'!L67=\"\",\"\",'TD Siniestros Daños'!L67)","v":""},{"$f":"IF('TD Siniestros Daños'!M67=\"\",\"\",'TD Siniestros Daños'!M67)","v":""}]
[null,{"$f":"IF('TD Siniestros Daños'!A68=\"\",\"\",'TD Siniestros Daños'!A68)","v":""},{"$f":"IF('TD Siniestros Daños'!B68=\"\",\"\",'TD Siniestros Daños'!B68)","v":""},{"$f":"IF('TD Siniestros Daños'!C68=\"\",\"\",'TD Siniestros Daños'!C68)","v":""},{"$f":"IF('TD Siniestros Daños'!D68=\"\",\"\",'TD Siniestros Daños'!D68)","v":""},{"$f":"IF('TD Siniestros Daños'!E68=\"\",\"\",'TD Siniestros Daños'!E68)","v":""},{"$f":"IF('TD Siniestros Daños'!F68=\"\",\"\",'TD Siniestros Daños'!F68)","v":""},{"$f":"IF('TD Siniestros Daños'!G68=\"\",\"\",'TD Siniestros Daños'!G68)","v":""},"",null,{"$f":"IF('TD Siniestros Daños'!H68=\"\",\"\",'TD Siniestros Daños'!H68)","v":""},{"$f":"IF('TD Siniestros Daños'!I68=\"\",\"\",'TD Siniestros Daños'!I68)","v":""},{"$f":"IF('TD Siniestros Daños'!J68=\"\",\"\",'TD Siniestros Daños'!J68)","v":""},{"$f":"IF('TD Siniestros Daños'!K68=\"\",\"\",'TD Siniestros Daños'!K68)","v":""},{"$f":"IF('TD Siniestros Daños'!L68=\"\",\"\",'TD Siniestros Daños'!L68)","v":""},{"$f":"IF('TD Siniestros Daños'!M68=\"\",\"\",'TD Siniestros Daños'!M68)","v":""}]
[null,{"$f":"IF('TD Siniestros Daños'!A69=\"\",\"\",'TD Siniestros Daños'!A69)","v":""},{"$f":"IF('TD Siniestros Daños'!B69=\"\",\"\",'TD Siniestros Daños'!B69)","v":""},{"$f":"IF('TD Siniestros Daños'!C69=\"\",\"\",'TD Siniestros Daños'!C69)","v":""},{"$f":"IF('TD Siniestros Daños'!D69=\"\",\"\",'TD Siniestros Daños'!D69)","v":""},{"$f":"IF('TD Siniestros Daños'!E69=\"\",\"\",'TD Siniestros Daños'!E69)","v":""},{"$f":"IF('TD Siniestros Daños'!F69=\"\",\"\",'TD Siniestros Daños'!F69)","v":""},{"$f":"IF('TD Siniestros Daños'!G69=\"\",\"\",'TD Siniestros Daños'!G69)","v":""},"",null,{"$f":"IF('TD Siniestros Daños'!H69=\"\",\"\",'TD Siniestros Daños'!H69)","v":""},{"$f":"IF('TD Siniestros Daños'!I69=\"\",\"\",'TD Siniestros Daños'!I69)","v":""},{"$f":"IF('TD Siniestros Daños'!J69=\"\",\"\",'TD Siniestros Daños'!J69)","v":""},{"$f":"IF('TD Siniestros Daños'!K69=\"\",\"\",'TD Siniestros Daños'!K69)","v":""},{"$f":"IF('TD Siniestros Daños'!L69=\"\",\"\",'TD Siniestros Daños'!L69)","v":""},{"$f":"IF('TD Siniestros Daños'!M69=\"\",\"\",'TD Siniestros Daños'!M69)","v":""}]
[null,{"$f":"IF('TD Siniestros Daños'!A70=\"\",\"\",'TD Siniestros Daños'!A70)","v":""},{"$f":"IF('TD Siniestros Daños'!B70=\"\",\"\",'TD Siniestros Daños'!B70)","v":""},{"$f":"IF('TD Siniestros Daños'!C70=\"\",\"\",'TD Siniestros Daños'!C70)","v":""},{"$f":"IF('TD Siniestros Daños'!D70=\"\",\"\",'TD Siniestros Daños'!D70)","v":""},{"$f":"IF('TD Siniestros Daños'!E70=\"\",\"\",'TD Siniestros Daños'!E70)","v":""},{"$f":"IF('TD Siniestros Daños'!F70=\"\",\"\",'TD Siniestros Daños'!F70)","v":""},{"$f":"IF('TD Siniestros Daños'!G70=\"\",\"\",'TD Siniestros Daños'!G70)","v":""},"",null,{"$f":"IF('TD Siniestros Daños'!H70=\"\",\"\",'TD Siniestros Daños'!H70)","v":""},{"$f":"IF('TD Siniestros Daños'!I70=\"\",\"\",'TD Siniestros Daños'!I70)","v":""},{"$f":"IF('TD Siniestros Daños'!J70=\"\",\"\",'TD Siniestros Daños'!J70)","v":""},{"$f":"IF('TD Siniestros Daños'!K70=\"\",\"\",'TD Siniestros Daños'!K70)","v":""},{"$f":"IF('TD Siniestros Daños'!L70=\"\",\"\",'TD Siniestros Daños'!L70)","v":""},{"$f":"IF('TD Siniestros Daños'!M70=\"\",\"\",'TD Siniestros Daños'!M70)","v":""}]
[null,{"$f":"IF('TD Siniestros Daños'!A71=\"\",\"\",'TD Siniestros Daños'!A71)","v":""},{"$f":"IF('TD Siniestros Daños'!B71=\"\",\"\",'TD Siniestros Daños'!B71)","v":""},{"$f":"IF('TD Siniestros Daños'!C71=\"\",\"\",'TD Siniestros Daños'!C71)","v":""},{"$f":"IF('TD Siniestros Daños'!D71=\"\",\"\",'TD Siniestros Daños'!D71)","v":""},{"$f":"IF('TD Siniestros Daños'!E71=\"\",\"\",'TD Siniestros Daños'!E71)","v":""},{"$f":"IF('TD Siniestros Daños'!F71=\"\",\"\",'TD Siniestros Daños'!F71)","v":""},{"$f":"IF('TD Siniestros Daños'!G71=\"\",\"\",'TD Siniestros Daños'!G71)","v":""},"",null,{"$f":"IF('TD Siniestros Daños'!H71=\"\",\"\",'TD Siniestros Daños'!H71)","v":""},{"$f":"IF('TD Siniestros Daños'!I71=\"\",\"\",'TD Siniestros Daños'!I71)","v":""},{"$f":"IF('TD Siniestros Daños'!J71=\"\",\"\",'TD Siniestros Daños'!J71)","v":""},{"$f":"IF('TD Siniestros Daños'!K71=\"\",\"\",'TD Siniestros Daños'!K71)","v":""},{"$f":"IF('TD Siniestros Daños'!L71=\"\",\"\",'TD Siniestros Daños'!L71)","v":""},{"$f":"IF('TD Siniestros Daños'!M71=\"\",\"\",'TD Siniestros Daños'!M71)","v":""}]
[null,{"$f":"IF('TD Siniestros Daños'!A72=\"\",\"\",'TD Siniestros Daños'!A72)","v":""},{"$f":"IF('TD Siniestros Daños'!B72=\"\",\"\",'TD Siniestros Daños'!B72)","v":""},{"$f":"IF('TD Siniestros Daños'!C72=\"\",\"\",'TD Siniestros Daños'!C72)","v":""},{"$f":"IF('TD Siniestros Daños'!D72=\"\",\"\",'TD Siniestros Daños'!D72)","v":""},{"$f":"IF('TD Siniestros Daños'!E72=\"\",\"\",'TD Siniestros Daños'!E72)","v":""},{"$f":"IF('TD Siniestros Daños'!F72=\"\",\"\",'TD Siniestros Daños'!F72)","v":""},{"$f":"IF('TD Siniestros Daños'!G72=\"\",\"\",'TD Siniestros Daños'!G72)","v":""},{"$f":"IFERROR(D73/VLOOKUP(\"TOTAL\",$C$8:$D$124,2,0)*100,\"\")","v":""},null,{"$f":"IF('TD Siniestros Daños'!H72=\"\",\"\",'TD Siniestros Daños'!H72)","v":""},{"$f":"IF('TD Siniestros Daños'!I72=\"\",\"\",'TD Siniestros Daños'!I72)","v":""},{"$f":"IF('TD Siniestros Daños'!J72=\"\",\"\",'TD Siniestros Daños'!J72)","v":""},{"$f":"IF('TD Siniestros Daños'!K72=\"\",\"\",'TD Siniestros Daños'!K72)","v":""},{"$f":"IF('TD Siniestros Daños'!L72=\"\",\"\",'TD Siniestros Daños'!L72)","v":""},{"$f":"IF('TD Siniestros Daños'!M72=\"\",\"\",'TD Siniestros Daños'!M72)","v":""}]
[null,{"$f":"IF('TD Siniestros Daños'!A73=\"\",\"\",'TD Siniestros Daños'!A73)","v":""},{"$f":"IF('TD Siniestros Daños'!B73=\"\",\"\",'TD Siniestros Daños'!B73)","v":""},{"$f":"IF('TD Siniestros Daños'!C73=\"\",\"\",'TD Siniestros Daños'!C73)","v":""},{"$f":"IF('TD Siniestros Daños'!D73=\"\",\"\",'TD Siniestros Daños'!D73)","v":""},{"$f":"IF('TD Siniestros Daños'!E73=\"\",\"\",'TD Siniestros Daños'!E73)","v":""},{"$f":"IF('TD Siniestros Daños'!F73=\"\",\"\",'TD Siniestros Daños'!F73)","v":""},{"$f":"IF('TD Siniestros Daños'!G73=\"\",\"\",'TD Siniestros Daños'!G73)","v":""},"",null,{"$f":"IF('TD Siniestros Daños'!H73=\"\",\"\",'TD Siniestros Daños'!H73)","v":""},{"$f":"IF('TD Siniestros Daños'!I73=\"\",\"\",'TD Siniestros Daños'!I73)","v":""},{"$f":"IF('TD Siniestros Daños'!J73=\"\",\"\",'TD Siniestros Daños'!J73)","v":""},{"$f":"IF('TD Siniestros Daños'!K73=\"\",\"\",'TD Siniestros Daños'!K73)","v":""},{"$f":"IF('TD Siniestros Daños'!L73=\"\",\"\",'TD Siniestros Daños'!L73)","v":""},{"$f":"IF('TD Siniestros Daños'!M73=\"\",\"\",'TD Siniestros Daños'!M73)","v":""}]
[null,{"$f":"IF('TD Siniestros Daños'!A74=\"\",\"\",'TD Siniestros Daños'!A74)","v":""},{"$f":"IF('TD Siniestros Daños'!B74=\"\",\"\",'TD Siniestros Daños'!B74)","v":""},{"$f":"IF('TD Siniestros Daños'!C74=\"\",\"\",'TD Siniestros Daños'!C74)","v":""},{"$f":"IF('TD Siniestros Daños'!D74=\"\",\"\",'TD Siniestros Daños'!D74)","v":""},{"$f":"IF('TD Siniestros Daños'!E74=\"\",\"\",'TD Siniestros Daños'!E74)","v":""},{"$f":"IF('TD Siniestros Daños'!F74=\"\",\"\",'TD Siniestros Daños'!F74)","v":""},{"$f":"IF('TD Siniestros Daños'!G74=\"\",\"\",'TD Siniestros Daños'!G74)","v":""},"",null,{"$f":"IF('TD Siniestros Daños'!H74=\"\",\"\",'TD Siniestros Daños'!H74)","v":""},{"$f":"IF('TD Siniestros Daños'!I74=\"\",\"\",'TD Siniestros Daños'!I74)","v":""},{"$f":"IF('TD Siniestros Daños'!J74=\"\",\"\",'TD Siniestros Daños'!J74)","v":""},{"$f":"IF('TD Siniestros Daños'!K74=\"\",\"\",'TD Siniestros Daños'!K74)","v":""},{"$f":"IF('TD Siniestros Daños'!L74=\"\",\"\",'TD Siniestros Daños'!L74)","v":""},{"$f":"IF('TD Siniestros Daños'!M74=\"\",\"\",'TD Siniestros Daños'!M74)","v":""}]
[null,{"$f":"IF('TD Siniestros Daños'!A75=\"\",\"\",'TD Siniestros Daños'!A75)","v":""},{"$f":"IF('TD Siniestros Daños'!B75=\"\",\"\",'TD Siniestros Daños'!B75)","v":""},{"$f":"IF('TD Siniestros Daños'!C75=\"\",\"\",'TD Siniestros Daños'!C75)","v":""},{"$f":"IF('TD Siniestros Daños'!D75=\"\",\"\",'TD Siniestros Daños'!D75)","v":""},{"$f":"IF('TD Siniestros Daños'!E75=\"\",\"\",'TD Siniestros Daños'!E75)","v":""},{"$f":"IF('TD Siniestros Daños'!F75=\"\",\"\",'TD Siniestros Daños'!F75)","v":""},{"$f":"IF('TD Siniestros Daños'!G75=\"\",\"\",'TD Siniestros Daños'!G75)","v":""},"",null,{"$f":"IF('TD Siniestros Daños'!H75=\"\",\"\",'TD Siniestros Daños'!H75)","v":""},{"$f":"IF('TD Siniestros Daños'!I75=\"\",\"\",'TD Siniestros Daños'!I75)","v":""},{"$f":"IF('TD Siniestros Daños'!J75=\"\",\"\",'TD Siniestros Daños'!J75)","v":""},{"$f":"IF('TD Siniestros Daños'!K75=\"\",\"\",'TD Siniestros Daños'!K75)","v":""},{"$f":"IF('TD Siniestros Daños'!L75=\"\",\"\",'TD Siniestros Daños'!L75)","v":""},{"$f":"IF('TD Siniestros Daños'!M75=\"\",\"\",'TD Siniestros Daños'!M75)","v":""}]
[null,{"$f":"IF('TD Siniestros Daños'!A76=\"\",\"\",'TD Siniestros Daños'!A76)","v":""},{"$f":"IF('TD Siniestros Daños'!B76=\"\",\"\",'TD Siniestros Daños'!B76)","v":""},{"$f":"IF('TD Siniestros Daños'!C76=\"\",\"\",'TD Siniestros Daños'!C76)","v":""},{"$f":"IF('TD Siniestros Daños'!D76=\"\",\"\",'TD Siniestros Daños'!D76)","v":""},{"$f":"IF('TD Siniestros Daños'!E76=\"\",\"\",'TD Siniestros Daños'!E76)","v":""},{"$f":"IF('TD Siniestros Daños'!F76=\"\",\"\",'TD Siniestros Daños'!F76)","v":""},{"$f":"IF('TD Siniestros Daños'!G76=\"\",\"\",'TD Siniestros Daños'!G76)","v":""},"",null,{"$f":"IF('TD Siniestros Daños'!H76=\"\",\"\",'TD Siniestros Daños'!H76)","v":""},{"$f":"IF('TD Siniestros Daños'!I76=\"\",\"\",'TD Siniestros Daños'!I76)","v":""},{"$f":"IF('TD Siniestros Daños'!J76=\"\",\"\",'TD Siniestros Daños'!J76)","v":""},{"$f":"IF('TD Siniestros Daños'!K76=\"\",\"\",'TD Siniestros Daños'!K76)","v":""},{"$f":"IF('TD Siniestros Daños'!L76=\"\",\"\",'TD Siniestros Daños'!L76)","v":""},{"$f":"IF('TD Siniestros Daños'!M76=\"\",\"\",'TD Siniestros Daños'!M76)","v":""}]
[null,{"$f":"IF('TD Siniestros Daños'!A77=\"\",\"\",'TD Siniestros Daños'!A77)","v":""},{"$f":"IF('TD Siniestros Daños'!B77=\"\",\"\",'TD Siniestros Daños'!B77)","v":""},{"$f":"IF('TD Siniestros Daños'!C77=\"\",\"\",'TD Siniestros Daños'!C77)","v":""},{"$f":"IF('TD Siniestros Daños'!D77=\"\",\"\",'TD Siniestros Daños'!D77)","v":""},{"$f":"IF('TD Siniestros Daños'!E77=\"\",\"\",'TD Siniestros Daños'!E77)","v":""},{"$f":"IF('TD Siniestros Daños'!F77=\"\",\"\",'TD Siniestros Daños'!F77)","v":""},{"$f":"IF('TD Siniestros Daños'!G77=\"\",\"\",'TD Siniestros Daños'!G77)","v":""},"",null,{"$f":"IF('TD Siniestros Daños'!H77=\"\",\"\",'TD Siniestros Daños'!H77)","v":""},{"$f":"IF('TD Siniestros Daños'!I77=\"\",\"\",'TD Siniestros Daños'!I77)","v":""},{"$f":"IF('TD Siniestros Daños'!J77=\"\",\"\",'TD Siniestros Daños'!J77)","v":""},{"$f":"IF('TD Siniestros Daños'!K77=\"\",\"\",'TD Siniestros Daños'!K77)","v":""},{"$f":"IF('TD Siniestros Daños'!L77=\"\",\"\",'TD Siniestros Daños'!L77)","v":""},{"$f":"IF('TD Siniestros Daños'!M77=\"\",\"\",'TD Siniestros Daños'!M77)","v":""}]
[null,{"$f":"IF('TD Siniestros Daños'!A78=\"\",\"\",'TD Siniestros Daños'!A78)","v":""},{"$f":"IF('TD Siniestros Daños'!B78=\"\",\"\",'TD Siniestros Daños'!B78)","v":""},{"$f":"IF('TD Siniestros Daños'!C78=\"\",\"\",'TD Siniestros Daños'!C78)","v":""},{"$f":"IF('TD Siniestros Daños'!D78=\"\",\"\",'TD Siniestros Daños'!D78)","v":""},{"$f":"IF('TD Siniestros Daños'!E78=\"\",\"\",'TD Siniestros Daños'!E78)","v":""},{"$f":"IF('TD Siniestros Daños'!F78=\"\",\"\",'TD Siniestros Daños'!F78)","v":""},{"$f":"IF('TD Siniestros Daños'!G78=\"\",\"\",'TD Siniestros Daños'!G78)","v":""},"",null,{"$f":"IF('TD Siniestros Daños'!H78=\"\",\"\",'TD Siniestros Daños'!H78)","v":""},{"$f":"IF('TD Siniestros Daños'!I78=\"\",\"\",'TD Siniestros Daños'!I78)","v":""},{"$f":"IF('TD Siniestros Daños'!J78=\"\",\"\",'TD Siniestros Daños'!J78)","v":""},{"$f":"IF('TD Siniestros Daños'!K78=\"\",\"\",'TD Siniestros Daños'!K78)","v":""},{"$f":"IF('TD Siniestros Daños'!L78=\"\",\"\",'TD Siniestros Daños'!L78)","v":""},{"$f":"IF('TD Siniestros Daños'!M78=\"\",\"\",'TD Siniestros Daños'!M78)","v":""}]
[null,{"$f":"IF('TD Siniestros Daños'!A79=\"\",\"\",'TD Siniestros Daños'!A79)","v":""},{"$f":"IF('TD Siniestros Daños'!B79=\"\",\"\",'TD Siniestros Daños'!B79)","v":""},{"$f":"IF('TD Siniestros Daños'!C79=\"\",\"\",'TD Siniestros Daños'!C79)","v":""},{"$f":"IF('TD Siniestros Daños'!D79=\"\",\"\",'TD Siniestros Daños'!D79)","v":""},{"$f":"IF('TD Siniestros Daños'!E79=\"\",\"\",'TD Siniestros Daños'!E79)","v":""},{"$f":"IF('TD Siniestros Daños'!F79=\"\",\"\",'TD Siniestros Daños'!F79)","v":""},{"$f":"IF('TD Siniestros Daños'!G79=\"\",\"\",'TD Siniestros Daños'!G79)","v":""},"",null,{"$f":"IF('TD Siniestros Daños'!H79=\"\",\"\",'TD Siniestros Daños'!H79)","v":""},{"$f":"IF('TD Siniestros Daños'!I79=\"\",\"\",'TD Siniestros Daños'!I79)","v":""},{"$f":"IF('TD Siniestros Daños'!J79=\"\",\"\",'TD Siniestros Daños'!J79)","v":""},{"$f":"IF('TD Siniestros Daños'!K79=\"\",\"\",'TD Siniestros Daños'!K79)","v":""},{"$f":"IF('TD Siniestros Daños'!L79=\"\",\"\",'TD Siniestros Daños'!L79)","v":""},{"$f":"IF('TD Siniestros Daños'!M79=\"\",\"\",'TD Siniestros Daños'!M79)","v":""}]
[null,{"$f":"IF('TD Siniestros Daños'!A80=\"\",\"\",'TD Siniestros Daños'!A80)","v":""},{"$f":"IF('TD Siniestros Daños'!B80=\"\",\"\",'TD Siniestros Daños'!B80)","v":""},{"$f":"IF('TD Siniestros Daños'!C80=\"\",\"\",'TD Siniestros Daños'!C80)","v":""},{"$f":"IF('TD Siniestros Daños'!D80=\"\",\"\",'TD Siniestros Daños'!D80)","v":""},{"$f":"IF('TD Siniestros Daños'!E80=\"\",\"\",'TD Siniestros Daños'!E80)","v":""},{"$f":"IF('TD Siniestros Daños'!F80=\"\",\"\",'TD Siniestros Daños'!F80)","v":""},{"$f":"IF('TD Siniestros Daños'!G80=\"\",\"\",'TD Siniestros Daños'!G80)","v":""},"",null,{"$f":"IF('TD Siniestros Daños'!H80=\"\",\"\",'TD Siniestros Daños'!H80)","v":""},{"$f":"IF('TD Siniestros Daños'!I80=\"\",\"\",'TD Siniestros Daños'!I80)","v":""},{"$f":"IF('TD Siniestros Daños'!J80=\"\",\"\",'TD Siniestros Daños'!J80)","v":""},{"$f":"IF('TD Siniestros Daños'!K80=\"\",\"\",'TD Siniestros Daños'!K80)","v":""},{"$f":"IF('TD Siniestros Daños'!L80=\"\",\"\",'TD Siniestros Daños'!L80)","v":""},{"$f":"IF('TD Siniestros Daños'!M80=\"\",\"\",'TD Siniestros Daños'!M80)","v":""}]
[null,{"$f":"IF('TD Siniestros Daños'!A81=\"\",\"\",'TD Siniestros Daños'!A81)","v":""},{"$f":"IF('TD Siniestros Daños'!B81=\"\",\"\",'TD Siniestros Daños'!B81)","v":""},{"$f":"IF('TD Siniestros Daños'!C81=\"\",\"\",'TD Siniestros Daños'!C81)","v":""},{"$f":"IF('TD Siniestros Daños'!D81=\"\",\"\",'TD Siniestros Daños'!D81)","v":""},{"$f":"IF('TD Siniestros Daños'!E81=\"\",\"\",'TD Siniestros Daños'!E81)","v":""},{"$f":"IF('TD Siniestros Daños'!F81=\"\",\"\",'TD Siniestros Daños'!F81)","v":""},{"$f":"IF('TD Siniestros Daños'!G81=\"\",\"\",'TD Siniestros Daños'!G81)","v":""},"",null,{"$f":"IF('TD Siniestros Daños'!H81=\"\",\"\",'TD Siniestros Daños'!H81)","v":""},{"$f":"IF('TD Siniestros Daños'!I81=\"\",\"\",'TD Siniestros Daños'!I81)","v":""},{"$f":"IF('TD Siniestros Daños'!J81=\"\",\"\",'TD Siniestros Daños'!J81)","v":""},{"$f":"IF('TD Siniestros Daños'!K81=\"\",\"\",'TD Siniestros Daños'!K81)","v":""},{"$f":"IF('TD Siniestros Daños'!L81=\"\",\"\",'TD Siniestros Daños'!L81)","v":""},{"$f":"IF('TD Siniestros Daños'!M81=\"\",\"\",'TD Siniestros Daños'!M81)","v":""}]
[null,{"$f":"IF('TD Siniestros Daños'!A82=\"\",\"\",'TD Siniestros Daños'!A82)","v":""},{"$f":"IF('TD Siniestros Daños'!B82=\"\",\"\",'TD Siniestros Daños'!B82)","v":""},{"$f":"IF('TD Siniestros Daños'!C82=\"\",\"\",'TD Siniestros Daños'!C82)","v":""},{"$f":"IF('TD Siniestros Daños'!D82=\"\",\"\",'TD Siniestros Daños'!D82)","v":""},{"$f":"IF('TD Siniestros Daños'!E82=\"\",\"\",'TD Siniestros Daños'!E82)","v":""},{"$f":"IF('TD Siniestros Daños'!F82=\"\",\"\",'TD Siniestros Daños'!F82)","v":""},{"$f":"IF('TD Siniestros Daños'!G82=\"\",\"\",'TD Siniestros Daños'!G82)","v":""},"",null,{"$f":"IF('TD Siniestros Daños'!H82=\"\",\"\",'TD Siniestros Daños'!H82)","v":""},{"$f":"IF('TD Siniestros Daños'!I82=\"\",\"\",'TD Siniestros Daños'!I82)","v":""},{"$f":"IF('TD Siniestros Daños'!J82=\"\",\"\",'TD Siniestros Daños'!J82)","v":""},{"$f":"IF('TD Siniestros Daños'!K82=\"\",\"\",'TD Siniestros Daños'!K82)","v":""},{"$f":"IF('TD Siniestros Daños'!L82=\"\",\"\",'TD Siniestros Daños'!L82)","v":""},{"$f":"IF('TD Siniestros Daños'!M82=\"\",\"\",'TD Siniestros Daños'!M82)","v":""}]
[null,{"$f":"IF('TD Siniestros Daños'!A83=\"\",\"\",'TD Siniestros Daños'!A83)","v":""},{"$f":"IF('TD Siniestros Daños'!B83=\"\",\"\",'TD Siniestros Daños'!B83)","v":""},{"$f":"IF('TD Siniestros Daños'!C83=\"\",\"\",'TD Siniestros Daños'!C83)","v":""},{"$f":"IF('TD Siniestros Daños'!D83=\"\",\"\",'TD Siniestros Daños'!D83)","v":""},{"$f":"IF('TD Siniestros Daños'!E83=\"\",\"\",'TD Siniestros Daños'!E83)","v":""},{"$f":"IF('TD Siniestros Daños'!F83=\"\",\"\",'TD Siniestros Daños'!F83)","v":""},{"$f":"IF('TD Siniestros Daños'!G83=\"\",\"\",'TD Siniestros Daños'!G83)","v":""},"",null,{"$f":"IF('TD Siniestros Daños'!H83=\"\",\"\",'TD Siniestros Daños'!H83)","v":""},{"$f":"IF('TD Siniestros Daños'!I83=\"\",\"\",'TD Siniestros Daños'!I83)","v":""},{"$f":"IF('TD Siniestros Daños'!J83=\"\",\"\",'TD Siniestros Daños'!J83)","v":""},{"$f":"IF('TD Siniestros Daños'!K83=\"\",\"\",'TD Siniestros Daños'!K83)","v":""},{"$f":"IF('TD Siniestros Daños'!L83=\"\",\"\",'TD Siniestros Daños'!L83)","v":""},{"$f":"IF('TD Siniestros Daños'!M83=\"\",\"\",'TD Siniestros Daños'!M83)","v":""}]
[null,{"$f":"IF('TD Siniestros Daños'!A84=\"\",\"\",'TD Siniestros Daños'!A84)","v":""},{"$f":"IF('TD Siniestros Daños'!B84=\"\",\"\",'TD Siniestros Daños'!B84)","v":""},{"$f":"IF('TD Siniestros Daños'!C84=\"\",\"\",'TD Siniestros Daños'!C84)","v":""},{"$f":"IF('TD Siniestros Daños'!D84=\"\",\"\",'TD Siniestros Daños'!D84)","v":""},{"$f":"IF('TD Siniestros Daños'!E84=\"\",\"\",'TD Siniestros Daños'!E84)","v":""},{"$f":"IF('TD Siniestros Daños'!F84=\"\",\"\",'TD Siniestros Daños'!F84)","v":""},{"$f":"IF('TD Siniestros Daños'!G84=\"\",\"\",'TD Siniestros Daños'!G84)","v":""},"",null,{"$f":"IF('TD Siniestros Daños'!H84=\"\",\"\",'TD Siniestros Daños'!H84)","v":""},{"$f":"IF('TD Siniestros Daños'!I84=\"\",\"\",'TD Siniestros Daños'!I84)","v":""},{"$f":"IF('TD Siniestros Daños'!J84=\"\",\"\",'TD Siniestros Daños'!J84)","v":""},{"$f":"IF('TD Siniestros Daños'!K84=\"\",\"\",'TD Siniestros Daños'!K84)","v":""},{"$f":"IF('TD Siniestros Daños'!L84=\"\",\"\",'TD Siniestros Daños'!L84)","v":""},{"$f":"IF('TD Siniestros Daños'!M84=\"\",\"\",'TD Siniestros Daños'!M84)","v":""}]
[null,{"$f":"IF('TD Siniestros Daños'!A85=\"\",\"\",'TD Siniestros Daños'!A85)","v":""},{"$f":"IF('TD Siniestros Daños'!B85=\"\",\"\",'TD Siniestros Daños'!B85)","v":""},{"$f":"IF('TD Siniestros Daños'!C85=\"\",\"\",'TD Siniestros Daños'!C85)","v":""},{"$f":"IF('TD Siniestros Daños'!D85=\"\",\"\",'TD Siniestros Daños'!D85)","v":""},{"$f":"IF('TD Siniestros Daños'!E85=\"\",\"\",'TD Siniestros Daños'!E85)","v":""},{"$f":"IF('TD Siniestros Daños'!F85=\"\",\"\",'TD Siniestros Daños'!F85)","v":""},{"$f":"IF('TD Siniestros Daños'!G85=\"\",\"\",'TD Siniestros Daños'!G85)","v":""},"",null,{"$f":"IF('TD Siniestros Daños'!H85=\"\",\"\",'TD Siniestros Daños'!H85)","v":""},{"$f":"IF('TD Siniestros Daños'!I85=\"\",\"\",'TD Siniestros Daños'!I85)","v":""},{"$f":"IF('TD Siniestros Daños'!J85=\"\",\"\",'TD Siniestros Daños'!J85)","v":""},{"$f":"IF('TD Siniestros Daños'!K85=\"\",\"\",'TD Siniestros Daños'!K85)","v":""},{"$f":"IF('TD Siniestros Daños'!L85=\"\",\"\",'TD Siniestros Daños'!L85)","v":""},{"$f":"IF('TD Siniestros Daños'!M85=\"\",\"\",'TD Siniestros Daños'!M85)","v":""}]
[null,{"$f":"IF('TD Siniestros Daños'!A86=\"\",\"\",'TD Siniestros Daños'!A86)","v":""},{"$f":"IF('TD Siniestros Daños'!B86=\"\",\"\",'TD Siniestros Daños'!B86)","v":""},{"$f":"IF('TD Siniestros Daños'!C86=\"\",\"\",'TD Siniestros Daños'!C86)","v":""},{"$f":"IF('TD Siniestros Daños'!D86=\"\",\"\",'TD Siniestros Daños'!D86)","v":""},{"$f":"IF('TD Siniestros Daños'!E86=\"\",\"\",'TD Siniestros Daños'!E86)","v":""},{"$f":"IF('TD Siniestros Daños'!F86=\"\",\"\",'TD Siniestros Daños'!F86)","v":""},{"$f":"IF('TD Siniestros Daños'!G86=\"\",\"\",'TD Siniestros Daños'!G86)","v":""},"",null,{"$f":"IF('TD Siniestros Daños'!H86=\"\",\"\",'TD Siniestros Daños'!H86)","v":""},{"$f":"IF('TD Siniestros Daños'!I86=\"\",\"\",'TD Siniestros Daños'!I86)","v":""},{"$f":"IF('TD Siniestros Daños'!J86=\"\",\"\",'TD Siniestros Daños'!J86)","v":""},{"$f":"IF('TD Siniestros Daños'!K86=\"\",\"\",'TD Siniestros Daños'!K86)","v":""},{"$f":"IF('TD Siniestros Daños'!L86=\"\",\"\",'TD Siniestros Daños'!L86)","v":""},{"$f":"IF('TD Siniestros Daños'!M86=\"\",\"\",'TD Siniestros Daños'!M86)","v":""}]
[null,{"$f":"IF('TD Siniestros Daños'!A87=\"\",\"\",'TD Siniestros Daños'!A87)","v":""},{"$f":"IF('TD Siniestros Daños'!B87=\"\",\"\",'TD Siniestros Daños'!B87)","v":""},{"$f":"IF('TD Siniestros Daños'!C87=\"\",\"\",'TD Siniestros Daños'!C87)","v":""},{"$f":"IF('TD Siniestros Daños'!D87=\"\",\"\",'TD Siniestros Daños'!D87)","v":""},{"$f":"IF('TD Siniestros Daños'!E87=\"\",\"\",'TD Siniestros Daños'!E87)","v":""},{"$f":"IF('TD Siniestros Daños'!F87=\"\",\"\",'TD Siniestros Daños'!F87)","v":""},{"$f":"IF('TD Siniestros Daños'!G87=\"\",\"\",'TD Siniestros Daños'!G87)","v":""},"",null,{"$f":"IF('TD Siniestros Daños'!H87=\"\",\"\",'TD Siniestros Daños'!H87)","v":""},{"$f":"IF('TD Siniestros Daños'!I87=\"\",\"\",'TD Siniestros Daños'!I87)","v":""},{"$f":"IF('TD Siniestros Daños'!J87=\"\",\"\",'TD Siniestros Daños'!J87)","v":""},{"$f":"IF('TD Siniestros Daños'!K87=\"\",\"\",'TD Siniestros Daños'!K87)","v":""},{"$f":"IF('TD Siniestros Daños'!L87=\"\",\"\",'TD Siniestros Daños'!L87)","v":""},{"$f":"IF('TD Siniestros Daños'!M87=\"\",\"\",'TD Siniestros Daños'!M87)","v":""}]
[null,{"$f":"IF('TD Siniestros Daños'!A88=\"\",\"\",'TD Siniestros Daños'!A88)","v":""},{"$f":"IF('TD Siniestros Daños'!B88=\"\",\"\",'TD Siniestros Daños'!B88)","v":""},{"$f":"IF('TD Siniestros Daños'!C88=\"\",\"\",'TD Siniestros Daños'!C88)","v":""},{"$f":"IF('TD Siniestros Daños'!D88=\"\",\"\",'TD Siniestros Daños'!D88)","v":""},{"$f":"IF('TD Siniestros Daños'!E88=\"\",\"\",'TD Siniestros Daños'!E88)","v":""},{"$f":"IF('TD Siniestros Daños'!F88=\"\",\"\",'TD Siniestros Daños'!F88)","v":""},{"$f":"IF('TD Siniestros Daños'!G88=\"\",\"\",'TD Siniestros Daños'!G88)","v":""},"",null,{"$f":"IF('TD Siniestros Daños'!H88=\"\",\"\",'TD Siniestros Daños'!H88)","v":""},{"$f":"IF('TD Siniestros Daños'!I88=\"\",\"\",'TD Siniestros Daños'!I88)","v":""},{"$f":"IF('TD Siniestros Daños'!J88=\"\",\"\",'TD Siniestros Daños'!J88)","v":""},{"$f":"IF('TD Siniestros Daños'!K88=\"\",\"\",'TD Siniestros Daños'!K88)","v":""},{"$f":"IF('TD Siniestros Daños'!L88=\"\",\"\",'TD Siniestros Daños'!L88)","v":""},{"$f":"IF('TD Siniestros Daños'!M88=\"\",\"\",'TD Siniestros Daños'!M88)","v":""}]
[null,{"$f":"IF('TD Siniestros Daños'!A89=\"\",\"\",'TD Siniestros Daños'!A89)","v":""},{"$f":"IF('TD Siniestros Daños'!B89=\"\",\"\",'TD Siniestros Daños'!B89)","v":""},{"$f":"IF('TD Siniestros Daños'!C89=\"\",\"\",'TD Siniestros Daños'!C89)","v":""},{"$f":"IF('TD Siniestros Daños'!D89=\"\",\"\",'TD Siniestros Daños'!D89)","v":""},{"$f":"IF('TD Siniestros Daños'!E89=\"\",\"\",'TD Siniestros Daños'!E89)","v":""},{"$f":"IF('TD Siniestros Daños'!F89=\"\",\"\",'TD Siniestros Daños'!F89)","v":""},{"$f":"IF('TD Siniestros Daños'!G89=\"\",\"\",'TD Siniestros Daños'!G89)","v":""},"",null,{"$f":"IF('TD Siniestros Daños'!H89=\"\",\"\",'TD Siniestros Daños'!H89)","v":""},{"$f":"IF('TD Siniestros Daños'!I89=\"\",\"\",'TD Siniestros Daños'!I89)","v":""},{"$f":"IF('TD Siniestros Daños'!J89=\"\",\"\",'TD Siniestros Daños'!J89)","v":""},{"$f":"IF('TD Siniestros Daños'!K89=\"\",\"\",'TD Siniestros Daños'!K89)","v":""},{"$f":"IF('TD Siniestros Daños'!L89=\"\",\"\",'TD Siniestros Daños'!L89)","v":""},{"$f":"IF('TD Siniestros Daños'!M89=\"\",\"\",'TD Siniestros Daños'!M89)","v":""}]
[null,{"$f":"IF('TD Siniestros Daños'!A90=\"\",\"\",'TD Siniestros Daños'!A90)","v":""},{"$f":"IF('TD Siniestros Daños'!B90=\"\",\"\",'TD Siniestros Daños'!B90)","v":""},{"$f":"IF('TD Siniestros Daños'!C90=\"\",\"\",'TD Siniestros Daños'!C90)","v":""},{"$f":"IF('TD Siniestros Daños'!D90=\"\",\"\",'TD Siniestros Daños'!D90)","v":""},{"$f":"IF('TD Siniestros Daños'!E90=\"\",\"\",'TD Siniestros Daños'!E90)","v":""},{"$f":"IF('TD Siniestros Daños'!F90=\"\",\"\",'TD Siniestros Daños'!F90)","v":""},{"$f":"IF('TD Siniestros Daños'!G90=\"\",\"\",'TD Siniestros Daños'!G90)","v":""},"",null,{"$f":"IF('TD Siniestros Daños'!H90=\"\",\"\",'TD Siniestros Daños'!H90)","v":""},{"$f":"IF('TD Siniestros Daños'!I90=\"\",\"\",'TD Siniestros Daños'!I90)","v":""},{"$f":"IF('TD Siniestros Daños'!J90=\"\",\"\",'TD Siniestros Daños'!J90)","v":""},{"$f":"IF('TD Siniestros Daños'!K90=\"\",\"\",'TD Siniestros Daños'!K90)","v":""},{"$f":"IF('TD Siniestros Daños'!L90=\"\",\"\",'TD Siniestros Daños'!L90)","v":""},{"$f":"IF('TD Siniestros Daños'!M90=\"\",\"\",'TD Siniestros Daños'!M90)","v":""}]
[null,{"$f":"IF('TD Siniestros Daños'!A91=\"\",\"\",'TD Siniestros Daños'!A91)","v":""},{"$f":"IF('TD Siniestros Daños'!B91=\"\",\"\",'TD Siniestros Daños'!B91)","v":""},{"$f":"IF('TD Siniestros Daños'!C91=\"\",\"\",'TD Siniestros Daños'!C91)","v":""},{"$f":"IF('TD Siniestros Daños'!D91=\"\",\"\",'TD Siniestros Daños'!D91)","v":""},{"$f":"IF('TD Siniestros Daños'!E91=\"\",\"\",'TD Siniestros Daños'!E91)","v":""},{"$f":"IF('TD Siniestros Daños'!F91=\"\",\"\",'TD Siniestros Daños'!F91)","v":""},{"$f":"IF('TD Siniestros Daños'!G91=\"\",\"\",'TD Siniestros Daños'!G91)","v":""},"",null,{"$f":"IF('TD Siniestros Daños'!H91=\"\",\"\",'TD Siniestros Daños'!H91)","v":""},{"$f":"IF('TD Siniestros Daños'!I91=\"\",\"\",'TD Siniestros Daños'!I91)","v":""},{"$f":"IF('TD Siniestros Daños'!J91=\"\",\"\",'TD Siniestros Daños'!J91)","v":""},{"$f":"IF('TD Siniestros Daños'!K91=\"\",\"\",'TD Siniestros Daños'!K91)","v":""},{"$f":"IF('TD Siniestros Daños'!L91=\"\",\"\",'TD Siniestros Daños'!L91)","v":""},{"$f":"IF('TD Siniestros Daños'!M91=\"\",\"\",'TD Siniestros Daños'!M91)","v":""}]
[null,{"$f":"IF('TD Siniestros Daños'!A92=\"\",\"\",'TD Siniestros Daños'!A92)","v":""},{"$f":"IF('TD Siniestros Daños'!B92=\"\",\"\",'TD Siniestros Daños'!B92)","v":""},{"$f":"IF('TD Siniestros Daños'!C92=\"\",\"\",'TD Siniestros Daños'!C92)","v":""},{"$f":"IF('TD Siniestros Daños'!D92=\"\",\"\",'TD Siniestros Daños'!D92)","v":""},{"$f":"IF('TD Siniestros Daños'!E92=\"\",\"\",'TD Siniestros Daños'!E92)","v":""},{"$f":"IF('TD Siniestros Daños'!F92=\"\",\"\",'TD Siniestros Daños'!F92)","v":""},{"$f":"IF('TD Siniestros Daños'!G92=\"\",\"\",'TD Siniestros Daños'!G92)","v":""},"",null,{"$f":"IF('TD Siniestros Daños'!H92=\"\",\"\",'TD Siniestros Daños'!H92)","v":""},{"$f":"IF('TD Siniestros Daños'!I92=\"\",\"\",'TD Siniestros Daños'!I92)","v":""},{"$f":"IF('TD Siniestros Daños'!J92=\"\",\"\",'TD Siniestros Daños'!J92)","v":""},{"$f":"IF('TD Siniestros Daños'!K92=\"\",\"\",'TD Siniestros Daños'!K92)","v":""},{"$f":"IF('TD Siniestros Daños'!L92=\"\",\"\",'TD Siniestros Daños'!L92)","v":""},{"$f":"IF('TD Siniestros Daños'!M92=\"\",\"\",'TD Siniestros Daños'!M92)","v":""}]
[null,{"$f":"IF('TD Siniestros Daños'!A93=\"\",\"\",'TD Siniestros Daños'!A93)","v":""},{"$f":"IF('TD Siniestros Daños'!B93=\"\",\"\",'TD Siniestros Daños'!B93)","v":""},{"$f":"IF('TD Siniestros Daños'!C93=\"\",\"\",'TD Siniestros Daños'!C93)","v":""},{"$f":"IF('TD Siniestros Daños'!D93=\"\",\"\",'TD Siniestros Daños'!D93)","v":""},{"$f":"IF('TD Siniestros Daños'!E93=\"\",\"\",'TD Siniestros Daños'!E93)","v":""},{"$f":"IF('TD Siniestros Daños'!F93=\"\",\"\",'TD Siniestros Daños'!F93)","v":""},{"$f":"IF('TD Siniestros Daños'!G93=\"\",\"\",'TD Siniestros Daños'!G93)","v":""},"",null,{"$f":"IF('TD Siniestros Daños'!H93=\"\",\"\",'TD Siniestros Daños'!H93)","v":""},{"$f":"IF('TD Siniestros Daños'!I93=\"\",\"\",'TD Siniestros Daños'!I93)","v":""},{"$f":"IF('TD Siniestros Daños'!J93=\"\",\"\",'TD Siniestros Daños'!J93)","v":""},{"$f":"IF('TD Siniestros Daños'!K93=\"\",\"\",'TD Siniestros Daños'!K93)","v":""},{"$f":"IF('TD Siniestros Daños'!L93=\"\",\"\",'TD Siniestros Daños'!L93)","v":""},{"$f":"IF('TD Siniestros Daños'!M93=\"\",\"\",'TD Siniestros Daños'!M93)","v":""}]
[null,{"$f":"IF('TD Siniestros Daños'!A94=\"\",\"\",'TD Siniestros Daños'!A94)","v":""},{"$f":"IF('TD Siniestros Daños'!B94=\"\",\"\",'TD Siniestros Daños'!B94)","v":""},{"$f":"IF('TD Siniestros Daños'!C94=\"\",\"\",'TD Siniestros Daños'!C94)","v":""},{"$f":"IF('TD Siniestros Daños'!D94=\"\",\"\",'TD Siniestros Daños'!D94)","v":""},{"$f":"IF('TD Siniestros Daños'!E94=\"\",\"\",'TD Siniestros Daños'!E94)","v":""},{"$f":"IF('TD Siniestros Daños'!F94=\"\",\"\",'TD Siniestros Daños'!F94)","v":""},{"$f":"IF('TD Siniestros Daños'!G94=\"\",\"\",'TD Siniestros Daños'!G94)","v":""},"",null,{"$f":"IF('TD Siniestros Daños'!H94=\"\",\"\",'TD Siniestros Daños'!H94)","v":""},{"$f":"IF('TD Siniestros Daños'!I94=\"\",\"\",'TD Siniestros Daños'!I94)","v":""},{"$f":"IF('TD Siniestros Daños'!J94=\"\",\"\",'TD Siniestros Daños'!J94)","v":""},{"$f":"IF('TD Siniestros Daños'!K94=\"\",\"\",'TD Siniestros Daños'!K94)","v":""},{"$f":"IF('TD Siniestros Daños'!L94=\"\",\"\",'TD Siniestros Daños'!L94)","v":""},{"$f":"IF('TD Siniestros Daños'!M94=\"\",\"\",'TD Siniestros Daños'!M94)","v":""}]
[null,{"$f":"IF('TD Siniestros Daños'!A95=\"\",\"\",'TD Siniestros Daños'!A95)","v":""},{"$f":"IF('TD Siniestros Daños'!B95=\"\",\"\",'TD Siniestros Daños'!B95)","v":""},{"$f":"IF('TD Siniestros Daños'!C95=\"\",\"\",'TD Siniestros Daños'!C95)","v":""},{"$f":"IF('TD Siniestros Daños'!D95=\"\",\"\",'TD Siniestros Daños'!D95)","v":""},{"$f":"IF('TD Siniestros Daños'!E95=\"\",\"\",'TD Siniestros Daños'!E95)","v":""},{"$f":"IF('TD Siniestros Daños'!F95=\"\",\"\",'TD Siniestros Daños'!F95)","v":""},{"$f":"IF('TD Siniestros Daños'!G95=\"\",\"\",'TD Siniestros Daños'!G95)","v":""},"",null,{"$f":"IF('TD Siniestros Daños'!H95=\"\",\"\",'TD Siniestros Daños'!H95)","v":""},{"$f":"IF('TD Siniestros Daños'!I95=\"\",\"\",'TD Siniestros Daños'!I95)","v":""},{"$f":"IF('TD Siniestros Daños'!J95=\"\",\"\",'TD Siniestros Daños'!J95)","v":""},{"$f":"IF('TD Siniestros Daños'!K95=\"\",\"\",'TD Siniestros Daños'!K95)","v":""},{"$f":"IF('TD Siniestros Daños'!L95=\"\",\"\",'TD Siniestros Daños'!L95)","v":""},{"$f":"IF('TD Siniestros Daños'!M95=\"\",\"\",'TD Siniestros Daños'!M95)","v":""}]
[null,{"$f":"IF('TD Siniestros Daños'!A96=\"\",\"\",'TD Siniestros Daños'!A96)","v":""},{"$f":"IF('TD Siniestros Daños'!B96=\"\",\"\",'TD Siniestros Daños'!B96)","v":""},{"$f":"IF('TD Siniestros Daños'!C96=\"\",\"\",'TD Siniestros Daños'!C96)","v":""},{"$f":"IF('TD Siniestros Daños'!D96=\"\",\"\",'TD Siniestros Daños'!D96)","v":""},{"$f":"IF('TD Siniestros Daños'!E96=\"\",\"\",'TD Siniestros Daños'!E96)","v":""},{"$f":"IF('TD Siniestros Daños'!F96=\"\",\"\",'TD Siniestros Daños'!F96)","v":""},{"$f":"IF('TD Siniestros Daños'!G96=\"\",\"\",'TD Siniestros Daños'!G96)","v":""},"",null,{"$f":"IF('TD Siniestros Daños'!H96=\"\",\"\",'TD Siniestros Daños'!H96)","v":""},{"$f":"IF('TD Siniestros Daños'!I96=\"\",\"\",'TD Siniestros Daños'!I96)","v":""},{"$f":"IF('TD Siniestros Daños'!J96=\"\",\"\",'TD Siniestros Daños'!J96)","v":""},{"$f":"IF('TD Siniestros Daños'!K96=\"\",\"\",'TD Siniestros Daños'!K96)","v":""},{"$f":"IF('TD Siniestros Daños'!L96=\"\",\"\",'TD Siniestros Daños'!L96)","v":""},{"$f":"IF('TD Siniestros Daños'!M96=\"\",\"\",'TD Siniestros Daños'!M96)","v":""}]
[null,{"$f":"IF('TD Siniestros Daños'!A97=\"\",\"\",'TD Siniestros Daños'!A97)","v":""},{"$f":"IF('TD Siniestros Daños'!B97=\"\",\"\",'TD Siniestros Daños'!B97)","v":""},{"$f":"IF('TD Siniestros Daños'!C97=\"\",\"\",'TD Siniestros Daños'!C97)","v":""},{"$f":"IF('TD Siniestros Daños'!D97=\"\",\"\",'TD Siniestros Daños'!D97)","v":""},{"$f":"IF('TD Siniestros Daños'!E97=\"\",\"\",'TD Siniestros Daños'!E97)","v":""},{"$f":"IF('TD Siniestros Daños'!F97=\"\",\"\",'TD Siniestros Daños'!F97)","v":""},{"$f":"IF('TD Siniestros Daños'!G97=\"\",\"\",'TD Siniestros Daños'!G97)","v":""},"",null,{"$f":"IF('TD Siniestros Daños'!H97=\"\",\"\",'TD Siniestros Daños'!H97)","v":""},{"$f":"IF('TD Siniestros Daños'!I97=\"\",\"\",'TD Siniestros Daños'!I97)","v":""},{"$f":"IF('TD Siniestros Daños'!J97=\"\",\"\",'TD Siniestros Daños'!J97)","v":""},{"$f":"IF('TD Siniestros Daños'!K97=\"\",\"\",'TD Siniestros Daños'!K97)","v":""},{"$f":"IF('TD Siniestros Daños'!L97=\"\",\"\",'TD Siniestros Daños'!L97)","v":""},{"$f":"IF('TD Siniestros Daños'!M97=\"\",\"\",'TD Siniestros Daños'!M97)","v":""}]
[null,{"$f":"IF('TD Siniestros Daños'!A98=\"\",\"\",'TD Siniestros Daños'!A98)","v":""},{"$f":"IF('TD Siniestros Daños'!B98=\"\",\"\",'TD Siniestros Daños'!B98)","v":""},{"$f":"IF('TD Siniestros Daños'!C98=\"\",\"\",'TD Siniestros Daños'!C98)","v":""},{"$f":"IF('TD Siniestros Daños'!D98=\"\",\"\",'TD Siniestros Daños'!D98)","v":""},{"$f":"IF('TD Siniestros Daños'!E98=\"\",\"\",'TD Siniestros Daños'!E98)","v":""},{"$f":"IF('TD Siniestros Daños'!F98=\"\",\"\",'TD Siniestros Daños'!F98)","v":""},{"$f":"IF('TD Siniestros Daños'!G98=\"\",\"\",'TD Siniestros Daños'!G98)","v":""},"",null,{"$f":"IF('TD Siniestros Daños'!H98=\"\",\"\",'TD Siniestros Daños'!H98)","v":""},{"$f":"IF('TD Siniestros Daños'!I98=\"\",\"\",'TD Siniestros Daños'!I98)","v":""},{"$f":"IF('TD Siniestros Daños'!J98=\"\",\"\",'TD Siniestros Daños'!J98)","v":""},{"$f":"IF('TD Siniestros Daños'!K98=\"\",\"\",'TD Siniestros Daños'!K98)","v":""},{"$f":"IF('TD Siniestros Daños'!L98=\"\",\"\",'TD Siniestros Daños'!L98)","v":""},{"$f":"IF('TD Siniestros Daños'!M98=\"\",\"\",'TD Siniestros Daños'!M98)","v":""}]
[null,{"$f":"IF('TD Siniestros Daños'!A99=\"\",\"\",'TD Siniestros Daños'!A99)","v":""},{"$f":"IF('TD Siniestros Daños'!B99=\"\",\"\",'TD Siniestros Daños'!B99)","v":""},{"$f":"IF('TD Siniestros Daños'!C99=\"\",\"\",'TD Siniestros Daños'!C99)","v":""},{"$f":"IF('TD Siniestros Daños'!D99=\"\",\"\",'TD Siniestros Daños'!D99)","v":""},{"$f":"IF('TD Siniestros Daños'!E99=\"\",\"\",'TD Siniestros Daños'!E99)","v":""},{"$f":"IF('TD Siniestros Daños'!F99=\"\",\"\",'TD Siniestros Daños'!F99)","v":""},{"$f":"IF('TD Siniestros Daños'!G99=\"\",\"\",'TD Siniestros Daños'!G99)","v":""},"",null,{"$f":"IF('TD Siniestros Daños'!H99=\"\",\"\",'TD Siniestros Daños'!H99)","v":""},{"$f":"IF('TD Siniestros Daños'!I99=\"\",\"\",'TD Siniestros Daños'!I99)","v":""},{"$f":"IF('TD Siniestros Daños'!J99=\"\",\"\",'TD Siniestros Daños'!J99)","v":""},{"$f":"IF('TD Siniestros Daños'!K99=\"\",\"\",'TD Siniestros Daños'!K99)","v":""},{"$f":"IF('TD Siniestros Daños'!L99=\"\",\"\",'TD Siniestros Daños'!L99)","v":""},{"$f":"IF('TD Siniestros Daños'!M99=\"\",\"\",'TD Siniestros Daños'!M99)","v":""}]
[null,{"$f":"IF('TD Siniestros Daños'!A100=\"\",\"\",'TD Siniestros Daños'!A100)","v":""},{"$f":"IF('TD Siniestros Daños'!B100=\"\",\"\",'TD Siniestros Daños'!B100)","v":""},{"$f":"IF('TD Siniestros Daños'!C100=\"\",\"\",'TD Siniestros Daños'!C100)","v":""},{"$f":"IF('TD Siniestros Daños'!D100=\"\",\"\",'TD Siniestros Daños'!D100)","v":""},{"$f":"IF('TD Siniestros Daños'!E100=\"\",\"\",'TD Siniestros Daños'!E100)","v":""},{"$f":"IF('TD Siniestros Daños'!F100=\"\",\"\",'TD Siniestros Daños'!F100)","v":""},{"$f":"IF('TD Siniestros Daños'!G100=\"\",\"\",'TD Siniestros Daños'!G100)","v":""},"",null,{"$f":"IF('TD Siniestros Daños'!H100=\"\",\"\",'TD Siniestros Daños'!H100)","v":""},{"$f":"IF('TD Siniestros Daños'!I100=\"\",\"\",'TD Siniestros Daños'!I100)","v":""},{"$f":"IF('TD Siniestros Daños'!J100=\"\",\"\",'TD Siniestros Daños'!J100)","v":""},{"$f":"IF('TD Siniestros Daños'!K100=\"\",\"\",'TD Siniestros Daños'!K100)","v":""},{"$f":"IF('TD Siniestros Daños'!L100=\"\",\"\",'TD Siniestros Daños'!L100)","v":""},{"$f":"IF('TD Siniestros Daños'!M100=\"\",\"\",'TD Siniestros Daños'!M100)","v":""}]
[null,{"$f":"IF('TD Siniestros Daños'!A101=\"\",\"\",'TD Siniestros Daños'!A101)","v":""},{"$f":"IF('TD Siniestros Daños'!B101=\"\",\"\",'TD Siniestros Daños'!B101)","v":""},{"$f":"IF('TD Siniestros Daños'!C101=\"\",\"\",'TD Siniestros Daños'!C101)","v":""},{"$f":"IF('TD Siniestros Daños'!D101=\"\",\"\",'TD Siniestros Daños'!D101)","v":""},{"$f":"IF('TD Siniestros Daños'!E101=\"\",\"\",'TD Siniestros Daños'!E101)","v":""},{"$f":"IF('TD Siniestros Daños'!F101=\"\",\"\",'TD Siniestros Daños'!F101)","v":""},{"$f":"IF('TD Siniestros Daños'!G101=\"\",\"\",'TD Siniestros Daños'!G101)","v":""},"",null,{"$f":"IF('TD Siniestros Daños'!H101=\"\",\"\",'TD Siniestros Daños'!H101)","v":""},{"$f":"IF('TD Siniestros Daños'!I101=\"\",\"\",'TD Siniestros Daños'!I101)","v":""},{"$f":"IF('TD Siniestros Daños'!J101=\"\",\"\",'TD Siniestros Daños'!J101)","v":""},{"$f":"IF('TD Siniestros Daños'!K101=\"\",\"\",'TD Siniestros Daños'!K101)","v":""},{"$f":"IF('TD Siniestros Daños'!L101=\"\",\"\",'TD Siniestros Daños'!L101)","v":""},{"$f":"IF('TD Siniestros Daños'!M101=\"\",\"\",'TD Siniestros Daños'!M101)","v":""}]
[null,{"$f":"IF('TD Siniestros Daños'!A102=\"\",\"\",'TD Siniestros Daños'!A102)","v":""},{"$f":"IF('TD Siniestros Daños'!B102=\"\",\"\",'TD Siniestros Daños'!B102)","v":""},{"$f":"IF('TD Siniestros Daños'!C102=\"\",\"\",'TD Siniestros Daños'!C102)","v":""},{"$f":"IF('TD Siniestros Daños'!D102=\"\",\"\",'TD Siniestros Daños'!D102)","v":""},{"$f":"IF('TD Siniestros Daños'!E102=\"\",\"\",'TD Siniestros Daños'!E102)","v":""},{"$f":"IF('TD Siniestros Daños'!F102=\"\",\"\",'TD Siniestros Daños'!F102)","v":""},{"$f":"IF('TD Siniestros Daños'!G102=\"\",\"\",'TD Siniestros Daños'!G102)","v":""},"",null,{"$f":"IF('TD Siniestros Daños'!H102=\"\",\"\",'TD Siniestros Daños'!H102)","v":""},{"$f":"IF('TD Siniestros Daños'!I102=\"\",\"\",'TD Siniestros Daños'!I102)","v":""},{"$f":"IF('TD Siniestros Daños'!J102=\"\",\"\",'TD Siniestros Daños'!J102)","v":""},{"$f":"IF('TD Siniestros Daños'!K102=\"\",\"\",'TD Siniestros Daños'!K102)","v":""},{"$f":"IF('TD Siniestros Daños'!L102=\"\",\"\",'TD Siniestros Daños'!L102)","v":""},{"$f":"IF('TD Siniestros Daños'!M102=\"\",\"\",'TD Siniestros Daños'!M102)","v":""}]
[null,{"$f":"IF('TD Siniestros Daños'!A103=\"\",\"\",'TD Siniestros Daños'!A103)","v":""},{"$f":"IF('TD Siniestros Daños'!B103=\"\",\"\",'TD Siniestros Daños'!B103)","v":""},{"$f":"IF('TD Siniestros Daños'!C103=\"\",\"\",'TD Siniestros Daños'!C103)","v":""},{"$f":"IF('TD Siniestros Daños'!D103=\"\",\"\",'TD Siniestros Daños'!D103)","v":""},{"$f":"IF('TD Siniestros Daños'!E103=\"\",\"\",'TD Siniestros Daños'!E103)","v":""},{"$f":"IF('TD Siniestros Daños'!F103=\"\",\"\",'TD Siniestros Daños'!F103)","v":""},{"$f":"IF('TD Siniestros Daños'!G103=\"\",\"\",'TD Siniestros Daños'!G103)","v":""},"",null,{"$f":"IF('TD Siniestros Daños'!H103=\"\",\"\",'TD Siniestros Daños'!H103)","v":""},{"$f":"IF('TD Siniestros Daños'!I103=\"\",\"\",'TD Siniestros Daños'!I103)","v":""},{"$f":"IF('TD Siniestros Daños'!J103=\"\",\"\",'TD Siniestros Daños'!J103)","v":""},{"$f":"IF('TD Siniestros Daños'!K103=\"\",\"\",'TD Siniestros Daños'!K103)","v":""},{"$f":"IF('TD Siniestros Daños'!L103=\"\",\"\",'TD Siniestros Daños'!L103)","v":""},{"$f":"IF('TD Siniestros Daños'!M103=\"\",\"\",'TD Siniestros Daños'!M103)","v":""}]
[null,{"$f":"IF('TD Siniestros Daños'!A104=\"\",\"\",'TD Siniestros Daños'!A104)","v":""},{"$f":"IF('TD Siniestros Daños'!B104=\"\",\"\",'TD Siniestros Daños'!B104)","v":""},{"$f":"IF('TD Siniestros Daños'!C104=\"\",\"\",'TD Siniestros Daños'!C104)","v":""},{"$f":"IF('TD Siniestros Daños'!D104=\"\",\"\",'TD Siniestros Daños'!D104)","v":""},{"$f":"IF('TD Siniestros Daños'!E104=\"\",\"\",'TD Siniestros Daños'!E104)","v":""},{"$f":"IF('TD Siniestros Daños'!F104=\"\",\"\",'TD Siniestros Daños'!F104)","v":""},{"$f":"IF('TD Siniestros Daños'!G104=\"\",\"\",'TD Siniestros Daños'!G104)","v":""},"",null,{"$f":"IF('TD Siniestros Daños'!H104=\"\",\"\",'TD Siniestros Daños'!H104)","v":""},{"$f":"IF('TD Siniestros Daños'!I104=\"\",\"\",'TD Siniestros Daños'!I104)","v":""},{"$f":"IF('TD Siniestros Daños'!J104=\"\",\"\",'TD Siniestros Daños'!J104)","v":""},{"$f":"IF('TD Siniestros Daños'!K104=\"\",\"\",'TD Siniestros Daños'!K104)","v":""},{"$f":"IF('TD Siniestros Daños'!L104=\"\",\"\",'TD Siniestros Daños'!L104)","v":""},{"$f":"IF('TD Siniestros Daños'!M104=\"\",\"\",'TD Siniestros Daños'!M104)","v":""}]
[null,{"$f":"IF('TD Siniestros Daños'!A105=\"\",\"\",'TD Siniestros Daños'!A105)","v":""},{"$f":"IF('TD Siniestros Daños'!B105=\"\",\"\",'TD Siniestros Daños'!B105)","v":""},{"$f":"IF('TD Siniestros Daños'!C105=\"\",\"\",'TD Siniestros Daños'!C105)","v":""},{"$f":"IF('TD Siniestros Daños'!D105=\"\",\"\",'TD Siniestros Daños'!D105)","v":""},{"$f":"IF('TD Siniestros Daños'!E105=\"\",\"\",'TD Siniestros Daños'!E105)","v":""},{"$f":"IF('TD Siniestros Daños'!F105=\"\",\"\",'TD Siniestros Daños'!F105)","v":""},{"$f":"IF('TD Siniestros Daños'!G105=\"\",\"\",'TD Siniestros Daños'!G105)","v":""},"",null,{"$f":"IF('TD Siniestros Daños'!H105=\"\",\"\",'TD Siniestros Daños'!H105)","v":""},{"$f":"IF('TD Siniestros Daños'!I105=\"\",\"\",'TD Siniestros Daños'!I105)","v":""},{"$f":"IF('TD Siniestros Daños'!J105=\"\",\"\",'TD Siniestros Daños'!J105)","v":""},{"$f":"IF('TD Siniestros Daños'!K105=\"\",\"\",'TD Siniestros Daños'!K105)","v":""},{"$f":"IF('TD Siniestros Daños'!L105=\"\",\"\",'TD Siniestros Daños'!L105)","v":""},{"$f":"IF('TD Siniestros Daños'!M105=\"\",\"\",'TD Siniestros Daños'!M105)","v":""}]
[null,{"$f":"IF('TD Siniestros Daños'!A106=\"\",\"\",'TD Siniestros Daños'!A106)","v":""},{"$f":"IF('TD Siniestros Daños'!B106=\"\",\"\",'TD Siniestros Daños'!B106)","v":""},{"$f":"IF('TD Siniestros Daños'!C106=\"\",\"\",'TD Siniestros Daños'!C106)","v":""},{"$f":"IF('TD Siniestros Daños'!D106=\"\",\"\",'TD Siniestros Daños'!D106)","v":""},{"$f":"IF('TD Siniestros Daños'!E106=\"\",\"\",'TD Siniestros Daños'!E106)","v":""},{"$f":"IF('TD Siniestros Daños'!F106=\"\",\"\",'TD Siniestros Daños'!F106)","v":""},{"$f":"IF('TD Siniestros Daños'!G106=\"\",\"\",'TD Siniestros Daños'!G106)","v":""},"",null,{"$f":"IF('TD Siniestros Daños'!H106=\"\",\"\",'TD Siniestros Daños'!H106)","v":""},{"$f":"IF('TD Siniestros Daños'!I106=\"\",\"\",'TD Siniestros Daños'!I106)","v":""},{"$f":"IF('TD Siniestros Daños'!J106=\"\",\"\",'TD Siniestros Daños'!J106)","v":""},{"$f":"IF('TD Siniestros Daños'!K106=\"\",\"\",'TD Siniestros Daños'!K106)","v":""},{"$f":"IF('TD Siniestros Daños'!L106=\"\",\"\",'TD Siniestros Daños'!L106)","v":""},{"$f":"IF('TD Siniestros Daños'!M106=\"\",\"\",'TD Siniestros Daños'!M106)","v":""}]
[null,{"$f":"IF('TD Siniestros Daños'!A107=\"\",\"\",'TD Siniestros Daños'!A107)","v":""},{"$f":"IF('TD Siniestros Daños'!B107=\"\",\"\",'TD Siniestros Daños'!B107)","v":""},{"$f":"IF('TD Siniestros Daños'!C107=\"\",\"\",'TD Siniestros Daños'!C107)","v":""},{"$f":"IF('TD Siniestros Daños'!D107=\"\",\"\",'TD Siniestros Daños'!D107)","v":""},{"$f":"IF('TD Siniestros Daños'!E107=\"\",\"\",'TD Siniestros Daños'!E107)","v":""},{"$f":"IF('TD Siniestros Daños'!F107=\"\",\"\",'TD Siniestros Daños'!F107)","v":""},{"$f":"IF('TD Siniestros Daños'!G107=\"\",\"\",'TD Siniestros Daños'!G107)","v":""},"",null,{"$f":"IF('TD Siniestros Daños'!H107=\"\",\"\",'TD Siniestros Daños'!H107)","v":""},{"$f":"IF('TD Siniestros Daños'!I107=\"\",\"\",'TD Siniestros Daños'!I107)","v":""},{"$f":"IF('TD Siniestros Daños'!J107=\"\",\"\",'TD Siniestros Daños'!J107)","v":""},{"$f":"IF('TD Siniestros Daños'!K107=\"\",\"\",'TD Siniestros Daños'!K107)","v":""},{"$f":"IF('TD Siniestros Daños'!L107=\"\",\"\",'TD Siniestros Daños'!L107)","v":""},{"$f":"IF('TD Siniestros Daños'!M107=\"\",\"\",'TD Siniestros Daños'!M107)","v":""}]
[null,{"$f":"IF('TD Siniestros Daños'!A108=\"\",\"\",'TD Siniestros Daños'!A108)","v":""},{"$f":"IF('TD Siniestros Daños'!B108=\"\",\"\",'TD Siniestros Daños'!B108)","v":""},{"$f":"IF('TD Siniestros Daños'!C108=\"\",\"\",'TD Siniestros Daños'!C108)","v":""},{"$f":"IF('TD Siniestros Daños'!D108=\"\",\"\",'TD Siniestros Daños'!D108)","v":""},{"$f":"IF('TD Siniestros Daños'!E108=\"\",\"\",'TD Siniestros Daños'!E108)","v":""},{"$f":"IF('TD Siniestros Daños'!F108=\"\",\"\",'TD Siniestros Daños'!F108)","v":""},{"$f":"IF('TD Siniestros Daños'!G108=\"\",\"\",'TD Siniestros Daños'!G108)","v":""},"",null,{"$f":"IF('TD Siniestros Daños'!H108=\"\",\"\",'TD Siniestros Daños'!H108)","v":""},{"$f":"IF('TD Siniestros Daños'!I108=\"\",\"\",'TD Siniestros Daños'!I108)","v":""},{"$f":"IF('TD Siniestros Daños'!J108=\"\",\"\",'TD Siniestros Daños'!J108)","v":""},{"$f":"IF('TD Siniestros Daños'!K108=\"\",\"\",'TD Siniestros Daños'!K108)","v":""},{"$f":"IF('TD Siniestros Daños'!L108=\"\",\"\",'TD Siniestros Daños'!L108)","v":""},{"$f":"IF('TD Siniestros Daños'!M108=\"\",\"\",'TD Siniestros Daños'!M108)","v":""}]
[null,{"$f":"IF('TD Siniestros Daños'!A109=\"\",\"\",'TD Siniestros Daños'!A109)","v":""},{"$f":"IF('TD Siniestros Daños'!B109=\"\",\"\",'TD Siniestros Daños'!B109)","v":""},{"$f":"IF('TD Siniestros Daños'!C109=\"\",\"\",'TD Siniestros Daños'!C109)","v":""},{"$f":"IF('TD Siniestros Daños'!D109=\"\",\"\",'TD Siniestros Daños'!D109)","v":""},{"$f":"IF('TD Siniestros Daños'!E109=\"\",\"\",'TD Siniestros Daños'!E109)","v":""},{"$f":"IF('TD Siniestros Daños'!F109=\"\",\"\",'TD Siniestros Daños'!F109)","v":""},{"$f":"IF('TD Siniestros Daños'!G109=\"\",\"\",'TD Siniestros Daños'!G109)","v":""},"",null,{"$f":"IF('TD Siniestros Daños'!H109=\"\",\"\",'TD Siniestros Daños'!H109)","v":""},{"$f":"IF('TD Siniestros Daños'!I109=\"\",\"\",'TD Siniestros Daños'!I109)","v":""},{"$f":"IF('TD Siniestros Daños'!J109=\"\",\"\",'TD Siniestros Daños'!J109)","v":""},{"$f":"IF('TD Siniestros Daños'!K109=\"\",\"\",'TD Siniestros Daños'!K109)","v":""},{"$f":"IF('TD Siniestros Daños'!L109=\"\",\"\",'TD Siniestros Daños'!L109)","v":""},{"$f":"IF('TD Siniestros Daños'!M109=\"\",\"\",'TD Siniestros Daños'!M109)","v":""}]
[null,{"$f":"IF('TD Siniestros Daños'!A110=\"\",\"\",'TD Siniestros Daños'!A110)","v":""},{"$f":"IF('TD Siniestros Daños'!B110=\"\",\"\",'TD Siniestros Daños'!B110)","v":""},{"$f":"IF('TD Siniestros Daños'!C110=\"\",\"\",'TD Siniestros Daños'!C110)","v":""},{"$f":"IF('TD Siniestros Daños'!D110=\"\",\"\",'TD Siniestros Daños'!D110)","v":""},{"$f":"IF('TD Siniestros Daños'!E110=\"\",\"\",'TD Siniestros Daños'!E110)","v":""},{"$f":"IF('TD Siniestros Daños'!F110=\"\",\"\",'TD Siniestros Daños'!F110)","v":""},{"$f":"IF('TD Siniestros Daños'!G110=\"\",\"\",'TD Siniestros Daños'!G110)","v":""},"",null,{"$f":"IF('TD Siniestros Daños'!H110=\"\",\"\",'TD Siniestros Daños'!H110)","v":""},{"$f":"IF('TD Siniestros Daños'!I110=\"\",\"\",'TD Siniestros Daños'!I110)","v":""},{"$f":"IF('TD Siniestros Daños'!J110=\"\",\"\",'TD Siniestros Daños'!J110)","v":""},{"$f":"IF('TD Siniestros Daños'!K110=\"\",\"\",'TD Siniestros Daños'!K110)","v":""},{"$f":"IF('TD Siniestros Daños'!L110=\"\",\"\",'TD Siniestros Daños'!L110)","v":""},{"$f":"IF('TD Siniestros Daños'!M110=\"\",\"\",'TD Siniestros Daños'!M110)","v":""}]
[null,{"$f":"IF('TD Siniestros Daños'!A111=\"\",\"\",'TD Siniestros Daños'!A111)","v":""},{"$f":"IF('TD Siniestros Daños'!B111=\"\",\"\",'TD Siniestros Daños'!B111)","v":""},{"$f":"IF('TD Siniestros Daños'!C111=\"\",\"\",'TD Siniestros Daños'!C111)","v":""},{"$f":"IF('TD Siniestros Daños'!D111=\"\",\"\",'TD Siniestros Daños'!D111)","v":""},{"$f":"IF('TD Siniestros Daños'!E111=\"\",\"\",'TD Siniestros Daños'!E111)","v":""},{"$f":"IF('TD Siniestros Daños'!F111=\"\",\"\",'TD Siniestros Daños'!F111)","v":""},{"$f":"IF('TD Siniestros Daños'!G111=\"\",\"\",'TD Siniestros Daños'!G111)","v":""},"",null,{"$f":"IF('TD Siniestros Daños'!H111=\"\",\"\",'TD Siniestros Daños'!H111)","v":""},{"$f":"IF('TD Siniestros Daños'!I111=\"\",\"\",'TD Siniestros Daños'!I111)","v":""},{"$f":"IF('TD Siniestros Daños'!J111=\"\",\"\",'TD Siniestros Daños'!J111)","v":""},{"$f":"IF('TD Siniestros Daños'!K111=\"\",\"\",'TD Siniestros Daños'!K111)","v":""},{"$f":"IF('TD Siniestros Daños'!L111=\"\",\"\",'TD Siniestros Daños'!L111)","v":""},{"$f":"IF('TD Siniestros Daños'!M111=\"\",\"\",'TD Siniestros Daños'!M111)","v":""}]
[null,{"$f":"IF('TD Siniestros Daños'!A112=\"\",\"\",'TD Siniestros Daños'!A112)","v":""},{"$f":"IF('TD Siniestros Daños'!B112=\"\",\"\",'TD Siniestros Daños'!B112)","v":""},{"$f":"IF('TD Siniestros Daños'!C112=\"\",\"\",'TD Siniestros Daños'!C112)","v":""},{"$f":"IF('TD Siniestros Daños'!D112=\"\",\"\",'TD Siniestros Daños'!D112)","v":""},{"$f":"IF('TD Siniestros Daños'!E112=\"\",\"\",'TD Siniestros Daños'!E112)","v":""},{"$f":"IF('TD Siniestros Daños'!F112=\"\",\"\",'TD Siniestros Daños'!F112)","v":""},{"$f":"IF('TD Siniestros Daños'!G112=\"\",\"\",'TD Siniestros Daños'!G112)","v":""},"",null,{"$f":"IF('TD Siniestros Daños'!H112=\"\",\"\",'TD Siniestros Daños'!H112)","v":""},{"$f":"IF('TD Siniestros Daños'!I112=\"\",\"\",'TD Siniestros Daños'!I112)","v":""},{"$f":"IF('TD Siniestros Daños'!J112=\"\",\"\",'TD Siniestros Daños'!J112)","v":""},{"$f":"IF('TD Siniestros Daños'!K112=\"\",\"\",'TD Siniestros Daños'!K112)","v":""},{"$f":"IF('TD Siniestros Daños'!L112=\"\",\"\",'TD Siniestros Daños'!L112)","v":""},{"$f":"IF('TD Siniestros Daños'!M112=\"\",\"\",'TD Siniestros Daños'!M112)","v":""}]
[null,{"$f":"IF('TD Siniestros Daños'!A113=\"\",\"\",'TD Siniestros Daños'!A113)","v":""},{"$f":"IF('TD Siniestros Daños'!B113=\"\",\"\",'TD Siniestros Daños'!B113)","v":""},{"$f":"IF('TD Siniestros Daños'!C113=\"\",\"\",'TD Siniestros Daños'!C113)","v":""},{"$f":"IF('TD Siniestros Daños'!D113=\"\",\"\",'TD Siniestros Daños'!D113)","v":""},{"$f":"IF('TD Siniestros Daños'!E113=\"\",\"\",'TD Siniestros Daños'!E113)","v":""},{"$f":"IF('TD Siniestros Daños'!F113=\"\",\"\",'TD Siniestros Daños'!F113)","v":""},{"$f":"IF('TD Siniestros Daños'!G113=\"\",\"\",'TD Siniestros Daños'!G113)","v":""},"",null,{"$f":"IF('TD Siniestros Daños'!H113=\"\",\"\",'TD Siniestros Daños'!H113)","v":""},{"$f":"IF('TD Siniestros Daños'!I113=\"\",\"\",'TD Siniestros Daños'!I113)","v":""},{"$f":"IF('TD Siniestros Daños'!J113=\"\",\"\",'TD Siniestros Daños'!J113)","v":""},{"$f":"IF('TD Siniestros Daños'!K113=\"\",\"\",'TD Siniestros Daños'!K113)","v":""},{"$f":"IF('TD Siniestros Daños'!L113=\"\",\"\",'TD Siniestros Daños'!L113)","v":""},{"$f":"IF('TD Siniestros Daños'!M113=\"\",\"\",'TD Siniestros Daños'!M113)","v":""}]
[null,{"$f":"IF('TD Siniestros Daños'!A114=\"\",\"\",'TD Siniestros Daños'!A114)","v":""},{"$f":"IF('TD Siniestros Daños'!B114=\"\",\"\",'TD Siniestros Daños'!B114)","v":""},{"$f":"IF('TD Siniestros Daños'!C114=\"\",\"\",'TD Siniestros Daños'!C114)","v":""},{"$f":"IF('TD Siniestros Daños'!D114=\"\",\"\",'TD Siniestros Daños'!D114)","v":""},{"$f":"IF('TD Siniestros Daños'!E114=\"\",\"\",'TD Siniestros Daños'!E114)","v":""},{"$f":"IF('TD Siniestros Daños'!F114=\"\",\"\",'TD Siniestros Daños'!F114)","v":""},{"$f":"IF('TD Siniestros Daños'!G114=\"\",\"\",'TD Siniestros Daños'!G114)","v":""},"",null,{"$f":"IF('TD Siniestros Daños'!H114=\"\",\"\",'TD Siniestros Daños'!H114)","v":""},{"$f":"IF('TD Siniestros Daños'!I114=\"\",\"\",'TD Siniestros Daños'!I114)","v":""},{"$f":"IF('TD Siniestros Daños'!J114=\"\",\"\",'TD Siniestros Daños'!J114)","v":""},{"$f":"IF('TD Siniestros Daños'!K114=\"\",\"\",'TD Siniestros Daños'!K114)","v":""},{"$f":"IF('TD Siniestros Daños'!L114=\"\",\"\",'TD Siniestros Daños'!L114)","v":""},{"$f":"IF('TD Siniestros Daños'!M114=\"\",\"\",'TD Siniestros Daños'!M114)","v":""}]
[null,{"$f":"IF('TD Siniestros Daños'!A115=\"\",\"\",'TD Siniestros Daños'!A115)","v":""},{"$f":"IF('TD Siniestros Daños'!B115=\"\",\"\",'TD Siniestros Daños'!B115)","v":""},{"$f":"IF('TD Siniestros Daños'!C115=\"\",\"\",'TD Siniestros Daños'!C115)","v":""},{"$f":"IF('TD Siniestros Daños'!D115=\"\",\"\",'TD Siniestros Daños'!D115)","v":""},{"$f":"IF('TD Siniestros Daños'!E115=\"\",\"\",'TD Siniestros Daños'!E115)","v":""},{"$f":"IF('TD Siniestros Daños'!F115=\"\",\"\",'TD Siniestros Daños'!F115)","v":""},{"$f":"IF('TD Siniestros Daños'!G115=\"\",\"\",'TD Siniestros Daños'!G115)","v":""},"",null,{"$f":"IF('TD Siniestros Daños'!H115=\"\",\"\",'TD Siniestros Daños'!H115)","v":""},{"$f":"IF('TD Siniestros Daños'!I115=\"\",\"\",'TD Siniestros Daños'!I115)","v":""},{"$f":"IF('TD Siniestros Daños'!J115=\"\",\"\",'TD Siniestros Daños'!J115)","v":""},{"$f":"IF('TD Siniestros Daños'!K115=\"\",\"\",'TD Siniestros Daños'!K115)","v":""},{"$f":"IF('TD Siniestros Daños'!L115=\"\",\"\",'TD Siniestros Daños'!L115)","v":""},{"$f":"IF('TD Siniestros Daños'!M115=\"\",\"\",'TD Siniestros Daños'!M115)","v":""}]
[null,{"$f":"IF('TD Siniestros Daños'!A116=\"\",\"\",'TD Siniestros Daños'!A116)","v":""},{"$f":"IF('TD Siniestros Daños'!B116=\"\",\"\",'TD Siniestros Daños'!B116)","v":""},{"$f":"IF('TD Siniestros Daños'!C116=\"\",\"\",'TD Siniestros Daños'!C116)","v":""},{"$f":"IF('TD Siniestros Daños'!D116=\"\",\"\",'TD Siniestros Daños'!D116)","v":""},{"$f":"IF('TD Siniestros Daños'!E116=\"\",\"\",'TD Siniestros Daños'!E116)","v":""},{"$f":"IF('TD Siniestros Daños'!F116=\"\",\"\",'TD Siniestros Daños'!F116)","v":""},{"$f":"IF('TD Siniestros Daños'!G116=\"\",\"\",'TD Siniestros Daños'!G116)","v":""},"",null,{"$f":"IF('TD Siniestros Daños'!H116=\"\",\"\",'TD Siniestros Daños'!H116)","v":""},{"$f":"IF('TD Siniestros Daños'!I116=\"\",\"\",'TD Siniestros Daños'!I116)","v":""},{"$f":"IF('TD Siniestros Daños'!J116=\"\",\"\",'TD Siniestros Daños'!J116)","v":""},{"$f":"IF('TD Siniestros Daños'!K116=\"\",\"\",'TD Siniestros Daños'!K116)","v":""},{"$f":"IF('TD Siniestros Daños'!L116=\"\",\"\",'TD Siniestros Daños'!L116)","v":""},{"$f":"IF('TD Siniestros Daños'!M116=\"\",\"\",'TD Siniestros Daños'!M116)","v":""}]
[null,{"$f":"IF('TD Siniestros Daños'!A117=\"\",\"\",'TD Siniestros Daños'!A117)","v":""},{"$f":"IF('TD Siniestros Daños'!B117=\"\",\"\",'TD Siniestros Daños'!B117)","v":""},{"$f":"IF('TD Siniestros Daños'!C117=\"\",\"\",'TD Siniestros Daños'!C117)","v":""},{"$f":"IF('TD Siniestros Daños'!D117=\"\",\"\",'TD Siniestros Daños'!D117)","v":""},{"$f":"IF('TD Siniestros Daños'!E117=\"\",\"\",'TD Siniestros Daños'!E117)","v":""},{"$f":"IF('TD Siniestros Daños'!F117=\"\",\"\",'TD Siniestros Daños'!F117)","v":""},{"$f":"IF('TD Siniestros Daños'!G117=\"\",\"\",'TD Siniestros Daños'!G117)","v":""},"",null,{"$f":"IF('TD Siniestros Daños'!H117=\"\",\"\",'TD Siniestros Daños'!H117)","v":""},{"$f":"IF('TD Siniestros Daños'!I117=\"\",\"\",'TD Siniestros Daños'!I117)","v":""},{"$f":"IF('TD Siniestros Daños'!J117=\"\",\"\",'TD Siniestros Daños'!J117)","v":""},{"$f":"IF('TD Siniestros Daños'!K117=\"\",\"\",'TD Siniestros Daños'!K117)","v":""},{"$f":"IF('TD Siniestros Daños'!L117=\"\",\"\",'TD Siniestros Daños'!L117)","v":""},{"$f":"IF('TD Siniestros Daños'!M117=\"\",\"\",'TD Siniestros Daños'!M117)","v":""}]
[null,{"$f":"IF('TD Siniestros Daños'!A118=\"\",\"\",'TD Siniestros Daños'!A118)","v":""},{"$f":"IF('TD Siniestros Daños'!B118=\"\",\"\",'TD Siniestros Daños'!B118)","v":""},{"$f":"IF('TD Siniestros Daños'!C118=\"\",\"\",'TD Siniestros Daños'!C118)","v":""},{"$f":"IF('TD Siniestros Daños'!D118=\"\",\"\",'TD Siniestros Daños'!D118)","v":""},{"$f":"IF('TD Siniestros Daños'!E118=\"\",\"\",'TD Siniestros Daños'!E118)","v":""},{"$f":"IF('TD Siniestros Daños'!F118=\"\",\"\",'TD Siniestros Daños'!F118)","v":""},{"$f":"IF('TD Siniestros Daños'!G118=\"\",\"\",'TD Siniestros Daños'!G118)","v":""},"",null,{"$f":"IF('TD Siniestros Daños'!H118=\"\",\"\",'TD Siniestros Daños'!H118)","v":""},{"$f":"IF('TD Siniestros Daños'!I118=\"\",\"\",'TD Siniestros Daños'!I118)","v":""},{"$f":"IF('TD Siniestros Daños'!J118=\"\",\"\",'TD Siniestros Daños'!J118)","v":""},{"$f":"IF('TD Siniestros Daños'!K118=\"\",\"\",'TD Siniestros Daños'!K118)","v":""},{"$f":"IF('TD Siniestros Daños'!L118=\"\",\"\",'TD Siniestros Daños'!L118)","v":""},{"$f":"IF('TD Siniestros Daños'!M118=\"\",\"\",'TD Siniestros Daños'!M118)","v":""}]
[null,{"$f":"IF('TD Siniestros Daños'!A119=\"\",\"\",'TD Siniestros Daños'!A119)","v":""},{"$f":"IF('TD Siniestros Daños'!B119=\"\",\"\",'TD Siniestros Daños'!B119)","v":""},{"$f":"IF('TD Siniestros Daños'!C119=\"\",\"\",'TD Siniestros Daños'!C119)","v":""},{"$f":"IF('TD Siniestros Daños'!D119=\"\",\"\",'TD Siniestros Daños'!D119)","v":""},{"$f":"IF('TD Siniestros Daños'!E119=\"\",\"\",'TD Siniestros Daños'!E119)","v":""},{"$f":"IF('TD Siniestros Daños'!F119=\"\",\"\",'TD Siniestros Daños'!F119)","v":""},{"$f":"IF('TD Siniestros Daños'!G119=\"\",\"\",'TD Siniestros Daños'!G119)","v":""},"",null,{"$f":"IF('TD Siniestros Daños'!H119=\"\",\"\",'TD Siniestros Daños'!H119)","v":""},{"$f":"IF('TD Siniestros Daños'!I119=\"\",\"\",'TD Siniestros Daños'!I119)","v":""},{"$f":"IF('TD Siniestros Daños'!J119=\"\",\"\",'TD Siniestros Daños'!J119)","v":""},{"$f":"IF('TD Siniestros Daños'!K119=\"\",\"\",'TD Siniestros Daños'!K119)","v":""},{"$f":"IF('TD Siniestros Daños'!L119=\"\",\"\",'TD Siniestros Daños'!L119)","v":""},{"$f":"IF('TD Siniestros Daños'!M119=\"\",\"\",'TD Siniestros Daños'!M119)","v":""}]
[null,{"$f":"IF('TD Siniestros Daños'!A120=\"\",\"\",'TD Siniestros Daños'!A120)","v":""},{"$f":"IF('TD Siniestros Daños'!B120=\"\",\"\",'TD Siniestros Daños'!B120)","v":""},{"$f":"IF('TD Siniestros Daños'!C120=\"\",\"\",'TD Siniestros Daños'!C120)","v":""},{"$f":"IF('TD Siniestros Daños'!D120=\"\",\"\",'TD Siniestros Daños'!D120)","v":""},{"$f":"IF('TD Siniestros Daños'!E120=\"\",\"\",'TD Siniestros Daños'!E120)","v":""},{"$f":"IF('TD Siniestros Daños'!F120=\"\",\"\",'TD Siniestros Daños'!F120)","v":""},{"$f":"IF('TD Siniestros Daños'!G120=\"\",\"\",'TD Siniestros Daños'!G120)","v":""},"",null,{"$f":"IF('TD Siniestros Daños'!H120=\"\",\"\",'TD Siniestros Daños'!H120)","v":""},{"$f":"IF('TD Siniestros Daños'!I120=\"\",\"\",'TD Siniestros Daños'!I120)","v":""},{"$f":"IF('TD Siniestros Daños'!J120=\"\",\"\",'TD Siniestros Daños'!J120)","v":""},{"$f":"IF('TD Siniestros Daños'!K120=\"\",\"\",'TD Siniestros Daños'!K120)","v":""},{"$f":"IF('TD Siniestros Daños'!L120=\"\",\"\",'TD Siniestros Daños'!L120)","v":""},{"$f":"IF('TD Siniestros Daños'!M120=\"\",\"\",'TD Siniestros Daños'!M120)","v":""}]
[null,{"$f":"IF('TD Siniestros Daños'!A121=\"\",\"\",'TD Siniestros Daños'!A121)","v":""},{"$f":"IF('TD Siniestros Daños'!B121=\"\",\"\",'TD Siniestros Daños'!B121)","v":""},{"$f":"IF('TD Siniestros Daños'!C121=\"\",\"\",'TD Siniestros Daños'!C121)","v":""},{"$f":"IF('TD Siniestros Daños'!D121=\"\",\"\",'TD Siniestros Daños'!D121)","v":""},{"$f":"IF('TD Siniestros Daños'!E121=\"\",\"\",'TD Siniestros Daños'!E121)","v":""},{"$f":"IF('TD Siniestros Daños'!F121=\"\",\"\",'TD Siniestros Daños'!F121)","v":""},{"$f":"IF('TD Siniestros Daños'!G121=\"\",\"\",'TD Siniestros Daños'!G121)","v":""},"",null,{"$f":"IF('TD Siniestros Daños'!H121=\"\",\"\",'TD Siniestros Daños'!H121)","v":""},{"$f":"IF('TD Siniestros Daños'!I121=\"\",\"\",'TD Siniestros Daños'!I121)","v":""},{"$f":"IF('TD Siniestros Daños'!J121=\"\",\"\",'TD Siniestros Daños'!J121)","v":""},{"$f":"IF('TD Siniestros Daños'!K121=\"\",\"\",'TD Siniestros Daños'!K121)","v":""},{"$f":"IF('TD Siniestros Daños'!L121=\"\",\"\",'TD Siniestros Daños'!L121)","v":""},{"$f":"IF('TD Siniestros Daños'!M121=\"\",\"\",'TD Siniestros Daños'!M121)","v":""}]
[null,{"$f":"IF('TD Siniestros Daños'!A122=\"\",\"\",'TD Siniestros Daños'!A122)","v":""},{"$f":"IF('TD Siniestros Daños'!B122=\"\",\"\",'TD Siniestros Daños'!B122)","v":""},{"$f":"IF('TD Siniestros Daños'!C122=\"\",\"\",'TD Siniestros Daños'!C122)","v":""},{"$f":"IF('TD Siniestros Daños'!D122=\"\",\"\",'TD Siniestros Daños'!D122)","v":""},{"$f":"IF('TD Siniestros Daños'!E122=\"\",\"\",'TD Siniestros Daños'!E122)","v":""},{"$f":"IF('TD Siniestros Daños'!F122=\"\",\"\",'TD Siniestros Daños'!F122)","v":""},{"$f":"IF('TD Siniestros Daños'!G122=\"\",\"\",'TD Siniestros Daños'!G122)","v":""},"",null,{"$f":"IF('TD Siniestros Daños'!H122=\"\",\"\",'TD Siniestros Daños'!H122)","v":""},{"$f":"IF('TD Siniestros Daños'!I122=\"\",\"\",'TD Siniestros Daños'!I122)","v":""},{"$f":"IF('TD Siniestros Daños'!J122=\"\",\"\",'TD Siniestros Daños'!J122)","v":""},{"$f":"IF('TD Siniestros Daños'!K122=\"\",\"\",'TD Siniestros Daños'!K122)","v":""},{"$f":"IF('TD Siniestros Daños'!L122=\"\",\"\",'TD Siniestros Daños'!L122)","v":""},{"$f":"IF('TD Siniestros Daños'!M122=\"\",\"\",'TD Siniestros Daños'!M122)","v":""}]
[null,{"$f":"IF('TD Siniestros Daños'!A123=\"\",\"\",'TD Siniestros Daños'!A123)","v":""},{"$f":"IF('TD Siniestros Daños'!B123=\"\",\"\",'TD Siniestros Daños'!B123)","v":""},{"$f":"IF('TD Siniestros Daños'!C123=\"\",\"\",'TD Siniestros Daños'!C123)","v":""},{"$f":"IF('TD Siniestros Daños'!D123=\"\",\"\",'TD Siniestros Daños'!D123)","v":""},{"$f":"IF('TD Siniestros Daños'!E123=\"\",\"\",'TD Siniestros Daños'!E123)","v":""},{"$f":"IF('TD Siniestros Daños'!F123=\"\",\"\",'TD Siniestros Daños'!F123)","v":""},{"$f":"IF('TD Siniestros Daños'!G123=\"\",\"\",'TD Siniestros Daños'!G123)","v":""},"",null,{"$f":"IF('TD Siniestros Daños'!H123=\"\",\"\",'TD Siniestros Daños'!H123)","v":""},{"$f":"IF('TD Siniestros Daños'!I123=\"\",\"\",'TD Siniestros Daños'!I123)","v":""},{"$f":"IF('TD Siniestros Daños'!J123=\"\",\"\",'TD Siniestros Daños'!J123)","v":""},{"$f":"IF('TD Siniestros Daños'!K123=\"\",\"\",'TD Siniestros Daños'!K123)","v":""},{"$f":"IF('TD Siniestros Daños'!L123=\"\",\"\",'TD Siniestros Daños'!L123)","v":""},{"$f":"IF('TD Siniestros Daños'!M123=\"\",\"\",'TD Siniestros Daños'!M123)","v":""}]